Workbook

Sheet Instructivo
B6: Condiciones a tener en cuenta en el diligenciamiento de la información
B8: Objeto: Contratar los servicios de mesa de servicios, administración, operación, soporte, mantenimiento y la gestión de los servicios tecnológicos de la Rama Judicial a nivel nacional, incluyendo la adquisición de ofertas de servicio por demanda.
B11: Plazo de ejecución : | D11: 8 MESES
B13: Instrucciones
B14: Formato de Presentación de Oferta Económica.
B15: Contenido de la oferta económica
B16: Este archivo de Oferta Económica está compuesto por Ocho (8) secciones, cada una en una hoja separada (pestaña) como sigue:
B17: Sección 1: Información del Oferente.
B18: Sección 2: Líneas de servicios.
B19: Sección 3: Servicios Talento Humano (TH) - Línea Base.
B20: Sección 4: Recursos por demanda.
B21: Sección 5: Otros servicios por demanda.
B22: Sección 6: Servicios Complementarios de Arrendamiento.
B23: Sección 7: Costos mensuales Talento Humano Adicional
B24: Sección 8: Costos Consolidados Ofertados para el Servicio
... B30: Conectividad con la red WAN de LA RAMA JUDICIAL, incluyendo todos sus requisitos. 1) Con el fin de garantizar la adecuada integración de las múltiples plataformas de LA RAMA JUDICIAL objeto de monitoreo, administración y soporte, EL CONTRATISTA durante la ejecución del contrato y a su costo, instalará y mantendrá operativos enlaces de comunicaciones MPLS entre su o sus Centros de Operaciones y la red WAN de LA RAMA JUDICIAL, mediante la cual conectará con los elementos, recursos y servicios adicionales requeridos para ejecutar el contrato. De conformidad con lo establecido en la sección 2.3 Localizaciones geográficas nacionales para la prestación de los servicios, los posibles centros de operación de EL CONTRATISTA son máximo tres (3): a) El Centro de Operaciones para el personal asignado a la línea de servicio de Mesa de Servicios. b) El Centro de Operaciones de Red (NOC). c) El Centro de Operaciones para otros roles establecidos en la sección 4 Talento humano base requerido. 2) EL CONTRATISTA no debe suministrar enlaces WAN – MPLS entre sedes de LA RAMA JUDICIAL. Ver Anexo_1-AnexoTecnico. El cual establece otros elementos que no son facturables o no deben tener costos adicionales para LA ENTIDAD.

Sheet 1. Informacion del oferente
B2: Objeto: Contratar los servicios de mesa de servicios, administración, operación, soporte, mantenimiento y la gestión de los servicios tecnológicos de la Rama Judicial a nivel nacional, incluyendo la adquisición de ofertas de servicio por demanda.
B4: Nombre del oferente:
B5: NIT del oferente:

Sheet 2. Linea de servicios
A2: Objeto: Contratar los servicios de mesa de servicios, administración, operación, soporte, mantenimiento y la gestión de los servicios tecnológicos de la Rama Judicial a nivel nacional, incluyendo la adquisición de ofertas de servicio por demanda.
A4: Línea de Servicios | B4: Breve descripción | C4: Componentes
A5: 3.1. Mesa de servicio | B5: Es el punto de entrada y el único punto de contacto para todos los usuarios de los servicios tecnológicos de LA RAMA JUDICIAL en un esquema de Mesa de Servicios Virtual. Los agentes o analistas deben ser provistos de herramientas y contar con las competencias necesarias para registrar y tratar de dar resolución en el primer contacto, dentro de los acuerdos de niveles servicio aplicables para todos los servicios tecnológicos de la Rama Judicial. | C5: 3.1.1. Organización de la Mesa de servicios.
C6: 3.1.2. Soporte y atención al ciudadano.
C7: 3.1.3. Soporte a aplicaciones misionales y de apoyo.
C8: 3.1.4. Soporte a Microsoft Office 365 y aplicaciones complementarias.
C9: 3.1.5. Soporte para la conectividad de red.
C10: 3.1.6. Soporte a otros servicios, productos y recursos relacionados con la información y la tecnología.
A11: 3.2. Audiencias virtuales, videoconferencia, streaming y portal de grabaciones a Nivel Nacional | B11: Servicios de audiencias virtuales, videoconferencias, streaming, incluyendo su agendamiento y la copia de las grabaciones al repositorio central, portal de gestión de grabaciones, y todos sus servicios conexos. | C11: 3.2.2. Soporte y administración de la herramienta Videoconferencia – Servicios en la Nube.
C12: 3.2.3. Administración y soporte del portal de gestión de grabaciones.
A13: 3.3. Gestión y desarrollo de software | B13: Servicios a contratar que son necesarios para garantizar que las aplicaciones satisfagan las necesidades de las partes interesadas internas y externas, en términos de funcionalidad, confiabilidad, mantenibilidad, cumplimiento y auditabilidad. | C13: 3.3.1. Mantenimiento preventivo y correctivo, administración, operación y soporte especializado a aplicaciones misionales y de apoyo.
A14: 3.4. Gestión de plataformas e infraestructura | B14: Esta Línea de Servicio está definida de conformidad con ITIL® 4, incluye los servicios a contratar que son necesarios para gestionar la infraestructura y las plataformas utilizadas por LA RAMA JUDICIAL; mediante la ejecución de actividades utilizadas para planificar, diseñar, desarrollar, entregar, mantener y soportar infraestructura y tecnología de plataforma. | C14: 3.4.1. Soporte en sitio.
C15: 3.4.2. Gestión de garantías de equipos y suministros tecnológicos.
C16: 3.4.3. Instalación y gestión de equipos de continuidad.
C17: 3.4.4. Administración, operación y soporte especializado.
C18: 3.4.5. Centro de Operaciones de Red (NOC).
C19: 3.4.6. Actualización del inventario físico de elementos tecnológicos a nivel nacional.
A20: 3.5. Adquisición de ofertas de servicios por demanda (Bolsa de servicios por demanda). | B20: LA ENTIDAD podrá a través de esta línea de servicios adquirir cuando lo requiera (por demanda) y mientras el contrato cuente con el recurso financiero necesario, ofertas de servicio para: • Mantenimiento preventivo. • Suministro de repuestos. • Servicios por demanda para Audiencias Virtuales. • Ampliaciones a las líneas de servicio contratadas. • Servicios complementarios de arrendamiento. | C20: 3.5.1. Condiciones generales.
C21: 3.5.2. Mantenimiento preventivo y correctivo en sitio.
C22: 3.5.3. Suministro de repuestos.
C23: 3.5.4. Servicios por demanda para Audiencias Virtuales.
C24: 3.5.5. Ampliaciones a las líneas de servicio contratadas.
C25: 3.5.6. Servicios complementarios de arrendamiento.
A26: 3.6. Soporte a la Gestión de Servicios TI. | B26: La gestión de servicios de TI entregada por EL CONTRATISTA se orienta a ofrecer complemento y mejora a las capacidades organizacionales de LA ENTIDAD, a través de su integración en el sistema de valor del servicio, para cumplir con las necesidades definidas por LA ENTIDAD. EL CONTRATISTA debe proponer e implementar durante la ejecución del contrato mejoras al sistema de valor del servicio, implementando y gestionando buenas prácticas que contribuyan a la agregación de valor a los servicios prestados a los servidores judiciales. LA SUPERVISIÓN o INTERVENTORÍA debe revisar, observar, validar y autorizar, cuando así lo considere, las propuestas de mejora e implementación que EL CONTRATISTA proponga para obtener el mayor potencial de la prestación de servicios contratados. | C26: 3.6.1. Operación y soporte a la implementación y mejora de las prácticas y estándares de Gestión de TI.
C27: 3.6.2. Administración, operación y soporte a herramientas de gestión de servicios y operaciones de TI.

Sheet 3. Servicios TH (Linea B)
A6: Objeto: Contratar los servicios de mesa de servicios, administración, operación, soporte, mantenimiento y la gestión de los servicios tecnológicos de la Rama Judicial a nivel nacional, incluyendo la adquisición de ofertas de servicio por demanda.
A8: Componentes del servicio
A9: Nivel | B9: Cod. Del Servicio | C9: Ubicación del personal | D9: Grupo de municipios | E9: Cantidad Recursos | F9: Rol | G9: PRECIO TECHO 2026 | H9: VALOR IVA | I9: PRECIO TECHO UNITARIO CON IVA | J9: PRECIO TECHO TOTAL 2026 | K9: VALOR OFERTADO UNITARIO CON IVA | L9: VALOR OFERTADO TOTAL
B10: LS01-STB-AAMS-29 | C10: En sitio (instalaciones del contratista) | D10: General | E10: 25 | F10: AGENTE/ANALISTA DE MESA DE SERVICIOS (Nivel 1) | G10: 8686752.6 | H10: =+G10*0.19 -> 1650483 | I10: 10337236 | J10: =I10*E10 -> 258430900 | L10: =K10*E10 -> 0
A11: Nivel 1 | B11: LS01-GG-ASAV-1561 | C11: En sitio (Instalaciones de la Entidad) | D11: Grupo No.1 | E11: 3 | F11: ASISTENTE DE SOPORTE TÉCNICO AUDIENCIAS VIRTUALES (Nivel 1) | G11: 7079969.2 | H11: =+G11*0.19 -> 1345194.2 | I11: 8425163 | J11: =I11*E11 -> 25275489 | L11: =K11*E11 -> 0
B12: LS01-STB-TSUC-53 | C12: En sitio (instalaciones del contratista) | D12: General | E12: 7 | F12: TÉCNICOS DE SOPORTE DE PRIMER NIVEL A USUARIOS DE CORREO | G12: 10127771 | H12: =+G12*0.19 -> 1924276.5 | I12: 12052048 | J12: =I12*E12 -> 84364336 | L12: =K12*E12 -> 0
B13: LS01-SPC-CMS-509 | C13: En sitio (instalaciones del contratista) | D13: General | E13: 1 | F13: COORDINADOR DE MESA DE SERVICIOS | G13: 25372078 | H13: =+G13*0.19 -> 4820694.7 | I13: 30192772 | J13: =I13*E13 -> 30192772 | L13: =K13*E13 -> 0
B14: LS01-SPB-SBAM-341 | C14: En sitio (instalaciones del contratista) | D14: General | E14: 8 | F14: SOPORTE BÁSICO - APLICATIVOS MISIONALES | G14: 13771202 | H14: =+G14*0.19 -> 2616528.4 | I14: 16387730 | J14: =I14*E14 -> 131101840 | L14: =K14*E14 -> 0
B15: LS01-SPA-SAC-365 | C15: En sitio (instalaciones del contratista) | D15: General | E15: 1 | F15: SOPORTE ATENCIÓN AL CIUDADANO | G15: 15883093 | H15: =+G15*0.19 -> 3017787.7 | I15: 18900881 | J15: =I15*E15 -> 18900881 | L15: =K15*E15 -> 0
A16: Nivel 2 | B16: LS02-AV-AD-CAV-841 | C16: En sitio (Instalaciones de la Entidad) | D16: Grupo No.1 | E16: 1 | F16: COORDINADOR AUDIENCIAS VIRTUALES | G16: 26319667 | H16: =+G16*0.19 -> 5000736.8 | I16: 31320404 | J16: =I16*E16 -> 31320404 | L16: =K16*E16 -> 0
A17: Nivel 2 | B17: LS02-AV-LTAVAS-889 | C17: En sitio (Instalaciones de la Entidad) | D17: Grupo No.1 | E17: 1 | F17: LÍDER TÉCNICO DE AUDIENCIAS VIRTUALES, AGENDAMIENTOS Y STREAMING | G17: 24395551 | H17: =+G17*0.19 -> 4635154.7 | I17: 29030706 | J17: =I17*E17 -> 29030706 | L17: =K17*E17 -> 0
A18: Nivel 2 | B18: LS02-AV-CSTRE-913 | C18: En sitio (Instalaciones de la Entidad) | D18: Grupo No.1 | E18: 1 | F18: COORDINADOR DE STREAMING | G18: 18081879 | H18: =+G18*0.19 -> 3435557 | I18: 21517436 | J18: =I18*E18 -> 21517436 | L18: =K18*E18 -> 0
A19: Nivel 2 | B19: LS02-AV-APMO-1585 | C19: En sitio (Instalaciones de la Entidad) | D19: Grupo No.1 | E19: 1 | F19: ADMINISTRADOR DE LA PLATAFORMA MS OFFICE 365 | G19: 24072376 | H19: =+G19*0.19 -> 4573751.3 | I19: 28646127 | J19: =I19*E19 -> 28646127 | L19: =K19*E19 -> 0
A20: Nivel 2 | B20: LS02-AV-APSEU-865 | C20: En sitio (Instalaciones de la Entidad) | D20: Grupo No.1 | E20: 2 | F20: AGENTE PROMOCIÓN DEL SERVICIO Y EXPERIENCIA DEL USUARIO | G20: 11508149 | H20: =+G20*0.19 -> 2186548.3 | I20: 13694697 | J20: =I20*E20 -> 27389394 | L20: =K20*E20 -> 0
B21: LS02-AV-ILS-941 | C21: En sitio (instalaciones del contratista) | D21: General | E21: 2 | F21: INTÉRPRETE DE LENGUAJE DE SEÑAS | G21: 11071974 | H21: =+G21*0.19 -> 2103675.1 | I21: 13175649 | J21: =I21*E21 -> 26351298 | L21: =K21*E21 -> 0
B22: LS02-AV-AEAV-965 | C22: En sitio (instalaciones del contratista) | D22: General | E22: 4 | F22: AGENTE ESPECIALISTA EN AUDIENCIAS VIRTUALES | G22: 10698598 | H22: =+G22*0.19 -> 2032733.5 | I22: 12731331 | J22: =I22*E22 -> 50925324 | L22: =K22*E22 -> 0
A23: Nivel 2 | B23: LS02-AV-ASTS-1681 | C23: En sitio (Instalaciones de la Entidad) | D23: Grupo No.1 | E23: 5 | F23: AGENTE DE SOPORTE TÉCNICO STREAMING | G23: 11432032 | H23: =+G23*0.19 -> 2172086.1 | I23: 13604118 | J23: =I23*E23 -> 68020590 | L23: =K23*E23 -> 0
A24: Nivel 2 | B24: LS02-AV-ASTA-985 | C24: En sitio (Instalaciones de la Entidad) | D24: Grupo No.1 | E24: 1 | F24: ASISTENTE DE SOPORTE TÉCNICO DE AGENDAMIENTO | G24: 8775972.3 | H24: =+G24*0.19 -> 1667434.7 | I24: 10443407 | J24: =I24*E24 -> 10443407 | L24: =K24*E24 -> 0
B25: LS02-AV-ASTA-989 | C25: En sitio (instalaciones del contratista) | D25: General | E25: 1 | F25: ASISTENTE DE SOPORTE TÉCNICO DE AGENDAMIENTO | G25: 8298733.5 | H25: =+G25*0.19 -> 1576759.4 | I25: 9875493 | J25: =I25*E25 -> 9875493 | L25: =K25*E25 -> 0
A26: Nivel 2 | B26: LS02-AV-AST-1009 | C26: En sitio (Instalaciones de la Entidad) | D26: Grupo No.1 | E26: 43 | F26: AGENTE DE SOPORTE TÉCNICO | G26: 9069328.9 | H26: =+G26*0.19 -> 1723172.5 | I26: 10792501 | J26: =I26*E26 -> 464077543 | L26: =K26*E26 -> 0
B27: LS02-AV-AST-1013 | C27: En sitio (instalaciones del contratista) | D27: General | E27: 1 | F27: AGENTE DE SOPORTE TÉCNICO | G27: 8668208.5 | H27: =+G27*0.19 -> 1646959.6 | I27: 10315168 | J27: =I27*E27 -> 10315168 | L27: =K27*E27 -> 0
A28: Nivel 2 | B28: LS02-AV-GG-LTGG-1033 | C28: En sitio (Instalaciones de la Entidad) | D28: Grupo No.1 | E28: 1 | F28: LÍDER TÉCNICO DE GESTIÓN DE GRABACIONES | G28: 24403228 | H28: =+G28*0.19 -> 4636613.4 | I28: 29039842 | J28: =I28*E28 -> 29039842 | L28: =K28*E28 -> 0
B29: LS02-AV-GG-PDC-1061 | C29: En sitio (instalaciones del contratista) | D29: General | E29: 1 | F29: PROFESIONAL DE CATALOGACIÓN | G29: 17072972 | H29: =+G29*0.19 -> 3243864.7 | I29: 20316837 | J29: =I29*E29 -> 20316837 | L29: =K29*E29 -> 0
B30: LS02-AV-GG-CDC-1085 | C30: En sitio (instalaciones del contratista) | D30: General | E30: 1 | F30: COORDINADOR DE CATALOGACIÓN | G30: 11083429 | H30: =+G30*0.19 -> 2105851.6 | I30: 13189281 | J30: =I30*E30 -> 13189281 | L30: =K30*E30 -> 0
A31: Nivel 2 | B31: LS02-AV-GG-ASGG-1129 | C31: En sitio (Instalaciones de la Entidad) | D31: Grupo No.1 | E31: 4 | F31: AGENTE DE SOPORTE TÉCNICO GESTIÓN DE GRABACIONES | G31: 11015843 | H31: =+G31*0.19 -> 2093010.2 | I31: 13108853 | J31: =I31*E31 -> 52435412 | L31: =K31*E31 -> 0
B32: LS02-AV-GG-ADC-1109 | C32: En sitio (instalaciones del contratista) | D32: General | E32: 5 | F32: ASISTENTE DE CATALOGACIÓN | G32: 8617473.9 | H32: =+G32*0.19 -> 1637320 | I32: 10254794 | J32: =I32*E32 -> 51273970 | L32: =K32*E32 -> 0
A33: Nivel 2 | B33: LS03-SPA-SAAM-385 | C33: En sitio (Instalaciones de la Entidad) | D33: Grupo No.1 | E33: 1 | F33: SOPORTE AVANZADO - APLICATIVOS MISIONALES | G33: 18626059 | H33: =+G33*0.19 -> 3538951.2 | I33: 22165010 | J33: =I33*E33 -> 22165010 | L33: =K33*E33 -> 0
B34: LS03-SPA-SAAM-389 | C34: En sitio (instalaciones del contratista) | D34: General | E34: 4 | F34: SOPORTE AVANZADO - APLICATIVOS MISIONALES | G34: 16400844 | H34: =+G34*0.19 -> 3116160.3 | I34: 19517004 | J34: =I34*E34 -> 78068016 | L34: =K34*E34 -> 0
A35: Nivel 2 | B35: LS03-SPB-TSPW-289 | C35: En sitio (Instalaciones de la Entidad) | D35: Grupo No.1 | E35: 5 | F35: TÉCNICO DE SOPORTE AL PORTAL WEB | G35: 13445682 | H35: =+G35*0.19 -> 2554679.6 | I35: 16000361 | J35: =I35*E35 -> 80001805 | L35: =K35*E35 -> 0
A36: Nivel 2 | B36: LS03-SPAT-ILAP-745 | C36: En sitio (Instalaciones de la Entidad) | D36: Grupo No.1 | E36: 1 | F36: INGENIERO LÍDER DE APLICACIONES | G36: 25087117 | H36: =+G36*0.19 -> 4766552.3 | I36: 29853670 | J36: =I36*E36 -> 29853670 | L36: =K36*E36 -> 0
A37: Nivel 2 | B37: LS03-SPC-IAPW-577 | C37: En sitio (Instalaciones de la Entidad) | D37: Grupo No.1 | E37: 3 | F37: INGENIERO DE APLICACIONES WEB | G37: 25024064 | H37: =+G37*0.19 -> 4754572.2 | I37: 29778636 | J37: =I37*E37 -> 89335908 | L37: =K37*E37 -> 0
A38: Nivel 2 | B38: LS03-SPC-ISPN3-601 | C38: En sitio (Instalaciones de la Entidad) | D38: Grupo No.1 | E38: 1 | F38: INGENIERO SOPORTE DE APLICACIONES NIVEL 3 | G38: 24965484 | H38: =+G38*0.19 -> 4743442 | I38: 29708926 | J38: =I38*E38 -> 29708926 | L38: =K38*E38 -> 0
A39: Nivel 2 | B39: LS03-STA-TAP-121 | C39: En sitio (Instalaciones de la Entidad) | D39: Grupo No.1 | E39: 1 | F39: TÉCNICO DE APLICACIONES | G39: 11874036 | H39: =+G39*0.19 -> 2256066.8 | I39: 14130103 | J39: =I39*E39 -> 14130103 | L39: =K39*E39 -> 0
A40: Nivel 2 | B40: LS04-STB-ATC-1 | C40: En sitio (Instalaciones de la Entidad) | D40: Grupo No.1 | E40: 3 | F40: APOYO AL TÉCNICO COORDINADOR | G40: 8619599.3 | H40: =+G40*0.19 -> 1637723.9 | I40: 10257323 | J40: =I40*E40 -> 30771969 | L40: =K40*E40 -> 0
A41: Nivel 2 | B41: LS04-SPB-ARC-265 | C41: En sitio (Instalaciones de la Entidad) | D41: Grupo No.1 | E41: 1 | F41: APOYO A REDES E INFRAESTRUCTURA Y CABLEADO ESTRUCTURADO | G41: 14337788 | H41: =+G41*0.19 -> 2724179.7 | I41: 17061967 | J41: =I41*E41 -> 17061967 | L41: =K41*E41 -> 0
A42: Nivel 2 | B42: LS04-SPB-EDA-313 | C42: En sitio (Instalaciones de la Entidad) | D42: Grupo No.1 | E42: 1 | F42: ESPECIALISTA EN DIRECTORIO ACTIVO | G42: 16813838 | H42: =+G42*0.19 -> 3194629.3 | I42: 20008468 | J42: =I42*E42 -> 20008468 | L42: =K42*E42 -> 0
A43: Nivel 2 | B43: LS04-SPAT-ICPT-793 | C43: En sitio (Instalaciones de la Entidad) | D43: Grupo No.1 | E43: 1 | F43: IMPLEMENTADOR Y COORDINADOR DE PLATAFORMAS TECNOLÓGICAS | G43: 29787926 | H43: =+G43*0.19 -> 5659706 | I43: 35447632 | J43: =I43*E43 -> 35447632 | L43: =K43*E43 -> 0
A44: Nivel 2 | B44: LS04-SPAT-ISHP-649 | C44: En sitio (Instalaciones de la Entidad) | D44: Grupo No.1 | E44: 1 | F44: INGENIERO DE MS SHAREPOINT | G44: 31552746 | H44: =+G44*0.19 -> 5995021.7 | I44: 37547767 | J44: =I44*E44 -> 37547767 | L44: =K44*E44 -> 0
A45: Nivel 2 | B45: LS04-SPAT-DBASQL-721 | C45: En sitio (Instalaciones de la Entidad) | D45: Grupo No.1 | E45: 1 | F45: ADMINISTRADOR DE BASES DE DATOS MS SQL SERVER | G45: 32114694 | H45: =+G45*0.19 -> 6101791.9 | I45: 38216486 | J45: =I45*E45 -> 38216486 | L45: =K45*E45 -> 0
A46: Nivel 2 | B46: LS04-SPC-ACD-553 | C46: En sitio (Instalaciones de la Entidad) | D46: Grupo No.1 | E46: 2 | F46: ADMINISTRADOR CENTRO DE DATOS Y SOLUCIÓN DE RESPALDO DEL CENTRO DE DATOS | G46: 29260142 | H46: =+G46*0.19 -> 5559426.9 | I46: 34819569 | J46: =I46*E46 -> 69639138 | L46: =K46*E46 -> 0
...

Sheet 4.Repuestos
A2: Objeto: Contratar los servicios de mesa de servicios, administración, operación, soporte, mantenimiento y la gestión de los servicios tecnológicos de la Rama Judicial a nivel nacional, incluyendo la adquisición de ofertas de servicio por demanda.
D4: Lista de Repuestos por Demanda
J5: General
A6: Código JudIT | B6: Código de ítem antigüo | C6: Código CSJ | D6: Descripción del elemento | E6: Tipo de Elemento | F6: Marca | G6: Modelo | H6: Número de Parte | I6: Ubicación | J6: Precio TECHO Unitario Sin IVA | L6: Precio TECHO Unitario | M6: Valor OFERTADO Unitario con Iva
A7: NANX30917 | B7: LS05-RPT-SDA-1115 | D7: ADAPTADOR, 1/4 EN EL ADAPTADOR HEMBRA A RCA MACHO TS GPR-104 | E7: Salas De Audiencia | F7: COMPATIBLE | G7: COMPATIBLE | H7: - | I7: General | J7: 58167.796 | K7: =+J7*0.19 -> 11051.881 | L7: 69220
A8: NANX30918 | B8: LS05-RPT-UPS-1304 | D8: BOARD RECTIFICADORA 3CH-A | E8: Ups | F8: TRIPP-LITE | G8: - | H8: - | I8: General | J8: 1907846 | K8: =+J8*0.19 -> 362490.74 | L8: 2270337
A9: NANX30919 | B9: LS05-RPT-UPS-1305 | D9: CABLE NO 8 AWG DE 100CM SOLDADO CONECTOR DE TERMINAL HEMBRA A HEMBRA | E9: Ups | F9: COMPATIBLE | G9: COMPATIBLE | H9: - | I9: General | J9: 154971.86 | K9: =+J9*0.19 -> 29444.652 | L9: 184417
A10: NANX30920 | B10: LS05-RPT-UPS-1306 | D10: CABLE NO 8 AWG DE 40 CM SOLDADO CONECTOR DE TERMINAL HEMBRA A HEMBRA | E10: Ups | F10: COMPATIBLE | G10: COMPATIBLE | H10: - | I10: General | J10: 232837.56 | K10: =+J10*0.19 -> 44239.136 | L10: 277077
A11: NANX30921 | B11: LS05-RPT-ESC-586 | D11: CABLE USB DE SCANNER O IMPRESORA X 3 METROS | E11: Escáners | F11: ESCANER | G11: COMPATIBLE | H11: COMPATIBLE | I11: General | J11: 47639 | K11: =+J11*0.19 -> 9051.41 | L11: 56690
A12: NANX30922 | B12: LS05-RPT-COM-340 | D12: CABLE VGA MACHO A DVI MACHO 1.8M CDVI25-6 | E12: Computador | F12: EQUIPO DE COMPUTO | G12: COMPATIBLE | H12: COMPATIBLE | I12: General | J12: 74943.286 | K12: =+J12*0.19 -> 14239.224 | L12: 89183
A13: NANX30923 | B13: LS05-RPT-SDA-1116 | D13: CONVERTIDOR ADAPTADOR 1 VGA MACHO A 2 VGA HEMBRA | E13: Salas De Audiencia | F13: COMPATIBLE | G13: COMPATIBLE | H13: Compatible | I13: General | J13: 197538.57 | K13: =+J13*0.19 -> 37532.329 | L13: 235071
A14: NANX30924 | B14: LS05-RPT-COM-341 | D14: DISIPADOR DE CALOR PARA LENOVO THINKCENTRE M73 CPU CON VENTILADOR DE REFRIGERACIÓN FRU | E14: Computador | F14: EQUIPO DE COMPUTO | G14: THINKCENTRE M73 | H14: - | I14: General | J14: 315459.96 | K14: =+J14*0.19 -> 59937.393 | L14: 375397
A15: NANX30926 | B15: LS05-RPT-RED-821 | D15: PIG TAIL DE FIBRA SC | E15: Redes | F15: COMPATIBLE | G15: COMPATIBLE | H15: COMPATIBLE | I15: General | J15: 142017.54 | K15: =+J15*0.19 -> 26983.333 | L15: 169001
A16: NANX30930 | B16: LS05-RPT-SER-1209 | D16: 0B23661 Hitachi 300GB 15K 6G 3.5" SAS Sin Bandeja | E16: Servidor | F16: HP | G16: ML 350 | H16: 0B23661 | I16: General | J16: 779457.57 | K16: =+J16*0.19 -> 148096.94 | L16: 927555
A17: NANX30932 | B17: LS05-RPT-IMP-635 | D17: 1 HP 1500 Sheet Optional Sheet Feeder Tray & Fr | E17: Impresoras | F17: HP | G17: COMPATIBLE | H17: COMPATIBLE | I17: General | J17: 834335.5 | K17: =+J17*0.19 -> 158523.74 | L17: 992859
A18: NANX30933 | B18: LS05-RPT-RED-822 | D18: 1/8 LIMPIADOR PVC CON BROCHA | E18: Redes | F18: UNIDAD | G18: PAVCO | H18: - | I18: General | J18: 73924.6 | K18: =+J18*0.19 -> 14045.674 | L18: 87970
A19: NANX30934 | B19: LS05-RPT-RED-823 | D19: 1/8 PEGANTE PVC | E19: Redes | F19: UNIDAD | G19: PAVCO | H19: SKU p1430 | I19: General | J19: 82246.667 | K19: =+J19*0.19 -> 15626.867 | L19: 97874
A20: NANX30935 | B20: LS05-RPT-SER-1210 | C20: 112151036 | D20: 146GB 2.5-INCH SERIAL ATTACHED SCSI (SAS) SFF 3G SINGLE PORT HOT-PLUG 10K HARD DRIVE IN HP HOT-PLUG HARD DRIVE TRAY (AS PICTURED) FOR G1-G7 PROLIANT SAS SERVERS GENUINE HP SERIAL NUMBER AND FIRMWARE | E20: Servidor | F20: HP | G20: HP Proliant DL380 G5 | H20: 432320-001 /431958-B21 | I20: General | J20: 1241526.3 | K20: =+J20*0.19 -> 235890 | L20: 1477416
A21: NANX30936 | B21: LS05-RPT-ESC-587 | C21: 112158008 | D21: 1484864 Feed Rollers for i1200/i1300/i2000 (12 Tires) | E21: Escáners | F21: KODAK | G21: i1200/i1300/i2000 | H21: 1484864 | I21: General | J21: 424526.5 | K21: =+J21*0.19 -> 80660.035 | L21: 505187
A22: NANX30937 | B22: LS05-RPT-ESC-588 | C22: 112158007 | D22: 1736115 Separation Module for i1200/i1300/i2000 | E22: Escáners | F22: KODAK | G22: i1200/i1300/i2000 | H22: 1736115 | I22: General | J22: 504226.72 | K22: =+J22*0.19 -> 95803.077 | L22: 600030
A23: NANX30938 | B23: LS05-RPT-IMP-636 | D23: 17T/17T FUSER GEAR | E23: Impresoras | F23: HP | G23: LJ P3005 | H23: RU5-0958-000 | I23: General | J23: 122102.43 | K23: =+J23*0.19 -> 23199.461 | L23: 145302
A24: NANX30939 | B24: LS05-RPT-IMP-637 | C24: 112152056 | D24: 19T GEAR | E24: Impresoras | F24: HP | G24: LJ 2420 | H24: RU5-0379-000 | I24: General | J24: 198531.25 | K24: =+J24*0.19 -> 37720.938 | L24: 236252
A25: NANX30944 | B25: LS05-RPT-COM-342 | C25: 112150189 | D25: 220W POWER SUPPLY | E25: Computador | F25: DELL | G25: GX520 | H25: 0MC638 | I25: General | J25: 705449.4 | K25: =+J25*0.19 -> 134035.39 | L25: 839485
A26: NANX30945 | B26: LS05-RPT-COM-343 | C26: 112150190 | D26: 240W POWER SUPPLY | E26: Computador | F26: HP | G26: DC5800 | H26: 460888-001 | I26: General | J26: 681422 | K26: =+J26*0.19 -> 129470.18 | L26: 810892
A27: NANX30946 | B27: LS05-RPT-COM-344 | D27: 250W POWER SUPPLY | E27: Computador | F27: HP | G27: COMPAQ PRESARIO | H27: 127999-001 | I27: General | J27: 449619 | K27: =+J27*0.19 -> 85427.61 | L27: 535047
A28: NANX30948 | B28: LS05-RPT-COM-345 | D28: 280W POWER SUPPLY | E28: Computador | F28: DELL | G28: GX620 | H28: L280P-00 | I28: General | J28: 673371.27 | K28: =+J28*0.19 -> 127940.54 | L28: 801312
A29: NANX30949 | B29: LS05-RPT-RED-824 | C29: 224059065 | D29: 28-port Pure-Gigabit Smart Switch, 24 10/100/1000Mbps RJ45 ports including 4 SFP slots | E29: Redes | F29: TP LINK | G29: T1600G-28TS (TL-SG 2424) | H29: (TL-SG2424) | I29: General | J29: 2352640.2 | K29: =+J29*0.19 -> 447001.64 | L29: 2799642
A30: NANX30953 | B30: LS05-RPT-SDA-1117 | D30: 3.5MM CONECTOR JACK A 3 PIN XLR MACHO CABLE MEZCLADOR DE REGISTRO DE AUDIO DE MICRÓFONO PORTÁTIL | E30: Salas De Audiencia | F30: COMPATIBLE | G30: COMPATIBLE | H30: COMPATIBLE | I30: General | J30: 111705.17 | K30: =+J30*0.19 -> 21223.982 | L30: 132929
A31: NANX30955 | B31: LS05-RPT-SER-1214 | C31: 112151037 | D31: 300GB 6G SERIAL ATTACHED SCSI (SAS) 15K 3.5-INCH DUAL PORT HOT-PLUG HARD DRIVE IN HP HOT-PLUG HARD DRIVE TRAY (AS PICTURED) FOR G1-G7 PROLIANT SAS SERVERS GENUINE HP SERIAL NUMBER AND FIRMWARE | E31: Servidor | F31: HP | G31: COMPATIBLE | H31: 517350-001 /516814-B21 | I31: General | J31: 1080698.7 | K31: =+J31*0.19 -> 205332.75 | L31: 1286031
A32: NANX30956 | B32: LS05-RPT-COM-347 | D32: 310-6896 Lamp for Dell | E32: Computador | F32: DELL | G32: N8307 | H32: 310-6896 | I32: General | J32: 1490851.8 | K32: =+J32*0.19 -> 283261.84 | L32: 1774114
A33: NANX30957 | B33: LS05-RPT-IMP-638 | D33: 35S0260 IMPRESORA LASER MONOCROMATICA MS415 | E33: Impresoras | F33: LEXMARK | G33: MS415dn | H33: 35S0260 | I33: General | J33: 2563105.2 | K33: =+J33*0.19 -> 486990 | L33: 3050095
A34: NANX30960 | B34: LS05-RPT-COM-348 | C34: 112150065 | D34: 384019-001 AC Adapter/Battery Charger for HP/Compaq | E34: Computador | F34: HP | G34: COMPATIBLE | H34: 384019-001 | I34: General | J34: 196064.83 | K34: =+J34*0.19 -> 37252.318 | L34: 233317
A35: NANX30963 | B35: LS05-RPT-IMP-639 | C35: 112152144 | D35: 40X5365 LEXMARK Duplex And Media Sensor | E35: Impresoras | F35: LEXMARK | G35: E360 | H35: 40X5365 | I35: General | J35: 292104.44 | K35: =+J35*0.19 -> 55499.844 | L35: 347604
A36: NANX30964 | B36: LS05-RPT-IMP-640 | C36: 112152167 | D36: 40X8027 Controller Card MS410d | E36: Impresoras | F36: LEXMARK | G36: MS410dn | H36: 40X8027 | I36: General | J36: 1201728.2 | K36: =+J36*0.19 -> 228328.37 | L36: 1430057
A37: NANX30965 | B37: LS05-RPT-IMP-641 | D37: 40X8059 Cover - Operator panel and butttons | E37: Impresoras | F37: LEXMARK | G37: MS410dn | H37: 40X8059 | I37: General | J37: 297268 | K37: =+J37*0.19 -> 56480.92 | L37: 353749
A38: NANX30966 | B38: LS05-RPT-IMP-642 | C38: 112152155 | D38: 40X8291 LEXMARK Panel Operator | E38: Impresoras | F38: LEXMARK | G38: MS410dn | H38: 40X8291 | I38: General | J38: 695078.25 | K38: =+J38*0.19 -> 132064.87 | L38: 827143
A39: NANX30967 | B39: LS05-RPT-COM-349 | C39: 112150081 | D39: 41A9739 IBM POWER SUPPLY 280W SFF | E39: Computador | F39: IBM | G39: 8306 | H39: 41A9739 | I39: General | J39: 600436.4 | K39: =+J39*0.19 -> 114082.92 | L39: 714519
A40: NANX30970 | B40: LS05-RPT-IMP-643 | C40: 112152193 | D40: 44432101 Roller Transfer B411d B431d MB492 B411dn B412dn B431dn b432dn b512dn mb472w mb491+ mb562w mb461mfp mb471mfp mb491mfp mb451wmfp mb471wmfp mb491plus mps4200mb mps4700mb mb491pluslp | E40: Impresoras | F40: OKI | G40: B431 DN | H40: 44432101 | I40: General | J40: 527316.17 | K40: =+J40*0.19 -> 100190.07 | L40: 627506
A41: NANX30971 | B41: LS05-RPT-IMP-644 | C41: 112152151 | D41: 44564301 OKI Cover-Assy-MPT-PN297, B431, BLACK VERSION | E41: Impresoras | F41: OKI | G41: B431 | H41: 44564301 | I41: General | J41: 620529.86 | K41: =+J41*0.19 -> 117900.67 | L41: 738431
A42: NANX30973 | B42: LS05-RPT-RED-825 | C42: 224059035 | D42: 48-port Pure-Gigabit Smart Switch, 48 10/100/1000Mbps RJ45 ports including 4gigabit SFP slots | E42: Redes | F42: TP LINK | G42: T1600G-52TS (TL-SG 2452) | H42: TL-SG2452 | I42: General | J42: 4344083.5 | K42: =+J42*0.19 -> 825375.86 | L42: 5169459
...

Sheet 5.Otros servicios por demanda
A2: Objeto: Contratar los servicios de mesa de servicios, administración, operación, soporte, mantenimiento y la gestión de los servicios tecnológicos de la Rama Judicial a nivel nacional, incluyendo la adquisición de ofertas de servicio por demanda.
A3: Nota No.1: Se debe contemplar todos los tipos de elementos por cada uno de los grupos de municipios.
A4: Nota No.2: Se debe tener en cuenta que los elementos que estén con ubicación en General deben contemplar en su costo todos los conceptos independientemente de donde están ubicados (Grupo 1, Grupo 2, Grupo 3, Grupo 4 o Grupo 5). Para LA ENTIDAD se toma el valor como único independiente de donde se requiera el elemento. Es importante indicar que los conceptos de costo que no se deben considerar en el valor de arrendamiento de los equipos ni en el "Soporte técnico en sitio a la audiencia virtual o evento." ni en el "Servicio de intérprete de lenguaje de señas.", de este catálogo, son los siguientes y deben ser presentados por aparte en el presente catálogo y de conformidad con los requisitos establecidos en el Anexo-1_AnexoTecnico: * Transporte de uno o más equipos. * Transporte Recurso Humano entre ciudades. * Alimentación y estadía.
A5: Otros servicos por demanda
A7: Código JudIT | B7: Código | C7: Servicio | D7: Elemento | E7: Ubicación | F7: Unidad de Facturación | G7: Precio TECHO Unitario Sin IVA | H7: iva | I7: Precio TECHO Unitario con IVA | J7: Valor OFERTADO Unitario con IVA
A8: SV-001 | B8: LS05-AV-CV-01 | C8: Audiencias virtuales | D8: Cámara de Videoconferencia. | E8: General | F8: Día 1 | G8: 145231.83 | H8: =+G8*0.19 -> 27594.048 | I8: 172826
A9: SV-002 | B9: LS05-AV-CV-02 | C9: Audiencias virtuales | D9: Cámara de Videoconferencia. | E9: General | F9: Día 2 o posterior | G9: 111750.67 | H9: =+G9*0.19 -> 21232.627 | I9: 132983
A10: SV-003 | B10: LS05-AV-CV-03 | C10: Audiencias virtuales | D10: Cámara de Videoconferencia. | E10: General | F10: Mes | G10: 1564189.2 | H10: =+G10*0.19 -> 297195.94 | I10: 1861385
A11: SV-132 | B11: LS05-AV-C4K-07 | C11: Audiencias virtuales | D11: Cámara profesional de video 4k. | E11: General | F11: Día 1 | G11: 288718 | H11: =+G11*0.19 -> 54856.42 | I11: 343574
A12: SV-133 | B12: LS05-AV-C4K-08 | C12: Audiencias virtuales | D12: Cámara profesional de video 4k. | E12: General | F12: Día 2 o posterior | G12: 223741.83 | H12: =+G12*0.19 -> 42510.948 | I12: 266253
A13: SV-134 | B13: LS05-AV-C4K-09 | C13: Audiencias virtuales | D13: Cámara profesional de video 4k. | E13: General | F13: Mes | G13: 2676448.7 | H13: =+G13*0.19 -> 508525.25 | I13: 3184974
A14: SV-129 | B14: LS05-AV-CFHD-07 | C14: Audiencias virtuales | D14: Cámara Profesional de video Full HD. | E14: General | F14: Día 1 | G14: 167727.33 | H14: =+G14*0.19 -> 31868.193 | I14: 199596
A15: SV-130 | B15: LS05-AV-CFHD-08 | C15: Audiencias virtuales | D15: Cámara Profesional de video Full HD. | E15: General | F15: Día 2 o posterior | G15: 124970.5 | H15: =+G15*0.19 -> 23744.395 | I15: 148715
A16: SV-131 | B16: LS05-AV-CFHD-09 | C16: Audiencias virtuales | D16: Cámara Profesional de video Full HD. | E16: General | F16: Mes | G16: 1459674.7 | H16: =+G16*0.19 -> 277338.19 | I16: 1737013
A17: SV-110 | B17: LS05-AV-CF-07 | C17: Audiencias virtuales | D17: Cámara profesional fotográfica Tipo 1. | E17: General | F17: Día 1 | G17: 142826.5 | H17: =+G17*0.19 -> 27137.035 | I17: 169964
A18: SV-111 | B18: LS05-AV-CF-08 | C18: Audiencias virtuales | D18: Cámara profesional fotográfica Tipo 1. | E18: General | F18: Día 2 o posterior | G18: 107179.83 | H18: =+G18*0.19 -> 20364.168 | I18: 127544
A19: SV-112 | B19: LS05-AV-CF-09 | C19: Audiencias virtuales | D19: Cámara profesional fotográfica Tipo 1. | E19: General | F19: Mes | G19: 611809.33 | H19: =+G19*0.19 -> 116243.77 | I19: 728053
... A151: nuevo | B151: LS05-AV-PBOX-003 | C151: Audiencias virtuales | D151: Press Box | E151: General | F151: Mes | G151: 1240490.7 | H151: =+G151*0.19 -> 235693.23 | I151: 1476184
B152: LS05-MPE-01 | C152: Mantenimiento Preventivo de Equipos | D152: Computadores de Escritorio | E152: Grupo 1 | F152: Unidad | G152: 79300.517 | H152: =+G152*0.19 -> 15067.098 | I152: 94368
B153: LS05-MPE-02 | C153: Mantenimiento Preventivo de Equipos | D153: Portátiles | E153: Grupo 1 | F153: Unidad | G153: 79582.324 | H153: =+G153*0.19 -> 15120.642 | I153: 94703
B154: LS05-MPE-03 | C154: Mantenimiento Preventivo de Equipos | D154: Tablets | E154: Grupo 1 | F154: Unidad | G154: 133698.19 | H154: =+G154*0.19 -> 25402.655 | I154: 159101
B155: LS05-MPE-04 | C155: Mantenimiento Preventivo de Equipos | D155: Video proyectores | E155: Grupo 1 | F155: Unidad | G155: 321469.93 | H155: =+G155*0.19 -> 61079.287 | I155: 382549
B156: LS05-MPE-05 | C156: Mantenimiento Preventivo de Equipos | D156: Servidores Físicos | E156: Grupo 1 | F156: Unidad | G156: 588748 | H156: =+G156*0.19 -> 111862.12 | I156: 700610
B157: LS05-MPE-06 | C157: Mantenimiento Preventivo de Equipos | D157: Impresoras | E157: Grupo 1 | F157: Unidad | G157: 232962.68 | H157: =+G157*0.19 -> 44262.909 | I157: 277226
B158: LS05-MPE-07 | C158: Mantenimiento Preventivo de Equipos | D158: Plotters | E158: Grupo 1 | F158: Unidad | G158: 297871.93 | H158: =+G158*0.19 -> 56595.666 | I158: 354468
B159: LS05-MPE-08 | C159: Mantenimiento Preventivo de Equipos | D159: Escáneres | E159: Grupo 1 | F159: Unidad | G159: 178916.25 | H159: =+G159*0.19 -> 33994.088 | I159: 212910
B160: LS05-MPE-09 | C160: Mantenimiento Preventivo de Equipos | D160: Lectores de códigos | E160: Grupo 1 | F160: Unidad | G160: 79552.822 | H160: =+G160*0.19 -> 15115.036 | I160: 94668
B161: LS05-MPE-10 | C161: Mantenimiento Preventivo de Equipos | D161: Televisores | E161: Grupo 1 | F161: Unidad | G161: 110349.03 | H161: =+G161*0.19 -> 20966.315 | I161: 131315
B162: LS05-MPE-11 | C162: Mantenimiento Preventivo de Equipos | D162: Elementos de Salas de Audiencia | E162: Grupo 1 | F162: Unidad | G162: 138865.59 | H162: =+G162*0.19 -> 26384.461 | I162: 165250
B163: LS05-MPE-12 | C163: Mantenimiento Preventivo de Equipos | D163: Equipos Activos de Red | E163: Grupo 1 | F163: Unidad | G163: 286991.43 | H163: =+G163*0.19 -> 54528.371 | I163: 341520
... B226: LS05-MPE-84 | C226: Mantenimiento Preventivo de Equipos | D226: Aire Acondicionado de Confort | E226: Grupo 5 | F226: Unidad | G226: 937251.8 | H226: =+G226*0.19 -> 178077.84 | I226: 1115330
G227: =SUM(G8:G226) -> 1.2778945e+08 | H227: =SUM(H8:H226) -> 24279996 | I227: =SUM(I8:I226) -> 152069453 | J227: =SUM(J8:J226) -> 0

Sheet 6.Servicios Complementarios
A4: Código | B4: Servicio | C4: Factor de Forma | D4: Componentes | E4: Característica 1 | F4: Característica 2 | G4: Procesamiento | H4: Ubicación | I4: Unidad de Facturación | J4: Precio TECHO Unitario Sin IVA | K4: iva | L4: Precio TECHO Unitario con IVA | M4: Valor OFERTADO Unitario Sin IVA
A5: LS05-SCA-AIOB-01 | B5: Servicios complementarios de arrendamiento | C5: Desktop - All in One | D5: Procesador: AMD Ryzen 5 o su equivalente en cualquier marca o fabricante, Tipo de disco: SSD de 250 GB PCIe, Memoria RAM: 8GB. Monitor 21,5" | E5: N/A | F5: N/A | G5: Básico | H5: General | I5: Día 1 | J5: 41509.333 | K5: =+J5*0.19 -> 7886.7733 | L5: 49396
A6: LS05-SCA-AIOB-02 | B6: Servicios complementarios de arrendamiento | C6: Desktop - All in One | D6: Procesador: AMD Ryzen 5 o su equivalente en cualquier marca o fabricante, Tipo de disco: SSD de 250 GB PCIe, Memoria RAM: 8GB. Monitor 21,5" | E6: N/A | F6: N/A | G6: Básico | H6: General | I6: Día 2 o posterior | J6: 34211.333 | K6: =+J6*0.19 -> 6500.1533 | L6: 40711
A7: LS05-SCA-AIOB-03 | B7: Servicios complementarios de arrendamiento | C7: Desktop - All in One | D7: Procesador: AMD Ryzen 5 o su equivalente en cualquier marca o fabricante, Tipo de disco: SSD de 250 GB PCIe, Memoria RAM: 8GB. Monitor 21,5" | E7: N/A | F7: N/A | G7: Básico | H7: General | I7: Mes | J7: 415152.67 | K7: =+J7*0.19 -> 78879.007 | L7: 494032
A8: LS05-SCA-AIOM-04 | B8: Servicios complementarios de arrendamiento | C8: Desktop - All in One | D8: Procesador: AMD Ryzen 7 o su equivalente en cualquier marca o fabricante , Tipo de disco: SSD de 500 GB PCIe, Memoria RAM: 16GB. Monitor 23,8" | E8: N/A | F8: N/A | G8: Medio | H8: General | I8: Día 1 | J8: 56698.667 | K8: =+J8*0.19 -> 10772.747 | L8: 67471
A9: LS05-SCA-AIOM-05 | B9: Servicios complementarios de arrendamiento | C9: Desktop - All in One | D9: Procesador: AMD Ryzen 7 o su equivalente en cualquier marca o fabricante , Tipo de disco: SSD de 500 GB PCIe, Memoria RAM: 16GB. Monitor 23,8" | E9: N/A | F9: N/A | G9: Medio | H9: General | I9: Día 2 o posterior | J9: 43483.333 | K9: =+J9*0.19 -> 8261.8333 | L9: 51745
A10: LS05-SCA-AIOM-06 | B10: Servicios complementarios de arrendamiento | C10: Desktop - All in One | D10: Procesador: AMD Ryzen 7 o su equivalente en cualquier marca o fabricante , Tipo de disco: SSD de 500 GB PCIe, Memoria RAM: 16GB. Monitor 23,8" | E10: N/A | F10: N/A | G10: Medio | H10: General | I10: Mes | J10: 528510.5 | K10: =+J10*0.19 -> 100416.99 | L10: 628927
A11: LS05-SCA-AIOA-07 | B11: Servicios complementarios de arrendamiento | C11: Desktop - All in One | D11: Procesador: AMD Ryzen 9 o su equivalente en cualquier marca o fabricante , Tipo de disco: SSD de 500 GB PCIe, Memoria RAM: 32GB. Monitor 27" | E11: N/A | F11: N/A | G11: Avanzado | H11: General | I11: Día 1 | J11: 70091.333 | K11: =+J11*0.19 -> 13317.353 | L11: 83409
A12: LS05-SCA-AIOA-08 | B12: Servicios complementarios de arrendamiento | C12: Desktop - All in One | D12: Procesador: AMD Ryzen 9 o su equivalente en cualquier marca o fabricante , Tipo de disco: SSD de 500 GB PCIe, Memoria RAM: 32GB. Monitor 27" | E12: N/A | F12: N/A | G12: Avanzado | H12: General | I12: Día 2 o posterior | J12: 54814.667 | K12: =+J12*0.19 -> 10414.787 | L12: 65229
A13: LS05-SCA-AIOA-09 | B13: Servicios complementarios de arrendamiento | C13: Desktop - All in One | D13: Procesador: AMD Ryzen 9 o su equivalente en cualquier marca o fabricante , Tipo de disco: SSD de 500 GB PCIe, Memoria RAM: 32GB. Monitor 27" | E13: N/A | F13: N/A | G13: Avanzado | H13: General | I13: Mes | J13: 701286.17 | K13: =+J13*0.19 -> 133244.37 | L13: 834531
A14: LS05-SCA-PCB-10 | B14: Servicios complementarios de arrendamiento | C14: Portátil - Corporativo | D14: Procesador: AMD Ryzen 5 o su equivalente en cualquier marca o fabricante, Tipo de disco: HDD de 1 TB 7200Rpm, Memoria RAM: 8GB. Monitor 13"" | E14: N/A | F14: N/A | G14: Básico | H14: General | I14: Día 1 | J14: 37314 | K14: =+J14*0.19 -> 7089.66 | L14: 44404
A15: LS05-SCA-PCB-11 | B15: Servicios complementarios de arrendamiento | C15: Portátil - Corporativo | D15: Procesador: AMD Ryzen 5 o su equivalente en cualquier marca o fabricante, Tipo de disco: HDD de 1 TB 7200Rpm, Memoria RAM: 8GB. Monitor 13"" | E15: N/A | F15: N/A | G15: Básico | H15: General | I15: Día 2 o posterior | J15: 29169.333 | K15: =+J15*0.19 -> 5542.1733 | L15: 34712
A16: LS05-SCA-PCB-12 | B16: Servicios complementarios de arrendamiento | C16: Portátil - Corporativo | D16: Procesador: AMD Ryzen 5 o su equivalente en cualquier marca o fabricante, Tipo de disco: HDD de 1 TB 7200Rpm, Memoria RAM: 8GB. Monitor 13"" | E16: N/A | F16: N/A | G16: Básico | H16: General | I16: Mes | J16: 389942.67 | K16: =+J16*0.19 -> 74089.107 | L16: 464032
... A319: LS05-SCA-SAVT2-318 | B319: Servicios complementarios de arrendamiento | C319: Set de audiencias Tipo 2 | D319: 1 Cámara, 1 Amplificador de audio, 4 Micrófonos inalámbricos cuello de Ganso, 2 Altavoces, 1 Unidad central de conferencias, 1 Pc, 1 Tv, 1 Switch (poe), cables de conexión. | E319: N/A | F319: N/A | G319: Inalámbrica | H319: General | I319: Mes | J319: 6123725.6 | K319: =+J319*0.19 -> 1163507.9 | L319: 7287233
J320: =SUM(J5:J319) -> 3.3847735e+08 | K320: =SUM(K5:K319) -> 64310696 | L320: =SUM(L5:L319) -> 402788047 | M320: =SUM(M5:M319) -> 0

Sheet 8.Total Oferta
A2: Objeto: Contratar los servicios de mesa de servicios, administración, operación, soporte, mantenimiento y la gestión de los servicios tecnológicos de la Rama Judicial a nivel nacional, incluyendo la adquisición de ofertas de servicio por demanda.
A4: FORMATO DE OFERTA ECONOMICA
A6: Nombre del Oferente
A7: NIT del oferente:
A10: Item | B10: Valor total
A11: Valor Servicio Recurrente | B11: =+C26 -> 0
A12: Valor Bolsas | B12: =+C33 -> 0
A13: Oferta a evaluar | B13: =SUM(B11:B12) -> 0
B18: VALOR TECHO | C18: VALOR OFERTADO
A19: Línea de servicio Recurso Humano | B19: Total Valor Mensual | C19: Total Valor Mensual
A21: 3.1. Mesa de servicios | B21: =+SUM('3. Servicios TH (Linea B)'!J10:J14) -> 529365337 | C21: =+SUM('3. Servicios TH (Linea B)'!L10:L14) -> 0
A22: 3.2. Audiencias virtuales, videoconferencia, streaming y portal de grabaciones a Nivel Nacional | B22: =+SUM('3. Servicios TH (Linea B)'!J15:J31) -> 911795143 | C22: =+SUM('3. Servicios TH (Linea B)'!L15:L31) -> 0
A23: 3.3. Gestión y desarrollo de software | B23: =+SUM('3. Servicios TH (Linea B)'!J32:J38) -> 380407305 | C23: =+SUM('3. Servicios TH (Linea B)'!L32:L38) -> 0
A24: 3.4. Gestión de plataformas e infraestructura | B24: =+SUM('3. Servicios TH (Linea B)'!J39:J58) -> 3717858117 | C24: =+SUM('3. Servicios TH (Linea B)'!L39:L58) -> 0
A25: 3.6. Soporte a la Gestión de Servicios TI | B25: =+SUM('3. Servicios TH (Linea B)'!J59:J66) -> 640182778 | C25: =+SUM('3. Servicios TH (Linea B)'!L59:L66) -> 0
A26: Total | B26: =SUM(B21:B25) -> 6179608680 | C26: =SUM(C21:C25) -> 0
B28: =+B18 -> VALOR TECHO | C28: =+C18 -> VALOR OFERTADO
A29: Concepto | B29: VALOR TOTAL BOLSA CON IVA | C29: VALOR TOTAL BOLSA CON IVA
A30: Suministro de repuestos. | B30: =+'4.Repuestos'!L1427 -> 2713988416 | C30: =+'4.Repuestos'!M1427 -> 0
A31: Servicios por demanda para Audiencias Virtuales. | B31: =+'5.Otros servicios por demanda'!I227 -> 152069453 | C31: =+'5.Otros servicios por demanda'!J227 -> 0
A32: Servicios complementarios de arrendamiento. | B32: =+'6.Servicios Complementarios'!L320 -> 402788047 | C32: =+'6.Servicios Complementarios'!M320 -> 0
A33: Subtotal Bolsa de Servicios* | B33: =SUM(B30:B32) -> 3268845916 | C33: =SUM(C30:C32) -> 0
