Workbook

Sheet ANEXO 1 - COTIZACIONES
C1: ANEXO 1 - ANALISIS DE COTIZACIONES GRUPO 1
E2: Prestación del servicio de mantenimiento preventivo, correctivo y predictivo con suministro e instalación de insumos y bolsa de repuestos nuevos y de primera calidad, para el sistema hidráulico, el cual incluye los equipos de presión constante y de bombeo de agua potable, presión de agua tratada, sistema de eyección de aguas lluvias, residuales, equipos RCI red contra incendio y redes de suministro, desagües, aguas lluvias, aguas recuperadas instaladas en las Sedes de la Subdirección Regional de Apoyo Nororiental, Seccionales Santander, Norte de Santander y Arauca de la Fiscalía General de la Nación
C3: NECESIDAD | I3: EMPRESA 1 FIRE LION ENGINEERING S.A.S. | K3: EMPRESA 2 INSUCOMA SAS | M3: EMPRESA 3 SOLUINTEC R&N SAS | O3: VALOR COTIZACIÓN HÁBIL MÁS BAJA | P3: PROMEDIO | Q3: VALOR COTIZACIÓN HÁBIL MÁS ALTA | R3: PORCENTAJE DIFERENCIAL (BAJA/PROMEDIO) | S3: MEDIA ARITMETICA BAJA | U3: ANALISIS DE COTIZACIONES
C5: ÍTEM | D5: DESCRIPCION | E5: UNIDAD DE MEDIDA | F5: CANTIDAD | G5: RUTINAS | I5: VALOR UNITARIO SIN IVA | K5: VALOR UNITARIO SIN IVA | M5: VALOR UNITARIO SIN IVA | O5: VALOR UNITARIO SIN IVA | P5: VALOR UNITARIO SIN IVA | Q5: VALOR UNITARIO SIN IVA | R5: 40% > / < | S5: VALOR UNITARIO SIN IVA | U5: VALOR UNITARIO SIN IVA | V5: VALOR IVA | W5: VALOR UNITARIO INCLUIDO IVA | X5: VALOR TOTAL INCLUIDO IVA
B6: GRUPO 1 | D6: SANTANDER
D7: BUCARAMANGA (Edificio sede Principal)
C8: 1 | D8: Mantenimiento Sistema de presión constante | E8: UND | F8: 2 | G8: 1 | I8: 5985000 | K8: 5896000 | M8: 5350000 | O8: =ROUND(MIN(I8,K8,M8),0) -> 5350000 | P8: =ROUND(AVERAGE(I8,K8,M8),0) -> 5743667 | Q8: =+MAX(I8,K8,M8) -> 5985000 | R8: =+(Q8/O8)-1 -> 0.11869159 | S8: =+ROUND(AVERAGE(O8,P8),0) -> 5546834 | U8: =+S8 -> 5546834 | V8: =ROUND(U8*19%,0) -> 1053898 | W8: =+V8+U8 -> 6600732 | X8: =+W8*F8 -> 13201464
C9: 2 | D9: Mantenimiento Sistema de presión constante de emergencia | E9: UND | F9: 1 | G9: 1 | I9: 5862000 | K9: 5800000 | M9: 5600000 | O9: =ROUND(MIN(I9,K9,M9),0) -> 5600000 | P9: =ROUND(AVERAGE(I9,K9,M9),0) -> 5754000 | Q9: =+MAX(I9,K9,M9) -> 5862000 | R9: =+(Q9/O9)-1 -> 0.046785714 | S9: =+ROUND(AVERAGE(O9,P9),0) -> 5677000 | U9: =+S9 -> 5677000 | V9: =ROUND(U9*19%,0) -> 1078630 | W9: =+V9+U9 -> 6755630 | X9: =+W9*F9 -> 6755630
C10: 3 | D10: Mantenimiento Sistema de Eyección | E10: UND | F10: 4 | G10: 1 | I10: 3720000 | K10: 3800000 | M10: 3450000 | O10: =ROUND(MIN(I10,K10,M10),0) -> 3450000 | P10: =ROUND(AVERAGE(I10,K10,M10),0) -> 3656667 | Q10: =+MAX(I10,K10,M10) -> 3800000 | R10: =+(Q10/O10)-1 -> 0.10144928 | S10: =+ROUND(AVERAGE(O10,P10),0) -> 3553334 | U10: =+P10 -> 3656667 | V10: =ROUND(U10*19%,0) -> 694767 | W10: =+V10+U10 -> 4351434 | X10: =+W10*F10 -> 17405736
C11: 4 | D11: Mantenimiento preventivo de un (1) equipo contraincendios Marca IHM | E11: UND | F11: 1 | G11: 1 | I11: 10256000 | K11: 10310000 | M11: 9800000 | O11: =ROUND(MIN(I11,K11,M11),0) -> 9800000 | P11: =ROUND(AVERAGE(I11,K11,M11),0) -> 10122000 | Q11: =+MAX(I11,K11,M11) -> 10310000 | R11: =+(Q11/O11)-1 -> 0.052040816 | S11: =+ROUND(AVERAGE(O11,P11),0) -> 9961000 | U11: =+P11 -> 10122000 | V11: =ROUND(U11*19%,0) -> 1923180 | W11: =+V11+U11 -> 12045180 | X11: =+W11*F11 -> 12045180
D12: SAN GIL
C13: 5 | D13: Mantenimiento general de una (1) bomba de eyección de aguas lluvias de 1/2 HP | E13: UND | F13: 1 | G13: 1 | I13: 2200000 | K13: 2150000 | M13: 1950000 | O13: =ROUND(MIN(I13,K13,M13),0) -> 1950000 | P13: =ROUND(AVERAGE(I13,K13,M13),0) -> 2100000 | Q13: =+MAX(I13,K13,M13) -> 2200000 | R13: =+(Q13/O13)-1 -> 0.12820513 | S13: =+ROUND(AVERAGE(O13,P13),0) -> 2025000 | U13: =+S13 -> 2025000 | V13: =ROUND(U13*19%,0) -> 384750 | W13: =+V13+U13 -> 2409750 | X13: =+W13*F13 -> 2409750
D14: FLORIDABLANCA
C15: 6 | D15: Mantenimiento preventivo de un Sistema de presión constante | E15: UND | F15: 2 | G15: 1 | I15: 5985000 | K15: 6000000 | M15: 5350000 | O15: =ROUND(MIN(I15,K15,M15),0) -> 5350000 | P15: =ROUND(AVERAGE(I15,K15,M15),0) -> 5778333 | Q15: =+MAX(I15,K15,M15) -> 6000000 | R15: =+(Q15/O15)-1 -> 0.12149533 | S15: =+ROUND(AVERAGE(O15,P15),0) -> 5564167 | U15: =+S15 -> 5564167 | V15: =ROUND(U15*19%,0) -> 1057192 | W15: =+V15+U15 -> 6621359 | X15: =+W15*F15 -> 13242718
C16: 7 | D16: Mantenimiento preventivo de un sistema contraincendios | E16: UND | F16: 2 | G16: 1 | I16: 7860000 | K16: 7900000 | M16: 7500000 | O16: =ROUND(MIN(I16,K16,M16),0) -> 7500000 | P16: =ROUND(AVERAGE(I16,K16,M16),0) -> 7753333 | Q16: =+MAX(I16,K16,M16) -> 7900000 | R16: =+(Q16/O16)-1 -> 0.053333333 | S16: =+ROUND(AVERAGE(O16,P16),0) -> 7626667 | U16: =+S16 -> 7626667 | V16: =ROUND(U16*19%,0) -> 1449067 | W16: =+V16+U16 -> 9075734 | X16: =+W16*F16 -> 18151468
C17: 8 | D17: Mantenimiento general de dos (2) bombas de eyección | E17: UND | F17: 2 | G17: 1 | I17: 3420000 | K17: 3400000 | M17: 3100000 | O17: =ROUND(MIN(I17,K17,M17),0) -> 3100000 | P17: =ROUND(AVERAGE(I17,K17,M17),0) -> 3306667 | Q17: =+MAX(I17,K17,M17) -> 3420000 | R17: =+(Q17/O17)-1 -> 0.10322581 | S17: =+ROUND(AVERAGE(O17,P17),0) -> 3203334 | U17: =+S17 -> 3203334 | V17: =ROUND(U17*19%,0) -> 608633 | W17: =+V17+U17 -> 3811967 | X17: =+W17*F17 -> 7623934
D18: BARRANCABERMEJA (CTI)
C19: 9 | D19: Mantenimiento general de una (1) bomba centrífuga de 1 HP, 115V-230V, 60 Hz | E19: UND | F19: 1 | G19: 1 | I19: 2430000 | K19: 2600000 | M19: 2200000 | O19: =ROUND(MIN(I19,K19,M19),0) -> 2200000 | P19: =ROUND(AVERAGE(I19,K19,M19),0) -> 2410000 | Q19: =+MAX(I19,K19,M19) -> 2600000 | R19: =+(Q19/O19)-1 -> 0.18181818 | S19: =+ROUND(AVERAGE(O19,P19),0) -> 2305000 | U19: =+S19 -> 2305000 | V19: =ROUND(U19*19%,0) -> 437950 | W19: =+V19+U19 -> 2742950 | X19: =+W19*F19 -> 2742950
D20: VALOR TOTAL MANTENIMIENTO | I20: =SUM(I8:I19) -> 47718000 | K20: =SUM(K8:K19) -> 47856000 | M20: =SUM(M8:M19) -> 44300000 | O20: =SUM(O8:O19) -> 44300000 | P20: =SUM(P8:P19) -> 46624667 | Q20: =SUM(Q8:Q19) -> 48077000 | R20: =+(Q20/O20)-1 -> 0.085259594 | S20: =SUM(S8:S19) -> 45462336 | U20: =SUM(U8:U19) -> 45726669 | V20: =SUM(V8:V19) -> 8688067 | W20: =SUM(W8:W19) -> 54414736 | X20: =SUM(X8:X19) -> 93578830
C23: NOTAS:
C24: 1) Se realizó el estudio con 3 cotizaciones las cuales cumplen con lo solicitado por la entidad
C25: 2) En el presente análisis se aplicó el procedimiento de aproximación generalmente aceptado por las reglas matemáticas denominado redondeo, que consiste en acercar los valores decimales al número entero más aproximado (esto es, si el tercer decimal es menor que 5, el segundo decimal se mantiene; si el tercer decimal es igual o mayor que 5, el segundo decimal se incrementa en uno)
C26: Fecha de elaboración:09-07-2026
C27: Estudio del Sector: No:

Sheet ANEXO 2 - HISTORICOS
C1: ANEXO 2 - ANALISIS DE COSTOS HISTORICOS GRUPO 1
E2: ='ANEXO 1 - COTIZACIONES'!E2 -> Prestación del servicio de mantenimiento preventivo, correctivo y predictivo con suministro e instalación de insumos y bolsa de repuestos nuevos y de primera calidad, para el sistema hidráulico, el cual incluye los equipos de presión constante y de bombeo de agua potable, presión de agua tratada, sistema de eyección de aguas lluvias, residuales, equipos RCI red contra incendio y redes de suministro, desagües, aguas lluvias, aguas recuperadas instaladas en las Sedes de la Subdirección Regional de Apoyo Nororiental, Seccionales Santander, Norte de Santander y Arauca de la Fiscalía General de la Nación
C3: NECESIDAD | H3: FGN-RNO-MC-0031-2025 | J3: 45901 | K3: 46082 | M3: ANALISIS DE COSTOS HISTORICOS
J4: 1.5148 | K4: 1.5694
C5: ÍTEM | D5: DESCRIPCION | E5: UNIDAD DE MEDIDA | F5: CANTIDAD | H5: VALOR UNITARIO SIN IVA | J5: VALOR UNITARIO SIN IVA | M5: VALOR UNITARIO SIN IVA | N5: VALOR IVA | O5: VALOR UNITARIO INCLUIDO IVA | P5: VALOR TOTAL INCLUIDO IVA
B6: GRUPO 1 | D6: ='ANEXO 1 - COTIZACIONES'!D6 -> SANTANDER
D7: ='ANEXO 1 - COTIZACIONES'!D7 -> BUCARAMANGA (Edificio sede Principal)
C8: ='ANEXO 1 - COTIZACIONES'!C8 -> 1 | D8: ='ANEXO 1 - COTIZACIONES'!D8 -> Mantenimiento Sistema de presión constante | E8: ='ANEXO 1 - COTIZACIONES'!E8 -> UND | F8: ='ANEXO 1 - COTIZACIONES'!F8 -> 2 | H8: 950000 | J8: =ROUND($K$4/$J$4*H8,0) -> 984242 | M8: =+J8 -> 984242 | N8: =ROUND(M8*19%,0) -> 187006 | O8: =+N8+M8 -> 1171248 | P8: =+O8*F8 -> 2342496
C9: ='ANEXO 1 - COTIZACIONES'!C9 -> 2 | D9: ='ANEXO 1 - COTIZACIONES'!D9 -> Mantenimiento Sistema de presión constante de emergencia | E9: ='ANEXO 1 - COTIZACIONES'!E9 -> UND | F9: ='ANEXO 1 - COTIZACIONES'!F9 -> 1 | H9: 1050000 | J9: =ROUND($K$4/$J$4*H9,0) -> 1087847 | M9: =+J9 -> 1087847 | N9: =ROUND(M9*19%,0) -> 206691 | O9: =+N9+M9 -> 1294538 | P9: =+O9*F9 -> 1294538
C10: ='ANEXO 1 - COTIZACIONES'!C10 -> 3 | D10: ='ANEXO 1 - COTIZACIONES'!D10 -> Mantenimiento Sistema de Eyección | E10: ='ANEXO 1 - COTIZACIONES'!E10 -> UND | F10: ='ANEXO 1 - COTIZACIONES'!F10 -> 4 | H10: 1850000 | J10: =ROUND($K$4/$J$4*H10,0) -> 1916682 | M10: =+J10 -> 1916682 | N10: =ROUND(M10*19%,0) -> 364170 | O10: =+N10+M10 -> 2280852 | P10: =+O10*F10 -> 9123408
C11: ='ANEXO 1 - COTIZACIONES'!C11 -> 4 | D11: ='ANEXO 1 - COTIZACIONES'!D11 -> Mantenimiento preventivo de un (1) equipo contraincendios Marca IHM | E11: ='ANEXO 1 - COTIZACIONES'!E11 -> UND | F11: ='ANEXO 1 - COTIZACIONES'!F11 -> 1 | H11: 0 | J11: =ROUND($K$4/$J$4*H11,0) -> 0 | M11: =+J11 -> 0 | N11: =ROUND(M11*19%,0) -> 0 | O11: =+N11+M11 -> 0 | P11: =+O11*F11 -> 0
D12: ='ANEXO 1 - COTIZACIONES'!D12 -> SAN GIL
C13: ='ANEXO 1 - COTIZACIONES'!C13 -> 5 | D13: ='ANEXO 1 - COTIZACIONES'!D13 -> Mantenimiento general de una (1) bomba de eyección de aguas lluvias de 1/2 HP | E13: ='ANEXO 1 - COTIZACIONES'!E13 -> UND | F13: ='ANEXO 1 - COTIZACIONES'!F13 -> 1 | H13: 950000 | J13: =ROUND($K$4/$J$4*H13,0) -> 984242 | M13: =+J13 -> 984242 | N13: =ROUND(M13*19%,0) -> 187006 | O13: =+N13+M13 -> 1171248 | P13: =+O13*F13 -> 1171248
D14: ='ANEXO 1 - COTIZACIONES'!D14 -> FLORIDABLANCA
C15: ='ANEXO 1 - COTIZACIONES'!C15 -> 6 | D15: ='ANEXO 1 - COTIZACIONES'!D15 -> Mantenimiento preventivo de un Sistema de presión constante | E15: ='ANEXO 1 - COTIZACIONES'!E15 -> UND | F15: ='ANEXO 1 - COTIZACIONES'!F15 -> 2 | H15: 0 | J15: =ROUND($K$4/$J$4*H15,0) -> 0 | M15: =+J15 -> 0 | N15: =ROUND(M15*19%,0) -> 0 | O15: =+N15+M15 -> 0 | P15: =+O15*F15 -> 0
C16: ='ANEXO 1 - COTIZACIONES'!C16 -> 7 | D16: ='ANEXO 1 - COTIZACIONES'!D16 -> Mantenimiento preventivo de un sistema contraincendios | E16: ='ANEXO 1 - COTIZACIONES'!E16 -> UND | F16: ='ANEXO 1 - COTIZACIONES'!F16 -> 2 | H16: 0 | J16: =ROUND($K$4/$J$4*H16,0) -> 0 | M16: =+J16 -> 0 | N16: =ROUND(M16*19%,0) -> 0 | O16: =+N16+M16 -> 0 | P16: =+O16*F16 -> 0
C17: ='ANEXO 1 - COTIZACIONES'!C17 -> 8 | D17: ='ANEXO 1 - COTIZACIONES'!D17 -> Mantenimiento general de dos (2) bombas de eyección | E17: ='ANEXO 1 - COTIZACIONES'!E17 -> UND | F17: ='ANEXO 1 - COTIZACIONES'!F17 -> 2 | H17: 0 | J17: =ROUND($K$4/$J$4*H17,0) -> 0 | M17: =+J17 -> 0 | N17: =ROUND(M17*19%,0) -> 0 | O17: =+N17+M17 -> 0 | P17: =+O17*F17 -> 0
D18: ='ANEXO 1 - COTIZACIONES'!D18 -> BARRANCABERMEJA (CTI)
C19: ='ANEXO 1 - COTIZACIONES'!C19 -> 9 | D19: ='ANEXO 1 - COTIZACIONES'!D19 -> Mantenimiento general de una (1) bomba centrífuga de 1 HP, 115V-230V, 60 Hz | E19: ='ANEXO 1 - COTIZACIONES'!E19 -> UND | F19: ='ANEXO 1 - COTIZACIONES'!F19 -> 1 | H19: 950000 | J19: =ROUND($K$4/$J$4*H19,0) -> 984242 | M19: =+J19 -> 984242 | N19: =ROUND(M19*19%,0) -> 187006 | O19: =+N19+M19 -> 1171248 | P19: =+O19*F19 -> 1171248
D20: ='ANEXO 1 - COTIZACIONES'!D20 -> VALOR TOTAL MANTENIMIENTO | P20: =SUM(P8:P19) -> 15102938

Sheet ANEXO 3 - PROY COSTOS
C1: ANEXO 3 - ESTUDIO DEL SECTOR PROYECCION DE COSTOS GRUPO 1
E2: ='ANEXO 1 - COTIZACIONES'!E2 -> Prestación del servicio de mantenimiento preventivo, correctivo y predictivo con suministro e instalación de insumos y bolsa de repuestos nuevos y de primera calidad, para el sistema hidráulico, el cual incluye los equipos de presión constante y de bombeo de agua potable, presión de agua tratada, sistema de eyección de aguas lluvias, residuales, equipos RCI red contra incendio y redes de suministro, desagües, aguas lluvias, aguas recuperadas instaladas en las Sedes de la Subdirección Regional de Apoyo Nororiental, Seccionales Santander, Norte de Santander y Arauca de la Fiscalía General de la Nación
C3: NECESIDAD | H3: ANALISIS DE COTIZACIONES | J3: ANALISIS COSTOS HISTORICOS | L3: PROYECCION COSTOS 2026
J4: 1.0508
C5: ÍTEM | D5: DESCRIPCION | E5: UNIDAD DE MEDIDA | F5: CANTIDAD | H5: VALOR UNITARIO SIN IVA | J5: VALOR UNITARIO SIN IVA | L5: VALOR UNITARIO SIN IVA | M5: VALOR IVA | N5: VALOR UNITARIO INCLUIDO IVA | O5: VALOR TOTAL INCLUIDO IVA
B6: GRUPO 1 | D6: ='ANEXO 1 - COTIZACIONES'!D6 -> SANTANDER
D7: ='ANEXO 1 - COTIZACIONES'!D7 -> BUCARAMANGA (Edificio sede Principal)
C8: ='ANEXO 1 - COTIZACIONES'!C8 -> 1 | D8: ='ANEXO 1 - COTIZACIONES'!D8 -> Mantenimiento Sistema de presión constante | E8: ='ANEXO 1 - COTIZACIONES'!E8 -> UND | F8: ='ANEXO 1 - COTIZACIONES'!F8 -> 2 | H8: =+'ANEXO 1 - COTIZACIONES'!U8 -> 5546834 | J8: =+'ANEXO 2 - HISTORICOS'!M8 -> 984242 | L8: =ROUND(IF(J8=0, H8, AVERAGE(H8, J8)),0) -> 3265538 | M8: =ROUND(L8*19%,0) -> 620452 | N8: =+M8+L8 -> 3885990 | O8: =+N8*F8 -> 7771980
C9: ='ANEXO 1 - COTIZACIONES'!C9 -> 2 | D9: ='ANEXO 1 - COTIZACIONES'!D9 -> Mantenimiento Sistema de presión constante de emergencia | E9: ='ANEXO 1 - COTIZACIONES'!E9 -> UND | F9: ='ANEXO 1 - COTIZACIONES'!F9 -> 1 | H9: =+'ANEXO 1 - COTIZACIONES'!U9 -> 5677000 | J9: =+'ANEXO 2 - HISTORICOS'!M9 -> 1087847 | L9: =ROUND(IF(J9=0, H9, AVERAGE(H9, J9)),0) -> 3382424 | M9: =ROUND(L9*19%,0) -> 642661 | N9: =+M9+L9 -> 4025085 | O9: =+N9*F9 -> 4025085
C10: ='ANEXO 1 - COTIZACIONES'!C10 -> 3 | D10: ='ANEXO 1 - COTIZACIONES'!D10 -> Mantenimiento Sistema de Eyección | E10: ='ANEXO 1 - COTIZACIONES'!E10 -> UND | F10: ='ANEXO 1 - COTIZACIONES'!F10 -> 4 | H10: =+'ANEXO 1 - COTIZACIONES'!U10 -> 3656667 | J10: =+'ANEXO 2 - HISTORICOS'!M10 -> 1916682 | L10: =ROUND(IF(J10=0, H10, AVERAGE(H10, J10)),0) -> 2786675 | M10: =ROUND(L10*19%,0) -> 529468 | N10: =+M10+L10 -> 3316143 | O10: =+N10*F10 -> 13264572
C11: ='ANEXO 1 - COTIZACIONES'!C11 -> 4 | D11: ='ANEXO 1 - COTIZACIONES'!D11 -> Mantenimiento preventivo de un (1) equipo contraincendios Marca IHM | E11: ='ANEXO 1 - COTIZACIONES'!E11 -> UND | F11: ='ANEXO 1 - COTIZACIONES'!F11 -> 1 | H11: =+'ANEXO 1 - COTIZACIONES'!U11 -> 10122000 | J11: =+'ANEXO 2 - HISTORICOS'!M11 -> 0 | L11: =ROUND(IF(J11=0, H11, AVERAGE(H11, J11)),0) -> 10122000 | M11: =ROUND(L11*19%,0) -> 1923180 | N11: =+M11+L11 -> 12045180 | O11: =+N11*F11 -> 12045180
D12: ='ANEXO 1 - COTIZACIONES'!D12 -> SAN GIL
C13: ='ANEXO 1 - COTIZACIONES'!C13 -> 5 | D13: ='ANEXO 1 - COTIZACIONES'!D13 -> Mantenimiento general de una (1) bomba de eyección de aguas lluvias de 1/2 HP | E13: ='ANEXO 1 - COTIZACIONES'!E13 -> UND | F13: ='ANEXO 1 - COTIZACIONES'!F13 -> 1 | H13: =+'ANEXO 1 - COTIZACIONES'!U13 -> 2025000 | J13: =+'ANEXO 2 - HISTORICOS'!M13 -> 984242 | L13: =ROUND(IF(J13=0, H13, AVERAGE(H13, J13)),0) -> 1504621 | M13: =ROUND(L13*19%,0) -> 285878 | N13: =+M13+L13 -> 1790499 | O13: =+N13*F13 -> 1790499
D14: ='ANEXO 1 - COTIZACIONES'!D14 -> FLORIDABLANCA
C15: ='ANEXO 1 - COTIZACIONES'!C15 -> 6 | D15: ='ANEXO 1 - COTIZACIONES'!D15 -> Mantenimiento preventivo de un Sistema de presión constante | E15: ='ANEXO 1 - COTIZACIONES'!E15 -> UND | F15: ='ANEXO 1 - COTIZACIONES'!F15 -> 2 | H15: =+'ANEXO 1 - COTIZACIONES'!U15 -> 5564167 | J15: =+'ANEXO 2 - HISTORICOS'!M15 -> 0 | L15: =ROUND(IF(J15=0, H15, AVERAGE(H15, J15)),0) -> 5564167 | M15: =ROUND(L15*19%,0) -> 1057192 | N15: =+M15+L15 -> 6621359 | O15: =+N15*F15 -> 13242718
C16: ='ANEXO 1 - COTIZACIONES'!C16 -> 7 | D16: ='ANEXO 1 - COTIZACIONES'!D16 -> Mantenimiento preventivo de un sistema contraincendios | E16: ='ANEXO 1 - COTIZACIONES'!E16 -> UND | F16: ='ANEXO 1 - COTIZACIONES'!F16 -> 2 | H16: =+'ANEXO 1 - COTIZACIONES'!U16 -> 7626667 | J16: =+'ANEXO 2 - HISTORICOS'!M16 -> 0 | L16: =ROUND(IF(J16=0, H16, AVERAGE(H16, J16)),0) -> 7626667 | M16: =ROUND(L16*19%,0) -> 1449067 | N16: =+M16+L16 -> 9075734 | O16: =+N16*F16 -> 18151468
C17: ='ANEXO 1 - COTIZACIONES'!C17 -> 8 | D17: ='ANEXO 1 - COTIZACIONES'!D17 -> Mantenimiento general de dos (2) bombas de eyección | E17: ='ANEXO 1 - COTIZACIONES'!E17 -> UND | F17: ='ANEXO 1 - COTIZACIONES'!F17 -> 2 | H17: =+'ANEXO 1 - COTIZACIONES'!U17 -> 3203334 | J17: =+'ANEXO 2 - HISTORICOS'!M17 -> 0 | L17: =ROUND(IF(J17=0, H17, AVERAGE(H17, J17)),0) -> 3203334 | M17: =ROUND(L17*19%,0) -> 608633 | N17: =+M17+L17 -> 3811967 | O17: =+N17*F17 -> 7623934
D18: ='ANEXO 1 - COTIZACIONES'!D18 -> BARRANCABERMEJA (CTI)
C19: ='ANEXO 1 - COTIZACIONES'!C19 -> 9 | D19: ='ANEXO 1 - COTIZACIONES'!D19 -> Mantenimiento general de una (1) bomba centrífuga de 1 HP, 115V-230V, 60 Hz | E19: ='ANEXO 1 - COTIZACIONES'!E19 -> UND | F19: ='ANEXO 1 - COTIZACIONES'!F19 -> 1 | H19: =+'ANEXO 1 - COTIZACIONES'!U19 -> 2305000 | J19: =+'ANEXO 2 - HISTORICOS'!M19 -> 984242 | L19: =ROUND(IF(J19=0, H19, AVERAGE(H19, J19)),0) -> 1644621 | M19: =ROUND(L19*19%,0) -> 312478 | N19: =+M19+L19 -> 1957099 | O19: =+N19*F19 -> 1957099
D20: ='ANEXO 1 - COTIZACIONES'!D20 -> VALOR TOTAL MANTENIMIENTO | O20: =SUM(O8:O19) -> 79872535
C22: NOTAS:
C23: 1) En el presente análisis se aplicó el procedimiento de aproximación generalmente aceptado por las reglas matemáticas denominado redondeo, que consiste en acercar los valores decimales al número entero más aproximado (esto es, si el tercer decimal es menor que 5, el segundo decimal se mantiene; si el tercer decimal es igual o mayor que 5, el segundo decimal se incrementa en uno)
C24: Fecha de elaboración: 09-07-2026
C25: Estudio del Sector: No:

Sheet ANEXO 4 - EST SECTOR
C1: ANEXO 4 - ESTUDIO DEL SECTOR PROCESO EQUIPOS HIDRAULICOS GRUPO 1
E2: ='ANEXO 1 - COTIZACIONES'!E2 -> Prestación del servicio de mantenimiento preventivo, correctivo y predictivo con suministro e instalación de insumos y bolsa de repuestos nuevos y de primera calidad, para el sistema hidráulico, el cual incluye los equipos de presión constante y de bombeo de agua potable, presión de agua tratada, sistema de eyección de aguas lluvias, residuales, equipos RCI red contra incendio y redes de suministro, desagües, aguas lluvias, aguas recuperadas instaladas en las Sedes de la Subdirección Regional de Apoyo Nororiental, Seccionales Santander, Norte de Santander y Arauca de la Fiscalía General de la Nación
C3: NECESIDAD | H3: ESTUDIO DEL SECTOR
H4: VALOR UNITARIO SIN IVA | I4: VALOR IVA | J4: VALOR UNITARIO INCLUIDO IVA | K4: VALOR TOTAL INCLUIDO IVA
C5: ÍTEM | D5: DESCRIPCION | E5: UNIDAD DE MEDIDA | F5: CANTIDAD
B6: GRUPO 1 | D6: ='ANEXO 1 - COTIZACIONES'!D6 -> SANTANDER
D7: ='ANEXO 1 - COTIZACIONES'!D7 -> BUCARAMANGA (Edificio sede Principal)
C8: ='ANEXO 1 - COTIZACIONES'!C8 -> 1 | D8: ='ANEXO 1 - COTIZACIONES'!D8 -> Mantenimiento Sistema de presión constante | E8: ='ANEXO 1 - COTIZACIONES'!E8 -> UND | F8: ='ANEXO 1 - COTIZACIONES'!F8 -> 2 | H8: ='ANEXO 3 - PROY COSTOS'!L8 -> 3265538 | I8: =ROUND(H8*19%,0) -> 620452 | J8: =+I8+H8 -> 3885990 | K8: =+J8*F8 -> 7771980
C9: ='ANEXO 1 - COTIZACIONES'!C9 -> 2 | D9: ='ANEXO 1 - COTIZACIONES'!D9 -> Mantenimiento Sistema de presión constante de emergencia | E9: ='ANEXO 1 - COTIZACIONES'!E9 -> UND | F9: ='ANEXO 1 - COTIZACIONES'!F9 -> 1 | H9: ='ANEXO 3 - PROY COSTOS'!L9 -> 3382424 | I9: =ROUND(H9*19%,0) -> 642661 | J9: =+I9+H9 -> 4025085 | K9: =+J9*F9 -> 4025085
C10: ='ANEXO 1 - COTIZACIONES'!C10 -> 3 | D10: ='ANEXO 1 - COTIZACIONES'!D10 -> Mantenimiento Sistema de Eyección | E10: ='ANEXO 1 - COTIZACIONES'!E10 -> UND | F10: ='ANEXO 1 - COTIZACIONES'!F10 -> 4 | H10: ='ANEXO 3 - PROY COSTOS'!L10 -> 2786675 | I10: =ROUND(H10*19%,0) -> 529468 | J10: =+I10+H10 -> 3316143 | K10: =+J10*F10 -> 13264572
C11: ='ANEXO 1 - COTIZACIONES'!C11 -> 4 | D11: ='ANEXO 1 - COTIZACIONES'!D11 -> Mantenimiento preventivo de un (1) equipo contraincendios Marca IHM | E11: ='ANEXO 1 - COTIZACIONES'!E11 -> UND | F11: ='ANEXO 1 - COTIZACIONES'!F11 -> 1 | H11: ='ANEXO 3 - PROY COSTOS'!L11 -> 10122000 | I11: =ROUND(H11*19%,0) -> 1923180 | J11: =+I11+H11 -> 12045180 | K11: =+J11*F11 -> 12045180
D12: ='ANEXO 1 - COTIZACIONES'!D12 -> SAN GIL
C13: ='ANEXO 1 - COTIZACIONES'!C13 -> 5 | D13: ='ANEXO 1 - COTIZACIONES'!D13 -> Mantenimiento general de una (1) bomba de eyección de aguas lluvias de 1/2 HP | E13: ='ANEXO 1 - COTIZACIONES'!E13 -> UND | F13: ='ANEXO 1 - COTIZACIONES'!F13 -> 1 | H13: ='ANEXO 3 - PROY COSTOS'!L13 -> 1504621 | I13: =ROUND(H13*19%,0) -> 285878 | J13: =+I13+H13 -> 1790499 | K13: =+J13*F13 -> 1790499
D14: ='ANEXO 1 - COTIZACIONES'!D14 -> FLORIDABLANCA
C15: ='ANEXO 1 - COTIZACIONES'!C15 -> 6 | D15: ='ANEXO 1 - COTIZACIONES'!D15 -> Mantenimiento preventivo de un Sistema de presión constante | E15: ='ANEXO 1 - COTIZACIONES'!E15 -> UND | F15: ='ANEXO 1 - COTIZACIONES'!F15 -> 2 | H15: ='ANEXO 3 - PROY COSTOS'!L15 -> 5564167 | I15: =ROUND(H15*19%,0) -> 1057192 | J15: =+I15+H15 -> 6621359 | K15: =+J15*F15 -> 13242718
C16: ='ANEXO 1 - COTIZACIONES'!C16 -> 7 | D16: ='ANEXO 1 - COTIZACIONES'!D16 -> Mantenimiento preventivo de un sistema contraincendios | E16: ='ANEXO 1 - COTIZACIONES'!E16 -> UND | F16: ='ANEXO 1 - COTIZACIONES'!F16 -> 2 | H16: ='ANEXO 3 - PROY COSTOS'!L16 -> 7626667 | I16: =ROUND(H16*19%,0) -> 1449067 | J16: =+I16+H16 -> 9075734 | K16: =+J16*F16 -> 18151468
C17: ='ANEXO 1 - COTIZACIONES'!C17 -> 8 | D17: ='ANEXO 1 - COTIZACIONES'!D17 -> Mantenimiento general de dos (2) bombas de eyección | E17: ='ANEXO 1 - COTIZACIONES'!E17 -> UND | F17: ='ANEXO 1 - COTIZACIONES'!F17 -> 2 | H17: ='ANEXO 3 - PROY COSTOS'!L17 -> 3203334 | I17: =ROUND(H17*19%,0) -> 608633 | J17: =+I17+H17 -> 3811967 | K17: =+J17*F17 -> 7623934
D18: ='ANEXO 1 - COTIZACIONES'!D18 -> BARRANCABERMEJA (CTI)
C19: ='ANEXO 1 - COTIZACIONES'!C19 -> 9 | D19: ='ANEXO 1 - COTIZACIONES'!D19 -> Mantenimiento general de una (1) bomba centrífuga de 1 HP, 115V-230V, 60 Hz | E19: ='ANEXO 1 - COTIZACIONES'!E19 -> UND | F19: ='ANEXO 1 - COTIZACIONES'!F19 -> 1 | H19: ='ANEXO 3 - PROY COSTOS'!L19 -> 1644621 | I19: =ROUND(H19*19%,0) -> 312478 | J19: =+I19+H19 -> 1957099 | K19: =+J19*F19 -> 1957099
D20: ='ANEXO 1 - COTIZACIONES'!D20 -> VALOR TOTAL MANTENIMIENTO | K20: =SUM(K8:K19) -> 79872535
C22: NOTAS:
C23: 1) En el presente análisis se aplicó el procedimiento de aproximación generalmente aceptado por las reglas matemáticas denominado redondeo, que consiste en acercar los valores decimales al número entero más aproximado (esto es, si el tercer decimal es menor que 5, el segundo decimal se mantiene; si el tercer decimal es igual o mayor que 5, el segundo decimal se incrementa en uno)
C25: Fecha de elaboración: 09-07-26
C26: Estudio del Sector: No:
