Workbook
Name VCERT1: #REF!
Name VCERT1: #REF!
Name VCERT1: #REF!
Name VCERT1: #REF!
Name VCERT1: #REF!
Name VCERT1: #REF!
Name VCERT2: #REF!
Name VCERT2: #REF!
Name VCERT2: #REF!
Name VCERT2: #REF!
Name VCERT2: #REF!
Name VCERT2: #REF!
Name VCERT3: #REF!
Name VCERT3: #REF!
Name VCERT3: #REF!
Name VCERT3: #REF!
Name VCERT3: #REF!
Name VCERT3: #REF!
Name VCERT4: #REF!
Name VCERT4: #REF!
Name VCERT4: #REF!
Name VCERT4: #REF!
Name VCERT4: #REF!
Name VCERT4: #REF!
Name VCERT5: #REF!
Name VCERT5: #REF!
Name VCERT5: #REF!
Name VCERT5: #REF!
Name VCERT5: #REF!
Name VCERT5: #REF!
Name VCERT6: #REF!
Name VCERT6: #REF!
Name VCERT6: #REF!
Name VCERT6: #REF!
Name VCERT6: #REF!
Name VCERT6: #REF!

Sheet DATOS
B2: PROCESO: | C2: IDRD-SG-CM-012-2026 | E2: CONTROL DE CAMBIOS
B3: OBJETO: | C3: CONTRATAR INTERVENTORÍA INTEGRAL QUE INCLUYE, PERO NO SE LIMITA A LA INTERVENTORÍA TÉCNICA, FINANCIERA Y/O CONTABLE, JURÍDICA, ADMINISTRATIVA, OPERATIVA Y MEDIO AMBIENTAL EN LA ETAPA DE OPERACIÓN Y MANTENIMIENTO DEL CONTRATO DE CONCESIÓN BAJO UN ESQUEMA DE ASOCIACIÓN PÚBLICO - PRIVADA DE INICIATIVA PRIVADA APP NO. IDRD-APP-IP-001-2015. | E3: Celdas amarillas / texto rojo | F3: Ajustes del 18/07/2026
B4: PRESUPUESTO DEL PROCESO | C4: 1494460227
B5: Los valores de los contratos certificados aportados por el proponente deberán en sumatoria ser igual o superior al CIEN POR CIENTO (100%) del presupuesto oficial del presente proceso de selección, expresado en SMMLV certificados en el RUP. | C5: 1
B6: PRESUPUESTO OFICIAL DEL PROCESO EN SMMLV | C6: 853.53
B7: FECHA CIERRE PROCESO | C7: 46212
B9: CÓDIGOS UNSPSC | C9: Nombre
B10: 80101500 | C10: Servicios de consultoría de negocios y administración corporativa
B11: 80101600 | C11: Gerencia de proyectos
B12: 80161500 | C12: Servicios de apoyo gerencial
B17: TABLA SALARIOS MINIMOS LEGALES COLOMBIA.
B18: (Fuente Banco de la Republica - Ministerio del Trabajo y decretos del Gobierno nacional
B19: 0 | C19: 1e+17
B20: 1998 | C20: 203826
B21: 1999 | C21: 236460
B22: 2000 | C22: 260100
B23: 2001 | C23: 286000
B24: 2002 | C24: 309000
B25: 2003 | C25: 332000
B26: 2004 | C26: 358000
B27: 2005 | C27: 381500
B28: 2006 | C28: 408000
B29: 2007 | C29: 433700
B30: 2008 | C30: 461500
... B48: 2026 | C48: 1750905

Sheet PROPONENTE 2
B2: EVALUACIÓN REQUISITOS HABILITANTES TÉCNICOS
B3: PROCESO: | C3: IDRD-SG-CM-012-2026
B4: OBJETO: | C4: CONTRATAR INTERVENTORÍA INTEGRAL QUE INCLUYE, PERO NO SE LIMITA A LA INTERVENTORÍA TÉCNICA, FINANCIERA Y/O CONTABLE, JURÍDICA, ADMINISTRATIVA, OPERATIVA Y MEDIO AMBIENTAL EN LA ETAPA DE OPERACIÓN Y MANTENIMIENTO DEL CONTRATO DE CONCESIÓN BAJO UN ESQUEMA DE ASOCIACIÓN PÚBLICO - PRIVADA DE INICIATIVA PRIVADA APP NO. IDRD-APP-IP-001-2015.
B6: NO. DE PROPUESTA EN SECOP II: | C6: 2 | E6: PROPONENTE: | I6: CONSORCIO INTERAPP CAMPÍN
I7: CONSORCIO INTERAPP CAMPÍN
B8: EVALUACION EXPERIENCIA DEL PROPONENTE
B10: EL PROPONENTE ES PLURAL: | C10: NOMBRE | G10: PARTICIPACIÓN | H10: NIT | I10: RUP VIGENTE Y FIRME | J10: CUMPLE | K10: NOMBRE DE DOCUMENTO EN LA OFERTA | L10: FOLIO | M10: OBSERVACIÓN
B11: SI | C11: INCOPLAN S.A. | G11: 0.77 | H11: 800.097.991-2 | I11: SI | J11: 1 | K11: RUP INCOPLAN | L11: Vigente y en firme | M11: Participación actual: 77%.
C12: INGEPLAN.CO S.A.S. BIC | G12: 0.13 | H12: 800.169.622-1 | I12: SI | J12: =IF(I12="SI",1,(IF(I12="NO APLICA",-1,0))) -> 1 | K12: RUP INGEPLAN | L12: Vigente y en firme | M12: Participación actual: 13%.
C13: ICP & CO S.A.S. BIC | G13: 0.1 | H13: 901.887.638-3 | I13: SI | J13: 1 | K13: RUP ICP | L13: Vigente y en firme | M13: Participación actual: 10%.
B15: 4.3.1 | C15: Presenta FORMATO EXPERIENCIA HABILITANTE DEL PROPONENTE | I15: SI | J15: 1 | K15: Formato 5 – Experiencia habilitante | L15: Relaciona cinco contratos y sus consecutivos RUP. La experiencia total y el aporte proporcional de cada integrante superan los mínimos exigidos. | M15: Relaciona cinco contratos y sus consecutivos RUP. La experiencia total supera el mínimo; se identifica déficit proporcional de INGEPLAN.
B17: =+C6 -> 2
B19: CERT. | C19: CERTIFICACION CUMPLE EXPERIENCIA GENERAL | F19: OBJETO | H19: INTEGRANTE QUE APORTA EXPERIENCIA | J19: VALOR QUE APORTA EL INTEGRANTE (SMMLV) | K19: VALOR APORTADO POR CERTIFICACIÓN | L19: OBSERVACIÓN
B20: 1 | C20: CUMPLE | F20: Interventoría técnica, administrativa, financiera, ambiental, operativa y jurídica a concesiones portuarias, incluida la etapa de operación y mantenimiento. | H20: INCOPLAN S.A. | J20: 7739.99 | K20: 7739.99 | L20: RUP consecutivo 297; valor 17.199,97 SMMLV; participación histórica 45%.
B24: 2 | C24: CUMPLE | F24: Interventoría administrativa, técnica, financiera, contable y jurídica a contratos de concesión portuaria. | H24: ICP & CO S.A.S. BIC | J24: 274.27 | K24: 274.27 | L24: RUP consecutivo 271; valor 548,53 SMMLV; participación histórica 50%.
B28: 3 | C28: CUMPLE | F28: Interventoría administrativa, técnica, financiera, contable y jurídica a concesiones portuarias. | H28: INGEPLAN.CO S.A.S. BIC | J28: 119.37 | K28: 119.37 | L28: RUP consecutivo 108; valor 497,36 SMMLV; participación histórica 24%. INGEPLAN aporta 119,37 SMMLV y supera el mínimo exigible de 110,96 SMMLV.
C29: {=+'CERT 3'!C25:H25} -> 0 | D29: 0 | E29: 0 | F29: 0 | G29: 0 | H29: 0
B31: 4 | C31: CUMPLE | F31: Interventoría administrativa, técnica, financiera, contable y jurídica a la concesión portuaria Puerto Impala. | H31: ICP & CO S.A.S. BIC | J31: 163.99 | K31: 163.99 | L31: RUP consecutivo 270; valor 273,32 SMMLV; participación histórica 60%.
B34: 5 | C34: CUMPLE | F34: Interventoría administrativa, técnica, financiera, contable y jurídica a contratos de concesión portuaria. | H34: INCOPLAN S.A. | J34: 377.2 | K34: 377.2 | L34: RUP consecutivo 325; valor 943,01 SMMLV; participación histórica 40%.
C37: VALOR TOTAL APORTADO POR CETIFICACIONES | K37: 8674.82
B39: 4.3.1 | C39: ="La sumatoria de los valores de los contratos acreditados para la experiencia debe corresponder como mínimo al 100% del presupuesto oficial expresado en SMMLV."&" ("&DATOS!C6&" SMLMV)" -> La sumatoria de los valores de los contratos acreditados para la experiencia debe corresponder como mínimo al 100% del presupuesto oficial expresado en SMMLV. (853,53 SMLMV) | L39: CUMPLE
B42: 4.3.1 | C42: REGLAS PARA LA VALORACIÓN DE LA EXPERIENCIA DE CONSORCIOS, UNIONES TEMPORALES O PROMESA DE SOCIEDAD FUTURA | J42: CUMPLE | K42: OBSERVACIÓN
C44: EXPERIENCIA EXIGIDA | I44: 853.53 | J44: =IF(I49="SI",1,(IF(I49="NO APLICA",-1,0))) -> 0
C45: INTEGRANTE QUE APORTA EXPERIENCIA | H45: % SOBRE EXPERIENCIA EXIGIDA | I45: VALOR TOTAL QUE APORTA EL INTEGRANTE (SMMLV)
C46: INCOPLAN S.A. | H46: 0.77 | I46: 8117.19 | L46: CUMPLE | mínimo 657,22 SMMLV
C47: INGEPLAN.CO S.A.S. BIC | H47: 0.13 | I47: 119.37 | L47: CUMPLE | mínimo 110,96 SMMLV
C48: ICP & CO S.A.S. BIC | H48: 0.1 | I48: 438.26 | L48: CUMPLE | mínimo 85,35 SMMLV
B53: RESULTADO EVALUACIÓN REQUISITOS HABILITANTES TÉCNICOS PROPONENTE 2
B54: NO CUMPLE - RESULTADO DEFINITIVO: NO HABILITADO TÉCNICAMENTE. Cumplen la experiencia habilitante del proponente, el Formato 6, el Profesional Financiero y el Formato 7. La aclaración del Perfil 1 no acredita de manera cierta y suficiente el mínimo de siete (7) años ejecutando actividades como director y/o líder exigido en el numeral 4.3.2. El antecedente del proceso IDRD-SG-CM-038-2023 y la evaluación de otro proceso no sustituyen los soportes de esta oferta ni vinculan el juicio técnico del presente proceso. El proponente no allegó lo señalado en el inciso 3 del numeral 4.3.1, documentos de acreditación de la experiencia de los profesionales del pliego de condiciones del proceso, modificado a través de la adenda No. 1, lo que no permitió eventualmente hacer verificación la participación efectiva del profesional en la ejecución del proyecto y el desempeño del cargo exigido en el proyecto. El Formato 10 aclarado identifica a José Edisson Jaimes Villalobos y satisface la aclaración del factor 5.1.3; no obstante, al no resultar habilitada la propuesta, ningún factor genera puntaje efectivo.
B56: NO HABILITADO TÉCNICAMENTE – RESULTADO DEFINITIVO
B58: RESULTADO DE LA ACLARACIÓN
B60: NO CUMPLE. Aunque la formación académica satisface el requisito, la aclaración no demuestra de manera cierta y suficiente que Fabián Jaramillo Sermeño ejecutó durante mínimo siete (7) años actividades como director y/o líder en interventorías de proyectos APP o contratos de concesión con operación o mantenimiento. Los documentos continúan identificándolo con cargos directivos y de residencia sin delimitación temporal verificable y el proponente no allegó lo señalado en el inciso 3 del numeral 4.3.1, documentos de acreditación de la experiencia de los profesionales del pliego de condiciones del proceso, modificado a través de la adenda No. 1, lo que no permitió eventualmente hacer verificación la participación efectiva del profesional en la ejecución del proyecto y el desempeño del cargo exigido en el proyecto. Por tanto, el Perfil 1 no cumple el numeral 4.3.2 y la propuesta queda NO HABILITADA TÉCNICAMENTE.
B62: EVALUADORES
B63: OBSERVACIONES
B66: ING. JUAN CAMILO RAMIREZ BARON | D66: TABATA YAJAHIRA GUERRERO RAMIREZ | F66: KARLA JULIETH ORTIZ GUTIERREZ
B67: CONTRATISTA IDRD | D67: CONTRATISTA IDRD | F67: CONTRATISTA IDRD

Sheet CERT 1
B2: EVALUACIÓN REQUISITOS HABILITANTES TÉCNICOS
B4: EVALUACION EXPERIENCIA DEL PROPONENTE
B5: PROCESO: | C5: =+DATOS!C2 -> IDRD-SG-CM-012-2026
B6: OBJETO: | C6: =+DATOS!C3 -> CONTRATAR INTERVENTORÍA INTEGRAL QUE INCLUYE, PERO NO SE LIMITA A LA INTERVENTORÍA TÉCNICA, FINANCIERA Y/O CONTABLE, JURÍDICA, ADMINISTRATIVA, OPERATIVA Y MEDIO AMBIENTAL EN LA ETAPA DE OPERACIÓN Y MANTENIMIENTO DEL CONTRATO DE CONCESIÓN BAJO UN ESQUEMA DE ASOCIACIÓN PÚBLICO - PRIVADA DE INICIATIVA PRIVADA APP NO. IDRD-APP-IP-001-2015.
B7: NO. DE PROPUESTA EN SECOP II: | C7: 2 | E7: PROPONENTE: | I7: CONSORCIO INTERAPP CAMPÍN
B9: 1
B11: 4.3.1 | C11: DOCUMENTOS QUE ACREDITAN LA EXPERIENCIA DEL PROPONENTE | J11: CUMPLE | K11: NOMBRE DE DOCUMENTO EN LA OFERTA | L11: FOLIO | M11: OBSERVACIÓN
B13: 4.3.1 | C13: Nombre o razón social del contratante | G13: AGENCIA NACIONAL DE INFRAESTRUCTURA – ANI | I13: SI | J13: =IF(I13="SI",1,(IF(I13="NO APLICA",-1,0))) -> 1 | K13: RUP / soporte contrato 297 | L13: 1
C14: Nombre o razón social del contratista | G14: INCOPLAN S.A. | I14: SI | J14: =IF(I14="SI",1,(IF(I14="NO APLICA",-1,0))) -> 1 | K14: RUP / soporte contrato 297 | L14: 1
C15: Objeto | G15: Interventoría técnica, administrativa, financiera, ambiental, operativa y jurídica a concesiones portuarias, incluida la etapa de operación y mantenimiento. | I15: SI | J15: =IF(I15="SI",1,(IF(I15="NO APLICA",-1,0))) -> 1 | K15: RUP / soporte contrato 297 | L15: 1
C16: Número del Contrato | G16: SEA-15-2012
C17: Fecha de emisión del certficado | I17: SI | J17: =IF(I17="SI",1,(IF(I17="NO APLICA",-1,0))) -> 1 | K17: Soporte contrato SEA-15-2012 | L17: 1 | M17: Documento aportado
C18: Nombre, cargo y firma de la persona que expide la certificación | I18: SI | J18: =IF(I18="SI",1,(IF(I18="NO APLICA",-1,0))) -> 1 | K18: Soporte contrato SEA-15-2012 | L18: 1 | M18: Documento suscrito por la entidad contratante
C19: No se tendrán en cuenta auto certificaciones | I19: NO | J19: =IF(I19="SI",0,(IF(I19="NO APLICA",-1,1))) -> 1
B21: 4.3.1 I | C21: No se tendrán en cuenta subcontratos ni Auto certificaciones de experiencia, ni cuentas de cobro, ni certificaciones expedidas por el o los otros miembros del Consorcio o Uniones temporales de los cuales fue miembro, bien sea como proponente individual o integrante de Consorcio o Unión Temporal
B23: 4.3.1 | C23: Se aceptará como equivalente a la acreditación de experiencia de esta numeral copia de los contratos debidamente suscritos junto con la respectiva acta de liquidación o acta parcial de ejecución, siempre y cuando tales documentos contengan e indiquen los requisitos mencionados anteriormente, los cuales deberán ser indicados por el proponente en el documento aportado | H23: CERTIFICACIÓN DE LA ENTIDAD O EMPRESA CONTRATANTE. | I23: NO APLICA | J23: =IF(I23="SI",1,(IF(I23="NO APLICA",-1,0))) -> -1
B26: 4.3.1 | C26: Experiencia específica en INTERVENTORÍA A UN PROYECTO DE CONCESIÓN O APP DE INFRAESTRUCTURA, que cumpla con las siguientes condiciones mínimas: El proyecto debe haber incluido la etapa de operación y mantenimiento. El objeto y/o alcance del contrato debe haber abarcado los componentes de supervisión técnico, financiero y jurídico. | I26: SI | J26: =IF(I26="SI",1,(IF(I26="NO APLICA",-1,0))) -> 1
C28: VALOR TOTAL DEL CONTRATO EJECUTADO | H28: 17199.97 | I28: SI | J28: =IF(I28="SI",1,(IF(I28="NO APLICA",-1,0))) -> 1 | K28: =+K13 -> RUP / soporte contrato 297 | L28: 1
C29: La fecha de iniciación de la ejecución del Contrato | H29: 40954 | I29: SI | J29: =IF(I29="SI",1,(IF(I29="NO APLICA",-1,0))) -> 1 | K29: =+K28 -> RUP / soporte contrato 297 | L29: 1
C30: La fecha de terminación de la ejecución del Contrato | H30: 44149 | I30: SI | J30: =IF(I30="SI",1,(IF(I30="NO APLICA",-1,0))) -> 1 | K30: =+K29 -> RUP / soporte contrato 297 | L30: 1
C31: VALOR DEL CONTRATO EN SMMLV | H31: 17199.97
B34: =+B9 -> 1
B35: SI
B37: 4.3.1 | C37: Respecto a la experiencia aportada por un proponente singular o por los integrantes del actual proponente plural proveniente de figuras asociativas (Consorcio, Unión Temporal o Promesa de sociedad futura), se afectará el valor, de las certificaciones aportadas para acreditar la experiencia, de acuerdo con porcentaje de participación de este proponente o integrante en el contrato respectivo. | H37: 0.45 | I37: SI | J37: =IF(I37="SI",1,(IF(I37="NO APLICA",-1,0))) -> 1 | K37: RUP consecutivo 297 | L37: 1
C39: INTEGRANTES | H39: NÚMERO DE CONSECUTIVO EN EL RUP: | J39: CUMPLE | K39: VALOR DE CONTRATO EN EL RUP (SMLMV) | L39: (%) PARTICIPACIÓN | M39: VALOR APORTADO POR CADA INTEGRANTE (SMLMV) | O39: =IF(K40>0,1,0) -> 1
C40: INCOPLAN S.A. | H40: 297 | I40: SI | J40: =IF(I40="SI",1,(IF(I40="NO APLICA",-1,0))) -> 1 | K40: 17199.97 | L40: 0.45 | M40: 7739.99 | O40: =IF(K41>0,1,0) -> 0
J41: =IF(I41="SI",1,(IF(I41="NO APLICA",-1,0))) -> 0 | O41: =IF(K42>0,1,0) -> 0
J42: =IF(I42="SI",1,(IF(I42="NO APLICA",-1,0))) -> 0
C44: Códigos UNSPSC con el cual se encuentra registrado el contrato en el RUP: | I44: =+IF(COUNTIF(I45:I47,"SI")>=1,"SI","NO") -> SI | J44: =IF(I44="SI",1,(IF(I44="NO APLICA",-1,0))) -> 1 | K44: VALOR APORTADO DEL PROCESO (SMLMV)
C45: La experiencia certificada deberá estar inscrita en el registro único de proponentes RUP y deberá cumplir con mínimo un (1) código de las siguientes clasificaciones de Bienes y Servicios UNSPSC: | H45: 80101500 | I45: SI | K45: =IFERROR(AVERAGEIF(O39:O41,1,K40:K42),0) -> 17199.97
H46: 80101600 | I46: SI
H47: 80161500 | I47: SI
B49: 1
B50: CUMPLE
B52: Valor válido: 7.739,99 SMMLV. RUP consecutivo 297; valor 17.199,97 SMMLV; participación histórica 45%.

Sheet CERT 2
B2: EVALUACIÓN REQUISITOS HABILITANTES TÉCNICOS
B4: EVALUACION EXPERIENCIA DEL PROPONENTE
B5: PROCESO: | C5: =+DATOS!C2 -> IDRD-SG-CM-012-2026
B6: OBJETO: | C6: =+DATOS!C3 -> CONTRATAR INTERVENTORÍA INTEGRAL QUE INCLUYE, PERO NO SE LIMITA A LA INTERVENTORÍA TÉCNICA, FINANCIERA Y/O CONTABLE, JURÍDICA, ADMINISTRATIVA, OPERATIVA Y MEDIO AMBIENTAL EN LA ETAPA DE OPERACIÓN Y MANTENIMIENTO DEL CONTRATO DE CONCESIÓN BAJO UN ESQUEMA DE ASOCIACIÓN PÚBLICO - PRIVADA DE INICIATIVA PRIVADA APP NO. IDRD-APP-IP-001-2015.
B7: NO. DE PROPUESTA EN SECOP II: | C7: 2 | E7: PROPONENTE: | I7: CONSORCIO INTERAPP CAMPÍN
B9: 2
B11: 4.3.1 | C11: DOCUMENTOS QUE ACREDITAN LA EXPERIENCIA DEL PROPONENTE | J11: CUMPLE | K11: NOMBRE DE DOCUMENTO EN LA OFERTA | L11: FOLIO | M11: OBSERVACIÓN
B13: 4.3.1 | C13: Nombre o razón social del contratante | G13: CORMAGDALENA | I13: SI | J13: =IF(I13="SI",1,(IF(I13="NO APLICA",-1,0))) -> 1 | K13: RUP / soporte contrato 271 | L13: 1
C14: Nombre o razón social del contratista | G14: ICP & CO S.A.S. BIC | I14: SI | J14: =IF(I14="SI",1,(IF(I14="NO APLICA",-1,0))) -> 1 | K14: RUP / soporte contrato 271 | L14: 1
C15: Objeto | G15: Interventoría administrativa, técnica, financiera, contable y jurídica a contratos de concesión portuaria. | I15: SI | J15: =IF(I15="SI",1,(IF(I15="NO APLICA",-1,0))) -> 1 | K15: RUP / soporte contrato 271 | L15: 1
C16: Número del Contrato | G16: 0-268-2023
C17: Fecha de emisión del certficado | I17: SI | J17: =IF(I17="SI",1,(IF(I17="NO APLICA",-1,0))) -> 1 | K17: Soporte contrato 0-268-2023 | L17: 1 | M17: Documento aportado
C18: Nombre, cargo y firma de la persona que expide la certificación | I18: SI | J18: =IF(I18="SI",1,(IF(I18="NO APLICA",-1,0))) -> 1 | K18: Soporte contrato 0-268-2023 | L18: 1 | M18: Documento suscrito por la entidad contratante
C19: No se tendrán en cuenta auto certificaciones | I19: NO | J19: =IF(I19="SI",0,(IF(I19="NO APLICA",-1,1))) -> 1
B21: 4.3.1 I | C21: No se tendrán en cuenta subcontratos ni Auto certificaciones de experiencia, ni cuentas de cobro, ni certificaciones expedidas por el o los otros miembros del Consorcio o Uniones temporales de los cuales fue miembro, bien sea como proponente individual o integrante de Consorcio o Unión Temporal
B23: 4.3.1 | C23: Se aceptará como equivalente a la acreditación de experiencia de esta numeral copia de los contratos debidamente suscritos junto con la respectiva acta de liquidación o acta parcial de ejecución, siempre y cuando tales documentos contengan e indiquen los requisitos mencionados anteriormente, los cuales deberán ser indicados por el proponente en el documento aportado | H23: CERTIFICACIÓN DE LA ENTIDAD O EMPRESA CONTRATANTE. | I23: NO APLICA | J23: =IF(I23="SI",1,(IF(I23="NO APLICA",-1,0))) -> -1
B26: 4.3.1 | C26: Experiencia específica en INTERVENTORÍA A UN PROYECTO DE CONCESIÓN O APP DE INFRAESTRUCTURA, que cumpla con las siguientes condiciones mínimas: El proyecto debe haber incluido la etapa de operación y mantenimiento. El objeto y/o alcance del contrato debe haber abarcado los componentes de supervisión técnico, financiero y jurídico. | I26: SI | J26: =IF(I26="SI",1,(IF(I26="NO APLICA",-1,0))) -> 1
C28: VALOR TOTAL DEL CONTRATO EJECUTADO | H28: 548.53 | I28: SI | J28: =IF(I28="SI",1,(IF(I28="NO APLICA",-1,0))) -> 1 | K28: =+K13 -> RUP / soporte contrato 271 | L28: 1
C29: La fecha de iniciación de la ejecución del Contrato | H29: 45100 | I29: SI | J29: =IF(I29="SI",1,(IF(I29="NO APLICA",-1,0))) -> 1 | K29: =+K28 -> RUP / soporte contrato 271 | L29: 1
C30: La fecha de terminación de la ejecución del Contrato | H30: 45344 | I30: SI | J30: =IF(I30="SI",1,(IF(I30="NO APLICA",-1,0))) -> 1 | K30: =+K29 -> RUP / soporte contrato 271 | L30: 1
C31: VALOR DEL CONTRATO EN SMMLV | H31: 548.53
B34: =+B9 -> 2
B35: SI
B37: 4.3.1 | C37: Respecto a la experiencia aportada por un proponente singular o por los integrantes del actual proponente plural proveniente de figuras asociativas (Consorcio, Unión Temporal o Promesa de sociedad futura), se afectará el valor, de las certificaciones aportadas para acreditar la experiencia, de acuerdo con porcentaje de participación de este proponente o integrante en el contrato respectivo. | H37: 0.5 | I37: SI | J37: =IF(I37="SI",1,(IF(I37="NO APLICA",-1,0))) -> 1 | K37: RUP consecutivo 271 | L37: 1
C39: INTEGRANTES | H39: NÚMERO DE CONSECUTIVO EN EL RUP: | J39: CUMPLE | K39: VALOR DE CONTRATO EN EL RUP (SMLMV) | L39: (%) PARTICIPACIÓN | M39: VALOR APORTADO POR CADA INTEGRANTE (SMLMV) | O39: =IF(K40>0,1,0) -> 1
C40: ICP & CO S.A.S. BIC | H40: 271 | I40: SI | J40: =IF(I40="SI",1,(IF(I40="NO APLICA",-1,0))) -> 1 | K40: 548.53 | L40: 0.5 | M40: 274.27 | O40: =IF(K41>0,1,0) -> 0
J41: =IF(I41="SI",1,(IF(I41="NO APLICA",-1,0))) -> 0 | O41: =IF(K42>0,1,0) -> 0
J42: =IF(I42="SI",1,(IF(I42="NO APLICA",-1,0))) -> 0
C44: Códigos UNSPSC con el cual se encuentra registrado el contrato en el RUP: | I44: =+IF(COUNTIF(I45:I47,"SI")>=1,"SI","NO") -> SI | J44: =IF(I44="SI",1,(IF(I44="NO APLICA",-1,0))) -> 1 | K44: VALOR APORTADO DEL PROCESO (SMLMV)
C45: La experiencia certificada deberá estar inscrita en el registro único de proponentes RUP y deberá cumplir con mínimo un (1) código de las siguientes clasificaciones de Bienes y Servicios UNSPSC: | H45: 80101500 | I45: SI | K45: =IFERROR(AVERAGEIF(O39:O41,1,K40:K42),0) -> 548.53
H46: 80101600 | I46: SI
H47: 80161500 | I47: SI
B49: 2
O50: =IF(B51="NO PRESENTA",0,1) -> 1 | P50: =IF(B51="CUMPLE",1,0) -> 1
B51: CUMPLE
B53: Valor válido: 274,27 SMMLV. RUP consecutivo 271; valor 548,53 SMMLV; participación histórica 50%.

Sheet CERT 3
B2: EVALUACIÓN REQUISITOS HABILITANTES TÉCNICOS
B4: EVALUACION EXPERIENCIA DEL PROPONENTE
B5: PROCESO: | C5: =+DATOS!C2 -> IDRD-SG-CM-012-2026
B6: OBJETO: | C6: =+DATOS!C3 -> CONTRATAR INTERVENTORÍA INTEGRAL QUE INCLUYE, PERO NO SE LIMITA A LA INTERVENTORÍA TÉCNICA, FINANCIERA Y/O CONTABLE, JURÍDICA, ADMINISTRATIVA, OPERATIVA Y MEDIO AMBIENTAL EN LA ETAPA DE OPERACIÓN Y MANTENIMIENTO DEL CONTRATO DE CONCESIÓN BAJO UN ESQUEMA DE ASOCIACIÓN PÚBLICO - PRIVADA DE INICIATIVA PRIVADA APP NO. IDRD-APP-IP-001-2015.
B7: NO. DE PROPUESTA EN SECOP II: | C7: 2 | E7: PROPONENTE: | I7: CONSORCIO INTERAPP CAMPÍN
B9: 3
B11: 4.3.1 | C11: DOCUMENTOS QUE ACREDITAN LA EXPERIENCIA DEL PROPONENTE | J11: CUMPLE | K11: NOMBRE DE DOCUMENTO EN LA OFERTA | L11: FOLIO | M11: OBSERVACIÓN
C13: Nombre o razón social del contratante | G13: CORMAGDALENA | I13: SI | J13: =IF(I13="SI",1,(IF(I13="NO APLICA",-1,0))) -> 1 | K13: RUP / soporte contrato 108 | L13: 1
C14: Nombre o razón social del contratista | G14: INGEPLAN.CO S.A.S. BIC | I14: SI | J14: =IF(I14="SI",1,(IF(I14="NO APLICA",-1,0))) -> 1 | K14: RUP / soporte contrato 108 | L14: 1
C15: Objeto | G15: Interventoría administrativa, técnica, financiera, contable y jurídica a concesiones portuarias. | I15: SI | J15: =IF(I15="SI",1,(IF(I15="NO APLICA",-1,0))) -> 1 | K15: RUP / soporte contrato 108 | L15: 1
C16: Número del Contrato | G16: 0-255-2022
I17: SI | K17: Soporte contrato 0-255-2022 | L17: 1 | M17: Documento aportado
I18: SI | K18: Soporte contrato 0-255-2022 | L18: 1 | M18: Documento suscrito por la entidad contratante
I19: NO
I22: NO APLICA | J22: =IF(I22="SI",1,(IF(I22="NO APLICA",-1,0))) -> -1
I25: SI | J25: =IF(I25="SI",1,(IF(I25="NO APLICA",-1,0))) -> 1
H27: 497.36 | I27: SI
H28: 44770 | I28: SI
H29: 45046 | I29: SI | J29: =IF(I29="SI",1,(IF(I29="NO APLICA",-1,0))) -> 1
H30: 497.36
B31: SI
H33: 0.24 | I33: SI | J33: =IF(I33="SI",1,(IF(I33="NO APLICA",-1,0))) -> 1 | K33: RUP consecutivo 108
C35: INTEGRANTES | H35: NÚMERO DE CONSECUTIVO EN EL RUP: | J35: CUMPLE | K35: VALOR DE CONTRATO EN EL RUP (SMLMV) | L35: (%) PARTICIPACIÓN | M35: VALOR APORTADO POR CADA INTEGRANTE (SMLMV) | O35: =IF(K36>0,1,0) -> 1
C36: INGEPLAN.CO S.A.S. BIC | H36: 108 | I36: SI | J36: =IF(I36="SI",1,(IF(I36="NO APLICA",-1,0))) -> 1 | K36: 497.36 | L36: 0.24 | M36: 119.37 | O36: =IF(K37>0,1,0) -> 0
J37: =IF(I37="SI",1,(IF(I37="NO APLICA",-1,0))) -> 0 | O37: =IF(K38>0,1,0) -> 0
J38: =IF(I38="SI",1,(IF(I38="NO APLICA",-1,0))) -> 0
C40: Códigos UNSPSC con el cual se encuentra registrado el contrato en el RUP: | K40: VALOR APORTADO DEL PROCESO (SMLMV)
C41: La experiencia certificada deberá estar inscrita en el registro único de proponentes RUP y deberá cumplir con mínimo un (1) código de las siguientes clasificaciones de Bienes y Servicios UNSPSC: | H41: 80101500 | I41: SI | K41: 497,36 SMLMV
H42: 80101600 | I42: SI
H43: 80161500 | I43: SI
B45: 3
B46: CUMPLE
B48: Valor válido: 119,37 SMMLV. RUP consecutivo 108; valor 497,36 SMMLV; participación histórica 24%.

Sheet CERT 4
B2: EVALUACIÓN REQUISITOS HABILITANTES TÉCNICOS
B4: EVALUACION EXPERIENCIA DEL PROPONENTE
B5: PROCESO: | C5: =+DATOS!C2 -> IDRD-SG-CM-012-2026
B6: OBJETO: | C6: =+DATOS!C3 -> CONTRATAR INTERVENTORÍA INTEGRAL QUE INCLUYE, PERO NO SE LIMITA A LA INTERVENTORÍA TÉCNICA, FINANCIERA Y/O CONTABLE, JURÍDICA, ADMINISTRATIVA, OPERATIVA Y MEDIO AMBIENTAL EN LA ETAPA DE OPERACIÓN Y MANTENIMIENTO DEL CONTRATO DE CONCESIÓN BAJO UN ESQUEMA DE ASOCIACIÓN PÚBLICO - PRIVADA DE INICIATIVA PRIVADA APP NO. IDRD-APP-IP-001-2015.
B7: NO. DE PROPUESTA EN SECOP II: | C7: 2 | E7: PROPONENTE: | I7: CONSORCIO INTERAPP CAMPÍN
B9: 4
B11: 4.3.1 | C11: DOCUMENTOS QUE ACREDITAN LA EXPERIENCIA DEL PROPONENTE | J11: CUMPLE | K11: NOMBRE DE DOCUMENTO EN LA OFERTA | L11: FOLIO | M11: OBSERVACIÓN
B13: 4.3.1 | C13: Nombre o razón social del contratante | G13: CORMAGDALENA | I13: SI | J13: =IF(I13="SI",1,(IF(I13="NO APLICA",-1,0))) -> 1 | K13: RUP / soporte contrato 270 | L13: 1
C14: Nombre o razón social del contratista | G14: ICP & CO S.A.S. BIC | I14: SI | J14: 1 | K14: RUP / soporte contrato 270 | L14: 1
C15: Objeto | G15: Interventoría administrativa, técnica, financiera, contable y jurídica a la concesión portuaria Puerto Impala. | I15: SI | J15: 1 | K15: RUP / soporte contrato 270 | L15: 1
C16: Número del Contrato | G16: CPS 0-263-2022
C17: Fecha de emisión del certficado | I17: SI | J17: =IF(I17="SI",1,(IF(I17="NO APLICA",-1,0))) -> 1 | K17: Soporte contrato CPS 0-263-2022 | L17: 1 | M17: Documento aportado
C18: Nombre, cargo y firma de la persona que expide la certificación | I18: SI | J18: =IF(I18="SI",1,(IF(I18="NO APLICA",-1,0))) -> 1 | K18: Soporte contrato CPS 0-263-2022 | L18: 1 | M18: Documento suscrito por la entidad contratante
C19: No se tendrán en cuenta auto certificaciones | I19: NO | J19: =IF(I19="SI",0,(IF(I19="NO APLICA",-1,1))) -> 1
B21: 4.3.1 I | C21: No se tendrán en cuenta subcontratos ni Auto certificaciones de experiencia, ni cuentas de cobro, ni certificaciones expedidas por el o los otros miembros del Consorcio o Uniones temporales de los cuales fue miembro, bien sea como proponente individual o integrante de Consorcio o Unión Temporal
B23: 4.3.1 | C23: Se aceptará como equivalente a la acreditación de experiencia de esta numeral copia de los contratos debidamente suscritos junto con la respectiva acta de liquidación o acta parcial de ejecución, siempre y cuando tales documentos contengan e indiquen los requisitos mencionados anteriormente, los cuales deberán ser indicados por el proponente en el documento aportado | H23: CERTIFICACIÓN DE LA ENTIDAD O EMPRESA CONTRATANTE. | I23: NO APLICA | J23: =IF(I23="SI",1,(IF(I23="NO APLICA",-1,0))) -> -1
B26: 4.3.1 | C26: Experiencia específica en INTERVENTORÍA A UN PROYECTO DE CONCESIÓN O APP DE INFRAESTRUCTURA, que cumpla con las siguientes condiciones mínimas: El proyecto debe haber incluido la etapa de operación y mantenimiento. El objeto y/o alcance del contrato debe haber abarcado los componentes de supervisión técnico, financiero y jurídico. | I26: SI | J26: =IF(I26="SI",1,(IF(I26="NO APLICA",-1,0))) -> 1
C28: VALOR TOTAL DEL CONTRATO EJECUTADO | H28: 273.32 | I28: SI | J28: =IF(I28="SI",1,(IF(I28="NO APLICA",-1,0))) -> 1 | K28: RUP / soporte contrato 270 | L28: 1
C29: La fecha de iniciación de la ejecución del Contrato | H29: 44805 | I29: SI | J29: =IF(I29="SI",1,(IF(I29="NO APLICA",-1,0))) -> 1 | K29: RUP / soporte contrato 270 | L29: 1
C30: La fecha de terminación de la ejecución del Contrato | H30: 45051 | I30: SI | J30: =IF(I30="SI",1,(IF(I30="NO APLICA",-1,0))) -> 1 | K30: RUP / soporte contrato 270 | L30: 1
C31: VALOR DEL CONTRATO EN SMMLV | H31: 273.32
B34: 4
B35: SI
B37: 4.3.1 | C37: Respecto a la experiencia aportada por un proponente singular o por los integrantes del actual proponente plural proveniente de figuras asociativas (Consorcio, Unión Temporal o Promesa de sociedad futura), se afectará el valor, de las certificaciones aportadas para acreditar la experiencia, de acuerdo con porcentaje de participación de este proponente o integrante en el contrato respectivo. | H37: 0.6 | I37: SI | J37: =IF(I37="SI",1,(IF(I37="NO APLICA",-1,0))) -> 1 | K37: RUP consecutivo 270 | L37: 1
C39: INTEGRANTES | H39: NÚMERO DE CONSECUTIVO EN EL RUP: | J39: CUMPLE | K39: VALOR DE CONTRATO EN EL RUP (SMLMV) | L39: (%) PARTICIPACIÓN | M39: VALOR APORTADO POR CADA INTEGRANTE (SMLMV) | O39: =IF(K40>0,1,0) -> 1
C40: ICP & CO S.A.S. BIC | H40: 270 | I40: SI | J40: =IF(I40="SI",1,(IF(I40="NO APLICA",-1,0))) -> 1 | K40: 273.32 | L40: 0.6 | M40: 163.99 | O40: =IF(K41>0,1,0) -> 0
J41: 0 | O41: 0
J42: 0
C44: Códigos UNSPSC con el cual se encuentra registrado el contrato en el RUP: | I44: =+IF(COUNTIF(I45:I47,"SI")>=1,"SI","NO") -> SI | J44: =IF(I44="SI",1,(IF(I44="NO APLICA",-1,0))) -> 1 | K44: VALOR APORTADO DEL PROCESO (SMLMV)
C45: La experiencia certificada deberá estar inscrita en el registro único de proponentes RUP y deberá cumplir con mínimo un (1) código de las siguientes clasificaciones de Bienes y Servicios UNSPSC: | H45: 80101500 | I45: SI | K45: 273.32
H46: 80101600 | I46: SI
H47: 80161500 | I47: SI
B49: 4
B50: CUMPLE
B52: Valor válido: 163,99 SMMLV. RUP consecutivo 270; valor 273,32 SMMLV; participación histórica 60%.

Sheet CERT 5
B2: EVALUACIÓN REQUISITOS HABILITANTES TÉCNICOS
B4: EVALUACION EXPERIENCIA DEL PROPONENTE
B5: PROCESO: | C5: =+DATOS!C2 -> IDRD-SG-CM-012-2026
B6: OBJETO: | C6: =+DATOS!C3 -> CONTRATAR INTERVENTORÍA INTEGRAL QUE INCLUYE, PERO NO SE LIMITA A LA INTERVENTORÍA TÉCNICA, FINANCIERA Y/O CONTABLE, JURÍDICA, ADMINISTRATIVA, OPERATIVA Y MEDIO AMBIENTAL EN LA ETAPA DE OPERACIÓN Y MANTENIMIENTO DEL CONTRATO DE CONCESIÓN BAJO UN ESQUEMA DE ASOCIACIÓN PÚBLICO - PRIVADA DE INICIATIVA PRIVADA APP NO. IDRD-APP-IP-001-2015.
B7: NO. DE PROPUESTA EN SECOP II: | C7: 2 | E7: PROPONENTE: | I7: CONSORCIO INTERAPP CAMPÍN
B9: 5
B11: 4.3.1 | C11: DOCUMENTOS QUE ACREDITAN LA EXPERIENCIA DEL PROPONENTE | J11: CUMPLE | K11: NOMBRE DE DOCUMENTO EN LA OFERTA | L11: FOLIO | M11: OBSERVACIÓN
B13: 4.3.1 | C13: Nombre o razón social del contratante | G13: CORMAGDALENA | I13: SI | J13: =IF(I13="SI",1,(IF(I13="NO APLICA",-1,0))) -> 1 | K13: RUP / soporte contrato 325 | L13: 1
C14: Nombre o razón social del contratista | G14: INCOPLAN S.A. | I14: SI | J14: 1 | K14: RUP / soporte contrato 325 | L14: 1
C15: Objeto | G15: Interventoría administrativa, técnica, financiera, contable y jurídica a contratos de concesión portuaria. | I15: SI | J15: 1 | K15: RUP / soporte contrato 325 | L15: 1
C16: Número del Contrato | G16: 0-190-2019
C17: Fecha de emisión del certficado | I17: SI | J17: =IF(I17="SI",1,(IF(I17="NO APLICA",-1,0))) -> 1 | K17: Soporte contrato 0-190-2019 | L17: 1 | M17: Documento aportado
C18: Nombre, cargo y firma de la persona que expide la certificación | I18: SI | J18: =IF(I18="SI",1,(IF(I18="NO APLICA",-1,0))) -> 1 | K18: Soporte contrato 0-190-2019 | L18: 1 | M18: Documento suscrito por la entidad contratante
C19: No se tendrán en cuenta auto certificaciones | I19: NO | J19: =IF(I19="SI",0,(IF(I19="NO APLICA",-1,1))) -> 1
B21: 4.3.1 I | C21: No se tendrán en cuenta subcontratos ni Auto certificaciones de experiencia, ni cuentas de cobro, ni certificaciones expedidas por el o los otros miembros del Consorcio o Uniones temporales de los cuales fue miembro, bien sea como proponente individual o integrante de Consorcio o Unión Temporal
B23: 4.3.1 | C23: Se aceptará como equivalente a la acreditación de experiencia de esta numeral copia de los contratos debidamente suscritos junto con la respectiva acta de liquidación o acta parcial de ejecución, siempre y cuando tales documentos contengan e indiquen los requisitos mencionados anteriormente, los cuales deberán ser indicados por el proponente en el documento aportado | H23: CERTIFICACIÓN DE LA ENTIDAD O EMPRESA CONTRATANTE. | I23: NO APLICA | J23: =IF(I23="SI",1,(IF(I23="NO APLICA",-1,0))) -> -1
B26: 4.3.1 | C26: Experiencia específica en INTERVENTORÍA A UN PROYECTO DE CONCESIÓN O APP DE INFRAESTRUCTURA, que cumpla con las siguientes condiciones mínimas: El proyecto debe haber incluido la etapa de operación y mantenimiento. El objeto y/o alcance del contrato debe haber abarcado los componentes de supervisión técnico, financiero y jurídico. | I26: SI | J26: =IF(I26="SI",1,(IF(I26="NO APLICA",-1,0))) -> 1
C28: VALOR TOTAL DEL CONTRATO EJECUTADO | H28: 943.01 | I28: SI | J28: =IF(I28="SI",1,(IF(I28="NO APLICA",-1,0))) -> 1 | K28: RUP / soporte contrato 325 | L28: 1
C29: La fecha de iniciación de la ejecución del Contrato | H29: 43734 | I29: SI | J29: =IF(I29="SI",1,(IF(I29="NO APLICA",-1,0))) -> 1 | K29: RUP / soporte contrato 325 | L29: 1
C30: La fecha de terminación de la ejecución del Contrato | H30: 44104 | I30: SI | J30: =IF(I30="SI",1,(IF(I30="NO APLICA",-1,0))) -> 1 | K30: RUP / soporte contrato 325 | L30: 1
C31: VALOR DEL CONTRATO EN SMMLV | H31: 943.01
B34: 5
B35: SI
B37: 4.3.1 | C37: Respecto a la experiencia aportada por un proponente singular o por los integrantes del actual proponente plural proveniente de figuras asociativas (Consorcio, Unión Temporal o Promesa de sociedad futura), se afectará el valor, de las certificaciones aportadas para acreditar la experiencia, de acuerdo con porcentaje de participación de este proponente o integrante en el contrato respectivo. | H37: 0.4 | I37: SI | J37: =IF(I37="SI",1,(IF(I37="NO APLICA",-1,0))) -> 1 | K37: RUP consecutivo 325 | L37: 1
C39: INTEGRANTES | H39: NÚMERO DE CONSECUTIVO EN EL RUP: | J39: CUMPLE | K39: VALOR DE CONTRATO EN EL RUP (SMLMV) | L39: (%) PARTICIPACIÓN | M39: VALOR APORTADO POR CADA INTEGRANTE (SMLMV) | O39: =IF(K40>0,1,0) -> 1
C40: INCOPLAN S.A. | H40: 325 | I40: SI | J40: =IF(I40="SI",1,(IF(I40="NO APLICA",-1,0))) -> 1 | K40: 943.01 | L40: 0.4 | M40: 377.2 | O40: =IF(K41>0,1,0) -> 0
J41: 0 | O41: 0
J42: 0
C44: Códigos UNSPSC con el cual se encuentra registrado el contrato en el RUP: | I44: =+IF(COUNTIF(I45:I47,"SI")>=1,"SI","NO") -> SI | J44: =IF(I44="SI",1,(IF(I44="NO APLICA",-1,0))) -> 1 | K44: VALOR APORTADO DEL PROCESO (SMLMV)
C45: La experiencia certificada deberá estar inscrita en el registro único de proponentes RUP y deberá cumplir con mínimo un (1) código de las siguientes clasificaciones de Bienes y Servicios UNSPSC: | H45: 80101500 | I45: SI | K45: 943.01
H46: 80101600 | I46: SI
H47: 80161500 | I47: SI
B49: 5
B50: CUMPLE
B52: Valor válido: 377,20 SMMLV. RUP consecutivo 325; valor 943,01 SMMLV; participación histórica 40%.

Sheet CARTA ACEPTACION
B2: CARTA DE ACEPTACIÓN DE ESPECIFICACIONES TECNICAS
B4: CUMPLE | C4: Formato 7 aportado y suscrito; acepta expresamente el pliego, ficha técnica, anexos y adendas.
B5: PROPONENTE No. 2 - CONSORCIO INTER CAMPIN | C5: CUMPLE
C7: PROPONENTE No. 2: CONSORCIO INTERAPP CAMPÍN | I7: CONSORCIO INTERAPP CAMPÍN
I8: CONSORCIO INTERAPP CAMPÍN

Sheet OTROS REQUISITOS TÉCNICOS HABIL
B2: OTROS REQUISITOS TÉCNICOS HABILITANTES
B4: CUMPLE | C4: Formato 6 aportado, firmado, con los siete perfiles y compromiso expreso de vincular mínimo 50% de mujeres.
B5: PROPONENTE No. 2 - CONSORCIO INTERAPP CAMPÍN | C5: CUMPLE
C7: PROPONENTE No. 2: CONSORCIO INTERAPP CAMPÍN | I7: CONSORCIO INTERAPP CAMPÍN
C8: 5 | I8: CONSORCIO INTERAPP CAMPÍN

Sheet DIRECTOR INTERVENTORIA
B2: EVALUACIÓN REQUISITOS HABILITANTES TÉCNICOS
B4: EVALUACION EXPERIENCIA DEL PROPONENTE
B5: PROCESO: | C5: =+DATOS!C2 -> IDRD-SG-CM-012-2026
B6: OBJETO: | C6: =+DATOS!C3 -> CONTRATAR INTERVENTORÍA INTEGRAL QUE INCLUYE, PERO NO SE LIMITA A LA INTERVENTORÍA TÉCNICA, FINANCIERA Y/O CONTABLE, JURÍDICA, ADMINISTRATIVA, OPERATIVA Y MEDIO AMBIENTAL EN LA ETAPA DE OPERACIÓN Y MANTENIMIENTO DEL CONTRATO DE CONCESIÓN BAJO UN ESQUEMA DE ASOCIACIÓN PÚBLICO - PRIVADA DE INICIATIVA PRIVADA APP NO. IDRD-APP-IP-001-2015.
B7: NO. DE PROPUESTA EN SECOP II: | C7: 2 | E7: PROPONENTE: | I7: CONSORCIO INTERAPP CAMPÍN
B9: DIRECTOR DE INTERVENTORIA
B11: 4.3.2 | C11: PERFIL Y EXPERIENCIA HABILITANTE DEL DIRECTOR DE INTERVENTORÍA | J11: NO CUMPLE | K11: NOMBRE DE DOCUMENTO EN LA OFERTA | L11: FOLIO | M11: OBSERVACIÓN
B13: 4.3.2 | C13: Presenta FORMATO EXPERIENCIA Y FORMACIÓN PROFESIONAL HABILITANTE | I13: SI | J13: =IF(I13="SI",1,(IF(I13="NO APLICA",-1,0))) -> 1 | K13: Formato 6 – Personal mínimo | L13: 1
C15: NOMBRE | F15: FABIAN JARAMILLO SERMEÑO | K15: Formato 6 – Personal mínimo | L15: 1
C16: No. DOCUMENTO DE IDENTIDAD | F16: 73.192.732 | K16: =+K15 -> Formato 6 – Personal mínimo | L16: 1
C18: TÍTULO PREGRADO | F18: INGENIERO CIVIL | I18: SI | J18: =IF(I18="SI",1,(IF(I18="NO APLICA",-1,0))) -> 1 | K18: Diploma / acta de grado | L18: 1 | M18: Título de pregrado taxativo admisible.
C19: No. TARJETA PROFESIONAL | F19: Matrícula profesional aportada | I19: SI | J19: =IF(I19="SI",1,(IF(I19="NO APLICA",-1,0))) -> 1 | K19: Tarjeta profesional y vigencia | L19: 1 | O19: Años Exp Profesional
C20: FECHA DE EXPEDICIÓN | F20: Vigente antes del cierre | H20: EXPERIENCIA PROFESIONAL DESDE EXPEDICION MATRICULA PROFESIONAL (AÑOS CUMPLIDOS) | I20: 8.7 | J20: =+IF(I20>=O20,1,0) -> 1 | K20: Certificado profesional vigente | L20: 1 | O20: =+SUM(J38:J38) -> 8.7
C21: TÍTULO POSGRADO | F21: ESPECIALISTA EN GERENCIA DE PROYECTOS DE INGENIERÍA | I21: SI | J21: =IF(I21="SI",1,(IF(I21="NO APLICA",-1,0))) -> 1 | K21: Diploma / acta de grado | L21: 1 | M21: Posgrado habilitante admisible.
B24: 4.3.2 Nota 2 | C24: DOCUMENTOS DE ACREDITACIÓN DE LA FORMACIÓN DE LOS PROFESIONALES | J24: CUMPLE | K24: NOMBRE DE DOCUMENTO EN LA OFERTA | L24: FOLIO | M24: OBSERVACIÓN
C26: Fotocopia legible del documento de identidad | I26: SI | J26: =IF(I26="SI",1,(IF(I26="NO APLICA",-1,0))) -> 1 | K26: Documento de identidad | L26: 1
C27: Fotocopia legible de la tarjeta profesional | I27: SI | J27: =IF(I27="SI",1,(IF(I27="NO APLICA",-1,0))) -> 1 | K27: Tarjeta profesional | L27: 1
C28: Fotocopia de diploma o Fotocopia de acta de grado del título de pregrado | I28: SI | J28: =IF(I28="SI",1,(IF(I28="NO APLICA",-1,0))) -> 1 | K28: Diploma de pregrado | L28: 1
C29: Fotocopia de diploma o Fotocopia de acta de grado del título de posgrado | I29: SI | J29: =IF(I29="SI",1,(IF(I29="NO APLICA",-1,0))) -> 1 | K29: Diploma de posgrado | L29: 1
C30: Certificación de vigencia profesional COPNIA o del CPNAA para aquellos ingenieros o arquitectos propuestos | I30: SI | J30: =IF(I30="SI",1,(IF(I30="NO APLICA",-1,0))) -> 1 | K30: Certificado vigente | L30: 1
C31: Copia del documento de convalidación de los títulos obtenidos en el exterior, de conformidad con las disposiciones legales vigentes sobre la materia. (cuando aplique) | I31: NO APLICA | J31: =IF(I31="SI",1,(IF(I31="NO APLICA",-1,0))) -> -1
B33: Nota 2 | C33: Los títulos de posgrado obtenidos en el extranjero deben estar debidamente convalidados por el Ministerio de Educación y la Entidad aplicará la interpretación de razonamiento lógico, con el fin de determinar si el título presentado para verificación de la formación académica habilitante está relacionado o es a fin con lo solicitado.
B34: CONVALIDACIÓN DE TÍTULOS | C34: En ejercicio de lo señalado en el Artículo 26 de la Constitución Política de Colombia, el Artículo 178 del Decreto 019 de 2012, y concepto emitido por el Ministerio de Educación Nacional del 19 de abril de 2012, los proponentes que presenten dentro de su equipo de trabajo personas que hayan cursado carreras profesionales o postgrados en el exterior, deberán presentar los títulos debidamente convalidados de acuerdo con la Resolución N°. 10687 de 2019. De conformidad con lo establecido en el Artículo 7 de la Ley 842 de 2003, podrán ser matriculados en el Registro Profesional de Ingenieros y obtener tarjeta profesional, para poder ejercer la profesión en el territorio nacional, quienes hayan obtenido el título de educación superior en cualquiera de sus ramas, otorgado por Instituciones de Educación Superior que funcionen en países con los cuales Colombia haya celebrado tratados o convenios sobre reciprocidad de títulos, situación que debe ser avalada por ICFES o por el organismo que se determine para tal efecto. Así mismo, quienes hayan adquirido el título académico de educación superior de Ingeniero en cualquiera de sus ramas, otorgado por Instituciones de Educación Superior que funcionen en países con los cuales Colombia no haya celebrado tratados o convenios sobre reciprocidad de títulos; siempre y cuando hayan obtenido convalidación del título académico ante las autoridades competentes, conforme con las normas vigentes sobre la materia.
C36: VALIDACIÓN DE CERTIFICACIONES
E37: CONTRATANTE | G37: CARGO | H37: FECHA INICIO | I37: FECHA FIN | J37: TIEMPO (AÑOS) | K37: PRESENTA CONTRATO LABORAL (SI/NO) | L37: CUMPLE / NO CUMPLE | M37: OBSERVACIONES
C38: CERTIFICACIÓN 1 | E38: CONSORCIO INTERPUERTOS | G38: DIRECTOR TÉCNICO DE CAMPO | H38: 40969 | I38: 44146 | J38: 8.7 | K38: NO APLICA | L38: NO | M38: La certificación indica “Director Técnico de Campo” para el periodo 01/03/2012–11/11/2020 y el Acta No. 121 utiliza “Director Técnico y Operativo”; otros documentos de ejecución lo registran como “Residente Técnico y Operativo” o “Ingeniero Residente”. La aclaración explica la posible existencia de cargos adicionales y describe funciones de coordinación, pero no delimita ni acredita de forma verificable el periodo durante el cual el profesional ejecutó actividades de director y/o líder. Así mismo, el proponente no allegó lo señalado en el inciso 3 del numeral 4.3.1, documentos de acreditación de la experiencia de los profesionales del pliego de condiciones del proceso, modificado a través de la adenda No. 1, lo que no permitió eventualmente hacer verificación la participación efectiva del profesional en la ejecución del proyecto y el desempeño del cargo exigido en el proyecto
K39: La respuesta fue presentada dentro del traslado ordenado por la Resolución 1064. No incorporó un documento específico que armonice las denominaciones ni determine los periodos de cada rol. El precedente de 2023 y la evaluación de 2025 corresponden a actuaciones distintas y no sustituyen la prueba de este proceso. La presunción de buena fe no impide al IDRD contrastar integralmente los soportes cuando estos contienen información divergente.
B40: =+B9 -> DIRECTOR DE INTERVENTORIA
B41: NO CUMPLE
B44: NO CUMPLE. Aunque la formación académica satisface el requisito, la aclaración no demuestra de manera cierta y suficiente que Fabián Jaramillo Sermeño ejecutó durante mínimo siete (7) años actividades como director y/o líder en interventorías de proyectos APP o contratos de concesión con operación o mantenimiento. Los documentos continúan identificándolo con cargos directivos y de residencia sin delimitación temporal verificable y el proponente no allegó lo señalado en el inciso 3 del numeral 4.3.1, documentos de acreditación de la experiencia de los profesionales del pliego de condiciones del proceso, modificado a través de la adenda No. 1, lo que no permitió eventualmente hacer verificación la participación efectiva del profesional en la ejecución del proyecto y el desempeño del cargo exigido en el proyecto. Por tanto, el Perfil 1 no cumple el numeral 4.3.2 y la propuesta queda NO HABILITADA TÉCNICAMENTE.

Sheet PROFESIONAL FINANCIERO
B2: EVALUACIÓN REQUISITOS HABILITANTES TÉCNICOS
B4: EVALUACION EXPERIENCIA DEL PROPONENTE
B5: PROCESO: | C5: =+DATOS!C2 -> IDRD-SG-CM-012-2026
B6: OBJETO: | C6: =+DATOS!C3 -> CONTRATAR INTERVENTORÍA INTEGRAL QUE INCLUYE, PERO NO SE LIMITA A LA INTERVENTORÍA TÉCNICA, FINANCIERA Y/O CONTABLE, JURÍDICA, ADMINISTRATIVA, OPERATIVA Y MEDIO AMBIENTAL EN LA ETAPA DE OPERACIÓN Y MANTENIMIENTO DEL CONTRATO DE CONCESIÓN BAJO UN ESQUEMA DE ASOCIACIÓN PÚBLICO - PRIVADA DE INICIATIVA PRIVADA APP NO. IDRD-APP-IP-001-2015.
B7: NO. DE PROPUESTA EN SECOP II: | C7: 2 | E7: PROPONENTE: | I7: CONSORCIO INTERAPP CAMPÍN
B9: PROFESIONAL FINANCIERO
B11: 4.3.2 | C11: PERFIL Y EXPERIENCIA HABILITANTE DEL PROFESIONAL FINANCIERO | J11: CUMPLE | K11: NOMBRE DE DOCUMENTO EN LA OFERTA | L11: FOLIO | M11: OBSERVACIÓN
B13: 4.3.2 | C13: Presenta FORMATO EXPERIENCIA Y FORMACIÓN PROFESIONAL HABILITANTE | I13: SI | J13: =IF(I13="SI",1,(IF(I13="NO APLICA",-1,0))) -> 1 | K13: Formato 6 – Personal mínimo | L13: 1
C15: NOMBRE | F15: JOSÉ EDISSON JAIMES VILLALOBOS | K15: Formato 6 – Personal mínimo | L15: 1
C16: No. DOCUMENTO DE IDENTIDAD | F16: 79.923.449 | K16: =+K15 -> Formato 6 – Personal mínimo | L16: 1
C18: TÍTULO PREGRADO | F18: ADMINISTRADOR DE EMPRESAS | I18: SI | J18: =IF(I18="SI",1,(IF(I18="NO APLICA",-1,0))) -> 1 | K18: Diploma / acta de grado | L18: 1
C19: No. TARJETA PROFESIONAL | F19: Registro profesional aportado | I19: SI | J19: =IF(I19="SI",1,(IF(I19="NO APLICA",-1,0))) -> 1 | K19: Soporte profesional | L19: 1 | O19: Años Exp Profesional
C20: FECHA DE EXPEDICIÓN | F20: Vigente al cierre | H20: EXPERIENCIA PROFESIONAL DESDE EXPEDICION MATRICULA PROFESIONAL (AÑOS CUMPLIDOS) | I20: 4.38 | J20: =+IF(I20>=O20,1,0) -> 1 | K20: Certificado profesional vigente 08/07/2026 | L20: 1 | O20: =+SUM(J38:J42) -> 4.38
C21: TÍTULO POSGRADO | F21: ESPECIALISTA EN NEGOCIOS Y FINANZAS INTERNACIONALES | I21: SI | J21: =IF(I21="SI",1,(IF(I21="NO APLICA",-1,0))) -> 1 | K21: Diploma de posgrado | L21: 1
B24: 4.3.2 Nota 2 | C24: DOCUMENTOS DE ACREDITACIÓN DE LA FORMACIÓN DE LOS PROFESIONALES | J24: CUMPLE | K24: NOMBRE DE DOCUMENTO EN LA OFERTA | L24: FOLIO | M24: OBSERVACIÓN
C26: Fotocopia legible del documento de identidad | I26: SI | J26: =IF(I26="SI",1,(IF(I26="NO APLICA",-1,0))) -> 1 | K26: Documento de identidad | L26: 1
C27: Fotocopia legible de la tarjeta profesional | I27: SI | J27: =IF(I27="SI",1,(IF(I27="NO APLICA",-1,0))) -> 1 | K27: Registro profesional | L27: 1
C28: Fotocopia de diploma o Fotocopia de acta de grado del título de pregrado | I28: SI | J28: =IF(I28="SI",1,(IF(I28="NO APLICA",-1,0))) -> 1 | K28: Diploma de pregrado | L28: 1
C29: Fotocopia de diploma o Fotocopia de acta de grado del título de posgrado | I29: SI | J29: =IF(I29="SI",1,(IF(I29="NO APLICA",-1,0))) -> 1 | K29: Diploma de posgrado | L29: 1
C30: Certificación de vigencia profesional COPNIA o del CPNAA para aquellos ingenieros o arquitectos propuestos | I30: SI | J30: =IF(I30="SI",1,(IF(I30="NO APLICA",-1,0))) -> 1 | K30: Certificado vigente | L30: 1
C31: Copia del documento de convalidación de los títulos obtenidos en el exterior, de conformidad con las disposiciones legales vigentes sobre la materia. (cuando aplique) | I31: NO APLICA | J31: =IF(I31="SI",1,(IF(I31="NO APLICA",-1,0))) -> -1
B33: Nota 2 | C33: Los títulos de posgrado obtenidos en el extranjero deben estar debidamente convalidados por el Ministerio de Educación y la Entidad aplicará la interpretación de razonamiento lógico, con el fin de determinar si el título presentado para verificación de la formación académica habilitante está relacionado o es a fin con lo solicitado.
B34: CONVALIDACIÓN DE TÍTULOS | C34: En ejercicio de lo señalado en el Artículo 26 de la Constitución Política de Colombia, el Artículo 178 del Decreto 019 de 2012, y concepto emitido por el Ministerio de Educación Nacional del 19 de abril de 2012, los proponentes que presenten dentro de su equipo de trabajo personas que hayan cursado carreras profesionales o postgrados en el exterior, deberán presentar los títulos debidamente convalidados de acuerdo con la Resolución N°. 10687 de 2019. De conformidad con lo establecido en el Artículo 7 de la Ley 842 de 2003, podrán ser matriculados en el Registro Profesional de Ingenieros y obtener tarjeta profesional, para poder ejercer la profesión en el territorio nacional, quienes hayan obtenido el título de educación superior en cualquiera de sus ramas, otorgado por Instituciones de Educación Superior que funcionen en países con los cuales Colombia haya celebrado tratados o convenios sobre reciprocidad de títulos, situación que debe ser avalada por ICFES o por el organismo que se determine para tal efecto. Así mismo, quienes hayan adquirido el título académico de educación superior de Ingeniero en cualquiera de sus ramas, otorgado por Instituciones de Educación Superior que funcionen en países con los cuales Colombia no haya celebrado tratados o convenios sobre reciprocidad de títulos; siempre y cuando hayan obtenido convalidación del título académico ante las autoridades competentes, conforme con las normas vigentes sobre la materia.
C36: VALIDACIÓN DE CERTIFICACIONES
E37: CONTRATANTE | G37: CARGO | H37: FECHA INICIO | I37: FECHA FIN | J37: TIEMPO (AÑOS) | K37: CONTRATO LABORAL (SI/NO/NA) | L37: CUMPLE / NO CUMPLE | M37: OBSERVACIONES
C38: CERTIFICACIÓN 1 | E38: UNIÓN TEMPORAL PLANEAR | G38: ASESOR FINANCIERO | H38: 41499 | I38: 43100 | J38: 4.38 | K38: SI | L38: SI | M38: Actividad financiera en proyecto de concesión.
B44: =+B9 -> PROFESIONAL FINANCIERO
B46: CUMPLE
B48: Cumple profesión, posgrado y experiencia específica superior a tres años; aporta certificado profesional vigente.

Sheet PONDER DIRECTOR
B2: EVALUACIÓN REQUISITOS PONDERABLES
B4: FORMACION ADICIONAL PONDERABLE DIRECTOR DE INTERVENTORIA
B5: PROCESO: | C5: =+DATOS!C2 -> IDRD-SG-CM-012-2026
B6: OBJETO: | C6: =+DATOS!C3 -> CONTRATAR INTERVENTORÍA INTEGRAL QUE INCLUYE, PERO NO SE LIMITA A LA INTERVENTORÍA TÉCNICA, FINANCIERA Y/O CONTABLE, JURÍDICA, ADMINISTRATIVA, OPERATIVA Y MEDIO AMBIENTAL EN LA ETAPA DE OPERACIÓN Y MANTENIMIENTO DEL CONTRATO DE CONCESIÓN BAJO UN ESQUEMA DE ASOCIACIÓN PÚBLICO - PRIVADA DE INICIATIVA PRIVADA APP NO. IDRD-APP-IP-001-2015.
B7: NO. DE PROPUESTA EN SECOP II: | C7: 2 | E7: PROPONENTE: | I7: CONSORCIO INTERAPP CAMPÍN
B9: DIRECTOR DE INTERVENTORIA
B11: 5.1.2 | C11: La entidad asignará QUINCE (15) puntos al proponente que acredite un segundo posgrado del Director de Interventoría diferente al presentado como requisito mínimo de formación habilitante | J11: CUMPLE | K11: NOMBRE DE DOCUMENTO EN LA OFERTA | L11: FOLIO | M11: OBSERVACIÓN
C13: Presenta Formato 9 – Formación adicional del Director | I13: SI | J13: 1 | K13: Formato 9 | L13: 1
C15: NOMBRE | F15: FABIAN JARAMILLO SERMEÑO | G15: 0 | H15: 0 | I15: 0 | J15: 0
C16: No. DOCUMENTO DE IDENTIDAD | F16: 73.192.732 | G16: 0 | H16: 0 | I16: 0 | J16: 0
C18: TÍTULO POSGRADO | F18: ESPECIALIZACIÓN EN FINANZAS | I18: SI | J18: 1 | K18: Diploma / soporte académico | L18: 1
B20: 5.1.2 | C20: DOCUMENTOS DE ACREDITACIÓN DE LA FORMACIÓN DE LOS PROFESIONALES | J20: CUMPLE | K20: NOMBRE DE DOCUMENTO EN LA OFERTA | L20: FOLIO | M20: OBSERVACIÓN
C22: Fotocopia de diploma o Fotocopia de acta de grado del título de posgrado | I22: SI | J22: =IF(I22="SI",1,(IF(I22="NO APLICA",-1,0))) -> 1 | K22: Diploma / soporte académico | L22: 1
C23: Copia del documento de convalidación de los títulos obtenidos en el exterior, de conformidad con las disposiciones legales vigentes sobre la materia. (cuando aplique) | I23: NO APLICA | J23: =IF(I23="SI",1,(IF(I23="NO APLICA",-1,0))) -> -1
B25: Nota 2 | C25: Los títulos de posgrado obtenidos en el extranjero deben estar debidamente convalidados por el Ministerio de Educación y la Entidad aplicará la interpretación de razonamiento lógico, con el fin de determinar si el título presentado para verificación de la formación académica habilitante está relacionado o es a fin con lo solicitado.
B26: CONVALIDACIÓN DE TÍTULOS | C26: En ejercicio de lo señalado en el Artículo 26 de la Constitución Política de Colombia, el Artículo 178 del Decreto 019 de 2012, y concepto emitido por el Ministerio de Educación Nacional del 19 de abril de 2012, los proponentes que presenten dentro de su equipo de trabajo personas que hayan cursado carreras profesionales o postgrados en el exterior, deberán presentar los títulos debidamente convalidados de acuerdo con la Resolución N°. 10687 de 2019. De conformidad con lo establecido en el Artículo 7 de la Ley 842 de 2003, podrán ser matriculados en el Registro Profesional de Ingenieros y obtener tarjeta profesional, para poder ejercer la profesión en el territorio nacional, quienes hayan obtenido el título de educación superior en cualquiera de sus ramas, otorgado por Instituciones de Educación Superior que funcionen en países con los cuales Colombia haya celebrado tratados o convenios sobre reciprocidad de títulos, situación que debe ser avalada por ICFES o por el organismo que se determine para tal efecto. Así mismo, quienes hayan adquirido el título académico de educación superior de Ingeniero en cualquiera de sus ramas, otorgado por Instituciones de Educación Superior que funcionen en países con los cuales Colombia no haya celebrado tratados o convenios sobre reciprocidad de títulos; siempre y cuando hayan obtenido convalidación del título académico ante las autoridades competentes, conforme con las normas vigentes sobre la materia.
B28: =+B9 -> DIRECTOR DE INTERVENTORIA
B30: CUMPLE DOCUMENTALMENTE
G31: 15 PUNTOS DOCUMENTALES, CONDICIONADOS A LA HABILITACIÓN | H31: 15 PUNTOS DOCUMENTALES / 0 PUNTOS EFECTIVOS
B33: El segundo posgrado se encuentra acreditado documentalmente. Sin embargo, la propuesta no resulta habilitada técnicamente por incumplimiento del Perfil 1 – Director de Interventoría; por tanto, este factor no genera puntaje efectivo.

Sheet PONDER PROF FINANCIERO
B2: EVALUACIÓN REQUISITOS PONDERABLES
B4: EXPERIENCIA PONDERABLE SUBDIRECTOR FINANCIERO
B5: PROCESO: | C5: =+DATOS!C2 -> IDRD-SG-CM-012-2026
B6: OBJETO: | C6: =+DATOS!C3 -> CONTRATAR INTERVENTORÍA INTEGRAL QUE INCLUYE, PERO NO SE LIMITA A LA INTERVENTORÍA TÉCNICA, FINANCIERA Y/O CONTABLE, JURÍDICA, ADMINISTRATIVA, OPERATIVA Y MEDIO AMBIENTAL EN LA ETAPA DE OPERACIÓN Y MANTENIMIENTO DEL CONTRATO DE CONCESIÓN BAJO UN ESQUEMA DE ASOCIACIÓN PÚBLICO - PRIVADA DE INICIATIVA PRIVADA APP NO. IDRD-APP-IP-001-2015.
B7: NO. DE PROPUESTA EN SECOP II: | C7: 2 | E7: PROPONENTE: | I7: CONSORCIO INTERAPP CAMPÍN
B9: PROFESIONAL FINANCIERO
B11: 1
B13: 5.1.3 | C13: Se otorgará un puntaje máximo de 15 puntos, al proponente que acredite experiencia específica adicional y diferente a la habilitante del Profesional Financiero de mínimo dos años como profesional financiero en un solo proyecto de APP o Concesión.
C15: DOCUMENTOS DE ACREDITACIÓN DE LA EXPERIENCIA DEL PROFESIONAL | J15: CUMPLE | K15: NOMBRE DE DOCUMENTO EN LA OFERTA | L15: FOLIO | M15: OBSERVACIÓN
C17: Presenta Formato 10 – Experiencia específica adicional del Profesional Financiero | I17: SI | J17: 1 | K17: Formato 10 | L17: 1 | M17: ACLARACIÓN CUMPLIDA: el Formato 10 identifica expresamente a JOSÉ EDISSON JAIMES VILLALOBOS, C.C. 79.923.449, como profesional asociado a la experiencia ya soportada en la oferta. La aclaración no adiciona, sustituye ni mejora la experiencia presentada.
C19: DOCUMENTOS APORTADO PARA LA ACREDITACIÓN DE EXPERIENCIA | H19: CERTIFICADOS LABORALES | I19: SI | J19: =IF(I19="SI",1,(IF(I19="NO APLICA",-1,0))) -> 1 | K19: Formato 10 y soportes | L19: 1
C21: Contratante | G21: CONSORCIO INTERPUERTOS | I21: SI | J21: =IF(I21="SI",1,(IF(I21="NO APLICA",-1,0))) -> 1 | K21: =+K19 -> Formato 10 y soportes | L21: 1
C22: Contratista | G22: JOSÉ EDISSON JAIMES VILLALOBOS | I22: SI | J22: =IF(I22="SI",1,(IF(I22="NO APLICA",-1,0))) -> 1 | K22: =+K19 -> Formato 10 y soportes | L22: 1
C23: Objeto del contrato o Actividades u obligaciones desarrolladas | G23: Experiencia financiera adicional en interventoría de concesión portuaria. | I23: SI | J23: =IF(I23="SI",1,(IF(I23="NO APLICA",-1,0))) -> 1 | K23: =+K19 -> Formato 10 y soportes | L23: 1
C24: Número del Contrato | G24: SEA-15-2012
C25: Fecha de inicio de la ejecución del Contrato | H25: 43344 | I25: SI | J25: =IF(I25="SI",1,(IF(I25="NO APLICA",-1,0))) -> 1 | K25: =+K19 -> Formato 10 y soportes | L25: 1 | O25: Años Exp Profesional
C26: Fecha de terminación de la ejecución del Contrato | H26: 44149 | I26: SI | J26: =IF(I26="SI",1,(IF(I26="NO APLICA",-1,0))) -> 1 | K26: =+K19 -> Formato 10 y soportes | L26: 1 | O26: =+(H26-H25)/360 -> 2.2361111
C27: Nombre y cargo de la persona que expide la certificación | H27: Representante / certificación aportada | I27: SI | J27: =IF(I27="SI",1,(IF(I27="NO APLICA",-1,0))) -> 1 | K27: =+K19 -> Formato 10 y soportes | L27: 1
C28: Dato de contacto (número telefónico o número celular o correo electrónico) | H28: Datos incluidos en la certificación | I28: SI | J28: =IF(I28="SI",1,(IF(I28="NO APLICA",-1,0))) -> 1 | K28: =+K19 -> Formato 10 y soportes | L28: 1
C30: Fotocopia legible del contrato laboral y/o de prestación de servicios suscrito entre el proponente y la persona, a través del cual se evidencie el vínculo contractual para el periodo de la certificación que se pretende acreditar. En caso de no existir contrato suscrito, deberá allegar una certificación de la junta directiva o junta de socios (la que corresponda) acompañada del visto bueno del revisor fiscal o contador (según corresponda). | I30: SI | J30: =IF(I30="SI",1,(IF(I30="NO APLICA",-1,0))) -> 1 | K30: =+K28 -> Formato 10 y soportes | L30: 1
B32: 4.3.2 Experiencia Específica: | C32: CARGO QUE DESEMPEÑO | H32: PROFESIONAL FINANCIERO | I32: SI | J32: =IF(I32="SI",1,(IF(I32="NO APLICA",-1,0))) -> 1 | K32: =+K26 -> Formato 10 y soportes | L32: 1
C33: Nota: | D33: Nota: En caso de que la certificación no contenga la totalidad de la información requerida, el profesional deberá de manera adicional allegar el contrato del proyecto donde se evidencie la experiencia solicitada. | I33: NO APLICA | J33: =IF(I33="SI",1,(IF(I33="NO APLICA",-1,0))) -> -1
B35: =B11 -> 1
I36: CUMPLE DOCUMENTALMENTE
H38: 15 PUNTOS DOCUMENTALES / 0 PUNTOS EFECTIVOS
B40: La aclaración satisface lo solicitado en la Nota 7 del numeral 5.1.3: identifica a José Edisson Jaimes Villalobos y se refiere a los soportes aportados con la oferta, que acreditan más de dos años adicionales en un solo proyecto de concesión. El factor cumpliría documentalmente y correspondería a 15 puntos; no obstante, al resultar la propuesta NO HABILITADA TÉCNICAMENTE, no genera puntaje efectivo.

Sheet RESUMEN DEFINITIVO
A1: EVALUACIÓN TÉCNICA DEFINITIVA - CONSORCIO INTERAPP CAMPÍN
A2: Proceso IDRD-SG-CM-012-2026 | Pliego definitivo y Adenda No. 1
A3: Resolución 1064: traslado especial para garantizar contradicción. Artículo 5 de la Ley 1150 de 2007, modificado por la Ley 1882 de 2018: puede aclararse la prueba de condiciones habilitantes preexistentes, sin crear experiencia, modificar la oferta ni mejorar factores ponderables.
A4: Numeral | B4: Requisito | C4: Resultado | D4: Puntaje | E4: Soporte principal | F4: Observación | G4: Tratamiento
A5: 4.3.1 | B5: Experiencia habilitante del proponente | C5: CUMPLE | E5: Formato 5, RUP y cinco contratos | F5: Total válido: 8.674,82 SMMLV. Con presupuesto de 853,53 SMMLV: INCOPLAN exige 657,22; INGEPLAN 110,96; ICP 85,35. Los tres integrantes superan su proporción. | G5: Habilitante cumplido
A6: 4.3.2 | B6: Formato de personal mínimo | C6: CUMPLE | E6: Formato 6 | F6: Documento firmado, siete perfiles y compromiso mínimo 50% de mujeres. | G6: Habilitante
A7: 4.3.2 - Perfil 1 | B7: Director de Interventoría | C7: NO CUMPLE | E7: Soportes de Fabian Jaramillo Sermeño | F7: La aclaración fue oportuna, pero no resuelve la divergencia entre los cargos directivos y de residencia ni delimita el periodo verificable de actividades como director y/o líder. Los argumentos y antecedentes aportados no acreditan por sí mismos el mínimo de siete años y el proponente no allegó lo señalado en el inciso 3 del numeral 4.3.1, documentos de acreditación de la experiencia de los profesionales del pliego de condiciones del proceso, modificado a través de la adenda No. 1, lo que no permitió eventualmente hacer verificación la participación efectiva del profesional en la ejecución del proyecto y el desempeño del cargo exigido en el proyecto. | G7: Habilitante no cumplido
A8: 4.3.2 - Perfil 5 | B8: Profesional Financiero | C8: CUMPLE | E8: Soportes de José Edisson Jaimes Villalobos | F8: Cumple formación y 4,38 años específicos. | G8: Habilitante
A9: 4.3.3.1 | B9: Aceptación de especificaciones técnicas | C9: CUMPLE | E9: Formato 7 | F9: Documento aportado y suscrito; acepta adendas. | G9: Habilitante
A10: 5.1.1 | B10: Experiencia ponderable del proponente | C10: NO PARTICIPA | D10: 0 | E10: Cinco contratos | F10: No participa en la comparación por no resultar habilitado técnicamente. | G10: Sin puntaje efectivo
