Workbook

Sheet SERIE DE EMPALME
A3: Total, Indice de Precios al Consumidor (IPC)
A5: Índices - Serie de empalme 2003 - 2026
Y8: Base Diciembre de 2018 = 100,00
A9: Mes | B9: 2003 | C9: 2004 | D9: 2005 | E9: 2006 | F9: 2007 | G9: 2008 | H9: 2009 | I9: 2010 | J9: 2011 | K9: 2012 | L9: 2013 | M9: 2014 | N9: 2015 | O9: 2016 | P9: 2017 | Q9: 2018 | R9: 2019 | S9: 2020 | T9: 2021 | U9: 2022 | V9: 2023 | W9: 2024 | X9: 2025 | Y9: 2026
A10: Enero | B10: 50.42 | C10: 53.54 | D10: 56.45 | E10: 59.02 | F10: 61.8 | G10: 65.51 | H10: 70.21 | I10: 71.69 | J10: 74.12 | K10: 76.75 | L10: 78.28 | M10: 79.95 | N10: 83 | O10: 89.19 | P10: 94.07 | Q10: 97.53 | R10: 100.6 | S10: 104.24 | T10: 105.91 | U10: 113.26 | V10: 128.27 | W10: 138.98 | X10: 146.24 | Y10: 154.07
A11: Febrero | B11: 50.98 | C11: 54.18 | D11: 57.02 | E11: 59.41 | F11: 62.53 | G11: 66.5 | H11: 70.8 | I11: 72.28 | J11: 74.57 | K11: 77.22 | L11: 78.63 | M11: 80.45 | N11: 83.96 | O11: 90.33 | P11: 95.01 | Q11: 98.22 | R11: 101.18 | S11: 104.94 | T11: 106.58 | U11: 115.11 | V11: 130.4 | W11: 140.49 | X11: 147.9 | Y11: 155.73
A12: Marzo | B12: 51.51 | C12: 54.71 | D12: 57.46 | E12: 59.83 | F12: 63.29 | G12: 67.04 | H12: 71.15 | I12: 72.46 | J12: 74.77 | K12: 77.31 | L12: 78.79 | M12: 80.77 | N12: 84.45 | O12: 91.18 | P12: 95.46 | Q12: 98.45 | R12: 101.62 | S12: 105.53 | T12: 107.12 | U12: 116.26 | V12: 131.77 | W12: 141.48 | X12: 148.68 | Y12: 156.94
A13: Abril | B13: 52.1 | C13: 54.96 | D13: 57.72 | E13: 60.09 | F13: 63.85 | G13: 67.51 | H13: 71.38 | I13: 72.79 | J13: 74.86 | K13: 77.42 | L13: 78.99 | M13: 81.14 | N13: 84.9 | O13: 91.63 | P13: 95.91 | Q13: 98.91 | R13: 102.12 | S13: 105.7 | T13: 107.76 | U13: 117.71 | V13: 132.8 | W13: 142.32 | X13: 149.66 | Y13: 158.17
A14: Mayo | B14: 52.36 | C14: 55.17 | D14: 57.95 | E14: 60.29 | F14: 64.05 | G14: 68.14 | H14: 71.39 | I14: 72.87 | J14: 75.07 | K14: 77.66 | L14: 79.21 | M14: 81.53 | N14: 85.12 | O14: 92.1 | P14: 96.12 | Q14: 99.16 | R14: 102.44 | S14: 105.36 | T14: 108.84 | U14: 118.7 | V14: 133.38 | W14: 142.92 | X14: 150.14
A15: Junio | B15: 52.33 | C15: 55.51 | D15: 58.18 | E15: 60.48 | F15: 64.12 | G15: 68.73 | H15: 71.35 | I15: 72.95 | J15: 75.31 | K15: 77.72 | L15: 79.39 | M15: 81.61 | N15: 85.21 | O15: 92.54 | P15: 96.23 | Q15: 99.31 | R15: 102.71 | S15: 104.97 | T15: 108.78 | U15: 119.31 | V15: 133.78 | W15: 143.38 | X15: 150.3
A16: Julio | B16: 52.26 | C16: 55.49 | D16: 58.21 | E16: 60.73 | F16: 64.23 | G16: 69.06 | H16: 71.32 | I16: 72.92 | J16: 75.42 | K16: 77.7 | L16: 79.43 | M16: 81.73 | N16: 85.37 | O16: 93.02 | P16: 96.18 | Q16: 99.18 | R16: 102.94 | S16: 104.97 | T16: 109.14 | U16: 120.27 | V16: 134.45 | W16: 143.67 | X16: 150.71
A17: Agosto | B17: 52.42 | C17: 55.51 | D17: 58.21 | E17: 60.96 | F17: 64.14 | G17: 69.19 | H17: 71.35 | I17: 73 | J17: 75.39 | K17: 77.73 | L17: 79.5 | M17: 81.9 | N17: 85.78 | O17: 92.73 | P17: 96.32 | Q17: 99.3 | R17: 103.03 | S17: 104.96 | T17: 109.62 | U17: 121.5 | V17: 135.39 | W17: 143.67 | X17: 150.99
A18: Septiembre | B18: 52.53 | C18: 55.67 | D18: 58.46 | E18: 61.14 | F18: 64.2 | G18: 69.06 | H18: 71.28 | I18: 72.9 | J18: 75.62 | K18: 77.96 | L18: 79.73 | M18: 82.01 | N18: 86.39 | O18: 92.68 | P18: 96.36 | Q18: 99.47 | R18: 103.26 | S18: 105.29 | T18: 110.04 | U18: 122.63 | V18: 136.11 | W18: 144.02 | X18: 151.48
A19: Octubre | B19: 52.56 | C19: 55.66 | D19: 58.6 | E19: 61.05 | F19: 64.2 | G19: 69.3 | H19: 71.19 | I19: 72.84 | J19: 75.77 | K19: 78.08 | L19: 79.52 | M19: 82.14 | N19: 86.98 | O19: 92.62 | P19: 96.37 | Q19: 99.59 | R19: 103.43 | S19: 105.23 | T19: 110.06 | U19: 123.51 | V19: 136.45 | W19: 143.83 | X19: 151.76
A20: Noviembre | B20: 52.75 | C20: 55.82 | D20: 58.66 | E20: 61.19 | F20: 64.51 | G20: 69.49 | H20: 71.14 | I20: 72.98 | J20: 75.87 | K20: 77.98 | L20: 79.35 | M20: 82.25 | N20: 87.51 | O20: 92.73 | P20: 96.55 | Q20: 99.7 | R20: 103.54 | S20: 105.08 | T20: 110.6 | U20: 124.46 | V20: 137.09 | W20: 144.22 | X20: 151.87
A21: Diciembre | B21: 53.07 | C21: 55.99 | D21: 58.7 | E21: 61.33 | F21: 64.82 | G21: 69.8 | H21: 71.2 | I21: 73.45 | J21: 76.19 | K21: 78.05 | L21: 79.56 | M21: 82.47 | N21: 88.05 | O21: 93.11 | P21: 96.92 | Q21: 100 | R21: 103.8 | S21: 105.48 | T21: 111.41 | U21: 126.03 | V21: 137.72 | W21: 144.88 | X21: 152.27
A24: Fuente: DANE.
A25: Nota: La diferencia en la suma de las variables, obedece al sistema de aproximación y redondeo.
A26: Actualizado el 8 de Mayo de 2026

Sheet OFERTA REPUESTOS
A1: PRECIOS DE REFERENCIA REPUESTOS Y CONSUMIBLES (INDEXACIÓN SERIE DE EMPALME)
D3: HYUNDAI ACCENT GL I25 SEDAN MODELO 2013 - GASOLINA | G3: CHEVROLET JOY SEDAN MODELO 2022 - GASOLINA | J3: TOYOTA 4 RUNNER STATION WAGON MODELO 2009 - GASOLINA | M3: TOYOTA PRADO TX CAMPERO MODELO 2015 - DIESEL | P3: CHEVROLET VITARA 1.600 C.C. CAMPERO MODELO 2007 - GASOLINA | S3: FORD RANGER XLT AT 4X4 MODELO 2023 - DIESEL | V3: CHEVROLET COLORADO 4X4 MODELO 2026 - DIESEL
A4: No. | B4: DESCRIPCION | C4: TIPO | D4: Precio de referencia incluido IVA 2024 | E4: Valor con IVA ajustado con serie de empalme a 2026 | F4: VALOR ANTES DE IVA 2026 | G4: Precio de referencia incluido IVA 2024 | H4: Valor con IVA ajustado con serie de empalme a 2026 | I4: VALOR ANTES DE IVA 2026 | J4: Precio de referencia incluido IVA 2024 | K4: Valor con IVA ajustado con serie de empalme a 2026 | L4: Valor con IVA ajustado con serie de empalme a 2026 | M4: Valor con IVA ajustado con serie de empalme a 2026 | N4: Valor con IVA ajustado con serie de empalme a 2026 | O4: Valor con IVA ajustado con serie de empalme a 2026 | P4: Valor con IVA ajustado con serie de empalme a 2026 | Q4: Valor con IVA ajustado con serie de empalme a 2026 | R4: Valor con IVA ajustado con serie de empalme a 2026 | S4: Valor con IVA ajustado con serie de empalme a 2026 | T4: Valor con IVA ajustado con serie de empalme a 2026 | U4: Valor con IVA ajustado con serie de empalme a 2026 | V4: Valor con IVA ajustado con serie de empalme a 2026 | W4: VALOR ANTES DE IVA 2026
A5: 1 | B5: 1/4 ACEITE CAJA | C5: INSUMO | D5: 25005 | E5: =D5*1.052*1.051*1.0387 -> 28716.761 | F5: =E5/1.19 -> 24131.732 | G5: 25005 | H5: =G5*1.052*1.051*1.0387 -> 28716.761 | I5: =H5/1.19 -> 24131.732 | J5: 25005 | K5: =J5*1.052*1.051*1.0387 -> 28716.761 | L5: =K5/1.19 -> 24131.732 | M5: 25005 | N5: =M5*1.052*1.051*1.0387 -> 28716.761 | O5: =N5/1.19 -> 24131.732 | P5: 25005 | Q5: =P5*1.052*1.051*1.0387 -> 28716.761 | R5: =Q5/1.19 -> 24131.732 | S5: 0 | T5: 28716.761 | U5: =T5/1.19 -> 24131.732 | V5: 28716.761 | W5: 24131.732
A6: 2 | B6: 1/4 ACEITE HIDRAULICO DIRECCION | C6: INSUMO | D6: 25005 | E6: =D6*1.052*1.051*1.0387 -> 28716.761 | F6: =E6/1.19 -> 24131.732 | G6: 25005 | H6: =G6*1.052*1.051*1.0387 -> 28716.761 | I6: =H6/1.19 -> 24131.732 | J6: 25005 | K6: =J6*1.052*1.051*1.0387 -> 28716.761 | L6: =K6/1.19 -> 24131.732 | M6: 25005 | N6: =M6*1.052*1.051*1.0387 -> 28716.761 | O6: =N6/1.19 -> 24131.732 | P6: 25005 | Q6: =P6*1.052*1.051*1.0387 -> 28716.761 | R6: =Q6/1.19 -> 24131.732 | S6: 0 | T6: 28716.761 | U6: =T6/1.19 -> 24131.732 | V6: 28716.761 | W6: 24131.732
A7: 3 | B7: 1/4 ACEITE MOTOR | C7: INSUMO | D7: 25005 | E7: =D7*1.052*1.051*1.0387 -> 28716.761 | F7: =E7/1.19 -> 24131.732 | G7: 25005 | H7: =G7*1.052*1.051*1.0387 -> 28716.761 | I7: =H7/1.19 -> 24131.732 | J7: 25005 | K7: =J7*1.052*1.051*1.0387 -> 28716.761 | L7: =K7/1.19 -> 24131.732 | M7: 25005 | N7: =M7*1.052*1.051*1.0387 -> 28716.761 | O7: =N7/1.19 -> 24131.732 | P7: 25005 | Q7: =P7*1.052*1.051*1.0387 -> 28716.761 | R7: =Q7/1.19 -> 24131.732 | S7: 0 | T7: 28716.761 | U7: =T7/1.19 -> 24131.732 | V7: 28716.761 | W7: 24131.732
A8: 4 | B8: 1/4 ACEITE TRANSMISIÓN | C8: INSUMO | D8: 25005 | E8: =D8*1.052*1.051*1.0387 -> 28716.761 | F8: =E8/1.19 -> 24131.732 | G8: 25005 | H8: =G8*1.052*1.051*1.0387 -> 28716.761 | I8: =H8/1.19 -> 24131.732 | J8: 25005 | K8: =J8*1.052*1.051*1.0387 -> 28716.761 | L8: =K8/1.19 -> 24131.732 | M8: 25005 | N8: =M8*1.052*1.051*1.0387 -> 28716.761 | O8: =N8/1.19 -> 24131.732 | P8: 25005 | Q8: =P8*1.052*1.051*1.0387 -> 28716.761 | R8: =Q8/1.19 -> 24131.732 | S8: 0 | T8: 28716.761 | U8: =T8/1.19 -> 24131.732 | V8: 28716.761 | W8: 24131.732
A9: 5 | B9: 1/4 VALVULINA | C9: INSUMO | D9: 25005 | E9: =D9*1.052*1.051*1.0387 -> 28716.761 | F9: =E9/1.19 -> 24131.732 | G9: 25005 | H9: =G9*1.052*1.051*1.0387 -> 28716.761 | I9: =H9/1.19 -> 24131.732 | J9: 25005 | K9: =J9*1.052*1.051*1.0387 -> 28716.761 | L9: =K9/1.19 -> 24131.732 | M9: 25005 | N9: =M9*1.052*1.051*1.0387 -> 28716.761 | O9: =N9/1.19 -> 24131.732 | P9: 25005 | Q9: =P9*1.052*1.051*1.0387 -> 28716.761 | R9: =Q9/1.19 -> 24131.732 | S9: 0 | T9: 28716.761 | U9: =T9/1.19 -> 24131.732 | V9: 28716.761 | W9: 24131.732
A10: 6 | B10: ABRAZADERA METALICA GRANDE | C10: INSUMO | D10: 9024 | E10: =D10*1.052*1.051*1.0387 -> 10363.529 | F10: =E10/1.19 -> 8708.848 | G10: 9024 | H10: =G10*1.052*1.051*1.0387 -> 10363.529 | I10: =H10/1.19 -> 8708.848 | J10: 9024 | K10: =J10*1.052*1.051*1.0387 -> 10363.529 | L10: =K10/1.19 -> 8708.848 | M10: 9024 | N10: =M10*1.052*1.051*1.0387 -> 10363.529 | O10: =N10/1.19 -> 8708.848 | P10: 9024 | Q10: =P10*1.052*1.051*1.0387 -> 10363.529 | R10: =Q10/1.19 -> 8708.848 | S10: 9024 | T10: =S10*1.052*1.051*1.0387 -> 10363.529 | U10: =T10/1.19 -> 8708.848 | V10: 10363.529 | W10: 8708.848
A11: 7 | B11: ABRAZADERA METALICA PEQUEÑA | C11: INSUMO | D11: 7073 | E11: =D11*1.052*1.051*1.0387 -> 8122.9213 | F11: =E11/1.19 -> 6825.9843 | G11: 7073 | H11: =G11*1.052*1.051*1.0387 -> 8122.9213 | I11: =H11/1.19 -> 6825.9843 | J11: 7073 | K11: =J11*1.052*1.051*1.0387 -> 8122.9213 | L11: =K11/1.19 -> 6825.9843 | M11: 7073 | N11: =M11*1.052*1.051*1.0387 -> 8122.9213 | O11: =N11/1.19 -> 6825.9843 | P11: 7073 | Q11: =P11*1.052*1.051*1.0387 -> 8122.9213 | R11: =Q11/1.19 -> 6825.9843 | S11: 7073 | T11: =S11*1.052*1.051*1.0387 -> 8122.9213 | U11: =T11/1.19 -> 6825.9843 | V11: 8122.9213 | W11: 6825.9843
A12: 8 | B12: ABRAZADERA PLASTICA GRANDE | C12: INSUMO | D12: 4634 | E12: =D12*1.052*1.051*1.0387 -> 5321.8744 | F12: =E12/1.19 -> 4472.1633 | G12: 4634 | H12: =G12*1.052*1.051*1.0387 -> 5321.8744 | I12: =H12/1.19 -> 4472.1633 | J12: 4634 | K12: =J12*1.052*1.051*1.0387 -> 5321.8744 | L12: =K12/1.19 -> 4472.1633 | M12: 4634 | N12: =M12*1.052*1.051*1.0387 -> 5321.8744 | O12: =N12/1.19 -> 4472.1633 | P12: 4634 | Q12: =P12*1.052*1.051*1.0387 -> 5321.8744 | R12: =Q12/1.19 -> 4472.1633 | S12: 4634 | T12: =S12*1.052*1.051*1.0387 -> 5321.8744 | U12: =T12/1.19 -> 4472.1633 | V12: 5321.8744 | W12: 4472.1633
A13: 9 | B13: ABRAZADERA PLASTICA MEDIANA | C13: INSUMO | D13: 3658 | E13: =D13*1.052*1.051*1.0387 -> 4200.9962 | F13: =E13/1.19 -> 3530.2489 | G13: 3658 | H13: =G13*1.052*1.051*1.0387 -> 4200.9962 | I13: =H13/1.19 -> 3530.2489 | J13: 3658 | K13: =J13*1.052*1.051*1.0387 -> 4200.9962 | L13: =K13/1.19 -> 3530.2489 | M13: 3658 | N13: =M13*1.052*1.051*1.0387 -> 4200.9962 | O13: =N13/1.19 -> 3530.2489 | P13: 3658 | Q13: =P13*1.052*1.051*1.0387 -> 4200.9962 | R13: =Q13/1.19 -> 3530.2489 | S13: 3658 | T13: =S13*1.052*1.051*1.0387 -> 4200.9962 | U13: =T13/1.19 -> 3530.2489 | V13: 4200.9962 | W13: 3530.2489
A14: 10 | B14: ADBLUE (UREA x GALÓN) | C14: INSUMO | D14: 0 | E14: =D14*1.052*1.051*1.0387 -> 0 | F14: =E14/1.19 -> 0 | G14: 0 | H14: =G14*1.052*1.051*1.0387 -> 0 | I14: =H14/1.19 -> 0 | J14: 0 | K14: =J14*1.052*1.051*1.0387 -> 0 | L14: =K14/1.19 -> 0 | M14: 0 | N14: =M14*1.052*1.051*1.0387 -> 0 | O14: =N14/1.19 -> 0 | P14: 0 | Q14: =P14*1.052*1.051*1.0387 -> 0 | R14: =Q14/1.19 -> 0 | S14: 63413 | T14: =S14*1.052*1.051*1.0387 -> 72826.072 | U14: =T14/1.19 -> 61198.38 | V14: 72826.072 | W14: 61198.38
A15: 11 | B15: ADITIVO LIMPIADOR DE INYECTORES | C15: INSUMO | D15: 61950 | E15: =D15*1.052*1.051*1.0387 -> 71145.903 | F15: =E15/1.19 -> 59786.473 | G15: 61950 | H15: =G15*1.052*1.051*1.0387 -> 71145.903 | I15: =H15/1.19 -> 59786.473 | J15: 61950 | K15: =J15*1.052*1.051*1.0387 -> 71145.903 | L15: =K15/1.19 -> 59786.473 | M15: 61950 | N15: =M15*1.052*1.051*1.0387 -> 71145.903 | O15: =N15/1.19 -> 59786.473 | P15: 61950 | Q15: =P15*1.052*1.051*1.0387 -> 71145.903 | R15: =Q15/1.19 -> 59786.473 | S15: 0 | T15: =S15*1.052*1.051*1.0387 -> 0 | U15: =T15/1.19 -> 0 | V15: 71145.903 | W15: 59786.473
A16: 12 | B16: ADITIVO LIQUIDO LIMPIAPARABRISAS | C16: INSUMO | D16: 37072 | E16: =D16*1.052*1.051*1.0387 -> 42574.995 | F16: =E16/1.19 -> 35777.307 | G16: 37072 | H16: =G16*1.052*1.051*1.0387 -> 42574.995 | I16: =H16/1.19 -> 35777.307 | J16: 37072 | K16: =J16*1.052*1.051*1.0387 -> 42574.995 | L16: =K16/1.19 -> 35777.307 | M16: 37072 | N16: =M16*1.052*1.051*1.0387 -> 42574.995 | O16: =N16/1.19 -> 35777.307 | P16: 37072 | Q16: =P16*1.052*1.051*1.0387 -> 42574.995 | R16: =Q16/1.19 -> 35777.307 | S16: 37072 | T16: =S16*1.052*1.051*1.0387 -> 42574.995 | U16: =T16/1.19 -> 35777.307 | V16: 42574.995 | W16: 35777.307
A17: 13 | B17: AGUA BATERIA - UNIDAD | C17: INSUMO | D17: 16098 | E17: =D17*1.052*1.051*1.0387 -> 18487.599 | F17: =E17/1.19 -> 15535.797 | G17: 16098 | H17: =G17*1.052*1.051*1.0387 -> 18487.599 | I17: =H17/1.19 -> 15535.797 | J17: 16098 | K17: =J17*1.052*1.051*1.0387 -> 18487.599 | L17: =K17/1.19 -> 15535.797 | M17: 16098 | N17: =M17*1.052*1.051*1.0387 -> 18487.599 | O17: =N17/1.19 -> 15535.797 | P17: 16098 | Q17: =P17*1.052*1.051*1.0387 -> 18487.599 | R17: =Q17/1.19 -> 15535.797 | S17: 0 | T17: =S17*1.052*1.051*1.0387 -> 0 | U17: =T17/1.19 -> 0 | V17: 18487.599 | W17: 15535.797
A18: 14 | B18: ANILLLOS ANTISULFATANTES BATERIA - JUEGO | C18: INSUMO | D18: 7073 | E18: =D18*1.052*1.051*1.0387 -> 8122.9213 | F18: =E18/1.19 -> 6825.9843 | G18: 7073 | H18: =G18*1.052*1.051*1.0387 -> 8122.9213 | I18: =H18/1.19 -> 6825.9843 | J18: 7073 | K18: =J18*1.052*1.051*1.0387 -> 8122.9213 | L18: =K18/1.19 -> 6825.9843 | M18: 7073 | N18: =M18*1.052*1.051*1.0387 -> 8122.9213 | O18: =N18/1.19 -> 6825.9843 | P18: 7073 | Q18: =P18*1.052*1.051*1.0387 -> 8122.9213 | R18: =Q18/1.19 -> 6825.9843 | S18: 0 | T18: =S18*1.052*1.051*1.0387 -> 0 | U18: =T18/1.19 -> 0 | V18: 8122.9213 | W18: 6825.9843
A19: 15 | B19: BOMBILLO 1 FILAMENTO | C19: INSUMO | D19: 9024 | E19: =D19*1.052*1.051*1.0387 -> 10363.529 | F19: =E19/1.19 -> 8708.848 | G19: 9024 | H19: =G19*1.052*1.051*1.0387 -> 10363.529 | I19: =H19/1.19 -> 8708.848 | J19: 9024 | K19: =J19*1.052*1.051*1.0387 -> 10363.529 | L19: =K19/1.19 -> 8708.848 | M19: 9024 | N19: =M19*1.052*1.051*1.0387 -> 10363.529 | O19: =N19/1.19 -> 8708.848 | P19: 9024 | Q19: =P19*1.052*1.051*1.0387 -> 10363.529 | R19: =Q19/1.19 -> 8708.848 | S19: 9024 | T19: =S19*1.052*1.051*1.0387 -> 10363.529 | U19: =T19/1.19 -> 8708.848 | V19: 10363.529 | W19: 8708.848
A20: 16 | B20: BOMBILLO 2 FILAMENTOS | C20: INSUMO | D20: 13463 | E20: =D20*1.052*1.051*1.0387 -> 15461.458 | F20: =E20/1.19 -> 12992.821 | G20: 13463 | H20: =G20*1.052*1.051*1.0387 -> 15461.458 | I20: =H20/1.19 -> 12992.821 | J20: 13463 | K20: =J20*1.052*1.051*1.0387 -> 15461.458 | L20: =K20/1.19 -> 12992.821 | M20: 13463 | N20: =M20*1.052*1.051*1.0387 -> 15461.458 | O20: =N20/1.19 -> 12992.821 | P20: 13463 | Q20: =P20*1.052*1.051*1.0387 -> 15461.458 | R20: =Q20/1.19 -> 12992.821 | S20: 13463 | T20: =S20*1.052*1.051*1.0387 -> 15461.458 | U20: =T20/1.19 -> 12992.821 | V20: 15461.458 | W20: 12992.821
A21: 17 | B21: BOMBILLO EXPLORADORA | C21: INSUMO | D21: 47804 | E21: =D21*1.052*1.051*1.0387 -> 54900.061 | F21: =E21/1.19 -> 46134.505 | G21: 47804 | H21: =G21*1.052*1.051*1.0387 -> 54900.061 | I21: =H21/1.19 -> 46134.505 | J21: 47804 | K21: =J21*1.052*1.051*1.0387 -> 54900.061 | L21: =K21/1.19 -> 46134.505 | M21: 47804 | N21: =M21*1.052*1.051*1.0387 -> 54900.061 | O21: =N21/1.19 -> 46134.505 | P21: 47804 | Q21: =P21*1.052*1.051*1.0387 -> 54900.061 | R21: =Q21/1.19 -> 46134.505 | S21: 47804 | T21: =S21*1.052*1.051*1.0387 -> 54900.061 | U21: =T21/1.19 -> 46134.505 | V21: 54900.061 | W21: 46134.505
... A34: 30 | B34: DESENGRASANTE | C34: INSUMO | D34: 37072 | E34: =D34*1.052*1.051*1.0387 -> 42574.995 | F34: =E34/1.19 -> 35777.307 | G34: 37072 | H34: =G34*1.052*1.051*1.0387 -> 42574.995 | I34: =H34/1.19 -> 35777.307 | J34: 37072 | K34: =J34*1.052*1.051*1.0387 -> 42574.995 | L34: =K34/1.19 -> 35777.307 | M34: 37072 | N34: =M34*1.052*1.051*1.0387 -> 42574.995 | O34: =N34/1.19 -> 35777.307 | P34: 37072 | Q34: =P34*1.052*1.051*1.0387 -> 42574.995 | R34: =Q34/1.19 -> 35777.307 | S34: 37072 | T34: =S34*1.052*1.051*1.0387 -> 42574.995 | U34: =T34/1.19 -> 35777.307 | V34: 42574.995 | W34: 35777.307
A35: 31 | B35: FUSIBLE DE 15 A | C35: INSUMO | D35: 19024 | E35: =D35*1.052*1.051*1.0387 -> 21847.936 | F35: =E35/1.19 -> 18359.61 | G35: 19024 | H35: =G35*1.052*1.051*1.0387 -> 21847.936 | I35: =H35/1.19 -> 18359.61 | J35: 19024 | K35: =J35*1.052*1.051*1.0387 -> 21847.936 | L35: =K35/1.19 -> 18359.61 | M35: 19024 | N35: =M35*1.052*1.051*1.0387 -> 21847.936 | O35: =N35/1.19 -> 18359.61 | P35: 19024 | Q35: =P35*1.052*1.051*1.0387 -> 21847.936 | R35: =Q35/1.19 -> 18359.61 | S35: 0 | T35: 21847.936 | U35: =T35/1.19 -> 18359.61 | V35: 21847.936 | W35: 18359.61
A36: 32 | B36: FUSIBLE DE 20 A | C36: INSUMO | D36: 19024 | E36: =D36*1.052*1.051*1.0387 -> 21847.936 | F36: =E36/1.19 -> 18359.61 | G36: 19024 | H36: =G36*1.052*1.051*1.0387 -> 21847.936 | I36: =H36/1.19 -> 18359.61 | J36: 19024 | K36: =J36*1.052*1.051*1.0387 -> 21847.936 | L36: =K36/1.19 -> 18359.61 | M36: 19024 | N36: =M36*1.052*1.051*1.0387 -> 21847.936 | O36: =N36/1.19 -> 18359.61 | P36: 19024 | Q36: =P36*1.052*1.051*1.0387 -> 21847.936 | R36: =Q36/1.19 -> 18359.61 | S36: 0 | T36: 21847.936 | U36: =T36/1.19 -> 18359.61 | V36: 21847.936 | W36: 18359.61
A37: 33 | B37: FUSIBLE DE 30 A | C37: INSUMO | D37: 19024 | E37: =D37*1.052*1.051*1.0387 -> 21847.936 | F37: =E37/1.19 -> 18359.61 | G37: 19024 | H37: =G37*1.052*1.051*1.0387 -> 21847.936 | I37: =H37/1.19 -> 18359.61 | J37: 19024 | K37: =J37*1.052*1.051*1.0387 -> 21847.936 | L37: =K37/1.19 -> 18359.61 | M37: 19024 | N37: =M37*1.052*1.051*1.0387 -> 21847.936 | O37: =N37/1.19 -> 18359.61 | P37: 19024 | Q37: =P37*1.052*1.051*1.0387 -> 21847.936 | R37: =Q37/1.19 -> 18359.61 | S37: 0 | T37: 21847.936 | U37: =T37/1.19 -> 18359.61 | V37: 21847.936 | W37: 18359.61
A38: 34 | B38: FUSIBLE MAXI DE 20 A | C38: INSUMO | D38: 19024 | E38: =D38*1.052*1.051*1.0387 -> 21847.936 | F38: =E38/1.19 -> 18359.61 | G38: 19024 | H38: =G38*1.052*1.051*1.0387 -> 21847.936 | I38: =H38/1.19 -> 18359.61 | J38: 19024 | K38: =J38*1.052*1.051*1.0387 -> 21847.936 | L38: =K38/1.19 -> 18359.61 | M38: 19024 | N38: =M38*1.052*1.051*1.0387 -> 21847.936 | O38: =N38/1.19 -> 18359.61 | P38: 19024 | Q38: =P38*1.052*1.051*1.0387 -> 21847.936 | R38: =Q38/1.19 -> 18359.61 | S38: 0 | T38: 21847.936 | U38: =T38/1.19 -> 18359.61 | V38: 21847.936 | W38: 18359.61
A39: 35 | B39: FUSIBLE PRINCIPAL ALTERNADOR | C39: INSUMO | D39: 37072 | E39: =D39*1.052*1.051*1.0387 -> 42574.995 | F39: =E39/1.19 -> 35777.307 | G39: 37072 | H39: =G39*1.052*1.051*1.0387 -> 42574.995 | I39: =H39/1.19 -> 35777.307 | J39: 37072 | K39: =J39*1.052*1.051*1.0387 -> 42574.995 | L39: =K39/1.19 -> 35777.307 | M39: 37072 | N39: =M39*1.052*1.051*1.0387 -> 42574.995 | O39: =N39/1.19 -> 35777.307 | P39: 37072 | Q39: =P39*1.052*1.051*1.0387 -> 42574.995 | R39: =Q39/1.19 -> 35777.307 | S39: 0 | T39: 42574.995 | U39: =T39/1.19 -> 35777.307 | V39: 42574.995 | W39: 35777.307
A40: 36 | B40: GALÓN LÍQUIDO REFRIGERANTE | C40: INSUMO | D40: 47804 | E40: =D40*1.052*1.051*1.0387 -> 54900.061 | F40: =E40/1.19 -> 46134.505 | G40: 47804 | H40: =G40*1.052*1.051*1.0387 -> 54900.061 | I40: =H40/1.19 -> 46134.505 | J40: 47804 | K40: =J40*1.052*1.051*1.0387 -> 54900.061 | L40: =K40/1.19 -> 46134.505 | M40: 47804 | N40: =M40*1.052*1.051*1.0387 -> 54900.061 | O40: =N40/1.19 -> 46134.505 | P40: 47804 | Q40: =P40*1.052*1.051*1.0387 -> 54900.061 | R40: =Q40/1.19 -> 46134.505 | S40: 47804 | T40: =S40*1.052*1.051*1.0387 -> 54900.061 | U40: =T40/1.19 -> 46134.505 | V40: 54900.061 | W40: 46134.505
A41: 37 | B41: GRASA ALTA TEMPERATURA | C41: INSUMO | D41: 29755 | E41: =D41*1.052*1.051*1.0387 -> 34171.854 | F41: =E41/1.19 -> 28715.844 | G41: 29755 | H41: =G41*1.052*1.051*1.0387 -> 34171.854 | I41: =H41/1.19 -> 28715.844 | J41: 29755 | K41: =J41*1.052*1.051*1.0387 -> 34171.854 | L41: =K41/1.19 -> 28715.844 | M41: 29755 | N41: =M41*1.052*1.051*1.0387 -> 34171.854 | O41: =N41/1.19 -> 28715.844 | P41: 29755 | Q41: =P41*1.052*1.051*1.0387 -> 34171.854 | R41: =Q41/1.19 -> 28715.844 | S41: 29755 | T41: =S41*1.052*1.051*1.0387 -> 34171.854 | U41: =T41/1.19 -> 28715.844 | V41: 34171.854 | W41: 28715.844
A42: 38 | B42: GRASA USO GENERAL | C42: INSUMO | D42: 29755 | E42: =D42*1.052*1.051*1.0387 -> 34171.854 | F42: =E42/1.19 -> 28715.844 | G42: 29755 | H42: =G42*1.052*1.051*1.0387 -> 34171.854 | I42: =H42/1.19 -> 28715.844 | J42: 29755 | K42: =J42*1.052*1.051*1.0387 -> 34171.854 | L42: =K42/1.19 -> 28715.844 | M42: 29755 | N42: =M42*1.052*1.051*1.0387 -> 34171.854 | O42: =N42/1.19 -> 28715.844 | P42: 29755 | Q42: =P42*1.052*1.051*1.0387 -> 34171.854 | R42: =Q42/1.19 -> 28715.844 | S42: 29755 | T42: =S42*1.052*1.051*1.0387 -> 34171.854 | U42: =T42/1.19 -> 28715.844 | V42: 34171.854 | W42: 28715.844
A43: 39 | B43: JUEGO DE TAPETES ANTIDESLIZANTE | C43: INSUMO | D43: 176094 | E43: =D43*1.052*1.051*1.0387 -> 202233.52 | F43: =E43/1.19 -> 169944.14 | G43: 176094 | H43: =G43*1.052*1.051*1.0387 -> 202233.52 | I43: =H43/1.19 -> 169944.14 | J43: 176094 | K43: =J43*1.052*1.051*1.0387 -> 202233.52 | L43: =K43/1.19 -> 169944.14 | M43: 176094 | N43: =M43*1.052*1.051*1.0387 -> 202233.52 | O43: =N43/1.19 -> 169944.14 | P43: 176094 | Q43: =P43*1.052*1.051*1.0387 -> 202233.52 | R43: =Q43/1.19 -> 169944.14 | S43: 176094 | T43: =S43*1.052*1.051*1.0387 -> 202233.52 | U43: =T43/1.19 -> 169944.14 | V43: 202233.52 | W43: 169944.14
A44: 40 | B44: LIMPIADOR C MARIPOSAS | C44: INSUMO | D44: 47804 | E44: =D44*1.052*1.051*1.0387 -> 54900.061 | F44: =E44/1.19 -> 46134.505 | G44: 47804 | H44: =G44*1.052*1.051*1.0387 -> 54900.061 | I44: =H44/1.19 -> 46134.505 | J44: 47804 | K44: =J44*1.052*1.051*1.0387 -> 54900.061 | L44: =K44/1.19 -> 46134.505 | M44: 47804 | N44: =M44*1.052*1.051*1.0387 -> 54900.061 | O44: =N44/1.19 -> 46134.505 | P44: 47804 | Q44: =P44*1.052*1.051*1.0387 -> 54900.061 | R44: =Q44/1.19 -> 46134.505 | S44: 0 | T44: =S44*1.052*1.051*1.0387 -> 0 | U44: =T44/1.19 -> 0 | V44: 54900.061 | W44: 46134.505
A45: 41 | B45: LIMPIADOR DE FRENOS | C45: INSUMO | D45: 26829 | E45: =D45*1.052*1.051*1.0387 -> 30811.516 | F45: =E45/1.19 -> 25892.031 | G45: 26829 | H45: =G45*1.052*1.051*1.0387 -> 30811.516 | I45: =H45/1.19 -> 25892.031 | J45: 26829 | K45: =J45*1.052*1.051*1.0387 -> 30811.516 | L45: =K45/1.19 -> 25892.031 | M45: 26829 | N45: =M45*1.052*1.051*1.0387 -> 30811.516 | O45: =N45/1.19 -> 25892.031 | P45: 26829 | Q45: =P45*1.052*1.051*1.0387 -> 30811.516 | R45: =Q45/1.19 -> 25892.031 | S45: 26829 | T45: =S45*1.052*1.051*1.0387 -> 30811.516 | U45: =T45/1.19 -> 25892.031 | V45: 30811.516 | W45: 25892.031
A46: 42 | B46: LIMPIADOR ELECTRONICO | C46: INSUMO | D46: 37072 | E46: =D46*1.052*1.051*1.0387 -> 42574.995 | F46: =E46/1.19 -> 35777.307 | G46: 37072 | H46: =G46*1.052*1.051*1.0387 -> 42574.995 | I46: =H46/1.19 -> 35777.307 | J46: 37072 | K46: =J46*1.052*1.051*1.0387 -> 42574.995 | L46: =K46/1.19 -> 35777.307 | M46: 37072 | N46: =M46*1.052*1.051*1.0387 -> 42574.995 | O46: =N46/1.19 -> 35777.307 | P46: 37072 | Q46: =P46*1.052*1.051*1.0387 -> 42574.995 | R46: =Q46/1.19 -> 35777.307 | S46: 37072 | T46: =S46*1.052*1.051*1.0387 -> 42574.995 | U46: =T46/1.19 -> 35777.307 | V46: 42574.995 | W46: 35777.307
A47: 43 | B47: LIMPIADOR INYECTORES | C47: INSUMO | D47: 57560 | E47: =D47*1.052*1.051*1.0387 -> 66104.249 | F47: =E47/1.19 -> 55549.789 | G47: 57560 | H47: =G47*1.052*1.051*1.0387 -> 66104.249 | I47: =H47/1.19 -> 55549.789 | J47: 57560 | K47: =J47*1.052*1.051*1.0387 -> 66104.249 | L47: =K47/1.19 -> 55549.789 | M47: 57560 | N47: =M47*1.052*1.051*1.0387 -> 66104.249 | O47: =N47/1.19 -> 55549.789 | P47: 57560 | Q47: =P47*1.052*1.051*1.0387 -> 66104.249 | R47: =Q47/1.19 -> 55549.789 | S47: 0 | T47: =S47*1.052*1.051*1.0387 -> 0 | U47: =T47/1.19 -> 0 | V47: 66104.249 | W47: 55549.789
A48: 44 | B48: LÍQUIDO DE FRENOS | C48: INSUMO | D48: 26829 | E48: =D48*1.052*1.051*1.0387 -> 30811.516 | F48: =E48/1.19 -> 25892.031 | G48: 26829 | H48: =G48*1.052*1.051*1.0387 -> 30811.516 | I48: =H48/1.19 -> 25892.031 | J48: 26829 | K48: =J48*1.052*1.051*1.0387 -> 30811.516 | L48: =K48/1.19 -> 25892.031 | M48: 26829 | N48: =M48*1.052*1.051*1.0387 -> 30811.516 | O48: =N48/1.19 -> 25892.031 | P48: 26829 | Q48: =P48*1.052*1.051*1.0387 -> 30811.516 | R48: =Q48/1.19 -> 25892.031 | S48: 26829 | T48: =S48*1.052*1.051*1.0387 -> 30811.516 | U48: =T48/1.19 -> 25892.031 | V48: 30811.516 | W48: 25892.031
A49: 45 | B49: ORING - UNIDAD | C49: INSUMO | D49: 13414 | E49: =D49*1.052*1.051*1.0387 -> 15405.184 | F49: =E49/1.19 -> 12945.533 | G49: 13414 | H49: =G49*1.052*1.051*1.0387 -> 15405.184 | I49: =H49/1.19 -> 12945.533 | J49: 13414 | K49: =J49*1.052*1.051*1.0387 -> 15405.184 | L49: =K49/1.19 -> 12945.533 | M49: 13414 | N49: =M49*1.052*1.051*1.0387 -> 15405.184 | O49: =N49/1.19 -> 12945.533 | P49: 13414 | Q49: =P49*1.052*1.051*1.0387 -> 15405.184 | R49: =Q49/1.19 -> 12945.533 | S49: 0 | T49: =S49*1.052*1.051*1.0387 -> 0 | U49: =T49/1.19 -> 0 | V49: 15405.184 | W49: 12945.533
A50: 46 | B50: PILA CONTROL ALARMA - UNIDAD | C50: INSUMO | D50: 19024 | E50: =D50*1.052*1.051*1.0387 -> 21847.936 | F50: =E50/1.19 -> 18359.61 | G50: 19024 | H50: =G50*1.052*1.051*1.0387 -> 21847.936 | I50: =H50/1.19 -> 18359.61 | J50: 19024 | K50: =J50*1.052*1.051*1.0387 -> 21847.936 | L50: =K50/1.19 -> 18359.61 | M50: 19024 | N50: =M50*1.052*1.051*1.0387 -> 21847.936 | O50: =N50/1.19 -> 18359.61 | P50: 19024 | Q50: =P50*1.052*1.051*1.0387 -> 21847.936 | R50: =Q50/1.19 -> 18359.61 | S50: 19024 | T50: =S50*1.052*1.051*1.0387 -> 21847.936 | U50: =T50/1.19 -> 18359.61 | V50: 21847.936 | W50: 18359.61
A51: 47 | B51: PORTAFUSIBLE | C51: INSUMO | D51: 37901 | E51: =D51*1.052*1.051*1.0387 -> 43527.052 | F51: =E51/1.19 -> 36577.355 | G51: 37901 | H51: =G51*1.052*1.051*1.0387 -> 43527.052 | I51: =H51/1.19 -> 36577.355 | J51: 37901 | K51: =J51*1.052*1.051*1.0387 -> 43527.052 | L51: =K51/1.19 -> 36577.355 | M51: 37901 | N51: =M51*1.052*1.051*1.0387 -> 43527.052 | O51: =N51/1.19 -> 36577.355 | P51: 37901 | Q51: =P51*1.052*1.051*1.0387 -> 43527.052 | R51: =Q51/1.19 -> 36577.355 | S51: 0 | T51: =S51*1.052*1.051*1.0387 -> 0 | U51: =T51/1.19 -> 0 | V51: 43527.052 | W51: 36577.355
... A55: 51 | B55: SOCKET CONECTOR ELECTRICO | C55: INSUMO | D55: 69266 | E55: =D55*1.052*1.051*1.0387 -> 79547.896 | F55: =E55/1.19 -> 66846.971 | G55: 69266 | H55: =G55*1.052*1.051*1.0387 -> 79547.896 | I55: =H55/1.19 -> 66846.971 | J55: 69266 | K55: =J55*1.052*1.051*1.0387 -> 79547.896 | L55: =K55/1.19 -> 66846.971 | M55: 69266 | N55: =M55*1.052*1.051*1.0387 -> 79547.896 | O55: =N55/1.19 -> 66846.971 | P55: 69266 | Q55: =P55*1.052*1.051*1.0387 -> 79547.896 | R55: =Q55/1.19 -> 66846.971 | S55: 0 | T55: =S55*1.052*1.051*1.0387 -> 0 | U55: =T55/1.19 -> 0 | V55: 79547.896 | W55: 66846.971
A56: 52 | B56: BANCO DE CHASIS | C56: SERVICIO | D56: 1049734 | E56: =D56*1.052*1.051*1.0387 -> 1205557.3 | F56: =E56/1.19 -> 1013073.3 | G56: 1049734 | H56: =G56*1.052*1.051*1.0387 -> 1205557.3 | I56: =H56/1.19 -> 1013073.3 | J56: 1049734 | K56: =J56*1.052*1.051*1.0387 -> 1205557.3 | L56: =K56/1.19 -> 1013073.3 | M56: 1049734 | N56: =M56*1.052*1.051*1.0387 -> 1205557.3 | O56: =N56/1.19 -> 1013073.3 | P56: 1049734 | Q56: =P56*1.052*1.051*1.0387 -> 1205557.3 | R56: =Q56/1.19 -> 1013073.3 | S56: 0 | T56: 1205557.3 | U56: =T56/1.19 -> 1013073.3 | V56: 1205557.3 | W56: 1013073.3
A57: 53 | B57: SERVICIO DE LABORATORIO DE INYECTORES | C57: SERVICIO | D57: 1049734 | E57: =D57*1.052*1.051*1.0387 -> 1205557.3 | F57: =E57/1.19 -> 1013073.3 | G57: 1049734 | H57: =G57*1.052*1.051*1.0387 -> 1205557.3 | I57: =H57/1.19 -> 1013073.3 | J57: 1049734 | K57: =J57*1.052*1.051*1.0387 -> 1205557.3 | L57: =K57/1.19 -> 1013073.3 | M57: 1049734 | N57: =M57*1.052*1.051*1.0387 -> 1205557.3 | O57: =N57/1.19 -> 1013073.3 | P57: 1049734 | Q57: =P57*1.052*1.051*1.0387 -> 1205557.3 | R57: =Q57/1.19 -> 1013073.3 | S57: 0 | T57: 1205557.3 | U57: =T57/1.19 -> 1013073.3 | V57: 1205557.3 | W57: 1013073.3
A58: 54 | B58: SERVICIO DE LABORATORIO PARA PRUEBA DE ACEITE | C58: SERVICIO | D58: 1049734 | E58: =D58*1.052*1.051*1.0387 -> 1205557.3 | F58: =E58/1.19 -> 1013073.3 | G58: 1049734 | H58: =G58*1.052*1.051*1.0387 -> 1205557.3 | I58: =H58/1.19 -> 1013073.3 | J58: 1049734 | K58: =J58*1.052*1.051*1.0387 -> 1205557.3 | L58: =K58/1.19 -> 1013073.3 | M58: 1049734 | N58: =M58*1.052*1.051*1.0387 -> 1205557.3 | O58: =N58/1.19 -> 1013073.3 | P58: 1049734 | Q58: =P58*1.052*1.051*1.0387 -> 1205557.3 | R58: =Q58/1.19 -> 1013073.3 | S58: 0 | T58: 1205557.3 | U58: =T58/1.19 -> 1013073.3 | V58: 1205557.3 | W58: 1013073.3
A59: 55 | B59: SERVICIO DE PRENSA HIDRAULICA | C59: SERVICIO | D59: 133168 | E59: =D59*1.052*1.051*1.0387 -> 152935.56 | F59: =E59/1.19 -> 128517.27 | G59: 133168 | H59: =G59*1.052*1.051*1.0387 -> 152935.56 | I59: =H59/1.19 -> 128517.27 | J59: 133168 | K59: =J59*1.052*1.051*1.0387 -> 152935.56 | L59: =K59/1.19 -> 128517.27 | M59: 133168 | N59: =M59*1.052*1.051*1.0387 -> 152935.56 | O59: =N59/1.19 -> 128517.27 | P59: 133168 | Q59: =P59*1.052*1.051*1.0387 -> 152935.56 | R59: =Q59/1.19 -> 128517.27 | S59: 0 | T59: 152935.56 | U59: =T59/1.19 -> 128517.27 | V59: 152935.56 | W59: 128517.27
A60: 56 | B60: SERVICIO DE RECTIFICACIÓN DE RIN | C60: SERVICIO | D60: 282434 | E60: =D60*1.052*1.051*1.0387 -> 324358.71 | F60: =E60/1.19 -> 272570.34 | G60: 282434 | H60: =G60*1.052*1.051*1.0387 -> 324358.71 | I60: =H60/1.19 -> 272570.34 | J60: 282434 | K60: =J60*1.052*1.051*1.0387 -> 324358.71 | L60: =K60/1.19 -> 272570.34 | M60: 282434 | N60: =M60*1.052*1.051*1.0387 -> 324358.71 | O60: =N60/1.19 -> 272570.34 | P60: 282434 | Q60: =P60*1.052*1.051*1.0387 -> 324358.71 | R60: =Q60/1.19 -> 272570.34 | S60: 282434 | T60: =S60*1.052*1.051*1.0387 -> 324358.71 | U60: =T60/1.19 -> 272570.34 | V60: 324358.71 | W60: 272570.34
A61: 57 | B61: ALARMA VEHICULO | C61: REPUESTO | D61: 367798 | E61: =D61*1.052*1.051*1.0387 -> 422394.2 | F61: =E61/1.19 -> 354953.11 | G61: 367798 | H61: =G61*1.052*1.051*1.0387 -> 422394.2 | I61: =H61/1.19 -> 354953.11 | J61: 367798 | K61: =J61*1.052*1.051*1.0387 -> 422394.2 | L61: =K61/1.19 -> 354953.11 | M61: 367798 | N61: =M61*1.052*1.051*1.0387 -> 422394.2 | O61: =N61/1.19 -> 354953.11 | P61: 367798 | Q61: =P61*1.052*1.051*1.0387 -> 422394.2 | R61: =Q61/1.19 -> 354953.11 | S61: 0 | T61: 422394.2 | U61: =T61/1.19 -> 354953.11 | V61: 422394.2 | W61: 354953.11
A62: 58 | B62: ALTERNADOR | C62: REPUESTO | D62: 1974106 | E62: =D62*1.052*1.051*1.0387 -> 2267143.7 | F62: =E62/1.19 -> 1905162.8 | G62: 1974106 | H62: =G62*1.052*1.051*1.0387 -> 2267143.7 | I62: =H62/1.19 -> 1905162.8 | J62: 1974106 | K62: =J62*1.052*1.051*1.0387 -> 2267143.7 | L62: =K62/1.19 -> 1905162.8 | M62: 1974106 | N62: =M62*1.052*1.051*1.0387 -> 2267143.7 | O62: =N62/1.19 -> 1905162.8 | P62: 1974106 | Q62: =P62*1.052*1.051*1.0387 -> 2267143.7 | R62: =Q62/1.19 -> 1905162.8 | S62: 0 | T62: 2267143.7 | U62: =T62/1.19 -> 1905162.8 | V62: 2267143.7 | W62: 1905162.8
A63: 59 | B63: AMORTIGUADOR DELANTERO DERECHO | C63: REPUESTO | D63: 340969 | E63: =D63*1.052*1.051*1.0387 -> 391582.69 | F63: =E63/1.19 -> 329061.08 | G63: 340969 | H63: =G63*1.052*1.051*1.0387 -> 391582.69 | I63: =H63/1.19 -> 329061.08 | J63: 449259 | K63: =J63*1.052*1.051*1.0387 -> 515947.33 | L63: =K63/1.19 -> 433569.19 | M63: 449259 | N63: =M63*1.052*1.051*1.0387 -> 515947.33 | O63: =N63/1.19 -> 433569.19 | P63: 350725 | Q63: =P63*1.052*1.051*1.0387 -> 402786.88 | R63: =Q63/1.19 -> 338476.37 | S63: 0 | T63: 402786.88 | U63: =T63/1.19 -> 338476.37 | V63: 402786.88 | W63: 338476.37
A64: 60 | B64: AMORTIGUADOR DELANTERO IZQUIERDO | C64: REPUESTO | D64: 340969 | E64: =D64*1.052*1.051*1.0387 -> 391582.69 | F64: =E64/1.19 -> 329061.08 | G64: 340969 | H64: =G64*1.052*1.051*1.0387 -> 391582.69 | I64: =H64/1.19 -> 329061.08 | J64: 449259 | K64: =J64*1.052*1.051*1.0387 -> 515947.33 | L64: =K64/1.19 -> 433569.19 | M64: 449259 | N64: =M64*1.052*1.051*1.0387 -> 515947.33 | O64: =N64/1.19 -> 433569.19 | P64: 350725 | Q64: =P64*1.052*1.051*1.0387 -> 402786.88 | R64: =Q64/1.19 -> 338476.37 | S64: 0 | T64: 402786.88 | U64: =T64/1.19 -> 338476.37 | V64: 402786.88 | W64: 338476.37
A65: 61 | B65: AMORTIGUADOR TRASERO DERECHO | C65: REPUESTO | D65: 340969 | E65: =D65*1.052*1.051*1.0387 -> 391582.69 | F65: =E65/1.19 -> 329061.08 | G65: 340969 | H65: =G65*1.052*1.051*1.0387 -> 391582.69 | I65: =H65/1.19 -> 329061.08 | J65: 449259 | K65: =J65*1.052*1.051*1.0387 -> 515947.33 | L65: =K65/1.19 -> 433569.19 | M65: 449259 | N65: =M65*1.052*1.051*1.0387 -> 515947.33 | O65: =N65/1.19 -> 433569.19 | P65: 350725 | Q65: =P65*1.052*1.051*1.0387 -> 402786.88 | R65: =Q65/1.19 -> 338476.37 | S65: 0 | T65: 402786.88 | U65: =T65/1.19 -> 338476.37 | V65: 402786.88 | W65: 338476.37
A66: 62 | B66: AMORTIGUADOR TRASERO IZQUIERDO | C66: REPUESTO | D66: 340969 | E66: =D66*1.052*1.051*1.0387 -> 391582.69 | F66: =E66/1.19 -> 329061.08 | G66: 340969 | H66: =G66*1.052*1.051*1.0387 -> 391582.69 | I66: =H66/1.19 -> 329061.08 | J66: 449259 | K66: =J66*1.052*1.051*1.0387 -> 515947.33 | L66: =K66/1.19 -> 433569.19 | M66: 449259 | N66: =M66*1.052*1.051*1.0387 -> 515947.33 | O66: =N66/1.19 -> 433569.19 | P66: 350725 | Q66: =P66*1.052*1.051*1.0387 -> 402786.88 | R66: =Q66/1.19 -> 338476.37 | S66: 0 | T66: 402786.88 | U66: =T66/1.19 -> 338476.37 | V66: 402786.88 | W66: 338476.37
A67: 63 | B67: ANILLOS DEL PISTON - JUEGO | C67: REPUESTO | D67: 485844 | E67: =D67*1.052*1.051*1.0387 -> 557963.04 | F67: =E67/1.19 -> 468876.5 | G67: 485844 | H67: =G67*1.052*1.051*1.0387 -> 557963.04 | I67: =H67/1.19 -> 468876.5 | J67: 485844 | K67: =J67*1.052*1.051*1.0387 -> 557963.04 | L67: =K67/1.19 -> 468876.5 | M67: 485844 | N67: =M67*1.052*1.051*1.0387 -> 557963.04 | O67: =N67/1.19 -> 468876.5 | P67: 485844 | Q67: =P67*1.052*1.051*1.0387 -> 557963.04 | R67: =Q67/1.19 -> 468876.5 | S67: 0 | T67: 557963.04 | U67: =T67/1.19 -> 468876.5 | V67: 557963.04 | W67: 468876.5
A68: 64 | B68: ANTIRUIDO PASTILLAS FRENO | C68: REPUESTO | D68: 57560 | E68: =D68*1.052*1.051*1.0387 -> 66104.249 | F68: =E68/1.19 -> 55549.789 | G68: 57560 | H68: =G68*1.052*1.051*1.0387 -> 66104.249 | I68: =H68/1.19 -> 55549.789 | J68: 57560 | K68: =J68*1.052*1.051*1.0387 -> 66104.249 | L68: =K68/1.19 -> 55549.789 | M68: 57560 | N68: =M68*1.052*1.051*1.0387 -> 66104.249 | O68: =N68/1.19 -> 55549.789 | P68: 57560 | Q68: =P68*1.052*1.051*1.0387 -> 66104.249 | R68: =Q68/1.19 -> 55549.789 | S68: 0 | T68: 66104.249 | U68: =T68/1.19 -> 55549.789 | V68: 66104.249 | W68: 55549.789
A69: 65 | B69: ARANDELA TAPÓN CARTER | C69: REPUESTO | D69: 4634 | E69: =D69*1.052*1.051*1.0387 -> 5321.8744 | F69: =E69/1.19 -> 4472.1633 | G69: 4634 | H69: =G69*1.052*1.051*1.0387 -> 5321.8744 | I69: =H69/1.19 -> 4472.1633 | J69: 4634 | K69: =J69*1.052*1.051*1.0387 -> 5321.8744 | L69: =K69/1.19 -> 4472.1633 | M69: 4634 | N69: =M69*1.052*1.051*1.0387 -> 5321.8744 | O69: =N69/1.19 -> 4472.1633 | P69: 4634 | Q69: =P69*1.052*1.051*1.0387 -> 5321.8744 | R69: =Q69/1.19 -> 4472.1633 | S69: 0 | T69: 5321.8744 | U69: =T69/1.19 -> 4472.1633 | V69: 5321.8744 | W69: 4472.1633
A70: 66 | B70: ARANDELAS DE AJUSTE - JUEGO | C70: REPUESTO | D70: 4634 | E70: =D70*1.052*1.051*1.0387 -> 5321.8744 | F70: =E70/1.19 -> 4472.1633 | G70: 4634 | H70: =G70*1.052*1.051*1.0387 -> 5321.8744 | I70: =H70/1.19 -> 4472.1633 | J70: 4634 | K70: =J70*1.052*1.051*1.0387 -> 5321.8744 | L70: =K70/1.19 -> 4472.1633 | M70: 4634 | N70: =M70*1.052*1.051*1.0387 -> 5321.8744 | O70: =N70/1.19 -> 4472.1633 | P70: 4634 | Q70: =P70*1.052*1.051*1.0387 -> 5321.8744 | R70: =Q70/1.19 -> 4472.1633 | S70: 0 | T70: 5321.8744 | U70: =T70/1.19 -> 4472.1633 | V70: 5321.8744 | W70: 4472.1633
A71: 67 | B71: ARBOL DE LEVAS | C71: REPUESTO | D71: 1332168 | E71: =D71*1.052*1.051*1.0387 -> 1529916 | F71: =E71/1.19 -> 1285643.7 | G71: 1332168 | H71: =G71*1.052*1.051*1.0387 -> 1529916 | I71: =H71/1.19 -> 1285643.7 | J71: 1332168 | K71: =J71*1.052*1.051*1.0387 -> 1529916 | L71: =K71/1.19 -> 1285643.7 | M71: 1332168 | N71: =M71*1.052*1.051*1.0387 -> 1529916 | O71: =N71/1.19 -> 1285643.7 | P71: 1332168 | Q71: =P71*1.052*1.051*1.0387 -> 1529916 | R71: =Q71/1.19 -> 1285643.7 | S71: 0 | T71: 1529916 | U71: =T71/1.19 -> 1285643.7 | V71: 1529916 | W71: 1285643.7
A72: 68 | B72: ARBOL DE LEVAS ADMISIÓN - UNIDAD | C72: REPUESTO | D72: 1332168 | E72: =D72*1.052*1.051*1.0387 -> 1529916 | F72: =E72/1.19 -> 1285643.7 | G72: 1332168 | H72: =G72*1.052*1.051*1.0387 -> 1529916 | I72: =H72/1.19 -> 1285643.7 | J72: 1332168 | K72: =J72*1.052*1.051*1.0387 -> 1529916 | L72: =K72/1.19 -> 1285643.7 | M72: 1332168 | N72: =M72*1.052*1.051*1.0387 -> 1529916 | O72: =N72/1.19 -> 1285643.7 | P72: 1332168 | Q72: =P72*1.052*1.051*1.0387 -> 1529916 | R72: =Q72/1.19 -> 1285643.7 | S72: 0 | T72: 1529916 | U72: =T72/1.19 -> 1285643.7 | V72: 1529916 | W72: 1285643.7
... A77: 73 | B77: BANCO DE CHASIS | C77: REPUESTO | D77: 1049734 | E77: =D77*1.052*1.051*1.0387 -> 1205557.3 | F77: =E77/1.19 -> 1013073.3 | G77: 1049734 | H77: =G77*1.052*1.051*1.0387 -> 1205557.3 | I77: =H77/1.19 -> 1013073.3 | J77: 1049734 | K77: =J77*1.052*1.051*1.0387 -> 1205557.3 | L77: =K77/1.19 -> 1013073.3 | M77: 1049734 | N77: =M77*1.052*1.051*1.0387 -> 1205557.3 | O77: =N77/1.19 -> 1013073.3 | P77: 1049734 | Q77: =P77*1.052*1.051*1.0387 -> 1205557.3 | R77: =Q77/1.19 -> 1013073.3 | S77: 0 | T77: 1205557.3 | U77: =T77/1.19 -> 1013073.3 | V77: 1205557.3 | W77: 1013073.3
A78: 74 | B78: BANDAS DE FRENO TRASERO - JUEGO | C78: REPUESTO | D78: 346334 | E78: =D78*1.052*1.051*1.0387 -> 397744.07 | F78: =E78/1.19 -> 334238.72 | G78: 346334 | H78: =G78*1.052*1.051*1.0387 -> 397744.07 | I78: =H78/1.19 -> 334238.72 | J78: 346334 | K78: =J78*1.052*1.051*1.0387 -> 397744.07 | L78: =K78/1.19 -> 334238.72 | M78: 346334 | N78: =M78*1.052*1.051*1.0387 -> 397744.07 | O78: =N78/1.19 -> 334238.72 | P78: 346334 | Q78: =P78*1.052*1.051*1.0387 -> 397744.07 | R78: =Q78/1.19 -> 334238.72 | S78: 399992 | T78: =S78*1.052*1.051*1.0387 -> 459367.11 | U78: =T78/1.19 -> 386022.78 | V78: 459367.11 | W78: 386022.78
A79: 75 | B79: BARRA ESTABILIZADORA - UNIDAD | C79: REPUESTO | D79: 1551676 | E79: =D79*1.052*1.051*1.0387 -> 1782007.9 | F79: =E79/1.19 -> 1497485.6 | G79: 1551676 | H79: =G79*1.052*1.051*1.0387 -> 1782007.9 | I79: =H79/1.19 -> 1497485.6 | J79: 1551676 | K79: =J79*1.052*1.051*1.0387 -> 1782007.9 | L79: =K79/1.19 -> 1497485.6 | M79: 1551676 | N79: =M79*1.052*1.051*1.0387 -> 1782007.9 | O79: =N79/1.19 -> 1497485.6 | P79: 1551676 | Q79: =P79*1.052*1.051*1.0387 -> 1782007.9 | R79: =Q79/1.19 -> 1497485.6 | S79: 0 | T79: =S79*1.052*1.051*1.0387 -> 0 | U79: =T79/1.19 -> 0 | V79: 1782007.9 | W79: 1497485.6
A80: 76 | B80: BASE AMORTIGUADOR CON RODAMIENTO | C80: REPUESTO | D80: 211216 | E80: =D80*1.052*1.051*1.0387 -> 242569.06 | F80: =E80/1.19 -> 203839.54 | G80: 211216 | H80: =G80*1.052*1.051*1.0387 -> 242569.06 | I80: =H80/1.19 -> 203839.54 | J80: 211216 | K80: =J80*1.052*1.051*1.0387 -> 242569.06 | L80: =K80/1.19 -> 203839.54 | M80: 211216 | N80: =M80*1.052*1.051*1.0387 -> 242569.06 | O80: =N80/1.19 -> 203839.54 | P80: 211216 | Q80: =P80*1.052*1.051*1.0387 -> 242569.06 | R80: =Q80/1.19 -> 203839.54 | S80: 0 | T80: =S80*1.052*1.051*1.0387 -> 0 | U80: =T80/1.19 -> 0 | V80: 242569.06 | W80: 203839.54
A81: 77 | B81: BASE TERMOSTATO | C81: REPUESTO | D81: 211216 | E81: =D81*1.052*1.051*1.0387 -> 242569.06 | F81: =E81/1.19 -> 203839.54 | G81: 211216 | H81: =G81*1.052*1.051*1.0387 -> 242569.06 | I81: =H81/1.19 -> 203839.54 | J81: 211216 | K81: =J81*1.052*1.051*1.0387 -> 242569.06 | L81: =K81/1.19 -> 203839.54 | M81: 211216 | N81: =M81*1.052*1.051*1.0387 -> 242569.06 | O81: =N81/1.19 -> 203839.54 | P81: 211216 | Q81: =P81*1.052*1.051*1.0387 -> 242569.06 | R81: =Q81/1.19 -> 203839.54 | S81: 0 | T81: =S81*1.052*1.051*1.0387 -> 0 | U81: =T81/1.19 -> 0 | V81: 242569.06 | W81: 203839.54
A82: 78 | B82: BATERIA | C82: REPUESTO | D82: 592671 | E82: =D82*1.052*1.051*1.0387 -> 680647.52 | F82: =E82/1.19 -> 571972.7 | G82: 592671 | H82: =G82*1.052*1.051*1.0387 -> 680647.52 | I82: =H82/1.19 -> 571972.7 | J82: 592671 | K82: =J82*1.052*1.051*1.0387 -> 680647.52 | L82: =K82/1.19 -> 571972.7 | M82: 592671 | N82: =M82*1.052*1.051*1.0387 -> 680647.52 | O82: =N82/1.19 -> 571972.7 | P82: 592671 | Q82: =P82*1.052*1.051*1.0387 -> 680647.52 | R82: =Q82/1.19 -> 571972.7 | S82: 622914 | T82: =S82*1.052*1.051*1.0387 -> 715379.81 | U82: =T82/1.19 -> 601159.5 | V82: 715379.81 | W82: 601159.5
A83: 79 | B83: BIELA MOTOR - JUEGO | C83: REPUESTO | D83: 954127 | E83: =D83*1.052*1.051*1.0387 -> 1095758.3 | F83: =E83/1.19 -> 920805.3 | G83: 954127 | H83: =G83*1.052*1.051*1.0387 -> 1095758.3 | I83: =H83/1.19 -> 920805.3 | J83: 954127 | K83: =J83*1.052*1.051*1.0387 -> 1095758.3 | L83: =K83/1.19 -> 920805.3 | M83: 954127 | N83: =M83*1.052*1.051*1.0387 -> 1095758.3 | O83: =N83/1.19 -> 920805.3 | P83: 954127 | Q83: =P83*1.052*1.051*1.0387 -> 1095758.3 | R83: =Q83/1.19 -> 920805.3 | S83: 0 | T83: =S83*1.052*1.051*1.0387 -> 0 | U83: =T83/1.19 -> 0 | V83: 1095758.3 | W83: 920805.3
A84: 80 | B84: BISAGRA CAPOT | C84: REPUESTO | D84: 260970 | E84: =D84*1.052*1.051*1.0387 -> 299708.58 | F84: =E84/1.19 -> 251855.95 | G84: 260970 | H84: =G84*1.052*1.051*1.0387 -> 299708.58 | I84: =H84/1.19 -> 251855.95 | J84: 260970 | K84: =J84*1.052*1.051*1.0387 -> 299708.58 | L84: =K84/1.19 -> 251855.95 | M84: 260970 | N84: =M84*1.052*1.051*1.0387 -> 299708.58 | O84: =N84/1.19 -> 251855.95 | P84: 260970 | Q84: =P84*1.052*1.051*1.0387 -> 299708.58 | R84: =Q84/1.19 -> 251855.95 | S84: 0 | T84: =S84*1.052*1.051*1.0387 -> 0 | U84: =T84/1.19 -> 0 | V84: 299708.58 | W84: 251855.95
A85: 81 | B85: BLOQUE MOTOR | C85: REPUESTO | D85: 9545660 | E85: =D85*1.052*1.051*1.0387 -> 10962625 | F85: =E85/1.19 -> 9212289.7 | G85: 9545660 | H85: =G85*1.052*1.051*1.0387 -> 10962625 | I85: =H85/1.19 -> 9212289.7 | J85: 9545660 | K85: =J85*1.052*1.051*1.0387 -> 10962625 | L85: =K85/1.19 -> 9212289.7 | M85: 9545660 | N85: =M85*1.052*1.051*1.0387 -> 10962625 | O85: =N85/1.19 -> 9212289.7 | P85: 8387635 | Q85: =P85*1.052*1.051*1.0387 -> 9632701.7 | R85: =Q85/1.19 -> 8094707.3 | S85: 0 | T85: =S85*1.052*1.051*1.0387 -> 0 | U85: =T85/1.19 -> 0 | V85: 9632701.7 | W85: 8094707.3
A86: 82 | B86: BOBINA DE IGNICION - UNIDAD | C86: REPUESTO | D86: 695108 | E86: =D86*1.052*1.051*1.0387 -> 798290.34 | F86: =E86/1.19 -> 670832.22 | G86: 695108 | H86: =G86*1.052*1.051*1.0387 -> 798290.34 | I86: =H86/1.19 -> 670832.22 | J86: 611695 | K86: =J86*1.052*1.051*1.0387 -> 702495.45 | L86: =K86/1.19 -> 590332.31 | M86: 0 | N86: =M86*1.052*1.051*1.0387 -> 0 | O86: =N86/1.19 -> 0 | P86: 429747 | Q86: =P86*1.052*1.051*1.0387 -> 493538.96 | R86: =Q86/1.19 -> 414738.62 | S86: 0 | T86: =S86*1.052*1.051*1.0387 -> 0 | U86: =T86/1.19 -> 0 | V86: 493538.96 | W86: 414738.62
A87: 83 | B87: BOCIN RUEDA COMPLETO | C87: REPUESTO | D87: 495600 | E87: =D87*1.052*1.051*1.0387 -> 569167.23 | F87: =E87/1.19 -> 478291.79 | G87: 495600 | H87: =G87*1.052*1.051*1.0387 -> 569167.23 | I87: =H87/1.19 -> 478291.79 | J87: 495600 | K87: =J87*1.052*1.051*1.0387 -> 569167.23 | L87: =K87/1.19 -> 478291.79 | M87: 495600 | N87: =M87*1.052*1.051*1.0387 -> 569167.23 | O87: =N87/1.19 -> 478291.79 | P87: 495600 | Q87: =P87*1.052*1.051*1.0387 -> 569167.23 | R87: =Q87/1.19 -> 478291.79 | S87: 0 | T87: 569167.23 | U87: =T87/1.19 -> 478291.79 | V87: 569167.23 | W87: 478291.79
A88: 84 | B88: BOMBA AUXILIAR EMBRAGUE | C88: REPUESTO | D88: 379505 | E88: =D88*1.052*1.051*1.0387 -> 435839 | F88: =E88/1.19 -> 366251.26 | G88: 379505 | H88: =G88*1.052*1.051*1.0387 -> 435839 | I88: =H88/1.19 -> 366251.26 | J88: 379505 | K88: =J88*1.052*1.051*1.0387 -> 435839 | L88: =K88/1.19 -> 366251.26 | M88: 379505 | N88: =M88*1.052*1.051*1.0387 -> 435839 | O88: =N88/1.19 -> 366251.26 | P88: 379505 | Q88: =P88*1.052*1.051*1.0387 -> 435839 | R88: =Q88/1.19 -> 366251.26 | S88: 0 | T88: 435839 | U88: =T88/1.19 -> 366251.26 | V88: 435839 | W88: 366251.26
A89: 85 | B89: BOMBA DE ACEITE | C89: REPUESTO | D89: 1551676 | E89: =D89*1.052*1.051*1.0387 -> 1782007.9 | F89: =E89/1.19 -> 1497485.6 | G89: 1551676 | H89: =G89*1.052*1.051*1.0387 -> 1782007.9 | I89: =H89/1.19 -> 1497485.6 | J89: 1551676 | K89: =J89*1.052*1.051*1.0387 -> 1782007.9 | L89: =K89/1.19 -> 1497485.6 | M89: 1551676 | N89: =M89*1.052*1.051*1.0387 -> 1782007.9 | O89: =N89/1.19 -> 1497485.6 | P89: 1551676 | Q89: =P89*1.052*1.051*1.0387 -> 1782007.9 | R89: =Q89/1.19 -> 1497485.6 | S89: 0 | T89: 1782007.9 | U89: =T89/1.19 -> 1497485.6 | V89: 1782007.9 | W89: 1497485.6
A90: 86 | B90: BOMBA DE AGUA | C90: REPUESTO | D90: 954127 | E90: =D90*1.052*1.051*1.0387 -> 1095758.3 | F90: =E90/1.19 -> 920805.3 | G90: 954127 | H90: =G90*1.052*1.051*1.0387 -> 1095758.3 | I90: =H90/1.19 -> 920805.3 | J90: 954127 | K90: =J90*1.052*1.051*1.0387 -> 1095758.3 | L90: =K90/1.19 -> 920805.3 | M90: 954127 | N90: =M90*1.052*1.051*1.0387 -> 1095758.3 | O90: =N90/1.19 -> 920805.3 | P90: 954127 | Q90: =P90*1.052*1.051*1.0387 -> 1095758.3 | R90: =Q90/1.19 -> 920805.3 | S90: 0 | T90: 1095758.3 | U90: =T90/1.19 -> 920805.3 | V90: 1095758.3 | W90: 920805.3
A91: 87 | B91: BOMBA DE COMBUSTIBLE | C91: REPUESTO | D91: 1760940 | E91: =D91*1.052*1.051*1.0387 -> 2022335.2 | F91: =E91/1.19 -> 1699441.4 | G91: 1760940 | H91: =G91*1.052*1.051*1.0387 -> 2022335.2 | I91: =H91/1.19 -> 1699441.4 | J91: 1760940 | K91: =J91*1.052*1.051*1.0387 -> 2022335.2 | L91: =K91/1.19 -> 1699441.4 | M91: 1760940 | N91: =M91*1.052*1.051*1.0387 -> 2022335.2 | O91: =N91/1.19 -> 1699441.4 | P91: 1760940 | Q91: =P91*1.052*1.051*1.0387 -> 2022335.2 | R91: =Q91/1.19 -> 1699441.4 | S91: 0 | T91: 2022335.2 | U91: =T91/1.19 -> 1699441.4 | V91: 2022335.2 | W91: 1699441.4
A92: 88 | B92: BOMBA DE DIRECCION | C92: REPUESTO | D92: 1974106 | E92: =D92*1.052*1.051*1.0387 -> 2267143.7 | F92: =E92/1.19 -> 1905162.8 | G92: 1974106 | H92: =G92*1.052*1.051*1.0387 -> 2267143.7 | I92: =H92/1.19 -> 1905162.8 | J92: 1974106 | K92: =J92*1.052*1.051*1.0387 -> 2267143.7 | L92: =K92/1.19 -> 1905162.8 | M92: 1974106 | N92: =M92*1.052*1.051*1.0387 -> 2267143.7 | O92: =N92/1.19 -> 1905162.8 | P92: 1974106 | Q92: =P92*1.052*1.051*1.0387 -> 2267143.7 | R92: =Q92/1.19 -> 1905162.8 | S92: 0 | T92: 2267143.7 | U92: =T92/1.19 -> 1905162.8 | V92: 2267143.7 | W92: 1905162.8
A93: 89 | B93: BOMBA PRINCIPAL EMBRAGUE | C93: REPUESTO | D93: 730229 | E93: =D93*1.052*1.051*1.0387 -> 838624.73 | F93: =E93/1.19 -> 704726.66 | G93: 730229 | H93: =G93*1.052*1.051*1.0387 -> 838624.73 | I93: =H93/1.19 -> 704726.66 | J93: 730229 | K93: =J93*1.052*1.051*1.0387 -> 838624.73 | L93: =K93/1.19 -> 704726.66 | M93: 730229 | N93: =M93*1.052*1.051*1.0387 -> 838624.73 | O93: =N93/1.19 -> 704726.66 | P93: 730229 | Q93: =P93*1.052*1.051*1.0387 -> 838624.73 | R93: =Q93/1.19 -> 704726.66 | S93: 0 | T93: 838624.73 | U93: =T93/1.19 -> 704726.66 | V93: 838624.73 | W93: 704726.66
A94: 90 | B94: BOOSTER | C94: REPUESTO | D94: 1545335 | E94: =D94*1.052*1.051*1.0387 -> 1774725.7 | F94: =E94/1.19 -> 1491366.1 | G94: 1545335 | H94: =G94*1.052*1.051*1.0387 -> 1774725.7 | I94: =H94/1.19 -> 1491366.1 | J94: 1545335 | K94: =J94*1.052*1.051*1.0387 -> 1774725.7 | L94: =K94/1.19 -> 1491366.1 | M94: 1545335 | N94: =M94*1.052*1.051*1.0387 -> 1774725.7 | O94: =N94/1.19 -> 1491366.1 | P94: 1545335 | Q94: =P94*1.052*1.051*1.0387 -> 1774725.7 | R94: =Q94/1.19 -> 1491366.1 | S94: 0 | T94: 1774725.7 | U94: =T94/1.19 -> 1491366.1 | V94: 1774725.7 | W94: 1491366.1
A95: 91 | B95: BOTON ELEVAVIDRIO CONDUCTOR | C95: REPUESTO | D95: 367798 | E95: =D95*1.052*1.051*1.0387 -> 422394.2 | F95: =E95/1.19 -> 354953.11 | G95: 367798 | H95: =G95*1.052*1.051*1.0387 -> 422394.2 | I95: =H95/1.19 -> 354953.11 | J95: 367798 | K95: =J95*1.052*1.051*1.0387 -> 422394.2 | L95: =K95/1.19 -> 354953.11 | M95: 367798 | N95: =M95*1.052*1.051*1.0387 -> 422394.2 | O95: =N95/1.19 -> 354953.11 | P95: 367798 | Q95: =P95*1.052*1.051*1.0387 -> 422394.2 | R95: =Q95/1.19 -> 354953.11 | S95: 0 | T95: 422394.2 | U95: =T95/1.19 -> 354953.11 | V95: 422394.2 | W95: 354953.11
A96: 92 | B96: BOTON ELEVAVIDRIO DELANTERO COPILOTO | C96: REPUESTO | D96: 154631 | E96: =D96*1.052*1.051*1.0387 -> 177584.54 | F96: =E96/1.19 -> 149230.7 | G96: 154631 | H96: =G96*1.052*1.051*1.0387 -> 177584.54 | I96: =H96/1.19 -> 149230.7 | J96: 154631 | K96: =J96*1.052*1.051*1.0387 -> 177584.54 | L96: =K96/1.19 -> 149230.7 | M96: 154631 | N96: =M96*1.052*1.051*1.0387 -> 177584.54 | O96: =N96/1.19 -> 149230.7 | P96: 154631 | Q96: =P96*1.052*1.051*1.0387 -> 177584.54 | R96: =Q96/1.19 -> 149230.7 | S96: 0 | T96: 177584.54 | U96: =T96/1.19 -> 149230.7 | V96: 177584.54 | W96: 149230.7
A97: 93 | B97: BOTON ELEVAVIDRIO TRASERO | C97: REPUESTO | D97: 154631 | E97: =D97*1.052*1.051*1.0387 -> 177584.54 | F97: =E97/1.19 -> 149230.7 | G97: 154631 | H97: =G97*1.052*1.051*1.0387 -> 177584.54 | I97: =H97/1.19 -> 149230.7 | J97: 154631 | K97: =J97*1.052*1.051*1.0387 -> 177584.54 | L97: =K97/1.19 -> 149230.7 | M97: 154631 | N97: =M97*1.052*1.051*1.0387 -> 177584.54 | O97: =N97/1.19 -> 149230.7 | P97: 154631 | Q97: =P97*1.052*1.051*1.0387 -> 177584.54 | R97: =Q97/1.19 -> 149230.7 | S97: 0 | T97: 177584.54 | U97: =T97/1.19 -> 149230.7 | V97: 177584.54 | W97: 149230.7
A98: 94 | B98: BRAZO CAJA DIRECCION | C98: REPUESTO | D98: 488283 | E98: =D98*1.052*1.051*1.0387 -> 560764.09 | F98: =E98/1.19 -> 471230.32 | G98: 488283 | H98: =G98*1.052*1.051*1.0387 -> 560764.09 | I98: =H98/1.19 -> 471230.32 | J98: 488283 | K98: =J98*1.052*1.051*1.0387 -> 560764.09 | L98: =K98/1.19 -> 471230.32 | M98: 488283 | N98: =M98*1.052*1.051*1.0387 -> 560764.09 | O98: =N98/1.19 -> 471230.32 | P98: 488283 | Q98: =P98*1.052*1.051*1.0387 -> 560764.09 | R98: =Q98/1.19 -> 471230.32 | S98: 0 | T98: 560764.09 | U98: =T98/1.19 -> 471230.32 | V98: 560764.09 | W98: 471230.32
... A216: 212 | B216: PASADOR DE TIJERA | C216: REPUESTO | D216: 61950 | E216: =D216*1.052*1.051*1.0387 -> 71145.903 | F216: =E216/1.19 -> 59786.473 | G216: 61950 | H216: =G216*1.052*1.051*1.0387 -> 71145.903 | I216: =H216/1.19 -> 59786.473 | J216: 61950 | K216: =J216*1.052*1.051*1.0387 -> 71145.903 | L216: =K216/1.19 -> 59786.473 | M216: 61950 | N216: =M216*1.052*1.051*1.0387 -> 71145.903 | O216: =N216/1.19 -> 59786.473 | P216: 61950 | Q216: =P216*1.052*1.051*1.0387 -> 71145.903 | R216: =Q216/1.19 -> 59786.473 | S216: 0 | T216: 71145.903 | U216: =T216/1.19 -> 59786.473 | V216: 71145.903 | W216: 59786.473
A217: 213 | B217: PASTILLAS FRENO DELANTERO | C217: REPUESTO | D217: 309262 | E217: =D217*1.052*1.051*1.0387 -> 355169.08 | F217: =E217/1.19 -> 298461.41 | G217: 309262 | H217: =G217*1.052*1.051*1.0387 -> 355169.08 | I217: =H217/1.19 -> 298461.41 | J217: 436089 | K217: =J217*1.052*1.051*1.0387 -> 500822.37 | L217: =K217/1.19 -> 420859.13 | M217: 436089 | N217: =M217*1.052*1.051*1.0387 -> 500822.37 | O217: =N217/1.19 -> 420859.13 | P217: 336091 | Q217: =P217*1.052*1.051*1.0387 -> 385980.59 | R217: =Q217/1.19 -> 324353.44 | S217: 409748 | T217: =S217*1.052*1.051*1.0387 -> 470571.29 | U217: =T217/1.19 -> 395438.06 | V217: 470571.29 | W217: 395438.06
A218: 214 | B218: PASTILLAS FRENO TRASERO | C218: REPUESTO | D218: 0 | E218: =D218*1.052*1.051*1.0387 -> 0 | F218: =E218/1.19 -> 0 | G218: 0 | H218: =G218*1.052*1.051*1.0387 -> 0 | I218: =H218/1.19 -> 0 | J218: 436089 | K218: =J218*1.052*1.051*1.0387 -> 500822.37 | L218: =K218/1.19 -> 420859.13 | M218: 436089 | N218: =M218*1.052*1.051*1.0387 -> 500822.37 | O218: =N218/1.19 -> 420859.13 | P218: 0 | Q218: =P218*1.052*1.051*1.0387 -> 0 | R218: =Q218/1.19 -> 0 | S218: 0 | T218: 500822.37 | U218: =T218/1.19 -> 420859.13 | V218: 500822.37 | W218: 420859.13
A219: 215 | B219: PATIN TENSOR CORREA | C219: REPUESTO | D219: 309262 | E219: =D219*1.052*1.051*1.0387 -> 355169.08 | F219: =E219/1.19 -> 298461.41 | G219: 309262 | H219: =G219*1.052*1.051*1.0387 -> 355169.08 | I219: =H219/1.19 -> 298461.41 | J219: 309262 | K219: =J219*1.052*1.051*1.0387 -> 355169.08 | L219: =K219/1.19 -> 298461.41 | M219: 309262 | N219: =M219*1.052*1.051*1.0387 -> 355169.08 | O219: =N219/1.19 -> 298461.41 | P219: 309262 | Q219: =P219*1.052*1.051*1.0387 -> 355169.08 | R219: =Q219/1.19 -> 298461.41 | S219: 0 | T219: 355169.08 | U219: =T219/1.19 -> 298461.41 | V219: 355169.08 | W219: 298461.41
A220: 216 | B220: PERA DE REVERSA | C220: REPUESTO | D220: 154631 | E220: =D220*1.052*1.051*1.0387 -> 177584.54 | F220: =E220/1.19 -> 149230.7 | G220: 154631 | H220: =G220*1.052*1.051*1.0387 -> 177584.54 | I220: =H220/1.19 -> 149230.7 | J220: 154631 | K220: =J220*1.052*1.051*1.0387 -> 177584.54 | L220: =K220/1.19 -> 149230.7 | M220: 154631 | N220: =M220*1.052*1.051*1.0387 -> 177584.54 | O220: =N220/1.19 -> 149230.7 | P220: 154631 | Q220: =P220*1.052*1.051*1.0387 -> 177584.54 | R220: =Q220/1.19 -> 149230.7 | S220: 0 | T220: 177584.54 | U220: =T220/1.19 -> 149230.7 | V220: 177584.54 | W220: 149230.7
A221: 217 | B221: PERA FRENO | C221: REPUESTO | D221: 154631 | E221: =D221*1.052*1.051*1.0387 -> 177584.54 | F221: =E221/1.19 -> 149230.7 | G221: 154631 | H221: =G221*1.052*1.051*1.0387 -> 177584.54 | I221: =H221/1.19 -> 149230.7 | J221: 154631 | K221: =J221*1.052*1.051*1.0387 -> 177584.54 | L221: =K221/1.19 -> 149230.7 | M221: 154631 | N221: =M221*1.052*1.051*1.0387 -> 177584.54 | O221: =N221/1.19 -> 149230.7 | P221: 154631 | Q221: =P221*1.052*1.051*1.0387 -> 177584.54 | R221: =Q221/1.19 -> 149230.7 | S221: 0 | T221: 177584.54 | U221: =T221/1.19 -> 149230.7 | V221: 177584.54 | W221: 149230.7
A222: 218 | B222: PILA BOMBA DE COMBUSTIBLE | C222: REPUESTO | D222: 530721 | E222: =D222*1.052*1.051*1.0387 -> 609501.61 | F222: =E222/1.19 -> 512186.23 | G222: 530721 | H222: =G222*1.052*1.051*1.0387 -> 609501.61 | I222: =H222/1.19 -> 512186.23 | J222: 530721 | K222: =J222*1.052*1.051*1.0387 -> 609501.61 | L222: =K222/1.19 -> 512186.23 | M222: 530721 | N222: =M222*1.052*1.051*1.0387 -> 609501.61 | O222: =N222/1.19 -> 512186.23 | P222: 530721 | Q222: =P222*1.052*1.051*1.0387 -> 609501.61 | R222: =Q222/1.19 -> 512186.23 | S222: 0 | T222: 609501.61 | U222: =T222/1.19 -> 512186.23 | V222: 609501.61 | W222: 512186.23
A223: 219 | B223: PIÑON CIGÜEÑAL | C223: REPUESTO | D223: 346334 | E223: =D223*1.052*1.051*1.0387 -> 397744.07 | F223: =E223/1.19 -> 334238.72 | G223: 346334 | H223: =G223*1.052*1.051*1.0387 -> 397744.07 | I223: =H223/1.19 -> 334238.72 | J223: 346334 | K223: =J223*1.052*1.051*1.0387 -> 397744.07 | L223: =K223/1.19 -> 334238.72 | M223: 346334 | N223: =M223*1.052*1.051*1.0387 -> 397744.07 | O223: =N223/1.19 -> 334238.72 | P223: 346334 | Q223: =P223*1.052*1.051*1.0387 -> 397744.07 | R223: =Q223/1.19 -> 334238.72 | S223: 0 | T223: 397744.07 | U223: =T223/1.19 -> 334238.72 | V223: 397744.07 | W223: 334238.72
A224: 220 | B224: PIÑON EJE DE LEVAS | C224: REPUESTO | D224: 346334 | E224: =D224*1.052*1.051*1.0387 -> 397744.07 | F224: =E224/1.19 -> 334238.72 | G224: 346334 | H224: =G224*1.052*1.051*1.0387 -> 397744.07 | I224: =H224/1.19 -> 334238.72 | J224: 346334 | K224: =J224*1.052*1.051*1.0387 -> 397744.07 | L224: =K224/1.19 -> 334238.72 | M224: 346334 | N224: =M224*1.052*1.051*1.0387 -> 397744.07 | O224: =N224/1.19 -> 334238.72 | P224: 346334 | Q224: =P224*1.052*1.051*1.0387 -> 397744.07 | R224: =Q224/1.19 -> 334238.72 | S224: 0 | T224: 397744.07 | U224: =T224/1.19 -> 334238.72 | V224: 397744.07 | W224: 334238.72
A225: 221 | B225: PIÑON VELOCIMETRO | C225: REPUESTO | D225: 346334 | E225: =D225*1.052*1.051*1.0387 -> 397744.07 | F225: =E225/1.19 -> 334238.72 | G225: 346334 | H225: =G225*1.052*1.051*1.0387 -> 397744.07 | I225: =H225/1.19 -> 334238.72 | J225: 346334 | K225: =J225*1.052*1.051*1.0387 -> 397744.07 | L225: =K225/1.19 -> 334238.72 | M225: 346334 | N225: =M225*1.052*1.051*1.0387 -> 397744.07 | O225: =N225/1.19 -> 334238.72 | P225: 346334 | Q225: =P225*1.052*1.051*1.0387 -> 397744.07 | R225: =Q225/1.19 -> 334238.72 | S225: 0 | T225: 397744.07 | U225: =T225/1.19 -> 334238.72 | V225: 397744.07 | W225: 334238.72
A226: 222 | B226: PITO | C226: REPUESTO | D226: 176094 | E226: =D226*1.052*1.051*1.0387 -> 202233.52 | F226: =E226/1.19 -> 169944.14 | G226: 176094 | H226: =G226*1.052*1.051*1.0387 -> 202233.52 | I226: =H226/1.19 -> 169944.14 | J226: 176094 | K226: =J226*1.052*1.051*1.0387 -> 202233.52 | L226: =K226/1.19 -> 169944.14 | M226: 176094 | N226: =M226*1.052*1.051*1.0387 -> 202233.52 | O226: =N226/1.19 -> 169944.14 | P226: 176094 | Q226: =P226*1.052*1.051*1.0387 -> 202233.52 | R226: =Q226/1.19 -> 169944.14 | S226: 0 | T226: 202233.52 | U226: =T226/1.19 -> 169944.14 | V226: 202233.52 | W226: 169944.14
A227: 223 | B227: PLUMILLA DELANTERA DERECHA | C227: REPUESTO | D227: 58535 | E227: =D227*1.052*1.051*1.0387 -> 67223.978 | F227: =E227/1.19 -> 56490.738 | G227: 58535 | H227: =G227*1.052*1.051*1.0387 -> 67223.978 | I227: =H227/1.19 -> 56490.738 | J227: 58535 | K227: =J227*1.052*1.051*1.0387 -> 67223.978 | L227: =K227/1.19 -> 56490.738 | M227: 58535 | N227: =M227*1.052*1.051*1.0387 -> 67223.978 | O227: =N227/1.19 -> 56490.738 | P227: 58535 | Q227: =P227*1.052*1.051*1.0387 -> 67223.978 | R227: =Q227/1.19 -> 56490.738 | S227: 62926 | T227: =S227*1.052*1.051*1.0387 -> 72266.782 | U227: =T227/1.19 -> 60728.388 | V227: 72266.782 | W227: 60728.388
A228: 224 | B228: PLUMILLA DELANTERA IZQUIERDA | C228: REPUESTO | D228: 58535 | E228: =D228*1.052*1.051*1.0387 -> 67223.978 | F228: =E228/1.19 -> 56490.738 | G228: 58535 | H228: =G228*1.052*1.051*1.0387 -> 67223.978 | I228: =H228/1.19 -> 56490.738 | J228: 58535 | K228: =J228*1.052*1.051*1.0387 -> 67223.978 | L228: =K228/1.19 -> 56490.738 | M228: 58535 | N228: =M228*1.052*1.051*1.0387 -> 67223.978 | O228: =N228/1.19 -> 56490.738 | P228: 58535 | Q228: =P228*1.052*1.051*1.0387 -> 67223.978 | R228: =Q228/1.19 -> 56490.738 | S228: 62926 | T228: =S228*1.052*1.051*1.0387 -> 72266.782 | U228: =T228/1.19 -> 60728.388 | V228: 72266.782 | W228: 60728.388
A229: 225 | B229: PLUMILLA TRASERA | C229: REPUESTO | D229: 0 | E229: =D229*1.052*1.051*1.0387 -> 0 | F229: =E229/1.19 -> 0 | G229: 0 | H229: =G229*1.052*1.051*1.0387 -> 0 | I229: =H229/1.19 -> 0 | J229: 82925 | K229: =J229*1.052*1.051*1.0387 -> 95234.448 | L229: =K229/1.19 -> 80028.948 | M229: 82926 | N229: =M229*1.052*1.051*1.0387 -> 95235.596 | O229: =N229/1.19 -> 80029.913 | P229: 82926 | Q229: =P229*1.052*1.051*1.0387 -> 95235.596 | R229: =Q229/1.19 -> 80029.913 | S229: 0 | T229: =S229*1.052*1.051*1.0387 -> 0 | U229: =T229/1.19 -> 0 | V229: 0 | W229: 0
A230: 226 | B230: POLEA BOMBA DE DIRECCION | C230: REPUESTO | D230: 379505 | E230: =D230*1.052*1.051*1.0387 -> 435839 | F230: =E230/1.19 -> 366251.26 | G230: 379505 | H230: =G230*1.052*1.051*1.0387 -> 435839 | I230: =H230/1.19 -> 366251.26 | J230: 379505 | K230: =J230*1.052*1.051*1.0387 -> 435839 | L230: =K230/1.19 -> 366251.26 | M230: 379505 | N230: =M230*1.052*1.051*1.0387 -> 435839 | O230: =N230/1.19 -> 366251.26 | P230: 379505 | Q230: =P230*1.052*1.051*1.0387 -> 435839 | R230: =Q230/1.19 -> 366251.26 | S230: 0 | T230: 435839 | U230: =T230/1.19 -> 366251.26 | V230: 435839 | W230: 366251.26
A231: 227 | B231: POLEA TENSORA CORREA COMPRESOR | C231: REPUESTO | D231: 179020 | E231: =D231*1.052*1.051*1.0387 -> 205593.86 | F231: =E231/1.19 -> 172767.95 | G231: 179020 | H231: =G231*1.052*1.051*1.0387 -> 205593.86 | I231: =H231/1.19 -> 172767.95 | J231: 179020 | K231: =J231*1.052*1.051*1.0387 -> 205593.86 | L231: =K231/1.19 -> 172767.95 | M231: 179020 | N231: =M231*1.052*1.051*1.0387 -> 205593.86 | O231: =N231/1.19 -> 172767.95 | P231: 179020 | Q231: =P231*1.052*1.051*1.0387 -> 205593.86 | R231: =Q231/1.19 -> 172767.95 | S231: 0 | T231: 205593.86 | U231: =T231/1.19 -> 172767.95 | V231: 205593.86 | W231: 172767.95
A232: 228 | B232: PUNTA DE EJE LADO CAJA | C232: REPUESTO | D232: 377066 | E232: =D232*1.052*1.051*1.0387 -> 433037.95 | F232: =E232/1.19 -> 363897.44 | G232: 377066 | H232: =G232*1.052*1.051*1.0387 -> 433037.95 | I232: =H232/1.19 -> 363897.44 | J232: 377066 | K232: =J232*1.052*1.051*1.0387 -> 433037.95 | L232: =K232/1.19 -> 363897.44 | M232: 377066 | N232: =M232*1.052*1.051*1.0387 -> 433037.95 | O232: =N232/1.19 -> 363897.44 | P232: 377066 | Q232: =P232*1.052*1.051*1.0387 -> 433037.95 | R232: =Q232/1.19 -> 363897.44 | S232: 0 | T232: 433037.95 | U232: =T232/1.19 -> 363897.44 | V232: 433037.95 | W232: 363897.44
A233: 229 | B233: PUNTA DE EJE LADO RUEDA | C233: REPUESTO | D233: 377066 | E233: =D233*1.052*1.051*1.0387 -> 433037.95 | F233: =E233/1.19 -> 363897.44 | G233: 377066 | H233: =G233*1.052*1.051*1.0387 -> 433037.95 | I233: =H233/1.19 -> 363897.44 | J233: 377066 | K233: =J233*1.052*1.051*1.0387 -> 433037.95 | L233: =K233/1.19 -> 363897.44 | M233: 377066 | N233: =M233*1.052*1.051*1.0387 -> 433037.95 | O233: =N233/1.19 -> 363897.44 | P233: 377066 | Q233: =P233*1.052*1.051*1.0387 -> 433037.95 | R233: =Q233/1.19 -> 363897.44 | S233: 0 | T233: 433037.95 | U233: =T233/1.19 -> 363897.44 | V233: 433037.95 | W233: 363897.44
A234: 230 | B234: PUNTILLA DE PUERTA | C234: REPUESTO | D234: 69266 | E234: =D234*1.052*1.051*1.0387 -> 79547.896 | F234: =E234/1.19 -> 66846.971 | G234: 69266 | H234: =G234*1.052*1.051*1.0387 -> 79547.896 | I234: =H234/1.19 -> 66846.971 | J234: 69266 | K234: =J234*1.052*1.051*1.0387 -> 79547.896 | L234: =K234/1.19 -> 66846.971 | M234: 69266 | N234: =M234*1.052*1.051*1.0387 -> 79547.896 | O234: =N234/1.19 -> 66846.971 | P234: 69266 | Q234: =P234*1.052*1.051*1.0387 -> 79547.896 | R234: =Q234/1.19 -> 66846.971 | S234: 0 | T234: 79547.896 | U234: =T234/1.19 -> 66846.971 | V234: 79547.896 | W234: 66846.971
A235: 231 | B235: RADIADOR | C235: REPUESTO | D235: 1338510 | E235: =D235*1.052*1.051*1.0387 -> 1537199.4 | F235: =E235/1.19 -> 1291764.2 | G235: 1338510 | H235: =G235*1.052*1.051*1.0387 -> 1537199.4 | I235: =H235/1.19 -> 1291764.2 | J235: 1694112 | K235: =J235*1.052*1.051*1.0387 -> 1945587.2 | L235: =K235/1.19 -> 1634947.2 | M235: 1694112 | N235: =M235*1.052*1.051*1.0387 -> 1945587.2 | O235: =N235/1.19 -> 1634947.2 | P235: 1338510 | Q235: =P235*1.052*1.051*1.0387 -> 1537199.4 | R235: =Q235/1.19 -> 1291764.2 | S235: 0 | T235: 1537199.4 | U235: =T235/1.19 -> 1291764.2 | V235: 1537199.4 | W235: 1291764.2
A236: 232 | B236: RADIADOR CALEFACTOR | C236: REPUESTO | D236: 1338510 | E236: =D236*1.052*1.051*1.0387 -> 1537199.4 | F236: =E236/1.19 -> 1291764.2 | G236: 1338510 | H236: =G236*1.052*1.051*1.0387 -> 1537199.4 | I236: =H236/1.19 -> 1291764.2 | J236: 1338510 | K236: =J236*1.052*1.051*1.0387 -> 1537199.4 | L236: =K236/1.19 -> 1291764.2 | M236: 1338510 | N236: =M236*1.052*1.051*1.0387 -> 1537199.4 | O236: =N236/1.19 -> 1291764.2 | P236: 1338510 | Q236: =P236*1.052*1.051*1.0387 -> 1537199.4 | R236: =Q236/1.19 -> 1291764.2 | S236: 0 | T236: 1537199.4 | U236: =T236/1.19 -> 1291764.2 | V236: 1537199.4 | W236: 1291764.2
A237: 233 | B237: RADIO MP3 | C237: REPUESTO | D237: 701450 | E237: =D237*1.052*1.051*1.0387 -> 805573.75 | F237: =E237/1.19 -> 676952.73 | G237: 701450 | H237: =G237*1.052*1.051*1.0387 -> 805573.75 | I237: =H237/1.19 -> 676952.73 | J237: 701450 | K237: =J237*1.052*1.051*1.0387 -> 805573.75 | L237: =K237/1.19 -> 676952.73 | M237: 701450 | N237: =M237*1.052*1.051*1.0387 -> 805573.75 | O237: =N237/1.19 -> 676952.73 | P237: 701450 | Q237: =P237*1.052*1.051*1.0387 -> 805573.75 | R237: =Q237/1.19 -> 676952.73 | S237: 0 | T237: 805573.75 | U237: =T237/1.19 -> 676952.73 | V237: 805573.75 | W237: 676952.73
...

Sheet OFERTA MANO DE OBRA
A1: PRECIOS DE REFERENCIA MANO DE OBRA
C4: HYUNDAI ACCENT GL I25 SEDAN MODELO 2013 - GASOLINA | F4: CHEVROLET JOY SEDAN MODELO 2022 - GASOLINA | I4: TOYOTA 4 RUNNER STATION WAGON MODELO 2009 - GASOLINA | L4: TOYOTA PRADO TX CAMPERO MODELO 2015 - DIESEL | O4: CHEVROLET VITARA 1.600 C.C. CAMPERO MODELO 2007 - GASOLINA | R4: FORD RANGER XLT AT 4X4 MODELO 2023 - DIESEL | U4: CHEVROLET COLORADO 4X4 MODELO 2026 - DIESEL
A5: Nº | B5: DESCRIPCIÓN DE MANO DE OBRA | C5: Precio de referencia incluido IVA 2024 | D5: Valor con IVA ajustado con serie de empalme a 2026 | E5: VALOR ANTES DE IVA 2026 | F5: Precio de referencia incluido IVA 2024 | G5: Valor con IVA ajustado con serie de empalme a 2026 | H5: VALOR ANTES DE IVA 2026 | I5: Precio de referencia incluido IVA 2024 | J5: Valor con IVA ajustado con serie de empalme a 2026 | K5: VALOR ANTES DE IVA 2026 | L5: Precio de referencia incluido IVA 2024 | M5: Valor con IVA ajustado con serie de empalme a 2026 | N5: VALOR ANTES DE IVA 2026 | O5: Precio de referencia incluido IVA 2024 | P5: Valor con IVA ajustado con serie de empalme a 2026 | Q5: VALOR ANTES DE IVA 2026 | R5: Precio de referencia incluido IVA 2024 | S5: Valor con IVA ajustado con serie de empalme a 2026 | T5: VALOR ANTES DE IVA 2026 | U5: Valor con IVA ajustado con serie de empalme a 2026 | V5: VALOR ANTES DE IVA 2026
A6: 1 | B6: CAMBIAR JUEGO DE TERMINALES DIRECCION | C6: 215636 | D6: =C6*1.052*1.051*1.0387 -> 247645.17 | E6: =D6/1.19 -> 208105.18 | F6: 215636 | G6: =F6*1.052*1.051*1.0387 -> 247645.17 | H6: =G6/1.19 -> 208105.18 | I6: 215636 | J6: =I6*1.052*1.051*1.0387 -> 247645.17 | K6: =J6/1.19 -> 208105.18 | L6: 215636 | M6: =L6*1.052*1.051*1.0387 -> 247645.17 | N6: =M6/1.19 -> 208105.18 | O6: 215636 | P6: =O6*1.052*1.051*1.0387 -> 247645.17 | Q6: =P6/1.19 -> 208105.18 | R6: 0 | S6: 247645.17 | T6: =S6/1.19 -> 208105.18 | U6: 247645.17 | V6: 208105.18
A7: 2 | B7: CAMBIO BRAZOS AXIALES (JUEGO) | C7: 215636 | D7: =C7*1.052*1.051*1.0387 -> 247645.17 | E7: =D7/1.19 -> 208105.18 | F7: 215636 | G7: =F7*1.052*1.051*1.0387 -> 247645.17 | H7: =G7/1.19 -> 208105.18 | I7: 215636 | J7: =I7*1.052*1.051*1.0387 -> 247645.17 | K7: =J7/1.19 -> 208105.18 | L7: 215636 | M7: =L7*1.052*1.051*1.0387 -> 247645.17 | N7: =M7/1.19 -> 208105.18 | O7: 215636 | P7: =O7*1.052*1.051*1.0387 -> 247645.17 | Q7: =P7/1.19 -> 208105.18 | R7: 0 | S7: 247645.17 | T7: =S7/1.19 -> 208105.18 | U7: 247645.17 | V7: 208105.18
A8: 3 | B8: CAMBIO CAJA DIRECCIÓN | C8: 287515 | D8: =C8*1.052*1.051*1.0387 -> 330193.94 | E8: =D8/1.19 -> 277473.9 | F8: 287515 | G8: =F8*1.052*1.051*1.0387 -> 330193.94 | H8: =G8/1.19 -> 277473.9 | I8: 287515 | J8: =I8*1.052*1.051*1.0387 -> 330193.94 | K8: =J8/1.19 -> 277473.9 | L8: 287515 | M8: =L8*1.052*1.051*1.0387 -> 330193.94 | N8: =M8/1.19 -> 277473.9 | O8: 287515 | P8: =O8*1.052*1.051*1.0387 -> 330193.94 | Q8: =P8/1.19 -> 277473.9 | R8: 0 | S8: 330193.94 | T8: =S8/1.19 -> 277473.9 | U8: 330193.94 | V8: 277473.9
A9: 4 | B9: CAMBIO DE BOMBA DE DIRECCIÓN | C9: 0 | D9: =C9*1.052*1.051*1.0387 -> 0 | E9: =D9/1.19 -> 0 | F9: 287515 | G9: =F9*1.052*1.051*1.0387 -> 330193.94 | H9: =G9/1.19 -> 277473.9 | I9: 287517 | J9: =I9*1.052*1.051*1.0387 -> 330196.23 | K9: =J9/1.19 -> 277475.83 | L9: 287518 | M9: =L9*1.052*1.051*1.0387 -> 330197.38 | N9: =M9/1.19 -> 277476.79 | O9: 287518 | P9: =O9*1.052*1.051*1.0387 -> 330197.38 | Q9: =P9/1.19 -> 277476.79 | R9: 0 | S9: 330197.38 | T9: =S9/1.19 -> 277476.79 | U9: 330197.38 | V9: 277476.79
A10: 5 | B10: CAMBIO DE CRUCETA DIRECCIÓN | C10: 263922 | D10: =C10*1.052*1.051*1.0387 -> 303098.77 | E10: =D10/1.19 -> 254704.85 | F10: 263922 | G10: =F10*1.052*1.051*1.0387 -> 303098.77 | H10: =G10/1.19 -> 254704.85 | I10: 263922 | J10: =I10*1.052*1.051*1.0387 -> 303098.77 | K10: =J10/1.19 -> 254704.85 | L10: 263922 | M10: =L10*1.052*1.051*1.0387 -> 303098.77 | N10: =M10/1.19 -> 254704.85 | O10: 263922 | P10: =O10*1.052*1.051*1.0387 -> 303098.77 | Q10: =P10/1.19 -> 254704.85 | R10: 0 | S10: 303098.77 | T10: =S10/1.19 -> 254704.85 | U10: 303098.77 | V10: 254704.85
A11: 6 | B11: CAMBIO DE EMPAQUES DE CAJA DE DIRECCIÓN | C11: 263922 | D11: =C11*1.052*1.051*1.0387 -> 303098.77 | E11: =D11/1.19 -> 254704.85 | F11: 263922 | G11: =F11*1.052*1.051*1.0387 -> 303098.77 | H11: =G11/1.19 -> 254704.85 | I11: 263922 | J11: =I11*1.052*1.051*1.0387 -> 303098.77 | K11: =J11/1.19 -> 254704.85 | L11: 263922 | M11: =L11*1.052*1.051*1.0387 -> 303098.77 | N11: =M11/1.19 -> 254704.85 | O11: 263922 | P11: =O11*1.052*1.051*1.0387 -> 303098.77 | Q11: =P11/1.19 -> 254704.85 | R11: 0 | S11: 303098.77 | T11: =S11/1.19 -> 254704.85 | U11: 303098.77 | V11: 254704.85
A12: 7 | B12: CAMBIO DE RETENEDORES CAJA DE DIRECCION | C12: 263922 | D12: =C12*1.052*1.051*1.0387 -> 303098.77 | E12: =D12/1.19 -> 254704.85 | F12: 263922 | G12: =F12*1.052*1.051*1.0387 -> 303098.77 | H12: =G12/1.19 -> 254704.85 | I12: 263922 | J12: =I12*1.052*1.051*1.0387 -> 303098.77 | K12: =J12/1.19 -> 254704.85 | L12: 263922 | M12: =L12*1.052*1.051*1.0387 -> 303098.77 | N12: =M12/1.19 -> 254704.85 | O12: 263922 | P12: =O12*1.052*1.051*1.0387 -> 303098.77 | Q12: =P12/1.19 -> 254704.85 | R12: 0 | S12: 303098.77 | T12: =S12/1.19 -> 254704.85 | U12: 303098.77 | V12: 254704.85
A13: 8 | B13: CAMBIO GUARDAPOLVOS CAJA DIRECCION (COMPLETO) | C13: 263922 | D13: =C13*1.052*1.051*1.0387 -> 303098.77 | E13: =D13/1.19 -> 254704.85 | F13: 263922 | G13: =F13*1.052*1.051*1.0387 -> 303098.77 | H13: =G13/1.19 -> 254704.85 | I13: 263922 | J13: =I13*1.052*1.051*1.0387 -> 303098.77 | K13: =J13/1.19 -> 254704.85 | L13: 263922 | M13: =L13*1.052*1.051*1.0387 -> 303098.77 | N13: =M13/1.19 -> 254704.85 | O13: 263922 | P13: =O13*1.052*1.051*1.0387 -> 303098.77 | Q13: =P13/1.19 -> 254704.85 | R13: 0 | S13: 303098.77 | T13: =S13/1.19 -> 254704.85 | U13: 303098.77 | V13: 254704.85
A14: 9 | B14: CAMBIO MANGUERA DIRECCIÓN HIDRAULICA | C14: 263922 | D14: =C14*1.052*1.051*1.0387 -> 303098.77 | E14: =D14/1.19 -> 254704.85 | F14: 263922 | G14: =F14*1.052*1.051*1.0387 -> 303098.77 | H14: =G14/1.19 -> 254704.85 | I14: 263922 | J14: =I14*1.052*1.051*1.0387 -> 303098.77 | K14: =J14/1.19 -> 254704.85 | L14: 263922 | M14: =L14*1.052*1.051*1.0387 -> 303098.77 | N14: =M14/1.19 -> 254704.85 | O14: 263922 | P14: =O14*1.052*1.051*1.0387 -> 303098.77 | Q14: =P14/1.19 -> 254704.85 | R14: 0 | S14: 303098.77 | T14: =S14/1.19 -> 254704.85 | U14: 303098.77 | V14: 254704.85
A15: 10 | B15: CAMBIO MANGUERA HIDRAULICO | C15: 263922 | D15: =C15*1.052*1.051*1.0387 -> 303098.77 | E15: =D15/1.19 -> 254704.85 | F15: 263922 | G15: =F15*1.052*1.051*1.0387 -> 303098.77 | H15: =G15/1.19 -> 254704.85 | I15: 263922 | J15: =I15*1.052*1.051*1.0387 -> 303098.77 | K15: =J15/1.19 -> 254704.85 | L15: 263922 | M15: =L15*1.052*1.051*1.0387 -> 303098.77 | N15: =M15/1.19 -> 254704.85 | O15: 263922 | P15: =O15*1.052*1.051*1.0387 -> 303098.77 | Q15: =P15/1.19 -> 254704.85 | R15: 0 | S15: 303098.77 | T15: =S15/1.19 -> 254704.85 | U15: 303098.77 | V15: 254704.85
A16: 11 | B16: REPARACION BOMBA DIRECCION HIDRAULICA | C16: 0 | D16: =C16*1.052*1.051*1.0387 -> 0 | E16: =D16/1.19 -> 0 | F16: 494373 | G16: =F16*1.052*1.051*1.0387 -> 567758.09 | H16: =G16/1.19 -> 477107.64 | I16: 494374 | J16: =I16*1.052*1.051*1.0387 -> 567759.24 | K16: =J16/1.19 -> 477108.6 | L16: 494375 | M16: =L16*1.052*1.051*1.0387 -> 567760.39 | N16: =M16/1.19 -> 477109.57 | O16: 494375 | P16: =O16*1.052*1.051*1.0387 -> 567760.39 | Q16: =P16/1.19 -> 477109.57 | R16: 0 | S16: 567760.39 | T16: =S16/1.19 -> 477109.57 | U16: 567760.39 | V16: 477109.57
A17: 12 | B17: REPARACION CAJA DE DIRECCION HIDRAULICA | C17: 767073 | D17: =C17*1.052*1.051*1.0387 -> 880937.88 | E17: =D17/1.19 -> 740283.93 | F17: 767073 | G17: =F17*1.052*1.051*1.0387 -> 880937.88 | H17: =G17/1.19 -> 740283.93 | I17: 767073 | J17: =I17*1.052*1.051*1.0387 -> 880937.88 | K17: =J17/1.19 -> 740283.93 | L17: 767073 | M17: =L17*1.052*1.051*1.0387 -> 880937.88 | N17: =M17/1.19 -> 740283.93 | O17: 767073 | P17: =O17*1.052*1.051*1.0387 -> 880937.88 | Q17: =P17/1.19 -> 740283.93 | R17: 0 | S17: 880937.88 | T17: =S17/1.19 -> 740283.93 | U17: 880937.88 | V17: 740283.93
... A19: 14 | B19: REVISIÓN GENERAL DEL SISTEMA DE DIRECCIÓN (REVISAR JUEGO LIBRE, NIVELES DE ACEITE, VERIFICACIÓN DE PRESENCIA DE RUIDOS ) | C19: 263922 | D19: =C19*1.052*1.051*1.0387 -> 303098.77 | E19: =D19/1.19 -> 254704.85 | F19: 263922 | G19: =F19*1.052*1.051*1.0387 -> 303098.77 | H19: =G19/1.19 -> 254704.85 | I19: 263922 | J19: =I19*1.052*1.051*1.0387 -> 303098.77 | K19: =J19/1.19 -> 254704.85 | L19: 263922 | M19: =L19*1.052*1.051*1.0387 -> 303098.77 | N19: =M19/1.19 -> 254704.85 | O19: 263922 | P19: =O19*1.052*1.051*1.0387 -> 303098.77 | Q19: =P19/1.19 -> 254704.85 | R19: 0 | S19: 303098.77 | T19: =S19/1.19 -> 254704.85 | U19: 303098.77 | V19: 254704.85
A20: ITEM Nº 2: MANO DE OBRA GRUPO ELÉCTRICO | C20: 0 | D20: =C20*1.052*1.051*1.0387 -> 0 | E20: =D20/1.19 -> 0 | F20: 0 | G20: =F20*1.052*1.051*1.0387 -> 0 | H20: =G20/1.19 -> 0 | I20: 0 | J20: =I20*1.052*1.051*1.0387 -> 0 | K20: =J20/1.19 -> 0 | L20: 0 | M20: =L20*1.052*1.051*1.0387 -> 0 | N20: =M20/1.19 -> 0 | O20: 0 | P20: =O20*1.052*1.051*1.0387 -> 0 | Q20: =P20/1.19 -> 0 | R20: 0 | S20: 0 | T20: =S20/1.19 -> 0 | U20: 0 | V20: 0
A21: 15 | B21: ALINEACIÓN DE LUCES | C21: 47736 | D21: =C21*1.052*1.051*1.0387 -> 54821.967 | E21: =D21/1.19 -> 46068.88 | F21: 47736 | G21: =F21*1.052*1.051*1.0387 -> 54821.967 | H21: =G21/1.19 -> 46068.88 | I21: 47736 | J21: =I21*1.052*1.051*1.0387 -> 54821.967 | K21: =J21/1.19 -> 46068.88 | L21: 47736 | M21: =L21*1.052*1.051*1.0387 -> 54821.967 | N21: =M21/1.19 -> 46068.88 | O21: 47736 | P21: =O21*1.052*1.051*1.0387 -> 54821.967 | Q21: =P21/1.19 -> 46068.88 | R21: 0 | S21: 54821.967 | T21: =S21/1.19 -> 46068.88 | U21: 54821.967 | V21: 46068.88
A22: 16 | B22: CAMBIO ALTERN/ADOR | C22: 263922 | D22: =C22*1.052*1.051*1.0387 -> 303098.77 | E22: =D22/1.19 -> 254704.85 | F22: 263922 | G22: =F22*1.052*1.051*1.0387 -> 303098.77 | H22: =G22/1.19 -> 254704.85 | I22: 263922 | J22: =I22*1.052*1.051*1.0387 -> 303098.77 | K22: =J22/1.19 -> 254704.85 | L22: 263922 | M22: =L22*1.052*1.051*1.0387 -> 303098.77 | N22: =M22/1.19 -> 254704.85 | O22: 263922 | P22: =O22*1.052*1.051*1.0387 -> 303098.77 | Q22: =P22/1.19 -> 254704.85 | R22: 0 | S22: 303098.77 | T22: =S22/1.19 -> 254704.85 | U22: 303098.77 | V22: 254704.85
A23: 17 | B23: CAMBIO ARRANQUE MOTOR | C23: 263922 | D23: =C23*1.052*1.051*1.0387 -> 303098.77 | E23: =D23/1.19 -> 254704.85 | F23: 263922 | G23: =F23*1.052*1.051*1.0387 -> 303098.77 | H23: =G23/1.19 -> 254704.85 | I23: 263922 | J23: =I23*1.052*1.051*1.0387 -> 303098.77 | K23: =J23/1.19 -> 254704.85 | L23: 263922 | M23: =L23*1.052*1.051*1.0387 -> 303098.77 | N23: =M23/1.19 -> 254704.85 | O23: 263922 | P23: =O23*1.052*1.051*1.0387 -> 303098.77 | Q23: =P23/1.19 -> 254704.85 | R23: 0 | S23: 303098.77 | T23: =S23/1.19 -> 254704.85 | U23: 303098.77 | V23: 254704.85
A24: 18 | B24: CAMBIO BOBINAS | C24: 263922 | D24: =C24*1.052*1.051*1.0387 -> 303098.77 | E24: =D24/1.19 -> 254704.85 | F24: 263922 | G24: =F24*1.052*1.051*1.0387 -> 303098.77 | H24: =G24/1.19 -> 254704.85 | I24: 263922 | J24: =I24*1.052*1.051*1.0387 -> 303098.77 | K24: =J24/1.19 -> 254704.85 | L24: 0 | M24: =L24*1.052*1.051*1.0387 -> 0 | N24: =M24/1.19 -> 0 | O24: 0 | P24: =O24*1.052*1.051*1.0387 -> 0 | Q24: =P24/1.19 -> 0 | R24: 0 | S24: 0 | T24: =S24/1.19 -> 0 | U24: 0 | V24: 0
A25: 19 | B25: CAMBIO BOMBILLO EXPLORADORA | C25: 47736 | D25: =C25*1.052*1.051*1.0387 -> 54821.967 | E25: =D25/1.19 -> 46068.88 | F25: 47736 | G25: =F25*1.052*1.051*1.0387 -> 54821.967 | H25: =G25/1.19 -> 46068.88 | I25: 165157 | J25: =I25*1.052*1.051*1.0387 -> 189673.03 | K25: =J25/1.19 -> 159389.1 | L25: 165157 | M25: =L25*1.052*1.051*1.0387 -> 189673.03 | N25: =M25/1.19 -> 159389.1 | O25: 165158 | P25: =O25*1.052*1.051*1.0387 -> 189674.17 | Q25: =P25/1.19 -> 159390.06 | R25: 165158 | S25: 189674.17 | T25: =S25/1.19 -> 159390.06 | U25: 189674.17 | V25: 159390.06
A26: 20 | B26: CAMBIO BUJAS | C26: 192042 | D26: =C26*1.052*1.051*1.0387 -> 220548.86 | E26: =D26/1.19 -> 185335.17 | F26: 192042 | G26: =F26*1.052*1.051*1.0387 -> 220548.86 | H26: =G26/1.19 -> 185335.17 | I26: 192042 | J26: =I26*1.052*1.051*1.0387 -> 220548.86 | K26: =J26/1.19 -> 185335.17 | L26: 192042 | M26: =L26*1.052*1.051*1.0387 -> 220548.86 | N26: =M26/1.19 -> 185335.17 | O26: 192042 | P26: =O26*1.052*1.051*1.0387 -> 220548.86 | Q26: =P26/1.19 -> 185335.17 | R26: 0 | S26: 220548.86 | T26: =S26/1.19 -> 185335.17 | U26: 220548.86 | V26: 185335.17
A27: 21 | B27: CAMBIO DE SENSOR CMP | C27: 167900 | D27: =C27*1.052*1.051*1.0387 -> 192823.2 | E27: =D27/1.19 -> 162036.3 | F27: 167900 | G27: =F27*1.052*1.051*1.0387 -> 192823.2 | H27: =G27/1.19 -> 162036.3 | I27: 167900 | J27: =I27*1.052*1.051*1.0387 -> 192823.2 | K27: =J27/1.19 -> 162036.3 | L27: 167900 | M27: =L27*1.052*1.051*1.0387 -> 192823.2 | N27: =M27/1.19 -> 162036.3 | O27: 167900 | P27: =O27*1.052*1.051*1.0387 -> 192823.2 | Q27: =P27/1.19 -> 162036.3 | R27: 0 | S27: 192823.2 | T27: =S27/1.19 -> 162036.3 | U27: 192823.2 | V27: 162036.3
A28: 22 | B28: CAMBIO DE BATERIA | C28: 71878 | D28: =C28*1.052*1.051*1.0387 -> 82547.623 | E28: =D28/1.19 -> 69367.75 | F28: 71878 | G28: =F28*1.052*1.051*1.0387 -> 82547.623 | H28: =G28/1.19 -> 69367.75 | I28: 71878 | J28: =I28*1.052*1.051*1.0387 -> 82547.623 | K28: =J28/1.19 -> 69367.75 | L28: 71878 | M28: =L28*1.052*1.051*1.0387 -> 82547.623 | N28: =M28/1.19 -> 69367.75 | O28: 71878 | P28: =O28*1.052*1.051*1.0387 -> 82547.623 | Q28: =P28/1.19 -> 69367.75 | R28: 71878 | S28: 82547.623 | T28: =S28/1.19 -> 69367.75 | U28: 82547.623 | V28: 69367.75
A29: 23 | B29: CAMBIO DE BOMBILLO FAROLA | C29: 30178 | D29: =C29*1.052*1.051*1.0387 -> 34657.644 | E29: =D29/1.19 -> 29124.071 | F29: 30178 | G29: =F29*1.052*1.051*1.0387 -> 34657.644 | H29: =G29/1.19 -> 29124.071 | I29: 30178 | J29: =I29*1.052*1.051*1.0387 -> 34657.644 | K29: =J29/1.19 -> 29124.071 | L29: 30178 | M29: =L29*1.052*1.051*1.0387 -> 34657.644 | N29: =M29/1.19 -> 29124.071 | O29: 30178 | P29: =O29*1.052*1.051*1.0387 -> 34657.644 | Q29: =P29/1.19 -> 29124.071 | R29: 30178 | S29: 34657.644 | T29: =S29/1.19 -> 29124.071 | U29: 34657.644 | V29: 29124.071
A30: 24 | B30: CAMBIO DE BOMBILLO STOP | C30: 30178 | D30: =C30*1.052*1.051*1.0387 -> 34657.644 | E30: =D30/1.19 -> 29124.071 | F30: 30178 | G30: =F30*1.052*1.051*1.0387 -> 34657.644 | H30: =G30/1.19 -> 29124.071 | I30: 30178 | J30: =I30*1.052*1.051*1.0387 -> 34657.644 | K30: =J30/1.19 -> 29124.071 | L30: 30178 | M30: =L30*1.052*1.051*1.0387 -> 34657.644 | N30: =M30/1.19 -> 29124.071 | O30: 30178 | P30: =O30*1.052*1.051*1.0387 -> 34657.644 | Q30: =P30/1.19 -> 29124.071 | R30: 30178 | S30: 34657.644 | T30: =S30/1.19 -> 29124.071 | U30: 34657.644 | V30: 29124.071
A31: 25 | B31: CAMBIO DE BOTON ELEVAVIDRIO DELANTERO COPILOTO | C31: 167900 | D31: =C31*1.052*1.051*1.0387 -> 192823.2 | E31: =D31/1.19 -> 162036.3 | F31: 167900 | G31: =F31*1.052*1.051*1.0387 -> 192823.2 | H31: =G31/1.19 -> 162036.3 | I31: 167900 | J31: =I31*1.052*1.051*1.0387 -> 192823.2 | K31: =J31/1.19 -> 162036.3 | L31: 167900 | M31: =L31*1.052*1.051*1.0387 -> 192823.2 | N31: =M31/1.19 -> 162036.3 | O31: 167900 | P31: =O31*1.052*1.051*1.0387 -> 192823.2 | Q31: =P31/1.19 -> 162036.3 | R31: 0 | S31: 192823.2 | T31: =S31/1.19 -> 162036.3 | U31: 192823.2 | V31: 162036.3
A32: 26 | B32: CAMBIO DE BOTON ELEVAVIDRIO TRASERO | C32: 167900 | D32: =C32*1.052*1.051*1.0387 -> 192823.2 | E32: =D32/1.19 -> 162036.3 | F32: 0 | G32: =F32*1.052*1.051*1.0387 -> 0 | H32: =G32/1.19 -> 0 | I32: 167901 | J32: =I32*1.052*1.051*1.0387 -> 192824.35 | K32: =J32/1.19 -> 162037.27 | L32: 167902 | M32: =L32*1.052*1.051*1.0387 -> 192825.5 | N32: =M32/1.19 -> 162038.23 | O32: 0 | P32: =O32*1.052*1.051*1.0387 -> 0 | Q32: =P32/1.19 -> 0 | R32: 0 | S32: 0 | T32: =S32/1.19 -> 0 | U32: 0 | V32: 0
... A75: 69 | B75: SERVICIO SCANER DIAGNOSTICO DE CODIGOS | C75: 108093 | D75: =C75*1.052*1.051*1.0387 -> 124138.4 | E75: =D75/1.19 -> 104317.99 | F75: 108093 | G75: =F75*1.052*1.051*1.0387 -> 124138.4 | H75: =G75/1.19 -> 104317.99 | I75: 108093 | J75: =I75*1.052*1.051*1.0387 -> 124138.4 | K75: =J75/1.19 -> 104317.99 | L75: 108093 | M75: =L75*1.052*1.051*1.0387 -> 124138.4 | N75: =M75/1.19 -> 104317.99 | O75: 108093 | P75: =O75*1.052*1.051*1.0387 -> 124138.4 | Q75: =P75/1.19 -> 104317.99 | R75: 0 | S75: 124138.4 | T75: =S75/1.19 -> 104317.99 | U75: 124138.4 | V75: 104317.99
A76: ITEM Nº 4: MANO DE OBRA FRENOS | C76: 0 | D76: =C76*1.052*1.051*1.0387 -> 0 | E76: =D76/1.19 -> 0 | F76: 0 | G76: =F76*1.052*1.051*1.0387 -> 0 | H76: =G76/1.19 -> 0 | I76: 0 | J76: =I76*1.052*1.051*1.0387 -> 0 | K76: =J76/1.19 -> 0 | L76: 0 | M76: =L76*1.052*1.051*1.0387 -> 0 | N76: =M76/1.19 -> 0 | O76: 0 | P76: =O76*1.052*1.051*1.0387 -> 0 | Q76: =P76/1.19 -> 0 | R76: 0 | S76: 0 | T76: =S76/1.19 -> 0 | U76: 0 | V76: 0
A77: 70 | B77: CAMBIO BANDAS - JUEGO | C77: 287515 | D77: =C77*1.052*1.051*1.0387 -> 330193.94 | E77: =D77/1.19 -> 277473.9 | F77: 287515 | G77: =F77*1.052*1.051*1.0387 -> 330193.94 | H77: =G77/1.19 -> 277473.9 | I77: 287515 | J77: =I77*1.052*1.051*1.0387 -> 330193.94 | K77: =J77/1.19 -> 277473.9 | L77: 287515 | M77: =L77*1.052*1.051*1.0387 -> 330193.94 | N77: =M77/1.19 -> 277473.9 | O77: 287515 | P77: =O77*1.052*1.051*1.0387 -> 330193.94 | Q77: =P77/1.19 -> 277473.9 | R77: 287515 | S77: 330193.94 | T77: =S77/1.19 -> 277473.9 | U77: 330193.94 | V77: 277473.9
A78: 71 | B78: CAMBIO CAMPANA UN LADO | C78: 167900 | D78: =C78*1.052*1.051*1.0387 -> 192823.2 | E78: =D78/1.19 -> 162036.3 | F78: 167900 | G78: =F78*1.052*1.051*1.0387 -> 192823.2 | H78: =G78/1.19 -> 162036.3 | I78: 167900 | J78: =I78*1.052*1.051*1.0387 -> 192823.2 | K78: =J78/1.19 -> 162036.3 | L78: 167900 | M78: =L78*1.052*1.051*1.0387 -> 192823.2 | N78: =M78/1.19 -> 162036.3 | O78: 167900 | P78: =O78*1.052*1.051*1.0387 -> 192823.2 | Q78: =P78/1.19 -> 162036.3 | R78: 167900 | S78: 192823.2 | T78: =S78/1.19 -> 162036.3 | U78: 192823.2 | V78: 162036.3
A79: 72 | B79: CAMBIO CILINDRO FRENO RUEDA TRASERA UN LADO | C79: 287515 | D79: =C79*1.052*1.051*1.0387 -> 330193.94 | E79: =D79/1.19 -> 277473.9 | F79: 287515 | G79: =F79*1.052*1.051*1.0387 -> 330193.94 | H79: =G79/1.19 -> 277473.9 | I79: 287515 | J79: =I79*1.052*1.051*1.0387 -> 330193.94 | K79: =J79/1.19 -> 277473.9 | L79: 287515 | M79: =L79*1.052*1.051*1.0387 -> 330193.94 | N79: =M79/1.19 -> 277473.9 | O79: 287515 | P79: =O79*1.052*1.051*1.0387 -> 330193.94 | Q79: =P79/1.19 -> 277473.9 | R79: 0 | S79: 330193.94 | T79: =S79/1.19 -> 277473.9 | U79: 330193.94 | V79: 277473.9
A80: 73 | B80: CAMBIO DE BANDAS/PASTILLAS TRASERAS | C80: 192042 | D80: =C80*1.052*1.051*1.0387 -> 220548.86 | E80: =D80/1.19 -> 185335.17 | F80: 192042 | G80: =F80*1.052*1.051*1.0387 -> 220548.86 | H80: =G80/1.19 -> 185335.17 | I80: 192042 | J80: =I80*1.052*1.051*1.0387 -> 220548.86 | K80: =J80/1.19 -> 185335.17 | L80: 192042 | M80: =L80*1.052*1.051*1.0387 -> 220548.86 | N80: =M80/1.19 -> 185335.17 | O80: 192042 | P80: =O80*1.052*1.051*1.0387 -> 220548.86 | Q80: =P80/1.19 -> 185335.17 | R80: 208503 | S80: 220548.86 | T80: =S80/1.19 -> 185335.17 | U80: 220548.86 | V80: 185335.17
A81: 74 | B81: CAMBIO DE LIQUIDO DE FRENOS (Incluido en el valor de cambio de pastillas, discos, bandas y/o zapatas) | C81: 167900 | D81: =C81*1.052*1.051*1.0387 -> 192823.2 | E81: =D81/1.19 -> 162036.3 | F81: 167900 | G81: =F81*1.052*1.051*1.0387 -> 192823.2 | H81: =G81/1.19 -> 162036.3 | I81: 167900 | J81: =I81*1.052*1.051*1.0387 -> 192823.2 | K81: =J81/1.19 -> 162036.3 | L81: 167900 | M81: =L81*1.052*1.051*1.0387 -> 192823.2 | N81: =M81/1.19 -> 162036.3 | O81: 167900 | P81: =O81*1.052*1.051*1.0387 -> 192823.2 | Q81: =P81/1.19 -> 162036.3 | R81: 0 | S81: 192823.2 | T81: =S81/1.19 -> 162036.3 | U81: 192823.2 | V81: 162036.3
A82: 75 | B82: CAMBIO DE MORDAZA FRENOS UN LADO | C82: 227707 | D82: =C82*1.052*1.051*1.0387 -> 261507.99 | E82: =D82/1.19 -> 219754.62 | F82: 227707 | G82: =F82*1.052*1.051*1.0387 -> 261507.99 | H82: =G82/1.19 -> 219754.62 | I82: 227707 | J82: =I82*1.052*1.051*1.0387 -> 261507.99 | K82: =J82/1.19 -> 219754.62 | L82: 227707 | M82: =L82*1.052*1.051*1.0387 -> 261507.99 | N82: =M82/1.19 -> 219754.62 | O82: 227707 | P82: =O82*1.052*1.051*1.0387 -> 261507.99 | Q82: =P82/1.19 -> 219754.62 | R82: 0 | S82: 261507.99 | T82: =S82/1.19 -> 219754.62 | U82: 261507.99 | V82: 219754.62
A83: 76 | B83: CAMBIO DE PASTILLAS DELANTERAS | C83: 167900 | D83: =C83*1.052*1.051*1.0387 -> 192823.2 | E83: =D83/1.19 -> 162036.3 | F83: 167900 | G83: =F83*1.052*1.051*1.0387 -> 192823.2 | H83: =G83/1.19 -> 162036.3 | I83: 167900 | J83: =I83*1.052*1.051*1.0387 -> 192823.2 | K83: =J83/1.19 -> 162036.3 | L83: 167900 | M83: =L83*1.052*1.051*1.0387 -> 192823.2 | N83: =M83/1.19 -> 162036.3 | O83: 167900 | P83: =O83*1.052*1.051*1.0387 -> 192823.2 | Q83: =P83/1.19 -> 162036.3 | R83: 167900 | S83: 192823.2 | T83: =S83/1.19 -> 162036.3 | U83: 192823.2 | V83: 162036.3
A84: 77 | B84: CAMBIO DISCO FRENO DELANTERO UN LADO | C84: 227707 | D84: =C84*1.052*1.051*1.0387 -> 261507.99 | E84: =D84/1.19 -> 219754.62 | F84: 227707 | G84: =F84*1.052*1.051*1.0387 -> 261507.99 | H84: =G84/1.19 -> 219754.62 | I84: 227707 | J84: =I84*1.052*1.051*1.0387 -> 261507.99 | K84: =J84/1.19 -> 219754.62 | L84: 227707 | M84: =L84*1.052*1.051*1.0387 -> 261507.99 | N84: =M84/1.19 -> 219754.62 | O84: 227707 | P84: =O84*1.052*1.051*1.0387 -> 261507.99 | Q84: =P84/1.19 -> 219754.62 | R84: 227707 | S84: 261507.99 | T84: =S84/1.19 -> 219754.62 | U84: 261507.99 | V84: 219754.62
A85: 78 | B85: CAMBIO DISCO FRENO TRASERO UN LADO | C85: 0 | D85: =C85*1.052*1.051*1.0387 -> 0 | E85: =D85/1.19 -> 0 | F85: 0 | G85: =F85*1.052*1.051*1.0387 -> 0 | H85: =G85/1.19 -> 0 | I85: 208504 | J85: =I85*1.052*1.051*1.0387 -> 239454.49 | K85: =J85/1.19 -> 201222.26 | L85: 208504 | M85: =L85*1.052*1.051*1.0387 -> 239454.49 | N85: =M85/1.19 -> 201222.26 | O85: 0 | P85: =O85*1.052*1.051*1.0387 -> 0 | Q85: =P85/1.19 -> 0 | R85: 0 | S85: 0 | T85: =S85/1.19 -> 0 | U85: 0 | V85: 0
A86: 79 | B86: CAMBIO EMPAQUETADURA / EMPAQUES / RETENES BOMBA | C86: 192042 | D86: =C86*1.052*1.051*1.0387 -> 220548.86 | E86: =D86/1.19 -> 185335.17 | F86: 192042 | G86: =F86*1.052*1.051*1.0387 -> 220548.86 | H86: =G86/1.19 -> 185335.17 | I86: 192042 | J86: =I86*1.052*1.051*1.0387 -> 220548.86 | K86: =J86/1.19 -> 185335.17 | L86: 192042 | M86: =L86*1.052*1.051*1.0387 -> 220548.86 | N86: =M86/1.19 -> 185335.17 | O86: 192042 | P86: =O86*1.052*1.051*1.0387 -> 220548.86 | Q86: =P86/1.19 -> 185335.17 | R86: 0 | S86: 220548.86 | T86: =S86/1.19 -> 185335.17 | U86: 220548.86 | V86: 185335.17
A87: 80 | B87: CAMBIO GUAYA FRENO EMERGENCIA | C87: 192042 | D87: =C87*1.052*1.051*1.0387 -> 220548.86 | E87: =D87/1.19 -> 185335.17 | F87: 192042 | G87: =F87*1.052*1.051*1.0387 -> 220548.86 | H87: =G87/1.19 -> 185335.17 | I87: 192042 | J87: =I87*1.052*1.051*1.0387 -> 220548.86 | K87: =J87/1.19 -> 185335.17 | L87: 192042 | M87: =L87*1.052*1.051*1.0387 -> 220548.86 | N87: =M87/1.19 -> 185335.17 | O87: 192042 | P87: =O87*1.052*1.051*1.0387 -> 220548.86 | Q87: =P87/1.19 -> 185335.17 | R87: 0 | S87: 220548.86 | T87: =S87/1.19 -> 185335.17 | U87: 220548.86 | V87: 185335.17
A88: 81 | B88: CAMBIO LATIGILLO DELANTERO | C88: 192042 | D88: =C88*1.052*1.051*1.0387 -> 220548.86 | E88: =D88/1.19 -> 185335.17 | F88: 192042 | G88: =F88*1.052*1.051*1.0387 -> 220548.86 | H88: =G88/1.19 -> 185335.17 | I88: 192042 | J88: =I88*1.052*1.051*1.0387 -> 220548.86 | K88: =J88/1.19 -> 185335.17 | L88: 192042 | M88: =L88*1.052*1.051*1.0387 -> 220548.86 | N88: =M88/1.19 -> 185335.17 | O88: 192042 | P88: =O88*1.052*1.051*1.0387 -> 220548.86 | Q88: =P88/1.19 -> 185335.17 | R88: 0 | S88: 220548.86 | T88: =S88/1.19 -> 185335.17 | U88: 220548.86 | V88: 185335.17
... A97: 90 | B97: REVISION GENERAL DE FRENOS (REVISIÓN DE PASTILLAS, Y BANDAS, REVISIÓN DE LINEAS HIDRAULICAS, REVISIÓN DE FUGAS, REVISIÓN DE NIVEL HIDRAULICO, REVISIÓN DE CILINDROS DE FRENO) incluido en el valor de cambio de pastillas, discos, bandas y/o zapatas | C97: 287515 | D97: =C97*1.052*1.051*1.0387 -> 330193.94 | E97: =D97/1.19 -> 277473.9 | F97: 287515 | G97: =F97*1.052*1.051*1.0387 -> 330193.94 | H97: =G97/1.19 -> 277473.9 | I97: 287515 | J97: =I97*1.052*1.051*1.0387 -> 330193.94 | K97: =J97/1.19 -> 277473.9 | L97: 287515 | M97: =L97*1.052*1.051*1.0387 -> 330193.94 | N97: =M97/1.19 -> 277473.9 | O97: 287515 | P97: =O97*1.052*1.051*1.0387 -> 330193.94 | Q97: =P97/1.19 -> 277473.9 | R97: 287515 | S97: 330193.94 | T97: =S97/1.19 -> 277473.9 | U97: 330193.94 | V97: 277473.9
A98: ITEM Nº 5: MANO DE OBRA MOTOR | C98: 0 | D98: =C98*1.052*1.051*1.0387 -> 0 | E98: =D98/1.19 -> 0 | F98: 0 | G98: =F98*1.052*1.051*1.0387 -> 0 | H98: =G98/1.19 -> 0 | I98: 0 | J98: =I98*1.052*1.051*1.0387 -> 0 | K98: =J98/1.19 -> 0 | L98: 0 | M98: =L98*1.052*1.051*1.0387 -> 0 | N98: =M98/1.19 -> 0 | O98: 0 | P98: =O98*1.052*1.051*1.0387 -> 0 | Q98: =P98/1.19 -> 0 | R98: 0 | S98: 0 | T98: =S98/1.19 -> 0 | U98: 0 | V98: 0
A99: 91 | B99: ANILLAR MOTOR | C99: 1438674 | D99: =C99*1.052*1.051*1.0387 -> 1652231.8 | E99: =D99/1.19 -> 1388430.1 | F99: 1438674 | G99: =F99*1.052*1.051*1.0387 -> 1652231.8 | H99: =G99/1.19 -> 1388430.1 | I99: 1438674 | J99: =I99*1.052*1.051*1.0387 -> 1652231.8 | K99: =J99/1.19 -> 1388430.1 | L99: 1438674 | M99: =L99*1.052*1.051*1.0387 -> 1652231.8 | N99: =M99/1.19 -> 1388430.1 | O99: 1438674 | P99: =O99*1.052*1.051*1.0387 -> 1652231.8 | Q99: =P99/1.19 -> 1388430.1 | R99: 0 | S99: 1652231.8 | T99: =S99/1.19 -> 1388430.1 | U99: 1652231.8 | V99: 1388430.1
A100: 92 | B100: AJUSTAR MULTPLE DE ADMISIÓN / ESCAPE | C100: 167900 | D100: =C100*1.052*1.051*1.0387 -> 192823.2 | E100: =D100/1.19 -> 162036.3 | F100: 167900 | G100: =F100*1.052*1.051*1.0387 -> 192823.2 | H100: =G100/1.19 -> 162036.3 | I100: 167900 | J100: =I100*1.052*1.051*1.0387 -> 192823.2 | K100: =J100/1.19 -> 162036.3 | L100: 167900 | M100: =L100*1.052*1.051*1.0387 -> 192823.2 | N100: =M100/1.19 -> 162036.3 | O100: 167900 | P100: =O100*1.052*1.051*1.0387 -> 192823.2 | Q100: =P100/1.19 -> 162036.3 | R100: 0 | S100: 192823.2 | T100: =S100/1.19 -> 162036.3 | U100: 192823.2 | V100: 162036.3
A101: 93 | B101: CALIBRADO DE VALVULAS | C101: 167900 | D101: =C101*1.052*1.051*1.0387 -> 192823.2 | E101: =D101/1.19 -> 162036.3 | F101: 167900 | G101: =F101*1.052*1.051*1.0387 -> 192823.2 | H101: =G101/1.19 -> 162036.3 | I101: 167900 | J101: =I101*1.052*1.051*1.0387 -> 192823.2 | K101: =J101/1.19 -> 162036.3 | L101: 167900 | M101: =L101*1.052*1.051*1.0387 -> 192823.2 | N101: =M101/1.19 -> 162036.3 | O101: 167900 | P101: =O101*1.052*1.051*1.0387 -> 192823.2 | Q101: =P101/1.19 -> 162036.3 | R101: 0 | S101: 192823.2 | T101: =S101/1.19 -> 162036.3 | U101: 192823.2 | V101: 162036.3
A102: 94 | B102: CAMBIO ACEITE Y FILTRO DE ACEITE | C102: 71878 | D102: =C102*1.052*1.051*1.0387 -> 82547.623 | E102: =D102/1.19 -> 69367.75 | F102: 71878 | G102: =F102*1.052*1.051*1.0387 -> 82547.623 | H102: =G102/1.19 -> 69367.75 | I102: 71878 | J102: =I102*1.052*1.051*1.0387 -> 82547.623 | K102: =J102/1.19 -> 69367.75 | L102: 71878 | M102: =L102*1.052*1.051*1.0387 -> 82547.623 | N102: =M102/1.19 -> 69367.75 | O102: 71878 | P102: =O102*1.052*1.051*1.0387 -> 82547.623 | Q102: =P102/1.19 -> 69367.75 | R102: 0 | S102: 82547.623 | T102: =S102/1.19 -> 69367.75 | U102: 82547.623 | V102: 69367.75
A103: 95 | B103: CAMBIO BOMBA DE ACEITE | C103: 539365 | D103: =C103*1.052*1.051*1.0387 -> 619428.74 | E103: =D103/1.19 -> 520528.35 | F103: 539365 | G103: =F103*1.052*1.051*1.0387 -> 619428.74 | H103: =G103/1.19 -> 520528.35 | I103: 539365 | J103: =I103*1.052*1.051*1.0387 -> 619428.74 | K103: =J103/1.19 -> 520528.35 | L103: 539365 | M103: =L103*1.052*1.051*1.0387 -> 619428.74 | N103: =M103/1.19 -> 520528.35 | O103: 539365 | P103: =O103*1.052*1.051*1.0387 -> 619428.74 | Q103: =P103/1.19 -> 520528.35 | R103: 0 | S103: 619428.74 | T103: =S103/1.19 -> 520528.35 | U103: 619428.74 | V103: 520528.35
A104: 96 | B104: CAMBIO CADENA(S) / CORREA(S) DE REPARTICIÓN | C104: 539365 | D104: =C104*1.052*1.051*1.0387 -> 619428.74 | E104: =D104/1.19 -> 520528.35 | F104: 539365 | G104: =F104*1.052*1.051*1.0387 -> 619428.74 | H104: =G104/1.19 -> 520528.35 | I104: 539365 | J104: =I104*1.052*1.051*1.0387 -> 619428.74 | K104: =J104/1.19 -> 520528.35 | L104: 539365 | M104: =L104*1.052*1.051*1.0387 -> 619428.74 | N104: =M104/1.19 -> 520528.35 | O104: 539365 | P104: =O104*1.052*1.051*1.0387 -> 619428.74 | Q104: =P104/1.19 -> 520528.35 | R104: 0 | S104: 619428.74 | T104: =S104/1.19 -> 520528.35 | U104: 619428.74 | V104: 520528.35
A105: 97 | B105: CAMBIO CARTER | C105: 407679 | D105: =C105*1.052*1.051*1.0387 -> 468195.17 | E105: =D105/1.19 -> 393441.32 | F105: 407679 | G105: =F105*1.052*1.051*1.0387 -> 468195.17 | H105: =G105/1.19 -> 393441.32 | I105: 407679 | J105: =I105*1.052*1.051*1.0387 -> 468195.17 | K105: =J105/1.19 -> 393441.32 | L105: 407679 | M105: =L105*1.052*1.051*1.0387 -> 468195.17 | N105: =M105/1.19 -> 393441.32 | O105: 407679 | P105: =O105*1.052*1.051*1.0387 -> 468195.17 | Q105: =P105/1.19 -> 393441.32 | R105: 0 | S105: 468195.17 | T105: =S105/1.19 -> 393441.32 | U105: 468195.17 | V105: 393441.32
A106: 98 | B106: CAMBIO CONDCUTOR DE AIRE | C106: 311658 | D106: =C106*1.052*1.051*1.0387 -> 357920.74 | E106: =D106/1.19 -> 300773.73 | F106: 311658 | G106: =F106*1.052*1.051*1.0387 -> 357920.74 | H106: =G106/1.19 -> 300773.73 | I106: 311658 | J106: =I106*1.052*1.051*1.0387 -> 357920.74 | K106: =J106/1.19 -> 300773.73 | L106: 311658 | M106: =L106*1.052*1.051*1.0387 -> 357920.74 | N106: =M106/1.19 -> 300773.73 | O106: 311658 | P106: =O106*1.052*1.051*1.0387 -> 357920.74 | Q106: =P106/1.19 -> 300773.73 | R106: 0 | S106: 357920.74 | T106: =S106/1.19 -> 300773.73 | U106: 357920.74 | V106: 300773.73
A107: 99 | B107: CAMBIO CORREA ACCESORIOS | C107: 192042 | D107: =C107*1.052*1.051*1.0387 -> 220548.86 | E107: =D107/1.19 -> 185335.17 | F107: 192042 | G107: =F107*1.052*1.051*1.0387 -> 220548.86 | H107: =G107/1.19 -> 185335.17 | I107: 192042 | J107: =I107*1.052*1.051*1.0387 -> 220548.86 | K107: =J107/1.19 -> 185335.17 | L107: 192042 | M107: =L107*1.052*1.051*1.0387 -> 220548.86 | N107: =M107/1.19 -> 185335.17 | O107: 192042 | P107: =O107*1.052*1.051*1.0387 -> 220548.86 | Q107: =P107/1.19 -> 185335.17 | R107: 0 | S107: 220548.86 | T107: =S107/1.19 -> 185335.17 | U107: 220548.86 | V107: 185335.17
A108: 100 | B108: CAMBIO CORREA ALTERN/ADOR | C108: 192042 | D108: =C108*1.052*1.051*1.0387 -> 220548.86 | E108: =D108/1.19 -> 185335.17 | F108: 192042 | G108: =F108*1.052*1.051*1.0387 -> 220548.86 | H108: =G108/1.19 -> 185335.17 | I108: 192042 | J108: =I108*1.052*1.051*1.0387 -> 220548.86 | K108: =J108/1.19 -> 185335.17 | L108: 192042 | M108: =L108*1.052*1.051*1.0387 -> 220548.86 | N108: =M108/1.19 -> 185335.17 | O108: 192042 | P108: =O108*1.052*1.051*1.0387 -> 220548.86 | Q108: =P108/1.19 -> 185335.17 | R108: 0 | S108: 220548.86 | T108: =S108/1.19 -> 185335.17 | U108: 220548.86 | V108: 185335.17
A109: 101 | B109: CAMBIO CORREA HIDRAULICO | C109: 192042 | D109: =C109*1.052*1.051*1.0387 -> 220548.86 | E109: =D109/1.19 -> 185335.17 | F109: 192042 | G109: =F109*1.052*1.051*1.0387 -> 220548.86 | H109: =G109/1.19 -> 185335.17 | I109: 192042 | J109: =I109*1.052*1.051*1.0387 -> 220548.86 | K109: =J109/1.19 -> 185335.17 | L109: 192042 | M109: =L109*1.052*1.051*1.0387 -> 220548.86 | N109: =M109/1.19 -> 185335.17 | O109: 192042 | P109: =O109*1.052*1.051*1.0387 -> 220548.86 | Q109: =P109/1.19 -> 185335.17 | R109: 0 | S109: 220548.86 | T109: =S109/1.19 -> 185335.17 | U109: 220548.86 | V109: 185335.17
A110: 102 | B110: CAMBIO CREMALLERA ARRANQUE | C110: 192042 | D110: =C110*1.052*1.051*1.0387 -> 220548.86 | E110: =D110/1.19 -> 185335.17 | F110: 192042 | G110: =F110*1.052*1.051*1.0387 -> 220548.86 | H110: =G110/1.19 -> 185335.17 | I110: 192042 | J110: =I110*1.052*1.051*1.0387 -> 220548.86 | K110: =J110/1.19 -> 185335.17 | L110: 192042 | M110: =L110*1.052*1.051*1.0387 -> 220548.86 | N110: =M110/1.19 -> 185335.17 | O110: 192042 | P110: =O110*1.052*1.051*1.0387 -> 220548.86 | Q110: =P110/1.19 -> 185335.17 | R110: 0 | S110: 220548.86 | T110: =S110/1.19 -> 185335.17 | U110: 220548.86 | V110: 185335.17
... A161: 153 | B161: SINCRONIZAR MOTOR (Contempla lavado y calibración de inyectores, sistema de inyección, calibración de la bomba de inyección y el valor de los limpiadores necesarios) | C161: 407679 | D161: =C161*1.052*1.051*1.0387 -> 468195.17 | E161: =D161/1.19 -> 393441.32 | F161: 407679 | G161: =F161*1.052*1.051*1.0387 -> 468195.17 | H161: =G161/1.19 -> 393441.32 | I161: 407679 | J161: =I161*1.052*1.051*1.0387 -> 468195.17 | K161: =J161/1.19 -> 393441.32 | L161: 407679 | M161: =L161*1.052*1.051*1.0387 -> 468195.17 | N161: =M161/1.19 -> 393441.32 | O161: 407679 | P161: =O161*1.052*1.051*1.0387 -> 468195.17 | Q161: =P161/1.19 -> 393441.32 | R161: 0 | S161: 468195.17 | T161: =S161/1.19 -> 393441.32 | U161: 468195.17 | V161: 393441.32
A162: ITEM Nº 6: MANO DE OBRA SISTEMA REFRIGERACIÓN | C162: 0 | D162: =C162*1.052*1.051*1.0387 -> 0 | E162: =D162/1.19 -> 0 | F162: 0 | G162: =F162*1.052*1.051*1.0387 -> 0 | H162: =G162/1.19 -> 0 | I162: 0 | J162: =I162*1.052*1.051*1.0387 -> 0 | K162: =J162/1.19 -> 0 | L162: 0 | M162: =L162*1.052*1.051*1.0387 -> 0 | N162: =M162/1.19 -> 0 | O162: 0 | P162: =O162*1.052*1.051*1.0387 -> 0 | Q162: =P162/1.19 -> 0 | R162: 0 | S162: 0 | T162: =S162/1.19 -> 0 | U162: 0 | V162: 0
A163: 154 | B163: CAMBIO BOMBA DE AGUA | C163: 539365 | D163: =C163*1.052*1.051*1.0387 -> 619428.74 | E163: =D163/1.19 -> 520528.35 | F163: 539365 | G163: =F163*1.052*1.051*1.0387 -> 619428.74 | H163: =G163/1.19 -> 520528.35 | I163: 539365 | J163: =I163*1.052*1.051*1.0387 -> 619428.74 | K163: =J163/1.19 -> 520528.35 | L163: 539365 | M163: =L163*1.052*1.051*1.0387 -> 619428.74 | N163: =M163/1.19 -> 520528.35 | O163: 539365 | P163: =O163*1.052*1.051*1.0387 -> 619428.74 | Q163: =P163/1.19 -> 520528.35 | R163: 0 | S163: 619428.74 | T163: =S163/1.19 -> 520528.35 | U163: 619428.74 | V163: 520528.35
A164: 155 | B164: CAMBIO COMPRESOR A/A | C164: 383536 | D164: =C164*1.052*1.051*1.0387 -> 440468.36 | E164: =D164/1.19 -> 370141.48 | F164: 383536 | G164: =F164*1.052*1.051*1.0387 -> 440468.36 | H164: =G164/1.19 -> 370141.48 | I164: 383536 | J164: =I164*1.052*1.051*1.0387 -> 440468.36 | K164: =J164/1.19 -> 370141.48 | L164: 383536 | M164: =L164*1.052*1.051*1.0387 -> 440468.36 | N164: =M164/1.19 -> 370141.48 | O164: 383536 | P164: =O164*1.052*1.051*1.0387 -> 440468.36 | Q164: =P164/1.19 -> 370141.48 | R164: 0 | S164: 440468.36 | T164: =S164/1.19 -> 370141.48 | U164: 440468.36 | V164: 370141.48
A165: 156 | B165: CAMBIO DE MANGUERA ENTRADA CALEFACTOR | C165: 287515 | D165: =C165*1.052*1.051*1.0387 -> 330193.94 | E165: =D165/1.19 -> 277473.9 | F165: 287515 | G165: =F165*1.052*1.051*1.0387 -> 330193.94 | H165: =G165/1.19 -> 277473.9 | I165: 287515 | J165: =I165*1.052*1.051*1.0387 -> 330193.94 | K165: =J165/1.19 -> 277473.9 | L165: 287515 | M165: =L165*1.052*1.051*1.0387 -> 330193.94 | N165: =M165/1.19 -> 277473.9 | O165: 287515 | P165: =O165*1.052*1.051*1.0387 -> 330193.94 | Q165: =P165/1.19 -> 277473.9 | R165: 0 | S165: 330193.94 | T165: =S165/1.19 -> 277473.9 | U165: 330193.94 | V165: 277473.9
A166: 157 | B166: CAMBIO DE MANGUERA PRINCIPAL REFRIGERACIÓN | C166: 287515 | D166: =C166*1.052*1.051*1.0387 -> 330193.94 | E166: =D166/1.19 -> 277473.9 | F166: 287515 | G166: =F166*1.052*1.051*1.0387 -> 330193.94 | H166: =G166/1.19 -> 277473.9 | I166: 287515 | J166: =I166*1.052*1.051*1.0387 -> 330193.94 | K166: =J166/1.19 -> 277473.9 | L166: 287515 | M166: =L166*1.052*1.051*1.0387 -> 330193.94 | N166: =M166/1.19 -> 277473.9 | O166: 287515 | P166: =O166*1.052*1.051*1.0387 -> 330193.94 | Q166: =P166/1.19 -> 277473.9 | R166: 0 | S166: 330193.94 | T166: =S166/1.19 -> 277473.9 | U166: 330193.94 | V166: 277473.9
A167: 158 | B167: CAMBIO DE MANGUERA SALIDA CALEFACTOR | C167: 287515 | D167: =C167*1.052*1.051*1.0387 -> 330193.94 | E167: =D167/1.19 -> 277473.9 | F167: 287515 | G167: =F167*1.052*1.051*1.0387 -> 330193.94 | H167: =G167/1.19 -> 277473.9 | I167: 287515 | J167: =I167*1.052*1.051*1.0387 -> 330193.94 | K167: =J167/1.19 -> 277473.9 | L167: 287515 | M167: =L167*1.052*1.051*1.0387 -> 330193.94 | N167: =M167/1.19 -> 277473.9 | O167: 287515 | P167: =O167*1.052*1.051*1.0387 -> 330193.94 | Q167: =P167/1.19 -> 277473.9 | R167: 0 | S167: 330193.94 | T167: =S167/1.19 -> 277473.9 | U167: 330193.94 | V167: 277473.9
A168: 159 | B168: CAMBIO DE PÁNELES RADIADOR | C168: 383536 | D168: =C168*1.052*1.051*1.0387 -> 440468.36 | E168: =D168/1.19 -> 370141.48 | F168: 383536 | G168: =F168*1.052*1.051*1.0387 -> 440468.36 | H168: =G168/1.19 -> 370141.48 | I168: 383536 | J168: =I168*1.052*1.051*1.0387 -> 440468.36 | K168: =J168/1.19 -> 370141.48 | L168: 383536 | M168: =L168*1.052*1.051*1.0387 -> 440468.36 | N168: =M168/1.19 -> 370141.48 | O168: 383536 | P168: =O168*1.052*1.051*1.0387 -> 440468.36 | Q168: =P168/1.19 -> 370141.48 | R168: 0 | S168: 440468.36 | T168: =S168/1.19 -> 370141.48 | U168: 440468.36 | V168: 370141.48
A169: 160 | B169: CAMBIO DE RADIADOR CALEFACTOR | C169: 383536 | D169: =C169*1.052*1.051*1.0387 -> 440468.36 | E169: =D169/1.19 -> 370141.48 | F169: 383536 | G169: =F169*1.052*1.051*1.0387 -> 440468.36 | H169: =G169/1.19 -> 370141.48 | I169: 383536 | J169: =I169*1.052*1.051*1.0387 -> 440468.36 | K169: =J169/1.19 -> 370141.48 | L169: 383536 | M169: =L169*1.052*1.051*1.0387 -> 440468.36 | N169: =M169/1.19 -> 370141.48 | O169: 383536 | P169: =O169*1.052*1.051*1.0387 -> 440468.36 | Q169: =P169/1.19 -> 370141.48 | R169: 0 | S169: 440468.36 | T169: =S169/1.19 -> 370141.48 | U169: 440468.36 | V169: 370141.48
A170: 161 | B170: CAMBIO DEPOSITIO RECUPERADOR / AUXILIAR DE REFRIGERANTE | C170: 192042 | D170: =C170*1.052*1.051*1.0387 -> 220548.86 | E170: =D170/1.19 -> 185335.17 | F170: 192042 | G170: =F170*1.052*1.051*1.0387 -> 220548.86 | H170: =G170/1.19 -> 185335.17 | I170: 192042 | J170: =I170*1.052*1.051*1.0387 -> 220548.86 | K170: =J170/1.19 -> 185335.17 | L170: 192042 | M170: =L170*1.052*1.051*1.0387 -> 220548.86 | N170: =M170/1.19 -> 185335.17 | O170: 192042 | P170: =O170*1.052*1.051*1.0387 -> 220548.86 | Q170: =P170/1.19 -> 185335.17 | R170: 0 | S170: 220548.86 | T170: =S170/1.19 -> 185335.17 | U170: 220548.86 | V170: 185335.17
A171: 162 | B171: CAMBIO DEPOSITO REFRIGUERANTE | C171: 192042 | D171: =C171*1.052*1.051*1.0387 -> 220548.86 | E171: =D171/1.19 -> 185335.17 | F171: 192042 | G171: =F171*1.052*1.051*1.0387 -> 220548.86 | H171: =G171/1.19 -> 185335.17 | I171: 192042 | J171: =I171*1.052*1.051*1.0387 -> 220548.86 | K171: =J171/1.19 -> 185335.17 | L171: 192042 | M171: =L171*1.052*1.051*1.0387 -> 220548.86 | N171: =M171/1.19 -> 185335.17 | O171: 192042 | P171: =O171*1.052*1.051*1.0387 -> 220548.86 | Q171: =P171/1.19 -> 185335.17 | R171: 0 | S171: 220548.86 | T171: =S171/1.19 -> 185335.17 | U171: 220548.86 | V171: 185335.17
A172: 163 | B172: CAMBIO LIQUIDO REFRIGERANTE | C172: 192042 | D172: =C172*1.052*1.051*1.0387 -> 220548.86 | E172: =D172/1.19 -> 185335.17 | F172: 192042 | G172: =F172*1.052*1.051*1.0387 -> 220548.86 | H172: =G172/1.19 -> 185335.17 | I172: 192042 | J172: =I172*1.052*1.051*1.0387 -> 220548.86 | K172: =J172/1.19 -> 185335.17 | L172: 192042 | M172: =L172*1.052*1.051*1.0387 -> 220548.86 | N172: =M172/1.19 -> 185335.17 | O172: 192042 | P172: =O172*1.052*1.051*1.0387 -> 220548.86 | Q172: =P172/1.19 -> 185335.17 | R172: 0 | S172: 220548.86 | T172: =S172/1.19 -> 185335.17 | U172: 220548.86 | V172: 185335.17
A173: 164 | B173: CAMBIO MANGUERA / TUBO TERMOSTATO | C173: 192042 | D173: =C173*1.052*1.051*1.0387 -> 220548.86 | E173: =D173/1.19 -> 185335.17 | F173: 192042 | G173: =F173*1.052*1.051*1.0387 -> 220548.86 | H173: =G173/1.19 -> 185335.17 | I173: 192042 | J173: =I173*1.052*1.051*1.0387 -> 220548.86 | K173: =J173/1.19 -> 185335.17 | L173: 192042 | M173: =L173*1.052*1.051*1.0387 -> 220548.86 | N173: =M173/1.19 -> 185335.17 | O173: 192042 | P173: =O173*1.052*1.051*1.0387 -> 220548.86 | Q173: =P173/1.19 -> 185335.17 | R173: 0 | S173: 220548.86 | T173: =S173/1.19 -> 185335.17 | U173: 220548.86 | V173: 185335.17
A174: 165 | B174: CAMBIO MANGUERA INFERIOR RADIADOR | C174: 192042 | D174: =C174*1.052*1.051*1.0387 -> 220548.86 | E174: =D174/1.19 -> 185335.17 | F174: 192042 | G174: =F174*1.052*1.051*1.0387 -> 220548.86 | H174: =G174/1.19 -> 185335.17 | I174: 192042 | J174: =I174*1.052*1.051*1.0387 -> 220548.86 | K174: =J174/1.19 -> 185335.17 | L174: 192042 | M174: =L174*1.052*1.051*1.0387 -> 220548.86 | N174: =M174/1.19 -> 185335.17 | O174: 192042 | P174: =O174*1.052*1.051*1.0387 -> 220548.86 | Q174: =P174/1.19 -> 185335.17 | R174: 0 | S174: 220548.86 | T174: =S174/1.19 -> 185335.17 | U174: 220548.86 | V174: 185335.17
... A188: 179 | B188: REVISIÓN GENERAL SISTEMA DE REFRIGERACIÓN ( VERFICIAR FUGAS, VERIFICAR MANGUERASY CONEXIONES, VERIFICAR NIVEL DE REFRIGERANTE) | C188: 287515 | D188: =C188*1.052*1.051*1.0387 -> 330193.94 | E188: =D188/1.19 -> 277473.9 | F188: 287515 | G188: =F188*1.052*1.051*1.0387 -> 330193.94 | H188: =G188/1.19 -> 277473.9 | I188: 287515 | J188: =I188*1.052*1.051*1.0387 -> 330193.94 | K188: =J188/1.19 -> 277473.9 | L188: 287515 | M188: =L188*1.052*1.051*1.0387 -> 330193.94 | N188: =M188/1.19 -> 277473.9 | O188: 287515 | P188: =O188*1.052*1.051*1.0387 -> 330193.94 | Q188: =P188/1.19 -> 277473.9 | R188: 0 | S188: 330193.94 | T188: =S188/1.19 -> 277473.9 | U188: 330193.94 | V188: 277473.9
A189: ITEM Nº 7: MANO DE OBRA SUSPENSIÓN | C189: 0 | D189: =C189*1.052*1.051*1.0387 -> 0 | E189: =D189/1.19 -> 0 | F189: 0 | G189: =F189*1.052*1.051*1.0387 -> 0 | H189: =G189/1.19 -> 0 | I189: 0 | J189: =I189*1.052*1.051*1.0387 -> 0 | K189: =J189/1.19 -> 0 | L189: 0 | M189: =L189*1.052*1.051*1.0387 -> 0 | N189: =M189/1.19 -> 0 | O189: 0 | P189: =O189*1.052*1.051*1.0387 -> 0 | Q189: =P189/1.19 -> 0 | R189: 0 | S189: 0 | T189: =S189/1.19 -> 0 | U189: 0 | V189: 0
A190: 180 | B190: ALINEACIÓN DE DIRECCIÓN | C190: 71878 | D190: =C190*1.052*1.051*1.0387 -> 82547.623 | E190: =D190/1.19 -> 69367.75 | F190: 71878 | G190: =F190*1.052*1.051*1.0387 -> 82547.623 | H190: =G190/1.19 -> 69367.75 | I190: 71878 | J190: =I190*1.052*1.051*1.0387 -> 82547.623 | K190: =J190/1.19 -> 69367.75 | L190: 71878 | M190: =L190*1.052*1.051*1.0387 -> 82547.623 | N190: =M190/1.19 -> 69367.75 | O190: 71878 | P190: =O190*1.052*1.051*1.0387 -> 82547.623 | Q190: =P190/1.19 -> 69367.75 | R190: 0 | S190: 82547.623 | T190: =S190/1.19 -> 69367.75 | U190: 82547.623 | V190: 69367.75
A191: 181 | B191: BALANCEO UN/A LLANTA | C191: 30178 | D191: =C191*1.052*1.051*1.0387 -> 34657.644 | E191: =D191/1.19 -> 29124.071 | F191: 30178 | G191: =F191*1.052*1.051*1.0387 -> 34657.644 | H191: =G191/1.19 -> 29124.071 | I191: 30178 | J191: =I191*1.052*1.051*1.0387 -> 34657.644 | K191: =J191/1.19 -> 29124.071 | L191: 30178 | M191: =L191*1.052*1.051*1.0387 -> 34657.644 | N191: =M191/1.19 -> 29124.071 | O191: 30178 | P191: =O191*1.052*1.051*1.0387 -> 34657.644 | Q191: =P191/1.19 -> 29124.071 | R191: 0 | S191: 34657.644 | T191: =S191/1.19 -> 29124.071 | U191: 34657.644 | V191: 29124.071
A192: 182 | B192: CAMBIO BUJES DE SUSPENSION | C192: 192042 | D192: =C192*1.052*1.051*1.0387 -> 220548.86 | E192: =D192/1.19 -> 185335.17 | F192: 192042 | G192: =F192*1.052*1.051*1.0387 -> 220548.86 | H192: =G192/1.19 -> 185335.17 | I192: 192042 | J192: =I192*1.052*1.051*1.0387 -> 220548.86 | K192: =J192/1.19 -> 185335.17 | L192: 192042 | M192: =L192*1.052*1.051*1.0387 -> 220548.86 | N192: =M192/1.19 -> 185335.17 | O192: 192042 | P192: =O192*1.052*1.051*1.0387 -> 220548.86 | Q192: =P192/1.19 -> 185335.17 | R192: 0 | S192: 220548.86 | T192: =S192/1.19 -> 185335.17 | U192: 220548.86 | V192: 185335.17
A193: 183 | B193: CAMBIO DE BOCIN DELANTERO | C193: 192042 | D193: =C193*1.052*1.051*1.0387 -> 220548.86 | E193: =D193/1.19 -> 185335.17 | F193: 192042 | G193: =F193*1.052*1.051*1.0387 -> 220548.86 | H193: =G193/1.19 -> 185335.17 | I193: 192042 | J193: =I193*1.052*1.051*1.0387 -> 220548.86 | K193: =J193/1.19 -> 185335.17 | L193: 192042 | M193: =L193*1.052*1.051*1.0387 -> 220548.86 | N193: =M193/1.19 -> 185335.17 | O193: 192042 | P193: =O193*1.052*1.051*1.0387 -> 220548.86 | Q193: =P193/1.19 -> 185335.17 | R193: 0 | S193: 220548.86 | T193: =S193/1.19 -> 185335.17 | U193: 220548.86 | V193: 185335.17
A194: 184 | B194: CAMBIO DE CUNA MOTOR | C194: 192042 | D194: =C194*1.052*1.051*1.0387 -> 220548.86 | E194: =D194/1.19 -> 185335.17 | F194: 192042 | G194: =F194*1.052*1.051*1.0387 -> 220548.86 | H194: =G194/1.19 -> 185335.17 | I194: 192042 | J194: =I194*1.052*1.051*1.0387 -> 220548.86 | K194: =J194/1.19 -> 185335.17 | L194: 192042 | M194: =L194*1.052*1.051*1.0387 -> 220548.86 | N194: =M194/1.19 -> 185335.17 | O194: 192042 | P194: =O194*1.052*1.051*1.0387 -> 220548.86 | Q194: =P194/1.19 -> 185335.17 | R194: 0 | S194: 220548.86 | T194: =S194/1.19 -> 185335.17 | U194: 220548.86 | V194: 185335.17
A195: 185 | B195: CAMBIO DE LLANTA (INCLUYE MARCACIÓN) | C195: 47736 | D195: =C195*1.052*1.051*1.0387 -> 54821.967 | E195: =D195/1.19 -> 46068.88 | F195: 47736 | G195: =F195*1.052*1.051*1.0387 -> 54821.967 | H195: =G195/1.19 -> 46068.88 | I195: 47736 | J195: =I195*1.052*1.051*1.0387 -> 54821.967 | K195: =J195/1.19 -> 46068.88 | L195: 47736 | M195: =L195*1.052*1.051*1.0387 -> 54821.967 | N195: =M195/1.19 -> 46068.88 | O195: 47736 | P195: =O195*1.052*1.051*1.0387 -> 54821.967 | Q195: =P195/1.19 -> 46068.88 | R195: 47736 | S195: 54821.967 | T195: =S195/1.19 -> 46068.88 | U195: 54821.967 | V195: 46068.88
A196: 186 | B196: CAMBIO DE UN AMORTIGUADOR DELANTERO | C196: 287515 | D196: =C196*1.052*1.051*1.0387 -> 330193.94 | E196: =D196/1.19 -> 277473.9 | F196: 287515 | G196: =F196*1.052*1.051*1.0387 -> 330193.94 | H196: =G196/1.19 -> 277473.9 | I196: 287515 | J196: =I196*1.052*1.051*1.0387 -> 330193.94 | K196: =J196/1.19 -> 277473.9 | L196: 287515 | M196: =L196*1.052*1.051*1.0387 -> 330193.94 | N196: =M196/1.19 -> 277473.9 | O196: 287515 | P196: =O196*1.052*1.051*1.0387 -> 330193.94 | Q196: =P196/1.19 -> 277473.9 | R196: 0 | S196: 330193.94 | T196: =S196/1.19 -> 277473.9 | U196: 330193.94 | V196: 277473.9
A197: 187 | B197: CAMBIO DE UN AMORTIGUADOR TRASERO | C197: 287515 | D197: =C197*1.052*1.051*1.0387 -> 330193.94 | E197: =D197/1.19 -> 277473.9 | F197: 287515 | G197: =F197*1.052*1.051*1.0387 -> 330193.94 | H197: =G197/1.19 -> 277473.9 | I197: 287515 | J197: =I197*1.052*1.051*1.0387 -> 330193.94 | K197: =J197/1.19 -> 277473.9 | L197: 287515 | M197: =L197*1.052*1.051*1.0387 -> 330193.94 | N197: =M197/1.19 -> 277473.9 | O197: 287515 | P197: =O197*1.052*1.051*1.0387 -> 330193.94 | Q197: =P197/1.19 -> 277473.9 | R197: 0 | S197: 330193.94 | T197: =S197/1.19 -> 277473.9 | U197: 330193.94 | V197: 277473.9
A198: 188 | B198: CAMBIO DE UN ESPIRAL TRASERO | C198: 287515 | D198: =C198*1.052*1.051*1.0387 -> 330193.94 | E198: =D198/1.19 -> 277473.9 | F198: 287515 | G198: =F198*1.052*1.051*1.0387 -> 330193.94 | H198: =G198/1.19 -> 277473.9 | I198: 287515 | J198: =I198*1.052*1.051*1.0387 -> 330193.94 | K198: =J198/1.19 -> 277473.9 | L198: 287515 | M198: =L198*1.052*1.051*1.0387 -> 330193.94 | N198: =M198/1.19 -> 277473.9 | O198: 287515 | P198: =O198*1.052*1.051*1.0387 -> 330193.94 | Q198: =P198/1.19 -> 277473.9 | R198: 0 | S198: 330193.94 | T198: =S198/1.19 -> 277473.9 | U198: 330193.94 | V198: 277473.9
A199: 189 | B199: CAMBIO RETEN EJE DELANTERO | C199: 287515 | D199: =C199*1.052*1.051*1.0387 -> 330193.94 | E199: =D199/1.19 -> 277473.9 | F199: 287515 | G199: =F199*1.052*1.051*1.0387 -> 330193.94 | H199: =G199/1.19 -> 277473.9 | I199: 287515 | J199: =I199*1.052*1.051*1.0387 -> 330193.94 | K199: =J199/1.19 -> 277473.9 | L199: 287515 | M199: =L199*1.052*1.051*1.0387 -> 330193.94 | N199: =M199/1.19 -> 277473.9 | O199: 287515 | P199: =O199*1.052*1.051*1.0387 -> 330193.94 | Q199: =P199/1.19 -> 277473.9 | R199: 0 | S199: 330193.94 | T199: =S199/1.19 -> 277473.9 | U199: 330193.94 | V199: 277473.9
A200: 190 | B200: CAMBIO RETEN EJE TRASERO | C200: 287515 | D200: =C200*1.052*1.051*1.0387 -> 330193.94 | E200: =D200/1.19 -> 277473.9 | F200: 287515 | G200: =F200*1.052*1.051*1.0387 -> 330193.94 | H200: =G200/1.19 -> 277473.9 | I200: 287515 | J200: =I200*1.052*1.051*1.0387 -> 330193.94 | K200: =J200/1.19 -> 277473.9 | L200: 287515 | M200: =L200*1.052*1.051*1.0387 -> 330193.94 | N200: =M200/1.19 -> 277473.9 | O200: 287515 | P200: =O200*1.052*1.051*1.0387 -> 330193.94 | Q200: =P200/1.19 -> 277473.9 | R200: 0 | S200: 330193.94 | T200: =S200/1.19 -> 277473.9 | U200: 330193.94 | V200: 277473.9
A201: 191 | B201: CAMBIO RETENEDORES RUEDA / PACHA TRASERA | C201: 287515 | D201: =C201*1.052*1.051*1.0387 -> 330193.94 | E201: =D201/1.19 -> 277473.9 | F201: 287515 | G201: =F201*1.052*1.051*1.0387 -> 330193.94 | H201: =G201/1.19 -> 277473.9 | I201: 287515 | J201: =I201*1.052*1.051*1.0387 -> 330193.94 | K201: =J201/1.19 -> 277473.9 | L201: 287515 | M201: =L201*1.052*1.051*1.0387 -> 330193.94 | N201: =M201/1.19 -> 277473.9 | O201: 287515 | P201: =O201*1.052*1.051*1.0387 -> 330193.94 | Q201: =P201/1.19 -> 277473.9 | R201: 0 | S201: 330193.94 | T201: =S201/1.19 -> 277473.9 | U201: 330193.94 | V201: 277473.9
... A212: 202 | B212: REVISIÓN GENERAL SISTMA DE SUSPENSIÓN (TORQUEO Y LUBRICACIÓN GENERAL, VERIFICACIÓN DE RODAMIENTOS, AMORTIGUADORES, TIJERAS Y BUJES) | C212: 287515 | D212: =C212*1.052*1.051*1.0387 -> 330193.94 | E212: =D212/1.19 -> 277473.9 | F212: 287515 | G212: =F212*1.052*1.051*1.0387 -> 330193.94 | H212: =G212/1.19 -> 277473.9 | I212: 287515 | J212: =I212*1.052*1.051*1.0387 -> 330193.94 | K212: =J212/1.19 -> 277473.9 | L212: 287515 | M212: =L212*1.052*1.051*1.0387 -> 330193.94 | N212: =M212/1.19 -> 277473.9 | O212: 287515 | P212: =O212*1.052*1.051*1.0387 -> 330193.94 | Q212: =P212/1.19 -> 277473.9 | R212: 0 | S212: 330193.94 | T212: =S212/1.19 -> 277473.9 | U212: 330193.94 | V212: 277473.9
A213: ITEM Nº 8: MANO DE OBRA CAJA Y TRANSMISIÓN | C213: 0 | D213: =C213*1.052*1.051*1.0387 -> 0 | E213: =D213/1.19 -> 0 | F213: 0 | G213: =F213*1.052*1.051*1.0387 -> 0 | H213: =G213/1.19 -> 0 | I213: 0 | J213: =I213*1.052*1.051*1.0387 -> 0 | K213: =J213/1.19 -> 0 | L213: 0 | M213: =L213*1.052*1.051*1.0387 -> 0 | N213: =M213/1.19 -> 0 | O213: 0 | P213: =O213*1.052*1.051*1.0387 -> 0 | Q213: =P213/1.19 -> 0 | R213: 0 | S213: 0 | T213: =S213/1.19 -> 0 | U213: 0 | V213: 0
A214: 203 | B214: CAMBIO ACEITE CAJA | C214: 167900 | D214: =C214*1.052*1.051*1.0387 -> 192823.2 | E214: =D214/1.19 -> 162036.3 | F214: 167900 | G214: =F214*1.052*1.051*1.0387 -> 192823.2 | H214: =G214/1.19 -> 162036.3 | I214: 167900 | J214: =I214*1.052*1.051*1.0387 -> 192823.2 | K214: =J214/1.19 -> 162036.3 | L214: 167900 | M214: =L214*1.052*1.051*1.0387 -> 192823.2 | N214: =M214/1.19 -> 162036.3 | O214: 167900 | P214: =O214*1.052*1.051*1.0387 -> 192823.2 | Q214: =P214/1.19 -> 162036.3 | R214: 0 | S214: 192823.2 | T214: =S214/1.19 -> 162036.3 | U214: 192823.2 | V214: 162036.3
A215: 204 | B215: CAMBIO ACEITE DIFERENCIAL(ES) | C215: 167900 | D215: =C215*1.052*1.051*1.0387 -> 192823.2 | E215: =D215/1.19 -> 162036.3 | F215: 167900 | G215: =F215*1.052*1.051*1.0387 -> 192823.2 | H215: =G215/1.19 -> 162036.3 | I215: 167900 | J215: =I215*1.052*1.051*1.0387 -> 192823.2 | K215: =J215/1.19 -> 162036.3 | L215: 167900 | M215: =L215*1.052*1.051*1.0387 -> 192823.2 | N215: =M215/1.19 -> 162036.3 | O215: 167900 | P215: =O215*1.052*1.051*1.0387 -> 192823.2 | Q215: =P215/1.19 -> 162036.3 | R215: 0 | S215: 192823.2 | T215: =S215/1.19 -> 162036.3 | U215: 192823.2 | V215: 162036.3
A216: 205 | B216: CAMBIO BOMBA EMBRAGUE | C216: 167900 | D216: =C216*1.052*1.051*1.0387 -> 192823.2 | E216: =D216/1.19 -> 162036.3 | F216: 167900 | G216: =F216*1.052*1.051*1.0387 -> 192823.2 | H216: =G216/1.19 -> 162036.3 | I216: 167900 | J216: =I216*1.052*1.051*1.0387 -> 192823.2 | K216: =J216/1.19 -> 162036.3 | L216: 167900 | M216: =L216*1.052*1.051*1.0387 -> 192823.2 | N216: =M216/1.19 -> 162036.3 | O216: 167900 | P216: =O216*1.052*1.051*1.0387 -> 192823.2 | Q216: =P216/1.19 -> 162036.3 | R216: 0 | S216: 192823.2 | T216: =S216/1.19 -> 162036.3 | U216: 192823.2 | V216: 162036.3
A217: 206 | B217: CAMBIO CARDAN | C217: 0 | D217: =C217*1.052*1.051*1.0387 -> 0 | E217: =D217/1.19 -> 0 | F217: 0 | G217: =F217*1.052*1.051*1.0387 -> 0 | H217: =G217/1.19 -> 0 | I217: 167900 | J217: =I217*1.052*1.051*1.0387 -> 192823.2 | K217: =J217/1.19 -> 162036.3 | L217: 167901 | M217: =L217*1.052*1.051*1.0387 -> 192824.35 | N217: =M217/1.19 -> 162037.27 | O217: 167901 | P217: =O217*1.052*1.051*1.0387 -> 192824.35 | Q217: =P217/1.19 -> 162037.27 | R217: 0 | S217: 192824.35 | T217: =S217/1.19 -> 162037.27 | U217: 192824.35 | V217: 162037.27
A218: 207 | B218: CAMBIO CUPLIN Y ESPIGA | C218: 407679 | D218: =C218*1.052*1.051*1.0387 -> 468195.17 | E218: =D218/1.19 -> 393441.32 | F218: 407679 | G218: =F218*1.052*1.051*1.0387 -> 468195.17 | H218: =G218/1.19 -> 393441.32 | I218: 407679 | J218: =I218*1.052*1.051*1.0387 -> 468195.17 | K218: =J218/1.19 -> 393441.32 | L218: 407679 | M218: =L218*1.052*1.051*1.0387 -> 468195.17 | N218: =M218/1.19 -> 393441.32 | O218: 407679 | P218: =O218*1.052*1.051*1.0387 -> 468195.17 | Q218: =P218/1.19 -> 393441.32 | R218: 0 | S218: 468195.17 | T218: =S218/1.19 -> 393441.32 | U218: 468195.17 | V218: 393441.32
A219: 208 | B219: CAMBIO DE BUJES PALANCA DE CAMBIOS | C219: 407679 | D219: =C219*1.052*1.051*1.0387 -> 468195.17 | E219: =D219/1.19 -> 393441.32 | F219: 407679 | G219: =F219*1.052*1.051*1.0387 -> 468195.17 | H219: =G219/1.19 -> 393441.32 | I219: 407679 | J219: =I219*1.052*1.051*1.0387 -> 468195.17 | K219: =J219/1.19 -> 393441.32 | L219: 407679 | M219: =L219*1.052*1.051*1.0387 -> 468195.17 | N219: =M219/1.19 -> 393441.32 | O219: 407679 | P219: =O219*1.052*1.051*1.0387 -> 468195.17 | Q219: =P219/1.19 -> 393441.32 | R219: 0 | S219: 468195.17 | T219: =S219/1.19 -> 393441.32 | U219: 468195.17 | V219: 393441.32
A220: 209 | B220: CAMBIO DE EJE RUEDA DELANTERA | C220: 407679 | D220: =C220*1.052*1.051*1.0387 -> 468195.17 | E220: =D220/1.19 -> 393441.32 | F220: 407679 | G220: =F220*1.052*1.051*1.0387 -> 468195.17 | H220: =G220/1.19 -> 393441.32 | I220: 407679 | J220: =I220*1.052*1.051*1.0387 -> 468195.17 | K220: =J220/1.19 -> 393441.32 | L220: 407679 | M220: =L220*1.052*1.051*1.0387 -> 468195.17 | N220: =M220/1.19 -> 393441.32 | O220: 407679 | P220: =O220*1.052*1.051*1.0387 -> 468195.17 | Q220: =P220/1.19 -> 393441.32 | R220: 0 | S220: 468195.17 | T220: =S220/1.19 -> 393441.32 | U220: 468195.17 | V220: 393441.32
A221: 210 | B221: CAMBIO DE EJE RUEDA TRASERA | C221: 407679 | D221: =C221*1.052*1.051*1.0387 -> 468195.17 | E221: =D221/1.19 -> 393441.32 | F221: 407679 | G221: =F221*1.052*1.051*1.0387 -> 468195.17 | H221: =G221/1.19 -> 393441.32 | I221: 407679 | J221: =I221*1.052*1.051*1.0387 -> 468195.17 | K221: =J221/1.19 -> 393441.32 | L221: 407679 | M221: =L221*1.052*1.051*1.0387 -> 468195.17 | N221: =M221/1.19 -> 393441.32 | O221: 407679 | P221: =O221*1.052*1.051*1.0387 -> 468195.17 | Q221: =P221/1.19 -> 393441.32 | R221: 0 | S221: 468195.17 | T221: =S221/1.19 -> 393441.32 | U221: 468195.17 | V221: 393441.32
A222: 211 | B222: CAMBIO DE KIT DE EMBRAGUE | C222: 539365 | D222: =C222*1.052*1.051*1.0387 -> 619428.74 | E222: =D222/1.19 -> 520528.35 | F222: 539366 | G222: =F222*1.052*1.051*1.0387 -> 619429.88 | H222: =G222/1.19 -> 520529.31 | I222: 0 | J222: =I222*1.052*1.051*1.0387 -> 0 | K222: =J222/1.19 -> 0 | L222: 0 | M222: =L222*1.052*1.051*1.0387 -> 0 | N222: =M222/1.19 -> 0 | O222: 407679 | P222: =O222*1.052*1.051*1.0387 -> 468195.17 | Q222: =P222/1.19 -> 393441.32 | R222: 0 | S222: 468195.17 | T222: =S222/1.19 -> 393441.32 | U222: 468195.17 | V222: 393441.32
A223: 212 | B223: CAMBIO DE PALANCA DE CAMBIOS | C223: 167900 | D223: =C223*1.052*1.051*1.0387 -> 192823.2 | E223: =D223/1.19 -> 162036.3 | F223: 167900 | G223: =F223*1.052*1.051*1.0387 -> 192823.2 | H223: =G223/1.19 -> 162036.3 | I223: 167900 | J223: =I223*1.052*1.051*1.0387 -> 192823.2 | K223: =J223/1.19 -> 162036.3 | L223: 167900 | M223: =L223*1.052*1.051*1.0387 -> 192823.2 | N223: =M223/1.19 -> 162036.3 | O223: 167900 | P223: =O223*1.052*1.051*1.0387 -> 192823.2 | Q223: =P223/1.19 -> 162036.3 | R223: 0 | S223: 192823.2 | T223: =S223/1.19 -> 162036.3 | U223: 192823.2 | V223: 162036.3
A224: 213 | B224: CAMBIO GUARDAPOLVOS A UN SEMIEJE | C224: 192042 | D224: =C224*1.052*1.051*1.0387 -> 220548.86 | E224: =D224/1.19 -> 185335.17 | F224: 192042 | G224: =F224*1.052*1.051*1.0387 -> 220548.86 | H224: =G224/1.19 -> 185335.17 | I224: 192042 | J224: =I224*1.052*1.051*1.0387 -> 220548.86 | K224: =J224/1.19 -> 185335.17 | L224: 192042 | M224: =L224*1.052*1.051*1.0387 -> 220548.86 | N224: =M224/1.19 -> 185335.17 | O224: 192042 | P224: =O224*1.052*1.051*1.0387 -> 220548.86 | Q224: =P224/1.19 -> 185335.17 | R224: 0 | S224: 220548.86 | T224: =S224/1.19 -> 185335.17 | U224: 220548.86 | V224: 185335.17
A225: 214 | B225: CAMBIO GUAYA EMBRAGUE | C225: 192042 | D225: =C225*1.052*1.051*1.0387 -> 220548.86 | E225: =D225/1.19 -> 185335.17 | F225: 192042 | G225: =F225*1.052*1.051*1.0387 -> 220548.86 | H225: =G225/1.19 -> 185335.17 | I225: 0 | J225: =I225*1.052*1.051*1.0387 -> 0 | K225: =J225/1.19 -> 0 | L225: 0 | M225: =L225*1.052*1.051*1.0387 -> 0 | N225: =M225/1.19 -> 0 | O225: 192042 | P225: =O225*1.052*1.051*1.0387 -> 220548.86 | Q225: =P225/1.19 -> 185335.17 | R225: 0 | S225: 220548.86 | T225: =S225/1.19 -> 185335.17 | U225: 220548.86 | V225: 185335.17
... A236: 225 | B236: REVISION FENERAL DEL SISTEMA DE TRANSMISIÓN (REVISIÓN DE JUEGO LIBRE EMBRAGUE, REVISIÓN BOMBA AUXILIAR Y PRINCIPAL DE EMBRAGUE, REVISAR NIVEL DE FLUIDO, REVISAR GUAYA DE EMBRAGUE Y GRADUACION DE EMBRAGUE)Contemplado en cambio de kit | C236: 192042 | D236: =C236*1.052*1.051*1.0387 -> 220548.86 | E236: =D236/1.19 -> 185335.17 | F236: 192042 | G236: =F236*1.052*1.051*1.0387 -> 220548.86 | H236: =G236/1.19 -> 185335.17 | I236: 192042 | J236: =I236*1.052*1.051*1.0387 -> 220548.86 | K236: =J236/1.19 -> 185335.17 | L236: 192042 | M236: =L236*1.052*1.051*1.0387 -> 220548.86 | N236: =M236/1.19 -> 185335.17 | O236: 192042 | P236: =O236*1.052*1.051*1.0387 -> 220548.86 | Q236: =P236/1.19 -> 185335.17 | R236: 0 | S236: 220548.86 | T236: =S236/1.19 -> 185335.17 | U236: 220548.86 | V236: 185335.17
...

Sheet OFERTA REPUESTOS  
A1: PRECIOS DE REFERENCIA REPUESTOS Y CONSUMIBLES (INDEXACIÓN SERIE DE EMPALME)
D3: HYUNDAI ACCENT GL I25 SEDAN MODELO 2013 - GASOLINA | G3: CHEVROLET JOY SEDAN MODELO 2022 - GASOLINA | J3: TOYOTA 4 RUNNER STATION WAGON MODELO 2009 - GASOLINA | M3: TOYOTA PRADO TX CAMPERO MODELO 2015 - DIESEL | P3: CHEVROLET VITARA 1.600 C.C. CAMPERO MODELO 2007 - GASOLINA | S3: "FORD RANGER XLT AT 4X4 MODELO 2023 - DIESEL" | V3: CHEVROLET COLORADO 4X4 MODELO 2026 - DIESEL
A4: No. | B4: DESCRIPCION | C4: TIPO | D4: Valor de referencia con IVA 2024 | E4: Valor con IVA ajustado con serie de empalme a 2026 | F4: VALOR ANTES DE IVA 2026 | G4: Valor de referencia con IVA 2024 | H4: Valor con IVA ajustado con serie de empalme a 2026 | I4: VALOR ANTES DE IVA 2026 | J4: Valor de referencia con IVA 2024 | K4: Valor con IVA ajustado con serie de empalme a 2026 | L4: Valor con IVA ajustado con serie de empalme a 2026 | M4: Valor de referencia con IVA 2024 | N4: Valor con IVA ajustado con serie de empalme a 2026 | O4: Valor con IVA ajustado con serie de empalme a 2026 | P4: Valor de referencia con IVA 2024 | Q4: Valor con IVA ajustado con serie de empalme a 2026 | R4: Valor con IVA ajustado con serie de empalme a 2026 | S4: Valor de referencia con IVA 2024 | T4: Valor con IVA ajustado con serie de empalme a 2026 | U4: Valor con IVA ajustado con serie de empalme a 2026 | V4: Valor con IVA ajustado con serie de empalme a 2026 | W4: VALOR ANTES DE IVA 2026
A5: 1 | B5: 1/4 ACEITE CAJA | C5: INSUMO | D5: 25005 | E5: =D5*('SERIE DE EMPALME'!$Y$13/'SERIE DE EMPALME'!$W$20) -> 27423.664 | F5: =E5/1.19 -> 23045.096 | G5: 25005 | H5: =G5*('SERIE DE EMPALME'!$Y$13/'SERIE DE EMPALME'!$W$20) -> 27423.664 | I5: =H5/1.19 -> 23045.096 | J5: 25005 | K5: =J5*('SERIE DE EMPALME'!$Y$13/'SERIE DE EMPALME'!$W$20) -> 27423.664 | L5: =K5/1.19 -> 23045.096 | M5: 25005 | N5: =M5*('SERIE DE EMPALME'!$Y$13/'SERIE DE EMPALME'!$W$20) -> 27423.664 | O5: =N5/1.19 -> 23045.096 | P5: 25005 | Q5: =P5*('SERIE DE EMPALME'!$Y$13/'SERIE DE EMPALME'!$W$20) -> 27423.664 | R5: =Q5/1.19 -> 23045.096 | S5: 0 | T5: =S5*('SERIE DE EMPALME'!$Y$13/'SERIE DE EMPALME'!$W$20) -> 0 | U5: =T5/1.19 -> 0 | W5: =V5/1.19 -> 0
A6: 2 | B6: 1/4 ACEITE HIDRAULICO DIRECCION | C6: INSUMO | D6: 25005 | E6: =D6*('SERIE DE EMPALME'!$Y$13/'SERIE DE EMPALME'!$W$20) -> 27423.664 | F6: =E6/1.19 -> 23045.096 | G6: 25005 | H6: =G6*('SERIE DE EMPALME'!$Y$13/'SERIE DE EMPALME'!$W$20) -> 27423.664 | I6: =H6/1.19 -> 23045.096 | J6: 25005 | K6: =J6*('SERIE DE EMPALME'!$Y$13/'SERIE DE EMPALME'!$W$20) -> 27423.664 | L6: =K6/1.19 -> 23045.096 | M6: 25005 | N6: =M6*('SERIE DE EMPALME'!$Y$13/'SERIE DE EMPALME'!$W$20) -> 27423.664 | O6: =N6/1.19 -> 23045.096 | P6: 25005 | Q6: =P6*('SERIE DE EMPALME'!$Y$13/'SERIE DE EMPALME'!$W$20) -> 27423.664 | R6: =Q6/1.19 -> 23045.096 | S6: 0 | T6: =S6*('SERIE DE EMPALME'!$Y$13/'SERIE DE EMPALME'!$W$20) -> 0 | U6: =T6/1.19 -> 0 | W6: =V6/1.19 -> 0
A7: 3 | B7: 1/4 ACEITE MOTOR | C7: INSUMO | D7: 25005 | E7: =D7*('SERIE DE EMPALME'!$Y$13/'SERIE DE EMPALME'!$W$20) -> 27423.664 | F7: =E7/1.19 -> 23045.096 | G7: 25005 | H7: =G7*('SERIE DE EMPALME'!$Y$13/'SERIE DE EMPALME'!$W$20) -> 27423.664 | I7: =H7/1.19 -> 23045.096 | J7: 25005 | K7: =J7*('SERIE DE EMPALME'!$Y$13/'SERIE DE EMPALME'!$W$20) -> 27423.664 | L7: =K7/1.19 -> 23045.096 | M7: 25005 | N7: =M7*('SERIE DE EMPALME'!$Y$13/'SERIE DE EMPALME'!$W$20) -> 27423.664 | O7: =N7/1.19 -> 23045.096 | P7: 25005 | Q7: =P7*('SERIE DE EMPALME'!$Y$13/'SERIE DE EMPALME'!$W$20) -> 27423.664 | R7: =Q7/1.19 -> 23045.096 | S7: 0 | T7: =S7*('SERIE DE EMPALME'!$Y$13/'SERIE DE EMPALME'!$W$20) -> 0 | U7: =T7/1.19 -> 0 | W7: =V7/1.19 -> 0
A8: 4 | B8: 1/4 ACEITE TRANSMISIÓN | C8: INSUMO | D8: 25005 | E8: =D8*('SERIE DE EMPALME'!$Y$13/'SERIE DE EMPALME'!$W$20) -> 27423.664 | F8: =E8/1.19 -> 23045.096 | G8: 25005 | H8: =G8*('SERIE DE EMPALME'!$Y$13/'SERIE DE EMPALME'!$W$20) -> 27423.664 | I8: =H8/1.19 -> 23045.096 | J8: 25005 | K8: =J8*('SERIE DE EMPALME'!$Y$13/'SERIE DE EMPALME'!$W$20) -> 27423.664 | L8: =K8/1.19 -> 23045.096 | M8: 25005 | N8: =M8*('SERIE DE EMPALME'!$Y$13/'SERIE DE EMPALME'!$W$20) -> 27423.664 | O8: =N8/1.19 -> 23045.096 | P8: 25005 | Q8: =P8*('SERIE DE EMPALME'!$Y$13/'SERIE DE EMPALME'!$W$20) -> 27423.664 | R8: =Q8/1.19 -> 23045.096 | S8: 0 | T8: =S8*('SERIE DE EMPALME'!$Y$13/'SERIE DE EMPALME'!$W$20) -> 0 | U8: =T8/1.19 -> 0 | W8: =V8/1.19 -> 0
A9: 5 | B9: 1/4 VALVULINA | C9: INSUMO | D9: 25005 | E9: =D9*('SERIE DE EMPALME'!$Y$13/'SERIE DE EMPALME'!$W$20) -> 27423.664 | F9: =E9/1.19 -> 23045.096 | G9: 25005 | H9: =G9*('SERIE DE EMPALME'!$Y$13/'SERIE DE EMPALME'!$W$20) -> 27423.664 | I9: =H9/1.19 -> 23045.096 | J9: 25005 | K9: =J9*('SERIE DE EMPALME'!$Y$13/'SERIE DE EMPALME'!$W$20) -> 27423.664 | L9: =K9/1.19 -> 23045.096 | M9: 25005 | N9: =M9*('SERIE DE EMPALME'!$Y$13/'SERIE DE EMPALME'!$W$20) -> 27423.664 | O9: =N9/1.19 -> 23045.096 | P9: 25005 | Q9: =P9*('SERIE DE EMPALME'!$Y$13/'SERIE DE EMPALME'!$W$20) -> 27423.664 | R9: =Q9/1.19 -> 23045.096 | S9: 0 | T9: =S9*('SERIE DE EMPALME'!$Y$13/'SERIE DE EMPALME'!$W$20) -> 0 | U9: =T9/1.19 -> 0 | W9: =V9/1.19 -> 0
A10: 6 | B10: ABRAZADERA METALICA GRANDE | C10: INSUMO | D10: 9024 | E10: =D10*('SERIE DE EMPALME'!$Y$13/'SERIE DE EMPALME'!$W$20) -> 9896.8665 | F10: =E10/1.19 -> 8316.6945 | G10: 9024 | H10: =G10*('SERIE DE EMPALME'!$Y$13/'SERIE DE EMPALME'!$W$20) -> 9896.8665 | I10: =H10/1.19 -> 8316.6945 | J10: 9024 | K10: =J10*('SERIE DE EMPALME'!$Y$13/'SERIE DE EMPALME'!$W$20) -> 9896.8665 | L10: =K10/1.19 -> 8316.6945 | M10: 9024 | N10: =M10*('SERIE DE EMPALME'!$Y$13/'SERIE DE EMPALME'!$W$20) -> 9896.8665 | O10: =N10/1.19 -> 8316.6945 | P10: 9024 | Q10: =P10*('SERIE DE EMPALME'!$Y$13/'SERIE DE EMPALME'!$W$20) -> 9896.8665 | R10: =Q10/1.19 -> 8316.6945 | S10: 9024 | T10: =S10*('SERIE DE EMPALME'!$Y$13/'SERIE DE EMPALME'!$W$20) -> 9896.8665 | U10: =T10/1.19 -> 8316.6945 | W10: =V10/1.19 -> 0
A11: 7 | B11: ABRAZADERA METALICA PEQUEÑA | C11: INSUMO | D11: 7073 | E11: =D11*('SERIE DE EMPALME'!$Y$13/'SERIE DE EMPALME'!$W$20) -> 7757.1516 | F11: =E11/1.19 -> 6518.6148 | G11: 7073 | H11: =G11*('SERIE DE EMPALME'!$Y$13/'SERIE DE EMPALME'!$W$20) -> 7757.1516 | I11: =H11/1.19 -> 6518.6148 | J11: 7073 | K11: =J11*('SERIE DE EMPALME'!$Y$13/'SERIE DE EMPALME'!$W$20) -> 7757.1516 | L11: =K11/1.19 -> 6518.6148 | M11: 7073 | N11: =M11*('SERIE DE EMPALME'!$Y$13/'SERIE DE EMPALME'!$W$20) -> 7757.1516 | O11: =N11/1.19 -> 6518.6148 | P11: 7073 | Q11: =P11*('SERIE DE EMPALME'!$Y$13/'SERIE DE EMPALME'!$W$20) -> 7757.1516 | R11: =Q11/1.19 -> 6518.6148 | S11: 7073 | T11: =S11*('SERIE DE EMPALME'!$Y$13/'SERIE DE EMPALME'!$W$20) -> 7757.1516 | U11: =T11/1.19 -> 6518.6148 | W11: =V11/1.19 -> 0
A12: 8 | B12: ABRAZADERA PLASTICA GRANDE | C12: INSUMO | D12: 4634 | E12: =D12*('SERIE DE EMPALME'!$Y$13/'SERIE DE EMPALME'!$W$20) -> 5082.2339 | F12: =E12/1.19 -> 4270.7848 | G12: 4634 | H12: =G12*('SERIE DE EMPALME'!$Y$13/'SERIE DE EMPALME'!$W$20) -> 5082.2339 | I12: =H12/1.19 -> 4270.7848 | J12: 4634 | K12: =J12*('SERIE DE EMPALME'!$Y$13/'SERIE DE EMPALME'!$W$20) -> 5082.2339 | L12: =K12/1.19 -> 4270.7848 | M12: 4634 | N12: =M12*('SERIE DE EMPALME'!$Y$13/'SERIE DE EMPALME'!$W$20) -> 5082.2339 | O12: =N12/1.19 -> 4270.7848 | P12: 4634 | Q12: =P12*('SERIE DE EMPALME'!$Y$13/'SERIE DE EMPALME'!$W$20) -> 5082.2339 | R12: =Q12/1.19 -> 4270.7848 | S12: 4634 | T12: =S12*('SERIE DE EMPALME'!$Y$13/'SERIE DE EMPALME'!$W$20) -> 5082.2339 | U12: =T12/1.19 -> 4270.7848 | W12: =V12/1.19 -> 0
A13: 9 | B13: ABRAZADERA PLASTICA MEDIANA | C13: INSUMO | D13: 3658 | E13: =D13*('SERIE DE EMPALME'!$Y$13/'SERIE DE EMPALME'!$W$20) -> 4011.8282 | F13: =E13/1.19 -> 3371.2842 | G13: 3658 | H13: =G13*('SERIE DE EMPALME'!$Y$13/'SERIE DE EMPALME'!$W$20) -> 4011.8282 | I13: =H13/1.19 -> 3371.2842 | J13: 3658 | K13: =J13*('SERIE DE EMPALME'!$Y$13/'SERIE DE EMPALME'!$W$20) -> 4011.8282 | L13: =K13/1.19 -> 3371.2842 | M13: 3658 | N13: =M13*('SERIE DE EMPALME'!$Y$13/'SERIE DE EMPALME'!$W$20) -> 4011.8282 | O13: =N13/1.19 -> 3371.2842 | P13: 3658 | Q13: =P13*('SERIE DE EMPALME'!$Y$13/'SERIE DE EMPALME'!$W$20) -> 4011.8282 | R13: =Q13/1.19 -> 3371.2842 | S13: 3658 | T13: =S13*('SERIE DE EMPALME'!$Y$13/'SERIE DE EMPALME'!$W$20) -> 4011.8282 | U13: =T13/1.19 -> 3371.2842 | W13: =V13/1.19 -> 0
A14: 10 | B14: ADBLUE (UREA x LITRO) | C14: INSUMO | D14: 0 | E14: =D14*('SERIE DE EMPALME'!$Y$13/'SERIE DE EMPALME'!$W$20) -> 0 | F14: =E14/1.19 -> 0 | G14: 0 | H14: =G14*('SERIE DE EMPALME'!$Y$13/'SERIE DE EMPALME'!$W$20) -> 0 | I14: =H14/1.19 -> 0 | J14: 0 | K14: =J14*('SERIE DE EMPALME'!$Y$13/'SERIE DE EMPALME'!$W$20) -> 0 | L14: =K14/1.19 -> 0 | M14: 0 | N14: =M14*('SERIE DE EMPALME'!$Y$13/'SERIE DE EMPALME'!$W$20) -> 0 | O14: =N14/1.19 -> 0 | P14: 0 | Q14: =P14*('SERIE DE EMPALME'!$Y$13/'SERIE DE EMPALME'!$W$20) -> 0 | R14: =Q14/1.19 -> 0 | S14: 63413 | T14: =S14*('SERIE DE EMPALME'!$Y$13/'SERIE DE EMPALME'!$W$20) -> 69546.763 | U14: =T14/1.19 -> 58442.658 | V14: 69547 | W14: =V14/1.19 -> 58442.857
A15: 11 | B15: ADITIVO LIMPIADOR DE INYECTORES | C15: INSUMO | D15: 61950 | E15: =D15*('SERIE DE EMPALME'!$Y$13/'SERIE DE EMPALME'!$W$20) -> 67942.251 | F15: =E15/1.19 -> 57094.329 | G15: 61950 | H15: =G15*('SERIE DE EMPALME'!$Y$13/'SERIE DE EMPALME'!$W$20) -> 67942.251 | I15: =H15/1.19 -> 57094.329 | J15: 61950 | K15: =J15*('SERIE DE EMPALME'!$Y$13/'SERIE DE EMPALME'!$W$20) -> 67942.251 | L15: =K15/1.19 -> 57094.329 | M15: 61950 | N15: =M15*('SERIE DE EMPALME'!$Y$13/'SERIE DE EMPALME'!$W$20) -> 67942.251 | O15: =N15/1.19 -> 57094.329 | P15: 61950 | Q15: =P15*('SERIE DE EMPALME'!$Y$13/'SERIE DE EMPALME'!$W$20) -> 67942.251 | R15: =Q15/1.19 -> 57094.329 | S15: 0 | T15: =S15*('SERIE DE EMPALME'!$Y$13/'SERIE DE EMPALME'!$W$20) -> 0 | U15: =T15/1.19 -> 0 | W15: =V15/1.19 -> 0
A16: 12 | B16: ADITIVO LIQUIDO LIMPIAPARABRISAS | C16: INSUMO | D16: 37072 | E16: =D16*('SERIE DE EMPALME'!$Y$13/'SERIE DE EMPALME'!$W$20) -> 40657.872 | F16: =E16/1.19 -> 34166.279 | G16: 37072 | H16: =G16*('SERIE DE EMPALME'!$Y$13/'SERIE DE EMPALME'!$W$20) -> 40657.872 | I16: =H16/1.19 -> 34166.279 | J16: 37072 | K16: =J16*('SERIE DE EMPALME'!$Y$13/'SERIE DE EMPALME'!$W$20) -> 40657.872 | L16: =K16/1.19 -> 34166.279 | M16: 37072 | N16: =M16*('SERIE DE EMPALME'!$Y$13/'SERIE DE EMPALME'!$W$20) -> 40657.872 | O16: =N16/1.19 -> 34166.279 | P16: 37072 | Q16: =P16*('SERIE DE EMPALME'!$Y$13/'SERIE DE EMPALME'!$W$20) -> 40657.872 | R16: =Q16/1.19 -> 34166.279 | S16: 37072 | T16: =S16*('SERIE DE EMPALME'!$Y$13/'SERIE DE EMPALME'!$W$20) -> 40657.872 | U16: =T16/1.19 -> 34166.279 | W16: =V16/1.19 -> 0
A17: 13 | B17: AGUA BATERIA - UNIDAD | C17: INSUMO | D17: 16098 | E17: =D17*('SERIE DE EMPALME'!$Y$13/'SERIE DE EMPALME'!$W$20) -> 17655.115 | F17: =E17/1.19 -> 14836.231 | G17: 16098 | H17: =G17*('SERIE DE EMPALME'!$Y$13/'SERIE DE EMPALME'!$W$20) -> 17655.115 | I17: =H17/1.19 -> 14836.231 | J17: 16098 | K17: =J17*('SERIE DE EMPALME'!$Y$13/'SERIE DE EMPALME'!$W$20) -> 17655.115 | L17: =K17/1.19 -> 14836.231 | M17: 16098 | N17: =M17*('SERIE DE EMPALME'!$Y$13/'SERIE DE EMPALME'!$W$20) -> 17655.115 | O17: =N17/1.19 -> 14836.231 | P17: 16098 | Q17: =P17*('SERIE DE EMPALME'!$Y$13/'SERIE DE EMPALME'!$W$20) -> 17655.115 | R17: =Q17/1.19 -> 14836.231 | S17: 0 | T17: =S17*('SERIE DE EMPALME'!$Y$13/'SERIE DE EMPALME'!$W$20) -> 0 | U17: =T17/1.19 -> 0 | W17: =V17/1.19 -> 0
A18: 14 | B18: ANILLLOS ANTISULFATANTES BATERIA - JUEGO | C18: INSUMO | D18: 7073 | E18: =D18*('SERIE DE EMPALME'!$Y$13/'SERIE DE EMPALME'!$W$20) -> 7757.1516 | F18: =E18/1.19 -> 6518.6148 | G18: 7073 | H18: =G18*('SERIE DE EMPALME'!$Y$13/'SERIE DE EMPALME'!$W$20) -> 7757.1516 | I18: =H18/1.19 -> 6518.6148 | J18: 7073 | K18: =J18*('SERIE DE EMPALME'!$Y$13/'SERIE DE EMPALME'!$W$20) -> 7757.1516 | L18: =K18/1.19 -> 6518.6148 | M18: 7073 | N18: =M18*('SERIE DE EMPALME'!$Y$13/'SERIE DE EMPALME'!$W$20) -> 7757.1516 | O18: =N18/1.19 -> 6518.6148 | P18: 7073 | Q18: =P18*('SERIE DE EMPALME'!$Y$13/'SERIE DE EMPALME'!$W$20) -> 7757.1516 | R18: =Q18/1.19 -> 6518.6148 | S18: 0 | T18: =S18*('SERIE DE EMPALME'!$Y$13/'SERIE DE EMPALME'!$W$20) -> 0 | U18: =T18/1.19 -> 0 | W18: =V18/1.19 -> 0
A19: 15 | B19: BOMBILLO 1 FILAMENTO | C19: INSUMO | D19: 9024 | E19: =D19*('SERIE DE EMPALME'!$Y$13/'SERIE DE EMPALME'!$W$20) -> 9896.8665 | F19: =E19/1.19 -> 8316.6945 | G19: 9024 | H19: =G19*('SERIE DE EMPALME'!$Y$13/'SERIE DE EMPALME'!$W$20) -> 9896.8665 | I19: =H19/1.19 -> 8316.6945 | J19: 9024 | K19: =J19*('SERIE DE EMPALME'!$Y$13/'SERIE DE EMPALME'!$W$20) -> 9896.8665 | L19: =K19/1.19 -> 8316.6945 | M19: 9024 | N19: =M19*('SERIE DE EMPALME'!$Y$13/'SERIE DE EMPALME'!$W$20) -> 9896.8665 | O19: =N19/1.19 -> 8316.6945 | P19: 9024 | Q19: =P19*('SERIE DE EMPALME'!$Y$13/'SERIE DE EMPALME'!$W$20) -> 9896.8665 | R19: =Q19/1.19 -> 8316.6945 | S19: 9024 | T19: =S19*('SERIE DE EMPALME'!$Y$13/'SERIE DE EMPALME'!$W$20) -> 9896.8665 | U19: =T19/1.19 -> 8316.6945 | W19: =V19/1.19 -> 0
A20: 16 | B20: BOMBILLO 2 FILAMENTOS | C20: INSUMO | D20: 13463 | E20: =D20*('SERIE DE EMPALME'!$Y$13/'SERIE DE EMPALME'!$W$20) -> 14765.239 | F20: =E20/1.19 -> 12407.764 | G20: 13463 | H20: =G20*('SERIE DE EMPALME'!$Y$13/'SERIE DE EMPALME'!$W$20) -> 14765.239 | I20: =H20/1.19 -> 12407.764 | J20: 13463 | K20: =J20*('SERIE DE EMPALME'!$Y$13/'SERIE DE EMPALME'!$W$20) -> 14765.239 | L20: =K20/1.19 -> 12407.764 | M20: 13463 | N20: =M20*('SERIE DE EMPALME'!$Y$13/'SERIE DE EMPALME'!$W$20) -> 14765.239 | O20: =N20/1.19 -> 12407.764 | P20: 13463 | Q20: =P20*('SERIE DE EMPALME'!$Y$13/'SERIE DE EMPALME'!$W$20) -> 14765.239 | R20: =Q20/1.19 -> 12407.764 | S20: 13463 | T20: =S20*('SERIE DE EMPALME'!$Y$13/'SERIE DE EMPALME'!$W$20) -> 14765.239 | U20: =T20/1.19 -> 12407.764 | W20: =V20/1.19 -> 0
A21: 17 | B21: BOMBILLO EXPLORADORA | C21: INSUMO | D21: 47804 | E21: =D21*('SERIE DE EMPALME'!$Y$13/'SERIE DE EMPALME'!$W$20) -> 52427.948 | F21: =E21/1.19 -> 44057.099 | G21: 47804 | H21: =G21*('SERIE DE EMPALME'!$Y$13/'SERIE DE EMPALME'!$W$20) -> 52427.948 | I21: =H21/1.19 -> 44057.099 | J21: 47804 | K21: =J21*('SERIE DE EMPALME'!$Y$13/'SERIE DE EMPALME'!$W$20) -> 52427.948 | L21: =K21/1.19 -> 44057.099 | M21: 47804 | N21: =M21*('SERIE DE EMPALME'!$Y$13/'SERIE DE EMPALME'!$W$20) -> 52427.948 | O21: =N21/1.19 -> 44057.099 | P21: 47804 | Q21: =P21*('SERIE DE EMPALME'!$Y$13/'SERIE DE EMPALME'!$W$20) -> 52427.948 | R21: =Q21/1.19 -> 44057.099 | S21: 47804 | T21: =S21*('SERIE DE EMPALME'!$Y$13/'SERIE DE EMPALME'!$W$20) -> 52427.948 | U21: =T21/1.19 -> 44057.099 | W21: =V21/1.19 -> 0
A22: 18 | B22: BOMBILLO FAROLA | C22: INSUMO | D22: 47804 | E22: =D22*('SERIE DE EMPALME'!$Y$13/'SERIE DE EMPALME'!$W$20) -> 52427.948 | F22: =E22/1.19 -> 44057.099 | G22: 47804 | H22: =G22*('SERIE DE EMPALME'!$Y$13/'SERIE DE EMPALME'!$W$20) -> 52427.948 | I22: =H22/1.19 -> 44057.099 | J22: 47804 | K22: =J22*('SERIE DE EMPALME'!$Y$13/'SERIE DE EMPALME'!$W$20) -> 52427.948 | L22: =K22/1.19 -> 44057.099 | M22: 47804 | N22: =M22*('SERIE DE EMPALME'!$Y$13/'SERIE DE EMPALME'!$W$20) -> 52427.948 | O22: =N22/1.19 -> 44057.099 | P22: 47804 | Q22: =P22*('SERIE DE EMPALME'!$Y$13/'SERIE DE EMPALME'!$W$20) -> 52427.948 | R22: =Q22/1.19 -> 44057.099 | S22: 47804 | T22: =S22*('SERIE DE EMPALME'!$Y$13/'SERIE DE EMPALME'!$W$20) -> 52427.948 | U22: =T22/1.19 -> 44057.099 | W22: =V22/1.19 -> 0
A23: 19 | B23: BOMBILLO LAMPARA PLACA | C23: INSUMO | D23: 13414 | E23: =D23*('SERIE DE EMPALME'!$Y$13/'SERIE DE EMPALME'!$W$20) -> 14711.499 | F23: =E23/1.19 -> 12362.604 | G23: 13414 | H23: =G23*('SERIE DE EMPALME'!$Y$13/'SERIE DE EMPALME'!$W$20) -> 14711.499 | I23: =H23/1.19 -> 12362.604 | J23: 13414 | K23: =J23*('SERIE DE EMPALME'!$Y$13/'SERIE DE EMPALME'!$W$20) -> 14711.499 | L23: =K23/1.19 -> 12362.604 | M23: 13414 | N23: =M23*('SERIE DE EMPALME'!$Y$13/'SERIE DE EMPALME'!$W$20) -> 14711.499 | O23: =N23/1.19 -> 12362.604 | P23: 13414 | Q23: =P23*('SERIE DE EMPALME'!$Y$13/'SERIE DE EMPALME'!$W$20) -> 14711.499 | R23: =Q23/1.19 -> 12362.604 | S23: 13414 | T23: =S23*('SERIE DE EMPALME'!$Y$13/'SERIE DE EMPALME'!$W$20) -> 14711.499 | U23: =T23/1.19 -> 12362.604 | W23: =V23/1.19 -> 0
A24: 20 | B24: BOMBILLO LAMPARA TRAS | C24: INSUMO | D24: 13414 | E24: =D24*('SERIE DE EMPALME'!$Y$13/'SERIE DE EMPALME'!$W$20) -> 14711.499 | F24: =E24/1.19 -> 12362.604 | G24: 13414 | H24: =G24*('SERIE DE EMPALME'!$Y$13/'SERIE DE EMPALME'!$W$20) -> 14711.499 | I24: =H24/1.19 -> 12362.604 | J24: 13414 | K24: =J24*('SERIE DE EMPALME'!$Y$13/'SERIE DE EMPALME'!$W$20) -> 14711.499 | L24: =K24/1.19 -> 12362.604 | M24: 13414 | N24: =M24*('SERIE DE EMPALME'!$Y$13/'SERIE DE EMPALME'!$W$20) -> 14711.499 | O24: =N24/1.19 -> 12362.604 | P24: 13414 | Q24: =P24*('SERIE DE EMPALME'!$Y$13/'SERIE DE EMPALME'!$W$20) -> 14711.499 | R24: =Q24/1.19 -> 12362.604 | S24: 13414 | T24: =S24*('SERIE DE EMPALME'!$Y$13/'SERIE DE EMPALME'!$W$20) -> 14711.499 | U24: =T24/1.19 -> 12362.604 | W24: =V24/1.19 -> 0
A25: 21 | B25: BOMBILLO STOP TRAS | C25: INSUMO | D25: 13414 | E25: =D25*('SERIE DE EMPALME'!$Y$13/'SERIE DE EMPALME'!$W$20) -> 14711.499 | F25: =E25/1.19 -> 12362.604 | G25: 13414 | H25: =G25*('SERIE DE EMPALME'!$Y$13/'SERIE DE EMPALME'!$W$20) -> 14711.499 | I25: =H25/1.19 -> 12362.604 | J25: 13414 | K25: =J25*('SERIE DE EMPALME'!$Y$13/'SERIE DE EMPALME'!$W$20) -> 14711.499 | L25: =K25/1.19 -> 12362.604 | M25: 13414 | N25: =M25*('SERIE DE EMPALME'!$Y$13/'SERIE DE EMPALME'!$W$20) -> 14711.499 | O25: =N25/1.19 -> 12362.604 | P25: 13414 | Q25: =P25*('SERIE DE EMPALME'!$Y$13/'SERIE DE EMPALME'!$W$20) -> 14711.499 | R25: =Q25/1.19 -> 12362.604 | S25: 13414 | T25: =S25*('SERIE DE EMPALME'!$Y$13/'SERIE DE EMPALME'!$W$20) -> 14711.499 | U25: =T25/1.19 -> 12362.604 | W25: =V25/1.19 -> 0
A26: 22 | B26: BOMBILLO Y SOPORTE | C26: INSUMO | D26: 59511 | E26: =D26*('SERIE DE EMPALME'!$Y$13/'SERIE DE EMPALME'!$W$20) -> 65267.334 | F26: =E26/1.19 -> 54846.499 | G26: 59511 | H26: =G26*('SERIE DE EMPALME'!$Y$13/'SERIE DE EMPALME'!$W$20) -> 65267.334 | I26: =H26/1.19 -> 54846.499 | J26: 59511 | K26: =J26*('SERIE DE EMPALME'!$Y$13/'SERIE DE EMPALME'!$W$20) -> 65267.334 | L26: =K26/1.19 -> 54846.499 | M26: 59511 | N26: =M26*('SERIE DE EMPALME'!$Y$13/'SERIE DE EMPALME'!$W$20) -> 65267.334 | O26: =N26/1.19 -> 54846.499 | P26: 59511 | Q26: =P26*('SERIE DE EMPALME'!$Y$13/'SERIE DE EMPALME'!$W$20) -> 65267.334 | R26: =Q26/1.19 -> 54846.499 | S26: 59511 | T26: =S26*('SERIE DE EMPALME'!$Y$13/'SERIE DE EMPALME'!$W$20) -> 65267.334 | U26: =T26/1.19 -> 54846.499 | W26: =V26/1.19 -> 0
... A44: 40 | B44: LIMPIADOR C MARIPOSAS | C44: INSUMO | D44: 47804 | E44: =D44*('SERIE DE EMPALME'!$Y$13/'SERIE DE EMPALME'!$W$20) -> 52427.948 | F44: =E44/1.19 -> 44057.099 | G44: 47804 | H44: =G44*('SERIE DE EMPALME'!$Y$13/'SERIE DE EMPALME'!$W$20) -> 52427.948 | I44: =H44/1.19 -> 44057.099 | J44: 47804 | K44: =J44*('SERIE DE EMPALME'!$Y$13/'SERIE DE EMPALME'!$W$20) -> 52427.948 | L44: =K44/1.19 -> 44057.099 | M44: 47804 | N44: =M44*('SERIE DE EMPALME'!$Y$13/'SERIE DE EMPALME'!$W$20) -> 52427.948 | O44: =N44/1.19 -> 44057.099 | P44: 47804 | Q44: =P44*('SERIE DE EMPALME'!$Y$13/'SERIE DE EMPALME'!$W$20) -> 52427.948 | R44: =Q44/1.19 -> 44057.099 | S44: 0 | T44: =S44*('SERIE DE EMPALME'!$Y$13/'SERIE DE EMPALME'!$W$20) -> 0 | U44: =T44/1.19 -> 0 | W44: =V44/1.19 -> 0
A45: 41 | B45: LIMPIADOR DE FRENOS | C45: INSUMO | D45: 26829 | E45: =D45*('SERIE DE EMPALME'!$Y$13/'SERIE DE EMPALME'!$W$20) -> 29424.095 | F45: =E45/1.19 -> 24726.13 | G45: 26829 | H45: =G45*('SERIE DE EMPALME'!$Y$13/'SERIE DE EMPALME'!$W$20) -> 29424.095 | I45: =H45/1.19 -> 24726.13 | J45: 26829 | K45: =J45*('SERIE DE EMPALME'!$Y$13/'SERIE DE EMPALME'!$W$20) -> 29424.095 | L45: =K45/1.19 -> 24726.13 | M45: 26829 | N45: =M45*('SERIE DE EMPALME'!$Y$13/'SERIE DE EMPALME'!$W$20) -> 29424.095 | O45: =N45/1.19 -> 24726.13 | P45: 26829 | Q45: =P45*('SERIE DE EMPALME'!$Y$13/'SERIE DE EMPALME'!$W$20) -> 29424.095 | R45: =Q45/1.19 -> 24726.13 | S45: 26829 | T45: =S45*('SERIE DE EMPALME'!$Y$13/'SERIE DE EMPALME'!$W$20) -> 29424.095 | U45: =T45/1.19 -> 24726.13 | V45: 29424 | W45: =V45/1.19 -> 24726.05
A46: 42 | B46: LIMPIADOR ELECTRONICO | C46: INSUMO | D46: 37072 | E46: =D46*('SERIE DE EMPALME'!$Y$13/'SERIE DE EMPALME'!$W$20) -> 40657.872 | F46: =E46/1.19 -> 34166.279 | G46: 37072 | H46: =G46*('SERIE DE EMPALME'!$Y$13/'SERIE DE EMPALME'!$W$20) -> 40657.872 | I46: =H46/1.19 -> 34166.279 | J46: 37072 | K46: =J46*('SERIE DE EMPALME'!$Y$13/'SERIE DE EMPALME'!$W$20) -> 40657.872 | L46: =K46/1.19 -> 34166.279 | M46: 37072 | N46: =M46*('SERIE DE EMPALME'!$Y$13/'SERIE DE EMPALME'!$W$20) -> 40657.872 | O46: =N46/1.19 -> 34166.279 | P46: 37072 | Q46: =P46*('SERIE DE EMPALME'!$Y$13/'SERIE DE EMPALME'!$W$20) -> 40657.872 | R46: =Q46/1.19 -> 34166.279 | S46: 37072 | T46: =S46*('SERIE DE EMPALME'!$Y$13/'SERIE DE EMPALME'!$W$20) -> 40657.872 | U46: =T46/1.19 -> 34166.279 | W46: =V46/1.19 -> 0
A47: 43 | B47: LIMPIADOR INYECTORES | C47: INSUMO | D47: 57560 | E47: =D47*('SERIE DE EMPALME'!$Y$13/'SERIE DE EMPALME'!$W$20) -> 63127.619 | F47: =E47/1.19 -> 53048.419 | G47: 57560 | H47: =G47*('SERIE DE EMPALME'!$Y$13/'SERIE DE EMPALME'!$W$20) -> 63127.619 | I47: =H47/1.19 -> 53048.419 | J47: 57560 | K47: =J47*('SERIE DE EMPALME'!$Y$13/'SERIE DE EMPALME'!$W$20) -> 63127.619 | L47: =K47/1.19 -> 53048.419 | M47: 57560 | N47: =M47*('SERIE DE EMPALME'!$Y$13/'SERIE DE EMPALME'!$W$20) -> 63127.619 | O47: =N47/1.19 -> 53048.419 | P47: 57560 | Q47: =P47*('SERIE DE EMPALME'!$Y$13/'SERIE DE EMPALME'!$W$20) -> 63127.619 | R47: =Q47/1.19 -> 53048.419 | S47: 0 | T47: =S47*('SERIE DE EMPALME'!$Y$13/'SERIE DE EMPALME'!$W$20) -> 0 | U47: =T47/1.19 -> 0 | W47: =V47/1.19 -> 0
A48: 44 | B48: LÍQUIDO DE FRENOS | C48: INSUMO | D48: 26829 | E48: =D48*('SERIE DE EMPALME'!$Y$13/'SERIE DE EMPALME'!$W$20) -> 29424.095 | F48: =E48/1.19 -> 24726.13 | G48: 26829 | H48: =G48*('SERIE DE EMPALME'!$Y$13/'SERIE DE EMPALME'!$W$20) -> 29424.095 | I48: =H48/1.19 -> 24726.13 | J48: 26829 | K48: =J48*('SERIE DE EMPALME'!$Y$13/'SERIE DE EMPALME'!$W$20) -> 29424.095 | L48: =K48/1.19 -> 24726.13 | M48: 26829 | N48: =M48*('SERIE DE EMPALME'!$Y$13/'SERIE DE EMPALME'!$W$20) -> 29424.095 | O48: =N48/1.19 -> 24726.13 | P48: 26829 | Q48: =P48*('SERIE DE EMPALME'!$Y$13/'SERIE DE EMPALME'!$W$20) -> 29424.095 | R48: =Q48/1.19 -> 24726.13 | S48: 26829 | T48: =S48*('SERIE DE EMPALME'!$Y$13/'SERIE DE EMPALME'!$W$20) -> 29424.095 | U48: =T48/1.19 -> 24726.13 | W48: =V48/1.19 -> 0
A49: 45 | B49: ORING - UNIDAD | C49: INSUMO | D49: 13414 | E49: =D49*('SERIE DE EMPALME'!$Y$13/'SERIE DE EMPALME'!$W$20) -> 14711.499 | F49: =E49/1.19 -> 12362.604 | G49: 13414 | H49: =G49*('SERIE DE EMPALME'!$Y$13/'SERIE DE EMPALME'!$W$20) -> 14711.499 | I49: =H49/1.19 -> 12362.604 | J49: 13414 | K49: =J49*('SERIE DE EMPALME'!$Y$13/'SERIE DE EMPALME'!$W$20) -> 14711.499 | L49: =K49/1.19 -> 12362.604 | M49: 13414 | N49: =M49*('SERIE DE EMPALME'!$Y$13/'SERIE DE EMPALME'!$W$20) -> 14711.499 | O49: =N49/1.19 -> 12362.604 | P49: 13414 | Q49: =P49*('SERIE DE EMPALME'!$Y$13/'SERIE DE EMPALME'!$W$20) -> 14711.499 | R49: =Q49/1.19 -> 12362.604 | S49: 0 | T49: =S49*('SERIE DE EMPALME'!$Y$13/'SERIE DE EMPALME'!$W$20) -> 0 | U49: =T49/1.19 -> 0 | W49: =V49/1.19 -> 0
A50: 46 | B50: PILA CONTROL ALARMA - UNIDAD | C50: INSUMO | D50: 19024 | E50: =D50*('SERIE DE EMPALME'!$Y$13/'SERIE DE EMPALME'!$W$20) -> 20864.139 | F50: =E50/1.19 -> 17532.89 | G50: 19024 | H50: =G50*('SERIE DE EMPALME'!$Y$13/'SERIE DE EMPALME'!$W$20) -> 20864.139 | I50: =H50/1.19 -> 17532.89 | J50: 19024 | K50: =J50*('SERIE DE EMPALME'!$Y$13/'SERIE DE EMPALME'!$W$20) -> 20864.139 | L50: =K50/1.19 -> 17532.89 | M50: 19024 | N50: =M50*('SERIE DE EMPALME'!$Y$13/'SERIE DE EMPALME'!$W$20) -> 20864.139 | O50: =N50/1.19 -> 17532.89 | P50: 19024 | Q50: =P50*('SERIE DE EMPALME'!$Y$13/'SERIE DE EMPALME'!$W$20) -> 20864.139 | R50: =Q50/1.19 -> 17532.89 | S50: 19024 | T50: =S50*('SERIE DE EMPALME'!$Y$13/'SERIE DE EMPALME'!$W$20) -> 20864.139 | U50: =T50/1.19 -> 17532.89 | W50: =V50/1.19 -> 0
A51: 47 | B51: PORTAFUSIBLE | C51: INSUMO | D51: 37901 | E51: =D51*('SERIE DE EMPALME'!$Y$13/'SERIE DE EMPALME'!$W$20) -> 41567.058 | F51: =E51/1.19 -> 34930.301 | G51: 37901 | H51: =G51*('SERIE DE EMPALME'!$Y$13/'SERIE DE EMPALME'!$W$20) -> 41567.058 | I51: =H51/1.19 -> 34930.301 | J51: 37901 | K51: =J51*('SERIE DE EMPALME'!$Y$13/'SERIE DE EMPALME'!$W$20) -> 41567.058 | L51: =K51/1.19 -> 34930.301 | M51: 37901 | N51: =M51*('SERIE DE EMPALME'!$Y$13/'SERIE DE EMPALME'!$W$20) -> 41567.058 | O51: =N51/1.19 -> 34930.301 | P51: 37901 | Q51: =P51*('SERIE DE EMPALME'!$Y$13/'SERIE DE EMPALME'!$W$20) -> 41567.058 | R51: =Q51/1.19 -> 34930.301 | S51: 0 | T51: =S51*('SERIE DE EMPALME'!$Y$13/'SERIE DE EMPALME'!$W$20) -> 0 | U51: =T51/1.19 -> 0 | W51: =V51/1.19 -> 0
A52: 48 | B52: PURIFICADOR AIRE CABINA | C52: INSUMO | D52: 105120 | E52: =D52*('SERIE DE EMPALME'!$Y$13/'SERIE DE EMPALME'!$W$20) -> 115287.97 | F52: =E52/1.19 -> 96880.643 | G52: 105120 | H52: =G52*('SERIE DE EMPALME'!$Y$13/'SERIE DE EMPALME'!$W$20) -> 115287.97 | I52: =H52/1.19 -> 96880.643 | J52: 105120 | K52: =J52*('SERIE DE EMPALME'!$Y$13/'SERIE DE EMPALME'!$W$20) -> 115287.97 | L52: =K52/1.19 -> 96880.643 | M52: 105120 | N52: =M52*('SERIE DE EMPALME'!$Y$13/'SERIE DE EMPALME'!$W$20) -> 115287.97 | O52: =N52/1.19 -> 96880.643 | P52: 105120 | Q52: =P52*('SERIE DE EMPALME'!$Y$13/'SERIE DE EMPALME'!$W$20) -> 115287.97 | R52: =Q52/1.19 -> 96880.643 | S52: 105120 | T52: =S52*('SERIE DE EMPALME'!$Y$13/'SERIE DE EMPALME'!$W$20) -> 115287.97 | U52: =T52/1.19 -> 96880.643 | W52: =V52/1.19 -> 0
A53: 49 | B53: SELLANTE ULTRAGREY | C53: INSUMO | D53: 59511 | E53: =D53*('SERIE DE EMPALME'!$Y$13/'SERIE DE EMPALME'!$W$20) -> 65267.334 | F53: =E53/1.19 -> 54846.499 | G53: 59511 | H53: =G53*('SERIE DE EMPALME'!$Y$13/'SERIE DE EMPALME'!$W$20) -> 65267.334 | I53: =H53/1.19 -> 54846.499 | J53: 59511 | K53: =J53*('SERIE DE EMPALME'!$Y$13/'SERIE DE EMPALME'!$W$20) -> 65267.334 | L53: =K53/1.19 -> 54846.499 | M53: 59511 | N53: =M53*('SERIE DE EMPALME'!$Y$13/'SERIE DE EMPALME'!$W$20) -> 65267.334 | O53: =N53/1.19 -> 54846.499 | P53: 59511 | Q53: =P53*('SERIE DE EMPALME'!$Y$13/'SERIE DE EMPALME'!$W$20) -> 65267.334 | R53: =Q53/1.19 -> 54846.499 | S53: 0 | T53: =S53*('SERIE DE EMPALME'!$Y$13/'SERIE DE EMPALME'!$W$20) -> 0 | U53: =T53/1.19 -> 0 | W53: =V53/1.19 -> 0
A54: 50 | B54: SIKAFLEX | C54: INSUMO | D54: 72682 | E54: =D54*('SERIE DE EMPALME'!$Y$13/'SERIE DE EMPALME'!$W$20) -> 79712.328 | F54: =E54/1.19 -> 66985.15 | G54: 72682 | H54: =G54*('SERIE DE EMPALME'!$Y$13/'SERIE DE EMPALME'!$W$20) -> 79712.328 | I54: =H54/1.19 -> 66985.15 | J54: 72682 | K54: =J54*('SERIE DE EMPALME'!$Y$13/'SERIE DE EMPALME'!$W$20) -> 79712.328 | L54: =K54/1.19 -> 66985.15 | M54: 72682 | N54: =M54*('SERIE DE EMPALME'!$Y$13/'SERIE DE EMPALME'!$W$20) -> 79712.328 | O54: =N54/1.19 -> 66985.15 | P54: 72682 | Q54: =P54*('SERIE DE EMPALME'!$Y$13/'SERIE DE EMPALME'!$W$20) -> 79712.328 | R54: =Q54/1.19 -> 66985.15 | S54: 0 | T54: =S54*('SERIE DE EMPALME'!$Y$13/'SERIE DE EMPALME'!$W$20) -> 0 | U54: =T54/1.19 -> 0 | W54: =V54/1.19 -> 0
A55: 51 | B55: SOCKET CONECTOR ELECTRICO | C55: INSUMO | D55: 69266 | E55: =D55*('SERIE DE EMPALME'!$Y$13/'SERIE DE EMPALME'!$W$20) -> 75965.908 | F55: =E55/1.19 -> 63836.897 | G55: 69266 | H55: =G55*('SERIE DE EMPALME'!$Y$13/'SERIE DE EMPALME'!$W$20) -> 75965.908 | I55: =H55/1.19 -> 63836.897 | J55: 69266 | K55: =J55*('SERIE DE EMPALME'!$Y$13/'SERIE DE EMPALME'!$W$20) -> 75965.908 | L55: =K55/1.19 -> 63836.897 | M55: 69266 | N55: =M55*('SERIE DE EMPALME'!$Y$13/'SERIE DE EMPALME'!$W$20) -> 75965.908 | O55: =N55/1.19 -> 63836.897 | P55: 69266 | Q55: =P55*('SERIE DE EMPALME'!$Y$13/'SERIE DE EMPALME'!$W$20) -> 75965.908 | R55: =Q55/1.19 -> 63836.897 | S55: 0 | T55: =S55*('SERIE DE EMPALME'!$Y$13/'SERIE DE EMPALME'!$W$20) -> 0 | U55: =T55/1.19 -> 0 | W55: =V55/1.19 -> 0
A56: 52 | B56: BANCO DE CHASIS | C56: SERVICIO | D56: 1049734 | E56: =D56*('SERIE DE EMPALME'!$Y$13/'SERIE DE EMPALME'!$W$20) -> 1151271.9 | F56: =E56/1.19 -> 967455.34 | G56: 1049734 | H56: =G56*('SERIE DE EMPALME'!$Y$13/'SERIE DE EMPALME'!$W$20) -> 1151271.9 | I56: =H56/1.19 -> 967455.34 | J56: 1049734 | K56: =J56*('SERIE DE EMPALME'!$Y$13/'SERIE DE EMPALME'!$W$20) -> 1151271.9 | L56: =K56/1.19 -> 967455.34 | M56: 1049734 | N56: =M56*('SERIE DE EMPALME'!$Y$13/'SERIE DE EMPALME'!$W$20) -> 1151271.9 | O56: =N56/1.19 -> 967455.34 | P56: 1049734 | Q56: =P56*('SERIE DE EMPALME'!$Y$13/'SERIE DE EMPALME'!$W$20) -> 1151271.9 | R56: =Q56/1.19 -> 967455.34 | S56: 1049734 | T56: =S56*('SERIE DE EMPALME'!$Y$13/'SERIE DE EMPALME'!$W$20) -> 1151271.9 | U56: =T56/1.19 -> 967455.34 | W56: =V56/1.19 -> 0
A57: 53 | B57: SERVICIO DE LABORATORIO DE INYECTORES | C57: SERVICIO | D57: 1049734 | E57: =D57*('SERIE DE EMPALME'!$Y$13/'SERIE DE EMPALME'!$W$20) -> 1151271.9 | F57: =E57/1.19 -> 967455.34 | G57: 1049734 | H57: =G57*('SERIE DE EMPALME'!$Y$13/'SERIE DE EMPALME'!$W$20) -> 1151271.9 | I57: =H57/1.19 -> 967455.34 | J57: 1049734 | K57: =J57*('SERIE DE EMPALME'!$Y$13/'SERIE DE EMPALME'!$W$20) -> 1151271.9 | L57: =K57/1.19 -> 967455.34 | M57: 1049734 | N57: =M57*('SERIE DE EMPALME'!$Y$13/'SERIE DE EMPALME'!$W$20) -> 1151271.9 | O57: =N57/1.19 -> 967455.34 | P57: 1049734 | Q57: =P57*('SERIE DE EMPALME'!$Y$13/'SERIE DE EMPALME'!$W$20) -> 1151271.9 | R57: =Q57/1.19 -> 967455.34 | S57: 1049734 | T57: =S57*('SERIE DE EMPALME'!$Y$13/'SERIE DE EMPALME'!$W$20) -> 1151271.9 | U57: =T57/1.19 -> 967455.34 | W57: =V57/1.19 -> 0
... A292: 288 | B292: VOLANTE DE MOTOR | C292: REPUESTO | D292: 2664823 | E292: =D292*('SERIE DE EMPALME'!$Y$13/'SERIE DE EMPALME'!$W$20) -> 2922583.9 | F292: =E292/1.19 -> 2455952.9 | G292: 2664823 | H292: =G292*('SERIE DE EMPALME'!$Y$13/'SERIE DE EMPALME'!$W$20) -> 2922583.9 | I292: =H292/1.19 -> 2455952.9 | J292: 2664823 | K292: =J292*('SERIE DE EMPALME'!$Y$13/'SERIE DE EMPALME'!$W$20) -> 2922583.9 | L292: =K292/1.19 -> 2455952.9 | M292: 2664823 | N292: =M292*('SERIE DE EMPALME'!$Y$13/'SERIE DE EMPALME'!$W$20) -> 2922583.9 | O292: =N292/1.19 -> 2455952.9 | P292: 2664823 | Q292: =P292*('SERIE DE EMPALME'!$Y$13/'SERIE DE EMPALME'!$W$20) -> 2922583.9 | R292: =Q292/1.19 -> 2455952.9 | S292: 0 | T292: =S292*('SERIE DE EMPALME'!$Y$13/'SERIE DE EMPALME'!$W$20) -> 0 | U292: =T292/1.19 -> 0 | W292: =V292/1.19 -> 0
A293: ITEM NO PREVISTO - ENERO | B293: KIT PASADORES MORDAZAS TRASERAS | C293: REPUESTO | E293: =D293*('SERIE DE EMPALME'!$Y$13/'SERIE DE EMPALME'!$W$20) -> 0 | F293: =E293/1.19 -> 0 | H293: =G293*('SERIE DE EMPALME'!$Y$13/'SERIE DE EMPALME'!$W$20) -> 0 | I293: =H293/1.19 -> 0 | J293: 438515 | K293: =J293*('SERIE DE EMPALME'!$Y$13/'SERIE DE EMPALME'!$W$20) -> 480931.34 | L293: =K293/1.19 -> 404143.98 | N293: =M293*('SERIE DE EMPALME'!$Y$13/'SERIE DE EMPALME'!$W$20) -> 0 | O293: =N293/1.19 -> 0 | Q293: =P293*('SERIE DE EMPALME'!$Y$13/'SERIE DE EMPALME'!$W$20) -> 0 | R293: =Q293/1.19 -> 0 | T293: =S293*('SERIE DE EMPALME'!$Y$13/'SERIE DE EMPALME'!$W$20) -> 0 | U293: =T293/1.19 -> 0 | V293: 0 | W293: =V293/1.19 -> 0
A294: ITEM NO PREVISTO - ENERO | B294: JUEGO DE BANDAS FRENO DE SEGURIDAD | C294: REPUESTO | E294: =D294*('SERIE DE EMPALME'!$Y$13/'SERIE DE EMPALME'!$W$20) -> 0 | F294: =E294/1.19 -> 0 | H294: =G294*('SERIE DE EMPALME'!$Y$13/'SERIE DE EMPALME'!$W$20) -> 0 | I294: =H294/1.19 -> 0 | J294: 321300 | K294: =J294*('SERIE DE EMPALME'!$Y$13/'SERIE DE EMPALME'!$W$20) -> 352378.46 | L294: =K294/1.19 -> 296116.35 | N294: =M294*('SERIE DE EMPALME'!$Y$13/'SERIE DE EMPALME'!$W$20) -> 0 | O294: =N294/1.19 -> 0 | Q294: =P294*('SERIE DE EMPALME'!$Y$13/'SERIE DE EMPALME'!$W$20) -> 0 | R294: =Q294/1.19 -> 0 | T294: =S294*('SERIE DE EMPALME'!$Y$13/'SERIE DE EMPALME'!$W$20) -> 0 | U294: =T294/1.19 -> 0 | V294: 0 | W294: =V294/1.19 -> 0
A295: ITEM NO PREVISTO - ENERO | B295: CROMADO DE RIN | C295: SERVICIO | E295: =D295*('SERIE DE EMPALME'!$Y$13/'SERIE DE EMPALME'!$W$20) -> 0 | F295: =E295/1.19 -> 0 | H295: =G295*('SERIE DE EMPALME'!$Y$13/'SERIE DE EMPALME'!$W$20) -> 0 | I295: =H295/1.19 -> 0 | J295: 339150 | K295: =J295*('SERIE DE EMPALME'!$Y$13/'SERIE DE EMPALME'!$W$20) -> 371955.04 | L295: =K295/1.19 -> 312567.26 | N295: =M295*('SERIE DE EMPALME'!$Y$13/'SERIE DE EMPALME'!$W$20) -> 0 | O295: =N295/1.19 -> 0 | Q295: =P295*('SERIE DE EMPALME'!$Y$13/'SERIE DE EMPALME'!$W$20) -> 0 | R295: =Q295/1.19 -> 0 | T295: =S295*('SERIE DE EMPALME'!$Y$13/'SERIE DE EMPALME'!$W$20) -> 0 | U295: =T295/1.19 -> 0 | V295: 0 | W295: =V295/1.19 -> 0
A296: ITEM NO PREVISTO MARZO | B296: SOPORTE ESTRIBO LATERAL DERECHO | C296: REPUESTO | E296: =D296*('SERIE DE EMPALME'!$Y$13/'SERIE DE EMPALME'!$W$20) -> 0 | F296: =E296/1.19 -> 0 | H296: =G296*('SERIE DE EMPALME'!$Y$13/'SERIE DE EMPALME'!$W$20) -> 0 | I296: =H296/1.19 -> 0 | K296: =J296*('SERIE DE EMPALME'!$Y$13/'SERIE DE EMPALME'!$W$20) -> 0 | L296: =K296/1.19 -> 0 | M296: 136850 | N296: =M296*('SERIE DE EMPALME'!$Y$13/'SERIE DE EMPALME'!$W$20) -> 150087.12 | O296: =N296/1.19 -> 126123.63 | Q296: =P296*('SERIE DE EMPALME'!$Y$13/'SERIE DE EMPALME'!$W$20) -> 0 | R296: =Q296/1.19 -> 0 | T296: =S296*('SERIE DE EMPALME'!$Y$13/'SERIE DE EMPALME'!$W$20) -> 0 | U296: =T296/1.19 -> 0 | V296: 0 | W296: =V296/1.19 -> 0
A297: TOTALES | D297: =SUM(D5:D296) -> 153384639 | E297: =SUM(E5:E296) -> 1.6822111e+08 | F297: =SUM(F5:F296) -> 1.4136228e+08 | G297: =SUM(G5:G296) -> 152995378 | H297: =SUM(H5:H296) -> 1.677942e+08 | I297: =SUM(I5:I296) -> 1.4100353e+08 | J297: =SUM(J5:J296) -> 157946686 | K297: =SUM(K5:K296) -> 1.7322443e+08 | ... S297: =SUM(S5:S296) -> 19965737 | T297: =S297*('SERIE DE EMPALME'!$Y$13/'SERIE DE EMPALME'!$W$20) -> 21896967 | U297: =SUM(U5:U296) -> 18400813 | V297: =SUM(V5:V296) -> 98971 | W297: =V297/1.19 -> 83168.908
E298: =D298*1.052*1.051*1.0387 -> 0 | F298: =E298/1.19 -> 0 | H298: =G298*('SERIE DE EMPALME'!$Y$13/'SERIE DE EMPALME'!$W$20) -> 0 | I298: =H298/1.19 -> 0 | K298: =J298*1.052*1.051*1.0387 -> 0 | L298: =K298/1.19 -> 0 | N298: =M298*1.052*1.051*1.0387 -> 0 | O298: =N298/1.19 -> 0 | Q298: =P298*1.052*1.051*1.0387 -> 0 | R298: =Q298/1.19 -> 0 | T298: =S298*('SERIE DE EMPALME'!$Y$13/'SERIE DE EMPALME'!$W$20) -> 0 | U298: =T298/1.19 -> 0
B299: SUMATORIA PRECIOS UNITARIOS REPUESTOS DE REFERENCIA | D299: =D297+G297+J297+M297+P297+S297 -> 802241280 | E299: =D299*1.052*1.051*1.0387 -> 9.2132656e+08 | F299: =E299/1.19 -> 7.74224e+08 | H299: =G299*('SERIE DE EMPALME'!$Y$13/'SERIE DE EMPALME'!$W$20) -> 0 | I299: =H299/1.19 -> 0 | K299: =J299*1.052*1.051*1.0387 -> 0 | L299: =K299/1.19 -> 0 | N299: =M299*1.052*1.051*1.0387 -> 0 | O299: =N299/1.19 -> 0 | Q299: =P299*1.052*1.051*1.0387 -> 0 | R299: =Q299/1.19 -> 0 | T299: =S299*('SERIE DE EMPALME'!$Y$13/'SERIE DE EMPALME'!$W$20) -> 0 | U299: =T299/1.19 -> 0
B300: SUMATORIA PRECIOS UNITARIOS REPUESTOS DE REFERENCIA 2026 | E300: =E297+H297+K297+N297+Q297+T297+V297 -> 8.7993882e+08

Sheet OFERTA MANO DE OBRA  
A1: PRECIOS DE REFERENCIA MANO DE OBRA
C4: HYUNDAI ACCENT GL I25 SEDAN MODELO 2013 - GASOLINA | F4: CHEVROLET JOY SEDAN MODELO 2022 - GASOLINA | I4: TOYOTA 4 RUNNER STATION WAGON MODELO 2009 - GASOLINA | L4: TOYOTA PRADO TX CAMPERO MODELO 2015 - DIESEL | O4: CHEVROLET VITARA 1.600 C.C. CAMPERO MODELO 2007 - GASOLINA | R4: FORD RANGER XLT AT 4X4 MODELO 2023 - DIESEL | U4: CHEVROLET COLORADO 4X4 MODELO 2026 - DIESEL
A5: Nº | B5: DESCRIPCIÓN DE MANO DE OBRA | C5: Precio de referencia incluido IVA 2024 | D5: Valor con IVA ajustado con serie de empalme a 2026 | E5: VALOR ANTES DE IVA 2026 | F5: Precio de referencia incluido IVA 2024 | G5: Valor con IVA ajustado con serie de empalme a 2026 | H5: VALOR ANTES DE IVA 2026 | I5: Precio de referencia incluido IVA 2024 | J5: Valor con IVA ajustado con serie de empalme a 2026 | K5: VALOR ANTES DE IVA 2026 | L5: Precio de referencia incluido IVA 2024 | M5: Valor con IVA ajustado con serie de empalme a 2026 | N5: VALOR ANTES DE IVA 2026 | O5: Precio de referencia incluido IVA 2024 | P5: Valor con IVA ajustado con serie de empalme a 2026 | Q5: VALOR ANTES DE IVA 2026 | R5: Precio de referencia incluido IVA 2024 | S5: Valor con IVA ajustado con serie de empalme a 2026 | T5: VALOR ANTES DE IVA 2026 | U5: Valor con IVA ajustado con serie de empalme a 2026 | V5: VALOR ANTES DE IVA 2026
A6: 1 | B6: CAMBIAR JUEGO DE TERMINALES DIRECCION | C6: 196228.76 | D6: =C6*('SERIE DE EMPALME'!$Y$13/'SERIE DE EMPALME'!$W$20) -> 215209.42 | E6: =D6/1.19 -> 180848.25 | F6: 196228.76 | G6: =F6*('SERIE DE EMPALME'!$Y$13/'SERIE DE EMPALME'!$W$20) -> 215209.42 | H6: =G6/1.19 -> 180848.25 | I6: 196228.76 | J6: =I6*('SERIE DE EMPALME'!$Y$13/'SERIE DE EMPALME'!$W$20) -> 215209.42 | K6: =J6/1.19 -> 180848.25 | L6: 196228.76 | M6: =L6*('SERIE DE EMPALME'!$Y$13/'SERIE DE EMPALME'!$W$20) -> 215209.42 | N6: =M6/1.19 -> 180848.25 | O6: 196228.76 | P6: =O6*('SERIE DE EMPALME'!$Y$13/'SERIE DE EMPALME'!$W$20) -> 215209.42 | Q6: =P6/1.19 -> 180848.25 | R6: 196228.76 | S6: =R6*('SERIE DE EMPALME'!$Y$13/'SERIE DE EMPALME'!$W$20) -> 215209.42 | T6: =S6/1.19 -> 180848.25 | U6: 215209.42 | V6: 208105.18
A7: 2 | B7: CAMBIO BRAZOS AXIALES (JUEGO) | C7: 196228.76 | D7: =C7*('SERIE DE EMPALME'!$Y$13/'SERIE DE EMPALME'!$W$20) -> 215209.42 | E7: =D7/1.19 -> 180848.25 | F7: 196228.76 | G7: =F7*('SERIE DE EMPALME'!$Y$13/'SERIE DE EMPALME'!$W$20) -> 215209.42 | H7: =G7/1.19 -> 180848.25 | I7: 196228.76 | J7: =I7*('SERIE DE EMPALME'!$Y$13/'SERIE DE EMPALME'!$W$20) -> 215209.42 | K7: =J7/1.19 -> 180848.25 | L7: 196228.76 | M7: =L7*('SERIE DE EMPALME'!$Y$13/'SERIE DE EMPALME'!$W$20) -> 215209.42 | N7: =M7/1.19 -> 180848.25 | O7: 196228.76 | P7: =O7*('SERIE DE EMPALME'!$Y$13/'SERIE DE EMPALME'!$W$20) -> 215209.42 | Q7: =P7/1.19 -> 180848.25 | R7: 196228.76 | S7: =R7*('SERIE DE EMPALME'!$Y$13/'SERIE DE EMPALME'!$W$20) -> 215209.42 | T7: =S7/1.19 -> 180848.25 | U7: 215209.42 | V7: 208105.18
A8: 3 | B8: CAMBIO CAJA DIRECCIÓN | C8: 261638.65 | D8: =C8*('SERIE DE EMPALME'!$Y$13/'SERIE DE EMPALME'!$W$20) -> 286946.23 | E8: =D8/1.19 -> 241131.29 | F8: 261638.65 | G8: =F8*('SERIE DE EMPALME'!$Y$13/'SERIE DE EMPALME'!$W$20) -> 286946.23 | H8: =G8/1.19 -> 241131.29 | I8: 261638.65 | J8: =I8*('SERIE DE EMPALME'!$Y$13/'SERIE DE EMPALME'!$W$20) -> 286946.23 | K8: =J8/1.19 -> 241131.29 | L8: 261638.65 | M8: =L8*('SERIE DE EMPALME'!$Y$13/'SERIE DE EMPALME'!$W$20) -> 286946.23 | N8: =M8/1.19 -> 241131.29 | O8: 261638.65 | P8: =O8*('SERIE DE EMPALME'!$Y$13/'SERIE DE EMPALME'!$W$20) -> 286946.23 | Q8: =P8/1.19 -> 241131.29 | R8: 261638.65 | S8: =R8*('SERIE DE EMPALME'!$Y$13/'SERIE DE EMPALME'!$W$20) -> 286946.23 | T8: =S8/1.19 -> 241131.29 | U8: 286946.23 | V8: 277473.9
A9: 4 | B9: CAMBIO DE BOMBA DE DIRECCIÓN | C9: $ - | D9: $ - | E9: $ - | F9: 261638.65 | G9: =F9*('SERIE DE EMPALME'!$Y$13/'SERIE DE EMPALME'!$W$20) -> 286946.23 | H9: =G9/1.19 -> 241131.29 | I9: 261640.47 | J9: =I9*('SERIE DE EMPALME'!$Y$13/'SERIE DE EMPALME'!$W$20) -> 286948.23 | K9: =J9/1.19 -> 241132.96 | L9: 261641.38 | M9: =L9*('SERIE DE EMPALME'!$Y$13/'SERIE DE EMPALME'!$W$20) -> 286949.22 | N9: =M9/1.19 -> 241133.8 | O9: 261641.38 | P9: =O9*('SERIE DE EMPALME'!$Y$13/'SERIE DE EMPALME'!$W$20) -> 286949.22 | Q9: =P9/1.19 -> 241133.8 | R9: 261641.38 | S9: =R9*('SERIE DE EMPALME'!$Y$13/'SERIE DE EMPALME'!$W$20) -> 286949.22 | T9: =S9/1.19 -> 241133.8 | U9: 286949.22 | V9: 277476.79
A10: 5 | B10: CAMBIO DE CRUCETA DIRECCIÓN | C10: 240169.02 | D10: =C10*('SERIE DE EMPALME'!$Y$13/'SERIE DE EMPALME'!$W$20) -> 263399.9 | E10: =D10/1.19 -> 221344.46 | F10: 240169.02 | G10: =F10*('SERIE DE EMPALME'!$Y$13/'SERIE DE EMPALME'!$W$20) -> 263399.9 | H10: =G10/1.19 -> 221344.46 | I10: 240169.02 | J10: =I10*('SERIE DE EMPALME'!$Y$13/'SERIE DE EMPALME'!$W$20) -> 263399.9 | K10: =J10/1.19 -> 221344.46 | L10: 240169.02 | M10: =L10*('SERIE DE EMPALME'!$Y$13/'SERIE DE EMPALME'!$W$20) -> 263399.9 | N10: =M10/1.19 -> 221344.46 | O10: 240169.02 | P10: =O10*('SERIE DE EMPALME'!$Y$13/'SERIE DE EMPALME'!$W$20) -> 263399.9 | Q10: =P10/1.19 -> 221344.46 | R10: 240169.02 | S10: =R10*('SERIE DE EMPALME'!$Y$13/'SERIE DE EMPALME'!$W$20) -> 263399.9 | T10: =S10/1.19 -> 221344.46 | U10: 263399.9 | V10: 254704.85
A11: 6 | B11: CAMBIO DE EMPAQUES DE CAJA DE DIRECCIÓN | C11: 240169.02 | D11: =C11*('SERIE DE EMPALME'!$Y$13/'SERIE DE EMPALME'!$W$20) -> 263399.9 | E11: =D11/1.19 -> 221344.46 | F11: 240169.02 | G11: =F11*('SERIE DE EMPALME'!$Y$13/'SERIE DE EMPALME'!$W$20) -> 263399.9 | H11: =G11/1.19 -> 221344.46 | I11: 240169.02 | J11: =I11*('SERIE DE EMPALME'!$Y$13/'SERIE DE EMPALME'!$W$20) -> 263399.9 | K11: =J11/1.19 -> 221344.46 | L11: 240169.02 | M11: =L11*('SERIE DE EMPALME'!$Y$13/'SERIE DE EMPALME'!$W$20) -> 263399.9 | N11: =M11/1.19 -> 221344.46 | O11: 240169.02 | P11: =O11*('SERIE DE EMPALME'!$Y$13/'SERIE DE EMPALME'!$W$20) -> 263399.9 | Q11: =P11/1.19 -> 221344.46 | R11: 240169.02 | S11: =R11*('SERIE DE EMPALME'!$Y$13/'SERIE DE EMPALME'!$W$20) -> 263399.9 | T11: =S11/1.19 -> 221344.46 | U11: 263399.9 | V11: 254704.85
A12: 7 | B12: CAMBIO DE RETENEDORES CAJA DE DIRECCION | C12: 240169.02 | D12: =C12*('SERIE DE EMPALME'!$Y$13/'SERIE DE EMPALME'!$W$20) -> 263399.9 | E12: =D12/1.19 -> 221344.46 | F12: 240169.02 | G12: =F12*('SERIE DE EMPALME'!$Y$13/'SERIE DE EMPALME'!$W$20) -> 263399.9 | H12: =G12/1.19 -> 221344.46 | I12: 240169.02 | J12: =I12*('SERIE DE EMPALME'!$Y$13/'SERIE DE EMPALME'!$W$20) -> 263399.9 | K12: =J12/1.19 -> 221344.46 | L12: 240169.02 | M12: =L12*('SERIE DE EMPALME'!$Y$13/'SERIE DE EMPALME'!$W$20) -> 263399.9 | N12: =M12/1.19 -> 221344.46 | O12: 240169.02 | P12: =O12*('SERIE DE EMPALME'!$Y$13/'SERIE DE EMPALME'!$W$20) -> 263399.9 | Q12: =P12/1.19 -> 221344.46 | R12: 240169.02 | S12: =R12*('SERIE DE EMPALME'!$Y$13/'SERIE DE EMPALME'!$W$20) -> 263399.9 | T12: =S12/1.19 -> 221344.46 | U12: 263399.9 | V12: 254704.85
A13: 8 | B13: CAMBIO GUARDAPOLVOS CAJA DIRECCION (COMPLETO) | C13: 240169.02 | D13: =C13*('SERIE DE EMPALME'!$Y$13/'SERIE DE EMPALME'!$W$20) -> 263399.9 | E13: =D13/1.19 -> 221344.46 | F13: 240169.02 | G13: =F13*('SERIE DE EMPALME'!$Y$13/'SERIE DE EMPALME'!$W$20) -> 263399.9 | H13: =G13/1.19 -> 221344.46 | I13: 240169.02 | J13: =I13*('SERIE DE EMPALME'!$Y$13/'SERIE DE EMPALME'!$W$20) -> 263399.9 | K13: =J13/1.19 -> 221344.46 | L13: 240169.02 | M13: =L13*('SERIE DE EMPALME'!$Y$13/'SERIE DE EMPALME'!$W$20) -> 263399.9 | N13: =M13/1.19 -> 221344.46 | O13: 240169.02 | P13: =O13*('SERIE DE EMPALME'!$Y$13/'SERIE DE EMPALME'!$W$20) -> 263399.9 | Q13: =P13/1.19 -> 221344.46 | R13: 240169.02 | S13: =R13*('SERIE DE EMPALME'!$Y$13/'SERIE DE EMPALME'!$W$20) -> 263399.9 | T13: =S13/1.19 -> 221344.46 | U13: 263399.9 | V13: 254704.85
A14: 9 | B14: CAMBIO MANGUERA DIRECCIÓN HIDRAULICA | C14: 240169.02 | D14: =C14*('SERIE DE EMPALME'!$Y$13/'SERIE DE EMPALME'!$W$20) -> 263399.9 | E14: =D14/1.19 -> 221344.46 | F14: 240169.02 | G14: =F14*('SERIE DE EMPALME'!$Y$13/'SERIE DE EMPALME'!$W$20) -> 263399.9 | H14: =G14/1.19 -> 221344.46 | I14: 240169.02 | J14: =I14*('SERIE DE EMPALME'!$Y$13/'SERIE DE EMPALME'!$W$20) -> 263399.9 | K14: =J14/1.19 -> 221344.46 | L14: 240169.02 | M14: =L14*('SERIE DE EMPALME'!$Y$13/'SERIE DE EMPALME'!$W$20) -> 263399.9 | N14: =M14/1.19 -> 221344.46 | O14: 240169.02 | P14: =O14*('SERIE DE EMPALME'!$Y$13/'SERIE DE EMPALME'!$W$20) -> 263399.9 | Q14: =P14/1.19 -> 221344.46 | R14: 240169.02 | S14: =R14*('SERIE DE EMPALME'!$Y$13/'SERIE DE EMPALME'!$W$20) -> 263399.9 | T14: =S14/1.19 -> 221344.46 | U14: 263399.9 | V14: 254704.85
A15: 10 | B15: CAMBIO MANGUERA HIDRAULICO | C15: 240169.02 | D15: =C15*('SERIE DE EMPALME'!$Y$13/'SERIE DE EMPALME'!$W$20) -> 263399.9 | E15: =D15/1.19 -> 221344.46 | F15: 240169.02 | G15: =F15*('SERIE DE EMPALME'!$Y$13/'SERIE DE EMPALME'!$W$20) -> 263399.9 | H15: =G15/1.19 -> 221344.46 | I15: 240169.02 | J15: =I15*('SERIE DE EMPALME'!$Y$13/'SERIE DE EMPALME'!$W$20) -> 263399.9 | K15: =J15/1.19 -> 221344.46 | L15: 240169.02 | M15: =L15*('SERIE DE EMPALME'!$Y$13/'SERIE DE EMPALME'!$W$20) -> 263399.9 | N15: =M15/1.19 -> 221344.46 | O15: 240169.02 | P15: =O15*('SERIE DE EMPALME'!$Y$13/'SERIE DE EMPALME'!$W$20) -> 263399.9 | Q15: =P15/1.19 -> 221344.46 | R15: 240169.02 | S15: =R15*('SERIE DE EMPALME'!$Y$13/'SERIE DE EMPALME'!$W$20) -> 263399.9 | T15: =S15/1.19 -> 221344.46 | U15: 263399.9 | V15: 254704.85
A16: 11 | B16: REPARACION BOMBA DIRECCION HIDRAULICA | C16: $ - | D16: $ - | E16: $ - | F16: 449879.43 | G16: =F16*('SERIE DE EMPALME'!$Y$13/'SERIE DE EMPALME'!$W$20) -> 493395.02 | H16: =G16/1.19 -> 414617.66 | I16: 449880.34 | J16: =I16*('SERIE DE EMPALME'!$Y$13/'SERIE DE EMPALME'!$W$20) -> 493396.02 | K16: =J16/1.19 -> 414618.5 | L16: 449881.25 | M16: =L16*('SERIE DE EMPALME'!$Y$13/'SERIE DE EMPALME'!$W$20) -> 493397.01 | N16: =M16/1.19 -> 414619.34 | O16: 449881.25 | P16: =O16*('SERIE DE EMPALME'!$Y$13/'SERIE DE EMPALME'!$W$20) -> 493397.01 | Q16: =P16/1.19 -> 414619.34 | R16: 449881.25 | S16: =R16*('SERIE DE EMPALME'!$Y$13/'SERIE DE EMPALME'!$W$20) -> 493397.01 | T16: =S16/1.19 -> 414619.34 | U16: 493397.01 | V16: 477109.57
A17: 12 | B17: REPARACION CAJA DE DIRECCION HIDRAULICA | C17: 698036.43 | D17: =C17*('SERIE DE EMPALME'!$Y$13/'SERIE DE EMPALME'!$W$20) -> 765555.55 | E17: =D17/1.19 -> 643324 | F17: 698036.43 | G17: =F17*('SERIE DE EMPALME'!$Y$13/'SERIE DE EMPALME'!$W$20) -> 765555.55 | H17: =G17/1.19 -> 643324 | I17: 698036.43 | J17: =I17*('SERIE DE EMPALME'!$Y$13/'SERIE DE EMPALME'!$W$20) -> 765555.55 | K17: =J17/1.19 -> 643324 | L17: 698036.43 | M17: =L17*('SERIE DE EMPALME'!$Y$13/'SERIE DE EMPALME'!$W$20) -> 765555.55 | N17: =M17/1.19 -> 643324 | O17: 698036.43 | P17: =O17*('SERIE DE EMPALME'!$Y$13/'SERIE DE EMPALME'!$W$20) -> 765555.55 | Q17: =P17/1.19 -> 643324 | R17: 698036.43 | S17: =R17*('SERIE DE EMPALME'!$Y$13/'SERIE DE EMPALME'!$W$20) -> 765555.55 | T17: =S17/1.19 -> 643324 | U17: 765555.55 | V17: 740283.93
A18: 13 | B18: REPARACION DIRECCION (Contempla la combinación de tareas mencionadas arriba salvo las que incluyen la bomba o la caja de dirección) | C18: 698036.43 | D18: =C18*('SERIE DE EMPALME'!$Y$13/'SERIE DE EMPALME'!$W$20) -> 765555.55 | E18: =D18/1.19 -> 643324 | F18: 698036.43 | G18: =F18*('SERIE DE EMPALME'!$Y$13/'SERIE DE EMPALME'!$W$20) -> 765555.55 | H18: =G18/1.19 -> 643324 | I18: 698036.43 | J18: =I18*('SERIE DE EMPALME'!$Y$13/'SERIE DE EMPALME'!$W$20) -> 765555.55 | K18: =J18/1.19 -> 643324 | L18: 698036.43 | M18: =L18*('SERIE DE EMPALME'!$Y$13/'SERIE DE EMPALME'!$W$20) -> 765555.55 | N18: =M18/1.19 -> 643324 | O18: 698036.43 | P18: =O18*('SERIE DE EMPALME'!$Y$13/'SERIE DE EMPALME'!$W$20) -> 765555.55 | Q18: =P18/1.19 -> 643324 | R18: 698036.43 | S18: =R18*('SERIE DE EMPALME'!$Y$13/'SERIE DE EMPALME'!$W$20) -> 765555.55 | T18: =S18/1.19 -> 643324 | U18: 765555.55 | V18: 740283.93
A19: 14 | B19: REVISIÓN GENERAL DEL SISTEMA DE DIRECCIÓN (REVISAR JUEGO LIBRE, NIVELES DE ACEITE, VERIFICACIÓN DE PRESENCIA DE RUIDOS ) | C19: 240169.02 | D19: =C19*('SERIE DE EMPALME'!$Y$13/'SERIE DE EMPALME'!$W$20) -> 263399.9 | E19: =D19/1.19 -> 221344.46 | F19: 240169.02 | G19: =F19*('SERIE DE EMPALME'!$Y$13/'SERIE DE EMPALME'!$W$20) -> 263399.9 | H19: =G19/1.19 -> 221344.46 | I19: 240169.02 | J19: =I19*('SERIE DE EMPALME'!$Y$13/'SERIE DE EMPALME'!$W$20) -> 263399.9 | K19: =J19/1.19 -> 221344.46 | L19: 240169.02 | M19: =L19*('SERIE DE EMPALME'!$Y$13/'SERIE DE EMPALME'!$W$20) -> 263399.9 | N19: =M19/1.19 -> 221344.46 | O19: 240169.02 | P19: =O19*('SERIE DE EMPALME'!$Y$13/'SERIE DE EMPALME'!$W$20) -> 263399.9 | Q19: =P19/1.19 -> 221344.46 | R19: 240169.02 | S19: =R19*('SERIE DE EMPALME'!$Y$13/'SERIE DE EMPALME'!$W$20) -> 263399.9 | T19: =S19/1.19 -> 221344.46 | U19: 263399.9 | V19: 254704.85
A20: ITEM Nº 2: MANO DE OBRA GRUPO ELÉCTRICO | C20: $ - | D20: - | E20: - | F20: $ - | G20: - | H20: - | I20: $ - | J20: - | K20: - | L20: $ - | M20: $ - | N20: $ - | O20: $ - | P20: $ - | Q20: $ - | R20: $ - | S20: $ - | T20: $ - | U20: $ - | V20: $ -
A21: 15 | B21: ALINEACIÓN DE LUCES | C21: 43439.76 | D21: =C21*('SERIE DE EMPALME'!$Y$13/'SERIE DE EMPALME'!$W$20) -> 47641.567 | E21: =D21/1.19 -> 40034.931 | F21: 43439.76 | G21: =F21*('SERIE DE EMPALME'!$Y$13/'SERIE DE EMPALME'!$W$20) -> 47641.567 | H21: =G21/1.19 -> 40034.931 | I21: 43439.76 | J21: =I21*('SERIE DE EMPALME'!$Y$13/'SERIE DE EMPALME'!$W$20) -> 47641.567 | K21: =J21/1.19 -> 40034.931 | L21: 43439.76 | M21: =L21*('SERIE DE EMPALME'!$Y$13/'SERIE DE EMPALME'!$W$20) -> 47641.567 | N21: =M21/1.19 -> 40034.931 | O21: 43439.76 | P21: =O21*('SERIE DE EMPALME'!$Y$13/'SERIE DE EMPALME'!$W$20) -> 47641.567 | Q21: =P21/1.19 -> 40034.931 | R21: 43439.76 | S21: =R21*('SERIE DE EMPALME'!$Y$13/'SERIE DE EMPALME'!$W$20) -> 47641.567 | T21: =S21/1.19 -> 40034.931 | U21: 47641.567 | V21: 46068.88
A22: 16 | B22: CAMBIO ALTERN/ADOR | C22: 240169.02 | D22: =C22*('SERIE DE EMPALME'!$Y$13/'SERIE DE EMPALME'!$W$20) -> 263399.9 | E22: =D22/1.19 -> 221344.46 | F22: 240169.02 | G22: =F22*('SERIE DE EMPALME'!$Y$13/'SERIE DE EMPALME'!$W$20) -> 263399.9 | H22: =G22/1.19 -> 221344.46 | I22: 240169.02 | J22: =I22*('SERIE DE EMPALME'!$Y$13/'SERIE DE EMPALME'!$W$20) -> 263399.9 | K22: =J22/1.19 -> 221344.46 | L22: 240169.02 | M22: =L22*('SERIE DE EMPALME'!$Y$13/'SERIE DE EMPALME'!$W$20) -> 263399.9 | N22: =M22/1.19 -> 221344.46 | O22: 240169.02 | P22: =O22*('SERIE DE EMPALME'!$Y$13/'SERIE DE EMPALME'!$W$20) -> 263399.9 | Q22: =P22/1.19 -> 221344.46 | R22: 240169.02 | S22: =R22*('SERIE DE EMPALME'!$Y$13/'SERIE DE EMPALME'!$W$20) -> 263399.9 | T22: =S22/1.19 -> 221344.46 | U22: 263399.9 | V22: 254704.85
A23: 17 | B23: CAMBIO ARRANQUE MOTOR | C23: 240169.02 | D23: =C23*('SERIE DE EMPALME'!$Y$13/'SERIE DE EMPALME'!$W$20) -> 263399.9 | E23: =D23/1.19 -> 221344.46 | F23: 240169.02 | G23: =F23*('SERIE DE EMPALME'!$Y$13/'SERIE DE EMPALME'!$W$20) -> 263399.9 | H23: =G23/1.19 -> 221344.46 | I23: 240169.02 | J23: =I23*('SERIE DE EMPALME'!$Y$13/'SERIE DE EMPALME'!$W$20) -> 263399.9 | K23: =J23/1.19 -> 221344.46 | L23: 240169.02 | M23: =L23*('SERIE DE EMPALME'!$Y$13/'SERIE DE EMPALME'!$W$20) -> 263399.9 | N23: =M23/1.19 -> 221344.46 | O23: 240169.02 | P23: =O23*('SERIE DE EMPALME'!$Y$13/'SERIE DE EMPALME'!$W$20) -> 263399.9 | Q23: =P23/1.19 -> 221344.46 | R23: 240169.02 | S23: =R23*('SERIE DE EMPALME'!$Y$13/'SERIE DE EMPALME'!$W$20) -> 263399.9 | T23: =S23/1.19 -> 221344.46 | U23: 263399.9 | V23: 254704.85
A24: 18 | B24: CAMBIO BOBINAS | C24: 240169.02 | D24: =C24*('SERIE DE EMPALME'!$Y$13/'SERIE DE EMPALME'!$W$20) -> 263399.9 | E24: =D24/1.19 -> 221344.46 | F24: 240169.02 | G24: =F24*('SERIE DE EMPALME'!$Y$13/'SERIE DE EMPALME'!$W$20) -> 263399.9 | H24: =G24/1.19 -> 221344.46 | I24: 240169.02 | J24: =I24*('SERIE DE EMPALME'!$Y$13/'SERIE DE EMPALME'!$W$20) -> 263399.9 | K24: =J24/1.19 -> 221344.46 | L24: $ - | M24: $ - | N24: $ - | O24: $ - | P24: $ - | Q24: $ - | R24: $ - | S24: $ - | T24: $ - | U24: $ - | V24: 0
A25: 19 | B25: CAMBIO BOMBILLO EXPLORADORA | C25: 43439.76 | D25: =C25*('SERIE DE EMPALME'!$Y$13/'SERIE DE EMPALME'!$W$20) -> 47641.567 | E25: =D25/1.19 -> 40034.931 | F25: 43439.76 | G25: =F25*('SERIE DE EMPALME'!$Y$13/'SERIE DE EMPALME'!$W$20) -> 47641.567 | H25: =G25/1.19 -> 40034.931 | I25: 150292.87 | J25: =I25*('SERIE DE EMPALME'!$Y$13/'SERIE DE EMPALME'!$W$20) -> 164830.28 | K25: =J25/1.19 -> 138512.84 | L25: 150292.87 | M25: =L25*('SERIE DE EMPALME'!$Y$13/'SERIE DE EMPALME'!$W$20) -> 164830.28 | N25: =M25/1.19 -> 138512.84 | O25: 150293.78 | P25: =O25*('SERIE DE EMPALME'!$Y$13/'SERIE DE EMPALME'!$W$20) -> 164831.28 | Q25: =P25/1.19 -> 138513.68 | R25: 150293.78 | S25: =R25*('SERIE DE EMPALME'!$Y$13/'SERIE DE EMPALME'!$W$20) -> 164831.28 | T25: =S25/1.19 -> 138513.68 | U25: 164831.28 | V25: 159390.06
A26: 20 | B26: CAMBIO BUJAS | C26: 174758.22 | D26: =C26*('SERIE DE EMPALME'!$Y$13/'SERIE DE EMPALME'!$W$20) -> 191662.1 | E26: =D26/1.19 -> 161060.59 | F26: 174758.22 | G26: =F26*('SERIE DE EMPALME'!$Y$13/'SERIE DE EMPALME'!$W$20) -> 191662.1 | H26: =G26/1.19 -> 161060.59 | I26: 174758.22 | J26: =I26*('SERIE DE EMPALME'!$Y$13/'SERIE DE EMPALME'!$W$20) -> 191662.1 | K26: =J26/1.19 -> 161060.59 | L26: 174758.22 | M26: =L26*('SERIE DE EMPALME'!$Y$13/'SERIE DE EMPALME'!$W$20) -> 191662.1 | N26: =M26/1.19 -> 161060.59 | O26: 174758.22 | P26: =O26*('SERIE DE EMPALME'!$Y$13/'SERIE DE EMPALME'!$W$20) -> 191662.1 | Q26: =P26/1.19 -> 161060.59 | R26: 174758.22 | S26: =R26*('SERIE DE EMPALME'!$Y$13/'SERIE DE EMPALME'!$W$20) -> 191662.1 | T26: =S26/1.19 -> 161060.59 | U26: 191662.1 | V26: 185335.17
A27: 21 | B27: CAMBIO DE SENSOR CMP | C27: 152789 | D27: =C27*('SERIE DE EMPALME'!$Y$13/'SERIE DE EMPALME'!$W$20) -> 167567.86 | E27: =D27/1.19 -> 140813.32 | F27: 152789 | G27: =F27*('SERIE DE EMPALME'!$Y$13/'SERIE DE EMPALME'!$W$20) -> 167567.86 | H27: =G27/1.19 -> 140813.32 | I27: 152789 | J27: =I27*('SERIE DE EMPALME'!$Y$13/'SERIE DE EMPALME'!$W$20) -> 167567.86 | K27: =J27/1.19 -> 140813.32 | L27: 152789 | M27: =L27*('SERIE DE EMPALME'!$Y$13/'SERIE DE EMPALME'!$W$20) -> 167567.86 | N27: =M27/1.19 -> 140813.32 | O27: 152789 | P27: =O27*('SERIE DE EMPALME'!$Y$13/'SERIE DE EMPALME'!$W$20) -> 167567.86 | Q27: =P27/1.19 -> 140813.32 | R27: 152789 | S27: =R27*('SERIE DE EMPALME'!$Y$13/'SERIE DE EMPALME'!$W$20) -> 167567.86 | T27: =S27/1.19 -> 140813.32 | U27: 167567.86 | V27: 162036.3
A28: 22 | B28: CAMBIO DE BATERIA | C28: 65408.98 | D28: =C28*('SERIE DE EMPALME'!$Y$13/'SERIE DE EMPALME'!$W$20) -> 71735.809 | E28: =D28/1.19 -> 60282.192 | F28: 65408.98 | G28: =F28*('SERIE DE EMPALME'!$Y$13/'SERIE DE EMPALME'!$W$20) -> 71735.809 | H28: =G28/1.19 -> 60282.192 | I28: 65408.98 | J28: =I28*('SERIE DE EMPALME'!$Y$13/'SERIE DE EMPALME'!$W$20) -> 71735.809 | K28: =J28/1.19 -> 60282.192 | L28: 65408.98 | M28: =L28*('SERIE DE EMPALME'!$Y$13/'SERIE DE EMPALME'!$W$20) -> 71735.809 | N28: =M28/1.19 -> 60282.192 | O28: 65408.98 | P28: =O28*('SERIE DE EMPALME'!$Y$13/'SERIE DE EMPALME'!$W$20) -> 71735.809 | Q28: =P28/1.19 -> 60282.192 | R28: 65408.98 | S28: =R28*('SERIE DE EMPALME'!$Y$13/'SERIE DE EMPALME'!$W$20) -> 71735.809 | T28: =S28/1.19 -> 60282.192 | U28: 71735.809 | V28: 69367.75
A29: 23 | B29: CAMBIO DE BOMBILLO FAROLA | C29: 27461.98 | D29: =C29*('SERIE DE EMPALME'!$Y$13/'SERIE DE EMPALME'!$W$20) -> 30118.301 | E29: =D29/1.19 -> 25309.497 | F29: 27461.98 | G29: =F29*('SERIE DE EMPALME'!$Y$13/'SERIE DE EMPALME'!$W$20) -> 30118.301 | H29: =G29/1.19 -> 25309.497 | I29: 27461.98 | J29: =I29*('SERIE DE EMPALME'!$Y$13/'SERIE DE EMPALME'!$W$20) -> 30118.301 | K29: =J29/1.19 -> 25309.497 | L29: 27461.98 | M29: =L29*('SERIE DE EMPALME'!$Y$13/'SERIE DE EMPALME'!$W$20) -> 30118.301 | N29: =M29/1.19 -> 25309.497 | O29: 27461.98 | P29: =O29*('SERIE DE EMPALME'!$Y$13/'SERIE DE EMPALME'!$W$20) -> 30118.301 | Q29: =P29/1.19 -> 25309.497 | R29: 27461.98 | S29: =R29*('SERIE DE EMPALME'!$Y$13/'SERIE DE EMPALME'!$W$20) -> 30118.301 | T29: =S29/1.19 -> 25309.497 | U29: 30118.301 | V29: 29124.071
A30: 24 | B30: CAMBIO DE BOMBILLO STOP | C30: 27461.98 | D30: =C30*('SERIE DE EMPALME'!$Y$13/'SERIE DE EMPALME'!$W$20) -> 30118.301 | E30: =D30/1.19 -> 25309.497 | F30: 27461.98 | G30: =F30*('SERIE DE EMPALME'!$Y$13/'SERIE DE EMPALME'!$W$20) -> 30118.301 | H30: =G30/1.19 -> 25309.497 | I30: 27461.98 | J30: =I30*('SERIE DE EMPALME'!$Y$13/'SERIE DE EMPALME'!$W$20) -> 30118.301 | K30: =J30/1.19 -> 25309.497 | L30: 27461.98 | M30: =L30*('SERIE DE EMPALME'!$Y$13/'SERIE DE EMPALME'!$W$20) -> 30118.301 | N30: =M30/1.19 -> 25309.497 | O30: 27461.98 | P30: =O30*('SERIE DE EMPALME'!$Y$13/'SERIE DE EMPALME'!$W$20) -> 30118.301 | Q30: =P30/1.19 -> 25309.497 | R30: 27461.98 | S30: =R30*('SERIE DE EMPALME'!$Y$13/'SERIE DE EMPALME'!$W$20) -> 30118.301 | T30: =S30/1.19 -> 25309.497 | U30: 30118.301 | V30: 29124.071
A31: 25 | B31: CAMBIO DE BOTON ELEVAVIDRIO DELANTERO COPILOTO | C31: 152789 | D31: =C31*('SERIE DE EMPALME'!$Y$13/'SERIE DE EMPALME'!$W$20) -> 167567.86 | E31: =D31/1.19 -> 140813.32 | F31: 152789 | G31: =F31*('SERIE DE EMPALME'!$Y$13/'SERIE DE EMPALME'!$W$20) -> 167567.86 | H31: =G31/1.19 -> 140813.32 | I31: 152789 | J31: =I31*('SERIE DE EMPALME'!$Y$13/'SERIE DE EMPALME'!$W$20) -> 167567.86 | K31: =J31/1.19 -> 140813.32 | L31: 152789 | M31: =L31*('SERIE DE EMPALME'!$Y$13/'SERIE DE EMPALME'!$W$20) -> 167567.86 | N31: =M31/1.19 -> 140813.32 | O31: 152789 | P31: =O31*('SERIE DE EMPALME'!$Y$13/'SERIE DE EMPALME'!$W$20) -> 167567.86 | Q31: =P31/1.19 -> 140813.32 | R31: 152789 | S31: =R31*('SERIE DE EMPALME'!$Y$13/'SERIE DE EMPALME'!$W$20) -> 167567.86 | T31: =S31/1.19 -> 140813.32 | U31: 167567.86 | V31: 162036.3
A32: 26 | B32: CAMBIO DE BOTON ELEVAVIDRIO TRASERO | C32: 152789 | D32: =C32*('SERIE DE EMPALME'!$Y$13/'SERIE DE EMPALME'!$W$20) -> 167567.86 | E32: =D32/1.19 -> 140813.32 | F32: $ - | G32: $ - | H32: $ - | I32: 152789.91 | J32: =I32*('SERIE DE EMPALME'!$Y$13/'SERIE DE EMPALME'!$W$20) -> 167568.85 | K32: =J32/1.19 -> 140814.16 | L32: 152790.82 | M32: =L32*('SERIE DE EMPALME'!$Y$13/'SERIE DE EMPALME'!$W$20) -> 167569.85 | N32: =M32/1.19 -> 140815 | O32: $ - | P32: $ - | Q32: $ - | R32: $ - | S32: $ - | T32: $ - | U32: $ - | V32: 0
A33: 27 | B33: CAMBIO DE FUSIBLE | C33: 43439.76 | D33: =C33*('SERIE DE EMPALME'!$Y$13/'SERIE DE EMPALME'!$W$20) -> 47641.567 | E33: =D33/1.19 -> 40034.931 | F33: 43439.76 | G33: =F33*('SERIE DE EMPALME'!$Y$13/'SERIE DE EMPALME'!$W$20) -> 47641.567 | H33: =G33/1.19 -> 40034.931 | I33: 43439.76 | J33: =I33*('SERIE DE EMPALME'!$Y$13/'SERIE DE EMPALME'!$W$20) -> 47641.567 | K33: =J33/1.19 -> 40034.931 | L33: 43439.76 | M33: =L33*('SERIE DE EMPALME'!$Y$13/'SERIE DE EMPALME'!$W$20) -> 47641.567 | N33: =M33/1.19 -> 40034.931 | O33: 43439.76 | P33: =O33*('SERIE DE EMPALME'!$Y$13/'SERIE DE EMPALME'!$W$20) -> 47641.567 | Q33: =P33/1.19 -> 40034.931 | R33: 43439.76 | S33: =R33*('SERIE DE EMPALME'!$Y$13/'SERIE DE EMPALME'!$W$20) -> 47641.567 | T33: =S33/1.19 -> 40034.931 | U33: 47641.567 | V33: 46068.88
A34: 28 | B34: CAMBIO DE INTERRUPTOR DE LUCES DIRECCIONALES / LUCES | C34: 261638.65 | D34: =C34*('SERIE DE EMPALME'!$Y$13/'SERIE DE EMPALME'!$W$20) -> 286946.23 | E34: =D34/1.19 -> 241131.29 | F34: 261638.65 | G34: =F34*('SERIE DE EMPALME'!$Y$13/'SERIE DE EMPALME'!$W$20) -> 286946.23 | H34: =G34/1.19 -> 241131.29 | I34: 261638.65 | J34: =I34*('SERIE DE EMPALME'!$Y$13/'SERIE DE EMPALME'!$W$20) -> 286946.23 | K34: =J34/1.19 -> 241131.29 | L34: 261638.65 | M34: =L34*('SERIE DE EMPALME'!$Y$13/'SERIE DE EMPALME'!$W$20) -> 286946.23 | N34: =M34/1.19 -> 241131.29 | O34: 261638.65 | P34: =O34*('SERIE DE EMPALME'!$Y$13/'SERIE DE EMPALME'!$W$20) -> 286946.23 | Q34: =P34/1.19 -> 241131.29 | R34: 261638.65 | S34: =R34*('SERIE DE EMPALME'!$Y$13/'SERIE DE EMPALME'!$W$20) -> 286946.23 | T34: =S34/1.19 -> 241131.29 | U34: 286946.23 | V34: 277473.9
A35: 29 | B35: CAMBIO DE MANDO / BOTON ELEVAVIDRIO CONDCUTOR | C35: 261638.65 | D35: =C35*('SERIE DE EMPALME'!$Y$13/'SERIE DE EMPALME'!$W$20) -> 286946.23 | E35: =D35/1.19 -> 241131.29 | F35: 261638.65 | G35: =F35*('SERIE DE EMPALME'!$Y$13/'SERIE DE EMPALME'!$W$20) -> 286946.23 | H35: =G35/1.19 -> 241131.29 | I35: 261638.65 | J35: =I35*('SERIE DE EMPALME'!$Y$13/'SERIE DE EMPALME'!$W$20) -> 286946.23 | K35: =J35/1.19 -> 241131.29 | L35: 261638.65 | M35: =L35*('SERIE DE EMPALME'!$Y$13/'SERIE DE EMPALME'!$W$20) -> 286946.23 | N35: =M35/1.19 -> 241131.29 | O35: 261638.65 | P35: =O35*('SERIE DE EMPALME'!$Y$13/'SERIE DE EMPALME'!$W$20) -> 286946.23 | Q35: =P35/1.19 -> 241131.29 | R35: 261638.65 | S35: =R35*('SERIE DE EMPALME'!$Y$13/'SERIE DE EMPALME'!$W$20) -> 286946.23 | T35: =S35/1.19 -> 241131.29 | U35: 286946.23 | V35: 277473.9
A36: 30 | B36: CAMBIO DE PARLANTE DE RADIO | C36: 98364.63 | D36: =C36*('SERIE DE EMPALME'!$Y$13/'SERIE DE EMPALME'!$W$20) -> 107879.17 | E36: =D36/1.19 -> 90654.763 | F36: 98364.63 | G36: =F36*('SERIE DE EMPALME'!$Y$13/'SERIE DE EMPALME'!$W$20) -> 107879.17 | H36: =G36/1.19 -> 90654.763 | I36: 98364.63 | J36: =I36*('SERIE DE EMPALME'!$Y$13/'SERIE DE EMPALME'!$W$20) -> 107879.17 | K36: =J36/1.19 -> 90654.763 | L36: 98364.63 | M36: =L36*('SERIE DE EMPALME'!$Y$13/'SERIE DE EMPALME'!$W$20) -> 107879.17 | N36: =M36/1.19 -> 90654.763 | O36: 98364.63 | P36: =O36*('SERIE DE EMPALME'!$Y$13/'SERIE DE EMPALME'!$W$20) -> 107879.17 | Q36: =P36/1.19 -> 90654.763 | R36: 98364.63 | S36: =R36*('SERIE DE EMPALME'!$Y$13/'SERIE DE EMPALME'!$W$20) -> 107879.17 | T36: =S36/1.19 -> 90654.763 | U36: 107879.17 | V36: 104317.99
A37: 31 | B37: CAMBIO DE PITO | C37: 98364.63 | D37: =C37*('SERIE DE EMPALME'!$Y$13/'SERIE DE EMPALME'!$W$20) -> 107879.17 | E37: =D37/1.19 -> 90654.763 | F37: 98364.63 | G37: =F37*('SERIE DE EMPALME'!$Y$13/'SERIE DE EMPALME'!$W$20) -> 107879.17 | H37: =G37/1.19 -> 90654.763 | I37: 98364.63 | J37: =I37*('SERIE DE EMPALME'!$Y$13/'SERIE DE EMPALME'!$W$20) -> 107879.17 | K37: =J37/1.19 -> 90654.763 | L37: 98364.63 | M37: =L37*('SERIE DE EMPALME'!$Y$13/'SERIE DE EMPALME'!$W$20) -> 107879.17 | N37: =M37/1.19 -> 90654.763 | O37: 98364.63 | P37: =O37*('SERIE DE EMPALME'!$Y$13/'SERIE DE EMPALME'!$W$20) -> 107879.17 | Q37: =P37/1.19 -> 90654.763 | R37: 98364.63 | S37: =R37*('SERIE DE EMPALME'!$Y$13/'SERIE DE EMPALME'!$W$20) -> 107879.17 | T37: =S37/1.19 -> 90654.763 | U37: 107879.17 | V37: 104317.99
A38: 32 | B38: CAMBIO DE PUNTILLA DE PUERTA | C38: 98364.63 | D38: =C38*('SERIE DE EMPALME'!$Y$13/'SERIE DE EMPALME'!$W$20) -> 107879.17 | E38: =D38/1.19 -> 90654.763 | F38: 98364.63 | G38: =F38*('SERIE DE EMPALME'!$Y$13/'SERIE DE EMPALME'!$W$20) -> 107879.17 | H38: =G38/1.19 -> 90654.763 | I38: 98364.63 | J38: =I38*('SERIE DE EMPALME'!$Y$13/'SERIE DE EMPALME'!$W$20) -> 107879.17 | K38: =J38/1.19 -> 90654.763 | L38: 98364.63 | M38: =L38*('SERIE DE EMPALME'!$Y$13/'SERIE DE EMPALME'!$W$20) -> 107879.17 | N38: =M38/1.19 -> 90654.763 | O38: 98364.63 | P38: =O38*('SERIE DE EMPALME'!$Y$13/'SERIE DE EMPALME'!$W$20) -> 107879.17 | Q38: =P38/1.19 -> 90654.763 | R38: 98364.63 | S38: =R38*('SERIE DE EMPALME'!$Y$13/'SERIE DE EMPALME'!$W$20) -> 107879.17 | T38: =S38/1.19 -> 90654.763 | U38: 107879.17 | V38: 104317.99
A39: 33 | B39: CAMBIO DE RADIO MP3 | C39: 98364.63 | D39: =C39*('SERIE DE EMPALME'!$Y$13/'SERIE DE EMPALME'!$W$20) -> 107879.17 | E39: =D39/1.19 -> 90654.763 | F39: 98364.63 | G39: =F39*('SERIE DE EMPALME'!$Y$13/'SERIE DE EMPALME'!$W$20) -> 107879.17 | H39: =G39/1.19 -> 90654.763 | I39: 98364.63 | J39: =I39*('SERIE DE EMPALME'!$Y$13/'SERIE DE EMPALME'!$W$20) -> 107879.17 | K39: =J39/1.19 -> 90654.763 | L39: 98364.63 | M39: =L39*('SERIE DE EMPALME'!$Y$13/'SERIE DE EMPALME'!$W$20) -> 107879.17 | N39: =M39/1.19 -> 90654.763 | O39: 98364.63 | P39: =O39*('SERIE DE EMPALME'!$Y$13/'SERIE DE EMPALME'!$W$20) -> 107879.17 | Q39: =P39/1.19 -> 90654.763 | R39: 98364.63 | S39: =R39*('SERIE DE EMPALME'!$Y$13/'SERIE DE EMPALME'!$W$20) -> 107879.17 | T39: =S39/1.19 -> 90654.763 | U39: 107879.17 | V39: 104317.99
A40: 34 | B40: CAMBIO DE RELAY | C40: 98364.63 | D40: =C40*('SERIE DE EMPALME'!$Y$13/'SERIE DE EMPALME'!$W$20) -> 107879.17 | E40: =D40/1.19 -> 90654.763 | F40: 98364.63 | G40: =F40*('SERIE DE EMPALME'!$Y$13/'SERIE DE EMPALME'!$W$20) -> 107879.17 | H40: =G40/1.19 -> 90654.763 | I40: 98364.63 | J40: =I40*('SERIE DE EMPALME'!$Y$13/'SERIE DE EMPALME'!$W$20) -> 107879.17 | K40: =J40/1.19 -> 90654.763 | L40: 98364.63 | M40: =L40*('SERIE DE EMPALME'!$Y$13/'SERIE DE EMPALME'!$W$20) -> 107879.17 | N40: =M40/1.19 -> 90654.763 | O40: 98364.63 | P40: =O40*('SERIE DE EMPALME'!$Y$13/'SERIE DE EMPALME'!$W$20) -> 107879.17 | Q40: =P40/1.19 -> 90654.763 | R40: 98364.63 | S40: =R40*('SERIE DE EMPALME'!$Y$13/'SERIE DE EMPALME'!$W$20) -> 107879.17 | T40: =S40/1.19 -> 90654.763 | U40: 107879.17 | V40: 104317.99
A41: 35 | B41: CAMBIO DE RODAMIENTO ALTERNADOR | C41: 98364.63 | D41: =C41*('SERIE DE EMPALME'!$Y$13/'SERIE DE EMPALME'!$W$20) -> 107879.17 | E41: =D41/1.19 -> 90654.763 | F41: 98364.63 | G41: =F41*('SERIE DE EMPALME'!$Y$13/'SERIE DE EMPALME'!$W$20) -> 107879.17 | H41: =G41/1.19 -> 90654.763 | I41: 98364.63 | J41: =I41*('SERIE DE EMPALME'!$Y$13/'SERIE DE EMPALME'!$W$20) -> 107879.17 | K41: =J41/1.19 -> 90654.763 | L41: 98364.63 | M41: =L41*('SERIE DE EMPALME'!$Y$13/'SERIE DE EMPALME'!$W$20) -> 107879.17 | N41: =M41/1.19 -> 90654.763 | O41: 98364.63 | P41: =O41*('SERIE DE EMPALME'!$Y$13/'SERIE DE EMPALME'!$W$20) -> 107879.17 | Q41: =P41/1.19 -> 90654.763 | R41: 98364.63 | S41: =R41*('SERIE DE EMPALME'!$Y$13/'SERIE DE EMPALME'!$W$20) -> 107879.17 | T41: =S41/1.19 -> 90654.763 | U41: 107879.17 | V41: 104317.99
A42: 36 | B42: CAMBIO DE SENSOR CKP | C42: 98364.63 | D42: =C42*('SERIE DE EMPALME'!$Y$13/'SERIE DE EMPALME'!$W$20) -> 107879.17 | E42: =D42/1.19 -> 90654.763 | F42: 98364.63 | G42: =F42*('SERIE DE EMPALME'!$Y$13/'SERIE DE EMPALME'!$W$20) -> 107879.17 | H42: =G42/1.19 -> 90654.763 | I42: 98364.63 | J42: =I42*('SERIE DE EMPALME'!$Y$13/'SERIE DE EMPALME'!$W$20) -> 107879.17 | K42: =J42/1.19 -> 90654.763 | L42: 98364.63 | M42: =L42*('SERIE DE EMPALME'!$Y$13/'SERIE DE EMPALME'!$W$20) -> 107879.17 | N42: =M42/1.19 -> 90654.763 | O42: 98364.63 | P42: =O42*('SERIE DE EMPALME'!$Y$13/'SERIE DE EMPALME'!$W$20) -> 107879.17 | Q42: =P42/1.19 -> 90654.763 | R42: 98364.63 | S42: =R42*('SERIE DE EMPALME'!$Y$13/'SERIE DE EMPALME'!$W$20) -> 107879.17 | T42: =S42/1.19 -> 90654.763 | U42: 107879.17 | V42: 104317.99
A43: 37 | B43: CAMBIO DE SENSOR DE OXIGENO | C43: 98364.63 | D43: =C43*('SERIE DE EMPALME'!$Y$13/'SERIE DE EMPALME'!$W$20) -> 107879.17 | E43: =D43/1.19 -> 90654.763 | F43: 98364.63 | G43: =F43*('SERIE DE EMPALME'!$Y$13/'SERIE DE EMPALME'!$W$20) -> 107879.17 | H43: =G43/1.19 -> 90654.763 | I43: 98364.63 | J43: =I43*('SERIE DE EMPALME'!$Y$13/'SERIE DE EMPALME'!$W$20) -> 107879.17 | K43: =J43/1.19 -> 90654.763 | L43: 98364.63 | M43: =L43*('SERIE DE EMPALME'!$Y$13/'SERIE DE EMPALME'!$W$20) -> 107879.17 | N43: =M43/1.19 -> 90654.763 | O43: 98364.63 | P43: =O43*('SERIE DE EMPALME'!$Y$13/'SERIE DE EMPALME'!$W$20) -> 107879.17 | Q43: =P43/1.19 -> 90654.763 | R43: 98364.63 | S43: =R43*('SERIE DE EMPALME'!$Y$13/'SERIE DE EMPALME'!$W$20) -> 107879.17 | T43: =S43/1.19 -> 90654.763 | U43: 107879.17 | V43: 104317.99
A44: 38 | B44: CAMBIO DE SENSOR MAF | C44: 98364.63 | D44: =C44*('SERIE DE EMPALME'!$Y$13/'SERIE DE EMPALME'!$W$20) -> 107879.17 | E44: =D44/1.19 -> 90654.763 | F44: 98364.63 | G44: =F44*('SERIE DE EMPALME'!$Y$13/'SERIE DE EMPALME'!$W$20) -> 107879.17 | H44: =G44/1.19 -> 90654.763 | I44: 98364.63 | J44: =I44*('SERIE DE EMPALME'!$Y$13/'SERIE DE EMPALME'!$W$20) -> 107879.17 | K44: =J44/1.19 -> 90654.763 | L44: 98364.63 | M44: =L44*('SERIE DE EMPALME'!$Y$13/'SERIE DE EMPALME'!$W$20) -> 107879.17 | N44: =M44/1.19 -> 90654.763 | O44: 98364.63 | P44: =O44*('SERIE DE EMPALME'!$Y$13/'SERIE DE EMPALME'!$W$20) -> 107879.17 | Q44: =P44/1.19 -> 90654.763 | R44: 98364.63 | S44: =R44*('SERIE DE EMPALME'!$Y$13/'SERIE DE EMPALME'!$W$20) -> 107879.17 | T44: =S44/1.19 -> 90654.763 | U44: 107879.17 | V44: 104317.99
... A49: 43 | B49: CAMBIO FAROLA | C49: 98364.63 | D49: =C49*('SERIE DE EMPALME'!$Y$13/'SERIE DE EMPALME'!$W$20) -> 107879.17 | E49: =D49/1.19 -> 90654.763 | F49: 98364.63 | G49: =F49*('SERIE DE EMPALME'!$Y$13/'SERIE DE EMPALME'!$W$20) -> 107879.17 | H49: =G49/1.19 -> 90654.763 | I49: 98364.63 | J49: =I49*('SERIE DE EMPALME'!$Y$13/'SERIE DE EMPALME'!$W$20) -> 107879.17 | K49: =J49/1.19 -> 90654.763 | L49: 98364.63 | M49: =L49*('SERIE DE EMPALME'!$Y$13/'SERIE DE EMPALME'!$W$20) -> 107879.17 | N49: =M49/1.19 -> 90654.763 | O49: 98364.63 | P49: =O49*('SERIE DE EMPALME'!$Y$13/'SERIE DE EMPALME'!$W$20) -> 107879.17 | Q49: =P49/1.19 -> 90654.763 | R49: 98364.63 | S49: =R49*('SERIE DE EMPALME'!$Y$13/'SERIE DE EMPALME'!$W$20) -> 107879.17 | T49: =S49/1.19 -> 90654.763 | U49: 107879.17 | V49: 104317.99
A50: 44 | B50: CAMBIO INSTALACION DE ALTA | C50: 98364.63 | D50: =C50*('SERIE DE EMPALME'!$Y$13/'SERIE DE EMPALME'!$W$20) -> 107879.17 | E50: =D50/1.19 -> 90654.763 | F50: 98364.63 | G50: =F50*('SERIE DE EMPALME'!$Y$13/'SERIE DE EMPALME'!$W$20) -> 107879.17 | H50: =G50/1.19 -> 90654.763 | I50: 98364.63 | J50: =I50*('SERIE DE EMPALME'!$Y$13/'SERIE DE EMPALME'!$W$20) -> 107879.17 | K50: =J50/1.19 -> 90654.763 | L50: $ - | M50: $ - | N50: $ - | O50: 98364.63 | P50: =O50*('SERIE DE EMPALME'!$Y$13/'SERIE DE EMPALME'!$W$20) -> 107879.17 | Q50: =P50/1.19 -> 90654.763 | R50: 98364.63 | S50: =R50*('SERIE DE EMPALME'!$Y$13/'SERIE DE EMPALME'!$W$20) -> 107879.17 | T50: =S50/1.19 -> 90654.763 | U50: 107879.17 | V50: 104317.99
A51: 45 | B51: CAMBIO INTERRUPTOR / PERA FRENO | C51: 98364.63 | D51: =C51*('SERIE DE EMPALME'!$Y$13/'SERIE DE EMPALME'!$W$20) -> 107879.17 | E51: =D51/1.19 -> 90654.763 | F51: 98364.63 | G51: =F51*('SERIE DE EMPALME'!$Y$13/'SERIE DE EMPALME'!$W$20) -> 107879.17 | H51: =G51/1.19 -> 90654.763 | I51: 98364.63 | J51: =I51*('SERIE DE EMPALME'!$Y$13/'SERIE DE EMPALME'!$W$20) -> 107879.17 | K51: =J51/1.19 -> 90654.763 | L51: 98364.63 | M51: =L51*('SERIE DE EMPALME'!$Y$13/'SERIE DE EMPALME'!$W$20) -> 107879.17 | N51: =M51/1.19 -> 90654.763 | O51: 98364.63 | P51: =O51*('SERIE DE EMPALME'!$Y$13/'SERIE DE EMPALME'!$W$20) -> 107879.17 | Q51: =P51/1.19 -> 90654.763 | R51: 98364.63 | S51: =R51*('SERIE DE EMPALME'!$Y$13/'SERIE DE EMPALME'!$W$20) -> 107879.17 | T51: =S51/1.19 -> 90654.763 | U51: 107879.17 | V51: 104317.99
A52: 46 | B52: CAMBIO INTERRUPTOR / PERA REVERSA | C52: 98364.63 | D52: =C52*('SERIE DE EMPALME'!$Y$13/'SERIE DE EMPALME'!$W$20) -> 107879.17 | E52: =D52/1.19 -> 90654.763 | F52: 98364.63 | G52: =F52*('SERIE DE EMPALME'!$Y$13/'SERIE DE EMPALME'!$W$20) -> 107879.17 | H52: =G52/1.19 -> 90654.763 | I52: 98364.63 | J52: =I52*('SERIE DE EMPALME'!$Y$13/'SERIE DE EMPALME'!$W$20) -> 107879.17 | K52: =J52/1.19 -> 90654.763 | L52: 98364.63 | M52: =L52*('SERIE DE EMPALME'!$Y$13/'SERIE DE EMPALME'!$W$20) -> 107879.17 | N52: =M52/1.19 -> 90654.763 | O52: 98364.63 | P52: =O52*('SERIE DE EMPALME'!$Y$13/'SERIE DE EMPALME'!$W$20) -> 107879.17 | Q52: =P52/1.19 -> 90654.763 | R52: 98364.63 | S52: =R52*('SERIE DE EMPALME'!$Y$13/'SERIE DE EMPALME'!$W$20) -> 107879.17 | T52: =S52/1.19 -> 90654.763 | U52: 107879.17 | V52: 104317.99
A53: 47 | B53: CAMBIO MODULO BLOQUEO DE ALARMA | C53: 98364.63 | D53: =C53*('SERIE DE EMPALME'!$Y$13/'SERIE DE EMPALME'!$W$20) -> 107879.17 | E53: =D53/1.19 -> 90654.763 | F53: 98364.63 | G53: =F53*('SERIE DE EMPALME'!$Y$13/'SERIE DE EMPALME'!$W$20) -> 107879.17 | H53: =G53/1.19 -> 90654.763 | I53: 98364.63 | J53: =I53*('SERIE DE EMPALME'!$Y$13/'SERIE DE EMPALME'!$W$20) -> 107879.17 | K53: =J53/1.19 -> 90654.763 | L53: 98364.63 | M53: =L53*('SERIE DE EMPALME'!$Y$13/'SERIE DE EMPALME'!$W$20) -> 107879.17 | N53: =M53/1.19 -> 90654.763 | O53: 98364.63 | P53: =O53*('SERIE DE EMPALME'!$Y$13/'SERIE DE EMPALME'!$W$20) -> 107879.17 | Q53: =P53/1.19 -> 90654.763 | R53: 98364.63 | S53: =R53*('SERIE DE EMPALME'!$Y$13/'SERIE DE EMPALME'!$W$20) -> 107879.17 | T53: =S53/1.19 -> 90654.763 | U53: 107879.17 | V53: 104317.99
A54: 48 | B54: CAMBIO MODULO BLOQUEO DE PUERTA | C54: 98364.63 | D54: =C54*('SERIE DE EMPALME'!$Y$13/'SERIE DE EMPALME'!$W$20) -> 107879.17 | E54: =D54/1.19 -> 90654.763 | F54: 98364.63 | G54: =F54*('SERIE DE EMPALME'!$Y$13/'SERIE DE EMPALME'!$W$20) -> 107879.17 | H54: =G54/1.19 -> 90654.763 | I54: 98364.63 | J54: =I54*('SERIE DE EMPALME'!$Y$13/'SERIE DE EMPALME'!$W$20) -> 107879.17 | K54: =J54/1.19 -> 90654.763 | L54: 98364.63 | M54: =L54*('SERIE DE EMPALME'!$Y$13/'SERIE DE EMPALME'!$W$20) -> 107879.17 | N54: =M54/1.19 -> 90654.763 | O54: 98364.63 | P54: =O54*('SERIE DE EMPALME'!$Y$13/'SERIE DE EMPALME'!$W$20) -> 107879.17 | Q54: =P54/1.19 -> 90654.763 | R54: 98364.63 | S54: =R54*('SERIE DE EMPALME'!$Y$13/'SERIE DE EMPALME'!$W$20) -> 107879.17 | T54: =S54/1.19 -> 90654.763 | U54: 107879.17 | V54: 104317.99
A55: 49 | B55: CAMBIO MODULO DE MOTOR | C55: 98364.63 | D55: =C55*('SERIE DE EMPALME'!$Y$13/'SERIE DE EMPALME'!$W$20) -> 107879.17 | E55: =D55/1.19 -> 90654.763 | F55: 98364.63 | G55: =F55*('SERIE DE EMPALME'!$Y$13/'SERIE DE EMPALME'!$W$20) -> 107879.17 | H55: =G55/1.19 -> 90654.763 | I55: 98364.63 | J55: =I55*('SERIE DE EMPALME'!$Y$13/'SERIE DE EMPALME'!$W$20) -> 107879.17 | K55: =J55/1.19 -> 90654.763 | L55: 98364.63 | M55: =L55*('SERIE DE EMPALME'!$Y$13/'SERIE DE EMPALME'!$W$20) -> 107879.17 | N55: =M55/1.19 -> 90654.763 | O55: 98364.63 | P55: =O55*('SERIE DE EMPALME'!$Y$13/'SERIE DE EMPALME'!$W$20) -> 107879.17 | Q55: =P55/1.19 -> 90654.763 | R55: 98364.63 | S55: =R55*('SERIE DE EMPALME'!$Y$13/'SERIE DE EMPALME'!$W$20) -> 107879.17 | T55: =S55/1.19 -> 90654.763 | U55: 107879.17 | V55: 104317.99
A56: 50 | B56: CAMBIO MODULO DE TRANSMISIÓN | C56: $ - | D56: - | E56: - | F56: $ - | G56: - | H56: - | I56: 98364.63 | J56: =I56*('SERIE DE EMPALME'!$Y$13/'SERIE DE EMPALME'!$W$20) -> 107879.17 | K56: =J56/1.19 -> 90654.763 | L56: 98364.63 | M56: =L56*('SERIE DE EMPALME'!$Y$13/'SERIE DE EMPALME'!$W$20) -> 107879.17 | N56: =M56/1.19 -> 90654.763 | O56: $ - | P56: - | Q56: - | R56: $ - | S56: $ - | T56: $ - | U56: $ - | V56: 0
A57: 51 | B57: CAMBIO MODULO ELEVAVIDRIO | C57: 152789 | D57: =C57*('SERIE DE EMPALME'!$Y$13/'SERIE DE EMPALME'!$W$20) -> 167567.86 | E57: =D57/1.19 -> 140813.32 | F57: 152789 | G57: =F57*('SERIE DE EMPALME'!$Y$13/'SERIE DE EMPALME'!$W$20) -> 167567.86 | H57: =G57/1.19 -> 140813.32 | I57: 152789 | J57: =I57*('SERIE DE EMPALME'!$Y$13/'SERIE DE EMPALME'!$W$20) -> 167567.86 | K57: =J57/1.19 -> 140813.32 | L57: 152789 | M57: =L57*('SERIE DE EMPALME'!$Y$13/'SERIE DE EMPALME'!$W$20) -> 167567.86 | N57: =M57/1.19 -> 140813.32 | O57: $ - | P57: $ - | Q57: $ - | R57: $ - | S57: $ - | T57: - | U57: - | V57: 0
A58: 52 | B58: CAMBIO MOTOR LIMPIABRISAS | C58: 152789 | D58: =C58*('SERIE DE EMPALME'!$Y$13/'SERIE DE EMPALME'!$W$20) -> 167567.86 | E58: =D58/1.19 -> 140813.32 | F58: 152789 | G58: =F58*('SERIE DE EMPALME'!$Y$13/'SERIE DE EMPALME'!$W$20) -> 167567.86 | H58: =G58/1.19 -> 140813.32 | I58: 152789 | J58: =I58*('SERIE DE EMPALME'!$Y$13/'SERIE DE EMPALME'!$W$20) -> 167567.86 | K58: =J58/1.19 -> 140813.32 | L58: 152789 | M58: =L58*('SERIE DE EMPALME'!$Y$13/'SERIE DE EMPALME'!$W$20) -> 167567.86 | N58: =M58/1.19 -> 140813.32 | O58: 152789 | P58: =O58*('SERIE DE EMPALME'!$Y$13/'SERIE DE EMPALME'!$W$20) -> 167567.86 | Q58: =P58/1.19 -> 140813.32 | R58: 152789 | S58: =R58*('SERIE DE EMPALME'!$Y$13/'SERIE DE EMPALME'!$W$20) -> 167567.86 | T58: =S58/1.19 -> 140813.32 | U58: 167567.86 | V58: 162036.3
A59: 53 | B59: CAMBIO STOP | C59: 152789 | D59: =C59*('SERIE DE EMPALME'!$Y$13/'SERIE DE EMPALME'!$W$20) -> 167567.86 | E59: =D59/1.19 -> 140813.32 | F59: 152789 | G59: =F59*('SERIE DE EMPALME'!$Y$13/'SERIE DE EMPALME'!$W$20) -> 167567.86 | H59: =G59/1.19 -> 140813.32 | I59: 152789 | J59: =I59*('SERIE DE EMPALME'!$Y$13/'SERIE DE EMPALME'!$W$20) -> 167567.86 | K59: =J59/1.19 -> 140813.32 | L59: 152789 | M59: =L59*('SERIE DE EMPALME'!$Y$13/'SERIE DE EMPALME'!$W$20) -> 167567.86 | N59: =M59/1.19 -> 140813.32 | O59: 152789 | P59: =O59*('SERIE DE EMPALME'!$Y$13/'SERIE DE EMPALME'!$W$20) -> 167567.86 | Q59: =P59/1.19 -> 140813.32 | R59: 152789 | S59: =R59*('SERIE DE EMPALME'!$Y$13/'SERIE DE EMPALME'!$W$20) -> 167567.86 | T59: =S59/1.19 -> 140813.32 | U59: 167567.86 | V59: 162036.3
A60: 54 | B60: CARGA DE BATERIA | C60: 152789 | D60: =C60*('SERIE DE EMPALME'!$Y$13/'SERIE DE EMPALME'!$W$20) -> 167567.86 | E60: =D60/1.19 -> 140813.32 | F60: 152789 | G60: =F60*('SERIE DE EMPALME'!$Y$13/'SERIE DE EMPALME'!$W$20) -> 167567.86 | H60: =G60/1.19 -> 140813.32 | I60: 152789 | J60: =I60*('SERIE DE EMPALME'!$Y$13/'SERIE DE EMPALME'!$W$20) -> 167567.86 | K60: =J60/1.19 -> 140813.32 | L60: 152789 | M60: =L60*('SERIE DE EMPALME'!$Y$13/'SERIE DE EMPALME'!$W$20) -> 167567.86 | N60: =M60/1.19 -> 140813.32 | O60: 152789 | P60: =O60*('SERIE DE EMPALME'!$Y$13/'SERIE DE EMPALME'!$W$20) -> 167567.86 | Q60: =P60/1.19 -> 140813.32 | R60: 152789 | S60: =R60*('SERIE DE EMPALME'!$Y$13/'SERIE DE EMPALME'!$W$20) -> 167567.86 | T60: =S60/1.19 -> 140813.32 | U60: 167567.86 | V60: 162036.3
A61: 55 | B61: INSTALACIÓN DE ALARMA | C61: 152789 | D61: =C61*('SERIE DE EMPALME'!$Y$13/'SERIE DE EMPALME'!$W$20) -> 167567.86 | E61: =D61/1.19 -> 140813.32 | F61: 152789 | G61: =F61*('SERIE DE EMPALME'!$Y$13/'SERIE DE EMPALME'!$W$20) -> 167567.86 | H61: =G61/1.19 -> 140813.32 | I61: 152789 | J61: =I61*('SERIE DE EMPALME'!$Y$13/'SERIE DE EMPALME'!$W$20) -> 167567.86 | K61: =J61/1.19 -> 140813.32 | L61: 152789 | M61: =L61*('SERIE DE EMPALME'!$Y$13/'SERIE DE EMPALME'!$W$20) -> 167567.86 | N61: =M61/1.19 -> 140813.32 | O61: 152789 | P61: =O61*('SERIE DE EMPALME'!$Y$13/'SERIE DE EMPALME'!$W$20) -> 167567.86 | Q61: =P61/1.19 -> 140813.32 | R61: 152789 | S61: =R61*('SERIE DE EMPALME'!$Y$13/'SERIE DE EMPALME'!$W$20) -> 167567.86 | T61: =S61/1.19 -> 140813.32 | U61: 167567.86 | V61: 162036.3
A62: 56 | B62: INSTALACIÓN DE EXPLORADORAS | C62: 152789 | D62: =C62*('SERIE DE EMPALME'!$Y$13/'SERIE DE EMPALME'!$W$20) -> 167567.86 | E62: =D62/1.19 -> 140813.32 | F62: 152789 | G62: =F62*('SERIE DE EMPALME'!$Y$13/'SERIE DE EMPALME'!$W$20) -> 167567.86 | H62: =G62/1.19 -> 140813.32 | I62: 152789 | J62: =I62*('SERIE DE EMPALME'!$Y$13/'SERIE DE EMPALME'!$W$20) -> 167567.86 | K62: =J62/1.19 -> 140813.32 | L62: 152789 | M62: =L62*('SERIE DE EMPALME'!$Y$13/'SERIE DE EMPALME'!$W$20) -> 167567.86 | N62: =M62/1.19 -> 140813.32 | O62: 152789 | P62: =O62*('SERIE DE EMPALME'!$Y$13/'SERIE DE EMPALME'!$W$20) -> 167567.86 | Q62: =P62/1.19 -> 140813.32 | R62: 152789 | S62: =R62*('SERIE DE EMPALME'!$Y$13/'SERIE DE EMPALME'!$W$20) -> 167567.86 | T62: =S62/1.19 -> 140813.32 | U62: 167567.86 | V62: 162036.3
A63: 57 | B63: MANTENIMIENTO BASICO DEL ALTERN/ADOR | C63: 152789 | D63: =C63*('SERIE DE EMPALME'!$Y$13/'SERIE DE EMPALME'!$W$20) -> 167567.86 | E63: =D63/1.19 -> 140813.32 | F63: 152789 | G63: =F63*('SERIE DE EMPALME'!$Y$13/'SERIE DE EMPALME'!$W$20) -> 167567.86 | H63: =G63/1.19 -> 140813.32 | I63: 152789 | J63: =I63*('SERIE DE EMPALME'!$Y$13/'SERIE DE EMPALME'!$W$20) -> 167567.86 | K63: =J63/1.19 -> 140813.32 | L63: 152789 | M63: =L63*('SERIE DE EMPALME'!$Y$13/'SERIE DE EMPALME'!$W$20) -> 167567.86 | N63: =M63/1.19 -> 140813.32 | O63: 152789 | P63: =O63*('SERIE DE EMPALME'!$Y$13/'SERIE DE EMPALME'!$W$20) -> 167567.86 | Q63: =P63/1.19 -> 140813.32 | R63: 152789 | S63: =R63*('SERIE DE EMPALME'!$Y$13/'SERIE DE EMPALME'!$W$20) -> 167567.86 | T63: =S63/1.19 -> 140813.32 | U63: 167567.86 | V63: 162036.3
