Workbook

Sheet SERIE DE EMPALME
A3: Total, Indice de Precios al Consumidor (IPC)
A5: Índices - Serie de empalme 2003 - 2026
Y8: Base Diciembre de 2018 = 100,00
A9: Mes | B9: 2003 | C9: 2004 | D9: 2005 | E9: 2006 | F9: 2007 | G9: 2008 | H9: 2009 | I9: 2010 | J9: 2011 | K9: 2012 | L9: 2013 | M9: 2014 | N9: 2015 | O9: 2016 | P9: 2017 | Q9: 2018 | R9: 2019 | S9: 2020 | T9: 2021 | U9: 2022 | V9: 2023 | W9: 2024 | X9: 2025 | Y9: 2026
A10: Enero | B10: 50.42 | C10: 53.54 | D10: 56.45 | E10: 59.02 | F10: 61.8 | G10: 65.51 | H10: 70.21 | I10: 71.69 | J10: 74.12 | K10: 76.75 | L10: 78.28 | M10: 79.95 | N10: 83 | O10: 89.19 | P10: 94.07 | Q10: 97.53 | R10: 100.6 | S10: 104.24 | T10: 105.91 | U10: 113.26 | V10: 128.27 | W10: 138.98 | X10: 146.24 | Y10: 154.07
A11: Febrero | B11: 50.98 | C11: 54.18 | D11: 57.02 | E11: 59.41 | F11: 62.53 | G11: 66.5 | H11: 70.8 | I11: 72.28 | J11: 74.57 | K11: 77.22 | L11: 78.63 | M11: 80.45 | N11: 83.96 | O11: 90.33 | P11: 95.01 | Q11: 98.22 | R11: 101.18 | S11: 104.94 | T11: 106.58 | U11: 115.11 | V11: 130.4 | W11: 140.49 | X11: 147.9 | Y11: 155.73
A12: Marzo | B12: 51.51 | C12: 54.71 | D12: 57.46 | E12: 59.83 | F12: 63.29 | G12: 67.04 | H12: 71.15 | I12: 72.46 | J12: 74.77 | K12: 77.31 | L12: 78.79 | M12: 80.77 | N12: 84.45 | O12: 91.18 | P12: 95.46 | Q12: 98.45 | R12: 101.62 | S12: 105.53 | T12: 107.12 | U12: 116.26 | V12: 131.77 | W12: 141.48 | X12: 148.68 | Y12: 156.94
A13: Abril | B13: 52.1 | C13: 54.96 | D13: 57.72 | E13: 60.09 | F13: 63.85 | G13: 67.51 | H13: 71.38 | I13: 72.79 | J13: 74.86 | K13: 77.42 | L13: 78.99 | M13: 81.14 | N13: 84.9 | O13: 91.63 | P13: 95.91 | Q13: 98.91 | R13: 102.12 | S13: 105.7 | T13: 107.76 | U13: 117.71 | V13: 132.8 | W13: 142.32 | X13: 149.66 | Y13: 158.17
A14: Mayo | B14: 52.36 | C14: 55.17 | D14: 57.95 | E14: 60.29 | F14: 64.05 | G14: 68.14 | H14: 71.39 | I14: 72.87 | J14: 75.07 | K14: 77.66 | L14: 79.21 | M14: 81.53 | N14: 85.12 | O14: 92.1 | P14: 96.12 | Q14: 99.16 | R14: 102.44 | S14: 105.36 | T14: 108.84 | U14: 118.7 | V14: 133.38 | W14: 142.92 | X14: 150.14
A15: Junio | B15: 52.33 | C15: 55.51 | D15: 58.18 | E15: 60.48 | F15: 64.12 | G15: 68.73 | H15: 71.35 | I15: 72.95 | J15: 75.31 | K15: 77.72 | L15: 79.39 | M15: 81.61 | N15: 85.21 | O15: 92.54 | P15: 96.23 | Q15: 99.31 | R15: 102.71 | S15: 104.97 | T15: 108.78 | U15: 119.31 | V15: 133.78 | W15: 143.38 | X15: 150.3
A16: Julio | B16: 52.26 | C16: 55.49 | D16: 58.21 | E16: 60.73 | F16: 64.23 | G16: 69.06 | H16: 71.32 | I16: 72.92 | J16: 75.42 | K16: 77.7 | L16: 79.43 | M16: 81.73 | N16: 85.37 | O16: 93.02 | P16: 96.18 | Q16: 99.18 | R16: 102.94 | S16: 104.97 | T16: 109.14 | U16: 120.27 | V16: 134.45 | W16: 143.67 | X16: 150.71
A17: Agosto | B17: 52.42 | C17: 55.51 | D17: 58.21 | E17: 60.96 | F17: 64.14 | G17: 69.19 | H17: 71.35 | I17: 73 | J17: 75.39 | K17: 77.73 | L17: 79.5 | M17: 81.9 | N17: 85.78 | O17: 92.73 | P17: 96.32 | Q17: 99.3 | R17: 103.03 | S17: 104.96 | T17: 109.62 | U17: 121.5 | V17: 135.39 | W17: 143.67 | X17: 150.99
A18: Septiembre | B18: 52.53 | C18: 55.67 | D18: 58.46 | E18: 61.14 | F18: 64.2 | G18: 69.06 | H18: 71.28 | I18: 72.9 | J18: 75.62 | K18: 77.96 | L18: 79.73 | M18: 82.01 | N18: 86.39 | O18: 92.68 | P18: 96.36 | Q18: 99.47 | R18: 103.26 | S18: 105.29 | T18: 110.04 | U18: 122.63 | V18: 136.11 | W18: 144.02 | X18: 151.48
A19: Octubre | B19: 52.56 | C19: 55.66 | D19: 58.6 | E19: 61.05 | F19: 64.2 | G19: 69.3 | H19: 71.19 | I19: 72.84 | J19: 75.77 | K19: 78.08 | L19: 79.52 | M19: 82.14 | N19: 86.98 | O19: 92.62 | P19: 96.37 | Q19: 99.59 | R19: 103.43 | S19: 105.23 | T19: 110.06 | U19: 123.51 | V19: 136.45 | W19: 143.83 | X19: 151.76
A20: Noviembre | B20: 52.75 | C20: 55.82 | D20: 58.66 | E20: 61.19 | F20: 64.51 | G20: 69.49 | H20: 71.14 | I20: 72.98 | J20: 75.87 | K20: 77.98 | L20: 79.35 | M20: 82.25 | N20: 87.51 | O20: 92.73 | P20: 96.55 | Q20: 99.7 | R20: 103.54 | S20: 105.08 | T20: 110.6 | U20: 124.46 | V20: 137.09 | W20: 144.22 | X20: 151.87
A21: Diciembre | B21: 53.07 | C21: 55.99 | D21: 58.7 | E21: 61.33 | F21: 64.82 | G21: 69.8 | H21: 71.2 | I21: 73.45 | J21: 76.19 | K21: 78.05 | L21: 79.56 | M21: 82.47 | N21: 88.05 | O21: 93.11 | P21: 96.92 | Q21: 100 | R21: 103.8 | S21: 105.48 | T21: 111.41 | U21: 126.03 | V21: 137.72 | W21: 144.88 | X21: 152.27
A24: Fuente: DANE.
A25: Nota: La diferencia en la suma de las variables, obedece al sistema de aproximación y redondeo.
A26: Actualizado el 8 de Mayo de 2026

Sheet OFERTA REPUESTOS
A1: PRECIOS DE REFERENCIA REPUESTOS Y CONSUMIBLES (INDEXACIÓN SERIE DE EMPALME)
D3: HYUNDAI ACCENT GL I25 SEDAN MODELO 2013 - GASOLINA | G3: CHEVROLET JOY SEDAN MODELO 2022 - GASOLINA | J3: TOYOTA 4 RUNNER STATION WAGON MODELO 2009 - GASOLINA | M3: TOYOTA PRADO TX CAMPERO MODELO 2015 - DIESEL | P3: CHEVROLET VITARA 1.600 C.C. CAMPERO MODELO 2007 - GASOLINA | S3: FORD RANGER XLT AT 4X4 MODELO 2023 - DIESEL | V3: CHEVROLET COLORADO 4X4 MODELO 2026 - DIESEL
A4: No. | B4: DESCRIPCION | C4: TIPO | D4: Precio de referencia incluido IVA 2024 | E4: Valor con IVA ajustado con serie de empalme a 2026 | F4: VALOR ANTES DE IVA 2026 | G4: Precio de referencia incluido IVA 2024 | H4: Valor con IVA ajustado con serie de empalme a 2026 | I4: VALOR ANTES DE IVA 2026 | J4: Precio de referencia incluido IVA 2024 | K4: Valor con IVA ajustado con serie de empalme a 2026 | L4: Valor con IVA ajustado con serie de empalme a 2026 | M4: Valor con IVA ajustado con serie de empalme a 2026 | N4: Valor con IVA ajustado con serie de empalme a 2026 | O4: Valor con IVA ajustado con serie de empalme a 2026 | P4: Valor con IVA ajustado con serie de empalme a 2026 | Q4: Valor con IVA ajustado con serie de empalme a 2026 | R4: Valor con IVA ajustado con serie de empalme a 2026 | S4: Valor con IVA ajustado con serie de empalme a 2026 | T4: Valor con IVA ajustado con serie de empalme a 2026 | U4: Valor con IVA ajustado con serie de empalme a 2026 | V4: Valor con IVA ajustado con serie de empalme a 2026 | W4: VALOR ANTES DE IVA 2026
A5: 1 | B5: 1/4 ACEITE CAJA | C5: INSUMO | D5: 25005 | E5: =D5*1.052*1.051*1.0387 -> 28716.761 | F5: =E5/1.19 -> 24131.732 | G5: 25005 | H5: =G5*1.052*1.051*1.0387 -> 28716.761 | I5: =H5/1.19 -> 24131.732 | J5: 25005 | K5: =J5*1.052*1.051*1.0387 -> 28716.761 | L5: =K5/1.19 -> 24131.732 | M5: 25005 | N5: =M5*1.052*1.051*1.0387 -> 28716.761 | O5: =N5/1.19 -> 24131.732 | P5: 25005 | Q5: =P5*1.052*1.051*1.0387 -> 28716.761 | R5: =Q5/1.19 -> 24131.732 | S5: 0 | T5: 28716.761 | U5: =T5/1.19 -> 24131.732 | V5: 28716.761 | W5: 24131.732
A6: 2 | B6: 1/4 ACEITE HIDRAULICO DIRECCION | C6: INSUMO | D6: 25005 | E6: =D6*1.052*1.051*1.0387 -> 28716.761 | F6: =E6/1.19 -> 24131.732 | G6: 25005 | H6: =G6*1.052*1.051*1.0387 -> 28716.761 | I6: =H6/1.19 -> 24131.732 | J6: 25005 | K6: =J6*1.052*1.051*1.0387 -> 28716.761 | L6: =K6/1.19 -> 24131.732 | M6: 25005 | N6: =M6*1.052*1.051*1.0387 -> 28716.761 | O6: =N6/1.19 -> 24131.732 | P6: 25005 | Q6: =P6*1.052*1.051*1.0387 -> 28716.761 | R6: =Q6/1.19 -> 24131.732 | S6: 0 | T6: 28716.761 | U6: =T6/1.19 -> 24131.732 | V6: 28716.761 | W6: 24131.732
A7: 3 | B7: 1/4 ACEITE MOTOR | C7: INSUMO | D7: 25005 | E7: =D7*1.052*1.051*1.0387 -> 28716.761 | F7: =E7/1.19 -> 24131.732 | G7: 25005 | H7: =G7*1.052*1.051*1.0387 -> 28716.761 | I7: =H7/1.19 -> 24131.732 | J7: 25005 | K7: =J7*1.052*1.051*1.0387 -> 28716.761 | L7: =K7/1.19 -> 24131.732 | M7: 25005 | N7: =M7*1.052*1.051*1.0387 -> 28716.761 | O7: =N7/1.19 -> 24131.732 | P7: 25005 | Q7: =P7*1.052*1.051*1.0387 -> 28716.761 | R7: =Q7/1.19 -> 24131.732 | S7: 0 | T7: 28716.761 | U7: =T7/1.19 -> 24131.732 | V7: 28716.761 | W7: 24131.732
A8: 4 | B8: 1/4 ACEITE TRANSMISIÓN | C8: INSUMO | D8: 25005 | E8: =D8*1.052*1.051*1.0387 -> 28716.761 | F8: =E8/1.19 -> 24131.732 | G8: 25005 | H8: =G8*1.052*1.051*1.0387 -> 28716.761 | I8: =H8/1.19 -> 24131.732 | J8: 25005 | K8: =J8*1.052*1.051*1.0387 -> 28716.761 | L8: =K8/1.19 -> 24131.732 | M8: 25005 | N8: =M8*1.052*1.051*1.0387 -> 28716.761 | O8: =N8/1.19 -> 24131.732 | P8: 25005 | Q8: =P8*1.052*1.051*1.0387 -> 28716.761 | R8: =Q8/1.19 -> 24131.732 | S8: 0 | T8: 28716.761 | U8: =T8/1.19 -> 24131.732 | V8: 28716.761 | W8: 24131.732
A9: 5 | B9: 1/4 VALVULINA | C9: INSUMO | D9: 25005 | E9: =D9*1.052*1.051*1.0387 -> 28716.761 | F9: =E9/1.19 -> 24131.732 | G9: 25005 | H9: =G9*1.052*1.051*1.0387 -> 28716.761 | I9: =H9/1.19 -> 24131.732 | J9: 25005 | K9: =J9*1.052*1.051*1.0387 -> 28716.761 | L9: =K9/1.19 -> 24131.732 | M9: 25005 | N9: =M9*1.052*1.051*1.0387 -> 28716.761 | O9: =N9/1.19 -> 24131.732 | P9: 25005 | Q9: =P9*1.052*1.051*1.0387 -> 28716.761 | R9: =Q9/1.19 -> 24131.732 | S9: 0 | T9: 28716.761 | U9: =T9/1.19 -> 24131.732 | V9: 28716.761 | W9: 24131.732
A10: 6 | B10: ABRAZADERA METALICA GRANDE | C10: INSUMO | D10: 9024 | E10: =D10*1.052*1.051*1.0387 -> 10363.529 | F10: =E10/1.19 -> 8708.848 | G10: 9024 | H10: =G10*1.052*1.051*1.0387 -> 10363.529 | I10: =H10/1.19 -> 8708.848 | J10: 9024 | K10: =J10*1.052*1.051*1.0387 -> 10363.529 | L10: =K10/1.19 -> 8708.848 | M10: 9024 | N10: =M10*1.052*1.051*1.0387 -> 10363.529 | O10: =N10/1.19 -> 8708.848 | P10: 9024 | Q10: =P10*1.052*1.051*1.0387 -> 10363.529 | R10: =Q10/1.19 -> 8708.848 | S10: 9024 | T10: =S10*1.052*1.051*1.0387 -> 10363.529 | U10: =T10/1.19 -> 8708.848 | V10: 10363.529 | W10: 8708.848
A11: 7 | B11: ABRAZADERA METALICA PEQUEÑA | C11: INSUMO | D11: 7073 | E11: =D11*1.052*1.051*1.0387 -> 8122.9213 | F11: =E11/1.19 -> 6825.9843 | G11: 7073 | H11: =G11*1.052*1.051*1.0387 -> 8122.9213 | I11: =H11/1.19 -> 6825.9843 | J11: 7073 | K11: =J11*1.052*1.051*1.0387 -> 8122.9213 | L11: =K11/1.19 -> 6825.9843 | M11: 7073 | N11: =M11*1.052*1.051*1.0387 -> 8122.9213 | O11: =N11/1.19 -> 6825.9843 | P11: 7073 | Q11: =P11*1.052*1.051*1.0387 -> 8122.9213 | R11: =Q11/1.19 -> 6825.9843 | S11: 7073 | T11: =S11*1.052*1.051*1.0387 -> 8122.9213 | U11: =T11/1.19 -> 6825.9843 | V11: 8122.9213 | W11: 6825.9843
A12: 8 | B12: ABRAZADERA PLASTICA GRANDE | C12: INSUMO | D12: 4634 | E12: =D12*1.052*1.051*1.0387 -> 5321.8744 | F12: =E12/1.19 -> 4472.1633 | G12: 4634 | H12: =G12*1.052*1.051*1.0387 -> 5321.8744 | I12: =H12/1.19 -> 4472.1633 | J12: 4634 | K12: =J12*1.052*1.051*1.0387 -> 5321.8744 | L12: =K12/1.19 -> 4472.1633 | M12: 4634 | N12: =M12*1.052*1.051*1.0387 -> 5321.8744 | O12: =N12/1.19 -> 4472.1633 | P12: 4634 | Q12: =P12*1.052*1.051*1.0387 -> 5321.8744 | R12: =Q12/1.19 -> 4472.1633 | S12: 4634 | T12: =S12*1.052*1.051*1.0387 -> 5321.8744 | U12: =T12/1.19 -> 4472.1633 | V12: 5321.8744 | W12: 4472.1633
A13: 9 | B13: ABRAZADERA PLASTICA MEDIANA | C13: INSUMO | D13: 3658 | E13: =D13*1.052*1.051*1.0387 -> 4200.9962 | F13: =E13/1.19 -> 3530.2489 | G13: 3658 | H13: =G13*1.052*1.051*1.0387 -> 4200.9962 | I13: =H13/1.19 -> 3530.2489 | J13: 3658 | K13: =J13*1.052*1.051*1.0387 -> 4200.9962 | L13: =K13/1.19 -> 3530.2489 | M13: 3658 | N13: =M13*1.052*1.051*1.0387 -> 4200.9962 | O13: =N13/1.19 -> 3530.2489 | P13: 3658 | Q13: =P13*1.052*1.051*1.0387 -> 4200.9962 | R13: =Q13/1.19 -> 3530.2489 | S13: 3658 | T13: =S13*1.052*1.051*1.0387 -> 4200.9962 | U13: =T13/1.19 -> 3530.2489 | V13: 4200.9962 | W13: 3530.2489
A14: 10 | B14: ADBLUE (UREA x GALÓN) | C14: INSUMO | D14: 0 | E14: =D14*1.052*1.051*1.0387 -> 0 | F14: =E14/1.19 -> 0 | G14: 0 | H14: =G14*1.052*1.051*1.0387 -> 0 | I14: =H14/1.19 -> 0 | J14: 0 | K14: =J14*1.052*1.051*1.0387 -> 0 | L14: =K14/1.19 -> 0 | M14: 0 | N14: =M14*1.052*1.051*1.0387 -> 0 | O14: =N14/1.19 -> 0 | P14: 0 | Q14: =P14*1.052*1.051*1.0387 -> 0 | R14: =Q14/1.19 -> 0 | S14: 63413 | T14: =S14*1.052*1.051*1.0387 -> 72826.072 | U14: =T14/1.19 -> 61198.38 | V14: 72826.072 | W14: 61198.38
A15: 11 | B15: ADITIVO LIMPIADOR DE INYECTORES | C15: INSUMO | D15: 61950 | E15: =D15*1.052*1.051*1.0387 -> 71145.903 | F15: =E15/1.19 -> 59786.473 | G15: 61950 | H15: =G15*1.052*1.051*1.0387 -> 71145.903 | I15: =H15/1.19 -> 59786.473 | J15: 61950 | K15: =J15*1.052*1.051*1.0387 -> 71145.903 | L15: =K15/1.19 -> 59786.473 | M15: 61950 | N15: =M15*1.052*1.051*1.0387 -> 71145.903 | O15: =N15/1.19 -> 59786.473 | P15: 61950 | Q15: =P15*1.052*1.051*1.0387 -> 71145.903 | R15: =Q15/1.19 -> 59786.473 | S15: 0 | T15: =S15*1.052*1.051*1.0387 -> 0 | U15: =T15/1.19 -> 0 | V15: 71145.903 | W15: 59786.473
A16: 12 | B16: ADITIVO LIQUIDO LIMPIAPARABRISAS | C16: INSUMO | D16: 37072 | E16: =D16*1.052*1.051*1.0387 -> 42574.995 | F16: =E16/1.19 -> 35777.307 | G16: 37072 | H16: =G16*1.052*1.051*1.0387 -> 42574.995 | I16: =H16/1.19 -> 35777.307 | J16: 37072 | K16: =J16*1.052*1.051*1.0387 -> 42574.995 | L16: =K16/1.19 -> 35777.307 | M16: 37072 | N16: =M16*1.052*1.051*1.0387 -> 42574.995 | O16: =N16/1.19 -> 35777.307 | P16: 37072 | Q16: =P16*1.052*1.051*1.0387 -> 42574.995 | R16: =Q16/1.19 -> 35777.307 | S16: 37072 | T16: =S16*1.052*1.051*1.0387 -> 42574.995 | U16: =T16/1.19 -> 35777.307 | V16: 42574.995 | W16: 35777.307
A17: 13 | B17: AGUA BATERIA - UNIDAD | C17: INSUMO | D17: 16098 | E17: =D17*1.052*1.051*1.0387 -> 18487.599 | F17: =E17/1.19 -> 15535.797 | G17: 16098 | H17: =G17*1.052*1.051*1.0387 -> 18487.599 | I17: =H17/1.19 -> 15535.797 | J17: 16098 | K17: =J17*1.052*1.051*1.0387 -> 18487.599 | L17: =K17/1.19 -> 15535.797 | M17: 16098 | N17: =M17*1.052*1.051*1.0387 -> 18487.599 | O17: =N17/1.19 -> 15535.797 | P17: 16098 | Q17: =P17*1.052*1.051*1.0387 -> 18487.599 | R17: =Q17/1.19 -> 15535.797 | S17: 0 | T17: =S17*1.052*1.051*1.0387 -> 0 | U17: =T17/1.19 -> 0 | V17: 18487.599 | W17: 15535.797
A18: 14 | B18: ANILLLOS ANTISULFATANTES BATERIA - JUEGO | C18: INSUMO | D18: 7073 | E18: =D18*1.052*1.051*1.0387 -> 8122.9213 | F18: =E18/1.19 -> 6825.9843 | G18: 7073 | H18: =G18*1.052*1.051*1.0387 -> 8122.9213 | I18: =H18/1.19 -> 6825.9843 | J18: 7073 | K18: =J18*1.052*1.051*1.0387 -> 8122.9213 | L18: =K18/1.19 -> 6825.9843 | M18: 7073 | N18: =M18*1.052*1.051*1.0387 -> 8122.9213 | O18: =N18/1.19 -> 6825.9843 | P18: 7073 | Q18: =P18*1.052*1.051*1.0387 -> 8122.9213 | R18: =Q18/1.19 -> 6825.9843 | S18: 0 | T18: =S18*1.052*1.051*1.0387 -> 0 | U18: =T18/1.19 -> 0 | V18: 8122.9213 | W18: 6825.9843
A19: 15 | B19: BOMBILLO 1 FILAMENTO | C19: INSUMO | D19: 9024 | E19: =D19*1.052*1.051*1.0387 -> 10363.529 | F19: =E19/1.19 -> 8708.848 | G19: 9024 | H19: =G19*1.052*1.051*1.0387 -> 10363.529 | I19: =H19/1.19 -> 8708.848 | J19: 9024 | K19: =J19*1.052*1.051*1.0387 -> 10363.529 | L19: =K19/1.19 -> 8708.848 | M19: 9024 | N19: =M19*1.052*1.051*1.0387 -> 10363.529 | O19: =N19/1.19 -> 8708.848 | P19: 9024 | Q19: =P19*1.052*1.051*1.0387 -> 10363.529 | R19: =Q19/1.19 -> 8708.848 | S19: 9024 | T19: =S19*1.052*1.051*1.0387 -> 10363.529 | U19: =T19/1.19 -> 8708.848 | V19: 10363.529 | W19: 8708.848
A20: 16 | B20: BOMBILLO 2 FILAMENTOS | C20: INSUMO | D20: 13463 | E20: =D20*1.052*1.051*1.0387 -> 15461.458 | F20: =E20/1.19 -> 12992.821 | G20: 13463 | H20: =G20*1.052*1.051*1.0387 -> 15461.458 | I20: =H20/1.19 -> 12992.821 | J20: 13463 | K20: =J20*1.052*1.051*1.0387 -> 15461.458 | L20: =K20/1.19 -> 12992.821 | M20: 13463 | N20: =M20*1.052*1.051*1.0387 -> 15461.458 | O20: =N20/1.19 -> 12992.821 | P20: 13463 | Q20: =P20*1.052*1.051*1.0387 -> 15461.458 | R20: =Q20/1.19 -> 12992.821 | S20: 13463 | T20: =S20*1.052*1.051*1.0387 -> 15461.458 | U20: =T20/1.19 -> 12992.821 | V20: 15461.458 | W20: 12992.821
A21: 17 | B21: BOMBILLO EXPLORADORA | C21: INSUMO | D21: 47804 | E21: =D21*1.052*1.051*1.0387 -> 54900.061 | F21: =E21/1.19 -> 46134.505 | G21: 47804 | H21: =G21*1.052*1.051*1.0387 -> 54900.061 | I21: =H21/1.19 -> 46134.505 | J21: 47804 | K21: =J21*1.052*1.051*1.0387 -> 54900.061 | L21: =K21/1.19 -> 46134.505 | M21: 47804 | N21: =M21*1.052*1.051*1.0387 -> 54900.061 | O21: =N21/1.19 -> 46134.505 | P21: 47804 | Q21: =P21*1.052*1.051*1.0387 -> 54900.061 | R21: =Q21/1.19 -> 46134.505 | S21: 47804 | T21: =S21*1.052*1.051*1.0387 -> 54900.061 | U21: =T21/1.19 -> 46134.505 | V21: 54900.061 | W21: 46134.505
... A34: 30 | B34: DESENGRASANTE | C34: INSUMO | D34: 37072 | E34: =D34*1.052*1.051*1.0387 -> 42574.995 | F34: =E34/1.19 -> 35777.307 | G34: 37072 | H34: =G34*1.052*1.051*1.0387 -> 42574.995 | I34: =H34/1.19 -> 35777.307 | J34: 37072 | K34: =J34*1.052*1.051*1.0387 -> 42574.995 | L34: =K34/1.19 -> 35777.307 | M34: 37072 | N34: =M34*1.052*1.051*1.0387 -> 42574.995 | O34: =N34/1.19 -> 35777.307 | P34: 37072 | Q34: =P34*1.052*1.051*1.0387 -> 42574.995 | R34: =Q34/1.19 -> 35777.307 | S34: 37072 | T34: =S34*1.052*1.051*1.0387 -> 42574.995 | U34: =T34/1.19 -> 35777.307 | V34: 42574.995 | W34: 35777.307
A35: 31 | B35: FUSIBLE DE 15 A | C35: INSUMO | D35: 19024 | E35: =D35*1.052*1.051*1.0387 -> 21847.936 | F35: =E35/1.19 -> 18359.61 | G35: 19024 | H35: =G35*1.052*1.051*1.0387 -> 21847.936 | I35: =H35/1.19 -> 18359.61 | J35: 19024 | K35: =J35*1.052*1.051*1.0387 -> 21847.936 | L35: =K35/1.19 -> 18359.61 | M35: 19024 | N35: =M35*1.052*1.051*1.0387 -> 21847.936 | O35: =N35/1.19 -> 18359.61 | P35: 19024 | Q35: =P35*1.052*1.051*1.0387 -> 21847.936 | R35: =Q35/1.19 -> 18359.61 | S35: 0 | T35: 21847.936 | U35: =T35/1.19 -> 18359.61 | V35: 21847.936 | W35: 18359.61
A36: 32 | B36: FUSIBLE DE 20 A | C36: INSUMO | D36: 19024 | E36: =D36*1.052*1.051*1.0387 -> 21847.936 | F36: =E36/1.19 -> 18359.61 | G36: 19024 | H36: =G36*1.052*1.051*1.0387 -> 21847.936 | I36: =H36/1.19 -> 18359.61 | J36: 19024 | K36: =J36*1.052*1.051*1.0387 -> 21847.936 | L36: =K36/1.19 -> 18359.61 | M36: 19024 | N36: =M36*1.052*1.051*1.0387 -> 21847.936 | O36: =N36/1.19 -> 18359.61 | P36: 19024 | Q36: =P36*1.052*1.051*1.0387 -> 21847.936 | R36: =Q36/1.19 -> 18359.61 | S36: 0 | T36: 21847.936 | U36: =T36/1.19 -> 18359.61 | V36: 21847.936 | W36: 18359.61
A37: 33 | B37: FUSIBLE DE 30 A | C37: INSUMO | D37: 19024 | E37: =D37*1.052*1.051*1.0387 -> 21847.936 | F37: =E37/1.19 -> 18359.61 | G37: 19024 | H37: =G37*1.052*1.051*1.0387 -> 21847.936 | I37: =H37/1.19 -> 18359.61 | J37: 19024 | K37: =J37*1.052*1.051*1.0387 -> 21847.936 | L37: =K37/1.19 -> 18359.61 | M37: 19024 | N37: =M37*1.052*1.051*1.0387 -> 21847.936 | O37: =N37/1.19 -> 18359.61 | P37: 19024 | Q37: =P37*1.052*1.051*1.0387 -> 21847.936 | R37: =Q37/1.19 -> 18359.61 | S37: 0 | T37: 21847.936 | U37: =T37/1.19 -> 18359.61 | V37: 21847.936 | W37: 18359.61
A38: 34 | B38: FUSIBLE MAXI DE 20 A | C38: INSUMO | D38: 19024 | E38: =D38*1.052*1.051*1.0387 -> 21847.936 | F38: =E38/1.19 -> 18359.61 | G38: 19024 | H38: =G38*1.052*1.051*1.0387 -> 21847.936 | I38: =H38/1.19 -> 18359.61 | J38: 19024 | K38: =J38*1.052*1.051*1.0387 -> 21847.936 | L38: =K38/1.19 -> 18359.61 | M38: 19024 | N38: =M38*1.052*1.051*1.0387 -> 21847.936 | O38: =N38/1.19 -> 18359.61 | P38: 19024 | Q38: =P38*1.052*1.051*1.0387 -> 21847.936 | R38: =Q38/1.19 -> 18359.61 | S38: 0 | T38: 21847.936 | U38: =T38/1.19 -> 18359.61 | V38: 21847.936 | W38: 18359.61
A39: 35 | B39: FUSIBLE PRINCIPAL ALTERNADOR | C39: INSUMO | D39: 37072 | E39: =D39*1.052*1.051*1.0387 -> 42574.995 | F39: =E39/1.19 -> 35777.307 | G39: 37072 | H39: =G39*1.052*1.051*1.0387 -> 42574.995 | I39: =H39/1.19 -> 35777.307 | J39: 37072 | K39: =J39*1.052*1.051*1.0387 -> 42574.995 | L39: =K39/1.19 -> 35777.307 | M39: 37072 | N39: =M39*1.052*1.051*1.0387 -> 42574.995 | O39: =N39/1.19 -> 35777.307 | P39: 37072 | Q39: =P39*1.052*1.051*1.0387 -> 42574.995 | R39: =Q39/1.19 -> 35777.307 | S39: 0 | T39: 42574.995 | U39: =T39/1.19 -> 35777.307 | V39: 42574.995 | W39: 35777.307
A40: 36 | B40: GALÓN LÍQUIDO REFRIGERANTE | C40: INSUMO | D40: 47804 | E40: =D40*1.052*1.051*1.0387 -> 54900.061 | F40: =E40/1.19 -> 46134.505 | G40: 47804 | H40: =G40*1.052*1.051*1.0387 -> 54900.061 | I40: =H40/1.19 -> 46134.505 | J40: 47804 | K40: =J40*1.052*1.051*1.0387 -> 54900.061 | L40: =K40/1.19 -> 46134.505 | M40: 47804 | N40: =M40*1.052*1.051*1.0387 -> 54900.061 | O40: =N40/1.19 -> 46134.505 | P40: 47804 | Q40: =P40*1.052*1.051*1.0387 -> 54900.061 | R40: =Q40/1.19 -> 46134.505 | S40: 47804 | T40: =S40*1.052*1.051*1.0387 -> 54900.061 | U40: =T40/1.19 -> 46134.505 | V40: 54900.061 | W40: 46134.505
A41: 37 | B41: GRASA ALTA TEMPERATURA | C41: INSUMO | D41: 29755 | E41: =D41*1.052*1.051*1.0387 -> 34171.854 | F41: =E41/1.19 -> 28715.844 | G41: 29755 | H41: =G41*1.052*1.051*1.0387 -> 34171.854 | I41: =H41/1.19 -> 28715.844 | J41: 29755 | K41: =J41*1.052*1.051*1.0387 -> 34171.854 | L41: =K41/1.19 -> 28715.844 | M41: 29755 | N41: =M41*1.052*1.051*1.0387 -> 34171.854 | O41: =N41/1.19 -> 28715.844 | P41: 29755 | Q41: =P41*1.052*1.051*1.0387 -> 34171.854 | R41: =Q41/1.19 -> 28715.844 | S41: 29755 | T41: =S41*1.052*1.051*1.0387 -> 34171.854 | U41: =T41/1.19 -> 28715.844 | V41: 34171.854 | W41: 28715.844
A42: 38 | B42: GRASA USO GENERAL | C42: INSUMO | D42: 29755 | E42: =D42*1.052*1.051*1.0387 -> 34171.854 | F42: =E42/1.19 -> 28715.844 | G42: 29755 | H42: =G42*1.052*1.051*1.0387 -> 34171.854 | I42: =H42/1.19 -> 28715.844 | J42: 29755 | K42: =J42*1.052*1.051*1.0387 -> 34171.854 | L42: =K42/1.19 -> 28715.844 | M42: 29755 | N42: =M42*1.052*1.051*1.0387 -> 34171.854 | O42: =N42/1.19 -> 28715.844 | P42: 29755 | Q42: =P42*1.052*1.051*1.0387 -> 34171.854 | R42: =Q42/1.19 -> 28715.844 | S42: 29755 | T42: =S42*1.052*1.051*1.0387 -> 34171.854 | U42: =T42/1.19 -> 28715.844 | V42: 34171.854 | W42: 28715.844
A43: 39 | B43: JUEGO DE TAPETES ANTIDESLIZANTE | C43: INSUMO | D43: 176094 | E43: =D43*1.052*1.051*1.0387 -> 202233.52 | F43: =E43/1.19 -> 169944.14 | G43: 176094 | H43: =G43*1.052*1.051*1.0387 -> 202233.52 | I43: =H43/1.19 -> 169944.14 | J43: 176094 | K43: =J43*1.052*1.051*1.0387 -> 202233.52 | L43: =K43/1.19 -> 169944.14 | M43: 176094 | N43: =M43*1.052*1.051*1.0387 -> 202233.52 | O43: =N43/1.19 -> 169944.14 | P43: 176094 | Q43: =P43*1.052*1.051*1.0387 -> 202233.52 | R43: =Q43/1.19 -> 169944.14 | S43: 176094 | T43: =S43*1.052*1.051*1.0387 -> 202233.52 | U43: =T43/1.19 -> 169944.14 | V43: 202233.52 | W43: 169944.14
A44: 40 | B44: LIMPIADOR C MARIPOSAS | C44: INSUMO | D44: 47804 | E44: =D44*1.052*1.051*1.0387 -> 54900.061 | F44: =E44/1.19 -> 46134.505 | G44: 47804 | H44: =G44*1.052*1.051*1.0387 -> 54900.061 | I44: =H44/1.19 -> 46134.505 | J44: 47804 | K44: =J44*1.052*1.051*1.0387 -> 54900.061 | L44: =K44/1.19 -> 46134.505 | M44: 47804 | N44: =M44*1.052*1.051*1.0387 -> 54900.061 | O44: =N44/1.19 -> 46134.505 | P44: 47804 | Q44: =P44*1.052*1.051*1.0387 -> 54900.061 | R44: =Q44/1.19 -> 46134.505 | S44: 0 | T44: =S44*1.052*1.051*1.0387 -> 0 | U44: =T44/1.19 -> 0 | V44: 54900.061 | W44: 46134.505
A45: 41 | B45: LIMPIADOR DE FRENOS | C45: INSUMO | D45: 26829 | E45: =D45*1.052*1.051*1.0387 -> 30811.516 | F45: =E45/1.19 -> 25892.031 | G45: 26829 | H45: =G45*1.052*1.051*1.0387 -> 30811.516 | I45: =H45/1.19 -> 25892.031 | J45: 26829 | K45: =J45*1.052*1.051*1.0387 -> 30811.516 | L45: =K45/1.19 -> 25892.031 | M45: 26829 | N45: =M45*1.052*1.051*1.0387 -> 30811.516 | O45: =N45/1.19 -> 25892.031 | P45: 26829 | Q45: =P45*1.052*1.051*1.0387 -> 30811.516 | R45: =Q45/1.19 -> 25892.031 | S45: 26829 | T45: =S45*1.052*1.051*1.0387 -> 30811.516 | U45: =T45/1.19 -> 25892.031 | V45: 30811.516 | W45: 25892.031
A46: 42 | B46: LIMPIADOR ELECTRONICO | C46: INSUMO | D46: 37072 | E46: =D46*1.052*1.051*1.0387 -> 42574.995 | F46: =E46/1.19 -> 35777.307 | G46: 37072 | H46: =G46*1.052*1.051*1.0387 -> 42574.995 | I46: =H46/1.19 -> 35777.307 | J46: 37072 | K46: =J46*1.052*1.051*1.0387 -> 42574.995 | L46: =K46/1.19 -> 35777.307 | M46: 37072 | N46: =M46*1.052*1.051*1.0387 -> 42574.995 | O46: =N46/1.19 -> 35777.307 | P46: 37072 | Q46: =P46*1.052*1.051*1.0387 -> 42574.995 | R46: =Q46/1.19 -> 35777.307 | S46: 37072 | T46: =S46*1.052*1.051*1.0387 -> 42574.995 | U46: =T46/1.19 -> 35777.307 | V46: 42574.995 | W46: 35777.307
A47: 43 | B47: LIMPIADOR INYECTORES | C47: INSUMO | D47: 57560 | E47: =D47*1.052*1.051*1.0387 -> 66104.249 | F47: =E47/1.19 -> 55549.789 | G47: 57560 | H47: =G47*1.052*1.051*1.0387 -> 66104.249 | I47: =H47/1.19 -> 55549.789 | J47: 57560 | K47: =J47*1.052*1.051*1.0387 -> 66104.249 | L47: =K47/1.19 -> 55549.789 | M47: 57560 | N47: =M47*1.052*1.051*1.0387 -> 66104.249 | O47: =N47/1.19 -> 55549.789 | P47: 57560 | Q47: =P47*1.052*1.051*1.0387 -> 66104.249 | R47: =Q47/1.19 -> 55549.789 | S47: 0 | T47: =S47*1.052*1.051*1.0387 -> 0 | U47: =T47/1.19 -> 0 | V47: 66104.249 | W47: 55549.789
A48: 44 | B48: LÍQUIDO DE FRENOS | C48: INSUMO | D48: 26829 | E48: =D48*1.052*1.051*1.0387 -> 30811.516 | F48: =E48/1.19 -> 25892.031 | G48: 26829 | H48: =G48*1.052*1.051*1.0387 -> 30811.516 | I48: =H48/1.19 -> 25892.031 | J48: 26829 | K48: =J48*1.052*1.051*1.0387 -> 30811.516 | L48: =K48/1.19 -> 25892.031 | M48: 26829 | N48: =M48*1.052*1.051*1.0387 -> 30811.516 | O48: =N48/1.19 -> 25892.031 | P48: 26829 | Q48: =P48*1.052*1.051*1.0387 -> 30811.516 | R48: =Q48/1.19 -> 25892.031 | S48: 26829 | T48: =S48*1.052*1.051*1.0387 -> 30811.516 | U48: =T48/1.19 -> 25892.031 | V48: 30811.516 | W48: 25892.031
A49: 45 | B49: ORING - UNIDAD | C49: INSUMO | D49: 13414 | E49: =D49*1.052*1.051*1.0387 -> 15405.184 | F49: =E49/1.19 -> 12945.533 | G49: 13414 | H49: =G49*1.052*1.051*1.0387 -> 15405.184 | I49: =H49/1.19 -> 12945.533 | J49: 13414 | K49: =J49*1.052*1.051*1.0387 -> 15405.184 | L49: =K49/1.19 -> 12945.533 | M49: 13414 | N49: =M49*1.052*1.051*1.0387 -> 15405.184 | O49: =N49/1.19 -> 12945.533 | P49: 13414 | Q49: =P49*1.052*1.051*1.0387 -> 15405.184 | R49: =Q49/1.19 -> 12945.533 | S49: 0 | T49: =S49*1.052*1.051*1.0387 -> 0 | U49: =T49/1.19 -> 0 | V49: 15405.184 | W49: 12945.533
A50: 46 | B50: PILA CONTROL ALARMA - UNIDAD | C50: INSUMO | D50: 19024 | E50: =D50*1.052*1.051*1.0387 -> 21847.936 | F50: =E50/1.19 -> 18359.61 | G50: 19024 | H50: =G50*1.052*1.051*1.0387 -> 21847.936 | I50: =H50/1.19 -> 18359.61 | J50: 19024 | K50: =J50*1.052*1.051*1.0387 -> 21847.936 | L50: =K50/1.19 -> 18359.61 | M50: 19024 | N50: =M50*1.052*1.051*1.0387 -> 21847.936 | O50: =N50/1.19 -> 18359.61 | P50: 19024 | Q50: =P50*1.052*1.051*1.0387 -> 21847.936 | R50: =Q50/1.19 -> 18359.61 | S50: 19024 | T50: =S50*1.052*1.051*1.0387 -> 21847.936 | U50: =T50/1.19 -> 18359.61 | V50: 21847.936 | W50: 18359.61
A51: 47 | B51: PORTAFUSIBLE | C51: INSUMO | D51: 37901 | E51: =D51*1.052*1.051*1.0387 -> 43527.052 | F51: =E51/1.19 -> 36577.355 | G51: 37901 | H51: =G51*1.052*1.051*1.0387 -> 43527.052 | I51: =H51/1.19 -> 36577.355 | J51: 37901 | K51: =J51*1.052*1.051*1.0387 -> 43527.052 | L51: =K51/1.19 -> 36577.355 | M51: 37901 | N51: =M51*1.052*1.051*1.0387 -> 43527.052 | O51: =N51/1.19 -> 36577.355 | P51: 37901 | Q51: =P51*1.052*1.051*1.0387 -> 43527.052 | R51: =Q51/1.19 -> 36577.355 | S51: 0 | T51: =S51*1.052*1.051*1.0387 -> 0 | U51: =T51/1.19 -> 0 | V51: 43527.052 | W51: 36577.355
... A55: 51 | B55: SOCKET CONECTOR ELECTRICO | C55: INSUMO | D55: 69266 | E55: =D55*1.052*1.051*1.0387 -> 79547.896 | F55: =E55/1.19 -> 66846.971 | G55: 69266 | H55: =G55*1.052*1.051*1.0387 -> 79547.896 | I55: =H55/1.19 -> 66846.971 | J55: 69266 | K55: =J55*1.052*1.051*1.0387 -> 79547.896 | L55: =K55/1.19 -> 66846.971 | M55: 69266 | N55: =M55*1.052*1.051*1.0387 -> 79547.896 | O55: =N55/1.19 -> 66846.971 | P55: 69266 | Q55: =P55*1.052*1.051*1.0387 -> 79547.896 | R55: =Q55/1.19 -> 66846.971 | S55: 0 | T55: =S55*1.052*1.051*1.0387 -> 0 | U55: =T55/1.19 -> 0 | V55: 79547.896 | W55: 66846.971
A56: 52 | B56: BANCO DE CHASIS | C56: SERVICIO | D56: 1049734 | E56: =D56*1.052*1.051*1.0387 -> 1205557.3 | F56: =E56/1.19 -> 1013073.3 | G56: 1049734 | H56: =G56*1.052*1.051*1.0387 -> 1205557.3 | I56: =H56/1.19 -> 1013073.3 | J56: 1049734 | K56: =J56*1.052*1.051*1.0387 -> 1205557.3 | L56: =K56/1.19 -> 1013073.3 | M56: 1049734 | N56: =M56*1.052*1.051*1.0387 -> 1205557.3 | O56: =N56/1.19 -> 1013073.3 | P56: 1049734 | Q56: =P56*1.052*1.051*1.0387 -> 1205557.3 | R56: =Q56/1.19 -> 1013073.3 | S56: 0 | T56: 1205557.3 | U56: =T56/1.19 -> 1013073.3 | V56: 1205557.3 | W56: 1013073.3
...

Sheet OFERTA MANO DE OBRA
A1: PRECIOS DE REFERENCIA MANO DE OBRA
C4: HYUNDAI ACCENT GL I25 SEDAN MODELO 2013 - GASOLINA | F4: CHEVROLET JOY SEDAN MODELO 2022 - GASOLINA | I4: TOYOTA 4 RUNNER STATION WAGON MODELO 2009 - GASOLINA | L4: TOYOTA PRADO TX CAMPERO MODELO 2015 - DIESEL | O4: CHEVROLET VITARA 1.600 C.C. CAMPERO MODELO 2007 - GASOLINA | R4: FORD RANGER XLT AT 4X4 MODELO 2023 - DIESEL | U4: CHEVROLET COLORADO 4X4 MODELO 2026 - DIESEL
A5: Nº | B5: DESCRIPCIÓN DE MANO DE OBRA | C5: Precio de referencia incluido IVA 2024 | D5: Valor con IVA ajustado con serie de empalme a 2026 | E5: VALOR ANTES DE IVA 2026 | F5: Precio de referencia incluido IVA 2024 | G5: Valor con IVA ajustado con serie de empalme a 2026 | H5: VALOR ANTES DE IVA 2026 | I5: Precio de referencia incluido IVA 2024 | J5: Valor con IVA ajustado con serie de empalme a 2026 | K5: VALOR ANTES DE IVA 2026 | L5: Precio de referencia incluido IVA 2024 | M5: Valor con IVA ajustado con serie de empalme a 2026 | N5: VALOR ANTES DE IVA 2026 | O5: Precio de referencia incluido IVA 2024 | P5: Valor con IVA ajustado con serie de empalme a 2026 | Q5: VALOR ANTES DE IVA 2026 | R5: Precio de referencia incluido IVA 2024 | S5: Valor con IVA ajustado con serie de empalme a 2026 | T5: VALOR ANTES DE IVA 2026 | U5: Valor con IVA ajustado con serie de empalme a 2026 | V5: VALOR ANTES DE IVA 2026
A6: 1 | B6: CAMBIAR JUEGO DE TERMINALES DIRECCION | C6: 215636 | D6: =C6*1.052*1.051*1.0387 -> 247645.17 | E6: =D6/1.19 -> 208105.18 | F6: 215636 | G6: =F6*1.052*1.051*1.0387 -> 247645.17 | H6: =G6/1.19 -> 208105.18 | I6: 215636 | J6: =I6*1.052*1.051*1.0387 -> 247645.17 | K6: =J6/1.19 -> 208105.18 | L6: 215636 | M6: =L6*1.052*1.051*1.0387 -> 247645.17 | N6: =M6/1.19 -> 208105.18 | O6: 215636 | P6: =O6*1.052*1.051*1.0387 -> 247645.17 | Q6: =P6/1.19 -> 208105.18 | R6: 0 | S6: 247645.17 | T6: =S6/1.19 -> 208105.18 | U6: 247645.17 | V6: 208105.18
A7: 2 | B7: CAMBIO BRAZOS AXIALES (JUEGO) | C7: 215636 | D7: =C7*1.052*1.051*1.0387 -> 247645.17 | E7: =D7/1.19 -> 208105.18 | F7: 215636 | G7: =F7*1.052*1.051*1.0387 -> 247645.17 | H7: =G7/1.19 -> 208105.18 | I7: 215636 | J7: =I7*1.052*1.051*1.0387 -> 247645.17 | K7: =J7/1.19 -> 208105.18 | L7: 215636 | M7: =L7*1.052*1.051*1.0387 -> 247645.17 | N7: =M7/1.19 -> 208105.18 | O7: 215636 | P7: =O7*1.052*1.051*1.0387 -> 247645.17 | Q7: =P7/1.19 -> 208105.18 | R7: 0 | S7: 247645.17 | T7: =S7/1.19 -> 208105.18 | U7: 247645.17 | V7: 208105.18
A8: 3 | B8: CAMBIO CAJA DIRECCIÓN | C8: 287515 | D8: =C8*1.052*1.051*1.0387 -> 330193.94 | E8: =D8/1.19 -> 277473.9 | F8: 287515 | G8: =F8*1.052*1.051*1.0387 -> 330193.94 | H8: =G8/1.19 -> 277473.9 | I8: 287515 | J8: =I8*1.052*1.051*1.0387 -> 330193.94 | K8: =J8/1.19 -> 277473.9 | L8: 287515 | M8: =L8*1.052*1.051*1.0387 -> 330193.94 | N8: =M8/1.19 -> 277473.9 | O8: 287515 | P8: =O8*1.052*1.051*1.0387 -> 330193.94 | Q8: =P8/1.19 -> 277473.9 | R8: 0 | S8: 330193.94 | T8: =S8/1.19 -> 277473.9 | U8: 330193.94 | V8: 277473.9
A9: 4 | B9: CAMBIO DE BOMBA DE DIRECCIÓN | C9: 0 | D9: =C9*1.052*1.051*1.0387 -> 0 | E9: =D9/1.19 -> 0 | F9: 287515 | G9: =F9*1.052*1.051*1.0387 -> 330193.94 | H9: =G9/1.19 -> 277473.9 | I9: 287517 | J9: =I9*1.052*1.051*1.0387 -> 330196.23 | K9: =J9/1.19 -> 277475.83 | L9: 287518 | M9: =L9*1.052*1.051*1.0387 -> 330197.38 | N9: =M9/1.19 -> 277476.79 | O9: 287518 | P9: =O9*1.052*1.051*1.0387 -> 330197.38 | Q9: =P9/1.19 -> 277476.79 | R9: 0 | S9: 330197.38 | T9: =S9/1.19 -> 277476.79 | U9: 330197.38 | V9: 277476.79
A10: 5 | B10: CAMBIO DE CRUCETA DIRECCIÓN | C10: 263922 | D10: =C10*1.052*1.051*1.0387 -> 303098.77 | E10: =D10/1.19 -> 254704.85 | F10: 263922 | G10: =F10*1.052*1.051*1.0387 -> 303098.77 | H10: =G10/1.19 -> 254704.85 | I10: 263922 | J10: =I10*1.052*1.051*1.0387 -> 303098.77 | K10: =J10/1.19 -> 254704.85 | L10: 263922 | M10: =L10*1.052*1.051*1.0387 -> 303098.77 | N10: =M10/1.19 -> 254704.85 | O10: 263922 | P10: =O10*1.052*1.051*1.0387 -> 303098.77 | Q10: =P10/1.19 -> 254704.85 | R10: 0 | S10: 303098.77 | T10: =S10/1.19 -> 254704.85 | U10: 303098.77 | V10: 254704.85
A11: 6 | B11: CAMBIO DE EMPAQUES DE CAJA DE DIRECCIÓN | C11: 263922 | D11: =C11*1.052*1.051*1.0387 -> 303098.77 | E11: =D11/1.19 -> 254704.85 | F11: 263922 | G11: =F11*1.052*1.051*1.0387 -> 303098.77 | H11: =G11/1.19 -> 254704.85 | I11: 263922 | J11: =I11*1.052*1.051*1.0387 -> 303098.77 | K11: =J11/1.19 -> 254704.85 | L11: 263922 | M11: =L11*1.052*1.051*1.0387 -> 303098.77 | N11: =M11/1.19 -> 254704.85 | O11: 263922 | P11: =O11*1.052*1.051*1.0387 -> 303098.77 | Q11: =P11/1.19 -> 254704.85 | R11: 0 | S11: 303098.77 | T11: =S11/1.19 -> 254704.85 | U11: 303098.77 | V11: 254704.85
A12: 7 | B12: CAMBIO DE RETENEDORES CAJA DE DIRECCION | C12: 263922 | D12: =C12*1.052*1.051*1.0387 -> 303098.77 | E12: =D12/1.19 -> 254704.85 | F12: 263922 | G12: =F12*1.052*1.051*1.0387 -> 303098.77 | H12: =G12/1.19 -> 254704.85 | I12: 263922 | J12: =I12*1.052*1.051*1.0387 -> 303098.77 | K12: =J12/1.19 -> 254704.85 | L12: 263922 | M12: =L12*1.052*1.051*1.0387 -> 303098.77 | N12: =M12/1.19 -> 254704.85 | O12: 263922 | P12: =O12*1.052*1.051*1.0387 -> 303098.77 | Q12: =P12/1.19 -> 254704.85 | R12: 0 | S12: 303098.77 | T12: =S12/1.19 -> 254704.85 | U12: 303098.77 | V12: 254704.85
A13: 8 | B13: CAMBIO GUARDAPOLVOS CAJA DIRECCION (COMPLETO) | C13: 263922 | D13: =C13*1.052*1.051*1.0387 -> 303098.77 | E13: =D13/1.19 -> 254704.85 | F13: 263922 | G13: =F13*1.052*1.051*1.0387 -> 303098.77 | H13: =G13/1.19 -> 254704.85 | I13: 263922 | J13: =I13*1.052*1.051*1.0387 -> 303098.77 | K13: =J13/1.19 -> 254704.85 | L13: 263922 | M13: =L13*1.052*1.051*1.0387 -> 303098.77 | N13: =M13/1.19 -> 254704.85 | O13: 263922 | P13: =O13*1.052*1.051*1.0387 -> 303098.77 | Q13: =P13/1.19 -> 254704.85 | R13: 0 | S13: 303098.77 | T13: =S13/1.19 -> 254704.85 | U13: 303098.77 | V13: 254704.85
A14: 9 | B14: CAMBIO MANGUERA DIRECCIÓN HIDRAULICA | C14: 263922 | D14: =C14*1.052*1.051*1.0387 -> 303098.77 | E14: =D14/1.19 -> 254704.85 | F14: 263922 | G14: =F14*1.052*1.051*1.0387 -> 303098.77 | H14: =G14/1.19 -> 254704.85 | I14: 263922 | J14: =I14*1.052*1.051*1.0387 -> 303098.77 | K14: =J14/1.19 -> 254704.85 | L14: 263922 | M14: =L14*1.052*1.051*1.0387 -> 303098.77 | N14: =M14/1.19 -> 254704.85 | O14: 263922 | P14: =O14*1.052*1.051*1.0387 -> 303098.77 | Q14: =P14/1.19 -> 254704.85 | R14: 0 | S14: 303098.77 | T14: =S14/1.19 -> 254704.85 | U14: 303098.77 | V14: 254704.85
A15: 10 | B15: CAMBIO MANGUERA HIDRAULICO | C15: 263922 | D15: =C15*1.052*1.051*1.0387 -> 303098.77 | E15: =D15/1.19 -> 254704.85 | F15: 263922 | G15: =F15*1.052*1.051*1.0387 -> 303098.77 | H15: =G15/1.19 -> 254704.85 | I15: 263922 | J15: =I15*1.052*1.051*1.0387 -> 303098.77 | K15: =J15/1.19 -> 254704.85 | L15: 263922 | M15: =L15*1.052*1.051*1.0387 -> 303098.77 | N15: =M15/1.19 -> 254704.85 | O15: 263922 | P15: =O15*1.052*1.051*1.0387 -> 303098.77 | Q15: =P15/1.19 -> 254704.85 | R15: 0 | S15: 303098.77 | T15: =S15/1.19 -> 254704.85 | U15: 303098.77 | V15: 254704.85
A16: 11 | B16: REPARACION BOMBA DIRECCION HIDRAULICA | C16: 0 | D16: =C16*1.052*1.051*1.0387 -> 0 | E16: =D16/1.19 -> 0 | F16: 494373 | G16: =F16*1.052*1.051*1.0387 -> 567758.09 | H16: =G16/1.19 -> 477107.64 | I16: 494374 | J16: =I16*1.052*1.051*1.0387 -> 567759.24 | K16: =J16/1.19 -> 477108.6 | L16: 494375 | M16: =L16*1.052*1.051*1.0387 -> 567760.39 | N16: =M16/1.19 -> 477109.57 | O16: 494375 | P16: =O16*1.052*1.051*1.0387 -> 567760.39 | Q16: =P16/1.19 -> 477109.57 | R16: 0 | S16: 567760.39 | T16: =S16/1.19 -> 477109.57 | U16: 567760.39 | V16: 477109.57
A17: 12 | B17: REPARACION CAJA DE DIRECCION HIDRAULICA | C17: 767073 | D17: =C17*1.052*1.051*1.0387 -> 880937.88 | E17: =D17/1.19 -> 740283.93 | F17: 767073 | G17: =F17*1.052*1.051*1.0387 -> 880937.88 | H17: =G17/1.19 -> 740283.93 | I17: 767073 | J17: =I17*1.052*1.051*1.0387 -> 880937.88 | K17: =J17/1.19 -> 740283.93 | L17: 767073 | M17: =L17*1.052*1.051*1.0387 -> 880937.88 | N17: =M17/1.19 -> 740283.93 | O17: 767073 | P17: =O17*1.052*1.051*1.0387 -> 880937.88 | Q17: =P17/1.19 -> 740283.93 | R17: 0 | S17: 880937.88 | T17: =S17/1.19 -> 740283.93 | U17: 880937.88 | V17: 740283.93
... A19: 14 | B19: REVISIÓN GENERAL DEL SISTEMA DE DIRECCIÓN (REVISAR JUEGO LIBRE, NIVELES DE ACEITE, VERIFICACIÓN DE PRESENCIA DE RUIDOS ) | C19: 263922 | D19: =C19*1.052*1.051*1.0387 -> 303098.77 | E19: =D19/1.19 -> 254704.85 | F19: 263922 | G19: =F19*1.052*1.051*1.0387 -> 303098.77 | H19: =G19/1.19 -> 254704.85 | I19: 263922 | J19: =I19*1.052*1.051*1.0387 -> 303098.77 | K19: =J19/1.19 -> 254704.85 | L19: 263922 | M19: =L19*1.052*1.051*1.0387 -> 303098.77 | N19: =M19/1.19 -> 254704.85 | O19: 263922 | P19: =O19*1.052*1.051*1.0387 -> 303098.77 | Q19: =P19/1.19 -> 254704.85 | R19: 0 | S19: 303098.77 | T19: =S19/1.19 -> 254704.85 | U19: 303098.77 | V19: 254704.85
A20: ITEM Nº 2: MANO DE OBRA GRUPO ELÉCTRICO | C20: 0 | D20: =C20*1.052*1.051*1.0387 -> 0 | E20: =D20/1.19 -> 0 | F20: 0 | G20: =F20*1.052*1.051*1.0387 -> 0 | H20: =G20/1.19 -> 0 | I20: 0 | J20: =I20*1.052*1.051*1.0387 -> 0 | K20: =J20/1.19 -> 0 | L20: 0 | M20: =L20*1.052*1.051*1.0387 -> 0 | N20: =M20/1.19 -> 0 | O20: 0 | P20: =O20*1.052*1.051*1.0387 -> 0 | Q20: =P20/1.19 -> 0 | R20: 0 | S20: 0 | T20: =S20/1.19 -> 0 | U20: 0 | V20: 0
A21: 15 | B21: ALINEACIÓN DE LUCES | C21: 47736 | D21: =C21*1.052*1.051*1.0387 -> 54821.967 | E21: =D21/1.19 -> 46068.88 | F21: 47736 | G21: =F21*1.052*1.051*1.0387 -> 54821.967 | H21: =G21/1.19 -> 46068.88 | I21: 47736 | J21: =I21*1.052*1.051*1.0387 -> 54821.967 | K21: =J21/1.19 -> 46068.88 | L21: 47736 | M21: =L21*1.052*1.051*1.0387 -> 54821.967 | N21: =M21/1.19 -> 46068.88 | O21: 47736 | P21: =O21*1.052*1.051*1.0387 -> 54821.967 | Q21: =P21/1.19 -> 46068.88 | R21: 0 | S21: 54821.967 | T21: =S21/1.19 -> 46068.88 | U21: 54821.967 | V21: 46068.88
A22: 16 | B22: CAMBIO ALTERN/ADOR | C22: 263922 | D22: =C22*1.052*1.051*1.0387 -> 303098.77 | E22: =D22/1.19 -> 254704.85 | F22: 263922 | G22: =F22*1.052*1.051*1.0387 -> 303098.77 | H22: =G22/1.19 -> 254704.85 | I22: 263922 | J22: =I22*1.052*1.051*1.0387 -> 303098.77 | K22: =J22/1.19 -> 254704.85 | L22: 263922 | M22: =L22*1.052*1.051*1.0387 -> 303098.77 | N22: =M22/1.19 -> 254704.85 | O22: 263922 | P22: =O22*1.052*1.051*1.0387 -> 303098.77 | Q22: =P22/1.19 -> 254704.85 | R22: 0 | S22: 303098.77 | T22: =S22/1.19 -> 254704.85 | U22: 303098.77 | V22: 254704.85
A23: 17 | B23: CAMBIO ARRANQUE MOTOR | C23: 263922 | D23: =C23*1.052*1.051*1.0387 -> 303098.77 | E23: =D23/1.19 -> 254704.85 | F23: 263922 | G23: =F23*1.052*1.051*1.0387 -> 303098.77 | H23: =G23/1.19 -> 254704.85 | I23: 263922 | J23: =I23*1.052*1.051*1.0387 -> 303098.77 | K23: =J23/1.19 -> 254704.85 | L23: 263922 | M23: =L23*1.052*1.051*1.0387 -> 303098.77 | N23: =M23/1.19 -> 254704.85 | O23: 263922 | P23: =O23*1.052*1.051*1.0387 -> 303098.77 | Q23: =P23/1.19 -> 254704.85 | R23: 0 | S23: 303098.77 | T23: =S23/1.19 -> 254704.85 | U23: 303098.77 | V23: 254704.85
A24: 18 | B24: CAMBIO BOBINAS | C24: 263922 | D24: =C24*1.052*1.051*1.0387 -> 303098.77 | E24: =D24/1.19 -> 254704.85 | F24: 263922 | G24: =F24*1.052*1.051*1.0387 -> 303098.77 | H24: =G24/1.19 -> 254704.85 | I24: 263922 | J24: =I24*1.052*1.051*1.0387 -> 303098.77 | K24: =J24/1.19 -> 254704.85 | L24: 0 | M24: =L24*1.052*1.051*1.0387 -> 0 | N24: =M24/1.19 -> 0 | O24: 0 | P24: =O24*1.052*1.051*1.0387 -> 0 | Q24: =P24/1.19 -> 0 | R24: 0 | S24: 0 | T24: =S24/1.19 -> 0 | U24: 0 | V24: 0
A25: 19 | B25: CAMBIO BOMBILLO EXPLORADORA | C25: 47736 | D25: =C25*1.052*1.051*1.0387 -> 54821.967 | E25: =D25/1.19 -> 46068.88 | F25: 47736 | G25: =F25*1.052*1.051*1.0387 -> 54821.967 | H25: =G25/1.19 -> 46068.88 | I25: 165157 | J25: =I25*1.052*1.051*1.0387 -> 189673.03 | K25: =J25/1.19 -> 159389.1 | L25: 165157 | M25: =L25*1.052*1.051*1.0387 -> 189673.03 | N25: =M25/1.19 -> 159389.1 | O25: 165158 | P25: =O25*1.052*1.051*1.0387 -> 189674.17 | Q25: =P25/1.19 -> 159390.06 | R25: 165158 | S25: 189674.17 | T25: =S25/1.19 -> 159390.06 | U25: 189674.17 | V25: 159390.06
A26: 20 | B26: CAMBIO BUJAS | C26: 192042 | D26: =C26*1.052*1.051*1.0387 -> 220548.86 | E26: =D26/1.19 -> 185335.17 | F26: 192042 | G26: =F26*1.052*1.051*1.0387 -> 220548.86 | H26: =G26/1.19 -> 185335.17 | I26: 192042 | J26: =I26*1.052*1.051*1.0387 -> 220548.86 | K26: =J26/1.19 -> 185335.17 | L26: 192042 | M26: =L26*1.052*1.051*1.0387 -> 220548.86 | N26: =M26/1.19 -> 185335.17 | O26: 192042 | P26: =O26*1.052*1.051*1.0387 -> 220548.86 | Q26: =P26/1.19 -> 185335.17 | R26: 0 | S26: 220548.86 | T26: =S26/1.19 -> 185335.17 | U26: 220548.86 | V26: 185335.17
A27: 21 | B27: CAMBIO DE SENSOR CMP | C27: 167900 | D27: =C27*1.052*1.051*1.0387 -> 192823.2 | E27: =D27/1.19 -> 162036.3 | F27: 167900 | G27: =F27*1.052*1.051*1.0387 -> 192823.2 | H27: =G27/1.19 -> 162036.3 | I27: 167900 | J27: =I27*1.052*1.051*1.0387 -> 192823.2 | K27: =J27/1.19 -> 162036.3 | L27: 167900 | M27: =L27*1.052*1.051*1.0387 -> 192823.2 | N27: =M27/1.19 -> 162036.3 | O27: 167900 | P27: =O27*1.052*1.051*1.0387 -> 192823.2 | Q27: =P27/1.19 -> 162036.3 | R27: 0 | S27: 192823.2 | T27: =S27/1.19 -> 162036.3 | U27: 192823.2 | V27: 162036.3
A28: 22 | B28: CAMBIO DE BATERIA | C28: 71878 | D28: =C28*1.052*1.051*1.0387 -> 82547.623 | E28: =D28/1.19 -> 69367.75 | F28: 71878 | G28: =F28*1.052*1.051*1.0387 -> 82547.623 | H28: =G28/1.19 -> 69367.75 | I28: 71878 | J28: =I28*1.052*1.051*1.0387 -> 82547.623 | K28: =J28/1.19 -> 69367.75 | L28: 71878 | M28: =L28*1.052*1.051*1.0387 -> 82547.623 | N28: =M28/1.19 -> 69367.75 | O28: 71878 | P28: =O28*1.052*1.051*1.0387 -> 82547.623 | Q28: =P28/1.19 -> 69367.75 | R28: 71878 | S28: 82547.623 | T28: =S28/1.19 -> 69367.75 | U28: 82547.623 | V28: 69367.75
A29: 23 | B29: CAMBIO DE BOMBILLO FAROLA | C29: 30178 | D29: =C29*1.052*1.051*1.0387 -> 34657.644 | E29: =D29/1.19 -> 29124.071 | F29: 30178 | G29: =F29*1.052*1.051*1.0387 -> 34657.644 | H29: =G29/1.19 -> 29124.071 | I29: 30178 | J29: =I29*1.052*1.051*1.0387 -> 34657.644 | K29: =J29/1.19 -> 29124.071 | L29: 30178 | M29: =L29*1.052*1.051*1.0387 -> 34657.644 | N29: =M29/1.19 -> 29124.071 | O29: 30178 | P29: =O29*1.052*1.051*1.0387 -> 34657.644 | Q29: =P29/1.19 -> 29124.071 | R29: 30178 | S29: 34657.644 | T29: =S29/1.19 -> 29124.071 | U29: 34657.644 | V29: 29124.071
A30: 24 | B30: CAMBIO DE BOMBILLO STOP | C30: 30178 | D30: =C30*1.052*1.051*1.0387 -> 34657.644 | E30: =D30/1.19 -> 29124.071 | F30: 30178 | G30: =F30*1.052*1.051*1.0387 -> 34657.644 | H30: =G30/1.19 -> 29124.071 | I30: 30178 | J30: =I30*1.052*1.051*1.0387 -> 34657.644 | K30: =J30/1.19 -> 29124.071 | L30: 30178 | M30: =L30*1.052*1.051*1.0387 -> 34657.644 | N30: =M30/1.19 -> 29124.071 | O30: 30178 | P30: =O30*1.052*1.051*1.0387 -> 34657.644 | Q30: =P30/1.19 -> 29124.071 | R30: 30178 | S30: 34657.644 | T30: =S30/1.19 -> 29124.071 | U30: 34657.644 | V30: 29124.071
A31: 25 | B31: CAMBIO DE BOTON ELEVAVIDRIO DELANTERO COPILOTO | C31: 167900 | D31: =C31*1.052*1.051*1.0387 -> 192823.2 | E31: =D31/1.19 -> 162036.3 | F31: 167900 | G31: =F31*1.052*1.051*1.0387 -> 192823.2 | H31: =G31/1.19 -> 162036.3 | I31: 167900 | J31: =I31*1.052*1.051*1.0387 -> 192823.2 | K31: =J31/1.19 -> 162036.3 | L31: 167900 | M31: =L31*1.052*1.051*1.0387 -> 192823.2 | N31: =M31/1.19 -> 162036.3 | O31: 167900 | P31: =O31*1.052*1.051*1.0387 -> 192823.2 | Q31: =P31/1.19 -> 162036.3 | R31: 0 | S31: 192823.2 | T31: =S31/1.19 -> 162036.3 | U31: 192823.2 | V31: 162036.3
A32: 26 | B32: CAMBIO DE BOTON ELEVAVIDRIO TRASERO | C32: 167900 | D32: =C32*1.052*1.051*1.0387 -> 192823.2 | E32: =D32/1.19 -> 162036.3 | F32: 0 | G32: =F32*1.052*1.051*1.0387 -> 0 | H32: =G32/1.19 -> 0 | I32: 167901 | J32: =I32*1.052*1.051*1.0387 -> 192824.35 | K32: =J32/1.19 -> 162037.27 | L32: 167902 | M32: =L32*1.052*1.051*1.0387 -> 192825.5 | N32: =M32/1.19 -> 162038.23 | O32: 0 | P32: =O32*1.052*1.051*1.0387 -> 0 | Q32: =P32/1.19 -> 0 | R32: 0 | S32: 0 | T32: =S32/1.19 -> 0 | U32: 0 | V32: 0
... A75: 69 | B75: SERVICIO SCANER DIAGNOSTICO DE CODIGOS | C75: 108093 | D75: =C75*1.052*1.051*1.0387 -> 124138.4 | E75: =D75/1.19 -> 104317.99 | F75: 108093 | G75: =F75*1.052*1.051*1.0387 -> 124138.4 | H75: =G75/1.19 -> 104317.99 | I75: 108093 | J75: =I75*1.052*1.051*1.0387 -> 124138.4 | K75: =J75/1.19 -> 104317.99 | L75: 108093 | M75: =L75*1.052*1.051*1.0387 -> 124138.4 | N75: =M75/1.19 -> 104317.99 | O75: 108093 | P75: =O75*1.052*1.051*1.0387 -> 124138.4 | Q75: =P75/1.19 -> 104317.99 | R75: 0 | S75: 124138.4 | T75: =S75/1.19 -> 104317.99 | U75: 124138.4 | V75: 104317.99
A76: ITEM Nº 4: MANO DE OBRA FRENOS | C76: 0 | D76: =C76*1.052*1.051*1.0387 -> 0 | E76: =D76/1.19 -> 0 | F76: 0 | G76: =F76*1.052*1.051*1.0387 -> 0 | H76: =G76/1.19 -> 0 | I76: 0 | J76: =I76*1.052*1.051*1.0387 -> 0 | K76: =J76/1.19 -> 0 | L76: 0 | M76: =L76*1.052*1.051*1.0387 -> 0 | N76: =M76/1.19 -> 0 | O76: 0 | P76: =O76*1.052*1.051*1.0387 -> 0 | Q76: =P76/1.19 -> 0 | R76: 0 | S76: 0 | T76: =S76/1.19 -> 0 | U76: 0 | V76: 0
A77: 70 | B77: CAMBIO BANDAS - JUEGO | C77: 287515 | D77: =C77*1.052*1.051*1.0387 -> 330193.94 | E77: =D77/1.19 -> 277473.9 | F77: 287515 | G77: =F77*1.052*1.051*1.0387 -> 330193.94 | H77: =G77/1.19 -> 277473.9 | I77: 287515 | J77: =I77*1.052*1.051*1.0387 -> 330193.94 | K77: =J77/1.19 -> 277473.9 | L77: 287515 | M77: =L77*1.052*1.051*1.0387 -> 330193.94 | N77: =M77/1.19 -> 277473.9 | O77: 287515 | P77: =O77*1.052*1.051*1.0387 -> 330193.94 | Q77: =P77/1.19 -> 277473.9 | R77: 287515 | S77: 330193.94 | T77: =S77/1.19 -> 277473.9 | U77: 330193.94 | V77: 277473.9
A78: 71 | B78: CAMBIO CAMPANA UN LADO | C78: 167900 | D78: =C78*1.052*1.051*1.0387 -> 192823.2 | E78: =D78/1.19 -> 162036.3 | F78: 167900 | G78: =F78*1.052*1.051*1.0387 -> 192823.2 | H78: =G78/1.19 -> 162036.3 | I78: 167900 | J78: =I78*1.052*1.051*1.0387 -> 192823.2 | K78: =J78/1.19 -> 162036.3 | L78: 167900 | M78: =L78*1.052*1.051*1.0387 -> 192823.2 | N78: =M78/1.19 -> 162036.3 | O78: 167900 | P78: =O78*1.052*1.051*1.0387 -> 192823.2 | Q78: =P78/1.19 -> 162036.3 | R78: 167900 | S78: 192823.2 | T78: =S78/1.19 -> 162036.3 | U78: 192823.2 | V78: 162036.3
A79: 72 | B79: CAMBIO CILINDRO FRENO RUEDA TRASERA UN LADO | C79: 287515 | D79: =C79*1.052*1.051*1.0387 -> 330193.94 | E79: =D79/1.19 -> 277473.9 | F79: 287515 | G79: =F79*1.052*1.051*1.0387 -> 330193.94 | H79: =G79/1.19 -> 277473.9 | I79: 287515 | J79: =I79*1.052*1.051*1.0387 -> 330193.94 | K79: =J79/1.19 -> 277473.9 | L79: 287515 | M79: =L79*1.052*1.051*1.0387 -> 330193.94 | N79: =M79/1.19 -> 277473.9 | O79: 287515 | P79: =O79*1.052*1.051*1.0387 -> 330193.94 | Q79: =P79/1.19 -> 277473.9 | R79: 0 | S79: 330193.94 | T79: =S79/1.19 -> 277473.9 | U79: 330193.94 | V79: 277473.9
A80: 73 | B80: CAMBIO DE BANDAS/PASTILLAS TRASERAS | C80: 192042 | D80: =C80*1.052*1.051*1.0387 -> 220548.86 | E80: =D80/1.19 -> 185335.17 | F80: 192042 | G80: =F80*1.052*1.051*1.0387 -> 220548.86 | H80: =G80/1.19 -> 185335.17 | I80: 192042 | J80: =I80*1.052*1.051*1.0387 -> 220548.86 | K80: =J80/1.19 -> 185335.17 | L80: 192042 | M80: =L80*1.052*1.051*1.0387 -> 220548.86 | N80: =M80/1.19 -> 185335.17 | O80: 192042 | P80: =O80*1.052*1.051*1.0387 -> 220548.86 | Q80: =P80/1.19 -> 185335.17 | R80: 208503 | S80: 220548.86 | T80: =S80/1.19 -> 185335.17 | U80: 220548.86 | V80: 185335.17
A81: 74 | B81: CAMBIO DE LIQUIDO DE FRENOS (Incluido en el valor de cambio de pastillas, discos, bandas y/o zapatas) | C81: 167900 | D81: =C81*1.052*1.051*1.0387 -> 192823.2 | E81: =D81/1.19 -> 162036.3 | F81: 167900 | G81: =F81*1.052*1.051*1.0387 -> 192823.2 | H81: =G81/1.19 -> 162036.3 | I81: 167900 | J81: =I81*1.052*1.051*1.0387 -> 192823.2 | K81: =J81/1.19 -> 162036.3 | L81: 167900 | M81: =L81*1.052*1.051*1.0387 -> 192823.2 | N81: =M81/1.19 -> 162036.3 | O81: 167900 | P81: =O81*1.052*1.051*1.0387 -> 192823.2 | Q81: =P81/1.19 -> 162036.3 | R81: 0 | S81: 192823.2 | T81: =S81/1.19 -> 162036.3 | U81: 192823.2 | V81: 162036.3
A82: 75 | B82: CAMBIO DE MORDAZA FRENOS UN LADO | C82: 227707 | D82: =C82*1.052*1.051*1.0387 -> 261507.99 | E82: =D82/1.19 -> 219754.62 | F82: 227707 | G82: =F82*1.052*1.051*1.0387 -> 261507.99 | H82: =G82/1.19 -> 219754.62 | I82: 227707 | J82: =I82*1.052*1.051*1.0387 -> 261507.99 | K82: =J82/1.19 -> 219754.62 | L82: 227707 | M82: =L82*1.052*1.051*1.0387 -> 261507.99 | N82: =M82/1.19 -> 219754.62 | O82: 227707 | P82: =O82*1.052*1.051*1.0387 -> 261507.99 | Q82: =P82/1.19 -> 219754.62 | R82: 0 | S82: 261507.99 | T82: =S82/1.19 -> 219754.62 | U82: 261507.99 | V82: 219754.62
A83: 76 | B83: CAMBIO DE PASTILLAS DELANTERAS | C83: 167900 | D83: =C83*1.052*1.051*1.0387 -> 192823.2 | E83: =D83/1.19 -> 162036.3 | F83: 167900 | G83: =F83*1.052*1.051*1.0387 -> 192823.2 | H83: =G83/1.19 -> 162036.3 | I83: 167900 | J83: =I83*1.052*1.051*1.0387 -> 192823.2 | K83: =J83/1.19 -> 162036.3 | L83: 167900 | M83: =L83*1.052*1.051*1.0387 -> 192823.2 | N83: =M83/1.19 -> 162036.3 | O83: 167900 | P83: =O83*1.052*1.051*1.0387 -> 192823.2 | Q83: =P83/1.19 -> 162036.3 | R83: 167900 | S83: 192823.2 | T83: =S83/1.19 -> 162036.3 | U83: 192823.2 | V83: 162036.3
A84: 77 | B84: CAMBIO DISCO FRENO DELANTERO UN LADO | C84: 227707 | D84: =C84*1.052*1.051*1.0387 -> 261507.99 | E84: =D84/1.19 -> 219754.62 | F84: 227707 | G84: =F84*1.052*1.051*1.0387 -> 261507.99 | H84: =G84/1.19 -> 219754.62 | I84: 227707 | J84: =I84*1.052*1.051*1.0387 -> 261507.99 | K84: =J84/1.19 -> 219754.62 | L84: 227707 | M84: =L84*1.052*1.051*1.0387 -> 261507.99 | N84: =M84/1.19 -> 219754.62 | O84: 227707 | P84: =O84*1.052*1.051*1.0387 -> 261507.99 | Q84: =P84/1.19 -> 219754.62 | R84: 227707 | S84: 261507.99 | T84: =S84/1.19 -> 219754.62 | U84: 261507.99 | V84: 219754.62
A85: 78 | B85: CAMBIO DISCO FRENO TRASERO UN LADO | C85: 0 | D85: =C85*1.052*1.051*1.0387 -> 0 | E85: =D85/1.19 -> 0 | F85: 0 | G85: =F85*1.052*1.051*1.0387 -> 0 | H85: =G85/1.19 -> 0 | I85: 208504 | J85: =I85*1.052*1.051*1.0387 -> 239454.49 | K85: =J85/1.19 -> 201222.26 | L85: 208504 | M85: =L85*1.052*1.051*1.0387 -> 239454.49 | N85: =M85/1.19 -> 201222.26 | O85: 0 | P85: =O85*1.052*1.051*1.0387 -> 0 | Q85: =P85/1.19 -> 0 | R85: 0 | S85: 0 | T85: =S85/1.19 -> 0 | U85: 0 | V85: 0
...

Sheet OFERTA REPUESTOS  
A1: PRECIOS DE REFERENCIA REPUESTOS Y CONSUMIBLES (INDEXACIÓN SERIE DE EMPALME)
D3: HYUNDAI ACCENT GL I25 SEDAN MODELO 2013 - GASOLINA | G3: CHEVROLET JOY SEDAN MODELO 2022 - GASOLINA | J3: TOYOTA 4 RUNNER STATION WAGON MODELO 2009 - GASOLINA | M3: TOYOTA PRADO TX CAMPERO MODELO 2015 - DIESEL | P3: CHEVROLET VITARA 1.600 C.C. CAMPERO MODELO 2007 - GASOLINA | S3: "FORD RANGER XLT AT 4X4 MODELO 2023 - DIESEL" | V3: CHEVROLET COLORADO 4X4 MODELO 2026 - DIESEL
A4: No. | B4: DESCRIPCION | C4: TIPO | D4: Valor de referencia con IVA 2024 | E4: Valor con IVA ajustado con serie de empalme a 2026 | F4: VALOR ANTES DE IVA 2026 | G4: Valor de referencia con IVA 2024 | H4: Valor con IVA ajustado con serie de empalme a 2026 | I4: VALOR ANTES DE IVA 2026 | J4: Valor de referencia con IVA 2024 | K4: Valor con IVA ajustado con serie de empalme a 2026 | L4: Valor con IVA ajustado con serie de empalme a 2026 | M4: Valor de referencia con IVA 2024 | N4: Valor con IVA ajustado con serie de empalme a 2026 | O4: Valor con IVA ajustado con serie de empalme a 2026 | P4: Valor de referencia con IVA 2024 | Q4: Valor con IVA ajustado con serie de empalme a 2026 | R4: Valor con IVA ajustado con serie de empalme a 2026 | S4: Valor de referencia con IVA 2024 | T4: Valor con IVA ajustado con serie de empalme a 2026 | U4: Valor con IVA ajustado con serie de empalme a 2026 | V4: Valor con IVA ajustado con serie de empalme a 2026 | W4: VALOR ANTES DE IVA 2026
A5: 1 | B5: 1/4 ACEITE CAJA | C5: INSUMO | D5: 25005 | E5: =D5*('SERIE DE EMPALME'!$Y$13/'SERIE DE EMPALME'!$W$20) -> 27423.664 | F5: =E5/1.19 -> 23045.096 | G5: 25005 | H5: =G5*('SERIE DE EMPALME'!$Y$13/'SERIE DE EMPALME'!$W$20) -> 27423.664 | I5: =H5/1.19 -> 23045.096 | J5: 25005 | K5: =J5*('SERIE DE EMPALME'!$Y$13/'SERIE DE EMPALME'!$W$20) -> 27423.664 | L5: =K5/1.19 -> 23045.096 | M5: 25005 | N5: =M5*('SERIE DE EMPALME'!$Y$13/'SERIE DE EMPALME'!$W$20) -> 27423.664 | O5: =N5/1.19 -> 23045.096 | P5: 25005 | Q5: =P5*('SERIE DE EMPALME'!$Y$13/'SERIE DE EMPALME'!$W$20) -> 27423.664 | R5: =Q5/1.19 -> 23045.096 | S5: 0 | T5: =S5*('SERIE DE EMPALME'!$Y$13/'SERIE DE EMPALME'!$W$20) -> 0 | U5: =T5/1.19 -> 0 | W5: =V5/1.19 -> 0
A6: 2 | B6: 1/4 ACEITE HIDRAULICO DIRECCION | C6: INSUMO | D6: 25005 | E6: =D6*('SERIE DE EMPALME'!$Y$13/'SERIE DE EMPALME'!$W$20) -> 27423.664 | F6: =E6/1.19 -> 23045.096 | G6: 25005 | H6: =G6*('SERIE DE EMPALME'!$Y$13/'SERIE DE EMPALME'!$W$20) -> 27423.664 | I6: =H6/1.19 -> 23045.096 | J6: 25005 | K6: =J6*('SERIE DE EMPALME'!$Y$13/'SERIE DE EMPALME'!$W$20) -> 27423.664 | L6: =K6/1.19 -> 23045.096 | M6: 25005 | N6: =M6*('SERIE DE EMPALME'!$Y$13/'SERIE DE EMPALME'!$W$20) -> 27423.664 | O6: =N6/1.19 -> 23045.096 | P6: 25005 | Q6: =P6*('SERIE DE EMPALME'!$Y$13/'SERIE DE EMPALME'!$W$20) -> 27423.664 | R6: =Q6/1.19 -> 23045.096 | S6: 0 | T6: =S6*('SERIE DE EMPALME'!$Y$13/'SERIE DE EMPALME'!$W$20) -> 0 | U6: =T6/1.19 -> 0 | W6: =V6/1.19 -> 0
A7: 3 | B7: 1/4 ACEITE MOTOR | C7: INSUMO | D7: 25005 | E7: =D7*('SERIE DE EMPALME'!$Y$13/'SERIE DE EMPALME'!$W$20) -> 27423.664 | F7: =E7/1.19 -> 23045.096 | G7: 25005 | H7: =G7*('SERIE DE EMPALME'!$Y$13/'SERIE DE EMPALME'!$W$20) -> 27423.664 | I7: =H7/1.19 -> 23045.096 | J7: 25005 | K7: =J7*('SERIE DE EMPALME'!$Y$13/'SERIE DE EMPALME'!$W$20) -> 27423.664 | L7: =K7/1.19 -> 23045.096 | M7: 25005 | N7: =M7*('SERIE DE EMPALME'!$Y$13/'SERIE DE EMPALME'!$W$20) -> 27423.664 | O7: =N7/1.19 -> 23045.096 | P7: 25005 | Q7: =P7*('SERIE DE EMPALME'!$Y$13/'SERIE DE EMPALME'!$W$20) -> 27423.664 | R7: =Q7/1.19 -> 23045.096 | S7: 0 | T7: =S7*('SERIE DE EMPALME'!$Y$13/'SERIE DE EMPALME'!$W$20) -> 0 | U7: =T7/1.19 -> 0 | W7: =V7/1.19 -> 0
A8: 4 | B8: 1/4 ACEITE TRANSMISIÓN | C8: INSUMO | D8: 25005 | E8: =D8*('SERIE DE EMPALME'!$Y$13/'SERIE DE EMPALME'!$W$20) -> 27423.664 | F8: =E8/1.19 -> 23045.096 | G8: 25005 | H8: =G8*('SERIE DE EMPALME'!$Y$13/'SERIE DE EMPALME'!$W$20) -> 27423.664 | I8: =H8/1.19 -> 23045.096 | J8: 25005 | K8: =J8*('SERIE DE EMPALME'!$Y$13/'SERIE DE EMPALME'!$W$20) -> 27423.664 | L8: =K8/1.19 -> 23045.096 | M8: 25005 | N8: =M8*('SERIE DE EMPALME'!$Y$13/'SERIE DE EMPALME'!$W$20) -> 27423.664 | O8: =N8/1.19 -> 23045.096 | P8: 25005 | Q8: =P8*('SERIE DE EMPALME'!$Y$13/'SERIE DE EMPALME'!$W$20) -> 27423.664 | R8: =Q8/1.19 -> 23045.096 | S8: 0 | T8: =S8*('SERIE DE EMPALME'!$Y$13/'SERIE DE EMPALME'!$W$20) -> 0 | U8: =T8/1.19 -> 0 | W8: =V8/1.19 -> 0
A9: 5 | B9: 1/4 VALVULINA | C9: INSUMO | D9: 25005 | E9: =D9*('SERIE DE EMPALME'!$Y$13/'SERIE DE EMPALME'!$W$20) -> 27423.664 | F9: =E9/1.19 -> 23045.096 | G9: 25005 | H9: =G9*('SERIE DE EMPALME'!$Y$13/'SERIE DE EMPALME'!$W$20) -> 27423.664 | I9: =H9/1.19 -> 23045.096 | J9: 25005 | K9: =J9*('SERIE DE EMPALME'!$Y$13/'SERIE DE EMPALME'!$W$20) -> 27423.664 | L9: =K9/1.19 -> 23045.096 | M9: 25005 | N9: =M9*('SERIE DE EMPALME'!$Y$13/'SERIE DE EMPALME'!$W$20) -> 27423.664 | O9: =N9/1.19 -> 23045.096 | P9: 25005 | Q9: =P9*('SERIE DE EMPALME'!$Y$13/'SERIE DE EMPALME'!$W$20) -> 27423.664 | R9: =Q9/1.19 -> 23045.096 | S9: 0 | T9: =S9*('SERIE DE EMPALME'!$Y$13/'SERIE DE EMPALME'!$W$20) -> 0 | U9: =T9/1.19 -> 0 | W9: =V9/1.19 -> 0
A10: 6 | B10: ABRAZADERA METALICA GRANDE | C10: INSUMO | D10: 9024 | E10: =D10*('SERIE DE EMPALME'!$Y$13/'SERIE DE EMPALME'!$W$20) -> 9896.8665 | F10: =E10/1.19 -> 8316.6945 | G10: 9024 | H10: =G10*('SERIE DE EMPALME'!$Y$13/'SERIE DE EMPALME'!$W$20) -> 9896.8665 | I10: =H10/1.19 -> 8316.6945 | J10: 9024 | K10: =J10*('SERIE DE EMPALME'!$Y$13/'SERIE DE EMPALME'!$W$20) -> 9896.8665 | L10: =K10/1.19 -> 8316.6945 | M10: 9024 | N10: =M10*('SERIE DE EMPALME'!$Y$13/'SERIE DE EMPALME'!$W$20) -> 9896.8665 | O10: =N10/1.19 -> 8316.6945 | P10: 9024 | Q10: =P10*('SERIE DE EMPALME'!$Y$13/'SERIE DE EMPALME'!$W$20) -> 9896.8665 | R10: =Q10/1.19 -> 8316.6945 | S10: 9024 | T10: =S10*('SERIE DE EMPALME'!$Y$13/'SERIE DE EMPALME'!$W$20) -> 9896.8665 | U10: =T10/1.19 -> 8316.6945 | W10: =V10/1.19 -> 0
A11: 7 | B11: ABRAZADERA METALICA PEQUEÑA | C11: INSUMO | D11: 7073 | E11: =D11*('SERIE DE EMPALME'!$Y$13/'SERIE DE EMPALME'!$W$20) -> 7757.1516 | F11: =E11/1.19 -> 6518.6148 | G11: 7073 | H11: =G11*('SERIE DE EMPALME'!$Y$13/'SERIE DE EMPALME'!$W$20) -> 7757.1516 | I11: =H11/1.19 -> 6518.6148 | J11: 7073 | K11: =J11*('SERIE DE EMPALME'!$Y$13/'SERIE DE EMPALME'!$W$20) -> 7757.1516 | L11: =K11/1.19 -> 6518.6148 | M11: 7073 | N11: =M11*('SERIE DE EMPALME'!$Y$13/'SERIE DE EMPALME'!$W$20) -> 7757.1516 | O11: =N11/1.19 -> 6518.6148 | P11: 7073 | Q11: =P11*('SERIE DE EMPALME'!$Y$13/'SERIE DE EMPALME'!$W$20) -> 7757.1516 | R11: =Q11/1.19 -> 6518.6148 | S11: 7073 | T11: =S11*('SERIE DE EMPALME'!$Y$13/'SERIE DE EMPALME'!$W$20) -> 7757.1516 | U11: =T11/1.19 -> 6518.6148 | W11: =V11/1.19 -> 0
A12: 8 | B12: ABRAZADERA PLASTICA GRANDE | C12: INSUMO | D12: 4634 | E12: =D12*('SERIE DE EMPALME'!$Y$13/'SERIE DE EMPALME'!$W$20) -> 5082.2339 | F12: =E12/1.19 -> 4270.7848 | G12: 4634 | H12: =G12*('SERIE DE EMPALME'!$Y$13/'SERIE DE EMPALME'!$W$20) -> 5082.2339 | I12: =H12/1.19 -> 4270.7848 | J12: 4634 | K12: =J12*('SERIE DE EMPALME'!$Y$13/'SERIE DE EMPALME'!$W$20) -> 5082.2339 | L12: =K12/1.19 -> 4270.7848 | M12: 4634 | N12: =M12*('SERIE DE EMPALME'!$Y$13/'SERIE DE EMPALME'!$W$20) -> 5082.2339 | O12: =N12/1.19 -> 4270.7848 | P12: 4634 | Q12: =P12*('SERIE DE EMPALME'!$Y$13/'SERIE DE EMPALME'!$W$20) -> 5082.2339 | R12: =Q12/1.19 -> 4270.7848 | S12: 4634 | T12: =S12*('SERIE DE EMPALME'!$Y$13/'SERIE DE EMPALME'!$W$20) -> 5082.2339 | U12: =T12/1.19 -> 4270.7848 | W12: =V12/1.19 -> 0
A13: 9 | B13: ABRAZADERA PLASTICA MEDIANA | C13: INSUMO | D13: 3658 | E13: =D13*('SERIE DE EMPALME'!$Y$13/'SERIE DE EMPALME'!$W$20) -> 4011.8282 | F13: =E13/1.19 -> 3371.2842 | G13: 3658 | H13: =G13*('SERIE DE EMPALME'!$Y$13/'SERIE DE EMPALME'!$W$20) -> 4011.8282 | I13: =H13/1.19 -> 3371.2842 | J13: 3658 | K13: =J13*('SERIE DE EMPALME'!$Y$13/'SERIE DE EMPALME'!$W$20) -> 4011.8282 | L13: =K13/1.19 -> 3371.2842 | M13: 3658 | N13: =M13*('SERIE DE EMPALME'!$Y$13/'SERIE DE EMPALME'!$W$20) -> 4011.8282 | O13: =N13/1.19 -> 3371.2842 | P13: 3658 | Q13: =P13*('SERIE DE EMPALME'!$Y$13/'SERIE DE EMPALME'!$W$20) -> 4011.8282 | R13: =Q13/1.19 -> 3371.2842 | S13: 3658 | T13: =S13*('SERIE DE EMPALME'!$Y$13/'SERIE DE EMPALME'!$W$20) -> 4011.8282 | U13: =T13/1.19 -> 3371.2842 | W13: =V13/1.19 -> 0
A14: 10 | B14: ADBLUE (UREA x LITRO) | C14: INSUMO | D14: 0 | E14: =D14*('SERIE DE EMPALME'!$Y$13/'SERIE DE EMPALME'!$W$20) -> 0 | F14: =E14/1.19 -> 0 | G14: 0 | H14: =G14*('SERIE DE EMPALME'!$Y$13/'SERIE DE EMPALME'!$W$20) -> 0 | I14: =H14/1.19 -> 0 | J14: 0 | K14: =J14*('SERIE DE EMPALME'!$Y$13/'SERIE DE EMPALME'!$W$20) -> 0 | L14: =K14/1.19 -> 0 | M14: 0 | N14: =M14*('SERIE DE EMPALME'!$Y$13/'SERIE DE EMPALME'!$W$20) -> 0 | O14: =N14/1.19 -> 0 | P14: 0 | Q14: =P14*('SERIE DE EMPALME'!$Y$13/'SERIE DE EMPALME'!$W$20) -> 0 | R14: =Q14/1.19 -> 0 | S14: 63413 | T14: =S14*('SERIE DE EMPALME'!$Y$13/'SERIE DE EMPALME'!$W$20) -> 69546.763 | U14: =T14/1.19 -> 58442.658 | V14: 69547 | W14: =V14/1.19 -> 58442.857
A15: 11 | B15: ADITIVO LIMPIADOR DE INYECTORES | C15: INSUMO | D15: 61950 | E15: =D15*('SERIE DE EMPALME'!$Y$13/'SERIE DE EMPALME'!$W$20) -> 67942.251 | F15: =E15/1.19 -> 57094.329 | G15: 61950 | H15: =G15*('SERIE DE EMPALME'!$Y$13/'SERIE DE EMPALME'!$W$20) -> 67942.251 | I15: =H15/1.19 -> 57094.329 | J15: 61950 | K15: =J15*('SERIE DE EMPALME'!$Y$13/'SERIE DE EMPALME'!$W$20) -> 67942.251 | L15: =K15/1.19 -> 57094.329 | M15: 61950 | N15: =M15*('SERIE DE EMPALME'!$Y$13/'SERIE DE EMPALME'!$W$20) -> 67942.251 | O15: =N15/1.19 -> 57094.329 | P15: 61950 | Q15: =P15*('SERIE DE EMPALME'!$Y$13/'SERIE DE EMPALME'!$W$20) -> 67942.251 | R15: =Q15/1.19 -> 57094.329 | S15: 0 | T15: =S15*('SERIE DE EMPALME'!$Y$13/'SERIE DE EMPALME'!$W$20) -> 0 | U15: =T15/1.19 -> 0 | W15: =V15/1.19 -> 0
