Workbook
Name _670_1200_40: '[1]CONTROL DE PAGOS - OCT 20'!#REF!
Name _670_1200_40: '[1]CONTROL DE PAGOS - OCT 20'!#REF!
Name CONTRATO: 'Indice Informe Financiero'!$D$10
Name FECHA: 'Indice Informe Financiero'!$M$14
Name MATRIZBASE: [2]CONSOLIDADO!$A$3:$AG$98
Name MATRIZBASE: #REF!
Name MATRIZBASE: #REF!
Name MATRIZBASE: [3]CONSOLIDADO!$A$3:$AI$124
Name OBRA: '[2]PAGOS OBRA'!$A$3:$B$93
Name OBRA: '[2]PAGOS OBRA'!$A$3:$B$93
Name OBRA: '[2]PAGOS OBRA'!$A$3:$B$93
Name OBRA: '[3]PAGOS OBRA'!$A$3:$B$94
Name periodo: [4]INFORME!$D$14
Name periodo: 'Indice Informe Financiero'!$D$14
Name RENDIMIENTOS: '6.Reportes de Pagos'!#REF!
Name RENDIMIENTOS: '6.Reportes de Pagos'!#REF!
Name VLMAYPERM: '4.E.F. Contratación Derivada'!$X$33
Name VRASITENCIA: '[4]REMUNERACIÓN FINDETER'!$F$17
Name VRCOMPROMISOS: '4.E.F. Contratación Derivada'!$H$33
Name VRCONTRATOS: '[4]CONTROL CONTRATOS'!$T$30
Name VRCONTRATOS: '4.E.F. Contratación Derivada'!$Y$33
Name VRCXCCTO: '[4]CONTROL CONTRATOS'!$AC$30
Name VRCXCCTO: '4.E.F. Contratación Derivada'!#REF!
Name VRFACT: '5.Pagos Asistencia Ténica'!$G$50
Name VRFINDETER: '[4]REMUNERACIÓN FINDETER'!$C$17
Name VRFINDETER: '5.Pagos Asistencia Ténica'!$E$50
Name VRLIBERACIONES: '4.E.F. Contratación Derivada'!$AK$33
Name VRPAGOSCTOS: '[4]CONTROL CONTRATOS'!$AA$30
Name VRPAGOSCTOS: '4.E.F. Contratación Derivada'!$AI$33
Name VRRTEGTIACTO: '[4]CONTROL CONTRATOS'!$AB$30
Name VRRTEGTIACTO: '4.E.F. Contratación Derivada'!$AJ$33

Sheet Indice Informe Financiero
A8: INFORME FINANCIERO
A10: Contrato: | D10: Contrato Interadministrativo No. CO1.PCCNTR. 4917031
A11: Fecha firma: | D11: 5 de mayo de 2023
A12: Cliente: | D12: Ministerio de Educación Nacional
A14: Peridodo Informe: | D14: 01 de mayo al 31 de mayo de 2026 | M14: 46142
A16: Anexos:
A17: 0 | D17: Ficha Técnica
A18: 1 | D18: Resumen Financiero del Contrato
A19: 2 | D19: Resumen Presupuestal
A20: 3 | D20: Ingresos del Contrato
A21: 4 | D21: Ejecución Financiera Contratación Derivada
A22: 5 | D22: Pagos Asistencia Ténica
A23: 6 | D23: Reportes de Pagos
A24: 7 | D24: Rendimientos Financieros

Sheet 0.Ficha Técnica
A1: =CONTRATO -> Contrato Interadministrativo No. CO1.PCCNTR. 4917031
A2: Ministerio de Educación Nacional
A3: Financiera del Desarrollo S.A.
A4: 0. FICHA TECNICA
A7: No. | B7: No. Contrato o Convenio Interadministrativo | C7: Objeto del Contrato o Convenio | D7: Entidad | E7: NIT | F7: Estado del Contrato | G7: Sector | H7: Fecha de Suscripción | I7: Valor Inicial | J7: Fecha de Terminación inicial | K7: Cuenta Bancaria | L7: FONDO DE INVERION COLECTIVA - FIC | M7: Modificacion No. 1 | Q7: Modificacion No. 2 | U7: Modificacion No. 3 | Y7: Modificacion No. 4 | AC7: Modificacion No. 5 | AG7: Modificacion No. 6 | AK7: Modificacion No. 7 | AO7: Modificacion No. 8 | AS7: Modificacion No. 9 | AW7: Modificacion No. 10 | BA7: Modificacion No. 11 | BE7: Modificacion No. 12 | BI7: Valor Total Adiciones | BJ7: Valor Final Contrato | BK7: Fecha de Terminación Final | BL7: Fecha Liquidación
M8: Fecha | N8: Objeto Modificación | O8: Adición | P8: Prórroga | Q8: Fecha | R8: Objeto Modificación | S8: Adición | T8: Prórroga | U8: Fecha | V8: Objeto Modificación | W8: Adición | X8: Prórroga | Y8: Fecha | Z8: Objeto Modificación | AA8: Adición | AB8: Prórroga | AC8: Fecha | AD8: Objeto Modificación | AE8: Adición | AF8: Prórroga | AG8: Fecha | AH8: Objeto Modificación | AI8: Adición | AJ8: Prórroga | AK8: Fecha | AL8: Objeto Modificación | AM8: Adición | AN8: Prórroga | AO8: Fecha | AP8: Objeto Modificación | AQ8: Adición | AR8: Prórroga | AS8: Fecha | AT8: Objeto Modificación | AU8: Adición | AV8: Prórroga | AW8: Fecha | AX8: Objeto Modificación | AY8: Adición | AZ8: Prórroga | BA8: Fecha | BB8: Objeto Modificación | BC8: Adición | BD8: Prórroga | BE8: Fecha | BF8: Objeto Modificación | BG8: Adición | BH8: Prórroga
A9: 1 | B9: CO1.PCCNTR. 4917031 DE 2023 | C9: BRINDAR ASISTENCIA TÉCNICA Y ADMINISTRACIÓN DE RECURSOS PARA ATENDER LAS NECESIDADES PRIORITARIAS EN INFRAESTRUCTURA Y DOTACIÓN DE MOBILIARIO ESCOLAR DE LAS SEDES EDUCATIVAS AFECTADAS POR LA TEMPORADA DE LLUVIAS QUE SEAN DEFINIDAS POR EL MINISTERIO DE EDUCACIÓN. | D9: MINISTERIO DE EDUCACION NACIONAL | E9: 899.999.001-7 | F9: VIGENTE | G9: EDUCACION | H9: =+'Indice Informe Financiero'!D11 -> 5 de mayo de 2023 | I9: 63650000000 | J9: 45231 | K9: BANCO POPULAR AHORROS No. 500-804-65045-0 | L9: FIDULIQUIDEZ No. 70083604683-6 | M9: 45231 | N9: El plazo previsto para la ejecución del contrato interadministrativo será a partir del cumplimiento de los requisitos de perfeccionamiento y ejecución, hasta el 01 de noviembre de 2024, plazo en el que se debe llevar a cabo la ejecución física del contrato y la liquidación de la contratación derivada que suscriba FINDETER. | O9: 0 | P9: 01/11/20224 | Q9: 45597 | R9: El plazo previsto para la ejecución del contrato interadministrativo será a partir del cumplimiento de los requisitos de perfeccionamiento y ejecución, hasta el 01 de julio de 2025, plazo en el que se debe llevar a cabo la ejecución física del contrato y la liquidación de la contratación derivada que suscriba FINDETER. | S9: 0 | T9: 45839 | U9: 45835 | V9: El plazo previsto para la ejecución del contrato interadministrativo será a partir del cumplimiento de los requisitos de perfeccionamiento y ejecución, hasta el 01 de mayo de 2026, plazo en el que se debe llevar a cabo la ejecución física del contrato y la liquidación de la contratación derivada que suscriba FINDETER. | W9: 0 | X9: 46143 | AC9: - | AD9: - | AE9: 0 | AF9: - | AG9: - | AH9: - | AI9: 0 | AJ9: - | AK9: - | AL9: - | AM9: 0 | AN9: - | AO9: - | AP9: - | AQ9: 0 | AR9: - | AS9: - | AT9: - | AU9: 0 | AV9: - | AW9: - | AX9: 0 | AY9: 0 | AZ9: - | BA9: - | BB9: - | BC9: 0 | BD9: - | BE9: - | BF9: - | BG9: 0 | BH9: - | BI9: =+S9+W9+AA9+O9 -> 0 | BJ9: =+I9+BI9 -> 63650000000 | BK9: =+X9 -> 46143 | BL9: N/A

Sheet 1.Resumen Financiero Contrato
A1: =CONTRATO -> Contrato Interadministrativo No. CO1.PCCNTR. 4917031
A2: Ministerio de Educación Nacional
A3: Financiera del Desarrollo S.A.
A4: 1. RESUMEN FINANCIERO DEL CONTRATO
A5: =periodo -> 01 de mayo al 31 de mayo de 2026
A7: FECHA | B7: CONTRATO | C7: 1. DESEMBOLSOS (+) | F7: 2. PAGOS (-) | I7: 3. RENDIMIENTOS, VALORACION Y DESVALORIZACION (+) | M7: 4. SALDO DISPONIBLE EN CUENTAS CONTRATO Y/O CONVENIO (1.3 - 2.3 + 3.4) | N7: Saldo Extracto (Cuenta Bancaria + FIC) | O7: Partidas Conciliatorias Fiduciaria (*)
C8: 1.1. DESEMBOLSOS ACUMULADOS MES ANTERIOR | D8: 1.2. DESEMBOLSOS MES ACTUAL | E8: 1.3. SALDO ACUMULADO MES ACTUAL (1.1 + 1.2 ) | F8: 2.1. PAGOS ACUMULADOS MES ANTERIOR (VALOR NETO) | G8: 2.2. PAGADO MES ACTUAL (VALOR NETO) | H8: 2.3. PAGOS ACUMULADOS MES ACTUAL (VALOR NETO) (2.1. + 2.2) | I8: 3.1. RENDIMIENTOS, VALORACION Y DESVALORIZACION ACUMULADOS MES ANTERIOR | J8: 3.2. RENDIMIENTOS, VALORACION Y DESVALORIZACION GENERADOS MES ACTUAL | K8: 3.3. (MENOS) REINTEGRO DE RENDIMIENTOS | L8: 3.4. SALDO DE RENDIMIENTOS, VALORACION Y DESVALORIZACION ACUMULADA (3.1. + 3.2. - 3.3)
A9: 45291 | B9: CO1.PCCNTR. 4917031 DE 2023 | C9: =SUMIFS('3.Ingresos del Contrato'!J:J,'3.Ingresos del Contrato'!H:H,"<="&(EOMONTH($A9,-1))) -> 63650000000 | D9: =SUMIFS('3.Ingresos del Contrato'!J:J,'3.Ingresos del Contrato'!H:H,">"&(EOMONTH($A9,-1)),'3.Ingresos del Contrato'!H:H,"<="&(EOMONTH($A9,0))) -> 0 | E9: =SUM(C9:D9) -> 63650000000 | F9: =SUMIFS('6.Reportes de Pagos'!N:N,'6.Reportes de Pagos'!H:H,"<="&(EOMONTH($A9,-1))) -> 0 | G9: =SUMIFS('6.Reportes de Pagos'!N:N,'6.Reportes de Pagos'!H:H,">"&(EOMONTH($A9,-1)),'6.Reportes de Pagos'!H:H,"<="&(EOMONTH($A9,0))) -> 0 | H9: =SUM(F9:G9) -> 0 | I9: =SUMIFS('7.Rendimientos Financieros'!D:D,'7.Rendimientos Financieros'!A:A,"<="&(EOMONTH($A9,-1))) -> 2.6151495e+09 | J9: =SUMIFS('7.Rendimientos Financieros'!D:D,'7.Rendimientos Financieros'!A:A,">"&(EOMONTH($A9,-1)),'7.Rendimientos Financieros'!A:A,"<="&(EOMONTH($A9,0))) -> 9.3131213e+08 | K9: =SUMIFS('7.Rendimientos Financieros'!F:F,'7.Rendimientos Financieros'!E:E,"<="&(EOMONTH($A9,0))) -> 2615149472 | L9: =SUM(I9:J9)-SUM(K9) -> 9.3131213e+08 | M9: =+E9-H9+L9 -> 6.4581312e+10 | N9: =12873221270.44+51708090860.63 -> 6.4581312e+10 | O9: =+N9-M9 -> 0 | Q9: =+P9+O9 -> 0
A10: 45322 | B10: CO1.PCCNTR. 4917031 DE 2023 | C10: =SUMIFS('3.Ingresos del Contrato'!J:J,'3.Ingresos del Contrato'!H:H,"<="&(EOMONTH($A10,-1))) -> 63650000000 | D10: =SUMIFS('3.Ingresos del Contrato'!J:J,'3.Ingresos del Contrato'!H:H,">"&(EOMONTH($A10,-1)),'3.Ingresos del Contrato'!H:H,"<="&(EOMONTH($A10,0))) -> 0 | E10: =SUM(C10:D10) -> 63650000000 | F10: =SUMIFS('6.Reportes de Pagos'!N:N,'6.Reportes de Pagos'!H:H,"<="&(EOMONTH($A10,-1))) -> 0 | G10: =SUMIFS('6.Reportes de Pagos'!N:N,'6.Reportes de Pagos'!H:H,">"&(EOMONTH($A10,-1)),'6.Reportes de Pagos'!H:H,"<="&(EOMONTH($A10,0))) -> 0 | H10: =SUM(F10:G10) -> 0 | I10: =SUMIFS('7.Rendimientos Financieros'!D:D,'7.Rendimientos Financieros'!A:A,"<="&(EOMONTH($A10,-1))) -> 3.5464616e+09 | J10: =SUMIFS('7.Rendimientos Financieros'!D:D,'7.Rendimientos Financieros'!A:A,">"&(EOMONTH($A10,-1)),'7.Rendimientos Financieros'!A:A,"<="&(EOMONTH($A10,0))) -> 5.6148443e+08 | K10: =SUMIFS('7.Rendimientos Financieros'!F:F,'7.Rendimientos Financieros'!E:E,"<="&(EOMONTH($A10,0))) -> 3.5464616e+09 | L10: =SUM(I10:J10)-SUM(K10) -> 5.6148443e+08 | M10: =+E10-H10+L10 -> 6.4211484e+10 | N10: =12863626378.93+51347858051.59 -> 6.4211484e+10 | O10: =+N10-M10 -> 0.36999512 | Q10: =+P10+O10 -> 0.36999512
A11: 45350 | B11: CO1.PCCNTR. 4917031 DE 2023 | C11: =SUMIFS('3.Ingresos del Contrato'!J:J,'3.Ingresos del Contrato'!H:H,"<="&(EOMONTH($A11,-1))) -> 63650000000 | D11: =SUMIFS('3.Ingresos del Contrato'!J:J,'3.Ingresos del Contrato'!H:H,">"&(EOMONTH($A11,-1)),'3.Ingresos del Contrato'!H:H,"<="&(EOMONTH($A11,0))) -> 0 | E11: =SUM(C11:D11) -> 63650000000 | F11: =SUMIFS('6.Reportes de Pagos'!N:N,'6.Reportes de Pagos'!H:H,"<="&(EOMONTH($A11,-1))) -> 0 | G11: =SUMIFS('6.Reportes de Pagos'!N:N,'6.Reportes de Pagos'!H:H,">"&(EOMONTH($A11,-1)),'6.Reportes de Pagos'!H:H,"<="&(EOMONTH($A11,0))) -> 2.5255224e+09 | H11: =SUM(F11:G11) -> 2.5255224e+09 | I11: =SUMIFS('7.Rendimientos Financieros'!D:D,'7.Rendimientos Financieros'!A:A,"<="&(EOMONTH($A11,-1))) -> 4.107946e+09 | J11: =SUMIFS('7.Rendimientos Financieros'!D:D,'7.Rendimientos Financieros'!A:A,">"&(EOMONTH($A11,-1)),'7.Rendimientos Financieros'!A:A,"<="&(EOMONTH($A11,0))) -> 5.9551763e+08 | K11: =SUMIFS('7.Rendimientos Financieros'!F:F,'7.Rendimientos Financieros'!E:E,"<="&(EOMONTH($A11,0))) -> 4.107946e+09 | L11: =SUM(I11:J11)-SUM(K11) -> 5.9551763e+08 | M11: =+E11-H11+L11 -> 6.1719995e+10 | N11: =12793673761.69+48926321498.27 -> 6.1719995e+10 | O11: =+N11-M11 -> 0.36999512 | Q11: =+P11+O11 -> 0.36999512
A12: 45382 | B12: CO1.PCCNTR. 4917031 DE 2023 | C12: =SUMIFS('3.Ingresos del Contrato'!J:J,'3.Ingresos del Contrato'!H:H,"<="&(EOMONTH($A12,-1))) -> 63650000000 | D12: =SUMIFS('3.Ingresos del Contrato'!J:J,'3.Ingresos del Contrato'!H:H,">"&(EOMONTH($A12,-1)),'3.Ingresos del Contrato'!H:H,"<="&(EOMONTH($A12,0))) -> 0 | E12: =SUM(C12:D12) -> 63650000000 | F12: =SUMIFS('6.Reportes de Pagos'!N:N,'6.Reportes de Pagos'!H:H,"<="&(EOMONTH($A12,-1))) -> 2.5255224e+09 | G12: =SUMIFS('6.Reportes de Pagos'!N:N,'6.Reportes de Pagos'!H:H,">"&(EOMONTH($A12,-1)),'6.Reportes de Pagos'!H:H,"<="&(EOMONTH($A12,0))) -> 4.0501461e+09 | H12: =SUM(F12:G12) -> 6.5756685e+09 | I12: =SUMIFS('7.Rendimientos Financieros'!D:D,'7.Rendimientos Financieros'!A:A,"<="&(EOMONTH($A12,-1))) -> 4.7034637e+09 | J12: =SUMIFS('7.Rendimientos Financieros'!D:D,'7.Rendimientos Financieros'!A:A,">"&(EOMONTH($A12,-1)),'7.Rendimientos Financieros'!A:A,"<="&(EOMONTH($A12,0))) -> 5.9624184e+08 | K12: =SUMIFS('7.Rendimientos Financieros'!F:F,'7.Rendimientos Financieros'!E:E,"<="&(EOMONTH($A12,0))) -> 4.7034637e+09 | L12: =SUM(I12:J12)-SUM(K12) -> 5.9624184e+08 | M12: =+E12-H12+L12 -> 5.7670573e+10 | N12: =12148954422.51+45507167338.23 -> 5.7656122e+10 | O12: =+N12-M12 -> -14451608 | Q12: =+P12+O12 -> -14451608
A13: 45412 | B13: CO1.PCCNTR. 4917031 DE 2023 | C13: =SUMIFS('3.Ingresos del Contrato'!J:J,'3.Ingresos del Contrato'!H:H,"<="&(EOMONTH($A13,-1))) -> 63650000000 | D13: =SUMIFS('3.Ingresos del Contrato'!J:J,'3.Ingresos del Contrato'!H:H,">"&(EOMONTH($A13,-1)),'3.Ingresos del Contrato'!H:H,"<="&(EOMONTH($A13,0))) -> 0 | E13: =SUM(C13:D13) -> 63650000000 | F13: =SUMIFS('6.Reportes de Pagos'!N:N,'6.Reportes de Pagos'!H:H,"<="&(EOMONTH($A13,-1))) -> 6.5756685e+09 | G13: =SUMIFS('6.Reportes de Pagos'!N:N,'6.Reportes de Pagos'!H:H,">"&(EOMONTH($A13,-1)),'6.Reportes de Pagos'!H:H,"<="&(EOMONTH($A13,0))) -> 4.9118266e+09 | H13: =SUM(F13:G13) -> 1.1487495e+10 | I13: =SUMIFS('7.Rendimientos Financieros'!D:D,'7.Rendimientos Financieros'!A:A,"<="&(EOMONTH($A13,-1))) -> 5.2997055e+09 | J13: =SUMIFS('7.Rendimientos Financieros'!D:D,'7.Rendimientos Financieros'!A:A,">"&(EOMONTH($A13,-1)),'7.Rendimientos Financieros'!A:A,"<="&(EOMONTH($A13,0))) -> 3.6006829e+08 | K13: =SUMIFS('7.Rendimientos Financieros'!F:F,'7.Rendimientos Financieros'!E:E,"<="&(EOMONTH($A13,0))) -> 5.2997055e+09 | L13: =SUM(I13:J13)-SUM(K13) -> 3.6006829e+08 | M13: =+E13-H13+L13 -> 5.2522573e+10 | N13: =11096675626.99+41425897583.35 -> 5.2522573e+10 | O13: =+N13-M13 -> 0.36999512 | Q13: =+P13+O13 -> 0.36999512
A14: 45443 | B14: CO1.PCCNTR. 4917031 DE 2023 | C14: =SUMIFS('3.Ingresos del Contrato'!J:J,'3.Ingresos del Contrato'!H:H,"<="&(EOMONTH($A14,-1))) -> 63650000000 | D14: =SUMIFS('3.Ingresos del Contrato'!J:J,'3.Ingresos del Contrato'!H:H,">"&(EOMONTH($A14,-1)),'3.Ingresos del Contrato'!H:H,"<="&(EOMONTH($A14,0))) -> 0 | E14: =SUM(C14:D14) -> 63650000000 | F14: =SUMIFS('6.Reportes de Pagos'!N:N,'6.Reportes de Pagos'!H:H,"<="&(EOMONTH($A14,-1))) -> 1.1487495e+10 | G14: =SUMIFS('6.Reportes de Pagos'!N:N,'6.Reportes de Pagos'!H:H,">"&(EOMONTH($A14,-1)),'6.Reportes de Pagos'!H:H,"<="&(EOMONTH($A14,0))) -> 4.6628672e+09 | H14: =SUM(F14:G14) -> 1.6150362e+10 | I14: =SUMIFS('7.Rendimientos Financieros'!D:D,'7.Rendimientos Financieros'!A:A,"<="&(EOMONTH($A14,-1))) -> 5.6597738e+09 | J14: =SUMIFS('7.Rendimientos Financieros'!D:D,'7.Rendimientos Financieros'!A:A,">"&(EOMONTH($A14,-1)),'7.Rendimientos Financieros'!A:A,"<="&(EOMONTH($A14,0))) -> 4.4300662e+08 | K14: =SUMIFS('7.Rendimientos Financieros'!F:F,'7.Rendimientos Financieros'!E:E,"<="&(EOMONTH($A14,0))) -> 5.6597738e+09 | L14: =SUM(I14:J14)-SUM(K14) -> 4.4300662e+08 | M14: =+E14-H14+L14 -> 4.7942644e+10 | N14: =10095101270.67+37847543075.72 -> 4.7942644e+10 | O14: =+N14-M14 -> 0.36999512 | Q14: =+P14+O14 -> 0.36999512
A15: 45473 | B15: CO1.PCCNTR. 4917031 DE 2023 | C15: =SUMIFS('3.Ingresos del Contrato'!J:J,'3.Ingresos del Contrato'!H:H,"<="&(EOMONTH($A15,-1))) -> 63650000000 | D15: =SUMIFS('3.Ingresos del Contrato'!J:J,'3.Ingresos del Contrato'!H:H,">"&(EOMONTH($A15,-1)),'3.Ingresos del Contrato'!H:H,"<="&(EOMONTH($A15,0))) -> 0 | E15: =SUM(C15:D15) -> 63650000000 | F15: =SUMIFS('6.Reportes de Pagos'!N:N,'6.Reportes de Pagos'!H:H,"<="&(EOMONTH($A15,-1))) -> 1.6150362e+10 | G15: =SUMIFS('6.Reportes de Pagos'!N:N,'6.Reportes de Pagos'!H:H,">"&(EOMONTH($A15,-1)),'6.Reportes de Pagos'!H:H,"<="&(EOMONTH($A15,0))) -> 6.0149169e+09 | H15: =SUM(F15:G15) -> 2.2165279e+10 | I15: =SUMIFS('7.Rendimientos Financieros'!D:D,'7.Rendimientos Financieros'!A:A,"<="&(EOMONTH($A15,-1))) -> 6.1027804e+09 | J15: =SUMIFS('7.Rendimientos Financieros'!D:D,'7.Rendimientos Financieros'!A:A,">"&(EOMONTH($A15,-1)),'7.Rendimientos Financieros'!A:A,"<="&(EOMONTH($A15,0))) -> 3.4314392e+08 | K15: =SUMIFS('7.Rendimientos Financieros'!F:F,'7.Rendimientos Financieros'!E:E,"<="&(EOMONTH($A15,0))) -> 6.1027804e+09 | L15: =SUM(I15:J15)-SUM(K15) -> 3.4314392e+08 | M15: =+E15-H15+L15 -> 4.1827865e+10 | N15: =8935407677.32+32892457026.9 -> 4.1827865e+10 | O15: =+N15-M15 -> 0.36999512 | Q15: =+P15+O15 -> 0.36999512
A16: 45504 | B16: CO1.PCCNTR. 4917031 DE 2023 | C16: =SUMIFS('3.Ingresos del Contrato'!J:J,'3.Ingresos del Contrato'!H:H,"<="&(EOMONTH($A16,-1))) -> 63650000000 | D16: =SUMIFS('3.Ingresos del Contrato'!J:J,'3.Ingresos del Contrato'!H:H,">"&(EOMONTH($A16,-1)),'3.Ingresos del Contrato'!H:H,"<="&(EOMONTH($A16,0))) -> 0 | E16: =SUM(C16:D16) -> 63650000000 | F16: =SUMIFS('6.Reportes de Pagos'!N:N,'6.Reportes de Pagos'!H:H,"<="&(EOMONTH($A16,-1))) -> 2.2165279e+10 | G16: =SUMIFS('6.Reportes de Pagos'!N:N,'6.Reportes de Pagos'!H:H,">"&(EOMONTH($A16,-1)),'6.Reportes de Pagos'!H:H,"<="&(EOMONTH($A16,0))) -> 5.9776404e+09 | H16: =SUM(F16:G16) -> 2.814292e+10 | I16: =SUMIFS('7.Rendimientos Financieros'!D:D,'7.Rendimientos Financieros'!A:A,"<="&(EOMONTH($A16,-1))) -> 6.4459243e+09 | J16: =SUMIFS('7.Rendimientos Financieros'!D:D,'7.Rendimientos Financieros'!A:A,">"&(EOMONTH($A16,-1)),'7.Rendimientos Financieros'!A:A,"<="&(EOMONTH($A16,0))) -> 3.6224642e+08 | K16: =SUMIFS('7.Rendimientos Financieros'!F:F,'7.Rendimientos Financieros'!E:E,"<="&(EOMONTH($A16,0))) -> 6.4459243e+09 | L16: =SUM(I16:J16)-SUM(K16) -> 3.6224642e+08 | M16: =+E16-H16+L16 -> 3.5869327e+10 | N16: =8188348240.06+27650043917.36 -> 3.5838392e+10 | O16: =+N16-M16 -> -30934599 | P16: 30934599 | Q16: =+P16+O16 -> 0.36999542
A17: 45535 | B17: CO1.PCCNTR. 4917031 DE 2023 | C17: =SUMIFS('3.Ingresos del Contrato'!J:J,'3.Ingresos del Contrato'!H:H,"<="&(EOMONTH($A17,-1))) -> 63650000000 | D17: =SUMIFS('3.Ingresos del Contrato'!J:J,'3.Ingresos del Contrato'!H:H,">"&(EOMONTH($A17,-1)),'3.Ingresos del Contrato'!H:H,"<="&(EOMONTH($A17,0))) -> 0 | E17: =SUM(C17:D17) -> 63650000000 | F17: =SUMIFS('6.Reportes de Pagos'!N:N,'6.Reportes de Pagos'!H:H,"<="&(EOMONTH($A17,-1))) -> 2.814292e+10 | G17: =SUMIFS('6.Reportes de Pagos'!N:N,'6.Reportes de Pagos'!H:H,">"&(EOMONTH($A17,-1)),'6.Reportes de Pagos'!H:H,"<="&(EOMONTH($A17,0))) -> 6.0349836e+09 | H17: =SUM(F17:G17) -> 3.4177903e+10 | I17: =SUMIFS('7.Rendimientos Financieros'!D:D,'7.Rendimientos Financieros'!A:A,"<="&(EOMONTH($A17,-1))) -> 6.8081708e+09 | J17: =SUMIFS('7.Rendimientos Financieros'!D:D,'7.Rendimientos Financieros'!A:A,">"&(EOMONTH($A17,-1)),'7.Rendimientos Financieros'!A:A,"<="&(EOMONTH($A17,0))) -> 3.3474786e+08 | K17: =SUMIFS('7.Rendimientos Financieros'!F:F,'7.Rendimientos Financieros'!E:E,"<="&(EOMONTH($A17,0))) -> 6.8081708e+09 | L17: =SUM(I17:J17)-SUM(K17) -> 3.3474786e+08 | M17: =+E17-H17+L17 -> 2.9806845e+10 | N17: =2316074944.09+27365517249.44 -> 2.9681592e+10 | O17: =+N17-M17 -> -1.2525236e+08 | P17: =26379960.74+98872396.2 -> 1.2525236e+08 | Q17: =+P17+O17 -> 0.35999054
A18: 45565 | B18: CO1.PCCNTR. 4917031 DE 2023 | C18: =SUMIFS('3.Ingresos del Contrato'!J:J,'3.Ingresos del Contrato'!H:H,"<="&(EOMONTH($A18,-1))) -> 63650000000 | D18: =SUMIFS('3.Ingresos del Contrato'!J:J,'3.Ingresos del Contrato'!H:H,">"&(EOMONTH($A18,-1)),'3.Ingresos del Contrato'!H:H,"<="&(EOMONTH($A18,0))) -> 0 | E18: =SUM(C18:D18) -> 63650000000 | F18: =SUMIFS('6.Reportes de Pagos'!N:N,'6.Reportes de Pagos'!H:H,"<="&(EOMONTH($A18,-1))) -> 3.4177903e+10 | G18: =SUMIFS('6.Reportes de Pagos'!N:N,'6.Reportes de Pagos'!H:H,">"&(EOMONTH($A18,-1)),'6.Reportes de Pagos'!H:H,"<="&(EOMONTH($A18,0))) -> 5.3234207e+09 | H18: =SUM(F18:G18) -> 3.9501324e+10 | I18: =SUMIFS('7.Rendimientos Financieros'!D:D,'7.Rendimientos Financieros'!A:A,"<="&(EOMONTH($A18,-1))) -> 7.1429186e+09 | J18: =SUMIFS('7.Rendimientos Financieros'!D:D,'7.Rendimientos Financieros'!A:A,">"&(EOMONTH($A18,-1)),'7.Rendimientos Financieros'!A:A,"<="&(EOMONTH($A18,0))) -> 2.1304662e+08 | K18: =SUMIFS('7.Rendimientos Financieros'!F:F,'7.Rendimientos Financieros'!E:E,"<="&(EOMONTH($A18,0))) -> 7.1429186e+09 | L18: =SUM(I18:J18)-SUM(K18) -> 2.1304662e+08 | M18: =+E18-H18+L18 -> 2.4361723e+10 | N18: =6124756615.99+18205590313.93 -> 2.4330347e+10 | O18: =+N18-M18 -> -31375651 | P18: 31375652 | Q18: =+P18+O18 -> 0.3699971
A19: 45596 | B19: CO1.PCCNTR. 4917031 DE 2023 | C19: =SUMIFS('3.Ingresos del Contrato'!J:J,'3.Ingresos del Contrato'!H:H,"<="&(EOMONTH($A19,-1))) -> 63650000000 | D19: =SUMIFS('3.Ingresos del Contrato'!J:J,'3.Ingresos del Contrato'!H:H,">"&(EOMONTH($A19,-1)),'3.Ingresos del Contrato'!H:H,"<="&(EOMONTH($A19,0))) -> 0 | E19: =SUM(C19:D19) -> 63650000000 | F19: =SUMIFS('6.Reportes de Pagos'!N:N,'6.Reportes de Pagos'!H:H,"<="&(EOMONTH($A19,-1))) -> 3.9501324e+10 | G19: =SUMIFS('6.Reportes de Pagos'!N:N,'6.Reportes de Pagos'!H:H,">"&(EOMONTH($A19,-1)),'6.Reportes de Pagos'!H:H,"<="&(EOMONTH($A19,0))) -> 3.6332183e+09 | H19: =SUM(F19:G19) -> 4.3134542e+10 | I19: =SUMIFS('7.Rendimientos Financieros'!D:D,'7.Rendimientos Financieros'!A:A,"<="&(EOMONTH($A19,-1))) -> 7.3559652e+09 | J19: =SUMIFS('7.Rendimientos Financieros'!D:D,'7.Rendimientos Financieros'!A:A,">"&(EOMONTH($A19,-1)),'7.Rendimientos Financieros'!A:A,"<="&(EOMONTH($A19,0))) -> 98198672 | K19: =SUMIFS('7.Rendimientos Financieros'!F:F,'7.Rendimientos Financieros'!E:E,"<="&(EOMONTH($A19,0))) -> 7.3559652e+09 | L19: =SUM(I19:J19)-SUM(K19) -> 98198672 | M19: =+E19-H19+L19 -> 2.0613656e+10 | N19: =15990803994.63+4618790726.63 -> 2.0609595e+10 | O19: =+N19-M19 -> -4061634.1 | P19: =3011103.57 -> 3011103.6 | Q19: =+P19+O19 -> -1050530.6
A20: 45626 | B20: CO1.PCCNTR. 4917031 DE 2023 | C20: =SUMIFS('3.Ingresos del Contrato'!J:J,'3.Ingresos del Contrato'!H:H,"<="&(EOMONTH($A20,-1))) -> 63650000000 | D20: =SUMIFS('3.Ingresos del Contrato'!J:J,'3.Ingresos del Contrato'!H:H,">"&(EOMONTH($A20,-1)),'3.Ingresos del Contrato'!H:H,"<="&(EOMONTH($A20,0))) -> 0 | E20: =SUM(C20:D20) -> 63650000000 | F20: =SUMIFS('6.Reportes de Pagos'!N:N,'6.Reportes de Pagos'!H:H,"<="&(EOMONTH($A20,-1))) -> 4.3134542e+10 | G20: =SUMIFS('6.Reportes de Pagos'!N:N,'6.Reportes de Pagos'!H:H,">"&(EOMONTH($A20,-1)),'6.Reportes de Pagos'!H:H,"<="&(EOMONTH($A20,0))) -> 3.1355605e+09 | H20: =SUM(F20:G20) -> 4.6270103e+10 | I20: =SUMIFS('7.Rendimientos Financieros'!D:D,'7.Rendimientos Financieros'!A:A,"<="&(EOMONTH($A20,-1))) -> 7.4541639e+09 | J20: =SUMIFS('7.Rendimientos Financieros'!D:D,'7.Rendimientos Financieros'!A:A,">"&(EOMONTH($A20,-1)),'7.Rendimientos Financieros'!A:A,"<="&(EOMONTH($A20,0))) -> 1.5094256e+08 | K20: =SUMIFS('7.Rendimientos Financieros'!F:F,'7.Rendimientos Financieros'!E:E,"<="&(EOMONTH($A20,0))) -> 7.4541639e+09 | L20: =SUM(I20:J20)-SUM(K20) -> 1.5094256e+08 | M20: =+E20-H20+L20 -> 1.753084e+10 | N20: =13459633542.04+4068320556.05 -> 1.7527954e+10 | O20: =+N20-M20 -> -2885600.6 | P20: =3011103.57 -> 3011103.6 | Q20: =+P20+O20 -> 125502.98
A21: 45657 | B21: CO1.PCCNTR. 4917031 DE 2023 | C21: =SUMIFS('3.Ingresos del Contrato'!J:J,'3.Ingresos del Contrato'!H:H,"<="&(EOMONTH($A21,-1))) -> 63650000000 | D21: =SUMIFS('3.Ingresos del Contrato'!J:J,'3.Ingresos del Contrato'!H:H,">"&(EOMONTH($A21,-1)),'3.Ingresos del Contrato'!H:H,"<="&(EOMONTH($A21,0))) -> 0 | E21: =SUM(C21:D21) -> 63650000000 | F21: =SUMIFS('6.Reportes de Pagos'!N:N,'6.Reportes de Pagos'!H:H,"<="&(EOMONTH($A21,-1))) -> 4.6270103e+10 | G21: =SUMIFS('6.Reportes de Pagos'!N:N,'6.Reportes de Pagos'!H:H,">"&(EOMONTH($A21,-1)),'6.Reportes de Pagos'!H:H,"<="&(EOMONTH($A21,0))) -> 2.341706e+09 | H21: =SUM(F21:G21) -> 4.8611809e+10 | I21: =SUMIFS('7.Rendimientos Financieros'!D:D,'7.Rendimientos Financieros'!A:A,"<="&(EOMONTH($A21,-1))) -> 7.6051065e+09 | J21: =SUMIFS('7.Rendimientos Financieros'!D:D,'7.Rendimientos Financieros'!A:A,">"&(EOMONTH($A21,-1)),'7.Rendimientos Financieros'!A:A,"<="&(EOMONTH($A21,0))) -> 86139269 | K21: =SUMIFS('7.Rendimientos Financieros'!F:F,'7.Rendimientos Financieros'!E:E,"<="&(EOMONTH($A21,0))) -> 7.6051065e+09 | L21: =SUM(I21:J21)-SUM(K21) -> 86139269 | M21: =+E21-H21+L21 -> 1.512433e+10 | N21: 1.5121445e+10 | O21: =+N21-M21 -> -2885600.6 | P21: =3011103.57 -> 3011103.6 | Q21: =+P21+O21 -> 125502.98
A22: 45688 | B22: CO1.PCCNTR. 4917031 DE 2023 | C22: =SUMIFS('3.Ingresos del Contrato'!J:J,'3.Ingresos del Contrato'!H:H,"<="&(EOMONTH($A22,-1))) -> 63650000000 | D22: =SUMIFS('3.Ingresos del Contrato'!J:J,'3.Ingresos del Contrato'!H:H,">"&(EOMONTH($A22,-1)),'3.Ingresos del Contrato'!H:H,"<="&(EOMONTH($A22,0))) -> 0 | E22: =SUM(C22:D22) -> 63650000000 | F22: =SUMIFS('6.Reportes de Pagos'!N:N,'6.Reportes de Pagos'!H:H,"<="&(EOMONTH($A22,-1))) -> 4.8611809e+10 | G22: =SUMIFS('6.Reportes de Pagos'!N:N,'6.Reportes de Pagos'!H:H,">"&(EOMONTH($A22,-1)),'6.Reportes de Pagos'!H:H,"<="&(EOMONTH($A22,0))) -> 2.0871397e+09 | H22: =SUM(F22:G22) -> 5.0698949e+10 | I22: =SUMIFS('7.Rendimientos Financieros'!D:D,'7.Rendimientos Financieros'!A:A,"<="&(EOMONTH($A22,-1))) -> 7.6912457e+09 | J22: =SUMIFS('7.Rendimientos Financieros'!D:D,'7.Rendimientos Financieros'!A:A,">"&(EOMONTH($A22,-1)),'7.Rendimientos Financieros'!A:A,"<="&(EOMONTH($A22,0))) -> 1.0050805e+08 | K22: =SUMIFS('7.Rendimientos Financieros'!F:F,'7.Rendimientos Financieros'!E:E,"<="&(EOMONTH($A22,0))) -> 7.6912457e+09 | L22: =SUM(I22:J22)-SUM(K22) -> 1.0050805e+08 | M22: =+E22-H22+L22 -> 1.3051559e+10 | N22: 1.3048674e+10 | O22: =+N22-M22 -> -2885600.6 | P22: =3011103.57 -> 3011103.6 | Q22: =+P22+O22 -> 125502.98
A23: 45716 | B23: CO1.PCCNTR. 4917031 DE 2023 | C23: =SUMIFS('3.Ingresos del Contrato'!J:J,'3.Ingresos del Contrato'!H:H,"<="&(EOMONTH($A23,-1))) -> 63650000000 | D23: =SUMIFS('3.Ingresos del Contrato'!J:J,'3.Ingresos del Contrato'!H:H,">"&(EOMONTH($A23,-1)),'3.Ingresos del Contrato'!H:H,"<="&(EOMONTH($A23,0))) -> 0 | E23: =SUM(C23:D23) -> 63650000000 | F23: =SUMIFS('6.Reportes de Pagos'!N:N,'6.Reportes de Pagos'!H:H,"<="&(EOMONTH($A23,-1))) -> 5.0698949e+10 | G23: =SUMIFS('6.Reportes de Pagos'!N:N,'6.Reportes de Pagos'!H:H,">"&(EOMONTH($A23,-1)),'6.Reportes de Pagos'!H:H,"<="&(EOMONTH($A23,0))) -> 2.0378904e+09 | H23: =SUM(F23:G23) -> 5.2736839e+10 | I23: =SUMIFS('7.Rendimientos Financieros'!D:D,'7.Rendimientos Financieros'!A:A,"<="&(EOMONTH($A23,-1))) -> 7.7917538e+09 | J23: =SUMIFS('7.Rendimientos Financieros'!D:D,'7.Rendimientos Financieros'!A:A,">"&(EOMONTH($A23,-1)),'7.Rendimientos Financieros'!A:A,"<="&(EOMONTH($A23,0))) -> 79870995 | K23: =SUMIFS('7.Rendimientos Financieros'!F:F,'7.Rendimientos Financieros'!E:E,"<="&(EOMONTH($A23,0))) -> 7.7917538e+09 | L23: =SUM(I23:J23)-SUM(K23) -> 79870995 | M23: =+E23-H23+L23 -> 1.0993032e+10 | N23: =8412428683+2577520745.33 -> 1.0989949e+10 | O23: =+N23-M23 -> -3082560.6 | P23: =3011103.57 -> 3011103.6 | Q23: =+P23+O23 -> -71457.02
A24: 45747 | B24: CO1.PCCNTR. 4917031 DE 2023 | C24: =SUMIFS('3.Ingresos del Contrato'!J:J,'3.Ingresos del Contrato'!H:H,"<="&(EOMONTH($A24,-1))) -> 63650000000 | D24: =SUMIFS('3.Ingresos del Contrato'!J:J,'3.Ingresos del Contrato'!H:H,">"&(EOMONTH($A24,-1)),'3.Ingresos del Contrato'!H:H,"<="&(EOMONTH($A24,0))) -> 0 | E24: =SUM(C24:D24) -> 63650000000 | F24: =SUMIFS('6.Reportes de Pagos'!N:N,'6.Reportes de Pagos'!H:H,"<="&(EOMONTH($A24,-1))) -> 5.2736839e+10 | G24: =SUMIFS('6.Reportes de Pagos'!N:N,'6.Reportes de Pagos'!H:H,">"&(EOMONTH($A24,-1)),'6.Reportes de Pagos'!H:H,"<="&(EOMONTH($A24,0))) -> 1.1868771e+09 | H24: =SUM(F24:G24) -> 5.3923716e+10 | I24: =SUMIFS('7.Rendimientos Financieros'!D:D,'7.Rendimientos Financieros'!A:A,"<="&(EOMONTH($A24,-1))) -> 7.8716248e+09 | J24: =SUMIFS('7.Rendimientos Financieros'!D:D,'7.Rendimientos Financieros'!A:A,">"&(EOMONTH($A24,-1)),'7.Rendimientos Financieros'!A:A,"<="&(EOMONTH($A24,0))) -> 71484533 | K24: =SUMIFS('7.Rendimientos Financieros'!F:F,'7.Rendimientos Financieros'!E:E,"<="&(EOMONTH($A24,0))) -> 7.8716248e+09 | L24: =SUM(I24:J24)-SUM(K24) -> 71484533 | M24: =+E24-H24+L24 -> 9.7977684e+09 | N24: =7619953492.64+2174427745.07 -> 9.7943812e+09 | O24: =+N24-M24 -> -3387203.2 | P24: =3011103.57 -> 3011103.6 | Q24: =+P24+O24 -> -376099.63
A25: 45777 | B25: CO1.PCCNTR. 4917031 DE 2023 | C25: =SUMIFS('3.Ingresos del Contrato'!J:J,'3.Ingresos del Contrato'!H:H,"<="&(EOMONTH($A25,-1))) -> 63650000000 | D25: =SUMIFS('3.Ingresos del Contrato'!J:J,'3.Ingresos del Contrato'!H:H,">"&(EOMONTH($A25,-1)),'3.Ingresos del Contrato'!H:H,"<="&(EOMONTH($A25,0))) -> 0 | E25: =SUM(C25:D25) -> 63650000000 | F25: =SUMIFS('6.Reportes de Pagos'!N:N,'6.Reportes de Pagos'!H:H,"<="&(EOMONTH($A25,-1))) -> 5.3923716e+10 | G25: =SUMIFS('6.Reportes de Pagos'!N:N,'6.Reportes de Pagos'!H:H,">"&(EOMONTH($A25,-1)),'6.Reportes de Pagos'!H:H,"<="&(EOMONTH($A25,0))) -> 1.5999122e+09 | H25: =SUM(F25:G25) -> 5.5523628e+10 | I25: =SUMIFS('7.Rendimientos Financieros'!D:D,'7.Rendimientos Financieros'!A:A,"<="&(EOMONTH($A25,-1))) -> 7.9431093e+09 | J25: =SUMIFS('7.Rendimientos Financieros'!D:D,'7.Rendimientos Financieros'!A:A,">"&(EOMONTH($A25,-1)),'7.Rendimientos Financieros'!A:A,"<="&(EOMONTH($A25,0))) -> 63442806 | K25: =SUMIFS('7.Rendimientos Financieros'!F:F,'7.Rendimientos Financieros'!E:E,"<="&(EOMONTH($A25,0))) -> 7.9431093e+09 | L25: =SUM(I25:J25)-SUM(K25) -> 63442806 | M25: =+E25-H25+L25 -> 8.1898145e+09 | N25: =1941761909.25+6247676464.45 -> 8.1894384e+09 | O25: =+N25-M25 -> -376099.63 | P25: =196960+179140 -> 376100 | Q25: =+O25+P25 -> 0.36996651
A26: 45808 | B26: CO1.PCCNTR. 4917031 DE 2023 | C26: =SUMIFS('3.Ingresos del Contrato'!J:J,'3.Ingresos del Contrato'!H:H,"<="&(EOMONTH($A26,-1))) -> 63650000000 | D26: =SUMIFS('3.Ingresos del Contrato'!J:J,'3.Ingresos del Contrato'!H:H,">"&(EOMONTH($A26,-1)),'3.Ingresos del Contrato'!H:H,"<="&(EOMONTH($A26,0))) -> 0 | E26: =SUM(C26:D26) -> 63650000000 | F26: =SUMIFS('6.Reportes de Pagos'!N:N,'6.Reportes de Pagos'!H:H,"<="&(EOMONTH($A26,-1))) -> 5.5523628e+10 | G26: =SUMIFS('6.Reportes de Pagos'!N:N,'6.Reportes de Pagos'!H:H,">"&(EOMONTH($A26,-1)),'6.Reportes de Pagos'!H:H,"<="&(EOMONTH($A26,0))) -> 1.4903821e+09 | H26: =SUM(F26:G26) -> 5.701401e+10 | I26: =SUMIFS('7.Rendimientos Financieros'!D:D,'7.Rendimientos Financieros'!A:A,"<="&(EOMONTH($A26,-1))) -> 8.0065521e+09 | J26: =SUMIFS('7.Rendimientos Financieros'!D:D,'7.Rendimientos Financieros'!A:A,">"&(EOMONTH($A26,-1)),'7.Rendimientos Financieros'!A:A,"<="&(EOMONTH($A26,0))) -> 57970031 | K26: =SUMIFS('7.Rendimientos Financieros'!F:F,'7.Rendimientos Financieros'!E:E,"<="&(EOMONTH($A26,0))) -> 8.0065521e+09 | L26: =SUM(I26:J26)-SUM(K26) -> 57970031 | M26: =+E26-H26+L26 -> 6.6939596e+09 | N26: =1488146663.14+5205436881.21 -> 6.6935835e+09 | O26: =+N26-M26 -> -376099.63 | P26: =196960+179140 -> 376100 | Q26: =+O26+P26 -> 0.36996841
A27: 45838 | B27: CO1.PCCNTR. 4917031 DE 2023 | C27: =SUMIFS('3.Ingresos del Contrato'!J:J,'3.Ingresos del Contrato'!H:H,"<="&(EOMONTH($A27,-1))) -> 63650000000 | D27: =SUMIFS('3.Ingresos del Contrato'!J:J,'3.Ingresos del Contrato'!H:H,">"&(EOMONTH($A27,-1)),'3.Ingresos del Contrato'!H:H,"<="&(EOMONTH($A27,0))) -> 0 | E27: =SUM(C27:D27) -> 63650000000 | F27: =SUMIFS('6.Reportes de Pagos'!N:N,'6.Reportes de Pagos'!H:H,"<="&(EOMONTH($A27,-1))) -> 5.701401e+10 | G27: =SUMIFS('6.Reportes de Pagos'!N:N,'6.Reportes de Pagos'!H:H,">"&(EOMONTH($A27,-1)),'6.Reportes de Pagos'!H:H,"<="&(EOMONTH($A27,0))) -> 5.9950627e+08 | H27: =SUM(F27:G27) -> 5.7613517e+10 | I27: =SUMIFS('7.Rendimientos Financieros'!D:D,'7.Rendimientos Financieros'!A:A,"<="&(EOMONTH($A27,-1))) -> 8.0645221e+09 | J27: =SUMIFS('7.Rendimientos Financieros'!D:D,'7.Rendimientos Financieros'!A:A,">"&(EOMONTH($A27,-1)),'7.Rendimientos Financieros'!A:A,"<="&(EOMONTH($A27,0))) -> 36896149 | K27: =SUMIFS('7.Rendimientos Financieros'!F:F,'7.Rendimientos Financieros'!E:E,"<="&(EOMONTH($A27,0))) -> 8.0644198e+09 | L27: =SUM(I27:J27)-SUM(K27) -> 36998519 | M27: =+E27-H27+L27 -> 6.0734819e+09 | N27: =1322656535.96+4750449229.47 -> 6.0731058e+09 | O27: =+N27-M27 -> -376099.63 | P27: =196960+179140 -> 376100 | Q27: =+O27+P27 -> 0.36997223
A28: 45869 | B28: CO1.PCCNTR. 4917031 DE 2023 | C28: =SUMIFS('3.Ingresos del Contrato'!J:J,'3.Ingresos del Contrato'!H:H,"<="&(EOMONTH($A28,-1))) -> 63650000000 | D28: =SUMIFS('3.Ingresos del Contrato'!J:J,'3.Ingresos del Contrato'!H:H,">"&(EOMONTH($A28,-1)),'3.Ingresos del Contrato'!H:H,"<="&(EOMONTH($A28,0))) -> 0 | E28: =SUM(C28:D28) -> 63650000000 | F28: =ROUND(SUMIFS('6.Reportes de Pagos'!N:N,'6.Reportes de Pagos'!H:H,"<="&(EOMONTH($A28,-1)))-0.37,2) -> 5.7613517e+10 | G28: =SUMIFS('6.Reportes de Pagos'!N:N,'6.Reportes de Pagos'!H:H,">"&(EOMONTH($A28,-1)),'6.Reportes de Pagos'!H:H,"<="&(EOMONTH($A28,0))) -> 1.8962151e+08 | H28: =SUM(F28:G28) -> 5.7803138e+10 | I28: =ROUND(SUMIFS('7.Rendimientos Financieros'!D:D,'7.Rendimientos Financieros'!A:A,"<="&(EOMONTH($A28,-1))),2) -> 8.1014183e+09 | J28: =ROUND(SUMIFS('7.Rendimientos Financieros'!D:D,'7.Rendimientos Financieros'!A:A,">"&(EOMONTH($A28,-1)),'7.Rendimientos Financieros'!A:A,"<="&(EOMONTH($A28,0))),2) -> 42662915 | K28: =ROUND(SUMIFS('7.Rendimientos Financieros'!F:F,'7.Rendimientos Financieros'!E:E,"<="&(EOMONTH($A28,0))),2) -> 8.1013159e+09 | L28: =+ROUND(I28+J28-K28,2) -> 42765285 | M28: =+E28-H28+L28 -> 5.8896271e+09 | N28: =4693352647.86+1196274478.83 -> 5.8896271e+09 | O28: =+N28-M28 -> 0 | P28: =196960+179140 -> 376100 | Q28: =+O28+P28 -> 376100
A29: 45900 | B29: CO1.PCCNTR. 4917031 DE 2023 | C29: =SUMIFS('3.Ingresos del Contrato'!J:J,'3.Ingresos del Contrato'!H:H,"<="&(EOMONTH($A29,-1))) -> 63650000000 | D29: =SUMIFS('3.Ingresos del Contrato'!J:J,'3.Ingresos del Contrato'!H:H,">"&(EOMONTH($A29,-1)),'3.Ingresos del Contrato'!H:H,"<="&(EOMONTH($A29,0))) -> 0 | E29: =SUM(C29:D29) -> 63650000000 | F29: =ROUND(SUMIFS('6.Reportes de Pagos'!N:N,'6.Reportes de Pagos'!H:H,"<="&(EOMONTH($A29,-1)))-0.37,2) -> 5.7803138e+10 | G29: =SUMIFS('6.Reportes de Pagos'!N:N,'6.Reportes de Pagos'!H:H,">"&(EOMONTH($A29,-1)),'6.Reportes de Pagos'!H:H,"<="&(EOMONTH($A29,0))) -> 2.2540326e+09 | H29: =SUM(F29:G29) -> 6.0057171e+10 | I29: =ROUND(SUMIFS('7.Rendimientos Financieros'!D:D,'7.Rendimientos Financieros'!A:A,"<="&(EOMONTH($A29,-1))),2) -> 8.1440812e+09 | J29: =ROUND(SUMIFS('7.Rendimientos Financieros'!D:D,'7.Rendimientos Financieros'!A:A,">"&(EOMONTH($A29,-1)),'7.Rendimientos Financieros'!A:A,"<="&(EOMONTH($A29,0))),2) -> 34478777 | K29: =ROUND(SUMIFS('7.Rendimientos Financieros'!F:F,'7.Rendimientos Financieros'!E:E,"<="&(EOMONTH($A29,0))),2) -> 8.1439788e+09 | L29: =+ROUND(I29+J29-K29,2) -> 34581147 | M29: =+E29-H29+L29 -> 3.6274104e+09 | N29: 3.6274104e+09 | O29: =+N29-M29 -> 0 | P29: =196960+179140 -> 376100 | Q29: =+O29+P29 -> 376100
A30: 45930 | B30: CO1.PCCNTR. 4917031 DE 2023 | C30: =SUMIFS('3.Ingresos del Contrato'!J:J,'3.Ingresos del Contrato'!H:H,"<="&(EOMONTH($A30,-1))) -> 63650000000 | D30: =SUMIFS('3.Ingresos del Contrato'!J:J,'3.Ingresos del Contrato'!H:H,">"&(EOMONTH($A30,-1)),'3.Ingresos del Contrato'!H:H,"<="&(EOMONTH($A30,0))) -> 0 | E30: =SUM(C30:D30) -> 63650000000 | F30: =ROUND(SUMIFS('6.Reportes de Pagos'!N:N,'6.Reportes de Pagos'!H:H,"<="&(EOMONTH($A30,-1)))-0.37,2) -> 6.0057171e+10 | G30: =SUMIFS('6.Reportes de Pagos'!N:N,'6.Reportes de Pagos'!H:H,">"&(EOMONTH($A30,-1)),'6.Reportes de Pagos'!H:H,"<="&(EOMONTH($A30,0))) -> 6.796928e+08 | H30: =SUM(F30:G30) -> 6.0736864e+10 | I30: =ROUND(SUMIFS('7.Rendimientos Financieros'!D:D,'7.Rendimientos Financieros'!A:A,"<="&(EOMONTH($A30,-1))),2) -> 8.17856e+09 | J30: =ROUND(SUMIFS('7.Rendimientos Financieros'!D:D,'7.Rendimientos Financieros'!A:A,">"&(EOMONTH($A30,-1)),'7.Rendimientos Financieros'!A:A,"<="&(EOMONTH($A30,0))),2) -> 20534849 | K30: =ROUND(SUMIFS('7.Rendimientos Financieros'!F:F,'7.Rendimientos Financieros'!E:E,"<="&(EOMONTH($A30,0))),2) -> 8.17856e+09 | L30: =+ROUND(I30+J30-K30,2) -> 20534849 | M30: =+E30-H30+L30 -> 2.9336713e+09 | N30: =717883329.1+2215787996.64 -> 2.9336713e+09 | O30: =+N30-M30 -> -3.8146973e-06 | P30: =196960+179140 -> 376100 | Q30: =+O30+P30 -> 376100
A31: 45961 | B31: CO1.PCCNTR. 4917031 DE 2023 | C31: =SUMIFS('3.Ingresos del Contrato'!J:J,'3.Ingresos del Contrato'!H:H,"<="&(EOMONTH($A31,-1))) -> 63650000000 | D31: =SUMIFS('3.Ingresos del Contrato'!J:J,'3.Ingresos del Contrato'!H:H,">"&(EOMONTH($A31,-1)),'3.Ingresos del Contrato'!H:H,"<="&(EOMONTH($A31,0))) -> 0 | E31: =SUM(C31:D31) -> 63650000000 | F31: =ROUND(SUMIFS('6.Reportes de Pagos'!N:N,'6.Reportes de Pagos'!H:H,"<="&(EOMONTH($A31,-1)))-0.37,2) -> 6.0736864e+10 | G31: =SUMIFS('6.Reportes de Pagos'!N:N,'6.Reportes de Pagos'!H:H,">"&(EOMONTH($A31,-1)),'6.Reportes de Pagos'!H:H,"<="&(EOMONTH($A31,0))) -> 2.6178906e+08 | H31: =SUM(F31:G31) -> 6.0998653e+10 | I31: =ROUND(SUMIFS('7.Rendimientos Financieros'!D:D,'7.Rendimientos Financieros'!A:A,"<="&(EOMONTH($A31,-1))),2) -> 8.1990948e+09 | J31: =ROUND(SUMIFS('7.Rendimientos Financieros'!D:D,'7.Rendimientos Financieros'!A:A,">"&(EOMONTH($A31,-1)),'7.Rendimientos Financieros'!A:A,"<="&(EOMONTH($A31,0))),2) -> 17966514 | K31: =ROUND(SUMIFS('7.Rendimientos Financieros'!F:F,'7.Rendimientos Financieros'!E:E,"<="&(EOMONTH($A31,0))),2) -> 8.1990948e+09 | L31: =+ROUND(I31+J31-K31,2) -> 17966514 | M31: =+E31-H31+L31 -> 2.6693139e+09 | N31: =584683047.4+2084630887.49 -> 2.6693139e+09 | O31: =+N31-M31 -> 0 | P31: =196960+179140 -> 376100 | Q31: =+O31+P31 -> 376100
A32: 45991 | B32: CO1.PCCNTR. 4917031 DE 2023 | C32: =SUMIFS('3.Ingresos del Contrato'!J:J,'3.Ingresos del Contrato'!H:H,"<="&(EOMONTH($A32,-1))) -> 63650000000 | D32: =SUMIFS('3.Ingresos del Contrato'!J:J,'3.Ingresos del Contrato'!H:H,">"&(EOMONTH($A32,-1)),'3.Ingresos del Contrato'!H:H,"<="&(EOMONTH($A32,0))) -> 0 | E32: =SUM(C32:D32) -> 63650000000 | F32: =ROUND(SUMIFS('6.Reportes de Pagos'!N:N,'6.Reportes de Pagos'!H:H,"<="&(EOMONTH($A32,-1)))-0.37,2) -> 6.0998653e+10 | G32: =SUMIFS('6.Reportes de Pagos'!N:N,'6.Reportes de Pagos'!H:H,">"&(EOMONTH($A32,-1)),'6.Reportes de Pagos'!H:H,"<="&(EOMONTH($A32,0))) -> 1.1914585e+09 | H32: =SUM(F32:G32) -> 6.2190111e+10 | I32: =ROUND(SUMIFS('7.Rendimientos Financieros'!D:D,'7.Rendimientos Financieros'!A:A,"<="&(EOMONTH($A32,-1))),2) -> 8.2170613e+09 | J32: =ROUND(SUMIFS('7.Rendimientos Financieros'!D:D,'7.Rendimientos Financieros'!A:A,">"&(EOMONTH($A32,-1)),'7.Rendimientos Financieros'!A:A,"<="&(EOMONTH($A32,0))),2) -> 10757795 | K32: =ROUND(SUMIFS('7.Rendimientos Financieros'!F:F,'7.Rendimientos Financieros'!E:E,"<="&(EOMONTH($A32,0))),2) -> 8.2170613e+09 | L32: =+ROUND(I32+J32-K32,2) -> 10757795 | M32: =+E32-H32+L32 -> 1.4706467e+09 | N32: 1.4706467e+09 | O32: =+N32-M32 -> 0
A33: 46022 | B33: CO1.PCCNTR. 4917031 DE 2023 | C33: =SUMIFS('3.Ingresos del Contrato'!J:J,'3.Ingresos del Contrato'!H:H,"<="&(EOMONTH($A33,-1))) -> 63650000000 | D33: =SUMIFS('3.Ingresos del Contrato'!J:J,'3.Ingresos del Contrato'!H:H,">"&(EOMONTH($A33,-1)),'3.Ingresos del Contrato'!H:H,"<="&(EOMONTH($A33,0))) -> 0 | E33: =SUM(C33:D33) -> 63650000000 | F33: =ROUND(SUMIFS('6.Reportes de Pagos'!N:N,'6.Reportes de Pagos'!H:H,"<="&(EOMONTH($A33,-1)))-0.37,2) -> 6.2190111e+10 | G33: =SUMIFS('6.Reportes de Pagos'!N:N,'6.Reportes de Pagos'!H:H,">"&(EOMONTH($A33,-1)),'6.Reportes de Pagos'!H:H,"<="&(EOMONTH($A33,0))) -> 2.695661e+08 | H33: =SUM(F33:G33) -> 6.2459677e+10 | I33: =ROUND(SUMIFS('7.Rendimientos Financieros'!D:D,'7.Rendimientos Financieros'!A:A,"<="&(EOMONTH($A33,-1))),2) -> 8.2278191e+09 | J33: =ROUND(SUMIFS('7.Rendimientos Financieros'!D:D,'7.Rendimientos Financieros'!A:A,">"&(EOMONTH($A33,-1)),'7.Rendimientos Financieros'!A:A,"<="&(EOMONTH($A33,0))),2) -> 6937473.4 | K33: =ROUND(SUMIFS('7.Rendimientos Financieros'!F:F,'7.Rendimientos Financieros'!E:E,"<="&(EOMONTH($A33,0))),2) -> 8.2278191e+09 | L33: =+ROUND(I33+J33-K33,2) -> 6937473.4 | M33: =+E33-H33+L33 -> 1.1972603e+09 | N33: 1.1972603e+09 | O33: =+N33-M33 -> 0
A34: 46053 | B34: CO1.PCCNTR. 4917031 DE 2023 | C34: =SUMIFS('3.Ingresos del Contrato'!J:J,'3.Ingresos del Contrato'!H:H,"<="&(EOMONTH($A34,-1))) -> 63650000000 | D34: =SUMIFS('3.Ingresos del Contrato'!J:J,'3.Ingresos del Contrato'!H:H,">"&(EOMONTH($A34,-1)),'3.Ingresos del Contrato'!H:H,"<="&(EOMONTH($A34,0))) -> 0 | E34: =SUM(C34:D34) -> 63650000000 | F34: =ROUND(SUMIFS('6.Reportes de Pagos'!N:N,'6.Reportes de Pagos'!H:H,"<="&(EOMONTH($A34,-1)))-0.37,2) -> 6.2459677e+10 | G34: =SUMIFS('6.Reportes de Pagos'!N:N,'6.Reportes de Pagos'!H:H,">"&(EOMONTH($A34,-1)),'6.Reportes de Pagos'!H:H,"<="&(EOMONTH($A34,0))) -> 1.3364419e+08 | H34: =SUM(F34:G34) -> 6.2593321e+10 | I34: =ROUND(SUMIFS('7.Rendimientos Financieros'!D:D,'7.Rendimientos Financieros'!A:A,"<="&(EOMONTH($A34,-1))),2) -> 8.2347566e+09 | J34: =ROUND(SUMIFS('7.Rendimientos Financieros'!D:D,'7.Rendimientos Financieros'!A:A,">"&(EOMONTH($A34,-1)),'7.Rendimientos Financieros'!A:A,"<="&(EOMONTH($A34,0))),2) -> 5918501.5 | K34: =ROUND(SUMIFS('7.Rendimientos Financieros'!F:F,'7.Rendimientos Financieros'!E:E,"<="&(EOMONTH($A34,0))),2) -> 8.2347566e+09 | L34: =+ROUND(I34+J34-K34,2) -> 5918501.5 | M34: =+E34-H34+L34 -> 1.0625971e+09 | N34: =241440817.67+821156279.19 -> 1.0625971e+09 | O34: =+N34-M34 -> 0.0049966574 | P34: =196960+179140 -> 376100 | Q34: =+O34+P34 -> 376100
A35: 46081 | B35: CO1.PCCNTR. 4917031 DE 2023 | C35: =SUMIFS('3.Ingresos del Contrato'!J:J,'3.Ingresos del Contrato'!H:H,"<="&(EOMONTH($A35,-1))) -> 63650000000 | D35: =SUMIFS('3.Ingresos del Contrato'!J:J,'3.Ingresos del Contrato'!H:H,">"&(EOMONTH($A35,-1)),'3.Ingresos del Contrato'!H:H,"<="&(EOMONTH($A35,0))) -> 0 | E35: =SUM(C35:D35) -> 63650000000 | F35: =ROUND(SUMIFS('6.Reportes de Pagos'!N:N,'6.Reportes de Pagos'!H:H,"<="&(EOMONTH($A35,-1)))-0.37,2) -> 6.2593321e+10 | G35: =SUMIFS('6.Reportes de Pagos'!N:N,'6.Reportes de Pagos'!H:H,">"&(EOMONTH($A35,-1)),'6.Reportes de Pagos'!H:H,"<="&(EOMONTH($A35,0))) -> 0 | H35: =SUM(F35:G35)-0.01 -> 6.2593321e+10 | I35: =ROUND(SUMIFS('7.Rendimientos Financieros'!D:D,'7.Rendimientos Financieros'!A:A,"<="&(EOMONTH($A35,-1))),2) -> 8.2406751e+09 | J35: =ROUND(SUMIFS('7.Rendimientos Financieros'!D:D,'7.Rendimientos Financieros'!A:A,">"&(EOMONTH($A35,-1)),'7.Rendimientos Financieros'!A:A,"<="&(EOMONTH($A35,0))),2) -> 4725008.4 | K35: =ROUND(SUMIFS('7.Rendimientos Financieros'!F:F,'7.Rendimientos Financieros'!E:E,"<="&(EOMONTH($A35,0))),2) -> 8.2406751e+09 | L35: =+ROUND(I35+J35-K35,2) -> 4725008.4 | M35: =+E35-H35+L35 -> 1.0614036e+09 | N35: 1.0614036e+09 | O35: =+N35-M35 -> 0
A36: 46112 | B36: CO1.PCCNTR. 4917031 DE 2023 | C36: =SUMIFS('3.Ingresos del Contrato'!J:J,'3.Ingresos del Contrato'!H:H,"<="&(EOMONTH($A36,-1))) -> 63650000000 | D36: =SUMIFS('3.Ingresos del Contrato'!J:J,'3.Ingresos del Contrato'!H:H,">"&(EOMONTH($A36,-1)),'3.Ingresos del Contrato'!H:H,"<="&(EOMONTH($A36,0))) -> 0 | E36: =SUM(C36:D36) -> 63650000000 | F36: =ROUND(SUMIFS('6.Reportes de Pagos'!N:N,'6.Reportes de Pagos'!H:H,"<="&(EOMONTH($A36,-1)))-0.37,2) -> 6.2593321e+10 | G36: =SUMIFS('6.Reportes de Pagos'!N:N,'6.Reportes de Pagos'!H:H,">"&(EOMONTH($A36,-1)),'6.Reportes de Pagos'!H:H,"<="&(EOMONTH($A36,0))) -> 75396616 | H36: =SUM(F36:G36)-0.01 -> 6.2668718e+10 | I36: =ROUND(SUMIFS('7.Rendimientos Financieros'!D:D,'7.Rendimientos Financieros'!A:A,"<="&(EOMONTH($A36,-1))),2) -> 8.2454001e+09 | J36: =ROUND(SUMIFS('7.Rendimientos Financieros'!D:D,'7.Rendimientos Financieros'!A:A,">"&(EOMONTH($A36,-1)),'7.Rendimientos Financieros'!A:A,"<="&(EOMONTH($A36,0))),2) -> 7669314.6 | K36: =ROUND(SUMIFS('7.Rendimientos Financieros'!F:F,'7.Rendimientos Financieros'!E:E,"<="&(EOMONTH($A36,0))),2) -> 8.2454001e+09 | L36: =+ROUND(I36+J36-K36,2) -> 7669314.6 | M36: =+E36-H36+L36 -> 9.8895129e+08 | N36: 9.8895129e+08 | O36: =+N36-M36 -> -1.3113022e-06
A37: 46142 | B37: CO1.PCCNTR. 4917031 DE 2023 | C37: =SUMIFS('3.Ingresos del Contrato'!J:J,'3.Ingresos del Contrato'!H:H,"<="&(EOMONTH($A37,-1))) -> 63650000000 | D37: =SUMIFS('3.Ingresos del Contrato'!J:J,'3.Ingresos del Contrato'!H:H,">"&(EOMONTH($A37,-1)),'3.Ingresos del Contrato'!H:H,"<="&(EOMONTH($A37,0))) -> 0 | E37: =SUM(C37:D37) -> 63650000000 | F37: =ROUND(SUMIFS('6.Reportes de Pagos'!N:N,'6.Reportes de Pagos'!H:H,"<="&(EOMONTH($A37,-1)))-0.37,2) -> 6.2668718e+10 | G37: =SUMIFS('6.Reportes de Pagos'!N:N,'6.Reportes de Pagos'!H:H,">"&(EOMONTH($A37,-1)),'6.Reportes de Pagos'!H:H,"<="&(EOMONTH($A37,0))) -> 2.6500684e+08 | H37: =SUM(F37:G37)-0.01 -> 6.2933725e+10 | I37: =ROUND(SUMIFS('7.Rendimientos Financieros'!D:D,'7.Rendimientos Financieros'!A:A,"<="&(EOMONTH($A37,-1))),2) -> 8.2530694e+09 | J37: =ROUND(SUMIFS('7.Rendimientos Financieros'!D:D,'7.Rendimientos Financieros'!A:A,">"&(EOMONTH($A37,-1)),'7.Rendimientos Financieros'!A:A,"<="&(EOMONTH($A37,0))),2) -> 8167039.5 | K37: =ROUND(SUMIFS('7.Rendimientos Financieros'!F:F,'7.Rendimientos Financieros'!E:E,"<="&(EOMONTH($A37,0))),2) -> 8.2530694e+09 | L37: =+ROUND(I37+J37-K37,2) -> 8167039.5 | M37: =+E37-H37+L37 -> 7.2444218e+08 | N37: =579575419.04+144871993.09 -> 7.2444741e+08 | O37: =+N37-M37 -> 5236.01
A38: 46143 | B38: CO1.PCCNTR. 4917031 DE 2023 | C38: =SUMIFS('3.Ingresos del Contrato'!J:J,'3.Ingresos del Contrato'!H:H,"<="&(EOMONTH($A38,-1))) -> 63650000000 | D38: =SUMIFS('3.Ingresos del Contrato'!J:J,'3.Ingresos del Contrato'!H:H,">"&(EOMONTH($A38,-1)),'3.Ingresos del Contrato'!H:H,"<="&(EOMONTH($A38,0))) -> 0 | E38: =SUM(C38:D38) -> 63650000000 | F38: =ROUND(SUMIFS('6.Reportes de Pagos'!N:N,'6.Reportes de Pagos'!H:H,"<="&(EOMONTH($A38,-1)))-0.37,2) -> 6.2933725e+10 | G38: =SUMIFS('6.Reportes de Pagos'!N:N,'6.Reportes de Pagos'!H:H,">"&(EOMONTH($A38,-1)),'6.Reportes de Pagos'!H:H,"<="&(EOMONTH($A38,0))) -> 45160500 | H38: =SUM(F38:G38)-0.01 -> 6.2978885e+10 | I38: =ROUND(SUMIFS('7.Rendimientos Financieros'!D:D,'7.Rendimientos Financieros'!A:A,"<="&(EOMONTH($A38,-1))),2) -> 8.2612365e+09 | J38: =ROUND(SUMIFS('7.Rendimientos Financieros'!D:D,'7.Rendimientos Financieros'!A:A,">"&(EOMONTH($A38,-1)),'7.Rendimientos Financieros'!A:A,"<="&(EOMONTH($A38,0))),2) -> 6148734.9 | K38: =ROUND(SUMIFS('7.Rendimientos Financieros'!F:F,'7.Rendimientos Financieros'!E:E,"<="&(EOMONTH($A38,0))),2) -> 8.2612365e+09 | L38: =+ROUND(I38+J38-K38,2) -> 6148734.9 | M38: =+E38-H38+L38 -> 6.7726337e+08 | N38: =545049456.75+132219151.01 -> 6.7726861e+08 | O38: =+N38-M38 -> 5236.2
F41: VALOR | G41: DESCRIPCION | J41: SALDO PATRIMONIO CONTRATO INTER ADMINISTRATIVO | M41: AHORROS | N41: 1.4487199e+08
F42: =+N37 -> 7.2444741e+08 | G42: SALDO RECURSOS LÍQUIDOS (SALDO CUENTA DE AHORROS + SALDO FIC) | M42: FIC | N42: 5.7957542e+08
F43: =+O38 -> 5236.2 | G43: CUENTAS X COBRAR | M43: TOTAL | N43: =+N42+N41 -> 7.2444741e+08
...

Sheet 2.Resumen Presupuestal
A1: =CONTRATO -> Contrato Interadministrativo No. CO1.PCCNTR. 4917031
A2: Ministerio de Educación Nacional
A3: Financiera del Desarrollo S.A.
A4: 2. RESUMEN PRESUPUESTAL
A5: =periodo -> 01 de mayo al 31 de mayo de 2026
A7: CDP | B7: VIGENCIA FISCAL | C7: VALOR CDP | D7: ADICION | E7: VALOR PRESUPUESTO (A) | F7: FUENTE | G7: ORIGEN DE LOS RECURSOS | H7: RECURSOS RECIBIDOS | I7: REFORMULACIÓN Y/O ADICIONES AL CONTRATO | J7: ASISTENCIA TECNICA COMPROMISOS (B) | K7: ADJUDICACIONES Y/O COMPROMISOS (C) | L7: LIBERACIONES ACTAS DE LIQUIDACION CONTRATOS (D) | M7: SALDO DISPONIBLE POR COMPROMETER (E) = (A)-(B)-(C)+(D) | N7: PAGOS ADJUDICACIONES Y/O COMPROMISOS (F) | O7: SALDO POR PAGAR ADJUDICACIONES Y/O COMPROMISOS (G) = ((B)+(C))-((F)+(D))
A8: =+'3.Ingresos del Contrato'!A8 -> 222190 | B8: 2023 | C8: =+'3.Ingresos del Contrato'!C8 -> 63650000000 | D8: 0 | E8: =SUM(C8:D8) -> 63650000000 | F8: NACION | G8: 10 | H8: =+'3.Ingresos del Contrato'!G9 -> 63650000000 | I8: 0 | J8: =VRFINDETER -> 4164018692 | K8: =VRCONTRATOS-VLMAYPERM -> 5.9924886e+10 | L8: =VRLIBERACIONES -> 4.7978288e+08 | M8: =+E8-K8-J8+L8 -> 40877873 | N8: =VRFACT+(VRPAGOSCTOS-VRRTEGTIACTO) -> 6.3531624e+10 | O8: =(K8+J8)-(N8+L8)+VLMAYPERM -> 6.3024348e+08
A9: TOTAL | C9: =SUM(C8:C8) -> 63650000000 | D9: =SUM(D8:D8) -> 0 | E9: =SUM(E8:E8) -> 63650000000 | H9: =SUM(H8:H8) -> 63650000000 | I9: =SUM(I8:I8) -> 0 | J9: =SUM(J8:J8) -> 4164018692 | K9: =SUM(K8:K8) -> 5.9924886e+10 | L9: =SUM(L8:L8) -> 4.7978288e+08 | M9: =SUM(M8:M8) -> 40877873 | N9: =SUM(N8:N8) -> 6.3531624e+10 | O9: =SUM(O8:O8) -> 6.3024348e+08
J11: valor total ded proyectos distribución recursos | K11: =+K9-L9+M9 -> 59485981308

Sheet 3.Ingresos del Contrato
A1: =CONTRATO -> Contrato Interadministrativo No. CO1.PCCNTR. 4917031
A2: Ministerio de Educación Nacional
A3: Financiera del Desarrollo S.A.
A4: 3. INGRESOS DEL CONTRATO
A5: =periodo -> 01 de mayo al 31 de mayo de 2026
A7: CDP | B7: VIGENCIA FISCAL | C7: VALOR CDP | D7: ADICION CDP | E7: VALOR PRESUPUESTO | F7: FUENTE | G7: VALOR DESEMBOLSO | H7: FECHA | I7: TRASLADO | J7: TOTAL DESEMBOLSOS | K7: SALDO POR DESEMBOLSAR
A8: 222190 | B8: 2023 | C8: 63650000000 | D8: 0 | E8: =SUM(C8:D8) -> 63650000000 | F8: NACION | G8: =+E8 -> 63650000000 | H8: 45142 | I8: NACION | J8: =+G8 -> 63650000000 | K8: =+E8-SUM(J8:J8) -> 0
A9: TOTAL | C9: =SUM(C8:C8) -> 63650000000 | D9: =SUM(D8:D8) -> 0 | E9: =SUM(E8:E8) -> 63650000000 | G9: =SUM(G8:G8) -> 63650000000 | J9: =SUM(J8:J8) -> 63650000000 | K9: =+G9-J9 -> 0

Sheet 4.E.F. Contratación Derivada
A1: =CONTRATO -> Contrato Interadministrativo No. CO1.PCCNTR. 4917031
A2: Ministerio de Educación Nacional
A3: Financiera del Desarrollo S.A.
A4: 4. EJECUCION FINANCIERA CONTRATACION DERIVADA
A5: =periodo -> 01 de mayo al 31 de mayo de 2026
A7: ITEM | B7: CONTRATO | C7: CDP | D7: FUENTE | E7: VIGENCIA FISCAL | F7: CDR (*) | G7: FECHA | H7: VALOR PRESUPUESTO | I7: LINEA DEL PROYECTO | J7: PROYECTO | K7: MUNICIPIO | L7: DEPARTAMENTO | M7: GRUPO | N7: CANTIDAD SEDES | O7: CONTRATO No. | P7: FECHA SUSCRIPCION | Q7: TIPO CONTRATO | R7: CONTRATADO O POR CONTRATAR | S7: CONTRATISTA | T7: CC / NIT | U7: VALOR ADJUDICADO | V7: VALOR POR ADJUDICAR Y/O LIBERAR | W7: ADICIONES / MODIFICACIONES CONTRATO | X7: MAYORES PERMANCIAS CONTRATOS | Y7: VALOR FINAL CONTRATO | Z7: ="VALOR ACUMULADO PAGADO AL" &CHAR(10)&UPPER(TEXT((EOMONTH(FECHA,-1)),"dd/mmm/yy")) -> VALOR ACUMULADO PAGADO AL 31/MAR/26 | AA7: ="VALOR ACUMULADO RETEGARANTIA AL" &CHAR(10)&UPPER(TEXT((EOMONTH(FECHA,-1)),"dd/mmm/yy")) -> VALOR ACUMULADO RETEGARANTIA AL 31/MAR/26 | AB7: ="VALOR LIBERACIONES ACTA DE LIQUIDACION AL" &CHAR(10)&UPPER(TEXT((EOMONTH(FECHA,-1)),"dd/mmm/yy")) -> VALOR LIBERACIONES ACTA DE LIQUIDACION AL 31/MAR/26 | AC7: ="VALOR PAGADO"&CHAR(10)&UPPER(TEXT(FECHA,"mmmm/yyyy")) -> VALOR PAGADO ABRIL/2026 | AD7: ="VALOR RETEGARANTIA "&CHAR(10)&UPPER(TEXT(FECHA,"mmmm/yyyy")) -> VALOR RETEGARANTIA ABRIL/2026 | AE7: ="VALOR LIBERACIONES ACTA DE LIQUIDACION "&CHAR(10)&UPPER(TEXT(FECHA,"mmmm/yyyy")) -> VALOR LIBERACIONES ACTA DE LIQUIDACION ABRIL/2026 | AF7: VALOR PAGADO MAYO/2026 | AG7: VALOR RETEGARANTIA MAYO/2026 | AH7: VALOR LIBERACIONES ACTA DE LIQUIDACION MAYO/2026 | AI7: VALOR ACUMULADO PAGADO AL 31/MAY/2026 | AJ7: VALOR ACUMULADO RETEGARANTÍA AL 31/MAY/2026 | AK7: VALOR LIBERACIONES ACTA DE LIQUIDACIÓN AL 31/MAY/2026 | AL7: SALDO POR PAGAR | AM7: % AVANCE FINANCIERO | AN7: ESTADO
A8: 1 | B8: CO1.PCCNTR. 4917031 DE 2023 | C8: 222190 | D8: NACION | E8: 2023 | F8: 4 35 | G8: 14/08/2023 09/05/2024 | H8: =+[5]Contrato!$E$33+[5]Contrato!$E$34+[5]Contrato!$E$35+[5]Contrato!$E$97 -> 4031522251 | J8: EJECUCIÓN DE OBRAS DE MEJORAMIENTO Y/U OBRAS REQUERIDAS PARA LA INFRAESTRUCTURA EDUCATIVA E INSTALACIÓN DE AULAS Y/O BATERÍAS SANITARIAS EN SISTEMAS PREFABRICADOS Y SU PUESTA EN CONDICIONES DE FUNCIONALIDAD - GRUPO 1 | K8: CIUDAD BOLIVAR TADO APARTADO CARMEN DEL DARIEN TURBO | L8: ANTIOQUIA CHOCO | M8: 1 | O8: PAF-MENAM-O-049-2023 | P8: 45223 | Q8: OBRA | R8: CONTRATADO | S8: OBRAS CAPITAL S.A. | T8: 900.246.080-0 | U8: 3447332359 | V8: 0 | W8: 201152963 | X8: -28580295 | Y8: =+U8+W8 -> 3648485322 | Z8: =SUMIFS('6.Reportes de Pagos'!I:I,'6.Reportes de Pagos'!H:H,"<="&(EOMONTH(FECHA,-1)),'6.Reportes de Pagos'!D:D,$O8) -> 3.4255661e+09 | AA8: =SUMIFS('6.Reportes de Pagos'!J:J,'6.Reportes de Pagos'!H:H,"<="&(EOMONTH(FECHA,-1)),'6.Reportes de Pagos'!D:D,$O8) -> 0 | AB8: 0 | AC8: =SUMIFS('6.Reportes de Pagos'!I:I,'6.Reportes de Pagos'!H:H,">"&(EOMONTH(FECHA,-1)),'6.Reportes de Pagos'!H:H,"<="&(EOMONTH(FECHA,0)),'6.Reportes de Pagos'!D:D,$O8) -> 0 | AD8: =SUMIFS('6.Reportes de Pagos'!J:J,'6.Reportes de Pagos'!H:H,">"&(EOMONTH(FECHA,-1)),'6.Reportes de Pagos'!H:H,"<="&(EOMONTH(FECHA,0)),'6.Reportes de Pagos'!D:D,$O8) -> 0 | AE8: 2.2291924e+08 | AI8: =SUMIFS('6.Reportes de Pagos'!I:I,'6.Reportes de Pagos'!H:H,"<="&(EOMONTH(FECHA,0)),'6.Reportes de Pagos'!D:D,$O8) -> 3.4255661e+09 | AJ8: =SUMIFS('6.Reportes de Pagos'!J:J,'6.Reportes de Pagos'!H:H,"<="&(EOMONTH(FECHA,0)),'6.Reportes de Pagos'!D:D,$O8) -> 0 | AK8: =+AB8+AE8 -> 2.2291924e+08 | AL8: =+Y8-(AI8-AJ8)-AK8 -> 0 | AM8: =IFERROR(((AI8-AJ8+AK8)/Y8),0) -> 1 | AN8: Liquidado | AO8: =+AI8-AJ8 -> 3.4255661e+09 | AP8: =+AO8/Y8 -> 0.93890088
A9: 2 | B9: CO1.PCCNTR. 4917031 DE 2023 | C9: 222190 | D9: NACION | E9: 2023 | F9: 7 26 | G9: 15/08/2023 29/01/2024 | H9: =+[5]Contrato!$E$42+[5]Contrato!$E$43+[5]Contrato!$E$88 -> 3.12438e+08 | J9: INTERVENTORÍA A LA EJECUCIÓN DE OBRAS DE MEJORAMIENTO Y/U OBRAS REQUERIDAS PARA LA INFRAESTRUCTURA EDUCATIVA Y SUMINISTRO E INSTALACIÓN DE AULAS Y/O BATERÍAS SANITARIAS EN SISTEMAS PREFABRICADOS Y SU PUESTA EN CONDICIONES DE FUNCIONALIDAD Y CIERRE CONTRACTUAL -GRUPO 1 | K9: CIUDAD BOLIVAR TADO APARTADO CARMEN DEL DARIEN TURBO | L9: ANTIOQUIA CHOCO | M9: 1 | O9: PAF-MENAM-I-052-2023 | P9: 45218 | Q9: INTERVENTORIA DE OBRA | R9: CONTRATADO | S9: INTERVENTORIAS Y CONSULTORIAS S.A.S | T9: 900503646 | U9: 271455247 | V9: 0 | W9: =+'[6]4. E.F. CONTRATACION DEREIVADA'!$P$20+'[6]4. E.F. CONTRATACION DEREIVADA'!$P$21 -> 25183770 | X9: 28580295 | Y9: =+U9+W9+X9 -> 3.2521931e+08 | Z9: =SUMIFS('6.Reportes de Pagos'!I:I,'6.Reportes de Pagos'!H:H,"<="&(EOMONTH(FECHA,-1)),'6.Reportes de Pagos'!D:D,$O9) -> 3.2006124e+08 | AA9: =SUMIFS('6.Reportes de Pagos'!J:J,'6.Reportes de Pagos'!H:H,"<="&(EOMONTH(FECHA,-1)),'6.Reportes de Pagos'!D:D,$O9) -> 0 | AB9: 0 | AC9: =SUMIFS('6.Reportes de Pagos'!I:I,'6.Reportes de Pagos'!H:H,">"&(EOMONTH(FECHA,-1)),'6.Reportes de Pagos'!H:H,"<="&(EOMONTH(FECHA,0)),'6.Reportes de Pagos'!D:D,$O9) -> 0 | AD9: =SUMIFS('6.Reportes de Pagos'!J:J,'6.Reportes de Pagos'!H:H,">"&(EOMONTH(FECHA,-1)),'6.Reportes de Pagos'!H:H,"<="&(EOMONTH(FECHA,0)),'6.Reportes de Pagos'!D:D,$O9) -> 0 | AE9: 5158074.7 | AI9: =SUMIFS('6.Reportes de Pagos'!I:I,'6.Reportes de Pagos'!H:H,"<="&(EOMONTH(FECHA,0)),'6.Reportes de Pagos'!D:D,$O9) -> 3.2006124e+08 | AJ9: =SUMIFS('6.Reportes de Pagos'!J:J,'6.Reportes de Pagos'!H:H,"<="&(EOMONTH(FECHA,0)),'6.Reportes de Pagos'!D:D,$O9) -> 0 | AK9: =+AB9+AE9 -> 5158074.7 | AL9: =+Y9-(AI9-AJ9)-AK9 -> 7.4505806e-09 | AM9: =IFERROR(((AI9-AJ9+AK9)/Y9),0) -> 1 | AN9: Liquidado
A10: =+A9+1 -> 3 | B10: CO1.PCCNTR. 4917031 DE 2023 | C10: 222190 | D10: NACION | E10: 2023 | F10: 3 | G10: 45147 | H10: =+[5]Contrato!$E$28+[5]Contrato!$E$29+[5]Contrato!$E$30 -> 4171350830 | J10: EJECUCIÓN DE OBRAS DE MEJORAMIENTO Y/U OBRAS REQUERIDAS PARA LA INFRAESTRUCTURA EDUCATIVA E INSTALACIÓN DE AULAS Y/O BATERÍAS SANITARIAS EN SISTEMAS PREFABRICADOS Y SU PUESTA EN CONDICIONES DE FUNCIONALIDAD - GRUPO 2 | K10: SOLEDAD GALAPA REPELON PALMAR DE VARELA LURUACO | L10: ATLANTICO | M10: 2 | O10: PAF-MENAM-O-050-2023 | P10: 45217 | Q10: OBRA | R10: CONTRATADO | S10: CONSORCIO EDUCATIVO SJ 2023 | T10: 901762612 | U10: 4044124630 | V10: 0 | X10: -57808106 | Y10: =+U10+W10 -> 4044124630 | Z10: =SUMIFS('6.Reportes de Pagos'!I:I,'6.Reportes de Pagos'!H:H,"<="&(EOMONTH(FECHA,-1)),'6.Reportes de Pagos'!D:D,$O10) -> 4.0287478e+09 | AA10: =SUMIFS('6.Reportes de Pagos'!J:J,'6.Reportes de Pagos'!H:H,"<="&(EOMONTH(FECHA,-1)),'6.Reportes de Pagos'!D:D,$O10) -> 0 | AB10: 0 | AC10: =SUMIFS('6.Reportes de Pagos'!I:I,'6.Reportes de Pagos'!H:H,">"&(EOMONTH(FECHA,-1)),'6.Reportes de Pagos'!H:H,"<="&(EOMONTH(FECHA,0)),'6.Reportes de Pagos'!D:D,$O10) -> 0 | AD10: =SUMIFS('6.Reportes de Pagos'!J:J,'6.Reportes de Pagos'!H:H,">"&(EOMONTH(FECHA,-1)),'6.Reportes de Pagos'!H:H,"<="&(EOMONTH(FECHA,0)),'6.Reportes de Pagos'!D:D,$O10) -> 0 | AE10: 0 | AI10: =SUMIFS('6.Reportes de Pagos'!I:I,'6.Reportes de Pagos'!H:H,"<="&(EOMONTH(FECHA,0)),'6.Reportes de Pagos'!D:D,$O10) -> 4.0287478e+09 | AJ10: =SUMIFS('6.Reportes de Pagos'!J:J,'6.Reportes de Pagos'!H:H,"<="&(EOMONTH(FECHA,0)),'6.Reportes de Pagos'!D:D,$O10) -> 0 | AK10: 15376849 | AL10: =+Y10-(AI10-AJ10)-AK10 -> 0 | AM10: =IFERROR(((AI10-AJ10+AK10)/Y10),0) -> 1 | AN10: Liquidado | AO10: =+AI10-AJ10 -> 4.0287478e+09 | AP10: =+AO10/Y10 -> 0.99619773
A11: =+A10+1 -> 4 | B11: CO1.PCCNTR. 4917031 DE 2023 | C11: 222190 | D11: NACION | E11: 2023 | F11: 2 40 44 | G11: 8/08/2023 30/05/2024 02/08/2024 | H11: =+[5]Contrato!$E$31+[5]Contrato!$E$32+[5]Contrato!$E$102+[5]Contrato!$E$107 -> 3.6872829e+08 | J11: INTERVENTORÍA A LA EJECUCIÓN DE OBRAS DE MEJORAMIENTO Y/U OBRAS REQUERIDAS PARA LA INFRAESTRUCTURA EDUCATIVA Y SUMINISTRO E INSTALACIÓN DE AULAS Y/O BATERÍAS SANITARIAS EN SISTEMAS PREFABRICADOS Y SU PUESTA EN CONDICIONES DE FUNCIONALIDAD Y CIERRE CONTRACTUAL -GRUPO 2 | K11: SOLEDAD GALAPA REPELON PALMAR DE VARELA LURUACO | L11: ATLANTICO | M11: 2 | O11: PAF-MENAM-I-053-2023 | P11: 45205 | Q11: INTERVENTORIA DE OBRA | R11: CONTRATADO | S11: RM INGENIEROS S.A.S | T11: 900345967 | U11: 295715000 | V11: 0 | W11: 55890908 | X11: 57808106 | Y11: =+U11+W11+X11 -> 409414014 | Z11: =SUMIFS('6.Reportes de Pagos'!I:I,'6.Reportes de Pagos'!H:H,"<="&(EOMONTH(FECHA,-1)),'6.Reportes de Pagos'!D:D,$O11) -> 4.0331204e+08 | AA11: =SUMIFS('6.Reportes de Pagos'!J:J,'6.Reportes de Pagos'!H:H,"<="&(EOMONTH(FECHA,-1)),'6.Reportes de Pagos'!D:D,$O11) -> 0 | AB11: 0 | AC11: =SUMIFS('6.Reportes de Pagos'!I:I,'6.Reportes de Pagos'!H:H,">"&(EOMONTH(FECHA,-1)),'6.Reportes de Pagos'!H:H,"<="&(EOMONTH(FECHA,0)),'6.Reportes de Pagos'!D:D,$O11) -> 0 | AD11: =SUMIFS('6.Reportes de Pagos'!J:J,'6.Reportes de Pagos'!H:H,">"&(EOMONTH(FECHA,-1)),'6.Reportes de Pagos'!H:H,"<="&(EOMONTH(FECHA,0)),'6.Reportes de Pagos'!D:D,$O11) -> 0 | AE11: 0 | AI11: =SUMIFS('6.Reportes de Pagos'!I:I,'6.Reportes de Pagos'!H:H,"<="&(EOMONTH(FECHA,0)),'6.Reportes de Pagos'!D:D,$O11) -> 4.0331204e+08 | AJ11: =SUMIFS('6.Reportes de Pagos'!J:J,'6.Reportes de Pagos'!H:H,"<="&(EOMONTH(FECHA,0)),'6.Reportes de Pagos'!D:D,$O11) -> 0 | AK11: 6101975.1 | AL11: =+Y11-(AI11-AJ11)-AK11 -> -5.6810677e-08 | AM11: =IFERROR(((AI11-AJ11+AK11)/Y11),0) -> 1 | AN11: Liquidado
A12: =+A11+1 -> 5 | B12: CO1.PCCNTR. 4917031 DE 2023 | C12: 222190 | D12: NACION | E12: 2023 | F12: 5 | G12: 45152 | H12: =+[5]Contrato!$E$36+[5]Contrato!$E$37+[5]Contrato!$E$38 -> 4901818340 | J12: EJECUCIÓN DE OBRAS DE MEJORAMIENTO Y/U OBRAS REQUERIDAS PARA LA INFRAESTRUCTURA EDUCATIVA E INSTALACIÓN DE AULAS Y/O BATERÍAS SANITARIAS EN SISTEMAS PREFABRICADOS Y SU PUESTA EN CONDICIONES DE FUNCIONALIDAD - GRUPO 3 | K12: PUEBLO VIEJO EL RETEN CIENAGA | L12: MAGDALENA | M12: 3 | O12: PAF-MENAM-O-051-2023 | P12: 45219 | Q12: OBRA | R12: CONTRATADO | S12: CONSORCIO INSTITUCIONES DEL MAGDALENA | T12: 901763421 | U12: 4744960153 | V12: 0 | X12: -10000000 | Y12: =+U12+W12 -> 4744960153 | Z12: =SUMIFS('6.Reportes de Pagos'!I:I,'6.Reportes de Pagos'!H:H,"<="&(EOMONTH(FECHA,-1)),'6.Reportes de Pagos'!D:D,$O12) -> 4744960153 | AA12: =SUMIFS('6.Reportes de Pagos'!J:J,'6.Reportes de Pagos'!H:H,"<="&(EOMONTH(FECHA,-1)),'6.Reportes de Pagos'!D:D,$O12) -> 0 | AB12: 0 | AC12: =SUMIFS('6.Reportes de Pagos'!I:I,'6.Reportes de Pagos'!H:H,">"&(EOMONTH(FECHA,-1)),'6.Reportes de Pagos'!H:H,"<="&(EOMONTH(FECHA,0)),'6.Reportes de Pagos'!D:D,$O12) -> 0 | AD12: =SUMIFS('6.Reportes de Pagos'!J:J,'6.Reportes de Pagos'!H:H,">"&(EOMONTH(FECHA,-1)),'6.Reportes de Pagos'!H:H,"<="&(EOMONTH(FECHA,0)),'6.Reportes de Pagos'!D:D,$O12) -> 0 | AE12: 0 | AI12: =SUMIFS('6.Reportes de Pagos'!I:I,'6.Reportes de Pagos'!H:H,"<="&(EOMONTH(FECHA,0)),'6.Reportes de Pagos'!D:D,$O12) -> 4744960153 | AJ12: =SUMIFS('6.Reportes de Pagos'!J:J,'6.Reportes de Pagos'!H:H,"<="&(EOMONTH(FECHA,0)),'6.Reportes de Pagos'!D:D,$O12) -> 0 | AK12: =+AB12+AE12 -> 0 | AL12: =+Y12-(AI12-AJ12)-AK12 -> 0 | AM12: =IFERROR(((AI12-AJ12+AK12)/Y12),0) -> 1 | AN12: Liquidado | AO12: =+AI12-AJ12 -> 4744960153 | AP12: =+AO12/Y12 -> 1
