Workbook

Sheet PRECIOS DE REFERENCIA (2)
A1: ITEMS | B1: DESCRIPCIÓN | C1: MEDIDA | D1: VOLKSWAGEN AMAROK MOD 2015 | E1: NISSAN FRONTIER NP 300 - MOD 2014 | F1: MICROBUS RENAULT MOD 2014 | G1: MITSUBISHI CANTER MOD 2003 | H1: TOYOTA LAND CRUISER MOD 2015
A3: 1 | B3: LAVADO SENCILLO EXTERNO,INTERNO,ASPIRADA | C3: UNIDAD | D3: =+'VOLKSWAGEN AMAROK MOD 2015'!I6 -> 58520 | E3: =+'NISSAN FRONTIER NP 300 - MOD'!I6 -> 57479 | F3: =+'MICROBUS RENAULT MOD 2014'!I6 -> 65692 | G3: =+'MITSUBISHI CANTER MOD 2003'!I6 -> 62959 | H3: =+'TOYOTA LAND CRUISER'!I6 -> 72310
A4: 2 | B4: LAVADO GENERAL INCLUYE ASPIRADA, LAVADO DEL MOTOR Y CHASIS EN CARCAMO | C4: UNIDAD | D4: =+'VOLKSWAGEN AMAROK MOD 2015'!I7 -> 107714 | E4: =+'NISSAN FRONTIER NP 300 - MOD'!I7 -> 106756 | F4: =+'MICROBUS RENAULT MOD 2014'!I7 -> 117581 | G4: =+'MITSUBISHI CANTER MOD 2003'!I7 -> 99861 | H4: =+'TOYOTA LAND CRUISER'!I7 -> 124374
A5: 3 | B5: LAVADO GENERAL CON DESMANCHADO Y PULIDA | C5: UNIDAD | D5: =+'VOLKSWAGEN AMAROK MOD 2015'!I8 -> 173498 | E5: =+'NISSAN FRONTIER NP 300 - MOD'!I8 -> 171956 | F5: =+'MICROBUS RENAULT MOD 2014'!I8 -> 189159 | G5: =+'MITSUBISHI CANTER MOD 2003'!I8 -> 170294 | H5: =+'TOYOTA LAND CRUISER'!I8 -> 210343
A6: 4 | B6: LAVADO TAPICERIA | C6: UNIDAD | D6: =+'VOLKSWAGEN AMAROK MOD 2015'!I9 -> 252792 | E6: =+'NISSAN FRONTIER NP 300 - MOD'!I9 -> 256163 | F6: =+'MICROBUS RENAULT MOD 2014'!I9 -> 282412 | G6: =+'MITSUBISHI CANTER MOD 2003'!I9 -> 206622 | H6: =+'TOYOTA LAND CRUISER'!I9 -> 319338
A7: 5 | B7: ENGRASE GENERAL | C7: GLOBAL | D7: =+'VOLKSWAGEN AMAROK MOD 2015'!I10 -> 46467 | E7: =+'NISSAN FRONTIER NP 300 - MOD'!I10 -> 47150 | F7: =+'MICROBUS RENAULT MOD 2014'!I10 -> 50381 | G7: =+'MITSUBISHI CANTER MOD 2003'!I10 -> 49210 | H7: =+'TOYOTA LAND CRUISER'!I10 -> 74772
A8: 6 | B8: REVISION GENERAL, AJUSTE Y MANTENIMIENTO DEL SISTEMA DE FRENOS INCLUYE: REVISION DE GAS,TUBERIAS,MANGUERAS,REVISION DE FLUIDOS. | C8: UNIDAD | D8: =+'VOLKSWAGEN AMAROK MOD 2015'!I11 -> 171612 | E8: =+'NISSAN FRONTIER NP 300 - MOD'!I11 -> 173655 | F8: =+'MICROBUS RENAULT MOD 2014'!I11 -> 203357 | G8: =+'MITSUBISHI CANTER MOD 2003'!I11 -> 172208 | H8: =+'TOYOTA LAND CRUISER'!I11 -> 172208
A9: 7 | B9: DESMONTAJE Y MONTAJE COMPONENTES FRENO DE DISCO (PASTILLAS,MORDAZAS,DISCOS,CILINDROS, ETC) | C9: GLOBAL | D9: =+'VOLKSWAGEN AMAROK MOD 2015'!I12 -> 135801 | E9: =+'NISSAN FRONTIER NP 300 - MOD'!I12 -> 135801 | F9: =+'MICROBUS RENAULT MOD 2014'!I12 -> 162713 | G9: =+'MITSUBISHI CANTER MOD 2003'!I12 -> 137837 | H9: =+'TOYOTA LAND CRUISER'!I12 -> 136232
A10: 8 | B10: DESMONTAJE Y MONTAJE BOMBA DE FRENO | C10: UNIDAD | D10: =+'VOLKSWAGEN AMAROK MOD 2015'!I13 -> 167038 | E10: =+'NISSAN FRONTIER NP 300 - MOD'!I13 -> 165573 | F10: =+'MICROBUS RENAULT MOD 2014'!I13 -> 195367 | G10: =+'MITSUBISHI CANTER MOD 2003'!I13 -> 144526 | H10: =+'TOYOTA LAND CRUISER'!I13 -> 161910
A11: 9 | B11: DESMONTAJE Y MONTAJE DE MODULO ABS | C11: UNIDAD | D11: =+'VOLKSWAGEN AMAROK MOD 2015'!I14 -> 282579 | E11: N/A | F11: =+'MICROBUS RENAULT MOD 2014'!I14 -> 52731 | G11: N/A | H11: =+'TOYOTA LAND CRUISER'!I14 -> 232208
A12: 10 | B12: DESMONTAJE Y MONTAJE DE SENSOR | C12: UNIDAD | D12: =+'VOLKSWAGEN AMAROK MOD 2015'!I15 -> 141216 | E12: N/A | F12: =+'MICROBUS RENAULT MOD 2014'!I15 -> 48906 | G12: N/A | H12: =+'TOYOTA LAND CRUISER'!I15 -> 116044
A13: 11 | B13: DESMONTAJE Y MONTAJE INCLUYE RECTIFICACION DE DISCO O CAMPANA | C13: UNIDAD | D13: =+'VOLKSWAGEN AMAROK MOD 2015'!I16 -> 104480 | E13: =+'NISSAN FRONTIER NP 300 - MOD'!I16 -> 130361 | F13: =+'MICROBUS RENAULT MOD 2014'!I16 -> 106632 | G13: =+'MITSUBISHI CANTER MOD 2003'!I16 -> 106268 | H13: =+'TOYOTA LAND CRUISER'!I16 -> 102169
A14: 12 | B14: DESMONTAJE Y MONTAJE COMPONENTES FRENOS TRASERO Y/O FRENO TAMBOR | C14: GLOBAL | D14: =+'VOLKSWAGEN AMAROK MOD 2015'!I17 -> 658690 | E14: =+'NISSAN FRONTIER NP 300 - MOD'!I17 -> 779225 | F14: =+'MICROBUS RENAULT MOD 2014'!I17 -> 645360 | G14: =+'MITSUBISHI CANTER MOD 2003'!I17 -> 642079 | H14: =+'TOYOTA LAND CRUISER'!I17 -> 649868
A15: 13 | B15: GRADUACIÓN SISTEMA DE FRENOS RUEDA TRASERA | C15: GLOBAL | D15: =+'VOLKSWAGEN AMAROK MOD 2015'!I18 -> 291996 | E15: =+'NISSAN FRONTIER NP 300 - MOD'!I18 -> 345430 | F15: =+'MICROBUS RENAULT MOD 2014'!I18 -> 286088 | G15: =+'MITSUBISHI CANTER MOD 2003'!I18 -> 284633 | H15: =+'TOYOTA LAND CRUISER'!I18 -> 288086
A16: 14 | B16: CAMBIO GUAYA FRENO DE MANO | C16: UNIDAD | D16: =+'VOLKSWAGEN AMAROK MOD 2015'!I19 -> 196928 | E16: =+'NISSAN FRONTIER NP 300 - MOD'!I19 -> 232964 | F16: =+'MICROBUS RENAULT MOD 2014'!I19 -> 192943 | G16: =+'MITSUBISHI CANTER MOD 2003'!I19 -> 191962 | H16: =+'TOYOTA LAND CRUISER'!I19 -> 194290
A17: 15 | B17: CAMBIO KIT CALIPER (SELLO Y/O ORING PISTON, GUARDAPOLVOS DE PASADORES Y PISTON, ANTIRUIDOS, PASADORES Y GUIAS O BUJES PASADORES Y TORNILLOS) | C17: JUEGO | D17: =+'VOLKSWAGEN AMAROK MOD 2015'!I20 -> 1072320 | E17: =+'NISSAN FRONTIER NP 300 - MOD'!I20 -> 1268547 | F17: =+'MICROBUS RENAULT MOD 2014'!I20 -> 1050620 | G17: =+'MITSUBISHI CANTER MOD 2003'!I20 -> 1045279 | H17: =+'TOYOTA LAND CRUISER'!I20 -> 1057958
A18: 16 | B18: DESMONTAJE Y MONTAJE BRAZOS AXIALES | C18: UNIDAD | D18: =+'VOLKSWAGEN AMAROK MOD 2015'!I21 -> 126097 | E18: =+'NISSAN FRONTIER NP 300 - MOD'!I21 -> 127510 | F18: =+'MICROBUS RENAULT MOD 2014'!I21 -> 125969 | G18: =+'MITSUBISHI CANTER MOD 2003'!I21 -> 115311 | H18: =+'TOYOTA LAND CRUISER'!I21 -> 191796
A19: 17 | B19: DESMONTAJE Y MONTAJE DE TERMINAL DIRECCION | C19: UNIDAD | D19: =+'VOLKSWAGEN AMAROK MOD 2015'!I22 -> 500359 | E19: =+'NISSAN FRONTIER NP 300 - MOD'!I22 -> 501942 | F19: =+'MICROBUS RENAULT MOD 2014'!I22 -> 392795 | G19: =+'MITSUBISHI CANTER MOD 2003'!I22 -> 385978 | H19: =+'TOYOTA LAND CRUISER'!I22 -> 549655
A20: 18 | B20: DESMONTAJE Y MONTAJE DE TIJERAS | C20: UNIDAD | D20: =+'VOLKSWAGEN AMAROK MOD 2015'!I23 -> 124510 | E20: =+'NISSAN FRONTIER NP 300 - MOD'!I23 -> 126710 | F20: =+'MICROBUS RENAULT MOD 2014'!I23 -> 126098 | G20: =+'MITSUBISHI CANTER MOD 2003'!I23 -> 131733 | H20: =+'TOYOTA LAND CRUISER'!I23 -> 202640
A21: 19 | B21: DESMONTAJE Y MONTAJE DE COLGANTES | C21: UNIDAD | D21: =+'VOLKSWAGEN AMAROK MOD 2015'!I24 -> 375269 | E21: =+'NISSAN FRONTIER NP 300 - MOD'!I24 -> 379098 | F21: =+'MICROBUS RENAULT MOD 2014'!I24 -> 262082 | G21: =+'MITSUBISHI CANTER MOD 2003'!I24 -> 263466 | H21: =+'TOYOTA LAND CRUISER'!I24 -> 410586
A22: 20 | B22: DESMONTAJE Y MONTAJE BUJES DE TIJERAS (INCLUYE SUPERIOR E INFERIOR / IZQUIERDO Y DERECHO, SERVICIO DE PRENSA) | C22: JUEGO | D22: =+'VOLKSWAGEN AMAROK MOD 2015'!I25 -> 213311 | E22: =+'NISSAN FRONTIER NP 300 - MOD'!I25 -> 214371 | F22: =+'MICROBUS RENAULT MOD 2014'!I25 -> 212287 | G22: =+'MITSUBISHI CANTER MOD 2003'!I25 -> 214082 | H22: =+'TOYOTA LAND CRUISER'!I25 -> 214082
A23: 21 | B23: DESMONTAJE Y MONTAJE DE MOÑONAS (SERVICIO DE PRENSA INCLUIDO) | C23: UNIDAD | D23: =+'VOLKSWAGEN AMAROK MOD 2015'!I26 -> 163300 | E23: =+'NISSAN FRONTIER NP 300 - MOD'!I26 -> 164857 | F23: =+'MICROBUS RENAULT MOD 2014'!I26 -> 164310 | G23: =+'MITSUBISHI CANTER MOD 2003'!I26 -> 165700 | H23: =+'TOYOTA LAND CRUISER'!I26 -> 210725
A24: 22 | B24: DESMONTAJE Y MONTAJE DE AMORTIGUADORES DELANTEROS | C24: JUEGO | D24: =+'VOLKSWAGEN AMAROK MOD 2015'!I27 -> 278643 | E24: =+'NISSAN FRONTIER NP 300 - MOD'!I27 -> 281299 | F24: =+'MICROBUS RENAULT MOD 2014'!I27 -> 305771 | G24: =+'MITSUBISHI CANTER MOD 2003'!I27 -> 280451 | H24: =+'TOYOTA LAND CRUISER'!I27 -> 403276
... A33: 31 | B33: DESMONTAJE Y MONTAJE DE PUNTA DE EJE LADO RUEDA | C33: UNIDAD | D33: =+'VOLKSWAGEN AMAROK MOD 2015'!I36 -> 335312 | E33: =+'NISSAN FRONTIER NP 300 - MOD'!I36 -> 346327 | F33: =+'MICROBUS RENAULT MOD 2014'!I36 -> 335302 | G33: =+'MITSUBISHI CANTER MOD 2003'!I36 -> 331118 | H33: =+'TOYOTA LAND CRUISER'!I36 -> 357552
A34: 32 | B34: DESMONTAJE Y MONTAJE CUNA SUSPENSION | C34: UNIDAD | D34: N/A | E34: N/A | F34: N/A | G34: N/A | H34: N/A
A35: 33 | B35: DESMONTAJE Y MONTAJE PERNO DE RUEDA | C35: UNIDAD | D35: =+'VOLKSWAGEN AMAROK MOD 2015'!I38 -> 108543 | E35: =+'NISSAN FRONTIER NP 300 - MOD'!I38 -> 111217 | F35: =+'MICROBUS RENAULT MOD 2014'!I38 -> 111269 | G35: =+'MITSUBISHI CANTER MOD 2003'!I38 -> 106897 | H35: =+'TOYOTA LAND CRUISER'!I38 -> 116104
A36: 34 | B36: DESMONTAJE Y MONTAJE HOJA PRINCIPAL DEL MUELLE | C36: UNIDAD | D36: =+'VOLKSWAGEN AMAROK MOD 2015'!I39 -> 281407 | E36: =+'NISSAN FRONTIER NP 300 - MOD'!I39 -> 288341 | F36: =+'MICROBUS RENAULT MOD 2014'!I39 -> 288474 | G36: =+'MITSUBISHI CANTER MOD 2003'!I39 -> 277139 | H36: =+'TOYOTA LAND CRUISER'!I39 -> 301012
A37: 35 | B37: DESMONTAJE Y MONTAJE CREMALLERA DIRECCION | C37: UNIDAD | D37: =+'VOLKSWAGEN AMAROK MOD 2015'!I40 -> 474372 | E37: =+'NISSAN FRONTIER NP 300 - MOD'!I40 -> 486060 | F37: =+'MICROBUS RENAULT MOD 2014'!I40 -> 486285 | G37: =+'MITSUBISHI CANTER MOD 2003'!I40 -> 467177 | H37: =+'TOYOTA LAND CRUISER'!I40 -> 507419
A38: 36 | B38: DESMONTAJE Y MONTAJE BUJE CREMALLERA | C38: UNIDAD | D38: =+'VOLKSWAGEN AMAROK MOD 2015'!I41 -> 318784 | E38: =+'NISSAN FRONTIER NP 300 - MOD'!I41 -> 325181 | F38: =+'MICROBUS RENAULT MOD 2014'!I41 -> 327701 | G38: =+'MITSUBISHI CANTER MOD 2003'!I41 -> 317206 | H38: =+'TOYOTA LAND CRUISER'!I41 -> 341146
A39: 37 | B39: DESMONTAJE Y MONTAJE COLUMNA DIRECCION | C39: UNIDAD | D39: =+'VOLKSWAGEN AMAROK MOD 2015'!I42 -> 427947 | E39: =+'NISSAN FRONTIER NP 300 - MOD'!I42 -> 436535 | F39: =+'MICROBUS RENAULT MOD 2014'!I42 -> 439917 | G39: =+'MITSUBISHI CANTER MOD 2003'!I42 -> 425830 | H39: =+'TOYOTA LAND CRUISER'!I42 -> 452687
A40: 38 | B40: DESMONTAJE Y MONTAJE BIELA DE DIRECCION | C40: UNIDAD | D40: =+'VOLKSWAGEN AMAROK MOD 2015'!I43 -> 221006 | E40: =+'NISSAN FRONTIER NP 300 - MOD'!I43 -> 225441 | F40: =+'MICROBUS RENAULT MOD 2014'!I43 -> 227187 | G40: =+'MITSUBISHI CANTER MOD 2003'!I43 -> 219912 | H40: =+'TOYOTA LAND CRUISER'!I43 -> 233782
A41: 39 | B41: DESMONTAJE Y MONTAJE BARRA LARGA DE LA DIRECCIÓN | C41: UNIDAD | D41: =+'VOLKSWAGEN AMAROK MOD 2015'!I44 -> 415734 | E41: =+'NISSAN FRONTIER NP 300 - MOD'!I44 -> 428073 | F41: =+'MICROBUS RENAULT MOD 2014'!I44 -> 427363 | G41: =+'MITSUBISHI CANTER MOD 2003'!I44 -> 421064 | H41: =+'TOYOTA LAND CRUISER'!I44 -> 439768
A42: 40 | B42: DESMONTAJE Y MONTAJE BARRA CORTA DE LA DIRECCIÓN | C42: UNIDAD | D42: =+'VOLKSWAGEN AMAROK MOD 2015'!I45 -> 433800 | E42: =+'NISSAN FRONTIER NP 300 - MOD'!I45 -> 438138 | F42: =+'MICROBUS RENAULT MOD 2014'!I45 -> 430232 | G42: =+'MITSUBISHI CANTER MOD 2003'!I45 -> 430965 | H42: =+'TOYOTA LAND CRUISER'!I45 -> 456368
A43: 41 | B43: DESMONTAJE Y MONTAJE BUJE SUJECION CAJA DIRECCION | C43: UNIDAD | D43: =+'VOLKSWAGEN AMAROK MOD 2015'!I46 -> 210366 | E43: =+'NISSAN FRONTIER NP 300 - MOD'!I46 -> 212470 | F43: =+'MICROBUS RENAULT MOD 2014'!I46 -> 208636 | G43: =+'MITSUBISHI CANTER MOD 2003'!I46 -> 208991 | H43: =+'TOYOTA LAND CRUISER'!I46 -> 221310
A44: 42 | B44: DESMONTAJE Y MONTAJE EMPAQUETADURA COMPLETA CREMALLERA DIRECCION | C44: JUEGO | D44: =+'VOLKSWAGEN AMAROK MOD 2015'!I47 -> 969523 | E44: =+'NISSAN FRONTIER NP 300 - MOD'!I47 -> 992274 | F44: =+'MICROBUS RENAULT MOD 2014'!I47 -> 961548 | G44: =+'MITSUBISHI CANTER MOD 2003'!I47 -> 967411 | H44: =+'TOYOTA LAND CRUISER'!I47 -> 1019962
A45: 43 | B45: DESMONTAJE Y MONTAJE RETENEDOR CREMALLERA DIRECCION | C45: UNIDAD | D45: =+'VOLKSWAGEN AMAROK MOD 2015'!I48 -> 704156 | E45: =+'NISSAN FRONTIER NP 300 - MOD'!I48 -> 733724 | F45: =+'MICROBUS RENAULT MOD 2014'!I48 -> 717808 | G45: =+'MITSUBISHI CANTER MOD 2003'!I48 -> 715339 | H45: =+'TOYOTA LAND CRUISER'!I48 -> 759871
A46: 44 | B46: DESMONTAJE Y MONTAJE RODAMIENTO CREMALLERA DIRECCION | C46: UNIDAD | D46: =+'VOLKSWAGEN AMAROK MOD 2015'!I49 -> 669877 | E46: =+'NISSAN FRONTIER NP 300 - MOD'!I49 -> 698006 | F46: =+'MICROBUS RENAULT MOD 2014'!I49 -> 682865 | G46: =+'MITSUBISHI CANTER MOD 2003'!I49 -> 680516 | H46: =+'TOYOTA LAND CRUISER'!I49 -> 722880
... A54: 52 | B54: CAMBIO DE POLEAS | C54: GLOBAL | D54: =+'VOLKSWAGEN AMAROK MOD 2015'!I57 -> 171474 | E54: =+'NISSAN FRONTIER NP 300 - MOD'!I57 -> 171094 | F54: =+'MICROBUS RENAULT MOD 2014'!I57 -> 187411 | G54: =+'MITSUBISHI CANTER MOD 2003'!I57 -> 179202 | H54: =+'TOYOTA LAND CRUISER'!I57 -> 310297
A55: 53 | B55: MANTENIMIENTO GENERAL AL SISTEMA DE AIRE ACONDICIONADO | C55: UNIDAD | D55: =+'VOLKSWAGEN AMAROK MOD 2015'!I58 -> 278299 | E55: =+'NISSAN FRONTIER NP 300 - MOD'!I58 -> 277682 | F55: =+'MICROBUS RENAULT MOD 2014'!I58 -> 277811 | G55: N/A | H55: =+'TOYOTA LAND CRUISER'!I58 -> 760462
A56: 54 | B56: CAMBIO MANGUERA PRESION LIQUIDO HIDRAHULICO | C56: UNIDAD | D56: =+'VOLKSWAGEN AMAROK MOD 2015'!I59 -> 144474 | E56: =+'NISSAN FRONTIER NP 300 - MOD'!I59 -> 144154 | F56: =+'MICROBUS RENAULT MOD 2014'!I59 -> 148928 | G56: =+'MITSUBISHI CANTER MOD 2003'!I59 -> 141235 | H56: =+'TOYOTA LAND CRUISER'!I59 -> 168166
A57: 55 | B57: CAMBIO DEPOSITO LIQUIDO HIDRAHULICO | C57: UNIDAD | D57: =+'VOLKSWAGEN AMAROK MOD 2015'!I60 -> 143334 | E57: =+'NISSAN FRONTIER NP 300 - MOD'!I60 -> 145228 | F57: =+'MICROBUS RENAULT MOD 2014'!I60 -> 146776 | G57: =+'MITSUBISHI CANTER MOD 2003'!I60 -> 139193 | H57: =+'TOYOTA LAND CRUISER'!I60 -> 165735
A58: 56 | B58: CAMBIO TAPA DEPOSITO LIQUIDO HIDRAHULICO | C58: UNIDAD | D58: =+'VOLKSWAGEN AMAROK MOD 2015'!I61 -> 114805 | E58: =+'NISSAN FRONTIER NP 300 - MOD'!I61 -> 116323 | F58: =+'MICROBUS RENAULT MOD 2014'!I61 -> 125324 | G58: =+'MITSUBISHI CANTER MOD 2003'!I61 -> 113187 | H58: =+'TOYOTA LAND CRUISER'!I61 -> 115311
A59: 57 | B59: CAMBIO RADIADOR SISTEMA HIDRAHULICO | C59: UNIDAD | D59: =+'VOLKSWAGEN AMAROK MOD 2015'!I62 -> 383150 | E59: =+'NISSAN FRONTIER NP 300 - MOD'!I62 -> 388213 | F59: =+'MICROBUS RENAULT MOD 2014'!I62 -> 411981 | G59: =+'MITSUBISHI CANTER MOD 2003'!I62 -> 372082 | H59: =+'TOYOTA LAND CRUISER'!I62 -> 396123
A60: 58 | B60: CAMBIO BOMBA HIDRAHULICA | C60: UNIDAD | D60: =+'VOLKSWAGEN AMAROK MOD 2015'!I63 -> 385746 | E60: =+'NISSAN FRONTIER NP 300 - MOD'!I63 -> 390844 | F60: =+'MICROBUS RENAULT MOD 2014'!I63 -> 414772 | G60: =+'MITSUBISHI CANTER MOD 2003'!I63 -> 374603 | H60: =+'TOYOTA LAND CRUISER'!I63 -> 398807
A61: 59 | B61: CAMBIO CORREA DE DENTADO | C61: UNIDAD | D61: =+'VOLKSWAGEN AMAROK MOD 2015'!I64 -> 177676 | E61: =+'NISSAN FRONTIER NP 300 - MOD'!I64 -> 180024 | F61: =+'MICROBUS RENAULT MOD 2014'!I64 -> 191045 | G61: N/A | H61: N/A
A62: 60 | B62: MANTENIMIENTO MOTOR DE ARRANQUE (INCLUYE REPUESTOS) | C62: UNIDAD | D62: =+'VOLKSWAGEN AMAROK MOD 2015'!I65 -> 2650368 | E62: =+'NISSAN FRONTIER NP 300 - MOD'!I65 -> 2567544 | F62: =+'MICROBUS RENAULT MOD 2014'!I65 -> 2247078 | G62: =+'MITSUBISHI CANTER MOD 2003'!I65 -> 2238390 | H62: =+'TOYOTA LAND CRUISER'!I65 -> 2842613
A63: 61 | B63: MANTENIMIENTO ALTERNADOR (INCLUYE REPUESTOS) | C63: UNIDAD | D63: =+'VOLKSWAGEN AMAROK MOD 2015'!I66 -> 1884960 | E63: =+'NISSAN FRONTIER NP 300 - MOD'!I66 -> 2034900 | F63: =+'MICROBUS RENAULT MOD 2014'!I66 -> 1660236 | G63: =+'MITSUBISHI CANTER MOD 2003'!I66 -> 1560090 | H63: =+'TOYOTA LAND CRUISER'!I66 -> 1927146
A64: 62 | B64: RADIADOR DE AIRE ACONDICIONADO | C64: UNIDAD | D64: =+'VOLKSWAGEN AMAROK MOD 2015'!I67 -> 305628 | E64: =+'NISSAN FRONTIER NP 300 - MOD'!I67 -> 305628 | F64: =+'MICROBUS RENAULT MOD 2014'!I67 -> 308162 | G64: =+'MITSUBISHI CANTER MOD 2003'!I67 -> 300288 | H64: =+'TOYOTA LAND CRUISER'!I67 -> 471927
A65: 63 | B65: RADIADOR DE MOTOR | C65: UNIDAD | D65: =+'VOLKSWAGEN AMAROK MOD 2015'!I68 -> 298473 | E65: =+'NISSAN FRONTIER NP 300 - MOD'!I68 -> 298473 | F65: =+'MICROBUS RENAULT MOD 2014'!I68 -> 291962 | G65: =+'MITSUBISHI CANTER MOD 2003'!I68 -> 289935 | H65: =+'TOYOTA LAND CRUISER'!I68 -> 479877
A66: 64 | B66: EMPAQUE MULTIPLE EXOSTO | C66: JUEGO | D66: =+'VOLKSWAGEN AMAROK MOD 2015'!I69 -> 134298 | E66: =+'NISSAN FRONTIER NP 300 - MOD'!I69 -> 130234 | F66: =+'MICROBUS RENAULT MOD 2014'!I69 -> 133444 | G66: =+'MITSUBISHI CANTER MOD 2003'!I69 -> 133811 | H66: =+'TOYOTA LAND CRUISER'!I69 -> 263419
A67: 65 | B67: MOFLE Y EXOSTO | C67: UNIDAD | D67: =+'VOLKSWAGEN AMAROK MOD 2015'!I70 -> 136083 | E67: =+'NISSAN FRONTIER NP 300 - MOD'!I70 -> 131964 | F67: =+'MICROBUS RENAULT MOD 2014'!I70 -> 136490 | G67: =+'MITSUBISHI CANTER MOD 2003'!I70 -> 136050 | H67: =+'TOYOTA LAND CRUISER'!I70 -> 276050
A68: 66 | B68: CAMBIO BOMBONA DE EXOSTO | C68: UNIDAD | D68: =+'VOLKSWAGEN AMAROK MOD 2015'!I71 -> 238011 | E68: =+'NISSAN FRONTIER NP 300 - MOD'!I71 -> 230808 | F68: =+'MICROBUS RENAULT MOD 2014'!I71 -> 232764 | G68: =+'MITSUBISHI CANTER MOD 2003'!I71 -> 231041 | H68: =+'TOYOTA LAND CRUISER'!I71 -> 314841
A69: 67 | B69: ARGOLLAS Y SOLDADURAS | C69: GLOBAL | D69: =+'VOLKSWAGEN AMAROK MOD 2015'!I72 -> 139139 | E69: =+'NISSAN FRONTIER NP 300 - MOD'!I72 -> 139139 | F69: =+'MICROBUS RENAULT MOD 2014'!I72 -> 145849 | G69: =+'MITSUBISHI CANTER MOD 2003'!I72 -> 146251 | H69: =+'TOYOTA LAND CRUISER'!I72 -> 220144
A70: 68 | B70: REPARACION COMPRESOR AIRE ACONDICIONADO | C70: UNIDAD | D70: =+'VOLKSWAGEN AMAROK MOD 2015'!I73 -> 920205 | E70: =+'NISSAN FRONTIER NP 300 - MOD'!I73 -> 832992 | F70: =+'MICROBUS RENAULT MOD 2014'!I73 -> 1051438 | G70: N/A | H70: =+'TOYOTA LAND CRUISER'!I73 -> 1204124
A71: 69 | B71: REVISION Y NIVELACION DE VALVULINA EN CAJA Y TRANSMISION | C71: UNIDAD | D71: =+'VOLKSWAGEN AMAROK MOD 2015'!I74 -> 178821 | E71: =+'NISSAN FRONTIER NP 300 - MOD'!I74 -> 181284 | F71: =+'MICROBUS RENAULT MOD 2014'!I74 -> 181815 | G71: =+'MITSUBISHI CANTER MOD 2003'!I74 -> 181661 | H71: =+'TOYOTA LAND CRUISER'!I74 -> 182151
A72: 70 | B72: CAMBIO GUARDAPOLVO | C72: UNIDAD | D72: =+'VOLKSWAGEN AMAROK MOD 2015'!I75 -> 140644 | E72: =+'NISSAN FRONTIER NP 300 - MOD'!I75 -> 124203 | F72: =+'MICROBUS RENAULT MOD 2014'!I75 -> 141872 | G72: =+'MITSUBISHI CANTER MOD 2003'!I75 -> 160111 | H72: =+'TOYOTA LAND CRUISER'!I75 -> 149291
A73: 71 | B73: SERVICIO DE ESCANNER | C73: UNIDAD | D73: =+'VOLKSWAGEN AMAROK MOD 2015'!I76 -> 142767 | E73: =+'NISSAN FRONTIER NP 300 - MOD'!I76 -> 143346 | F73: =+'MICROBUS RENAULT MOD 2014'!I76 -> 151715 | G73: N/A | H73: =+'TOYOTA LAND CRUISER'!I76 -> 158039
A74: 72 | B74: SINCRONIZACIÓN (INCLUYE REVISION, LIMPIEZA DE INYECTORES, CAMBIO DE BUJIA DE PRECLENTAMIENTO, BUJIAS, CAMBIO DE FILTROS, REVISIÓN DE BONINAS, CAMBIO DE SENSORES, CUERPOS DEL SISTEMA,VALVULAS, ETC) | C74: GLOBAL | D74: =+'VOLKSWAGEN AMAROK MOD 2015'!I77 -> 1749404 | E74: =+'NISSAN FRONTIER NP 300 - MOD'!I77 -> 1889066 | F74: =+'MICROBUS RENAULT MOD 2014'!I77 -> 1920634 | G74: =+'MITSUBISHI CANTER MOD 2003'!I77 -> 1566873 | H74: =+'TOYOTA LAND CRUISER'!I77 -> 2006489
A75: 73 | B75: REVISION Y LIMPIEZA DE SENSORES | C75: GLOBAL | D75: =+'VOLKSWAGEN AMAROK MOD 2015'!I78 -> 247867 | E75: =+'NISSAN FRONTIER NP 300 - MOD'!I78 -> 248872 | F75: =+'MICROBUS RENAULT MOD 2014'!I78 -> 253031 | G75: =+'MITSUBISHI CANTER MOD 2003'!I78 -> 254681 | H75: =+'TOYOTA LAND CRUISER'!I78 -> 398220
A76: 74 | B76: MANTENIMIENTO DE TURBO | C76: UNIDAD | D76: =+'VOLKSWAGEN AMAROK MOD 2015'!I79 -> 831551 | E76: =+'NISSAN FRONTIER NP 300 - MOD'!I79 -> 834923 | F76: =+'MICROBUS RENAULT MOD 2014'!I79 -> 937807 | G76: =+'MITSUBISHI CANTER MOD 2003'!I79 -> 697603 | H76: =+'TOYOTA LAND CRUISER'!I79 -> 1410685
A77: 75 | B77: MANTENIMIENTO, REPARACION Y/O CAMBIO BOMBA DE ALTA | C77: UNIDAD | D77: =+'VOLKSWAGEN AMAROK MOD 2015'!I80 -> 1025197 | E77: =+'NISSAN FRONTIER NP 300 - MOD'!I80 -> 1029088 | F77: =+'MICROBUS RENAULT MOD 2014'!I80 -> 1104666 | G77: =+'MITSUBISHI CANTER MOD 2003'!I80 -> 1114249 | H77: =+'TOYOTA LAND CRUISER'!I80 -> 2062735
A78: 76 | B78: REPARACION INYECTOR (INCLUYE REPUESTOS , MONTAJE Y DESMONTAJE) | C78: UNIDAD | D78: =+'VOLKSWAGEN AMAROK MOD 2015'!I81 -> 1049163 | E78: =+'NISSAN FRONTIER NP 300 - MOD'!I81 -> 1053913 | F78: =+'MICROBUS RENAULT MOD 2014'!I81 -> 1115841 | G78: =+'MITSUBISHI CANTER MOD 2003'!I81 -> 718768 | H78: =+'TOYOTA LAND CRUISER'!I81 -> 1347282
A79: 77 | B79: LIMPIEZA Y MANTENIMIENTO TANQUE DE COMBUSTIBLE | C79: UNIDAD | D79: =+'VOLKSWAGEN AMAROK MOD 2015'!I82 -> 363950 | E79: =+'NISSAN FRONTIER NP 300 - MOD'!I82 -> 365598 | F79: =+'MICROBUS RENAULT MOD 2014'!I82 -> 394801 | G79: =+'MITSUBISHI CANTER MOD 2003'!I82 -> 383072 | H79: =+'TOYOTA LAND CRUISER'!I82 -> 508259
A80: 78 | B80: MANTENIMIENTO VALVULA EGR | C80: UNIDAD | D80: =+'VOLKSWAGEN AMAROK MOD 2015'!I83 -> 343295 | E80: =+'NISSAN FRONTIER NP 300 - MOD'!I83 -> 350133 | F80: =+'MICROBUS RENAULT MOD 2014'!I83 -> 377562 | G80: N/A | H80: =+'TOYOTA LAND CRUISER'!I83 -> 546397
A81: 79 | B81: DESMONTE Y MONTAJE DE LA TOTALIDAD DEL SISTEMA DE INYECCION | C81: GLOBAL | D81: =+'VOLKSWAGEN AMAROK MOD 2015'!I84 -> 934846 | E81: =+'NISSAN FRONTIER NP 300 - MOD'!I84 -> 949170 | F81: =+'MICROBUS RENAULT MOD 2014'!I84 -> 983670 | G81: =+'MITSUBISHI CANTER MOD 2003'!I84 -> 922100 | H81: =+'TOYOTA LAND CRUISER'!I84 -> 1262950
A82: 80 | B82: MANTENIMIENTO RIEL DE COMBUSTIBLE | C82: UNIDAD | D82: =+'VOLKSWAGEN AMAROK MOD 2015'!I85 -> 340661 | E82: =+'NISSAN FRONTIER NP 300 - MOD'!I85 -> 345881 | F82: =+'MICROBUS RENAULT MOD 2014'!I85 -> 346090 | G82: N/A | H82: =+'TOYOTA LAND CRUISER'!I85 -> 372917
A83: 81 | B83: CAMBIO RECIPIENTE DEPOSITO DE LIQUIDO REFRIGERANTE (POTE DE AGUA) | C83: UNIDAD | D83: =+'VOLKSWAGEN AMAROK MOD 2015'!I86 -> 249167 | E83: =+'NISSAN FRONTIER NP 300 - MOD'!I86 -> 232179 | F83: =+'MICROBUS RENAULT MOD 2014'!I86 -> 349843 | G83: =+'MITSUBISHI CANTER MOD 2003'!I86 -> 199263 | H83: =+'TOYOTA LAND CRUISER'!I86 -> 312222
A84: 82 | B84: VALVULA ELECTROVALVULA SCV DE LA BOMBA ALTA | C84: UNIDAD | D84: =+'VOLKSWAGEN AMAROK MOD 2015'!I87 -> 864412 | E84: =+'NISSAN FRONTIER NP 300 - MOD'!I87 -> 776823 | F84: =+'MICROBUS RENAULT MOD 2014'!I87 -> 912461 | G84: N/A | H84: =+'TOYOTA LAND CRUISER'!I87 -> 908403
A85: 83 | B85: REPARACION DE FLOTADOR DE COMBUSTIBLE | C85: UNIDAD | D85: =+'VOLKSWAGEN AMAROK MOD 2015'!I88 -> 564701 | E85: =+'NISSAN FRONTIER NP 300 - MOD'!I88 -> 540569 | F85: =+'MICROBUS RENAULT MOD 2014'!I88 -> 631056 | G85: =+'MITSUBISHI CANTER MOD 2003'!I88 -> 441605 | H85: =+'TOYOTA LAND CRUISER'!I88 -> 666602
A86: 84 | B86: DESMONTE Y MONTE DE TANQUE GASOLINA | C86: UNIDAD | D86: =+'VOLKSWAGEN AMAROK MOD 2015'!I89 -> 369038 | E86: =+'NISSAN FRONTIER NP 300 - MOD'!I89 -> 372530 | F86: =+'MICROBUS RENAULT MOD 2014'!I89 -> 421854 | G86: =+'MITSUBISHI CANTER MOD 2003'!I89 -> 347594 | H86: =+'TOYOTA LAND CRUISER'!I89 -> 509107
A87: 85 | B87: REPARACIÓN Y/O MANTENIMEINTO RADIADOR INCLUYE CAMBIO | C87: UNIDAD | D87: =+'VOLKSWAGEN AMAROK MOD 2015'!I90 -> 623072 | E87: =+'NISSAN FRONTIER NP 300 - MOD'!I90 -> 636472 | F87: =+'MICROBUS RENAULT MOD 2014'!I90 -> 580226 | G87: =+'MITSUBISHI CANTER MOD 2003'!I90 -> 534954 | H87: =+'TOYOTA LAND CRUISER'!I90 -> 672031
A88: 86 | B88: TANQUE RADIADOR | C88: UNIDAD | D88: =+'VOLKSWAGEN AMAROK MOD 2015'!I91 -> 348384 | E88: =+'NISSAN FRONTIER NP 300 - MOD'!I91 -> 352404 | F88: =+'MICROBUS RENAULT MOD 2014'!I91 -> 329960 | G88: =+'MITSUBISHI CANTER MOD 2003'!I91 -> 317209 | H88: =+'TOYOTA LAND CRUISER'!I91 -> 418333
A89: 87 | B89: CAMBIO KIT DE EMBRAGUE (PRENSA, DISCO, BALINERA COLLARÍN), INCLUYE RECTIFICADA DE VOLANTE EMBRAGUE | C89: JUEGO | D89: =+'VOLKSWAGEN AMAROK MOD 2015'!I92 -> 1272062 | E89: =+'NISSAN FRONTIER NP 300 - MOD'!I92 -> 1290150 | F89: =+'MICROBUS RENAULT MOD 2014'!I92 -> 1339414 | G89: =+'MITSUBISHI CANTER MOD 2003'!I92 -> 1287653 | H89: =+'TOYOTA LAND CRUISER'!I92 -> 1346761
A90: 88 | B90: DESMONTE Y REPARACIÓN CAJA DE TRANSMISIÓN | C90: UNIDAD | D90: =+'VOLKSWAGEN AMAROK MOD 2015'!I93 -> 1310489 | E90: =+'NISSAN FRONTIER NP 300 - MOD'!I93 -> 1330134 | F90: =+'MICROBUS RENAULT MOD 2014'!I93 -> 1294098 | G90: =+'MITSUBISHI CANTER MOD 2003'!I93 -> 1325009 | H90: =+'TOYOTA LAND CRUISER'!I93 -> 1339940
A91: 89 | B91: DESMONTE Y REPARACIÓN CAJA DE DIRECCIÓN | C91: UNIDAD | D91: =+'VOLKSWAGEN AMAROK MOD 2015'!I94 -> 2062223 | E91: =+'NISSAN FRONTIER NP 300 - MOD'!I94 -> 2248434 | F91: =+'MICROBUS RENAULT MOD 2014'!I94 -> 1982166 | G91: =+'MITSUBISHI CANTER MOD 2003'!I94 -> 2029513 | H91: =+'TOYOTA LAND CRUISER'!I94 -> 2653081
A92: 90 | B92: CAMBIO DE CRUCETAS | C92: GLOBAL | D92: =+'VOLKSWAGEN AMAROK MOD 2015'!I95 -> 177807 | E92: =+'NISSAN FRONTIER NP 300 - MOD'!I95 -> 177807 | F92: N/A | G92: =+'MITSUBISHI CANTER MOD 2003'!I95 -> 183548 | H92: =+'TOYOTA LAND CRUISER'!I95 -> 309569
A93: 91 | B93: CAMBIO DE PLANETARIOS | C93: JUEGO | D93: =+'VOLKSWAGEN AMAROK MOD 2015'!I96 -> 385340 | E93: =+'NISSAN FRONTIER NP 300 - MOD'!I96 -> 385340 | F93: N/A | G93: =+'MITSUBISHI CANTER MOD 2003'!I96 -> 386788 | H93: =+'TOYOTA LAND CRUISER'!I96 -> 525728
A94: 92 | B94: CAMBIO DE JOCKEY | C94: UNIDAD | D94: =+'VOLKSWAGEN AMAROK MOD 2015'!I97 -> 357370 | E94: =+'NISSAN FRONTIER NP 300 - MOD'!I97 -> 357370 | F94: N/A | G94: =+'MITSUBISHI CANTER MOD 2003'!I97 -> 356654 | H94: =+'TOYOTA LAND CRUISER'!I97 -> 457836
A95: 93 | B95: CAMBIO Y REPARACIÓN TRANSMISIÓN (ASPECTOS NO CONTEMPLADOS EN LOS ITEMS ANTERIORES) | C95: UNIDAD | D95: =+'VOLKSWAGEN AMAROK MOD 2015'!I98 -> 4104018 | E95: =+'NISSAN FRONTIER NP 300 - MOD'!I98 -> 4104018 | F95: =+'MICROBUS RENAULT MOD 2014'!I98 -> 4406981 | G95: =+'MITSUBISHI CANTER MOD 2003'!I98 -> 3958841 | H95: =+'TOYOTA LAND CRUISER'!I98 -> 4319000
A96: 94 | B96: RECTIFICACIÓN DE CULATA | C96: UNIDAD | D96: =+'VOLKSWAGEN AMAROK MOD 2015'!I99 -> 986159 | E96: =+'NISSAN FRONTIER NP 300 - MOD'!I99 -> 986159 | F96: =+'MICROBUS RENAULT MOD 2014'!I99 -> 1058678 | G96: =+'MITSUBISHI CANTER MOD 2003'!I99 -> 1054247 | H96: =+'TOYOTA LAND CRUISER'!I99 -> 894318
A97: 95 | B97: DESMONTAR Y MONTAR CULATA | C97: UNIDAD | D97: =+'VOLKSWAGEN AMAROK MOD 2015'!I100 -> 726167 | E97: =+'NISSAN FRONTIER NP 300 - MOD'!I100 -> 726167 | F97: =+'MICROBUS RENAULT MOD 2014'!I100 -> 746403 | G97: =+'MITSUBISHI CANTER MOD 2003'!I100 -> 730002 | H97: =+'TOYOTA LAND CRUISER'!I100 -> 951216
A98: 96 | B98: REPARACION GENERAL DE MOTOR | C98: UNIDAD | D98: =+'VOLKSWAGEN AMAROK MOD 2015'!I101 -> 4233674 | E98: =+'NISSAN FRONTIER NP 300 - MOD'!I101 -> 4233674 | F98: =+'MICROBUS RENAULT MOD 2014'!I101 -> 4568882 | G98: =+'MITSUBISHI CANTER MOD 2003'!I101 -> 4181510 | H98: =+'TOYOTA LAND CRUISER'!I101 -> 5694412
A99: 97 | B99: ANILLADA MOTOR | C99: UNIDAD | D99: =+'VOLKSWAGEN AMAROK MOD 2015'!I102 -> 3975000 | E99: =+'NISSAN FRONTIER NP 300 - MOD'!I102 -> 4070000 | F99: =+'MICROBUS RENAULT MOD 2014'!I102 -> 3828552 | G99: =+'MITSUBISHI CANTER MOD 2003'!I102 -> 3613500 | H99: =+'TOYOTA LAND CRUISER'!I102 -> 5342500
A100: 98 | B100: DESMONTE, AJUSTE, MANTENIMIENTO Y MONTAJE SUSPENSION DELANTERA | C100: UNIDAD | D100: =+'VOLKSWAGEN AMAROK MOD 2015'!I103 -> 366889 | E100: =+'NISSAN FRONTIER NP 300 - MOD'!I103 -> 366889 | F100: =+'MICROBUS RENAULT MOD 2014'!I103 -> 399753 | G100: =+'MITSUBISHI CANTER MOD 2003'!I103 -> 406562 | H100: =+'TOYOTA LAND CRUISER'!I103 -> 393320
A101: 99 | B101: DESMONTE, AJUSTE, MANTENIMIENTO Y MONTAJE SUSPENSION TRASERA | C101: UNIDAD | D101: =+'VOLKSWAGEN AMAROK MOD 2015'!I104 -> 366889 | E101: =+'NISSAN FRONTIER NP 300 - MOD'!I104 -> 366889 | F101: =+'MICROBUS RENAULT MOD 2014'!I104 -> 399753 | G101: =+'MITSUBISHI CANTER MOD 2003'!I104 -> 406562 | H101: =+'TOYOTA LAND CRUISER'!I104 -> 393320
A102: 100 | B102: CAMBIO DE BUJES DE MUELLES | C102: JUEGO | D102: =+'VOLKSWAGEN AMAROK MOD 2015'!I105 -> 373444 | E102: =+'NISSAN FRONTIER NP 300 - MOD'!I105 -> 373444 | F102: =+'MICROBUS RENAULT MOD 2014'!I105 -> 382072 | G102: =+'MITSUBISHI CANTER MOD 2003'!I105 -> 372225 | H102: =+'TOYOTA LAND CRUISER'!I105 -> 485624
A103: 101 | B103: ALINEACION | C103: GLOBAL | D103: =+'VOLKSWAGEN AMAROK MOD 2015'!I106 -> 117954 | E103: =+'NISSAN FRONTIER NP 300 - MOD'!I106 -> 117954 | F103: =+'MICROBUS RENAULT MOD 2014'!I106 -> 115484 | G103: =+'MITSUBISHI CANTER MOD 2003'!I106 -> 116856 | H103: =+'TOYOTA LAND CRUISER'!I106 -> 127704
A104: 102 | B104: BALANCEO LLANTAS | C104: GLOBAL | D104: =+'VOLKSWAGEN AMAROK MOD 2015'!I107 -> 58686 | E104: =+'NISSAN FRONTIER NP 300 - MOD'!I107 -> 58686 | F104: =+'MICROBUS RENAULT MOD 2014'!I107 -> 47882 | G104: =+'MITSUBISHI CANTER MOD 2003'!I107 -> 49090 | H104: =+'TOYOTA LAND CRUISER'!I107 -> 70074
A105: 103 | B105: CAMBIO DE FLECHER, RELAY, BOMBILLOS O FUSIBLES | C105: UNIDAD | D105: =+'VOLKSWAGEN AMAROK MOD 2015'!I108 -> 33138 | E105: =+'NISSAN FRONTIER NP 300 - MOD'!I108 -> 33893 | F105: =+'MICROBUS RENAULT MOD 2014'!I108 -> 32819 | G105: =+'MITSUBISHI CANTER MOD 2003'!I108 -> 32423 | H105: =+'TOYOTA LAND CRUISER'!I108 -> 34081
A106: 104 | B106: CAMBIO DE FAROLAS | C106: UNIDAD | D106: =+'VOLKSWAGEN AMAROK MOD 2015'!I109 -> 69617 | E106: =+'NISSAN FRONTIER NP 300 - MOD'!I109 -> 71203 | F106: =+'MICROBUS RENAULT MOD 2014'!I109 -> 68228 | G106: =+'MITSUBISHI CANTER MOD 2003'!I109 -> 72851 | H106: =+'TOYOTA LAND CRUISER'!I109 -> 93756
... A108: 106 | B108: DIAGNOSTICO REPARACIÓN GENERAL SISTEMA ELECTRICO | C108: UNIDAD | D108: =+'VOLKSWAGEN AMAROK MOD 2015'!I111 -> 571531 | E108: =+'NISSAN FRONTIER NP 300 - MOD'!I111 -> 584550 | F108: =+'MICROBUS RENAULT MOD 2014'!I111 -> 568116 | G108: =+'MITSUBISHI CANTER MOD 2003'!I111 -> 614075 | H108: =+'TOYOTA LAND CRUISER'!I111 -> 586690
A109: 107 | B109: DESMONTE, MONTAJE Y PROGRAMACION DE LA COMPUTADORA | C109: UNIDAD | D109: =+'VOLKSWAGEN AMAROK MOD 2015'!I112 -> 1208692 | E109: =+'NISSAN FRONTIER NP 300 - MOD'!I112 -> 1192989 | F109: =+'MICROBUS RENAULT MOD 2014'!I112 -> 1183656 | G109: N/A | H109: =+'TOYOTA LAND CRUISER'!I112 -> 1213010
A110: 108 | B110: REPARACION DE LA COMPUTADORA | C110: UNIDAD | D110: =+'VOLKSWAGEN AMAROK MOD 2015'!I113 -> 3530420 | E110: =+'NISSAN FRONTIER NP 300 - MOD'!I113 -> 3304917 | F110: =+'MICROBUS RENAULT MOD 2014'!I113 -> 3614207 | G110: N/A | H110: =+'TOYOTA LAND CRUISER'!I113 -> 3927608
A111: 109 | B111: DIAGNOSTICO ELECTRICO MEDIDOR DE COMBUSTIBLE EN TABLERO | C111: UNIDAD | D111: =+'VOLKSWAGEN AMAROK MOD 2015'!I114 -> 378002 | E111: =+'NISSAN FRONTIER NP 300 - MOD'!I114 -> 389045 | F111: =+'MICROBUS RENAULT MOD 2014'!I114 -> 404335 | G111: =+'MITSUBISHI CANTER MOD 2003'!I114 -> 375114 | H111: =+'TOYOTA LAND CRUISER'!I114 -> 385478
A112: 110 | B112: LINEA COMPRESOR A/A (INCLUYE INSTALACIÓN) | C112: UNIDAD | D112: =+'VOLKSWAGEN AMAROK MOD 2015'!I115 -> 288710 | E112: =+'NISSAN FRONTIER NP 300 - MOD'!I115 -> 297144 | F112: =+'MICROBUS RENAULT MOD 2014'!I115 -> 303262 | G112: N/A | H112: =+'TOYOTA LAND CRUISER'!I115 -> 299237
A113: 111 | B113: CONTROL O BOTONES SISTEMA AIRE ACONDICIONADO (INCLUYE INSTALACIÓN) | C113: UNIDAD | D113: =+'VOLKSWAGEN AMAROK MOD 2015'!I116 -> 285674 | E113: =+'NISSAN FRONTIER NP 300 - MOD'!I116 -> 294020 | F113: =+'MICROBUS RENAULT MOD 2014'!I116 -> 300074 | G113: N/A | H113: =+'TOYOTA LAND CRUISER'!I116 -> 296092
A114: 112 | B114: ORING SISTEMA AIRE ACONDICIONADO (INCLUYE INSTALACIÓN) | C114: UNIDAD | D114: =+'VOLKSWAGEN AMAROK MOD 2015'!I117 -> 198253 | E114: =+'NISSAN FRONTIER NP 300 - MOD'!I117 -> 201062 | F114: =+'MICROBUS RENAULT MOD 2014'!I117 -> 188673 | G114: N/A | H114: =+'TOYOTA LAND CRUISER'!I117 -> 202747
A115: 113 | B115: BARRIDO Y CARGA GAS SISTEMA AIRE ACONDICIONAD} | C115: GLOBAL | D115: =+'VOLKSWAGEN AMAROK MOD 2015'!I118 -> 610245 | E115: =+'NISSAN FRONTIER NP 300 - MOD'!I118 -> 618893 | F115: =+'MICROBUS RENAULT MOD 2014'!I118 -> 580755 | G115: N/A | H115: =+'TOYOTA LAND CRUISER'!I118 -> 624079
A116: 114 | B116: REVISION SISTEMA ELECTRICO AIRE ACONDICIONADO | C116: GLOBAL | D116: =+'VOLKSWAGEN AMAROK MOD 2015'!I119 -> 403905 | E116: =+'NISSAN FRONTIER NP 300 - MOD'!I119 -> 409629 | F116: =+'MICROBUS RENAULT MOD 2014'!I119 -> 384387 | G116: N/A | H116: =+'TOYOTA LAND CRUISER'!I119 -> 413061
A117: 115 | B117: MANTENIMIENTO AIRE ACONDICIONADO GENERAL (INCLUYE BARRIDO Y CARGA DE GAS, CAMBIO DE FILTROS, CAMBIO DE ORING) | C117: GLOBAL | D117: =+'VOLKSWAGEN AMAROK MOD 2015'!I120 -> 1608827 | E117: =+'NISSAN FRONTIER NP 300 - MOD'!I120 -> 1631627 | F117: =+'MICROBUS RENAULT MOD 2014'!I120 -> 165117 | G117: N/A | H117: =+'TOYOTA LAND CRUISER'!I120 -> 161850
...

Sheet PRECIOS DE REFERENCIA 6
A1: ITEMS | B1: DESCRIPCIÓN | C1: MEDIDA | D1: VOLKSWAGEN AMAROK MOD 2015 | E1: NISSAN FRONTIER NP 300 - MOD 2014 | F1: MICROBUS RENAULT MOD 2014 | G1: MITSUBISHI CANTER MOD 2003 | H1: TOYOTA LAND CRUISER MOD 2015
A3: LAVADO Y CUIDADO EXTERIOR E INTERIOR
A4: 1 | B4: LAVADO SENCILLO EXTERNO,INTERNO,ASPIRADA | C4: UNIDAD | D4: =+'VOLKSWAGEN AMAROK MOD 2015'!I6 -> 58520 | E4: =+'NISSAN FRONTIER NP 300 - MOD'!I6 -> 57479 | F4: =+'MICROBUS RENAULT MOD 2014'!I6 -> 65692 | G4: =+'MITSUBISHI CANTER MOD 2003'!I6 -> 62959 | H4: =+'TOYOTA LAND CRUISER'!I6 -> 72310
A5: 2 | B5: LAVADO GENERAL INCLUYE ASPIRADA, LAVADO DEL MOTOR Y CHASIS EN CARCAMO | C5: UNIDAD | D5: =+'VOLKSWAGEN AMAROK MOD 2015'!I7 -> 107714 | E5: =+'NISSAN FRONTIER NP 300 - MOD'!I7 -> 106756 | F5: =+'MICROBUS RENAULT MOD 2014'!I7 -> 117581 | G5: =+'MITSUBISHI CANTER MOD 2003'!I7 -> 99861 | H5: =+'TOYOTA LAND CRUISER'!I7 -> 124374
A6: 3 | B6: LAVADO GENERAL CON DESMANCHADO Y PULIDA | C6: UNIDAD | D6: =+'VOLKSWAGEN AMAROK MOD 2015'!I8 -> 173498 | E6: =+'NISSAN FRONTIER NP 300 - MOD'!I8 -> 171956 | F6: =+'MICROBUS RENAULT MOD 2014'!I8 -> 189159 | G6: =+'MITSUBISHI CANTER MOD 2003'!I8 -> 170294 | H6: =+'TOYOTA LAND CRUISER'!I8 -> 210343
A7: 4 | B7: LAVADO TAPICERIA | C7: UNIDAD | D7: =+'VOLKSWAGEN AMAROK MOD 2015'!I9 -> 252792 | E7: =+'NISSAN FRONTIER NP 300 - MOD'!I9 -> 256163 | F7: =+'MICROBUS RENAULT MOD 2014'!I9 -> 282412 | G7: =+'MITSUBISHI CANTER MOD 2003'!I9 -> 206622 | H7: =+'TOYOTA LAND CRUISER'!I9 -> 319338
A8: 5 | B8: ENGRASE GENERAL | C8: GLOBAL | D8: =+'VOLKSWAGEN AMAROK MOD 2015'!I10 -> 46467 | E8: =+'NISSAN FRONTIER NP 300 - MOD'!I10 -> 47150 | F8: =+'MICROBUS RENAULT MOD 2014'!I10 -> 50381 | G8: =+'MITSUBISHI CANTER MOD 2003'!I10 -> 49210 | H8: =+'TOYOTA LAND CRUISER'!I10 -> 74772
A9: REVISION Y REPARACION SISTEMA DE FRENOS, MANO DE OBRA IVA INCLUIDO
A10: 6 | B10: REVISION GENERAL, AJUSTE Y MANTENIMIENTO DEL SISTEMA DE FRENOS INCLUYE: REVISION DE GAS,TUBERIAS,MANGUERAS,REVISION DE FLUIDOS. | C10: UNIDAD | D10: =+'VOLKSWAGEN AMAROK MOD 2015'!I11 -> 171612 | E10: =+'NISSAN FRONTIER NP 300 - MOD'!I11 -> 173655 | F10: =+'MICROBUS RENAULT MOD 2014'!I11 -> 203357 | G10: =+'MITSUBISHI CANTER MOD 2003'!I11 -> 172208 | H10: =+'TOYOTA LAND CRUISER'!I11 -> 172208
A11: 7 | B11: DESMONTAJE Y MONTAJE COMPONENTES FRENO DE DISCO (PASTILLAS,MORDAZAS,DISCOS,CILINDROS, ETC) | C11: GLOBAL | D11: =+'VOLKSWAGEN AMAROK MOD 2015'!I12 -> 135801 | E11: =+'NISSAN FRONTIER NP 300 - MOD'!I12 -> 135801 | F11: =+'MICROBUS RENAULT MOD 2014'!I12 -> 162713 | G11: =+'MITSUBISHI CANTER MOD 2003'!I12 -> 137837 | H11: =+'TOYOTA LAND CRUISER'!I12 -> 136232
A12: 8 | B12: DESMONTAJE Y MONTAJE BOMBA DE FRENO | C12: UNIDAD | D12: =+'VOLKSWAGEN AMAROK MOD 2015'!I13 -> 167038 | E12: =+'NISSAN FRONTIER NP 300 - MOD'!I13 -> 165573 | F12: =+'MICROBUS RENAULT MOD 2014'!I13 -> 195367 | G12: =+'MITSUBISHI CANTER MOD 2003'!I13 -> 144526 | H12: =+'TOYOTA LAND CRUISER'!I13 -> 161910
A13: 9 | B13: DESMONTAJE Y MONTAJE DE MODULO ABS | C13: UNIDAD | D13: =+'VOLKSWAGEN AMAROK MOD 2015'!I14 -> 282579 | E13: N/A | F13: =+'MICROBUS RENAULT MOD 2014'!I14 -> 52731 | G13: N/A | H13: =+'TOYOTA LAND CRUISER'!I14 -> 232208
A14: 10 | B14: DESMONTAJE Y MONTAJE DE SENSOR | C14: UNIDAD | D14: =+'VOLKSWAGEN AMAROK MOD 2015'!I15 -> 141216 | E14: N/A | F14: =+'MICROBUS RENAULT MOD 2014'!I15 -> 48906 | G14: N/A | H14: =+'TOYOTA LAND CRUISER'!I15 -> 116044
A15: 11 | B15: DESMONTAJE Y MONTAJE INCLUYE RECTIFICACION DE DISCO O CAMPANA | C15: UNIDAD | D15: =+'VOLKSWAGEN AMAROK MOD 2015'!I16 -> 104480 | E15: =+'NISSAN FRONTIER NP 300 - MOD'!I16 -> 130361 | F15: =+'MICROBUS RENAULT MOD 2014'!I16 -> 106632 | G15: =+'MITSUBISHI CANTER MOD 2003'!I16 -> 106268 | H15: =+'TOYOTA LAND CRUISER'!I16 -> 102169
A16: 12 | B16: DESMONTAJE Y MONTAJE COMPONENTES FRENOS TRASERO Y/O FRENO TAMBOR | C16: GLOBAL | D16: =+'VOLKSWAGEN AMAROK MOD 2015'!I17 -> 658690 | E16: =+'NISSAN FRONTIER NP 300 - MOD'!I17 -> 779225 | F16: =+'MICROBUS RENAULT MOD 2014'!I17 -> 645360 | G16: =+'MITSUBISHI CANTER MOD 2003'!I17 -> 642079 | H16: =+'TOYOTA LAND CRUISER'!I17 -> 649868
A17: 13 | B17: GRADUACIÓN SISTEMA DE FRENOS RUEDA TRASERA | C17: GLOBAL | D17: =+'VOLKSWAGEN AMAROK MOD 2015'!I18 -> 291996 | E17: =+'NISSAN FRONTIER NP 300 - MOD'!I18 -> 345430 | F17: =+'MICROBUS RENAULT MOD 2014'!I18 -> 286088 | G17: =+'MITSUBISHI CANTER MOD 2003'!I18 -> 284633 | H17: =+'TOYOTA LAND CRUISER'!I18 -> 288086
A18: 14 | B18: CAMBIO GUAYA FRENO DE MANO | C18: UNIDAD | D18: =+'VOLKSWAGEN AMAROK MOD 2015'!I19 -> 196928 | E18: =+'NISSAN FRONTIER NP 300 - MOD'!I19 -> 232964 | F18: =+'MICROBUS RENAULT MOD 2014'!I19 -> 192943 | G18: =+'MITSUBISHI CANTER MOD 2003'!I19 -> 191962 | H18: =+'TOYOTA LAND CRUISER'!I19 -> 194290
A19: 15 | B19: CAMBIO KIT CALIPER (SELLO Y/O ORING PISTON, GUARDAPOLVOS DE PASADORES Y PISTON, ANTIRUIDOS, PASADORES Y GUIAS O BUJES PASADORES Y TORNILLOS) | C19: JUEGO | D19: =+'VOLKSWAGEN AMAROK MOD 2015'!I20 -> 1072320 | E19: =+'NISSAN FRONTIER NP 300 - MOD'!I20 -> 1268547 | F19: =+'MICROBUS RENAULT MOD 2014'!I20 -> 1050620 | G19: =+'MITSUBISHI CANTER MOD 2003'!I20 -> 1045279 | H19: =+'TOYOTA LAND CRUISER'!I20 -> 1057958
A20: REVISION Y REPARACION TREN DELANTERO, MANO DE OBRA IVA INCLUIDO
A21: 16 | B21: DESMONTAJE Y MONTAJE BRAZOS AXIALES | C21: UNIDAD | D21: =+'VOLKSWAGEN AMAROK MOD 2015'!I21 -> 126097 | E21: =+'NISSAN FRONTIER NP 300 - MOD'!I21 -> 127510 | F21: =+'MICROBUS RENAULT MOD 2014'!I21 -> 125969 | G21: =+'MITSUBISHI CANTER MOD 2003'!I21 -> 115311 | H21: =+'TOYOTA LAND CRUISER'!I21 -> 191796
A22: 17 | B22: DESMONTAJE Y MONTAJE DE TERMINAL DIRECCION | C22: UNIDAD | D22: =+'VOLKSWAGEN AMAROK MOD 2015'!I22 -> 500359 | E22: =+'NISSAN FRONTIER NP 300 - MOD'!I22 -> 501942 | F22: =+'MICROBUS RENAULT MOD 2014'!I22 -> 392795 | G22: =+'MITSUBISHI CANTER MOD 2003'!I22 -> 385978 | H22: =+'TOYOTA LAND CRUISER'!I22 -> 549655
A23: 18 | B23: DESMONTAJE Y MONTAJE DE TIJERAS | C23: UNIDAD | D23: =+'VOLKSWAGEN AMAROK MOD 2015'!I23 -> 124510 | E23: =+'NISSAN FRONTIER NP 300 - MOD'!I23 -> 126710 | F23: =+'MICROBUS RENAULT MOD 2014'!I23 -> 126098 | G23: =+'MITSUBISHI CANTER MOD 2003'!I23 -> 131733 | H23: =+'TOYOTA LAND CRUISER'!I23 -> 202640
A24: 19 | B24: DESMONTAJE Y MONTAJE DE COLGANTES | C24: UNIDAD | D24: =+'VOLKSWAGEN AMAROK MOD 2015'!I24 -> 375269 | E24: =+'NISSAN FRONTIER NP 300 - MOD'!I24 -> 379098 | F24: =+'MICROBUS RENAULT MOD 2014'!I24 -> 262082 | G24: =+'MITSUBISHI CANTER MOD 2003'!I24 -> 263466 | H24: =+'TOYOTA LAND CRUISER'!I24 -> 410586
A25: 20 | B25: DESMONTAJE Y MONTAJE BUJES DE TIJERAS (INCLUYE SUPERIOR E INFERIOR / IZQUIERDO Y DERECHO, SERVICIO DE PRENSA) | C25: JUEGO | D25: =+'VOLKSWAGEN AMAROK MOD 2015'!I25 -> 213311 | E25: =+'NISSAN FRONTIER NP 300 - MOD'!I25 -> 214371 | F25: =+'MICROBUS RENAULT MOD 2014'!I25 -> 212287 | G25: =+'MITSUBISHI CANTER MOD 2003'!I25 -> 214082 | H25: =+'TOYOTA LAND CRUISER'!I25 -> 214082
A26: 21 | B26: DESMONTAJE Y MONTAJE DE MOÑONAS (SERVICIO DE PRENSA INCLUIDO) | C26: UNIDAD | D26: =+'VOLKSWAGEN AMAROK MOD 2015'!I26 -> 163300 | E26: =+'NISSAN FRONTIER NP 300 - MOD'!I26 -> 164857 | F26: =+'MICROBUS RENAULT MOD 2014'!I26 -> 164310 | G26: =+'MITSUBISHI CANTER MOD 2003'!I26 -> 165700 | H26: =+'TOYOTA LAND CRUISER'!I26 -> 210725
A27: 22 | B27: DESMONTAJE Y MONTAJE DE AMORTIGUADORES DELANTEROS | C27: JUEGO | D27: =+'VOLKSWAGEN AMAROK MOD 2015'!I27 -> 278643 | E27: =+'NISSAN FRONTIER NP 300 - MOD'!I27 -> 281299 | F27: =+'MICROBUS RENAULT MOD 2014'!I27 -> 305771 | G27: =+'MITSUBISHI CANTER MOD 2003'!I27 -> 280451 | H27: =+'TOYOTA LAND CRUISER'!I27 -> 403276
A28: 23 | B28: DESMONTAJE Y MONTAJE DE AMORTIGUADORES TRASEROS | C28: JUEGO | D28: =+'VOLKSWAGEN AMAROK MOD 2015'!I28 -> 278643 | E28: =+'NISSAN FRONTIER NP 300 - MOD'!I28 -> 279276 | F28: =+'MICROBUS RENAULT MOD 2014'!I28 -> 305771 | G28: =+'MITSUBISHI CANTER MOD 2003'!I28 -> 279820 | H28: =+'TOYOTA LAND CRUISER'!I28 -> 403276
A29: 24 | B29: DESMONTAJE Y MONTAJE GOMAS BARRA ESTABILIZADORA | C29: GLOBAL | D29: =+'VOLKSWAGEN AMAROK MOD 2015'!I29 -> 127747 | E29: =+'NISSAN FRONTIER NP 300 - MOD'!I29 -> 128748 | F29: =+'MICROBUS RENAULT MOD 2014'!I29 -> 133651 | G29: =+'MITSUBISHI CANTER MOD 2003'!I29 -> 138445 | H29: =+'TOYOTA LAND CRUISER'!I29 -> 131358
A30: 25 | B30: DESMONTAJE Y MONTAJE BARRA ESTABILIZADORA | C30: GLOBAL | D30: =+'VOLKSWAGEN AMAROK MOD 2015'!I30 -> 147917 | E30: =+'NISSAN FRONTIER NP 300 - MOD'!I30 -> 151082 | F30: =+'MICROBUS RENAULT MOD 2014'!I30 -> 158938 | G30: =+'MITSUBISHI CANTER MOD 2003'!I30 -> 164815 | H30: =+'TOYOTA LAND CRUISER'!I30 -> 172491
A31: 26 | B31: DESMONTAJE Y MONTAJE TOPE AMORTIGUADOR | C31: UNIDAD | D31: =+'VOLKSWAGEN AMAROK MOD 2015'!I31 -> 147917 | E31: =+'NISSAN FRONTIER NP 300 - MOD'!I31 -> 149226 | F31: =+'MICROBUS RENAULT MOD 2014'!I31 -> 145693 | G31: =+'MITSUBISHI CANTER MOD 2003'!I31 -> 145037 | H31: =+'TOYOTA LAND CRUISER'!I31 -> 145954
A32: 27 | B32: DESMONTAJE Y MONTAJE BASE AMORTIGUADOR | C32: UNIDAD | D32: =+'VOLKSWAGEN AMAROK MOD 2015'!I32 -> 317302 | E32: =+'NISSAN FRONTIER NP 300 - MOD'!I32 -> 325584 | F32: =+'MICROBUS RENAULT MOD 2014'!I32 -> 317875 | G32: =+'MITSUBISHI CANTER MOD 2003'!I32 -> 317873 | H32: =+'TOYOTA LAND CRUISER'!I32 -> 321300
... A36: 31 | B36: DESMONTAJE Y MONTAJE DE PUNTA DE EJE LADO RUEDA | C36: UNIDAD | D36: =+'VOLKSWAGEN AMAROK MOD 2015'!I36 -> 335312 | E36: =+'NISSAN FRONTIER NP 300 - MOD'!I36 -> 346327 | F36: =+'MICROBUS RENAULT MOD 2014'!I36 -> 335302 | G36: =+'MITSUBISHI CANTER MOD 2003'!I36 -> 331118 | H36: =+'TOYOTA LAND CRUISER'!I36 -> 357552
A37: 32 | B37: DESMONTAJE Y MONTAJE CUNA SUSPENSION | C37: UNIDAD | D37: N/A | E37: N/A | F37: N/A | G37: N/A | H37: N/A
A38: 33 | B38: DESMONTAJE Y MONTAJE PERNO DE RUEDA | C38: UNIDAD | D38: =+'VOLKSWAGEN AMAROK MOD 2015'!I38 -> 108543 | E38: =+'NISSAN FRONTIER NP 300 - MOD'!I38 -> 111217 | F38: =+'MICROBUS RENAULT MOD 2014'!I38 -> 111269 | G38: =+'MITSUBISHI CANTER MOD 2003'!I38 -> 106897 | H38: =+'TOYOTA LAND CRUISER'!I38 -> 116104
A39: 34 | B39: DESMONTAJE Y MONTAJE HOJA PRINCIPAL DEL MUELLE | C39: UNIDAD | D39: =+'VOLKSWAGEN AMAROK MOD 2015'!I39 -> 281407 | E39: =+'NISSAN FRONTIER NP 300 - MOD'!I39 -> 288341 | F39: =+'MICROBUS RENAULT MOD 2014'!I39 -> 288474 | G39: =+'MITSUBISHI CANTER MOD 2003'!I39 -> 277139 | H39: =+'TOYOTA LAND CRUISER'!I39 -> 301012
A40: 35 | B40: DESMONTAJE Y MONTAJE CREMALLERA DIRECCION | C40: UNIDAD | D40: =+'VOLKSWAGEN AMAROK MOD 2015'!I40 -> 474372 | E40: =+'NISSAN FRONTIER NP 300 - MOD'!I40 -> 486060 | F40: =+'MICROBUS RENAULT MOD 2014'!I40 -> 486285 | G40: =+'MITSUBISHI CANTER MOD 2003'!I40 -> 467177 | H40: =+'TOYOTA LAND CRUISER'!I40 -> 507419
A41: 36 | B41: DESMONTAJE Y MONTAJE BUJE CREMALLERA | C41: UNIDAD | D41: =+'VOLKSWAGEN AMAROK MOD 2015'!I41 -> 318784 | E41: =+'NISSAN FRONTIER NP 300 - MOD'!I41 -> 325181 | F41: =+'MICROBUS RENAULT MOD 2014'!I41 -> 327701 | G41: =+'MITSUBISHI CANTER MOD 2003'!I41 -> 317206 | H41: =+'TOYOTA LAND CRUISER'!I41 -> 341146
A42: 37 | B42: DESMONTAJE Y MONTAJE COLUMNA DIRECCION | C42: UNIDAD | D42: =+'VOLKSWAGEN AMAROK MOD 2015'!I42 -> 427947 | E42: =+'NISSAN FRONTIER NP 300 - MOD'!I42 -> 436535 | F42: =+'MICROBUS RENAULT MOD 2014'!I42 -> 439917 | G42: =+'MITSUBISHI CANTER MOD 2003'!I42 -> 425830 | H42: =+'TOYOTA LAND CRUISER'!I42 -> 452687
A43: 38 | B43: DESMONTAJE Y MONTAJE BIELA DE DIRECCION | C43: UNIDAD | D43: =+'VOLKSWAGEN AMAROK MOD 2015'!I43 -> 221006 | E43: =+'NISSAN FRONTIER NP 300 - MOD'!I43 -> 225441 | F43: =+'MICROBUS RENAULT MOD 2014'!I43 -> 227187 | G43: =+'MITSUBISHI CANTER MOD 2003'!I43 -> 219912 | H43: =+'TOYOTA LAND CRUISER'!I43 -> 233782
A44: 39 | B44: DESMONTAJE Y MONTAJE BARRA LARGA DE LA DIRECCIÓN | C44: UNIDAD | D44: =+'VOLKSWAGEN AMAROK MOD 2015'!I44 -> 415734 | E44: =+'NISSAN FRONTIER NP 300 - MOD'!I44 -> 428073 | F44: =+'MICROBUS RENAULT MOD 2014'!I44 -> 427363 | G44: =+'MITSUBISHI CANTER MOD 2003'!I44 -> 421064 | H44: =+'TOYOTA LAND CRUISER'!I44 -> 439768
A45: 40 | B45: DESMONTAJE Y MONTAJE BARRA CORTA DE LA DIRECCIÓN | C45: UNIDAD | D45: =+'VOLKSWAGEN AMAROK MOD 2015'!I45 -> 433800 | E45: =+'NISSAN FRONTIER NP 300 - MOD'!I45 -> 438138 | F45: =+'MICROBUS RENAULT MOD 2014'!I45 -> 430232 | G45: =+'MITSUBISHI CANTER MOD 2003'!I45 -> 430965 | H45: =+'TOYOTA LAND CRUISER'!I45 -> 456368
A46: 41 | B46: DESMONTAJE Y MONTAJE BUJE SUJECION CAJA DIRECCION | C46: UNIDAD | D46: =+'VOLKSWAGEN AMAROK MOD 2015'!I46 -> 210366 | E46: =+'NISSAN FRONTIER NP 300 - MOD'!I46 -> 212470 | F46: =+'MICROBUS RENAULT MOD 2014'!I46 -> 208636 | G46: =+'MITSUBISHI CANTER MOD 2003'!I46 -> 208991 | H46: =+'TOYOTA LAND CRUISER'!I46 -> 221310
A47: 42 | B47: DESMONTAJE Y MONTAJE EMPAQUETADURA COMPLETA CREMALLERA DIRECCION | C47: JUEGO | D47: =+'VOLKSWAGEN AMAROK MOD 2015'!I47 -> 969523 | E47: =+'NISSAN FRONTIER NP 300 - MOD'!I47 -> 992274 | F47: =+'MICROBUS RENAULT MOD 2014'!I47 -> 961548 | G47: =+'MITSUBISHI CANTER MOD 2003'!I47 -> 967411 | H47: =+'TOYOTA LAND CRUISER'!I47 -> 1019962
A48: 43 | B48: DESMONTAJE Y MONTAJE RETENEDOR CREMALLERA DIRECCION | C48: UNIDAD | D48: =+'VOLKSWAGEN AMAROK MOD 2015'!I48 -> 704156 | E48: =+'NISSAN FRONTIER NP 300 - MOD'!I48 -> 733724 | F48: =+'MICROBUS RENAULT MOD 2014'!I48 -> 717808 | G48: =+'MITSUBISHI CANTER MOD 2003'!I48 -> 715339 | H48: =+'TOYOTA LAND CRUISER'!I48 -> 759871
A49: 44 | B49: DESMONTAJE Y MONTAJE RODAMIENTO CREMALLERA DIRECCION | C49: UNIDAD | D49: =+'VOLKSWAGEN AMAROK MOD 2015'!I49 -> 669877 | E49: =+'NISSAN FRONTIER NP 300 - MOD'!I49 -> 698006 | F49: =+'MICROBUS RENAULT MOD 2014'!I49 -> 682865 | G49: =+'MITSUBISHI CANTER MOD 2003'!I49 -> 680516 | H49: =+'TOYOTA LAND CRUISER'!I49 -> 722880
... A52: 47 | B52: DESMONTAJE Y MONTAJE RETEN COUNPLING COLUMNA DIRECCION | C52: UNIDAD | D52: =+'VOLKSWAGEN AMAROK MOD 2015'!I52 -> 466755 | E52: =+'NISSAN FRONTIER NP 300 - MOD'!I52 -> 482088 | F52: =+'MICROBUS RENAULT MOD 2014'!I52 -> 466740 | G52: =+'MITSUBISHI CANTER MOD 2003'!I52 -> 459259 | H52: =+'TOYOTA LAND CRUISER'!I52 -> 486653
A53: MANTENIMIENTO Y/O CAMBIO, MANO DE OBRA IVA INCLUIDO
A54: 48 | B54: BOMBA DE AGUA | C54: UNIDAD | D54: =+'VOLKSWAGEN AMAROK MOD 2015'!I53 -> 161157 | E54: =+'NISSAN FRONTIER NP 300 - MOD'!I53 -> 163451 | F54: =+'MICROBUS RENAULT MOD 2014'!I53 -> 157125 | G54: =+'MITSUBISHI CANTER MOD 2003'!I53 -> 160646 | H54: =+'TOYOTA LAND CRUISER'!I53 -> 321167
A55: 49 | B55: BOMBA DE COMBUSTIBLE | C55: UNIDAD | D55: =+'VOLKSWAGEN AMAROK MOD 2015'!I54 -> 196787 | E55: =+'NISSAN FRONTIER NP 300 - MOD'!I54 -> 199588 | F55: =+'MICROBUS RENAULT MOD 2014'!I54 -> 204833 | G55: =+'MITSUBISHI CANTER MOD 2003'!I54 -> 201521 | H55: =+'TOYOTA LAND CRUISER'!I54 -> 412159
A56: 50 | B56: BOMBA DE ACEITE | C56: UNIDAD | D56: =+'VOLKSWAGEN AMAROK MOD 2015'!I55 -> 590736 | E56: =+'NISSAN FRONTIER NP 300 - MOD'!I55 -> 599145 | F56: =+'MICROBUS RENAULT MOD 2014'!I55 -> 603057 | G56: =+'MITSUBISHI CANTER MOD 2003'!I55 -> 499269 | H56: =+'TOYOTA LAND CRUISER'!I55 -> 742896
A57: 51 | B57: KIT DE ACCESORIOS | C57: GLOBAL | D57: =+'VOLKSWAGEN AMAROK MOD 2015'!I56 -> 806714 | E57: =+'NISSAN FRONTIER NP 300 - MOD'!I56 -> 804926 | F57: =+'MICROBUS RENAULT MOD 2014'!I56 -> 803581 | G57: =+'MITSUBISHI CANTER MOD 2003'!I56 -> 808228 | H57: =+'TOYOTA LAND CRUISER'!I56 -> 838693
A58: 52 | B58: CAMBIO DE POLEAS | C58: GLOBAL | D58: =+'VOLKSWAGEN AMAROK MOD 2015'!I57 -> 171474 | E58: =+'NISSAN FRONTIER NP 300 - MOD'!I57 -> 171094 | F58: =+'MICROBUS RENAULT MOD 2014'!I57 -> 187411 | G58: =+'MITSUBISHI CANTER MOD 2003'!I57 -> 179202 | H58: =+'TOYOTA LAND CRUISER'!I57 -> 310297
A59: 53 | B59: MANTENIMIENTO GENERAL AL SISTEMA DE AIRE ACONDICIONADO | C59: UNIDAD | D59: =+'VOLKSWAGEN AMAROK MOD 2015'!I58 -> 278299 | E59: =+'NISSAN FRONTIER NP 300 - MOD'!I58 -> 277682 | F59: =+'MICROBUS RENAULT MOD 2014'!I58 -> 277811 | G59: N/A | H59: =+'TOYOTA LAND CRUISER'!I58 -> 760462
A60: 54 | B60: CAMBIO MANGUERA PRESION LIQUIDO HIDRAHULICO | C60: UNIDAD | D60: =+'VOLKSWAGEN AMAROK MOD 2015'!I59 -> 144474 | E60: =+'NISSAN FRONTIER NP 300 - MOD'!I59 -> 144154 | F60: =+'MICROBUS RENAULT MOD 2014'!I59 -> 148928 | G60: =+'MITSUBISHI CANTER MOD 2003'!I59 -> 141235 | H60: =+'TOYOTA LAND CRUISER'!I59 -> 168166
A61: 55 | B61: CAMBIO DEPOSITO LIQUIDO HIDRAHULICO | C61: UNIDAD | D61: =+'VOLKSWAGEN AMAROK MOD 2015'!I60 -> 143334 | E61: =+'NISSAN FRONTIER NP 300 - MOD'!I60 -> 145228 | F61: =+'MICROBUS RENAULT MOD 2014'!I60 -> 146776 | G61: =+'MITSUBISHI CANTER MOD 2003'!I60 -> 139193 | H61: =+'TOYOTA LAND CRUISER'!I60 -> 165735
A62: 56 | B62: CAMBIO TAPA DEPOSITO LIQUIDO HIDRAHULICO | C62: UNIDAD | D62: =+'VOLKSWAGEN AMAROK MOD 2015'!I61 -> 114805 | E62: =+'NISSAN FRONTIER NP 300 - MOD'!I61 -> 116323 | F62: =+'MICROBUS RENAULT MOD 2014'!I61 -> 125324 | G62: =+'MITSUBISHI CANTER MOD 2003'!I61 -> 113187 | H62: =+'TOYOTA LAND CRUISER'!I61 -> 115311
A63: 57 | B63: CAMBIO RADIADOR SISTEMA HIDRAHULICO | C63: UNIDAD | D63: =+'VOLKSWAGEN AMAROK MOD 2015'!I62 -> 383150 | E63: =+'NISSAN FRONTIER NP 300 - MOD'!I62 -> 388213 | F63: =+'MICROBUS RENAULT MOD 2014'!I62 -> 411981 | G63: =+'MITSUBISHI CANTER MOD 2003'!I62 -> 372082 | H63: =+'TOYOTA LAND CRUISER'!I62 -> 396123
A64: 58 | B64: CAMBIO BOMBA HIDRAHULICA | C64: UNIDAD | D64: =+'VOLKSWAGEN AMAROK MOD 2015'!I63 -> 385746 | E64: =+'NISSAN FRONTIER NP 300 - MOD'!I63 -> 390844 | F64: =+'MICROBUS RENAULT MOD 2014'!I63 -> 414772 | G64: =+'MITSUBISHI CANTER MOD 2003'!I63 -> 374603 | H64: =+'TOYOTA LAND CRUISER'!I63 -> 398807
A65: 59 | B65: CAMBIO CORREA DE DENTADO | C65: UNIDAD | D65: =+'VOLKSWAGEN AMAROK MOD 2015'!I64 -> 177676 | E65: =+'NISSAN FRONTIER NP 300 - MOD'!I64 -> 180024 | F65: =+'MICROBUS RENAULT MOD 2014'!I64 -> 191045 | G65: N/A | H65: N/A
A66: REVISION MONTE DESMONTE Y MANTENIMIENTO, MANO OBRA IVA INCLUIDO
A67: 60 | B67: MANTENIMIENTO MOTOR DE ARRANQUE (INCLUYE REPUESTOS) | C67: UNIDAD | D67: =+'VOLKSWAGEN AMAROK MOD 2015'!I65 -> 2650368 | E67: =+'NISSAN FRONTIER NP 300 - MOD'!I65 -> 2567544 | F67: =+'MICROBUS RENAULT MOD 2014'!I65 -> 2247078 | G67: =+'MITSUBISHI CANTER MOD 2003'!I65 -> 2238390 | H67: =+'TOYOTA LAND CRUISER'!I65 -> 2842613
A68: 61 | B68: MANTENIMIENTO ALTERNADOR (INCLUYE REPUESTOS) | C68: UNIDAD | D68: =+'VOLKSWAGEN AMAROK MOD 2015'!I66 -> 1884960 | E68: =+'NISSAN FRONTIER NP 300 - MOD'!I66 -> 2034900 | F68: =+'MICROBUS RENAULT MOD 2014'!I66 -> 1660236 | G68: =+'MITSUBISHI CANTER MOD 2003'!I66 -> 1560090 | H68: =+'TOYOTA LAND CRUISER'!I66 -> 1927146
A69: 62 | B69: RADIADOR DE AIRE ACONDICIONADO | C69: UNIDAD | D69: =+'VOLKSWAGEN AMAROK MOD 2015'!I67 -> 305628 | E69: =+'NISSAN FRONTIER NP 300 - MOD'!I67 -> 305628 | F69: =+'MICROBUS RENAULT MOD 2014'!I67 -> 308162 | G69: =+'MITSUBISHI CANTER MOD 2003'!I67 -> 300288 | H69: =+'TOYOTA LAND CRUISER'!I67 -> 471927
A70: 63 | B70: RADIADOR DE MOTOR | C70: UNIDAD | D70: =+'VOLKSWAGEN AMAROK MOD 2015'!I68 -> 298473 | E70: =+'NISSAN FRONTIER NP 300 - MOD'!I68 -> 298473 | F70: =+'MICROBUS RENAULT MOD 2014'!I68 -> 291962 | G70: =+'MITSUBISHI CANTER MOD 2003'!I68 -> 289935 | H70: =+'TOYOTA LAND CRUISER'!I68 -> 479877
A71: REVISION REPARACIONES Y CAMBIO, MANO OBRA IVA INCLUIDO
A72: 64 | B72: EMPAQUE MULTIPLE EXOSTO | C72: JUEGO | D72: =+'VOLKSWAGEN AMAROK MOD 2015'!I69 -> 134298 | E72: =+'NISSAN FRONTIER NP 300 - MOD'!I69 -> 130234 | F72: =+'MICROBUS RENAULT MOD 2014'!I69 -> 133444 | G72: =+'MITSUBISHI CANTER MOD 2003'!I69 -> 133811 | H72: =+'TOYOTA LAND CRUISER'!I69 -> 263419
A73: 65 | B73: MOFLE Y EXOSTO | C73: UNIDAD | D73: =+'VOLKSWAGEN AMAROK MOD 2015'!I70 -> 136083 | E73: =+'NISSAN FRONTIER NP 300 - MOD'!I70 -> 131964 | F73: =+'MICROBUS RENAULT MOD 2014'!I70 -> 136490 | G73: =+'MITSUBISHI CANTER MOD 2003'!I70 -> 136050 | H73: =+'TOYOTA LAND CRUISER'!I70 -> 276050
A74: 66 | B74: CAMBIO BOMBONA DE EXOSTO | C74: UNIDAD | D74: =+'VOLKSWAGEN AMAROK MOD 2015'!I71 -> 238011 | E74: =+'NISSAN FRONTIER NP 300 - MOD'!I71 -> 230808 | F74: =+'MICROBUS RENAULT MOD 2014'!I71 -> 232764 | G74: =+'MITSUBISHI CANTER MOD 2003'!I71 -> 231041 | H74: =+'TOYOTA LAND CRUISER'!I71 -> 314841
A75: 67 | B75: ARGOLLAS Y SOLDADURAS | C75: GLOBAL | D75: =+'VOLKSWAGEN AMAROK MOD 2015'!I72 -> 139139 | E75: =+'NISSAN FRONTIER NP 300 - MOD'!I72 -> 139139 | F75: =+'MICROBUS RENAULT MOD 2014'!I72 -> 145849 | G75: =+'MITSUBISHI CANTER MOD 2003'!I72 -> 146251 | H75: =+'TOYOTA LAND CRUISER'!I72 -> 220144
A76: 68 | B76: REPARACION COMPRESOR AIRE ACONDICIONADO | C76: UNIDAD | D76: =+'VOLKSWAGEN AMAROK MOD 2015'!I73 -> 920205 | E76: =+'NISSAN FRONTIER NP 300 - MOD'!I73 -> 832992 | F76: =+'MICROBUS RENAULT MOD 2014'!I73 -> 1051438 | G76: N/A | H76: =+'TOYOTA LAND CRUISER'!I73 -> 1204124
A77: 69 | B77: REVISION Y NIVELACION DE VALVULINA EN CAJA Y TRANSMISION | C77: UNIDAD | D77: =+'VOLKSWAGEN AMAROK MOD 2015'!I74 -> 178821 | E77: =+'NISSAN FRONTIER NP 300 - MOD'!I74 -> 181284 | F77: =+'MICROBUS RENAULT MOD 2014'!I74 -> 181815 | G77: =+'MITSUBISHI CANTER MOD 2003'!I74 -> 181661 | H77: =+'TOYOTA LAND CRUISER'!I74 -> 182151
A78: 70 | B78: CAMBIO GUARDAPOLVO | C78: UNIDAD | D78: =+'VOLKSWAGEN AMAROK MOD 2015'!I75 -> 140644 | E78: =+'NISSAN FRONTIER NP 300 - MOD'!I75 -> 124203 | F78: =+'MICROBUS RENAULT MOD 2014'!I75 -> 141872 | G78: =+'MITSUBISHI CANTER MOD 2003'!I75 -> 160111 | H78: =+'TOYOTA LAND CRUISER'!I75 -> 149291
A79: SINCRONIZACION, MANO OBRA IVA INCLUIDO
A80: 71 | B80: SERVICIO DE ESCANNER | C80: UNIDAD | D80: =+'VOLKSWAGEN AMAROK MOD 2015'!I76 -> 142767 | E80: =+'NISSAN FRONTIER NP 300 - MOD'!I76 -> 143346 | F80: =+'MICROBUS RENAULT MOD 2014'!I76 -> 151715 | G80: N/A | H80: =+'TOYOTA LAND CRUISER'!I76 -> 158039
A81: 72 | B81: SINCRONIZACIÓN (INCLUYE REVISION, LIMPIEZA DE INYECTORES, CAMBIO DE BUJIA DE PRECLENTAMIENTO, BUJIAS, CAMBIO DE FILTROS, REVISIÓN DE BONINAS, CAMBIO DE SENSORES, CUERPOS DEL SISTEMA,VALVULAS, ETC) | C81: GLOBAL | D81: =+'VOLKSWAGEN AMAROK MOD 2015'!I77 -> 1749404 | E81: =+'NISSAN FRONTIER NP 300 - MOD'!I77 -> 1889066 | F81: =+'MICROBUS RENAULT MOD 2014'!I77 -> 1920634 | G81: =+'MITSUBISHI CANTER MOD 2003'!I77 -> 1566873 | H81: =+'TOYOTA LAND CRUISER'!I77 -> 2006489
A82: 73 | B82: REVISION Y LIMPIEZA DE SENSORES | C82: GLOBAL | D82: =+'VOLKSWAGEN AMAROK MOD 2015'!I78 -> 247867 | E82: =+'NISSAN FRONTIER NP 300 - MOD'!I78 -> 248872 | F82: =+'MICROBUS RENAULT MOD 2014'!I78 -> 253031 | G82: =+'MITSUBISHI CANTER MOD 2003'!I78 -> 254681 | H82: =+'TOYOTA LAND CRUISER'!I78 -> 398220
A83: 74 | B83: MANTENIMIENTO DE TURBO | C83: UNIDAD | D83: =+'VOLKSWAGEN AMAROK MOD 2015'!I79 -> 831551 | E83: =+'NISSAN FRONTIER NP 300 - MOD'!I79 -> 834923 | F83: =+'MICROBUS RENAULT MOD 2014'!I79 -> 937807 | G83: =+'MITSUBISHI CANTER MOD 2003'!I79 -> 697603 | H83: =+'TOYOTA LAND CRUISER'!I79 -> 1410685
A84: 75 | B84: MANTENIMIENTO, REPARACION Y/O CAMBIO BOMBA DE ALTA | C84: UNIDAD | D84: =+'VOLKSWAGEN AMAROK MOD 2015'!I80 -> 1025197 | E84: =+'NISSAN FRONTIER NP 300 - MOD'!I80 -> 1029088 | F84: =+'MICROBUS RENAULT MOD 2014'!I80 -> 1104666 | G84: =+'MITSUBISHI CANTER MOD 2003'!I80 -> 1114249 | H84: =+'TOYOTA LAND CRUISER'!I80 -> 2062735
A85: 76 | B85: REPARACION INYECTOR (INCLUYE REPUESTOS , MONTAJE Y DESMONTAJE) | C85: UNIDAD | D85: =+'VOLKSWAGEN AMAROK MOD 2015'!I81 -> 1049163 | E85: =+'NISSAN FRONTIER NP 300 - MOD'!I81 -> 1053913 | F85: =+'MICROBUS RENAULT MOD 2014'!I81 -> 1115841 | G85: =+'MITSUBISHI CANTER MOD 2003'!I81 -> 718768 | H85: =+'TOYOTA LAND CRUISER'!I81 -> 1347282
A86: 77 | B86: LIMPIEZA Y MANTENIMIENTO TANQUE DE COMBUSTIBLE | C86: UNIDAD | D86: =+'VOLKSWAGEN AMAROK MOD 2015'!I82 -> 363950 | E86: =+'NISSAN FRONTIER NP 300 - MOD'!I82 -> 365598 | F86: =+'MICROBUS RENAULT MOD 2014'!I82 -> 394801 | G86: =+'MITSUBISHI CANTER MOD 2003'!I82 -> 383072 | H86: =+'TOYOTA LAND CRUISER'!I82 -> 508259
A87: 78 | B87: MANTENIMIENTO VALVULA EGR | C87: UNIDAD | D87: =+'VOLKSWAGEN AMAROK MOD 2015'!I83 -> 343295 | E87: =+'NISSAN FRONTIER NP 300 - MOD'!I83 -> 350133 | F87: =+'MICROBUS RENAULT MOD 2014'!I83 -> 377562 | G87: N/A | H87: =+'TOYOTA LAND CRUISER'!I83 -> 546397
A88: 79 | B88: DESMONTE Y MONTAJE DE LA TOTALIDAD DEL SISTEMA DE INYECCION | C88: GLOBAL | D88: =+'VOLKSWAGEN AMAROK MOD 2015'!I84 -> 934846 | E88: =+'NISSAN FRONTIER NP 300 - MOD'!I84 -> 949170 | F88: =+'MICROBUS RENAULT MOD 2014'!I84 -> 983670 | G88: =+'MITSUBISHI CANTER MOD 2003'!I84 -> 922100 | H88: =+'TOYOTA LAND CRUISER'!I84 -> 1262950
A89: 80 | B89: MANTENIMIENTO RIEL DE COMBUSTIBLE | C89: UNIDAD | D89: =+'VOLKSWAGEN AMAROK MOD 2015'!I85 -> 340661 | E89: =+'NISSAN FRONTIER NP 300 - MOD'!I85 -> 345881 | F89: =+'MICROBUS RENAULT MOD 2014'!I85 -> 346090 | G89: N/A | H89: =+'TOYOTA LAND CRUISER'!I85 -> 372917
A90: 81 | B90: CAMBIO RECIPIENTE DEPOSITO DE LIQUIDO REFRIGERANTE (POTE DE AGUA) | C90: UNIDAD | D90: =+'VOLKSWAGEN AMAROK MOD 2015'!I86 -> 249167 | E90: =+'NISSAN FRONTIER NP 300 - MOD'!I86 -> 232179 | F90: =+'MICROBUS RENAULT MOD 2014'!I86 -> 349843 | G90: =+'MITSUBISHI CANTER MOD 2003'!I86 -> 199263 | H90: =+'TOYOTA LAND CRUISER'!I86 -> 312222
A91: 82 | B91: VALVULA ELECTROVALVULA SCV DE LA BOMBA ALTA | C91: UNIDAD | D91: =+'VOLKSWAGEN AMAROK MOD 2015'!I87 -> 864412 | E91: =+'NISSAN FRONTIER NP 300 - MOD'!I87 -> 776823 | F91: =+'MICROBUS RENAULT MOD 2014'!I87 -> 912461 | G91: N/A | H91: =+'TOYOTA LAND CRUISER'!I87 -> 908403
A92: 83 | B92: REPARACION DE FLOTADOR DE COMBUSTIBLE | C92: UNIDAD | D92: =+'VOLKSWAGEN AMAROK MOD 2015'!I88 -> 564701 | E92: =+'NISSAN FRONTIER NP 300 - MOD'!I88 -> 540569 | F92: =+'MICROBUS RENAULT MOD 2014'!I88 -> 631056 | G92: =+'MITSUBISHI CANTER MOD 2003'!I88 -> 441605 | H92: =+'TOYOTA LAND CRUISER'!I88 -> 666602
A93: 84 | B93: DESMONTE Y MONTE DE TANQUE GASOLINA | C93: UNIDAD | D93: =+'VOLKSWAGEN AMAROK MOD 2015'!I89 -> 369038 | E93: =+'NISSAN FRONTIER NP 300 - MOD'!I89 -> 372530 | F93: =+'MICROBUS RENAULT MOD 2014'!I89 -> 421854 | G93: =+'MITSUBISHI CANTER MOD 2003'!I89 -> 347594 | H93: =+'TOYOTA LAND CRUISER'!I89 -> 509107
A94: MANTENIMIENTO RADIADOR, MANO OBRA IVA INCLUIDO
A95: 85 | B95: REPARACIÓN Y/O MANTENIMEINTO RADIADOR INCLUYE CAMBIO | C95: UNIDAD | D95: =+'VOLKSWAGEN AMAROK MOD 2015'!I90 -> 623072 | E95: =+'NISSAN FRONTIER NP 300 - MOD'!I90 -> 636472 | F95: =+'MICROBUS RENAULT MOD 2014'!I90 -> 580226 | G95: =+'MITSUBISHI CANTER MOD 2003'!I90 -> 534954 | H95: =+'TOYOTA LAND CRUISER'!I90 -> 672031
A96: 86 | B96: TANQUE RADIADOR | C96: UNIDAD | D96: =+'VOLKSWAGEN AMAROK MOD 2015'!I91 -> 348384 | E96: =+'NISSAN FRONTIER NP 300 - MOD'!I91 -> 352404 | F96: =+'MICROBUS RENAULT MOD 2014'!I91 -> 329960 | G96: =+'MITSUBISHI CANTER MOD 2003'!I91 -> 317209 | H96: =+'TOYOTA LAND CRUISER'!I91 -> 418333
A97: 87 | B97: CAMBIO KIT DE EMBRAGUE (PRENSA, DISCO, BALINERA COLLARÍN), INCLUYE RECTIFICADA DE VOLANTE EMBRAGUE | C97: JUEGO | D97: =+'VOLKSWAGEN AMAROK MOD 2015'!I92 -> 1272062 | E97: =+'NISSAN FRONTIER NP 300 - MOD'!I92 -> 1290150 | F97: =+'MICROBUS RENAULT MOD 2014'!I92 -> 1339414 | G97: =+'MITSUBISHI CANTER MOD 2003'!I92 -> 1287653 | H97: =+'TOYOTA LAND CRUISER'!I92 -> 1346761
A98: 88 | B98: DESMONTE Y REPARACIÓN CAJA DE TRANSMISIÓN | C98: UNIDAD | D98: =+'VOLKSWAGEN AMAROK MOD 2015'!I93 -> 1310489 | E98: =+'NISSAN FRONTIER NP 300 - MOD'!I93 -> 1330134 | F98: =+'MICROBUS RENAULT MOD 2014'!I93 -> 1294098 | G98: =+'MITSUBISHI CANTER MOD 2003'!I93 -> 1325009 | H98: =+'TOYOTA LAND CRUISER'!I93 -> 1339940
A99: 89 | B99: DESMONTE Y REPARACIÓN CAJA DE DIRECCIÓN | C99: UNIDAD | D99: =+'VOLKSWAGEN AMAROK MOD 2015'!I94 -> 2062223 | E99: =+'NISSAN FRONTIER NP 300 - MOD'!I94 -> 2248434 | F99: =+'MICROBUS RENAULT MOD 2014'!I94 -> 1982166 | G99: =+'MITSUBISHI CANTER MOD 2003'!I94 -> 2029513 | H99: =+'TOYOTA LAND CRUISER'!I94 -> 2653081
A100: REPARACION DEL SISTEMA DE TRANSMISION, MANO DE OBRA IVA INCLUIDO
A101: 90 | B101: CAMBIO DE CRUCETAS | C101: GLOBAL | D101: =+'VOLKSWAGEN AMAROK MOD 2015'!I95 -> 177807 | E101: =+'NISSAN FRONTIER NP 300 - MOD'!I95 -> 177807 | F101: N/A | G101: =+'MITSUBISHI CANTER MOD 2003'!I95 -> 183548 | H101: =+'TOYOTA LAND CRUISER'!I95 -> 309569
A102: 91 | B102: CAMBIO DE PLANETARIOS | C102: JUEGO | D102: =+'VOLKSWAGEN AMAROK MOD 2015'!I96 -> 385340 | E102: =+'NISSAN FRONTIER NP 300 - MOD'!I96 -> 385340 | F102: N/A | G102: =+'MITSUBISHI CANTER MOD 2003'!I96 -> 386788 | H102: =+'TOYOTA LAND CRUISER'!I96 -> 525728
A103: 92 | B103: CAMBIO DE JOCKEY | C103: UNIDAD | D103: =+'VOLKSWAGEN AMAROK MOD 2015'!I97 -> 357370 | E103: =+'NISSAN FRONTIER NP 300 - MOD'!I97 -> 357370 | F103: N/A | G103: =+'MITSUBISHI CANTER MOD 2003'!I97 -> 356654 | H103: =+'TOYOTA LAND CRUISER'!I97 -> 457836
A104: 93 | B104: CAMBIO Y REPARACIÓN TRANSMISIÓN (ASPECTOS NO CONTEMPLADOS EN LOS ITEMS ANTERIORES) | C104: UNIDAD | D104: =+'VOLKSWAGEN AMAROK MOD 2015'!I98 -> 4104018 | E104: =+'NISSAN FRONTIER NP 300 - MOD'!I98 -> 4104018 | F104: =+'MICROBUS RENAULT MOD 2014'!I98 -> 4406981 | G104: =+'MITSUBISHI CANTER MOD 2003'!I98 -> 3958841 | H104: =+'TOYOTA LAND CRUISER'!I98 -> 4319000
A105: REPARACION DE MOTOR, MANO DE OBRA IVA INCLUIDO
A106: 94 | B106: RECTIFICACIÓN DE CULATA | C106: UNIDAD | D106: =+'VOLKSWAGEN AMAROK MOD 2015'!I99 -> 986159 | E106: =+'NISSAN FRONTIER NP 300 - MOD'!I99 -> 986159 | F106: =+'MICROBUS RENAULT MOD 2014'!I99 -> 1058678 | G106: =+'MITSUBISHI CANTER MOD 2003'!I99 -> 1054247 | H106: =+'TOYOTA LAND CRUISER'!I99 -> 894318
...

Sheet VOLKSWAGEN AMAROK MOD 2015
A1: MANTENIMIENTO PREVENTIVO Y CORRECTIVO CON INCLUSIÓN DE REPUESTOS PARA LAS MOTOBOMBAS Y SISTEMAS HIDRÁULICOS A CARGO DE LA DIRECCIÓN SECCIONAL DE ADUANAS DE CÚCUTA Y DE LA DIRECCIÓN SECCIONAL DE IMPUESTOS DE CÚCUTA
D3: MECANIZADOS Y SERVICIOS INTEGRALES S.A.S. | E3: COMPAÑÍA DE ASISTENCIA INTEGRAL S.A.S.
A4: ITEMS | B4: DESCRIPCIÓN | C4: MEDIDA | D4: Cotización 1 | E4: Cotización 2 | F4: DESVIACIÓN ESTÁNDAR | G4: PROMEDIO | H4: COEFICIENTE DE VARIACIÓN | I4: PRECIO UNITARIO DE REFERENCIA IVA INCLUIDO
D5: PRECIO UNITARIO IVA INCLUÍDO | E5: PRECIO UNITARIO IVA INCLUÍDO
A6: 1 | B6: LAVADO SENCILLO EXTERNO,INTERNO,ASPIRADA | C6: UNIDAD | D6: 55138.418 | E6: 61900.676 | F6: =+_xlfn.STDEV.S(D6:E6) -> 4781.639 | G6: =+AVERAGE(D6:E6) -> 58519.547 | H6: =+F6/G6 -> 0.081710117 | I6: =+ROUND(AVERAGE(D6:E6),0) -> 58520
A7: 2 | B7: LAVADO GENERAL INCLUYE ASPIRADA, LAVADO DEL MOTOR Y CHASIS EN CARCAMO | C7: UNIDAD | D7: 101490.47 | E7: 113937.41 | F7: =+_xlfn.STDEV.S(D7:E7) -> 8801.3184 | G7: =+AVERAGE(D7:E7) -> 107713.94 | H7: =+F7/G7 -> 0.081710117 | I7: =+ROUND(AVERAGE(D7:E7),0) -> 107714
A8: 3 | B8: LAVADO GENERAL CON DESMANCHADO Y PULIDA | C8: UNIDAD | D8: 163473.47 | E8: 183522.1 | F8: =+_xlfn.STDEV.S(D8:E8) -> 14176.524 | G8: =+AVERAGE(D8:E8) -> 173497.78 | H8: =+F8/G8 -> 0.081710117 | I8: =+ROUND(AVERAGE(D8:E8),0) -> 173498
A9: 4 | B9: LAVADO TAPICERIA | C9: UNIDAD | D9: 238186.37 | E9: 267397.9 | F9: =+_xlfn.STDEV.S(D9:E9) -> 20655.675 | G9: =+AVERAGE(D9:E9) -> 252792.13 | H9: =+F9/G9 -> 0.081710117 | I9: =+ROUND(AVERAGE(D9:E9),0) -> 252792
A10: 5 | B10: ENGRASE GENERAL | C10: GLOBAL | D10: 43782.576 | E10: 49152.137 | F10: =+_xlfn.STDEV.S(D10:E10) -> 3796.8531 | G10: =+AVERAGE(D10:E10) -> 46467.357 | H10: =+F10/G10 -> 0.081710117 | I10: =+ROUND(AVERAGE(D10:E10),0) -> 46467
A11: 6 | B11: REVISION GENERAL, AJUSTE Y MANTENIMIENTO DEL SISTEMA DE FRENOS INCLUYE: REVISION DE GAS,TUBERIAS,MANGUERAS,REVISION DE FLUIDOS. | C11: UNIDAD | D11: 157823.56 | E11: 185399.83 | F11: =+_xlfn.STDEV.S(D11:E11) -> 19499.373 | G11: =+AVERAGE(D11:E11) -> 171611.69 | H11: =+F11/G11 -> 0.11362497 | I11: =+ROUND(AVERAGE(D11:E11),0) -> 171612
A12: 7 | B12: DESMONTAJE Y MONTAJE COMPONENTES FRENO DE DISCO (PASTILLAS,MORDAZAS,DISCOS,CILINDROS, ETC) | C12: GLOBAL | D12: 124890.06 | E12: 146711.91 | F12: =+_xlfn.STDEV.S(D12:E12) -> 15430.382 | G12: =+AVERAGE(D12:E12) -> 135800.98 | H12: =+F12/G12 -> 0.11362497 | I12: =+ROUND(AVERAGE(D12:E12),0) -> 135801
A13: 8 | B13: DESMONTAJE Y MONTAJE BOMBA DE FRENO | C13: UNIDAD | D13: 159711.74 | E13: 174364.19 | F13: =+_xlfn.STDEV.S(D13:E13) -> 10360.849 | G13: =+AVERAGE(D13:E13) -> 167037.97 | H13: =+F13/G13 -> 0.062026911 | I13: =+ROUND(AVERAGE(D13:E13),0) -> 167038
A14: 9 | B14: DESMONTAJE Y MONTAJE DE MODULO ABS | C14: UNIDAD | D14: 267574.75 | E14: 297583.13 | F14: =+_xlfn.STDEV.S(D14:E14) -> 21219.131 | G14: =+AVERAGE(D14:E14) -> 282578.94 | H14: =+F14/G14 -> 0.075090986 | I14: =+ROUND(AVERAGE(D14:E14),0) -> 282579
A15: 10 | B15: DESMONTAJE Y MONTAJE DE SENSOR | C15: UNIDAD | D15: 133718.21 | E15: 148714.64 | F15: =+_xlfn.STDEV.S(D15:E15) -> 10604.081 | G15: =+AVERAGE(D15:E15) -> 141216.43 | H15: =+F15/G15 -> 0.075090986 | I15: =+ROUND(AVERAGE(D15:E15),0) -> 141216
A16: 11 | B16: DESMONTAJE Y MONTAJE INCLUYE RECTIFICACION DE DISCO O CAMPANA | C16: UNIDAD | D16: 98932.825 | E16: 110028.1 | F16: =+_xlfn.STDEV.S(D16:E16) -> 7845.5407 | G16: =+AVERAGE(D16:E16) -> 104480.46 | H16: =+F16/G16 -> 0.075090986 | I16: =+ROUND(AVERAGE(D16:E16),0) -> 104480
A17: 12 | B17: DESMONTAJE Y MONTAJE COMPONENTES FRENOS TRASERO Y/O FRENO TAMBOR | C17: GLOBAL | D17: 617521.64 | E17: 699857.86 | F17: =+_xlfn.STDEV.S(D17:E17) -> 58220.499 | G17: =+AVERAGE(D17:E17) -> 658689.75 | H17: =+F17/G17 -> 0.088388348 | I17: =+ROUND(AVERAGE(D17:E17),0) -> 658690
... A36: 31 | B36: DESMONTAJE Y MONTAJE DE PUNTA DE EJE LADO RUEDA | C36: UNIDAD | D36: 309519 | E36: 361105.5 | F36: =+_xlfn.STDEV.S(D36:E36) -> 36477.164 | G36: =+AVERAGE(D36:E36) -> 335312.25 | H36: =+F36/G36 -> 0.10878566 | I36: =+ROUND(AVERAGE(D36:E36),0) -> 335312
A37: 32 | B37: DESMONTAJE Y MONTAJE CUNA SUSPENSION | C37: UNIDAD | D37: N/A | E37: N/A | F37: =+_xlfn.STDEV.S(D37:E37) -> #DIV/0! | G37: =+AVERAGE(D37:E37) -> #DIV/0! | H37: =+F37/G37 -> #DIV/0! | I37: =+ROUND(AVERAGE(D37:E37),0) -> #DIV/0!
A38: 33 | B38: DESMONTAJE Y MONTAJE PERNO DE RUEDA | C38: UNIDAD | D38: 100087.52 | E38: 116998.18 | F38: =+_xlfn.STDEV.S(D38:E38) -> 11957.643 | G38: =+AVERAGE(D38:E38) -> 108542.85 | H38: =+F38/G38 -> 0.11016519 | I38: =+ROUND(AVERAGE(D38:E38),0) -> 108543
A39: 34 | B39: DESMONTAJE Y MONTAJE HOJA PRINCIPAL DEL MUELLE | C39: UNIDAD | D39: 259486.16 | E39: 303328.62 | F39: =+_xlfn.STDEV.S(D39:E39) -> 31001.298 | G39: =+AVERAGE(D39:E39) -> 281407.39 | H39: =+F39/G39 -> 0.11016519 | I39: =+ROUND(AVERAGE(D39:E39),0) -> 281407
A40: 35 | B40: DESMONTAJE Y MONTAJE CREMALLERA DIRECCION | C40: UNIDAD | D40: 437419.53 | E40: 511325.39 | F40: =+_xlfn.STDEV.S(D40:E40) -> 52259.331 | G40: =+AVERAGE(D40:E40) -> 474372.46 | H40: =+F40/G40 -> 0.11016519 | I40: =+ROUND(AVERAGE(D40:E40),0) -> 474372
A41: 36 | B41: DESMONTAJE Y MONTAJE BUJE CREMALLERA | C41: UNIDAD | D41: 293795.43 | E41: 343772.44 | F41: =+_xlfn.STDEV.S(D41:E41) -> 35339.076 | G41: =+AVERAGE(D41:E41) -> 318783.94 | H41: =+F41/G41 -> 0.11085589 | I41: =+ROUND(AVERAGE(D41:E41),0) -> 318784
A42: 37 | B42: DESMONTAJE Y MONTAJE COLUMNA DIRECCION | C42: UNIDAD | D42: 394401.85 | E42: 461492.83 | F42: =+_xlfn.STDEV.S(D42:E42) -> 47440.483 | G42: =+AVERAGE(D42:E42) -> 427947.34 | H42: =+F42/G42 -> 0.11085589 | I42: =+ROUND(AVERAGE(D42:E42),0) -> 427947
A43: 38 | B43: DESMONTAJE Y MONTAJE BIELA DE DIRECCION | C43: UNIDAD | D43: 203681.71 | E43: 238329.63 | F43: =+_xlfn.STDEV.S(D43:E43) -> 24499.78 | G43: =+AVERAGE(D43:E43) -> 221005.67 | H43: =+F43/G43 -> 0.11085589 | I43: =+ROUND(AVERAGE(D43:E43),0) -> 221006
A44: 39 | B44: DESMONTAJE Y MONTAJE BARRA LARGA DE LA DIRECCIÓN | C44: UNIDAD | D44: 383146.28 | E44: 448322.59 | F44: =+_xlfn.STDEV.S(D44:E44) -> 46086.61 | G44: =+AVERAGE(D44:E44) -> 415734.43 | H44: =+F44/G44 -> 0.11085589 | I44: =+ROUND(AVERAGE(D44:E44),0) -> 415734
A45: 40 | B45: DESMONTAJE Y MONTAJE BARRA CORTA DE LA DIRECCIÓN | C45: UNIDAD | D45: 408735.98 | E45: 458863.98 | F45: =+_xlfn.STDEV.S(D45:E45) -> 35445.847 | G45: =+AVERAGE(D45:E45) -> 433799.98 | H45: =+F45/G45 -> 0.081710117 | I45: =+ROUND(AVERAGE(D45:E45),0) -> 433800
A46: 41 | B46: DESMONTAJE Y MONTAJE BUJE SUJECION CAJA DIRECCION | C46: UNIDAD | D46: 198211.48 | E46: 222520.43 | F46: =+_xlfn.STDEV.S(D46:E46) -> 17189.027 | G46: =+AVERAGE(D46:E46) -> 210365.95 | H46: =+F46/G46 -> 0.081710117 | I46: =+ROUND(AVERAGE(D46:E46),0) -> 210366
A47: 42 | B47: DESMONTAJE Y MONTAJE EMPAQUETADURA COMPLETA CREMALLERA DIRECCION | C47: JUEGO | D47: 913505.88 | E47: 1025539.6 | F47: =+_xlfn.STDEV.S(D47:E47) -> 79219.817 | G47: =+AVERAGE(D47:E47) -> 969522.75 | H47: =+F47/G47 -> 0.081710117 | I47: =+ROUND(AVERAGE(D47:E47),0) -> 969523
A48: 43 | B48: DESMONTAJE Y MONTAJE RETENEDOR CREMALLERA DIRECCION | C48: UNIDAD | D48: 649989.9 | E48: 758321.55 | F48: =+_xlfn.STDEV.S(D48:E48) -> 76602.044 | G48: =+AVERAGE(D48:E48) -> 704155.73 | H48: =+F48/G48 -> 0.10878566 | I48: =+ROUND(AVERAGE(D48:E48),0) -> 704156
A49: 44 | B49: DESMONTAJE Y MONTAJE RODAMIENTO CREMALLERA DIRECCION | C49: UNIDAD | D49: 618348.39 | E49: 721406.46 | F49: =+_xlfn.STDEV.S(D49:E49) -> 72873.057 | G49: =+AVERAGE(D49:E49) -> 669877.42 | H49: =+F49/G49 -> 0.10878566 | I49: =+ROUND(AVERAGE(D49:E49),0) -> 669877
... A133: 128 | B133: BATERIA (INCLUYE MANO DE OBRA) | C133: UNIDAD | D133: 824713.8 | E133: 901202.41 | F133: =+_xlfn.STDEV.S(D133:E133) -> 54085.613 | G133: =+AVERAGE(D133:E133) -> 862958.11 | H133: =+F133/G133 -> 0.062674669 | I133: =+ROUND(AVERAGE(D133:E133),0) -> 862958
A134: 129 | B134: NEUMATICOS | C134: UNIDAD | D134: N/A | E134: N/A | F134: =+_xlfn.STDEV.S(D134:E134) -> #DIV/0! | G134: =+AVERAGE(D134:E134) -> #DIV/0! | H134: =+F134/G134 -> #DIV/0! | I134: =+ROUND(AVERAGE(D134:E134),0) -> #DIV/0!
A135: 130 | B135: BOMBA DE COMBUSTIBLE | C135: UNIDAD | D135: 285096.02 | E135: 330023.6 | F135: =+_xlfn.STDEV.S(D135:E135) -> 31768.599 | G135: =+AVERAGE(D135:E135) -> 307559.81 | H135: =+F135/G135 -> 0.10329242 | I135: =+ROUND(AVERAGE(D135:E135),0) -> 307560
A136: 131 | B136: BOMBA DE FRENO | C136: UNIDAD | D136: 778483.81 | E136: 901163.16 | F136: =+_xlfn.STDEV.S(D136:E136) -> 86747.404 | G136: =+AVERAGE(D136:E136) -> 839823.49 | H136: =+F136/G136 -> 0.10329242 | I136: =+ROUND(AVERAGE(D136:E136),0) -> 839823
A137: 132 | B137: MODULO ABS PROGRAMADO | C137: UNIDAD | D137: 19572386 | E137: 22656750 | F137: =+_xlfn.STDEV.S(D137:E137) -> 2180974.9 | G137: =+AVERAGE(D137:E137) -> 21114568 | H137: =+F137/G137 -> 0.10329242 | I137: =+ROUND(AVERAGE(D137:E137),0) -> 21114568
A138: 133 | B138: SENSOR ABS | C138: UNIDAD | D138: 881965.09 | E138: 1020951.8 | F138: =+_xlfn.STDEV.S(D138:E138) -> 98278.449 | G138: =+AVERAGE(D138:E138) -> 951458.44 | H138: =+F138/G138 -> 0.10329242 | I138: =+ROUND(AVERAGE(D138:E138),0) -> 951458
A139: 134 | B139: BOMBA DE AGUA | C139: UNIDAD | D139: 1086123.6 | E139: 1257283.2 | F139: =+_xlfn.STDEV.S(D139:E139) -> 121028.09 | G139: =+AVERAGE(D139:E139) -> 1171703.4 | H139: =+F139/G139 -> 0.10329242 | I139: =+ROUND(AVERAGE(D139:E139),0) -> 1171703
A140: 135 | B140: BOMBA HIDRAULICA | C140: UNIDAD | D140: 1873967.6 | E140: 2131951.7 | F140: =+_xlfn.STDEV.S(D140:E140) -> 182422.29 | G140: =+AVERAGE(D140:E140) -> 2002959.7 | H140: =+F140/G140 -> 0.091076365 | I140: =+ROUND(AVERAGE(D140:E140),0) -> 2002960
A141: 136 | B141: EMPAQUETADURA BOMBA DE DIRECCIÓN | C141: UNIDAD | D141: 925628.69 | E141: 1053057.5 | F141: =+_xlfn.STDEV.S(D141:E141) -> 90105.773 | G141: =+AVERAGE(D141:E141) -> 989343.1 | H141: =+F141/G141 -> 0.091076365 | I141: =+ROUND(AVERAGE(D141:E141),0) -> 989343
A142: 137 | B142: EMPATEDURA CAJA DE DIRECCIÓN | C142: UNIDAD | D142: 830116.43 | E142: 944396.32 | F142: =+_xlfn.STDEV.S(D142:E142) -> 80808.085 | G142: =+AVERAGE(D142:E142) -> 887256.37 | H142: =+F142/G142 -> 0.091076365 | I142: =+ROUND(AVERAGE(D142:E142),0) -> 887256
A143: 138 | B143: BUJE DE TIJERA | C143: UNIDAD | D143: 150213.48 | E143: 170892.96 | F143: =+_xlfn.STDEV.S(D143:E143) -> 14622.604 | G143: =+AVERAGE(D143:E143) -> 160553.22 | H143: =+F143/G143 -> 0.091076365 | I143: =+ROUND(AVERAGE(D143:E143),0) -> 160553
A144: 139 | B144: BUJE DE AMORTIGUADOR | C144: UNIDAD | D144: 211448.43 | E144: 239185.97 | F144: =+_xlfn.STDEV.S(D144:E144) -> 19613.397 | G144: =+AVERAGE(D144:E144) -> 225317.2 | H144: =+F144/G144 -> 0.087047936 | I144: =+ROUND(AVERAGE(D144:E144),0) -> 225317
A145: 140 | B145: BASE DE AMORTIGUADOR | C145: UNIDAD | D145: 323688.67 | E145: 366149.73 | F145: =+_xlfn.STDEV.S(D145:E145) -> 30024.504 | G145: =+AVERAGE(D145:E145) -> 344919.2 | H145: =+F145/G145 -> 0.087047936 | I145: =+ROUND(AVERAGE(D145:E145),0) -> 344919
A146: 141 | B146: AMORTIGUADOR DELANTERO | C146: JUEGO | D146: 505039.23 | E146: 571289.62 | F146: =+_xlfn.STDEV.S(D146:E146) -> 46846.102 | G146: =+AVERAGE(D146:E146) -> 538164.42 | H146: =+F146/G146 -> 0.087047936 | I146: =+ROUND(AVERAGE(D146:E146),0) -> 538164
... A153: 148 | B153: FILTRO COMBUSTIBLE ORIGINALES | C153: UNIDAD | D153: 305151.07 | E153: 349836.01 | F153: =+_xlfn.STDEV.S(D153:E153) -> 31597.021 | G153: =+AVERAGE(D153:E153) -> 327493.54 | H153: =+F153/G153 -> 0.096481356 | I153: =+ROUND(AVERAGE(D153:E153),0) -> 327494
A154: 149 | B154: FILTRO SEDIMENTADOR ACPM ORIGINAL NISSAN | C154: UNIDAD | D154: N/A | E154: N/A | F154: =+_xlfn.STDEV.S(D154:E154) -> #DIV/0! | G154: =+AVERAGE(D154:E154) -> #DIV/0! | H154: =+F154/G154 -> #DIV/0! | I154: =+ROUND(AVERAGE(D154:E154),0) -> #DIV/0!
A155: 150 | B155: FILTRO TRAMPA ACPM NISSAN ORIGINAL | C155: UNIDAD | D155: N/A | E155: N/A | F155: =+_xlfn.STDEV.S(D155:E155) -> #DIV/0! | G155: =+AVERAGE(D155:E155) -> #DIV/0! | H155: =+F155/G155 -> #DIV/0! | I155: =+ROUND(AVERAGE(D155:E155),0) -> #DIV/0!
A156: 151 | B156: FILTRO DE AIRE ACONDICIONADO | C156: UNIDAD | D156: 102780.27 | E156: 118977.16 | F156: =+_xlfn.STDEV.S(D156:E156) -> 11452.932 | G156: =+AVERAGE(D156:E156) -> 110878.72 | H156: =+F156/G156 -> 0.10329242 | I156: =+ROUND(AVERAGE(D156:E156),0) -> 110879
A157: 152 | B157: VALVULAS DE ADMISIÓN | C157: JUEGO | D157: 267306.69 | E157: 309430.89 | F157: =+_xlfn.STDEV.S(D157:E157) -> 29786.311 | G157: =+AVERAGE(D157:E157) -> 288368.79 | H157: =+F157/G157 -> 0.10329242 | I157: =+ROUND(AVERAGE(D157:E157),0) -> 288369
A158: 153 | B158: VALVULAS DE ESCAPE | C158: JUEGO | D158: 262917.19 | E158: 304349.66 | F158: =+_xlfn.STDEV.S(D158:E158) -> 29297.184 | G158: =+AVERAGE(D158:E158) -> 283633.43 | H158: =+F158/G158 -> 0.10329242 | I158: =+ROUND(AVERAGE(D158:E158),0) -> 283633
A159: 154 | B159: GUIAS DE VALVULAS | C159: JUEGO | D159: 421541.41 | E159: 487971.09 | F159: =+_xlfn.STDEV.S(D159:E159) -> 46972.876 | G159: =+AVERAGE(D159:E159) -> 454756.25 | H159: =+F159/G159 -> 0.10329242 | I159: =+ROUND(AVERAGE(D159:E159),0) -> 454756
A160: 155 | B160: GORRO DE VALVULAS | C160: JUEGO | D160: 283471.65 | E160: 328143.25 | F160: =+_xlfn.STDEV.S(D160:E160) -> 31587.593 | G160: =+AVERAGE(D160:E160) -> 305807.45 | H160: =+F160/G160 -> 0.10329242 | I160: =+ROUND(AVERAGE(D160:E160),0) -> 305807
A161: 156 | B161: EMPAQUE DE ADMISIÓN | C161: UNIDAD | D161: 214683.56 | E161: 248515.02 | F161: =+_xlfn.STDEV.S(D161:E161) -> 23922.452 | G161: =+AVERAGE(D161:E161) -> 231599.29 | H161: =+F161/G161 -> 0.10329242 | I161: =+ROUND(AVERAGE(D161:E161),0) -> 231599
A162: 157 | B162: EMPAQUE TAPA VALVULAS | C162: UNIDAD | D162: 255904.16 | E162: 296231.47 | F162: =+_xlfn.STDEV.S(D162:E162) -> 28515.714 | G162: =+AVERAGE(D162:E162) -> 276067.82 | H162: =+F162/G162 -> 0.10329242 | I162: =+ROUND(AVERAGE(D162:E162),0) -> 276068
A163: 158 | B163: EMPAQUE DE ESCAPE | C163: UNIDAD | D163: 219749.14 | E163: 254378.86 | F163: =+_xlfn.STDEV.S(D163:E163) -> 24486.915 | G163: =+AVERAGE(D163:E163) -> 237064 | H163: =+F163/G163 -> 0.10329242 | I163: =+ROUND(AVERAGE(D163:E163),0) -> 237064
A164: 159 | B164: EMPAQUE DE CARTER | C164: UNIDAD | D164: 276493.52 | E164: 320065.46 | F164: =+_xlfn.STDEV.S(D164:E164) -> 30810.012 | G164: =+AVERAGE(D164:E164) -> 298279.49 | H164: =+F164/G164 -> 0.10329242 | I164: =+ROUND(AVERAGE(D164:E164),0) -> 298279
A165: 160 | B165: MAGUERA HIDRAULICA | C165: UNIDAD | D165: 200141.62 | E165: 229449.45 | F165: =+_xlfn.STDEV.S(D165:E165) -> 20723.764 | G165: =+AVERAGE(D165:E165) -> 214795.53 | H165: =+F165/G165 -> 0.096481356 | I165: =+ROUND(AVERAGE(D165:E165),0) -> 214796
A166: 161 | B166: MANGUERA DE AGUA | C166: UNIDAD | D166: 165014.29 | E166: 189178.23 | F166: =+_xlfn.STDEV.S(D166:E166) -> 17086.487 | G166: =+AVERAGE(D166:E166) -> 177096.26 | H166: =+F166/G166 -> 0.096481356 | I166: =+ROUND(AVERAGE(D166:E166),0) -> 177096
A167: 162 | B167: SOPORTE DE MOTOR | C167: UNIDAD | D167: 333959.35 | E167: 382862.84 | F167: =+_xlfn.STDEV.S(D167:E167) -> 34579.989 | G167: =+AVERAGE(D167:E167) -> 358411.1 | H167: =+F167/G167 -> 0.096481356 | I167: =+ROUND(AVERAGE(D167:E167),0) -> 358411
... A200: 195 | B200: TELA ORIGINAL SILLA DELANTERA | C200: UNIDAD | D200: 590694.56 | E200: 689143.65 | F200: =+_xlfn.STDEV.S(D200:E200) -> 69614.021 | G200: =+AVERAGE(D200:E200) -> 639919.1 | H200: =+F200/G200 -> 0.10878566 | I200: =+ROUND(AVERAGE(D200:E200),0) -> 639919
A201: 196 | B201: GATO DE BOTELLA 2 TONELADAS | C201: UNIDAD | D201: N/A | E201: N/A | F201: =+_xlfn.STDEV.S(D201:E201) -> #DIV/0! | G201: =+AVERAGE(D201:E201) -> #DIV/0! | H201: =+F201/G201 -> #DIV/0! | I201: =+ROUND(AVERAGE(D201:E201),0) -> #DIV/0!
A202: 197 | B202: CRUCETA PARA CAMIONETA FRONTIER RIN 16 | C202: UNIDAD | D202: N/A | E202: N/A | F202: =+_xlfn.STDEV.S(D202:E202) -> #DIV/0! | G202: =+AVERAGE(D202:E202) -> #DIV/0! | H202: =+F202/G202 -> #DIV/0! | I202: =+ROUND(AVERAGE(D202:E202),0) -> #DIV/0!
A203: 198 | B203: KIT DE CARRETERA OBLIGATORIO | C203: UNIDAD | D203: 260911.74 | E203: 307410.87 | F203: =+_xlfn.STDEV.S(D203:E203) -> 32879.845 | G203: =+AVERAGE(D203:E203) -> 284161.31 | H203: =+F203/G203 -> 0.11570838 | I203: =+ROUND(AVERAGE(D203:E203),0) -> 284161
A204: 199 | B204: RETENEDOR DE INYECTOR | C204: UNIDAD | D204: 204298.8 | E204: 240708.49 | F204: =+_xlfn.STDEV.S(D204:E204) -> 25745.537 | G204: =+AVERAGE(D204:E204) -> 222503.64 | H204: =+F204/G204 -> 0.11570838 | I204: =+ROUND(AVERAGE(D204:E204),0) -> 222504
A205: 200 | B205: VALVULA DEL RIEL | C205: UNIDAD | D205: 1019342.6 | E205: 1201007.6 | F205: =+_xlfn.STDEV.S(D205:E205) -> 128456.56 | G205: =+AVERAGE(D205:E205) -> 1110175.1 | H205: =+F205/G205 -> 0.11570838 | I205: =+ROUND(AVERAGE(D205:E205),0) -> 1110175
A206: 201 | B206: EMPAQUETADURA BOMBA DE ALTA | C206: UNIDAD | D206: 481501 | E206: 567313.06 | F206: =+_xlfn.STDEV.S(D206:E206) -> 60678.289 | G206: =+AVERAGE(D206:E206) -> 524407.03 | H206: =+F206/G206 -> 0.11570838 | I206: =+ROUND(AVERAGE(D206:E206),0) -> 524407
A207: 202 | B207: BOMBA DE ALTA | C207: UNIDAD | D207: 10100000 | E207: 11900000 | F207: =+_xlfn.STDEV.S(D207:E207) -> 1272792.2 | G207: =+AVERAGE(D207:E207) -> 11000000 | H207: =+F207/G207 -> 0.11570838 | I207: =+ROUND(AVERAGE(D207:E207),0) -> 11000000
A208: 203 | B208: ELECTROVALVULA SCV PARA BOMBA DE ALTA | C208: UNIDAD | D208: 1140840.1 | E208: 1344158.1 | F208: =+_xlfn.STDEV.S(D208:E208) -> 143767.56 | G208: =+AVERAGE(D208:E208) -> 1242499.1 | H208: =+F208/G208 -> 0.11570838 | I208: =+ROUND(AVERAGE(D208:E208),0) -> 1242499
A209: 204 | B209: VALVULA DE PRESION BOMBA ALTA | C209: UNIDAD | D209: 488519.57 | E209: 575582.46 | F209: =+_xlfn.STDEV.S(D209:E209) -> 61562.762 | G209: =+AVERAGE(D209:E209) -> 532051.01 | H209: =+F209/G209 -> 0.11570838 | I209: =+ROUND(AVERAGE(D209:E209),0) -> 532051
A210: 205 | B210: EMPAQUETADURA BOMBA LINEAL | C210: UNIDAD | D210: N/A | E210: N/A | F210: =+_xlfn.STDEV.S(D210:E210) -> #DIV/0! | G210: =+AVERAGE(D210:E210) -> #DIV/0! | H210: =+F210/G210 -> #DIV/0! | I210: =+ROUND(AVERAGE(D210:E210),0) -> #DIV/0!
A211: 206 | B211: ACEITE COMPRESOR AIRE ACONDICIONADO | C211: UNIDAD | D211: 148159.21 | E211: 165704.38 | F211: =+_xlfn.STDEV.S(D211:E211) -> 12406.309 | G211: =+AVERAGE(D211:E211) -> 156931.8 | H211: =+F211/G211 -> 0.079055417 | I211: =+ROUND(AVERAGE(D211:E211),0) -> 156932
A212: 207 | B212: VALVULA INYECTOR UNIDAD | C212: UNIDAD | D212: 696534.28 | E212: 779018.6 | F212: =+_xlfn.STDEV.S(D212:E212) -> 58325.224 | G212: =+AVERAGE(D212:E212) -> 737776.44 | H212: =+F212/G212 -> 0.079055417 | I212: =+ROUND(AVERAGE(D212:E212),0) -> 737776
A213: 208 | B213: EMPAQUETADURA DE INYECTOR | C213: JUEGO | D213: 178616.93 | E213: 199768.93 | F213: =+_xlfn.STDEV.S(D213:E213) -> 14956.726 | G213: =+AVERAGE(D213:E213) -> 189192.93 | H213: =+F213/G213 -> 0.079055417 | I213: =+ROUND(AVERAGE(D213:E213),0) -> 189193
A214: 209 | B214: EMPAQUETADURA BOMBA DE INYECCION | C214: JUEGO | D214: 549457.72 | E214: 614525.08 | F214: =+_xlfn.STDEV.S(D214:E214) -> 46009.572 | G214: =+AVERAGE(D214:E214) -> 581991.4 | H214: =+F214/G214 -> 0.079055417 | I214: =+ROUND(AVERAGE(D214:E214),0) -> 581991
A215: 210 | B215: TOBERAS DE INYECTORES | C215: JUEGO | D215: 453843.76 | E215: 507588.42 | F215: =+_xlfn.STDEV.S(D215:E215) -> 38003.211 | G215: =+AVERAGE(D215:E215) -> 480716.09 | H215: =+F215/G215 -> 0.079055417 | I215: =+ROUND(AVERAGE(D215:E215),0) -> 480716
A216: 211 | B216: GUARDAPOLVOS EJES | C216: UNIDAD | D216: 137735.2 | E216: 154045.95 | F216: =+_xlfn.STDEV.S(D216:E216) -> 11533.44 | G216: =+AVERAGE(D216:E216) -> 145890.58 | H216: =+F216/G216 -> 0.079055417 | I216: =+ROUND(AVERAGE(D216:E216),0) -> 145891
A217: 212 | B217: GUARDAPOLVOS AMORTIGUADORES | C217: UNIDAD | D217: 201096 | E217: 224910 | F217: =+_xlfn.STDEV.S(D217:E217) -> 16839.041 | G217: =+AVERAGE(D217:E217) -> 213003 | H217: =+F217/G217 -> 0.079055417 | I217: =+ROUND(AVERAGE(D217:E217),0) -> 213003
A218: 213 | B218: TUERCAS ESPARRAGOS POR UNIDAD | C218: UNIDAD | D218: 45753.138 | E218: 51171.273 | F218: =+_xlfn.STDEV.S(D218:E218) -> 3831.1999 | G218: =+AVERAGE(D218:E218) -> 48462.206 | H218: =+F218/G218 -> 0.079055417 | I218: =+ROUND(AVERAGE(D218:E218),0) -> 48462
A219: 214 | B219: EMPAQUE MULTIPLE EXOSTO | C219: JUEGO | D219: 484120 | E219: 541450 | F219: =+_xlfn.STDEV.S(D219:E219) -> 40538.432 | G219: =+AVERAGE(D219:E219) -> 512785 | H219: =+F219/G219 -> 0.079055417 | I219: =+ROUND(AVERAGE(D219:E219),0) -> 512785
A220: 215 | B220: MOFLE Y EXOSTO | C220: JUEGO | D220: 2021600 | E220: 2261000 | F220: =+_xlfn.STDEV.S(D220:E220) -> 169281.36 | G220: =+AVERAGE(D220:E220) -> 2141300 | H220: =+F220/G220 -> 0.079055417 | I220: =+ROUND(AVERAGE(D220:E220),0) -> 2141300
A221: 216 | B221: BOMBONA DE EXOSTO | C221: UNIDAD | D221: 2234400 | E221: 2499000 | F221: =+_xlfn.STDEV.S(D221:E221) -> 187100.45 | G221: =+AVERAGE(D221:E221) -> 2366700 | H221: =+F221/G221 -> 0.079055417 | I221: =+ROUND(AVERAGE(D221:E221),0) -> 2366700
A222: 217 | B222: KIT CALIPER (SELLO Y/O ORING PISTON, GUARDAPOLVOS DE PASADORES Y PISTON, ANTIRUIDOS, PASADORES Y GUIAS O BUJES PASADORES Y TORNILLOS) | C222: GLOBAL | D222: 558600 | E222: 624750 | F222: =+_xlfn.STDEV.S(D222:E222) -> 46775.114 | G222: =+AVERAGE(D222:E222) -> 591675 | H222: =+F222/G222 -> 0.079055417 | I222: =+ROUND(AVERAGE(D222:E222),0) -> 591675
... A302: 297 | B302: PLANETARIOS | C302: JUEGO | D302: 2893499.4 | E302: 2893499.4 | F302: =+_xlfn.STDEV.S(D302:E302) -> 0 | G302: =+AVERAGE(D302:E302) -> 2893499.4 | H302: =+F302/G302 -> 0 | I302: =+ROUND(AVERAGE(D302:E302),0) -> 2893499
A303: 298 | B303: CORONA Y SPEED DIFERENCIAL | C303: UNIDAD | D303: N/A | E303: N/A | F303: =+_xlfn.STDEV.S(D303:E303) -> #DIV/0! | G303: =+AVERAGE(D303:E303) -> #DIV/0! | H303: =+F303/G303 -> #DIV/0! | I303: =+ROUND(AVERAGE(D303:E303),0) -> #DIV/0!
A304: 299 | B304: RODILLOS Y PISTAS ESCUALIZACION | C304: UNIDAD | D304: 1520166.4 | E304: 1520166.4 | F304: =+_xlfn.STDEV.S(D304:E304) -> 0 | G304: =+AVERAGE(D304:E304) -> 1520166.4 | H304: =+F304/G304 -> 0 | I304: =+ROUND(AVERAGE(D304:E304),0) -> 1520166
A305: 300 | B305: CAJA INTERNA DIFERENCIAL O CARCAZA ESCUALIZACION DIFERENCIAL | C305: UNIDAD | D305: 4624380.4 | E305: 4624380.4 | F305: =+_xlfn.STDEV.S(D305:E305) -> 0 | G305: =+AVERAGE(D305:E305) -> 4624380.4 | H305: =+F305/G305 -> 0 | I305: =+ROUND(AVERAGE(D305:E305),0) -> 4624380
A306: 301 | B306: LAINAS PLANETARIOS | C306: UNIDAD | D306: 348988.52 | E306: 348988.52 | F306: =+_xlfn.STDEV.S(D306:E306) -> 0 | G306: =+AVERAGE(D306:E306) -> 348988.52 | H306: =+F306/G306 -> 0 | I306: =+ROUND(AVERAGE(D306:E306),0) -> 348989
A307: 302 | B307: LAINAS SATELITES | C307: UNIDAD | D307: 375383.53 | E307: 375383.53 | F307: =+_xlfn.STDEV.S(D307:E307) -> 0 | G307: =+AVERAGE(D307:E307) -> 375383.53 | H307: =+F307/G307 -> 0 | I307: =+ROUND(AVERAGE(D307:E307),0) -> 375384
A308: 303 | B308: TAPA YUGO DESLIZANTE DE ESCUALIZACION O TUERCA AJUSTE LATERAL | C308: UNIDAD | D308: 99752.275 | E308: 99752.275 | F308: =+_xlfn.STDEV.S(D308:E308) -> 0 | G308: =+AVERAGE(D308:E308) -> 99752.275 | H308: =+F308/G308 -> 0 | I308: =+ROUND(AVERAGE(D308:E308),0) -> 99752
A309: 304 | B309: RODILLOS PORTA SPEED | C309: UNIDAD | D309: 619587.47 | E309: 619587.47 | F309: =+_xlfn.STDEV.S(D309:E309) -> 0 | G309: =+AVERAGE(D309:E309) -> 619587.47 | H309: =+F309/G309 -> 0 | I309: =+ROUND(AVERAGE(D309:E309),0) -> 619587
A310: 305 | B310: PORTA SPEED | C310: UNIDAD | D310: 1629569.9 | E310: 1629569.9 | F310: =+_xlfn.STDEV.S(D310:E310) -> 0 | G310: =+AVERAGE(D310:E310) -> 1629569.9 | H310: =+F310/G310 -> 0 | I310: =+ROUND(AVERAGE(D310:E310),0) -> 1629570
A311: 306 | B311: RODILLO PILOTO SPEED | C311: UNIDAD | D311: 631279.65 | E311: 631279.65 | F311: =+_xlfn.STDEV.S(D311:E311) -> 0 | G311: =+AVERAGE(D311:E311) -> 631279.65 | H311: =+F311/G311 -> 0 | I311: =+ROUND(AVERAGE(D311:E311),0) -> 631280
A312: 307 | B312: RETENDOR Y PROTECTOR SPEED | C312: UNIDAD | D312: 132494.13 | E312: 132494.13 | F312: =+_xlfn.STDEV.S(D312:E312) -> 0 | G312: =+AVERAGE(D312:E312) -> 132494.13 | H312: =+F312/G312 -> 0 | I312: =+ROUND(AVERAGE(D312:E312),0) -> 132494
A313: 308 | B313: YUGO O FLANGE ACOPLE SPEED | C313: UNIDAD | D313: 1639461.6 | E313: 1639461.6 | F313: =+_xlfn.STDEV.S(D313:E313) -> 0 | G313: =+AVERAGE(D313:E313) -> 1639461.6 | H313: =+F313/G313 -> 0 | I313: =+ROUND(AVERAGE(D313:E313),0) -> 1639462
A314: 309 | B314: TUERCA SPEED | C314: UNIDAD | D314: N/A | E314: N/A | F314: =+_xlfn.STDEV.S(D314:E314) -> #DIV/0! | G314: =+AVERAGE(D314:E314) -> #DIV/0! | H314: =+F314/G314 -> #DIV/0! | I314: =+ROUND(AVERAGE(D314:E314),0) -> #DIV/0!
A315: 310 | B315: PIÑON VELOCIMETRO | C315: UNIDAD | D315: N/A | E315: N/A | F315: =+_xlfn.STDEV.S(D315:E315) -> #DIV/0! | G315: =+AVERAGE(D315:E315) -> #DIV/0! | H315: =+F315/G315 -> #DIV/0! | I315: =+ROUND(AVERAGE(D315:E315),0) -> #DIV/0!
A316: 311 | B316: ARANDELAS DE REGLAJE | C316: UNIDAD | D316: 194538.89 | E316: 194538.89 | F316: =+_xlfn.STDEV.S(D316:E316) -> 0 | G316: =+AVERAGE(D316:E316) -> 194538.89 | H316: =+F316/G316 -> 0 | I316: =+ROUND(AVERAGE(D316:E316),0) -> 194539
A317: 312 | B317: ANILLO Y/O CHAVETAS DE SUJECCION | C317: UNIDAD | D317: 169805.01 | E317: 169805.01 | F317: =+_xlfn.STDEV.S(D317:E317) -> 0 | G317: =+AVERAGE(D317:E317) -> 169805.01 | H317: =+F317/G317 -> 0 | I317: =+ROUND(AVERAGE(D317:E317),0) -> 169805
A318: 313 | B318: ARANDELA DE ESPESOR | C318: UNIDAD | D318: 193580.83 | E318: 193580.83 | F318: =+_xlfn.STDEV.S(D318:E318) -> 0 | G318: =+AVERAGE(D318:E318) -> 193580.83 | H318: =+F318/G318 -> 0 | I318: =+ROUND(AVERAGE(D318:E318),0) -> 193581
A319: 314 | B319: RETEN | C319: UNIDAD | D319: 317255.08 | E319: 317255.08 | F319: =+_xlfn.STDEV.S(D319:E319) -> 0 | G319: =+AVERAGE(D319:E319) -> 317255.08 | H319: =+F319/G319 -> 0 | I319: =+ROUND(AVERAGE(D319:E319),0) -> 317255
...

Sheet NISSAN FRONTIER NP 300 - MOD
A1: MANTENIMIENTO PREVENTIVO Y CORRECTIVO CON INCLUSIÓN DE REPUESTOS PARA LAS MOTOBOMBAS Y SISTEMAS HIDRÁULICOS A CARGO DE LA DIRECCIÓN SECCIONAL DE ADUANAS DE CÚCUTA Y DE LA DIRECCIÓN SECCIONAL DE IMPUESTOS DE CÚCUTA | K1: 39
D3: MECANIZADOS Y SERVICIOS INTEGRALES S.A.S. | E3: COMPAÑÍA DE ASISTENCIA INTEGRAL S.A.S.
A4: ITEMS | B4: DESCRIPCIÓN | C4: MEDIDA | D4: Cotización 1 | E4: Cotización 2 | F4: DESVIACIÓN ESTÁNDAR | G4: PROMEDIO | H4: COEFICIENTE DE VARIACIÓN | I4: PRECIO UNITARIO DE REFERENCIA IVA INCLUIDO
D5: PRECIO UNITARIO IVA INCLUÍDO | E5: PRECIO UNITARIO IVA INCLUÍDO
A6: 1 | B6: LAVADO SENCILLO EXTERNO,INTERNO,ASPIRADA | C6: UNIDAD | D6: 53057.723 | E6: 61900.676 | F6: =+_xlfn.STDEV.S(D6:E6) -> 6252.9126 | G6: =+AVERAGE(D6:E6) -> 57479.2 | H6: =+F6/G6 -> 0.10878566 | I6: =+ROUND(AVERAGE(D6:E6),0) -> 57479
A7: 2 | B7: LAVADO GENERAL INCLUYE ASPIRADA, LAVADO DEL MOTOR Y CHASIS EN CARCAMO | C7: UNIDAD | D7: 99575.551 | E7: 113937.41 | F7: =+_xlfn.STDEV.S(D7:E7) -> 10155.367 | G7: =+AVERAGE(D7:E7) -> 106756.48 | H7: =+F7/G7 -> 0.095126473 | I7: =+ROUND(AVERAGE(D7:E7),0) -> 106756
A8: 3 | B8: LAVADO GENERAL CON DESMANCHADO Y PULIDA | C8: UNIDAD | D8: 160389.06 | E8: 183522.1 | F8: =+_xlfn.STDEV.S(D8:E8) -> 16357.528 | G8: =+AVERAGE(D8:E8) -> 171955.58 | H8: =+F8/G8 -> 0.095126473 | I8: =+ROUND(AVERAGE(D8:E8),0) -> 171956
A9: 4 | B9: LAVADO TAPICERIA | C9: UNIDAD | D9: 244927.49 | E9: 267397.9 | F9: =+_xlfn.STDEV.S(D9:E9) -> 15888.981 | G9: =+AVERAGE(D9:E9) -> 256162.69 | H9: =+F9/G9 -> 0.062026911 | I9: =+ROUND(AVERAGE(D9:E9),0) -> 256163
A10: 5 | B10: ENGRASE GENERAL | C10: GLOBAL | D10: 43292.414 | E10: 51007.894 | F10: =+_xlfn.STDEV.S(D10:E10) -> 5455.668 | G10: =+AVERAGE(D10:E10) -> 47150.154 | H10: =+F10/G10 -> 0.11570838 | I10: =+ROUND(AVERAGE(D10:E10),0) -> 47150
A11: 6 | B11: REVISION GENERAL, AJUSTE Y MANTENIMIENTO DEL SISTEMA DE FRENOS INCLUYE: REVISION DE GAS,TUBERIAS,MANGUERAS,REVISION DE FLUIDOS. | C11: UNIDAD | D11: 159702.63 | E11: 187607.24 | F11: =+_xlfn.STDEV.S(D11:E11) -> 19731.536 | G11: =+AVERAGE(D11:E11) -> 173654.93 | H11: =+F11/G11 -> 0.11362497 | I11: =+ROUND(AVERAGE(D11:E11),0) -> 173655
A12: 7 | B12: DESMONTAJE Y MONTAJE COMPONENTES FRENO DE DISCO (PASTILLAS,MORDAZAS,DISCOS,CILINDROS, ETC) | C12: GLOBAL | D12: 124890.06 | E12: 146711.91 | F12: =+_xlfn.STDEV.S(D12:E12) -> 15430.382 | G12: =+AVERAGE(D12:E12) -> 135800.98 | H12: =+F12/G12 -> 0.11362497 | I12: =+ROUND(AVERAGE(D12:E12),0) -> 135801
A13: 8 | B13: DESMONTAJE Y MONTAJE BOMBA DE FRENO | C13: UNIDAD | D13: 156781.25 | E13: 174364.19 | F13: =+_xlfn.STDEV.S(D13:E13) -> 12433.019 | G13: =+AVERAGE(D13:E13) -> 165572.72 | H13: =+F13/G13 -> 0.075090986 | I13: =+ROUND(AVERAGE(D13:E13),0) -> 165573
A14: 9 | B14: DESMONTAJE Y MONTAJE DE MODULO ABS | C14: UNIDAD | D14: N/A | E14: N/A | F14: =+_xlfn.STDEV.S(D14:E14) -> #DIV/0! | G14: =+AVERAGE(D14:E14) -> #DIV/0! | H14: =+F14/G14 -> #DIV/0! | I14: =+ROUND(AVERAGE(D14:E14),0) -> #DIV/0!
A15: 10 | B15: DESMONTAJE Y MONTAJE DE SENSOR | C15: UNIDAD | D15: N/A | E15: N/A | F15: =+_xlfn.STDEV.S(D15:E15) -> #DIV/0! | G15: =+AVERAGE(D15:E15) -> #DIV/0! | H15: =+F15/G15 -> #DIV/0! | I15: =+ROUND(AVERAGE(D15:E15),0) -> #DIV/0!
A16: 11 | B16: DESMONTAJE Y MONTAJE INCLUYE RECTIFICACION DE DISCO O CAMPANA | C16: UNIDAD | D16: 122213.11 | E16: 138508.19 | F16: =+_xlfn.STDEV.S(D16:E16) -> 11522.362 | G16: =+AVERAGE(D16:E16) -> 130360.65 | H16: =+F16/G16 -> 0.088388348 | I16: =+ROUND(AVERAGE(D16:E16),0) -> 130361
A17: 12 | B17: DESMONTAJE Y MONTAJE COMPONENTES FRENOS TRASERO Y/O FRENO TAMBOR | C17: GLOBAL | D17: 730523.86 | E17: 827927.04 | F17: =+_xlfn.STDEV.S(D17:E17) -> 68874.45 | G17: =+AVERAGE(D17:E17) -> 779225.45 | H17: =+F17/G17 -> 0.088388348 | I17: =+ROUND(AVERAGE(D17:E17),0) -> 779225
A18: 13 | B18: GRADUACIÓN SISTEMA DE FRENOS RUEDA TRASERA | C18: GLOBAL | D18: 323840.47 | E18: 367019.2 | F18: =+_xlfn.STDEV.S(D18:E18) -> 30531.973 | G18: =+AVERAGE(D18:E18) -> 345429.84 | H18: =+F18/G18 -> 0.088388348 | I18: =+ROUND(AVERAGE(D18:E18),0) -> 345430
A19: 14 | B19: CAMBIO GUAYA FRENO DE MANO | C19: UNIDAD | D19: 218404.04 | E19: 247524.58 | F19: =+_xlfn.STDEV.S(D19:E19) -> 20591.33 | G19: =+AVERAGE(D19:E19) -> 232964.31 | H19: =+F19/G19 -> 0.088388348 | I19: =+ROUND(AVERAGE(D19:E19),0) -> 232964
A20: 15 | B20: CAMBIO KIT CALIPER (SELLO Y/O ORING PISTON, GUARDAPOLVOS DE PASADORES Y PISTON, ANTIRUIDOS, PASADORES Y GUIAS O BUJES PASADORES Y TORNILLOS) | C20: JUEGO | D20: 1189262.7 | E20: 1347831.1 | F20: =+_xlfn.STDEV.S(D20:E20) -> 112124.76 | G20: =+AVERAGE(D20:E20) -> 1268546.9 | H20: =+F20/G20 -> 0.088388348 | I20: =+ROUND(AVERAGE(D20:E20),0) -> 1268547
A21: 16 | B21: DESMONTAJE Y MONTAJE BRAZOS AXIALES | C21: UNIDAD | D21: 118319.84 | E21: 136699.62 | F21: =+_xlfn.STDEV.S(D21:E21) -> 12996.467 | G21: =+AVERAGE(D21:E21) -> 127509.73 | H21: =+F21/G21 -> 0.1019253 | I21: =+ROUND(AVERAGE(D21:E21),0) -> 127510
A22: 17 | B22: DESMONTAJE Y MONTAJE DE TERMINAL DIRECCION | C22: UNIDAD | D22: 465766 | E22: 538118 | F22: =+_xlfn.STDEV.S(D22:E22) -> 51160.59 | G22: =+AVERAGE(D22:E22) -> 501942 | H22: =+F22/G22 -> 0.1019253 | I22: =+ROUND(AVERAGE(D22:E22),0) -> 501942
A23: 18 | B23: DESMONTAJE Y MONTAJE DE TIJERAS | C23: UNIDAD | D23: 117577.94 | E23: 135842.48 | F23: =+_xlfn.STDEV.S(D23:E23) -> 12914.977 | G23: =+AVERAGE(D23:E23) -> 126710.21 | H23: =+F23/G23 -> 0.1019253 | I23: =+ROUND(AVERAGE(D23:E23),0) -> 126710
A24: 19 | B24: DESMONTAJE Y MONTAJE DE COLGANTES | C24: UNIDAD | D24: 351775.9 | E24: 406420.7 | F24: =+_xlfn.STDEV.S(D24:E24) -> 38639.709 | G24: =+AVERAGE(D24:E24) -> 379098.3 | H24: =+F24/G24 -> 0.1019253 | I24: =+ROUND(AVERAGE(D24:E24),0) -> 379098
A25: 20 | B25: DESMONTAJE Y MONTAJE BUJES DE TIJERAS (INCLUYE SUPERIOR E INFERIOR / IZQUIERDO Y DERECHO, SERVICIO DE PRENSA) | C25: JUEGO | D25: 199334.52 | E25: 229408.2 | F25: =+_xlfn.STDEV.S(D25:E25) -> 21265.303 | G25: =+AVERAGE(D25:E25) -> 214371.36 | H25: =+F25/G25 -> 0.099198433 | I25: =+ROUND(AVERAGE(D25:E25),0) -> 214371
A26: 21 | B26: DESMONTAJE Y MONTAJE DE MOÑONAS (SERVICIO DE PRENSA INCLUIDO) | C26: UNIDAD | D26: 153293.11 | E26: 176420.5 | F26: =+_xlfn.STDEV.S(D26:E26) -> 16353.537 | G26: =+AVERAGE(D26:E26) -> 164856.8 | H26: =+F26/G26 -> 0.099198433 | I26: =+ROUND(AVERAGE(D26:E26),0) -> 164857
A27: 22 | B27: DESMONTAJE Y MONTAJE DE AMORTIGUADORES DELANTEROS | C27: JUEGO | D27: 261568.04 | E27: 301030.91 | F27: =+_xlfn.STDEV.S(D27:E27) -> 27904.467 | G27: =+AVERAGE(D27:E27) -> 281299.47 | H27: =+F27/G27 -> 0.099198433 | I27: =+ROUND(AVERAGE(D27:E27),0) -> 281299
... A36: 31 | B36: DESMONTAJE Y MONTAJE DE PUNTA DE EJE LADO RUEDA | C36: UNIDAD | D36: 327938.41 | E36: 364716.55 | F36: =+_xlfn.STDEV.S(D36:E36) -> 26006.072 | G36: =+AVERAGE(D36:E36) -> 346327.48 | H36: =+F36/G36 -> 0.075090986 | I36: =+ROUND(AVERAGE(D36:E36),0) -> 346327
A37: 32 | B37: DESMONTAJE Y MONTAJE CUNA SUSPENSION | C37: UNIDAD | D37: N/A | E37: N/A | F37: =+_xlfn.STDEV.S(D37:E37) -> #DIV/0! | G37: =+AVERAGE(D37:E37) -> #DIV/0! | H37: =+F37/G37 -> #DIV/0! | I37: =+ROUND(AVERAGE(D37:E37),0) -> #DIV/0!
A38: 33 | B38: DESMONTAJE Y MONTAJE PERNO DE RUEDA | C38: UNIDAD | D38: 104266.03 | E38: 118168.16 | F38: =+_xlfn.STDEV.S(D38:E38) -> 9830.2953 | G38: =+AVERAGE(D38:E38) -> 111217.1 | H38: =+F38/G38 -> 0.088388348 | I38: =+ROUND(AVERAGE(D38:E38),0) -> 111217
A39: 34 | B39: DESMONTAJE Y MONTAJE HOJA PRINCIPAL DEL MUELLE | C39: UNIDAD | D39: 270319.33 | E39: 306361.91 | F39: =+_xlfn.STDEV.S(D39:E39) -> 25485.951 | G39: =+AVERAGE(D39:E39) -> 288340.62 | H39: =+F39/G39 -> 0.088388348 | I39: =+ROUND(AVERAGE(D39:E39),0) -> 288341
A40: 35 | B40: DESMONTAJE Y MONTAJE CREMALLERA DIRECCION | C40: UNIDAD | D40: 455681.15 | E40: 516438.64 | F40: =+_xlfn.STDEV.S(D40:E40) -> 42962.031 | G40: =+AVERAGE(D40:E40) -> 486059.9 | H40: =+F40/G40 -> 0.088388348 | I40: =+ROUND(AVERAGE(D40:E40),0) -> 486060
A41: 36 | B41: DESMONTAJE Y MONTAJE BUJE CREMALLERA | C41: UNIDAD | D41: 303152.4 | E41: 347210.16 | F41: =+_xlfn.STDEV.S(D41:E41) -> 31153.541 | G41: =+AVERAGE(D41:E41) -> 325181.28 | H41: =+F41/G41 -> 0.095803611 | I41: =+ROUND(AVERAGE(D41:E41),0) -> 325181
A42: 37 | B42: DESMONTAJE Y MONTAJE COLUMNA DIRECCION | C42: UNIDAD | D42: 406962.99 | E42: 466107.76 | F42: =+_xlfn.STDEV.S(D42:E42) -> 41821.665 | G42: =+AVERAGE(D42:E42) -> 436535.37 | H42: =+F42/G42 -> 0.095803611 | I42: =+ROUND(AVERAGE(D42:E42),0) -> 436535
A43: 38 | B43: DESMONTAJE Y MONTAJE BIELA DE DIRECCION | C43: UNIDAD | D43: 210168.68 | E43: 240712.93 | F43: =+_xlfn.STDEV.S(D43:E43) -> 21598.043 | G43: =+AVERAGE(D43:E43) -> 225440.8 | H43: =+F43/G43 -> 0.095803611 | I43: =+ROUND(AVERAGE(D43:E43),0) -> 225441
A44: 39 | B44: DESMONTAJE Y MONTAJE BARRA LARGA DE LA DIRECCIÓN | C44: UNIDAD | D44: 403339.63 | E44: 452805.82 | F44: =+_xlfn.STDEV.S(D44:E44) -> 34977.872 | G44: =+AVERAGE(D44:E44) -> 428072.72 | H44: =+F44/G44 -> 0.081710117 | I44: =+ROUND(AVERAGE(D44:E44),0) -> 428073
A45: 40 | B45: DESMONTAJE Y MONTAJE BARRA CORTA DE LA DIRECCIÓN | C45: UNIDAD | D45: 412823.34 | E45: 463452.62 | F45: =+_xlfn.STDEV.S(D45:E45) -> 35800.306 | G45: =+AVERAGE(D45:E45) -> 438137.98 | H45: =+F45/G45 -> 0.081710117 | I45: =+ROUND(AVERAGE(D45:E45),0) -> 438138
A46: 41 | B46: DESMONTAJE Y MONTAJE BUJE SUJECION CAJA DIRECCION | C46: UNIDAD | D46: 200193.59 | E46: 224745.64 | F46: =+_xlfn.STDEV.S(D46:E46) -> 17360.917 | G46: =+AVERAGE(D46:E46) -> 212469.61 | H46: =+F46/G46 -> 0.081710117 | I46: =+ROUND(AVERAGE(D46:E46),0) -> 212470
A47: 42 | B47: DESMONTAJE Y MONTAJE EMPAQUETADURA COMPLETA CREMALLERA DIRECCION | C47: JUEGO | D47: 948753.42 | E47: 1035795 | F47: =+_xlfn.STDEV.S(D47:E47) -> 61547.704 | G47: =+AVERAGE(D47:E47) -> 992274.22 | H47: =+F47/G47 -> 0.062026911 | I47: =+ROUND(AVERAGE(D47:E47),0) -> 992274
A48: 43 | B48: DESMONTAJE Y MONTAJE RETENEDOR CREMALLERA DIRECCION | C48: UNIDAD | D48: 701543.02 | E48: 765904.77 | F48: =+_xlfn.STDEV.S(D48:E48) -> 45510.626 | G48: =+AVERAGE(D48:E48) -> 733723.89 | H48: =+F48/G48 -> 0.062026911 | I48: =+ROUND(AVERAGE(D48:E48),0) -> 733724
A49: 44 | B49: DESMONTAJE Y MONTAJE RODAMIENTO CREMALLERA DIRECCION | C49: UNIDAD | D49: 667391.91 | E49: 728620.52 | F49: =+_xlfn.STDEV.S(D49:E49) -> 43295.169 | G49: =+AVERAGE(D49:E49) -> 698006.21 | H49: =+F49/G49 -> 0.062026911 | I49: =+ROUND(AVERAGE(D49:E49),0) -> 698006
... A133: 128 | B133: BATERIA (INCLUYE MANO DE OBRA) | C133: UNIDAD | D133: 804969.76 | E133: 900295.13 | F133: =+_xlfn.STDEV.S(D133:E133) -> 67405.213 | G133: =+AVERAGE(D133:E133) -> 852632.45 | H133: =+F133/G133 -> 0.079055417 | I133: =+ROUND(AVERAGE(D133:E133),0) -> 852632
A134: 129 | B134: NEUMATICOS | C134: UNIDAD | D134: N/A | E134: N/A | F134: =+_xlfn.STDEV.S(D134:E134) -> #DIV/0! | G134: =+AVERAGE(D134:E134) -> #DIV/0! | H134: =+F134/G134 -> #DIV/0! | I134: =+ROUND(AVERAGE(D134:E134),0) -> #DIV/0!
A135: 130 | B135: BOMBA DE COMBUSTIBLE | C135: UNIDAD | D135: 295255.38 | E135: 330219.84 | F135: =+_xlfn.STDEV.S(D135:E135) -> 24723.602 | G135: =+AVERAGE(D135:E135) -> 312737.61 | H135: =+F135/G135 -> 0.079055417 | I135: =+ROUND(AVERAGE(D135:E135),0) -> 312738
A136: 131 | B136: BOMBA DE FRENO | C136: UNIDAD | D136: 862418.43 | E136: 964546.93 | F136: =+_xlfn.STDEV.S(D136:E136) -> 72215.754 | G136: =+AVERAGE(D136:E136) -> 913482.68 | H136: =+F136/G136 -> 0.079055417 | I136: =+ROUND(AVERAGE(D136:E136),0) -> 913483
A137: 132 | B137: MODULO ABS PROGRAMADO | C137: UNIDAD | D137: N/A | E137: N/A | F137: =+_xlfn.STDEV.S(D137:E137) -> #DIV/0! | G137: =+AVERAGE(D137:E137) -> #DIV/0! | H137: =+F137/G137 -> #DIV/0! | I137: =+ROUND(AVERAGE(D137:E137),0) -> #DIV/0!
A138: 133 | B138: SENSOR ABS | C138: UNIDAD | D138: N/A | E138: N/A | F138: =+_xlfn.STDEV.S(D138:E138) -> #DIV/0! | G138: =+AVERAGE(D138:E138) -> #DIV/0! | H138: =+F138/G138 -> #DIV/0! | I138: =+ROUND(AVERAGE(D138:E138),0) -> #DIV/0!
A139: 134 | B139: BOMBA DE AGUA | C139: UNIDAD | D139: 1112179.7 | E139: 1243885.2 | F139: =+_xlfn.STDEV.S(D139:E139) -> 93129.848 | G139: =+AVERAGE(D139:E139) -> 1178032.5 | H139: =+F139/G139 -> 0.079055417 | I139: =+ROUND(AVERAGE(D139:E139),0) -> 1178032
A140: 135 | B140: BOMBA HIDRAULICA | C140: UNIDAD | D140: 1807723.2 | E140: 2021795.7 | F140: =+_xlfn.STDEV.S(D140:E140) -> 151372.11 | G140: =+AVERAGE(D140:E140) -> 1914759.5 | H140: =+F140/G140 -> 0.079055417 | I140: =+ROUND(AVERAGE(D140:E140),0) -> 1914759
A141: 136 | B141: EMPAQUETADURA BOMBA DE DIRECCIÓN | C141: UNIDAD | D141: 783233.13 | E141: 875984.42 | F141: =+_xlfn.STDEV.S(D141:E141) -> 65585.067 | G141: =+AVERAGE(D141:E141) -> 829608.77 | H141: =+F141/G141 -> 0.079055417 | I141: =+ROUND(AVERAGE(D141:E141),0) -> 829609
A142: 137 | B142: EMPATEDURA CAJA DE DIRECCIÓN | C142: UNIDAD | D142: 844811.15 | E142: 944854.57 | F142: =+_xlfn.STDEV.S(D142:E142) -> 70741.385 | G142: =+AVERAGE(D142:E142) -> 894832.86 | H142: =+F142/G142 -> 0.079055417 | I142: =+ROUND(AVERAGE(D142:E142),0) -> 894833
A143: 138 | B143: BUJE DE TIJERA | C143: UNIDAD | D143: 152903.68 | E143: 171010.7 | F143: =+_xlfn.STDEV.S(D143:E143) -> 12803.593 | G143: =+AVERAGE(D143:E143) -> 161957.19 | H143: =+F143/G143 -> 0.079055417 | I143: =+ROUND(AVERAGE(D143:E143),0) -> 161957
A144: 139 | B144: BUJE DE AMORTIGUADOR | C144: UNIDAD | D144: 213981.15 | E144: 239321.02 | F144: =+_xlfn.STDEV.S(D144:E144) -> 17917.996 | G144: =+AVERAGE(D144:E144) -> 226651.08 | H144: =+F144/G144 -> 0.079055417 | I144: =+ROUND(AVERAGE(D144:E144),0) -> 226651
A145: 140 | B145: BASE DE AMORTIGUADOR | C145: UNIDAD | D145: 381813.87 | E145: 427028.67 | F145: =+_xlfn.STDEV.S(D145:E145) -> 31971.692 | G145: =+AVERAGE(D145:E145) -> 404421.27 | H145: =+F145/G145 -> 0.079055417 | I145: =+ROUND(AVERAGE(D145:E145),0) -> 404421
A146: 141 | B146: AMORTIGUADOR DELANTERO | C146: JUEGO | D146: 511095.3 | E146: 571619.75 | F146: =+_xlfn.STDEV.S(D146:E146) -> 42797.245 | G146: =+AVERAGE(D146:E146) -> 541357.53 | H146: =+F146/G146 -> 0.079055417 | I146: =+ROUND(AVERAGE(D146:E146),0) -> 541358
A147: 142 | B147: AMORTIGUADOR TRASERO | C147: JUEGO | D147: 493562.33 | E147: 552010.5 | F147: =+_xlfn.STDEV.S(D147:E147) -> 41329.098 | G147: =+AVERAGE(D147:E147) -> 522786.41 | H147: =+F147/G147 -> 0.079055417 | I147: =+ROUND(AVERAGE(D147:E147),0) -> 522786
A148: 143 | B148: INYECTOR | C148: UNIDAD | D148: 2415677.2 | E148: 2701744.2 | F148: =+_xlfn.STDEV.S(D148:E148) -> 202279.94 | G148: =+AVERAGE(D148:E148) -> 2558710.7 | H148: =+F148/G148 -> 0.079055417 | I148: =+ROUND(AVERAGE(D148:E148),0) -> 2558711
A149: 144 | B149: BOMBA DE INYECCION | C149: UNIDAD | D149: 4869841.6 | E149: 5446533.4 | F149: =+_xlfn.STDEV.S(D149:E149) -> 407782.66 | G149: =+AVERAGE(D149:E149) -> 5158187.5 | H149: =+F149/G149 -> 0.079055417 | I149: =+ROUND(AVERAGE(D149:E149),0) -> 5158187
A150: 145 | B150: PILA DE COMBUSTIBLE | C150: UNIDAD | D150: 466905.77 | E150: 522197.24 | F150: =+_xlfn.STDEV.S(D150:E150) -> 39096.975 | G150: =+AVERAGE(D150:E150) -> 494551.5 | H150: =+F150/G150 -> 0.079055417 | I150: =+ROUND(AVERAGE(D150:E150),0) -> 494552
... A199: 194 | B199: KIT ACCESORIOS (JUEGOS DE CORREAS, TENSOR, PATIN BALINERA) | C199: JUEGO | D199: 1066922.9 | E199: 1210332 | F199: =+_xlfn.STDEV.S(D199:E199) -> 101405.54 | G199: =+AVERAGE(D199:E199) -> 1138627.5 | H199: =+F199/G199 -> 0.089059452 | I199: =+ROUND(AVERAGE(D199:E199),0) -> 1138627
A200: 195 | B200: TELA ORIGINAL SILLA DELANTERA | C200: UNIDAD | D200: N/A | E200: N/A | F200: =+_xlfn.STDEV.S(D200:E200) -> #DIV/0! | G200: =+AVERAGE(D200:E200) -> #DIV/0! | H200: =+F200/G200 -> #DIV/0! | I200: =+ROUND(AVERAGE(D200:E200),0) -> #DIV/0!
A201: 196 | B201: GATO DE BOTELLA 2 TONELADAS | C201: UNIDAD | D201: 211313.51 | E201: 239716.94 | F201: =+_xlfn.STDEV.S(D201:E201) -> 20084.262 | G201: =+AVERAGE(D201:E201) -> 225515.23 | H201: =+F201/G201 -> 0.089059452 | I201: =+ROUND(AVERAGE(D201:E201),0) -> 225515
A202: 197 | B202: CRUCETA PARA CAMIONETA FRONTIER RIN 16 | C202: UNIDAD | D202: 79642.073 | E202: 90347.061 | F202: =+_xlfn.STDEV.S(D202:E202) -> 7569.5695 | G202: =+AVERAGE(D202:E202) -> 84994.567 | H202: =+F202/G202 -> 0.089059452 | I202: =+ROUND(AVERAGE(D202:E202),0) -> 84995
A203: 198 | B203: KIT DE CARRETERA OBLIGATORIO | C203: UNIDAD | D203: 239231.48 | E203: 271387.47 | F203: =+_xlfn.STDEV.S(D203:E203) -> 22737.722 | G203: =+AVERAGE(D203:E203) -> 255309.48 | H203: =+F203/G203 -> 0.089059452 | I203: =+ROUND(AVERAGE(D203:E203),0) -> 255309
A204: 199 | B204: RETENEDOR DE INYECTOR | C204: UNIDAD | D204: 236490.25 | E204: 268277.79 | F204: =+_xlfn.STDEV.S(D204:E204) -> 22477.182 | G204: =+AVERAGE(D204:E204) -> 252384.02 | H204: =+F204/G204 -> 0.089059452 | I204: =+ROUND(AVERAGE(D204:E204),0) -> 252384
A205: 200 | B205: VALVULA DEL RIEL | C205: UNIDAD | D205: 790639.13 | E205: 896911.88 | F205: =+_xlfn.STDEV.S(D205:E205) -> 75146.183 | G205: =+AVERAGE(D205:E205) -> 843775.5 | H205: =+F205/G205 -> 0.089059452 | I205: =+ROUND(AVERAGE(D205:E205),0) -> 843776
A206: 201 | B206: EMPAQUETADURA BOMBA DE ALTA | C206: UNIDAD | D206: 481016.96 | E206: 545672.24 | F206: =+_xlfn.STDEV.S(D206:E206) -> 45718.188 | G206: =+AVERAGE(D206:E206) -> 513344.6 | H206: =+F206/G206 -> 0.089059452 | I206: =+ROUND(AVERAGE(D206:E206),0) -> 513345
A207: 202 | B207: BOMBA DE ALTA | C207: UNIDAD | D207: 10594900 | E207: 12019000 | F207: =+_xlfn.STDEV.S(D207:E207) -> 1006990.8 | G207: =+AVERAGE(D207:E207) -> 11306950 | H207: =+F207/G207 -> 0.089059452 | I207: =+ROUND(AVERAGE(D207:E207),0) -> 11306950
A208: 203 | B208: ELECTROVALVULA SCV PARA BOMBA DE ALTA | C208: UNIDAD | D208: 1053078.4 | E208: 1194626.6 | F208: =+_xlfn.STDEV.S(D208:E208) -> 100089.69 | G208: =+AVERAGE(D208:E208) -> 1123852.5 | H208: =+F208/G208 -> 0.089059452 | I208: =+ROUND(AVERAGE(D208:E208),0) -> 1123853
A209: 204 | B209: VALVULA DE PRESION BOMBA ALTA | C209: UNIDAD | D209: 472700.68 | E209: 536238.15 | F209: =+_xlfn.STDEV.S(D209:E209) -> 44927.769 | G209: =+AVERAGE(D209:E209) -> 504469.41 | H209: =+F209/G209 -> 0.089059452 | I209: =+ROUND(AVERAGE(D209:E209),0) -> 504469
A210: 205 | B210: EMPAQUETADURA BOMBA LINEAL | C210: UNIDAD | D210: N/A | E210: N/A | F210: =+_xlfn.STDEV.S(D210:E210) -> #DIV/0! | G210: =+AVERAGE(D210:E210) -> #DIV/0! | H210: =+F210/G210 -> #DIV/0! | I210: =+ROUND(AVERAGE(D210:E210),0) -> #DIV/0!
A211: 206 | B211: ACEITE COMPRESOR AIRE ACONDICIONADO | C211: UNIDAD | D211: 126200.18 | E211: 143163.21 | F211: =+_xlfn.STDEV.S(D211:E211) -> 11994.678 | G211: =+AVERAGE(D211:E211) -> 134681.69 | H211: =+F211/G211 -> 0.089059452 | I211: =+ROUND(AVERAGE(D211:E211),0) -> 134682
A212: 207 | B212: VALVULA INYECTOR UNIDAD | C212: UNIDAD | D212: 354854.43 | E212: 402551.74 | F212: =+_xlfn.STDEV.S(D212:E212) -> 33727.089 | G212: =+AVERAGE(D212:E212) -> 378703.08 | H212: =+F212/G212 -> 0.089059452 | I212: =+ROUND(AVERAGE(D212:E212),0) -> 378703
A213: 208 | B213: EMPAQUETADURA DE INYECTOR | C213: JUEGO | D213: 167242.25 | E213: 189721.9 | F213: =+_xlfn.STDEV.S(D213:E213) -> 15895.516 | G213: =+AVERAGE(D213:E213) -> 178482.08 | H213: =+F213/G213 -> 0.089059452 | I213: =+ROUND(AVERAGE(D213:E213),0) -> 178482
A214: 209 | B214: EMPAQUETADURA BOMBA DE INYECCION | C214: JUEGO | D214: 350124.95 | E214: 397186.55 | F214: =+_xlfn.STDEV.S(D214:E214) -> 33277.576 | G214: =+AVERAGE(D214:E214) -> 373655.75 | H214: =+F214/G214 -> 0.089059452 | I214: =+ROUND(AVERAGE(D214:E214),0) -> 373656
A215: 210 | B215: TOBERAS DE INYECTORES | C215: JUEGO | D215: 245871.88 | E215: 278920.43 | F215: =+_xlfn.STDEV.S(D215:E215) -> 23368.858 | G215: =+AVERAGE(D215:E215) -> 262396.16 | H215: =+F215/G215 -> 0.089059452 | I215: =+ROUND(AVERAGE(D215:E215),0) -> 262396
A216: 211 | B216: GUARDAPOLVOS EJES | C216: UNIDAD | D216: 129680.13 | E216: 147110.92 | F216: =+_xlfn.STDEV.S(D216:E216) -> 12325.429 | G216: =+AVERAGE(D216:E216) -> 138395.52 | H216: =+F216/G216 -> 0.089059452 | I216: =+ROUND(AVERAGE(D216:E216),0) -> 138396
A217: 212 | B217: GUARDAPOLVOS AMORTIGUADORES | C217: UNIDAD | D217: 198261 | E217: 224910 | F217: =+_xlfn.STDEV.S(D217:E217) -> 18843.689 | G217: =+AVERAGE(D217:E217) -> 211585.5 | H217: =+F217/G217 -> 0.089059452 | I217: =+ROUND(AVERAGE(D217:E217),0) -> 211586
A218: 213 | B218: TUERCAS ESPARRAGOS POR UNIDAD | C218: UNIDAD | D218: 58661.622 | E218: 66546.549 | F218: =+_xlfn.STDEV.S(D218:E218) -> 5575.4855 | G218: =+AVERAGE(D218:E218) -> 62604.086 | H218: =+F218/G218 -> 0.089059452 | I218: =+ROUND(AVERAGE(D218:E218),0) -> 62604
A219: 214 | B219: EMPAQUE MULTIPLE EXOSTO | C219: JUEGO | D219: 477295 | E219: 541450 | F219: =+_xlfn.STDEV.S(D219:E219) -> 45364.436 | G219: =+AVERAGE(D219:E219) -> 509372.5 | H219: =+F219/G219 -> 0.089059452 | I219: =+ROUND(AVERAGE(D219:E219),0) -> 509373
A220: 215 | B220: MOFLE Y EXOSTO | C220: JUEGO | D220: 1995000 | E220: 2261000 | F220: =+_xlfn.STDEV.S(D220:E220) -> 188090.4 | G220: =+AVERAGE(D220:E220) -> 2128000 | H220: =+F220/G220 -> 0.088388348 | I220: =+ROUND(AVERAGE(D220:E220),0) -> 2128000
A221: 216 | B221: BOMBONA DE EXOSTO | C221: UNIDAD | D221: 2205000 | E221: 2499000 | F221: =+_xlfn.STDEV.S(D221:E221) -> 207889.39 | G221: =+AVERAGE(D221:E221) -> 2352000 | H221: =+F221/G221 -> 0.088388348 | I221: =+ROUND(AVERAGE(D221:E221),0) -> 2352000
A222: 217 | B222: KIT CALIPER (SELLO Y/O ORING PISTON, GUARDAPOLVOS DE PASADORES Y PISTON, ANTIRUIDOS, PASADORES Y GUIAS O BUJES PASADORES Y TORNILLOS) | C222: GLOBAL | D222: 551250 | E222: 624750 | F222: =+_xlfn.STDEV.S(D222:E222) -> 51972.348 | G222: =+AVERAGE(D222:E222) -> 588000 | H222: =+F222/G222 -> 0.088388348 | I222: =+ROUND(AVERAGE(D222:E222),0) -> 588000
... A308: 303 | B308: TAPA YUGO DESLIZANTE DE ESCUALIZACION O TUERCA AJUSTE LATERAL | C308: UNIDAD | D308: 103742.37 | E308: 103742.37 | F308: =+_xlfn.STDEV.S(D308:E308) -> 0 | G308: =+AVERAGE(D308:E308) -> 103742.37 | H308: =+F308/G308 -> 0 | I308: =+ROUND(AVERAGE(D308:E308),0) -> 103742
A309: 304 | B309: RODILLOS PORTA SPEED | C309: UNIDAD | D309: N/A | E309: N/A | F309: =+_xlfn.STDEV.S(D309:E309) -> #DIV/0! | G309: =+AVERAGE(D309:E309) -> #DIV/0! | H309: =+F309/G309 -> #DIV/0! | I309: =+ROUND(AVERAGE(D309:E309),0) -> #DIV/0!
A310: 305 | B310: PORTA SPEED | C310: UNIDAD | D310: 1694752.7 | E310: 1694752.7 | F310: =+_xlfn.STDEV.S(D310:E310) -> 0 | G310: =+AVERAGE(D310:E310) -> 1694752.7 | H310: =+F310/G310 -> 0 | I310: =+ROUND(AVERAGE(D310:E310),0) -> 1694753
A311: 306 | B311: RODILLO PILOTO SPEED | C311: UNIDAD | D311: 656530.84 | E311: 656530.84 | F311: =+_xlfn.STDEV.S(D311:E311) -> 0 | G311: =+AVERAGE(D311:E311) -> 656530.84 | H311: =+F311/G311 -> 0 | I311: =+ROUND(AVERAGE(D311:E311),0) -> 656531
A312: 307 | B312: RETENDOR Y PROTECTOR SPEED | C312: UNIDAD | D312: 137793.89 | E312: 137793.89 | F312: =+_xlfn.STDEV.S(D312:E312) -> 0 | G312: =+AVERAGE(D312:E312) -> 137793.89 | H312: =+F312/G312 -> 0 | I312: =+ROUND(AVERAGE(D312:E312),0) -> 137794
A313: 308 | B313: YUGO O FLANGE ACOPLE SPEED | C313: UNIDAD | D313: 1705040 | E313: 1705040 | F313: =+_xlfn.STDEV.S(D313:E313) -> 0 | G313: =+AVERAGE(D313:E313) -> 1705040 | H313: =+F313/G313 -> 0 | I313: =+ROUND(AVERAGE(D313:E313),0) -> 1705040
A314: 309 | B314: TUERCA SPEED | C314: UNIDAD | D314: 255850 | E314: 255850 | F314: =+_xlfn.STDEV.S(D314:E314) -> 0 | G314: =+AVERAGE(D314:E314) -> 255850 | H314: =+F314/G314 -> 0 | I314: =+ROUND(AVERAGE(D314:E314),0) -> 255850
A315: 310 | B315: PIÑON VELOCIMETRO | C315: UNIDAD | D315: 612850 | E315: 612850 | F315: =+_xlfn.STDEV.S(D315:E315) -> 0 | G315: =+AVERAGE(D315:E315) -> 612850 | H315: =+F315/G315 -> 0 | I315: =+ROUND(AVERAGE(D315:E315),0) -> 612850
A316: 311 | B316: ARANDELAS DE REGLAJE | C316: UNIDAD | D316: 202320.45 | E316: 202320.45 | F316: =+_xlfn.STDEV.S(D316:E316) -> 0 | G316: =+AVERAGE(D316:E316) -> 202320.45 | H316: =+F316/G316 -> 0 | I316: =+ROUND(AVERAGE(D316:E316),0) -> 202320
A317: 312 | B317: ANILLO Y/O CHAVETAS DE SUJECCION | C317: UNIDAD | D317: 176597.21 | E317: 176597.21 | F317: =+_xlfn.STDEV.S(D317:E317) -> 0 | G317: =+AVERAGE(D317:E317) -> 176597.21 | H317: =+F317/G317 -> 0 | I317: =+ROUND(AVERAGE(D317:E317),0) -> 176597
A318: 313 | B318: ARANDELA DE ESPESOR | C318: UNIDAD | D318: 201324.06 | E318: 201324.06 | F318: =+_xlfn.STDEV.S(D318:E318) -> 0 | G318: =+AVERAGE(D318:E318) -> 201324.06 | H318: =+F318/G318 -> 0 | I318: =+ROUND(AVERAGE(D318:E318),0) -> 201324
A319: 314 | B319: RETEN | C319: UNIDAD | D319: 329945.28 | E319: 329945.28 | F319: =+_xlfn.STDEV.S(D319:E319) -> 0 | G319: =+AVERAGE(D319:E319) -> 329945.28 | H319: =+F319/G319 -> 0 | I319: =+ROUND(AVERAGE(D319:E319),0) -> 329945
A320: 315 | B320: EJE PORTASATELITES | C320: UNIDAD | D320: 2187237.7 | E320: 2187237.7 | F320: =+_xlfn.STDEV.S(D320:E320) -> 0 | G320: =+AVERAGE(D320:E320) -> 2187237.7 | H320: =+F320/G320 -> 0 | I320: =+ROUND(AVERAGE(D320:E320),0) -> 2187238
A321: 316 | B321: ARANDELAS DE FRICCION | C321: UNIDAD | D321: 197589.36 | E321: 197589.36 | F321: =+_xlfn.STDEV.S(D321:E321) -> 0 | G321: =+AVERAGE(D321:E321) -> 197589.36 | H321: =+F321/G321 -> 0 | I321: =+ROUND(AVERAGE(D321:E321),0) -> 197589
... A329: 324 | B329: EJE DE ENTRADA T/A | C329: UNIDAD | D329: 1893087.8 | E329: 1893087.8 | F329: =+_xlfn.STDEV.S(D329:E329) -> 0 | G329: =+AVERAGE(D329:E329) -> 1893087.8 | H329: =+F329/G329 -> 0 | I329: =+ROUND(AVERAGE(D329:E329),0) -> 1893088
A330: 325 | B330: BOMBA ACEITE T/A | C330: UNIDAD | D330: N/A | E330: N/A | F330: =+_xlfn.STDEV.S(D330:E330) -> #DIV/0! | G330: =+AVERAGE(D330:E330) -> #DIV/0! | H330: =+F330/G330 -> #DIV/0! | I330: =+ROUND(AVERAGE(D330:E330),0) -> #DIV/0!
A331: 326 | B331: FILTRO T/A | C331: UNIDAD | D331: 2095207.9 | E331: 2095207.9 | F331: =+_xlfn.STDEV.S(D331:E331) -> 0 | G331: =+AVERAGE(D331:E331) -> 2095207.9 | H331: =+F331/G331 -> 0 | I331: =+ROUND(AVERAGE(D331:E331),0) -> 2095208
A332: 327 | B332: CUERPO DE LAS VALVULAS DE CONTROL T/A | C332: UNIDAD | D332: 8830735.3 | E332: 8830735.3 | F332: =+_xlfn.STDEV.S(D332:E332) -> 0 | G332: =+AVERAGE(D332:E332) -> 8830735.3 | H332: =+F332/G332 -> 0 | I332: =+ROUND(AVERAGE(D332:E332),0) -> 8830735
...

Sheet MICROBUS RENAULT MOD 2014
A1: MANTENIMIENTO PREVENTIVO Y CORRECTIVO CON INCLUSIÓN DE REPUESTOS PARA LAS MOTOBOMBAS Y SISTEMAS HIDRÁULICOS A CARGO DE LA DIRECCIÓN SECCIONAL DE ADUANAS DE CÚCUTA Y DE LA DIRECCIÓN SECCIONAL DE IMPUESTOS DE CÚCUTA | M1: 223
D3: MECANIZADOS Y SERVICIOS INTEGRALES S.A.S. | E3: COMPAÑÍA DE ASISTENCIA INTEGRAL S.A.S.
A4: ITEMS | B4: DESCRIPCIÓN | C4: MEDIDA | D4: Cotización 1 | E4: Cotización 2 | F4: DESVIACIÓN ESTÁNDAR | G4: PROMEDIO | H4: COEFICIENTE DE VARIACIÓN | I4: PRECIO UNITARIO DE REFERENCIA IVA INCLUIDO
D5: PRECIO UNITARIO IVA INCLUÍDO | E5: PRECIO UNITARIO IVA INCLUÍDO
A6: 1 | B6: LAVADO SENCILLO EXTERNO,INTERNO,ASPIRADA | C6: UNIDAD | D6: 62871.604 | E6: 68639.641 | F6: =+_xlfn.STDEV.S(D6:E6) -> 4078.6181 | G6: =+AVERAGE(D6:E6) -> 65755.623 | H6: =+F6/G6 -> 0.062026911 | I6: =ROUND(GEOMEAN(D6:E6),0) -> 65692
A7: 2 | B7: LAVADO GENERAL INCLUYE ASPIRADA, LAVADO DEL MOTOR Y CHASIS EN CARCAMO | C7: UNIDAD | D7: 110448.5 | E7: 125174.97 | F7: =+_xlfn.STDEV.S(D7:E7) -> 10413.185 | G7: =+AVERAGE(D7:E7) -> 117811.74 | H7: =+F7/G7 -> 0.088388348 | I7: =ROUND(GEOMEAN(D7:E7),0) -> 117581
A8: 3 | B8: LAVADO GENERAL CON DESMANCHADO Y PULIDA | C8: UNIDAD | D8: 177683.82 | E8: 201375 | F8: =+_xlfn.STDEV.S(D8:E8) -> 16752.191 | G8: =+AVERAGE(D8:E8) -> 189529.41 | H8: =+F8/G8 -> 0.088388348 | I8: =ROUND(GEOMEAN(D8:E8),0) -> 189159
A9: 4 | B9: LAVADO TAPICERIA | C9: UNIDAD | D9: 265279.78 | E9: 300650.42 | F9: =+_xlfn.STDEV.S(D9:E9) -> 25010.818 | G9: =+AVERAGE(D9:E9) -> 282965.1 | H9: =+F9/G9 -> 0.088388348 | I9: =ROUND(GEOMEAN(D9:E9),0) -> 282412
A10: 5 | B10: ENGRASE GENERAL | C10: GLOBAL | D10: 46643.324 | E10: 54417.211 | F10: =+_xlfn.STDEV.S(D10:E10) -> 5496.9684 | G10: =+AVERAGE(D10:E10) -> 50530.267 | H10: =+F10/G10 -> 0.10878566 | I10: =ROUND(GEOMEAN(D10:E10),0) -> 50381
A11: 6 | B11: REVISION GENERAL, AJUSTE Y MANTENIMIENTO DEL SISTEMA DE FRENOS INCLUYE: REVISION DE GAS,TUBERIAS,MANGUERAS,REVISION DE FLUIDOS. | C11: UNIDAD | D11: 187439.23 | E11: 220625.8 | F11: =+_xlfn.STDEV.S(D11:E11) -> 23466.449 | G11: =+AVERAGE(D11:E11) -> 204032.52 | H11: =+F11/G11 -> 0.11501328 | I11: =ROUND(GEOMEAN(D11:E11),0) -> 203357
A12: 7 | B12: DESMONTAJE Y MONTAJE COMPONENTES FRENO DE DISCO (PASTILLAS,MORDAZAS,DISCOS,CILINDROS, ETC) | C12: GLOBAL | D12: 149976.94 | E12: 176530.72 | F12: =+_xlfn.STDEV.S(D12:E12) -> 18776.358 | G12: =+AVERAGE(D12:E12) -> 163253.83 | H12: =+F12/G12 -> 0.11501328 | I12: =ROUND(GEOMEAN(D12:E12),0) -> 162713
A13: 8 | B13: DESMONTAJE Y MONTAJE BOMBA DE FRENO | C13: UNIDAD | D13: 180074.81 | E13: 211957.5 | F13: =+_xlfn.STDEV.S(D13:E13) -> 22544.461 | G13: =+AVERAGE(D13:E13) -> 196016.15 | H13: =+F13/G13 -> 0.11501328 | I13: =ROUND(GEOMEAN(D13:E13),0) -> 195367
A14: 9 | B14: DESMONTAJE Y MONTAJE DE MODULO ABS | C14: UNIDAD | D14: 49766.998 | E14: 55870.498 | F14: =+_xlfn.STDEV.S(D14:E14) -> 4315.8261 | G14: =+AVERAGE(D14:E14) -> 52818.748 | H14: =+F14/G14 -> 0.081710117 | I14: =ROUND(GEOMEAN(D14:E14),0) -> 52731
A15: 10 | B15: DESMONTAJE Y MONTAJE DE SENSOR | C15: UNIDAD | D15: 46157.502 | E15: 51818.328 | F15: =+_xlfn.STDEV.S(D15:E15) -> 4002.8083 | G15: =+AVERAGE(D15:E15) -> 48987.915 | H15: =+F15/G15 -> 0.081710117 | I15: =ROUND(GEOMEAN(D15:E15),0) -> 48906
A16: 11 | B16: DESMONTAJE Y MONTAJE INCLUYE RECTIFICACION DE DISCO O CAMPANA | C16: UNIDAD | D16: 100638.87 | E16: 112981.37 | F16: =+_xlfn.STDEV.S(D16:E16) -> 8727.4674 | G16: =+AVERAGE(D16:E16) -> 106810.12 | H16: =+F16/G16 -> 0.081710117 | I16: =ROUND(GEOMEAN(D16:E16),0) -> 106632
A17: 12 | B17: DESMONTAJE Y MONTAJE COMPONENTES FRENOS TRASERO Y/O FRENO TAMBOR | C17: GLOBAL | D17: 600409.15 | E17: 693676.58 | F17: =+_xlfn.STDEV.S(D17:E17) -> 65950.039 | G17: =+AVERAGE(D17:E17) -> 647042.86 | H17: =+F17/G17 -> 0.1019253 | I17: =ROUND(GEOMEAN(D17:E17),0) -> 645360
... A36: 31 | B36: DESMONTAJE Y MONTAJE DE PUNTA DE EJE LADO RUEDA | C36: UNIDAD | D36: 310429.35 | E36: 362167.58 | F36: =+_xlfn.STDEV.S(D36:E36) -> 36584.45 | G36: =+AVERAGE(D36:E36) -> 336298.46 | H36: =+F36/G36 -> 0.10878566 | I36: =ROUND(GEOMEAN(D36:E36),0) -> 335302
A37: 32 | B37: DESMONTAJE Y MONTAJE CUNA SUSPENSION | C37: UNIDAD | D37: N/A | E37: N/A | F37: =+_xlfn.STDEV.S(D37:E37) -> #DIV/0! | G37: =+AVERAGE(D37:E37) -> #DIV/0! | H37: =+F37/G37 -> #DIV/0! | I37: =ROUND(GEOMEAN(D37:E37),0) -> #NUM!
A38: 33 | B38: DESMONTAJE Y MONTAJE PERNO DE RUEDA | C38: UNIDAD | D38: 105509.46 | E38: 117342.29 | F38: =+_xlfn.STDEV.S(D38:E38) -> 8367.0789 | G38: =+AVERAGE(D38:E38) -> 111425.88 | H38: =+F38/G38 -> 0.075090986 | I38: =ROUND(GEOMEAN(D38:E38),0) -> 111269
A39: 34 | B39: DESMONTAJE Y MONTAJE HOJA PRINCIPAL DEL MUELLE | C39: UNIDAD | D39: 273543.04 | E39: 304220.76 | F39: =+_xlfn.STDEV.S(D39:E39) -> 21692.427 | G39: =+AVERAGE(D39:E39) -> 288881.9 | H39: =+F39/G39 -> 0.075090986 | I39: =ROUND(GEOMEAN(D39:E39),0) -> 288474
A40: 35 | B40: DESMONTAJE Y MONTAJE CREMALLERA DIRECCION | C40: UNIDAD | D40: 461115.41 | E40: 512829.29 | F40: =+_xlfn.STDEV.S(D40:E40) -> 36567.234 | G40: =+AVERAGE(D40:E40) -> 486972.35 | H40: =+F40/G40 -> 0.075090986 | I40: =ROUND(GEOMEAN(D40:E40),0) -> 486285
A41: 36 | B41: DESMONTAJE Y MONTAJE BUJE CREMALLERA | C41: UNIDAD | D41: 311464.11 | E41: 344783.53 | F41: =+_xlfn.STDEV.S(D41:E41) -> 23560.386 | G41: =+AVERAGE(D41:E41) -> 328123.82 | H41: =+F41/G41 -> 0.071803338 | I41: =ROUND(GEOMEAN(D41:E41),0) -> 327701
A42: 37 | B42: DESMONTAJE Y MONTAJE COLUMNA DIRECCION | C42: UNIDAD | D42: 418120.94 | E42: 462850.16 | F42: =+_xlfn.STDEV.S(D42:E42) -> 31628.333 | G42: =+AVERAGE(D42:E42) -> 440485.55 | H42: =+F42/G42 -> 0.071803338 | I42: =ROUND(GEOMEAN(D42:E42),0) -> 439917
A43: 38 | B43: DESMONTAJE Y MONTAJE BIELA DE DIRECCION | C43: UNIDAD | D43: 215931 | E43: 239030.6 | F43: =+_xlfn.STDEV.S(D43:E43) -> 16333.881 | G43: =+AVERAGE(D43:E43) -> 227480.8 | H43: =+F43/G43 -> 0.071803338 | I43: =ROUND(GEOMEAN(D43:E43),0) -> 227187
A44: 39 | B44: DESMONTAJE Y MONTAJE BARRA LARGA DE LA DIRECCIÓN | C44: UNIDAD | D44: 406188.47 | E44: 449641.19 | F44: =+_xlfn.STDEV.S(D44:E44) -> 30725.713 | G44: =+AVERAGE(D44:E44) -> 427914.83 | H44: =+F44/G44 -> 0.071803338 | I44: =ROUND(GEOMEAN(D44:E44),0) -> 427363
A45: 40 | B45: DESMONTAJE Y MONTAJE BARRA CORTA DE LA DIRECCIÓN | C45: UNIDAD | D45: 402203.47 | E45: 460213.58 | F45: =+_xlfn.STDEV.S(D45:E45) -> 41019.346 | G45: =+AVERAGE(D45:E45) -> 431208.52 | H45: =+F45/G45 -> 0.095126473 | I45: =ROUND(GEOMEAN(D45:E45),0) -> 430232
A46: 41 | B46: DESMONTAJE Y MONTAJE BUJE SUJECION CAJA DIRECCION | C46: UNIDAD | D46: 195043.61 | E46: 223174.9 | F46: =+_xlfn.STDEV.S(D46:E46) -> 19891.826 | G46: =+AVERAGE(D46:E46) -> 209109.26 | H46: =+F46/G46 -> 0.095126473 | I46: =ROUND(GEOMEAN(D46:E46),0) -> 208636
A47: 42 | B47: DESMONTAJE Y MONTAJE EMPAQUETADURA COMPLETA CREMALLERA DIRECCION | C47: JUEGO | D47: 898906.01 | E47: 1028555.9 | F47: =+_xlfn.STDEV.S(D47:E47) -> 91676.327 | G47: =+AVERAGE(D47:E47) -> 963730.96 | H47: =+F47/G47 -> 0.095126473 | I47: =ROUND(GEOMEAN(D47:E47),0) -> 961548
A48: 43 | B48: DESMONTAJE Y MONTAJE RETENEDOR CREMALLERA DIRECCION | C48: UNIDAD | D48: 677466.41 | E48: 760551.91 | F48: =+_xlfn.STDEV.S(D48:E48) -> 58750.322 | G48: =+AVERAGE(D48:E48) -> 719009.16 | H48: =+F48/G48 -> 0.081710117 | I48: =ROUND(GEOMEAN(D48:E48),0) -> 717808
A49: 44 | B49: DESMONTAJE Y MONTAJE RODAMIENTO CREMALLERA DIRECCION | C49: UNIDAD | D49: 644487.34 | E49: 723528.24 | F49: =+_xlfn.STDEV.S(D49:E49) -> 55890.357 | G49: =+AVERAGE(D49:E49) -> 684007.79 | H49: =+F49/G49 -> 0.081710117 | I49: =ROUND(GEOMEAN(D49:E49),0) -> 682865
... A94: 89 | B94: DESMONTE Y REPARACIÓN CAJA DE DIRECCIÓN | C94: UNIDAD | D94: 1852142.2 | E94: 2121317.8 | F94: =+_xlfn.STDEV.S(D94:E94) -> 190335.91 | G94: =+AVERAGE(D94:E94) -> 1986730 | H94: =+F94/G94 -> 0.095803611 | I94: =ROUND(GEOMEAN(D94:E94),0) -> 1982166
A95: 90 | B95: CAMBIO DE CRUCETAS | C95: GLOBAL | D95: N/A | E95: N/A | F95: =+_xlfn.STDEV.S(D95:E95) -> #DIV/0! | G95: =+AVERAGE(D95:E95) -> #DIV/0! | H95: =+F95/G95 -> #DIV/0! | I95: =ROUND(GEOMEAN(D95:E95),0) -> #NUM!
A96: 91 | B96: CAMBIO DE PLANETARIOS | C96: JUEGO | D96: N/A | E96: N/A | F96: =+_xlfn.STDEV.S(D96:E96) -> #DIV/0! | G96: =+AVERAGE(D96:E96) -> #DIV/0! | H96: =+F96/G96 -> #DIV/0! | I96: =ROUND(GEOMEAN(D96:E96),0) -> #NUM!
A97: 92 | B97: CAMBIO DE JOCKEY | C97: UNIDAD | D97: N/A | E97: N/A | F97: =+_xlfn.STDEV.S(D97:E97) -> #DIV/0! | G97: =+AVERAGE(D97:E97) -> #DIV/0! | H97: =+F97/G97 -> #DIV/0! | I97: =ROUND(GEOMEAN(D97:E97),0) -> #NUM!
A98: 93 | B98: CAMBIO Y REPARACIÓN TRANSMISIÓN (ASPECTOS NO CONTEMPLADOS EN LOS ITEMS ANTERIORES) | C98: UNIDAD | D98: 4588413.9 | E98: 4232722.9 | F98: =+_xlfn.STDEV.S(D98:E98) -> 251511.52 | G98: =+AVERAGE(D98:E98) -> 4410568.4 | H98: =+F98/G98 -> 0.05702474 | I98: =ROUND(GEOMEAN(D98:E98),0) -> 4406981
A99: 94 | B99: RECTIFICACIÓN DE CULATA | C99: UNIDAD | D99: 1058678.2 | E99: 1058678.2 | F99: =+_xlfn.STDEV.S(D99:E99) -> 0 | G99: =+AVERAGE(D99:E99) -> 1058678.2 | H99: =+F99/G99 -> 0 | I99: =ROUND(GEOMEAN(D99:E99),0) -> 1058678
A100: 95 | B100: DESMONTAR Y MONTAR CULATA | C100: UNIDAD | D100: 746402.87 | E100: 746402.87 | F100: =+_xlfn.STDEV.S(D100:E100) -> 0 | G100: =+AVERAGE(D100:E100) -> 746402.87 | H100: =+F100/G100 -> 0 | I100: =ROUND(GEOMEAN(D100:E100),0) -> 746403
A101: 96 | B101: REPARACION GENERAL DE MOTOR | C101: UNIDAD | D101: 4568882.3 | E101: 4568882.3 | F101: =+_xlfn.STDEV.S(D101:E101) -> 0 | G101: =+AVERAGE(D101:E101) -> 4568882.3 | H101: =+F101/G101 -> 0 | I101: =ROUND(GEOMEAN(D101:E101),0) -> 4568882
A102: 97 | B102: ANILLADA MOTOR | C102: UNIDAD | D102: 3687500 | E102: 3975000 | F102: =+_xlfn.STDEV.S(D102:E102) -> 203293.2 | G102: =+AVERAGE(D102:E102) -> 3831250 | H102: =+F102/G102 -> 0.053061847 | I102: =ROUND(GEOMEAN(D102:E102),0) -> 3828552
A103: 98 | B103: DESMONTE, AJUSTE, MANTENIMIENTO Y MONTAJE SUSPENSION DELANTERA | C103: UNIDAD | D103: 399752.77 | E103: 399752.77 | F103: =+_xlfn.STDEV.S(D103:E103) -> 0 | G103: =+AVERAGE(D103:E103) -> 399752.77 | H103: =+F103/G103 -> 0 | I103: =ROUND(GEOMEAN(D103:E103),0) -> 399753
A104: 99 | B104: DESMONTE, AJUSTE, MANTENIMIENTO Y MONTAJE SUSPENSION TRASERA | C104: UNIDAD | D104: 399752.77 | E104: 399752.77 | F104: =+_xlfn.STDEV.S(D104:E104) -> 0 | G104: =+AVERAGE(D104:E104) -> 399752.77 | H104: =+F104/G104 -> 0 | I104: =ROUND(GEOMEAN(D104:E104),0) -> 399753
A105: 100 | B105: CAMBIO DE BUJES DE MUELLES | C105: JUEGO | D105: 382071.57 | E105: 382071.57 | F105: =+_xlfn.STDEV.S(D105:E105) -> 0 | G105: =+AVERAGE(D105:E105) -> 382071.57 | H105: =+F105/G105 -> 0 | I105: =ROUND(GEOMEAN(D105:E105),0) -> 382072
A106: 101 | B106: ALINEACION | C106: GLOBAL | D106: 115484.1 | E106: 115484.1 | F106: =+_xlfn.STDEV.S(D106:E106) -> 0 | G106: =+AVERAGE(D106:E106) -> 115484.1 | H106: =+F106/G106 -> 0 | I106: =ROUND(GEOMEAN(D106:E106),0) -> 115484
A107: 102 | B107: BALANCEO LLANTAS | C107: GLOBAL | D107: 47881.541 | E107: 47881.541 | F107: =+_xlfn.STDEV.S(D107:E107) -> 0 | G107: =+AVERAGE(D107:E107) -> 47881.541 | H107: =+F107/G107 -> 0 | I107: =ROUND(GEOMEAN(D107:E107),0) -> 47882
A108: 103 | B108: CAMBIO DE FLECHER, RELAY, BOMBILLOS O FUSIBLES | C108: UNIDAD | D108: 30607.032 | E108: 35190.694 | F108: =+_xlfn.STDEV.S(D108:E108) -> 3241.1384 | G108: =+AVERAGE(D108:E108) -> 32898.863 | H108: =+F108/G108 -> 0.098518248 | I108: =ROUND(GEOMEAN(D108:E108),0) -> 32819
A109: 104 | B109: CAMBIO DE FAROLAS | C109: UNIDAD | D109: 63629.749 | E109: 73158.841 | F109: =+_xlfn.STDEV.S(D109:E109) -> 6738.0861 | G109: =+AVERAGE(D109:E109) -> 68394.295 | H109: =+F109/G109 -> 0.098518248 | I109: =ROUND(GEOMEAN(D109:E109),0) -> 68228
... A133: 128 | B133: BATERIA (INCLUYE MANO DE OBRA) | C133: UNIDAD | D133: 1188277.3 | E133: 975206.89 | F133: =+_xlfn.STDEV.S(D133:E133) -> 150663.53 | G133: =+AVERAGE(D133:E133) -> 1081742.1 | H133: =+F133/G133 -> 0.13927861 | I133: =ROUND(GEOMEAN(D133:E133),0) -> 1076483
A134: 129 | B134: NEUMATICOS | C134: UNIDAD | D134: N/A | E134: N/A | F134: =+_xlfn.STDEV.S(D134:E134) -> #DIV/0! | G134: =+AVERAGE(D134:E134) -> #DIV/0! | H134: =+F134/G134 -> #DIV/0! | I134: =ROUND(GEOMEAN(D134:E134),0) -> #NUM!
A135: 130 | B135: BOMBA DE COMBUSTIBLE | C135: UNIDAD | D135: 494626.67 | E135: 405934.99 | F135: =+_xlfn.STDEV.S(D135:E135) -> 62714.487 | G135: =+AVERAGE(D135:E135) -> 450280.83 | H135: =+F135/G135 -> 0.13927861 | I135: =ROUND(GEOMEAN(D135:E135),0) -> 448092
A136: 131 | B136: BOMBA DE FRENO | C136: UNIDAD | D136: 1086196.3 | E136: 891430.11 | F136: =+_xlfn.STDEV.S(D136:E136) -> 137720.53 | G136: =+AVERAGE(D136:E136) -> 988813.23 | H136: =+F136/G136 -> 0.13927861 | I136: =ROUND(GEOMEAN(D136:E136),0) -> 984006
A137: 132 | B137: MODULO ABS PROGRAMADO | C137: UNIDAD | D137: N/A | E137: N/A | F137: =+_xlfn.STDEV.S(D137:E137) -> #DIV/0! | G137: =+AVERAGE(D137:E137) -> #DIV/0! | H137: =+F137/G137 -> #DIV/0! | I137: =ROUND(GEOMEAN(D137:E137),0) -> #NUM!
A138: 133 | B138: SENSOR ABS | C138: UNIDAD | D138: N/A | E138: N/A | F138: =+_xlfn.STDEV.S(D138:E138) -> #DIV/0! | G138: =+AVERAGE(D138:E138) -> #DIV/0! | H138: =+F138/G138 -> #DIV/0! | I138: =ROUND(GEOMEAN(D138:E138),0) -> #NUM!
A139: 134 | B139: BOMBA DE AGUA | C139: UNIDAD | D139: 1429106.7 | E139: 1172853.1 | F139: =+_xlfn.STDEV.S(D139:E139) -> 181198.67 | G139: =+AVERAGE(D139:E139) -> 1300979.9 | H139: =+F139/G139 -> 0.13927861 | I139: =ROUND(GEOMEAN(D139:E139),0) -> 1294655
A140: 135 | B140: BOMBA HIDRAULICA | C140: UNIDAD | D140: 2563447.5 | E140: 2103794.9 | F140: =+_xlfn.STDEV.S(D140:E140) -> 325023.51 | G140: =+AVERAGE(D140:E140) -> 2333621.2 | H140: =+F140/G140 -> 0.13927861 | I140: =ROUND(GEOMEAN(D140:E140),0) -> 2322276
A141: 136 | B141: EMPAQUETADURA BOMBA DE DIRECCIÓN | C141: UNIDAD | D141: 1166559.5 | E141: 957383.35 | F141: =+_xlfn.STDEV.S(D141:E141) -> 147909.9 | G141: =+AVERAGE(D141:E141) -> 1061971.4 | H141: =+F141/G141 -> 0.13927861 | I141: =ROUND(GEOMEAN(D141:E141),0) -> 1056809
A142: 137 | B142: EMPATEDURA CAJA DE DIRECCIÓN | C142: UNIDAD | D142: 1249910.1 | E142: 1025788.3 | F142: =+_xlfn.STDEV.S(D142:E142) -> 158478.06 | G142: =+AVERAGE(D142:E142) -> 1137849.2 | H142: =+F142/G142 -> 0.13927861 | I142: =ROUND(GEOMEAN(D142:E142),0) -> 1132318
A143: 138 | B143: BUJE DE TIJERA | C143: UNIDAD | D143: 210005.92 | E143: 172349.69 | F143: =+_xlfn.STDEV.S(D143:E143) -> 26626.979 | G143: =+AVERAGE(D143:E143) -> 191177.8 | H143: =+F143/G143 -> 0.13927861 | I143: =ROUND(GEOMEAN(D143:E143),0) -> 190248
A144: 139 | B144: BUJE DE AMORTIGUADOR | C144: UNIDAD | D144: 323146.19 | E144: 265202.73 | F144: =+_xlfn.STDEV.S(D144:E144) -> 40972.21 | G144: =+AVERAGE(D144:E144) -> 294174.46 | H144: =+F144/G144 -> 0.13927861 | I144: =ROUND(GEOMEAN(D144:E144),0) -> 292744
A145: 140 | B145: BASE DE AMORTIGUADOR | C145: UNIDAD | D145: 559169.55 | E145: 458904.66 | F145: =+_xlfn.STDEV.S(D145:E145) -> 70897.98 | G145: =+AVERAGE(D145:E145) -> 509037.1 | H145: =+F145/G145 -> 0.13927861 | I145: =ROUND(GEOMEAN(D145:E145),0) -> 506562
A146: 141 | B146: AMORTIGUADOR DELANTERO | C146: JUEGO | D146: 768494.72 | E146: 630695.67 | F146: =+_xlfn.STDEV.S(D146:E146) -> 97438.645 | G146: =+AVERAGE(D146:E146) -> 699595.2 | H146: =+F146/G146 -> 0.13927861 | I146: =ROUND(GEOMEAN(D146:E146),0) -> 696194
A147: 142 | B147: AMORTIGUADOR TRASERO | C147: JUEGO | D147: 724761.01 | E147: 594803.86 | F147: =+_xlfn.STDEV.S(D147:E147) -> 91893.58 | G147: =+AVERAGE(D147:E147) -> 659782.44 | H147: =+F147/G147 -> 0.13927861 | I147: =ROUND(GEOMEAN(D147:E147),0) -> 656575
A148: 143 | B148: INYECTOR | C148: UNIDAD | D148: 3295753 | E148: 2704790.4 | F148: =+_xlfn.STDEV.S(D148:E148) -> 417873.67 | G148: =+AVERAGE(D148:E148) -> 3000271.7 | H148: =+F148/G148 -> 0.13927861 | I148: =ROUND(GEOMEAN(D148:E148),0) -> 2985686
A149: 144 | B149: BOMBA DE INYECCION | C149: UNIDAD | D149: N/A | E149: N/A | F149: =+_xlfn.STDEV.S(D149:E149) -> #DIV/0! | G149: =+AVERAGE(D149:E149) -> #DIV/0! | H149: =+F149/G149 -> #DIV/0! | I149: =ROUND(GEOMEAN(D149:E149),0) -> #NUM!
A150: 145 | B150: PILA DE COMBUSTIBLE | C150: UNIDAD | D150: 637904.01 | E150: 523521.22 | F150: =+_xlfn.STDEV.S(D150:E150) -> 80880.845 | G150: =+AVERAGE(D150:E150) -> 580712.62 | H150: =+F150/G150 -> 0.13927861 | I150: =ROUND(GEOMEAN(D150:E150),0) -> 577890
A151: 146 | B151: FILTRO DE ACEITE | C151: UNIDAD | D151: 172739.3 | E151: 141765.35 | F151: =+_xlfn.STDEV.S(D151:E151) -> 21901.885 | G151: =+AVERAGE(D151:E151) -> 157252.33 | H151: =+F151/G151 -> 0.13927861 | I151: =ROUND(GEOMEAN(D151:E151),0) -> 156488
A152: 147 | B152: FILTRO DE AIRE | C152: UNIDAD | D152: 201187.17 | E152: 165112.23 | F152: =+_xlfn.STDEV.S(D152:E152) -> 25508.835 | G152: =+AVERAGE(D152:E152) -> 183149.7 | H152: =+F152/G152 -> 0.13927861 | I152: =ROUND(GEOMEAN(D152:E152),0) -> 182259
A153: 148 | B153: FILTRO COMBUSTIBLE ORIGINALES | C153: UNIDAD | D153: 402749.87 | E153: 330532.65 | F153: =+_xlfn.STDEV.S(D153:E153) -> 51065.284 | G153: =+AVERAGE(D153:E153) -> 366641.26 | H153: =+F153/G153 -> 0.13927861 | I153: =ROUND(GEOMEAN(D153:E153),0) -> 364859
A154: 149 | B154: FILTRO SEDIMENTADOR ACPM ORIGINAL NISSAN | C154: UNIDAD | D154: N/A | E154: N/A | F154: =+_xlfn.STDEV.S(D154:E154) -> #DIV/0! | G154: =+AVERAGE(D154:E154) -> #DIV/0! | H154: =+F154/G154 -> #DIV/0! | I154: =ROUND(GEOMEAN(D154:E154),0) -> #NUM!
A155: 150 | B155: FILTRO TRAMPA ACPM NISSAN ORIGINAL | C155: UNIDAD | D155: N/A | E155: N/A | F155: =+_xlfn.STDEV.S(D155:E155) -> #DIV/0! | G155: =+AVERAGE(D155:E155) -> #DIV/0! | H155: =+F155/G155 -> #DIV/0! | I155: =ROUND(GEOMEAN(D155:E155),0) -> #NUM!
A156: 151 | B156: FILTRO DE AIRE ACONDICIONADO | C156: UNIDAD | D156: 157356.41 | E156: 129140.78 | F156: =+_xlfn.STDEV.S(D156:E156) -> 19951.464 | G156: =+AVERAGE(D156:E156) -> 143248.59 | H156: =+F156/G156 -> 0.13927861 | I156: =ROUND(GEOMEAN(D156:E156),0) -> 142552
A157: 152 | B157: VALVULAS DE ADMISIÓN | C157: JUEGO | D157: 400320.84 | E157: 328539.17 | F157: =+_xlfn.STDEV.S(D157:E157) -> 50757.304 | G157: =+AVERAGE(D157:E157) -> 364430.01 | H157: =+F157/G157 -> 0.13927861 | I157: =ROUND(GEOMEAN(D157:E157),0) -> 362658
A158: 153 | B158: VALVULAS DE ESCAPE | C158: JUEGO | D158: 395220.87 | E158: 324353.68 | F158: =+_xlfn.STDEV.S(D158:E158) -> 50110.671 | G158: =+AVERAGE(D158:E158) -> 359787.28 | H158: =+F158/G158 -> 0.13927861 | I158: =ROUND(GEOMEAN(D158:E158),0) -> 358038
A159: 154 | B159: GUIAS DE VALVULAS | C159: JUEGO | D159: 599173.22 | E159: 491735.26 | F159: =+_xlfn.STDEV.S(D159:E159) -> 75970.108 | G159: =+AVERAGE(D159:E159) -> 545454.24 | H159: =+F159/G159 -> 0.13927861 | I159: =ROUND(GEOMEAN(D159:E159),0) -> 542803
A160: 155 | B160: GORRO DE VALVULAS | C160: JUEGO | D160: 416257.89 | E160: 341618.55 | F160: =+_xlfn.STDEV.S(D160:E160) -> 52777.988 | G160: =+AVERAGE(D160:E160) -> 378938.22 | H160: =+F160/G160 -> 0.13927861 | I160: =ROUND(GEOMEAN(D160:E160),0) -> 377096
A161: 156 | B161: EMPAQUE DE ADMISIÓN | C161: UNIDAD | D161: 306391.96 | E161: 251452.71 | F161: =+_xlfn.STDEV.S(D161:E161) -> 38847.915 | G161: =+AVERAGE(D161:E161) -> 278922.34 | H161: =+F161/G161 -> 0.13927861 | I161: =ROUND(GEOMEAN(D161:E161),0) -> 277566
A162: 157 | B162: EMPAQUE TAPA VALVULAS | C162: UNIDAD | D162: 362049.98 | E162: 297130.67 | F162: =+_xlfn.STDEV.S(D162:E162) -> 45904.882 | G162: =+AVERAGE(D162:E162) -> 329590.32 | H162: =+F162/G162 -> 0.13927861 | I162: =ROUND(GEOMEAN(D162:E162),0) -> 327988
A163: 158 | B163: EMPAQUE DE ESCAPE | C163: UNIDAD | D163: 312065.78 | E163: 256109.16 | F163: =+_xlfn.STDEV.S(D163:E163) -> 39567.307 | G163: =+AVERAGE(D163:E163) -> 284087.47 | H163: =+F163/G163 -> 0.13927861 | I163: =ROUND(GEOMEAN(D163:E163),0) -> 282706
A164: 159 | B164: EMPAQUE DE CARTER | C164: UNIDAD | D164: 394426.2 | E164: 323701.5 | F164: =+_xlfn.STDEV.S(D164:E164) -> 50009.914 | G164: =+AVERAGE(D164:E164) -> 359063.85 | H164: =+F164/G164 -> 0.13927861 | I164: =ROUND(GEOMEAN(D164:E164),0) -> 357318
A165: 160 | B165: MAGUERA HIDRAULICA | C165: UNIDAD | D165: 278856.91 | E165: 228854.98 | F165: =+_xlfn.STDEV.S(D165:E165) -> 35356.703 | G165: =+AVERAGE(D165:E165) -> 253855.95 | H165: =+F165/G165 -> 0.13927861 | I165: =ROUND(GEOMEAN(D165:E165),0) -> 252622
A166: 161 | B166: MANGUERA DE AGUA | C166: UNIDAD | D166: 230341.1 | E166: 189038.56 | F166: =+_xlfn.STDEV.S(D166:E166) -> 29205.307 | G166: =+AVERAGE(D166:E166) -> 209689.83 | H166: =+F166/G166 -> 0.13927861 | I166: =ROUND(GEOMEAN(D166:E166),0) -> 208670
A167: 162 | B167: SOPORTE DE MOTOR | C167: UNIDAD | D167: 489138.51 | E167: 401430.91 | F167: =+_xlfn.STDEV.S(D167:E167) -> 62018.634 | G167: =+AVERAGE(D167:E167) -> 445284.71 | H167: =+F167/G167 -> 0.13927861 | I167: =ROUND(GEOMEAN(D167:E167),0) -> 443120
... A199: 194 | B199: KIT ACCESORIOS (JUEGOS DE CORREAS, TENSOR, PATIN BALINERA) | C199: JUEGO | D199: 1674632.3 | E199: 1374353.4 | F199: =+_xlfn.STDEV.S(D199:E199) -> 212329.25 | G199: =+AVERAGE(D199:E199) -> 1524492.9 | H199: =+F199/G199 -> 0.13927861 | I199: =ROUND(GEOMEAN(D199:E199),0) -> 1517082
A200: 195 | B200: TELA ORIGINAL SILLA DELANTERA | C200: UNIDAD | D200: N/A | E200: N/A | F200: =+_xlfn.STDEV.S(D200:E200) -> #DIV/0! | G200: =+AVERAGE(D200:E200) -> #DIV/0! | H200: =+F200/G200 -> #DIV/0! | I200: =ROUND(GEOMEAN(D200:E200),0) -> #NUM!
A201: 196 | B201: GATO DE BOTELLA 2 TONELADAS | C201: UNIDAD | D201: N/A | E201: N/A | F201: =+_xlfn.STDEV.S(D201:E201) -> #DIV/0! | G201: =+AVERAGE(D201:E201) -> #DIV/0! | H201: =+F201/G201 -> #DIV/0! | I201: =ROUND(GEOMEAN(D201:E201),0) -> #NUM!
A202: 197 | B202: CRUCETA PARA CAMIONETA FRONTIER RIN 16 | C202: UNIDAD | D202: N/A | E202: N/A | F202: =+_xlfn.STDEV.S(D202:E202) -> #DIV/0! | G202: =+AVERAGE(D202:E202) -> #DIV/0! | H202: =+F202/G202 -> #DIV/0! | I202: =ROUND(GEOMEAN(D202:E202),0) -> #NUM!
A203: 198 | B203: KIT DE CARRETERA OBLIGATORIO | C203: UNIDAD | D203: 374297.78 | E203: 307182.32 | F203: =+_xlfn.STDEV.S(D203:E203) -> 47457.8 | G203: =+AVERAGE(D203:E203) -> 340740.05 | H203: =+F203/G203 -> 0.13927861 | I203: =ROUND(GEOMEAN(D203:E203),0) -> 339084
A204: 199 | B204: RETENEDOR DE INYECTOR | C204: UNIDAD | D204: N/A | E204: N/A | F204: =+_xlfn.STDEV.S(D204:E204) -> #DIV/0! | G204: =+AVERAGE(D204:E204) -> #DIV/0! | H204: =+F204/G204 -> #DIV/0! | I204: =ROUND(GEOMEAN(D204:E204),0) -> #NUM!
A205: 200 | B205: VALVULA DEL RIEL | C205: UNIDAD | D205: 1026767.5 | E205: 842657.47 | F205: =+_xlfn.STDEV.S(D205:E205) -> 130185.45 | G205: =+AVERAGE(D205:E205) -> 934712.49 | H205: =+F205/G205 -> 0.13927861 | I205: =ROUND(GEOMEAN(D205:E205),0) -> 930168
A206: 201 | B206: EMPAQUETADURA BOMBA DE ALTA | C206: UNIDAD | D206: 732066.37 | E206: 600799.3 | F206: =+_xlfn.STDEV.S(D206:E206) -> 92819.838 | G206: =+AVERAGE(D206:E206) -> 666432.84 | H206: =+F206/G206 -> 0.13927861 | I206: =ROUND(GEOMEAN(D206:E206),0) -> 663193
A207: 202 | B207: BOMBA DE ALTA | C207: UNIDAD | D207: 13873600 | E207: 11385920 | F207: =+_xlfn.STDEV.S(D207:E207) -> 1759055.4 | G207: =+AVERAGE(D207:E207) -> 12629760 | H207: =+F207/G207 -> 0.13927861 | I207: =ROUND(GEOMEAN(D207:E207),0) -> 12568361
A208: 203 | B208: ELECTROVALVULA SCV PARA BOMBA DE ALTA | C208: UNIDAD | D208: 1694840.9 | E208: 1390938.4 | F208: =+_xlfn.STDEV.S(D208:E208) -> 214891.53 | G208: =+AVERAGE(D208:E208) -> 1542889.7 | H208: =+F208/G208 -> 0.13927861 | I208: =ROUND(GEOMEAN(D208:E208),0) -> 1535389
A209: 204 | B209: VALVULA DE PRESION BOMBA ALTA | C209: UNIDAD | D209: 684736.24 | E209: 561955.95 | F209: =+_xlfn.STDEV.S(D209:E209) -> 86818.777 | G209: =+AVERAGE(D209:E209) -> 623346.09 | H209: =+F209/G209 -> 0.13927861 | I209: =ROUND(GEOMEAN(D209:E209),0) -> 620316
A210: 205 | B210: EMPAQUETADURA BOMBA LINEAL | C210: UNIDAD | D210: N/A | E210: N/A | F210: =+_xlfn.STDEV.S(D210:E210) -> #DIV/0! | G210: =+AVERAGE(D210:E210) -> #DIV/0! | H210: =+F210/G210 -> #DIV/0! | I210: =ROUND(GEOMEAN(D210:E210),0) -> #NUM!
A211: 206 | B211: ACEITE COMPRESOR AIRE ACONDICIONADO | C211: UNIDAD | D211: 201725.86 | E211: 165554.32 | F211: =+_xlfn.STDEV.S(D211:E211) -> 25577.136 | G211: =+AVERAGE(D211:E211) -> 183640.09 | H211: =+F211/G211 -> 0.13927861 | I211: =ROUND(GEOMEAN(D211:E211),0) -> 182747
A212: 207 | B212: VALVULA INYECTOR UNIDAD | C212: UNIDAD | D212: 811775.54 | E212: 666215.79 | F212: =+_xlfn.STDEV.S(D212:E212) -> 102926.29 | G212: =+AVERAGE(D212:E212) -> 738995.66 | H212: =+F212/G212 -> 0.13927861 | I212: =ROUND(GEOMEAN(D212:E212),0) -> 735403
A213: 208 | B213: EMPAQUETADURA DE INYECTOR | C213: JUEGO | D213: 245814.01 | E213: 201737.01 | F213: =+_xlfn.STDEV.S(D213:E213) -> 31167.141 | G213: =+AVERAGE(D213:E213) -> 223775.51 | H213: =+F213/G213 -> 0.13927861 | I213: =ROUND(GEOMEAN(D213:E213),0) -> 222688
A214: 209 | B214: EMPAQUETADURA BOMBA DE INYECCION | C214: JUEGO | D214: 734906.1 | E214: 603129.83 | F214: =+_xlfn.STDEV.S(D214:E214) -> 93179.891 | G214: =+AVERAGE(D214:E214) -> 669017.96 | H214: =+F214/G214 -> 0.13927861 | I214: =ROUND(GEOMEAN(D214:E214),0) -> 665766
A215: 210 | B215: TOBERAS DE INYECTORES | C215: JUEGO | D215: 611211.45 | E215: 501614.92 | F215: =+_xlfn.STDEV.S(D215:E215) -> 77496.454 | G215: =+AVERAGE(D215:E215) -> 556413.18 | H215: =+F215/G215 -> 0.13927861 | I215: =ROUND(GEOMEAN(D215:E215),0) -> 553708
A216: 211 | B216: GUARDAPOLVOS EJES | C216: UNIDAD | D216: 183946.29 | E216: 150962.82 | F216: =+_xlfn.STDEV.S(D216:E216) -> 23322.837 | G216: =+AVERAGE(D216:E216) -> 167454.55 | H216: =+F216/G216 -> 0.13927861 | I216: =ROUND(GEOMEAN(D216:E216),0) -> 166640
A217: 212 | B217: GUARDAPOLVOS AMORTIGUADORES | C217: UNIDAD | D217: 274050 | E217: 224910 | F217: =+_xlfn.STDEV.S(D217:E217) -> 34747.227 | G217: =+AVERAGE(D217:E217) -> 249480 | H217: =+F217/G217 -> 0.13927861 | I217: =ROUND(GEOMEAN(D217:E217),0) -> 248267
...

Sheet MITSUBISHI CANTER MOD 2003
A1: MANTENIMIENTO PREVENTIVO Y CORRECTIVO CON INCLUSIÓN DE REPUESTOS PARA LAS MOTOBOMBAS Y SISTEMAS HIDRÁULICOS A CARGO DE LA DIRECCIÓN SECCIONAL DE ADUANAS DE CÚCUTA Y DE LA DIRECCIÓN SECCIONAL DE IMPUESTOS DE CÚCUTA | K1: 26
D3: MECANIZADOS Y SERVICIOS INTEGRALES S.A.S. | E3: COMPAÑÍA DE ASISTENCIA INTEGRAL S.A.S.
A4: ITEMS | B4: DESCRIPCIÓN | C4: MEDIDA | D4: Cotización 1 | E4: Cotización 2 | F4: DESVIACIÓN ESTÁNDAR | G4: PROMEDIO | H4: COEFICIENTE DE VARIACIÓN | I4: PRECIO UNITARIO DE REFERENCIA IVA INCLUIDO
D5: PRECIO UNITARIO IVA INCLUÍDO | E5: PRECIO UNITARIO IVA INCLUÍDO
A6: 1 | B6: LAVADO SENCILLO EXTERNO,INTERNO,ASPIRADA | C6: UNIDAD | D6: 60197.957 | E6: 65720.705 | F6: =+_xlfn.STDEV.S(D6:E6) -> 3905.1728 | G6: =+AVERAGE(D6:E6) -> 62959.331 | H6: =+F6/G6 -> 0.062026911 | I6: =+ROUND(AVERAGE(D6:E6),0) -> 62959
A7: 2 | B7: LAVADO GENERAL INCLUYE ASPIRADA, LAVADO DEL MOTOR Y CHASIS EN CARCAMO | C7: UNIDAD | D7: 93619.675 | E7: 106102.3 | F7: =+_xlfn.STDEV.S(D7:E7) -> 8826.5476 | G7: =+AVERAGE(D7:E7) -> 99860.986 | H7: =+F7/G7 -> 0.088388348 | I7: =+ROUND(AVERAGE(D7:E7),0) -> 99861
A8: 3 | B8: LAVADO GENERAL CON DESMANCHADO Y PULIDA | C8: UNIDAD | D8: 159650.25 | E8: 180936.95 | F8: =+_xlfn.STDEV.S(D8:E8) -> 15051.97 | G8: =+AVERAGE(D8:E8) -> 170293.6 | H8: =+F8/G8 -> 0.088388348 | I8: =+ROUND(AVERAGE(D8:E8),0) -> 170294
A9: 4 | B9: LAVADO TAPICERIA | C9: UNIDAD | D9: 193707.87 | E9: 219535.59 | F9: =+_xlfn.STDEV.S(D9:E9) -> 18262.953 | G9: =+AVERAGE(D9:E9) -> 206621.73 | H9: =+F9/G9 -> 0.088388348 | I9: =+ROUND(AVERAGE(D9:E9),0) -> 206622
A10: 5 | B10: ENGRASE GENERAL | C10: GLOBAL | D10: 45424.729 | E10: 52995.517 | F10: =+_xlfn.STDEV.S(D10:E10) -> 5353.3557 | G10: =+AVERAGE(D10:E10) -> 49210.123 | H10: =+F10/G10 -> 0.10878566 | I10: =+ROUND(AVERAGE(D10:E10),0) -> 49210
A11: 6 | B11: REVISION GENERAL, AJUSTE Y MANTENIMIENTO DEL SISTEMA DE FRENOS INCLUYE: REVISION DE GAS,TUBERIAS,MANGUERAS,REVISION DE FLUIDOS. | C11: UNIDAD | D11: 158961.24 | E11: 185454.78 | F11: =+_xlfn.STDEV.S(D11:E11) -> 18733.762 | G11: =+AVERAGE(D11:E11) -> 172208.01 | H11: =+F11/G11 -> 0.10878566 | I11: =+ROUND(AVERAGE(D11:E11),0) -> 172208
A12: 7 | B12: DESMONTAJE Y MONTAJE COMPONENTES FRENO DE DISCO (PASTILLAS,MORDAZAS,DISCOS,CILINDROS, ETC) | C12: GLOBAL | D12: 127234.22 | E12: 148439.92 | F12: =+_xlfn.STDEV.S(D12:E12) -> 14994.696 | G12: =+AVERAGE(D12:E12) -> 137837.07 | H12: =+F12/G12 -> 0.10878566 | I12: =+ROUND(AVERAGE(D12:E12),0) -> 137837
A13: 8 | B13: DESMONTAJE Y MONTAJE BOMBA DE FRENO | C13: UNIDAD | D13: 133408.43 | E13: 155643.17 | F13: =+_xlfn.STDEV.S(D13:E13) -> 15722.334 | G13: =+AVERAGE(D13:E13) -> 144525.8 | H13: =+F13/G13 -> 0.10878566 | I13: =+ROUND(AVERAGE(D13:E13),0) -> 144526
A14: 9 | B14: DESMONTAJE Y MONTAJE DE MODULO ABS | C14: UNIDAD | D14: N/A | E14: N/A | F14: =+_xlfn.STDEV.S(D14:E14) -> #DIV/0! | G14: =+AVERAGE(D14:E14) -> #DIV/0! | H14: =+F14/G14 -> #DIV/0! | I14: =+ROUND(AVERAGE(D14:E14),0) -> #DIV/0!
A15: 10 | B15: DESMONTAJE Y MONTAJE DE SENSOR | C15: UNIDAD | D15: N/A | E15: N/A | F15: =+_xlfn.STDEV.S(D15:E15) -> #DIV/0! | G15: =+AVERAGE(D15:E15) -> #DIV/0! | H15: =+F15/G15 -> #DIV/0! | I15: =+ROUND(AVERAGE(D15:E15),0) -> #DIV/0!
A16: 11 | B16: DESMONTAJE Y MONTAJE INCLUYE RECTIFICACION DE DISCO O CAMPANA | C16: UNIDAD | D16: 98865.05 | E16: 113670.93 | F16: =+_xlfn.STDEV.S(D16:E16) -> 10469.336 | G16: =+AVERAGE(D16:E16) -> 106267.99 | H16: =+F16/G16 -> 0.098518248 | I16: =+ROUND(AVERAGE(D16:E16),0) -> 106268
A17: 12 | B17: DESMONTAJE Y MONTAJE COMPONENTES FRENOS TRASERO Y/O FRENO TAMBOR | C17: GLOBAL | D17: 597350.25 | E17: 686808.5 | F17: =+_xlfn.STDEV.S(D17:E17) -> 63256.535 | G17: =+AVERAGE(D17:E17) -> 642079.38 | H17: =+F17/G17 -> 0.098518248 | I17: =+ROUND(AVERAGE(D17:E17),0) -> 642079
A18: 13 | B18: GRADUACIÓN SISTEMA DE FRENOS RUEDA TRASERA | C18: GLOBAL | D18: 264804.75 | E18: 304461.5 | F18: =+_xlfn.STDEV.S(D18:E18) -> 28041.557 | G18: =+AVERAGE(D18:E18) -> 284633.12 | H18: =+F18/G18 -> 0.098518248 | I18: =+ROUND(AVERAGE(D18:E18),0) -> 284633
A19: 14 | B19: CAMBIO GUAYA FRENO DE MANO | C19: UNIDAD | D19: 178589.25 | E19: 205334.5 | F19: =+_xlfn.STDEV.S(D19:E19) -> 18911.748 | G19: =+AVERAGE(D19:E19) -> 191961.88 | H19: =+F19/G19 -> 0.098518248 | I19: =+ROUND(AVERAGE(D19:E19),0) -> 191962
A20: 15 | B20: CAMBIO KIT CALIPER (SELLO Y/O ORING PISTON, GUARDAPOLVOS DE PASADORES Y PISTON, ANTIRUIDOS, PASADORES Y GUIAS O BUJES PASADORES Y TORNILLOS) | C20: JUEGO | D20: 972461.57 | E20: 1118095.9 | F20: =+_xlfn.STDEV.S(D20:E20) -> 102979.03 | G20: =+AVERAGE(D20:E20) -> 1045278.7 | H20: =+F20/G20 -> 0.098518248 | I20: =+ROUND(AVERAGE(D20:E20),0) -> 1045279
A21: 16 | B21: DESMONTAJE Y MONTAJE BRAZOS AXIALES | C21: UNIDAD | D21: 106665.15 | E21: 123956.57 | F21: =+_xlfn.STDEV.S(D21:E21) -> 12226.881 | G21: =+AVERAGE(D21:E21) -> 115310.86 | H21: =+F21/G21 -> 0.10603408 | I21: =+ROUND(AVERAGE(D21:E21),0) -> 115311
A22: 17 | B22: DESMONTAJE Y MONTAJE DE TERMINAL DIRECCION | C22: UNIDAD | D22: 357038.08 | E22: 414917.3 | F22: =+_xlfn.STDEV.S(D22:E22) -> 40926.789 | G22: =+AVERAGE(D22:E22) -> 385977.69 | H22: =+F22/G22 -> 0.10603408 | I22: =+ROUND(AVERAGE(D22:E22),0) -> 385978
A23: 18 | B23: DESMONTAJE Y MONTAJE DE TIJERAS | C23: UNIDAD | D23: 121856 | E23: 141610 | F23: =+_xlfn.STDEV.S(D23:E23) -> 13968.187 | G23: =+AVERAGE(D23:E23) -> 131733 | H23: =+F23/G23 -> 0.10603408 | I23: =+ROUND(AVERAGE(D23:E23),0) -> 131733
A24: 19 | B24: DESMONTAJE Y MONTAJE DE COLGANTES | C24: UNIDAD | D24: 243712 | E24: 283220 | F24: =+_xlfn.STDEV.S(D24:E24) -> 27936.375 | G24: =+AVERAGE(D24:E24) -> 263466 | H24: =+F24/G24 -> 0.10603408 | I24: =+ROUND(AVERAGE(D24:E24),0) -> 263466
A25: 20 | B25: DESMONTAJE Y MONTAJE BUJES DE TIJERAS (INCLUYE SUPERIOR E INFERIOR / IZQUIERDO Y DERECHO, SERVICIO DE PRENSA) | C25: JUEGO | D25: 198756.18 | E25: 229408.2 | F25: =+_xlfn.STDEV.S(D25:E25) -> 21674.251 | G25: =+AVERAGE(D25:E25) -> 214082.19 | H25: =+F25/G25 -> 0.10124266 | I25: =+ROUND(AVERAGE(D25:E25),0) -> 214082
A26: 21 | B26: DESMONTAJE Y MONTAJE DE MOÑONAS (SERVICIO DE PRENSA INCLUIDO) | C26: UNIDAD | D26: 153837.31 | E26: 177561.98 | F26: =+_xlfn.STDEV.S(D26:E26) -> 16775.873 | G26: =+AVERAGE(D26:E26) -> 165699.64 | H26: =+F26/G26 -> 0.10124266 | I26: =+ROUND(AVERAGE(D26:E26),0) -> 165700
A27: 22 | B27: DESMONTAJE Y MONTAJE DE AMORTIGUADORES DELANTEROS | C27: JUEGO | D27: 260373.56 | E27: 300528.17 | F27: =+_xlfn.STDEV.S(D27:E27) -> 28393.593 | G27: =+AVERAGE(D27:E27) -> 280450.87 | H27: =+F27/G27 -> 0.10124266 | I27: =+ROUND(AVERAGE(D27:E27),0) -> 280451
... A36: 31 | B36: DESMONTAJE Y MONTAJE DE PUNTA DE EJE LADO RUEDA | C36: UNIDAD | D36: 308210 | E36: 354025 | F36: =+_xlfn.STDEV.S(D36:E36) -> 32396.097 | G36: =+AVERAGE(D36:E36) -> 331117.5 | H36: =+F36/G36 -> 0.097838674 | I36: =+ROUND(AVERAGE(D36:E36),0) -> 331118
A37: 32 | B37: DESMONTAJE Y MONTAJE CUNA SUSPENSION | C37: UNIDAD | D37: N/A | E37: N/A | F37: =+_xlfn.STDEV.S(D37:E37) -> #DIV/0! | G37: =+AVERAGE(D37:E37) -> #DIV/0! | H37: =+F37/G37 -> #DIV/0! | I37: =+ROUND(AVERAGE(D37:E37),0) -> #DIV/0!
A38: 33 | B38: DESMONTAJE Y MONTAJE PERNO DE RUEDA | C38: UNIDAD | D38: 99088.92 | E38: 114704.1 | F38: =+_xlfn.STDEV.S(D38:E38) -> 11041.6 | G38: =+AVERAGE(D38:E38) -> 106896.51 | H38: =+F38/G38 -> 0.10329242 | I38: =+ROUND(AVERAGE(D38:E38),0) -> 106897
A39: 34 | B39: DESMONTAJE Y MONTAJE HOJA PRINCIPAL DEL MUELLE | C39: UNIDAD | D39: 256897.2 | E39: 297381 | F39: =+_xlfn.STDEV.S(D39:E39) -> 28626.37 | G39: =+AVERAGE(D39:E39) -> 277139.1 | H39: =+F39/G39 -> 0.10329242 | I39: =+ROUND(AVERAGE(D39:E39),0) -> 277139
A40: 35 | B40: DESMONTAJE Y MONTAJE CREMALLERA DIRECCION | C40: UNIDAD | D40: 433055.28 | E40: 501299.4 | F40: =+_xlfn.STDEV.S(D40:E40) -> 48255.88 | G40: =+AVERAGE(D40:E40) -> 467177.34 | H40: =+F40/G40 -> 0.10329242 | I40: =+ROUND(AVERAGE(D40:E40),0) -> 467177
A41: 36 | B41: DESMONTAJE Y MONTAJE BUJE CREMALLERA | C41: UNIDAD | D41: 297381 | E41: 337031.8 | F41: =+_xlfn.STDEV.S(D41:E41) -> 28037.35 | G41: =+AVERAGE(D41:E41) -> 317206.4 | H41: =+F41/G41 -> 0.088388348 | I41: =+ROUND(AVERAGE(D41:E41),0) -> 317206
A42: 37 | B42: DESMONTAJE Y MONTAJE COLUMNA DIRECCION | C42: UNIDAD | D42: 399215.25 | E42: 452443.95 | F42: =+_xlfn.STDEV.S(D42:E42) -> 37638.375 | G42: =+AVERAGE(D42:E42) -> 425829.6 | H42: =+F42/G42 -> 0.088388348 | I42: =+ROUND(AVERAGE(D42:E42),0) -> 425830
A43: 38 | B43: DESMONTAJE Y MONTAJE BIELA DE DIRECCION | C43: UNIDAD | D43: 206167.5 | E43: 233656.5 | F43: =+_xlfn.STDEV.S(D43:E43) -> 19437.658 | G43: =+AVERAGE(D43:E43) -> 219912 | H43: =+F43/G43 -> 0.088388348 | I43: =+ROUND(AVERAGE(D43:E43),0) -> 219912
A44: 39 | B44: DESMONTAJE Y MONTAJE BARRA LARGA DE LA DIRECCIÓN | C44: UNIDAD | D44: 402596.49 | E44: 439531.95 | F44: =+_xlfn.STDEV.S(D44:E44) -> 26117.313 | G44: =+AVERAGE(D44:E44) -> 421064.22 | H44: =+F44/G44 -> 0.062026911 | I44: =+ROUND(AVERAGE(D44:E44),0) -> 421064
A45: 40 | B45: DESMONTAJE Y MONTAJE BARRA CORTA DE LA DIRECCIÓN | C45: UNIDAD | D45: 412062.73 | E45: 449866.65 | F45: =+_xlfn.STDEV.S(D45:E45) -> 26731.408 | G45: =+AVERAGE(D45:E45) -> 430964.69 | H45: =+F45/G45 -> 0.062026911 | I45: =+ROUND(AVERAGE(D45:E45),0) -> 430965
A46: 41 | B46: DESMONTAJE Y MONTAJE BUJE SUJECION CAJA DIRECCION | C46: UNIDAD | D46: 199824.74 | E46: 218157.29 | F46: =+_xlfn.STDEV.S(D46:E46) -> 12963.067 | G46: =+AVERAGE(D46:E46) -> 208991.01 | H46: =+F46/G46 -> 0.062026911 | I46: =+ROUND(AVERAGE(D46:E46),0) -> 208991
A47: 42 | B47: DESMONTAJE Y MONTAJE EMPAQUETADURA COMPLETA CREMALLERA DIRECCION | C47: JUEGO | D47: 929390 | E47: 1005431 | F47: =+_xlfn.STDEV.S(D47:E47) -> 53769.107 | G47: =+AVERAGE(D47:E47) -> 967410.5 | H47: =+F47/G47 -> 0.055580446 | I47: =+ROUND(AVERAGE(D47:E47),0) -> 967411
A48: 43 | B48: DESMONTAJE Y MONTAJE RETENEDOR CREMALLERA DIRECCION | C48: UNIDAD | D48: 687225 | E48: 743452.5 | F48: =+_xlfn.STDEV.S(D48:E48) -> 39758.847 | G48: =+AVERAGE(D48:E48) -> 715338.75 | H48: =+F48/G48 -> 0.055580446 | I48: =+ROUND(AVERAGE(D48:E48),0) -> 715339
A49: 44 | B49: DESMONTAJE Y MONTAJE RODAMIENTO CREMALLERA DIRECCION | C49: UNIDAD | D49: 653770.89 | E49: 707261.23 | F49: =+_xlfn.STDEV.S(D49:E49) -> 37823.386 | G49: =+AVERAGE(D49:E49) -> 680516.06 | H49: =+F49/G49 -> 0.055580446 | I49: =+ROUND(AVERAGE(D49:E49),0) -> 680516
... A57: 52 | B57: CAMBIO DE POLEAS | C57: GLOBAL | D57: 169268.84 | E57: 189136.07 | F57: =+_xlfn.STDEV.S(D57:E57) -> 14048.256 | G57: =+AVERAGE(D57:E57) -> 179202.45 | H57: =+F57/G57 -> 0.078393213 | I57: =+ROUND(AVERAGE(D57:E57),0) -> 179202
A58: 53 | B58: MANTENIMIENTO GENERAL AL SISTEMA DE AIRE ACONDICIONADO | C58: UNIDAD | D58: N/A | E58: N/A | F58: =+_xlfn.STDEV.S(D58:E58) -> #DIV/0! | G58: =+AVERAGE(D58:E58) -> #DIV/0! | H58: =+F58/G58 -> #DIV/0! | I58: =+ROUND(AVERAGE(D58:E58),0) -> #DIV/0!
A59: 54 | B59: CAMBIO MANGUERA PRESION LIQUIDO HIDRAHULICO | C59: UNIDAD | D59: 132273.29 | E59: 150195.81 | F59: =+_xlfn.STDEV.S(D59:E59) -> 12673.139 | G59: =+AVERAGE(D59:E59) -> 141234.55 | H59: =+F59/G59 -> 0.089731155 | I59: =+ROUND(AVERAGE(D59:E59),0) -> 141235
A60: 55 | B60: CAMBIO DEPOSITO LIQUIDO HIDRAHULICO | C60: UNIDAD | D60: 130361.45 | E60: 148024.93 | F60: =+_xlfn.STDEV.S(D60:E60) -> 12489.966 | G60: =+AVERAGE(D60:E60) -> 139193.19 | H60: =+F60/G60 -> 0.089731155 | I60: =+ROUND(AVERAGE(D60:E60),0) -> 139193
A61: 56 | B61: CAMBIO TAPA DEPOSITO LIQUIDO HIDRAHULICO | C61: UNIDAD | D61: 106005.2 | E61: 120368.5 | F61: =+_xlfn.STDEV.S(D61:E61) -> 10156.387 | G61: =+AVERAGE(D61:E61) -> 113186.85 | H61: =+F61/G61 -> 0.089731155 | I61: =+ROUND(AVERAGE(D61:E61),0) -> 113187
A62: 57 | B62: CAMBIO RADIADOR SISTEMA HIDRAHULICO | C62: UNIDAD | D62: 348474.01 | E62: 395690.91 | F62: =+_xlfn.STDEV.S(D62:E62) -> 33387.389 | G62: =+AVERAGE(D62:E62) -> 372082.46 | H62: =+F62/G62 -> 0.089731155 | I62: =+ROUND(AVERAGE(D62:E62),0) -> 372082
A63: 58 | B63: CAMBIO BOMBA HIDRAHULICA | C63: UNIDAD | D63: 350834.81 | E63: 398371.59 | F63: =+_xlfn.STDEV.S(D63:E63) -> 33613.578 | G63: =+AVERAGE(D63:E63) -> 374603.2 | H63: =+F63/G63 -> 0.089731155 | I63: =+ROUND(AVERAGE(D63:E63),0) -> 374603
A64: 59 | B64: CAMBIO CORREA DE DENTADO | C64: UNIDAD | D64: N/A | E64: N/A | F64: =+_xlfn.STDEV.S(D64:E64) -> #DIV/0! | G64: =+AVERAGE(D64:E64) -> #DIV/0! | H64: =+F64/G64 -> #DIV/0! | I64: =+ROUND(AVERAGE(D64:E64),0) -> #DIV/0!
A65: 60 | B65: MANTENIMIENTO MOTOR DE ARRANQUE (INCLUYE REPUESTOS) | C65: UNIDAD | D65: 2140215 | E65: 2336565 | F65: =+_xlfn.STDEV.S(D65:E65) -> 138840.42 | G65: =+AVERAGE(D65:E65) -> 2238390 | H65: =+F65/G65 -> 0.062026911 | I65: =+ROUND(AVERAGE(D65:E65),0) -> 2238390
A66: 61 | B66: MANTENIMIENTO ALTERNADOR (INCLUYE REPUESTOS) | C66: UNIDAD | D66: 1491665 | E66: 1628515 | F66: =+_xlfn.STDEV.S(D66:E66) -> 96767.563 | G66: =+AVERAGE(D66:E66) -> 1560090 | H66: =+F66/G66 -> 0.062026911 | I66: =+ROUND(AVERAGE(D66:E66),0) -> 1560090
A67: 62 | B67: RADIADOR DE AIRE ACONDICIONADO | C67: UNIDAD | D67: 287117.02 | E67: 313458.03 | F67: =+_xlfn.STDEV.S(D67:E67) -> 18625.907 | G67: =+AVERAGE(D67:E67) -> 300287.52 | H67: =+F67/G67 -> 0.062026911 | I67: =+ROUND(AVERAGE(D67:E67),0) -> 300288
A68: 63 | B68: RADIADOR DE MOTOR | C68: UNIDAD | D68: 277218.86 | E68: 302651.78 | F68: =+_xlfn.STDEV.S(D68:E68) -> 17983.792 | G68: =+AVERAGE(D68:E68) -> 289935.32 | H68: =+F68/G68 -> 0.062026911 | I68: =+ROUND(AVERAGE(D68:E68),0) -> 289935
A69: 64 | B69: EMPAQUE MULTIPLE EXOSTO | C69: JUEGO | D69: 124810.67 | E69: 142812.21 | F69: =+_xlfn.STDEV.S(D69:E69) -> 12729.011 | G69: =+AVERAGE(D69:E69) -> 133811.44 | H69: =+F69/G69 -> 0.095126473 | I69: =+ROUND(AVERAGE(D69:E69),0) -> 133811
A70: 65 | B70: MOFLE Y EXOSTO | C70: UNIDAD | D70: 126898.29 | E70: 145200.93 | F70: =+_xlfn.STDEV.S(D70:E70) -> 12941.92 | G70: =+AVERAGE(D70:E70) -> 136049.61 | H70: =+F70/G70 -> 0.095126473 | I70: =+ROUND(AVERAGE(D70:E70),0) -> 136050
A71: 66 | B71: CAMBIO BOMBONA DE EXOSTO | C71: UNIDAD | D71: 215500.33 | E71: 246582.11 | F71: =+_xlfn.STDEV.S(D71:E71) -> 21978.136 | G71: =+AVERAGE(D71:E71) -> 231041.22 | H71: =+F71/G71 -> 0.095126473 | I71: =+ROUND(AVERAGE(D71:E71),0) -> 231041
A72: 67 | B72: ARGOLLAS Y SOLDADURAS | C72: GLOBAL | D72: 136413.23 | E72: 156088.22 | F72: =+_xlfn.STDEV.S(D72:E72) -> 13912.316 | G72: =+AVERAGE(D72:E72) -> 146250.73 | H72: =+F72/G72 -> 0.095126473 | I72: =+ROUND(AVERAGE(D72:E72),0) -> 146251
A73: 68 | B73: REPARACION COMPRESOR AIRE ACONDICIONADO | C73: UNIDAD | D73: N/A | E73: N/A | F73: =+_xlfn.STDEV.S(D73:E73) -> #DIV/0! | G73: =+AVERAGE(D73:E73) -> #DIV/0! | H73: =+F73/G73 -> #DIV/0! | I73: =+ROUND(AVERAGE(D73:E73),0) -> #DIV/0!
A74: 69 | B74: REVISION Y NIVELACION DE VALVULINA EN CAJA Y TRANSMISION | C74: UNIDAD | D74: 168743.57 | E74: 194578.34 | F74: =+_xlfn.STDEV.S(D74:E74) -> 18267.942 | G74: =+AVERAGE(D74:E74) -> 181660.96 | H74: =+F74/G74 -> 0.10056064 | I74: =+ROUND(AVERAGE(D74:E74),0) -> 181661
A75: 70 | B75: CAMBIO GUARDAPOLVO | C75: UNIDAD | D75: 148726.01 | E75: 171496.08 | F75: =+_xlfn.STDEV.S(D75:E75) -> 16100.87 | G75: =+AVERAGE(D75:E75) -> 160111.05 | H75: =+F75/G75 -> 0.10056064 | I75: =+ROUND(AVERAGE(D75:E75),0) -> 160111
A76: 71 | B76: SERVICIO DE ESCANNER | C76: UNIDAD | D76: N/A | E76: N/A | F76: =+_xlfn.STDEV.S(D76:E76) -> #DIV/0! | G76: =+AVERAGE(D76:E76) -> #DIV/0! | H76: =+F76/G76 -> #DIV/0! | I76: =+ROUND(AVERAGE(D76:E76),0) -> #DIV/0!
A77: 72 | B77: SINCRONIZACIÓN (INCLUYE REVISION, LIMPIEZA DE INYECTORES, CAMBIO DE BUJIA DE PRECLENTAMIENTO, BUJIAS, CAMBIO DE FILTROS, REVISIÓN DE BONINAS, CAMBIO DE SENSORES, CUERPOS DEL SISTEMA,VALVULAS, ETC) | C77: GLOBAL | D77: 1498150.5 | E77: 1635595.5 | F77: =+_xlfn.STDEV.S(D77:E77) -> 97188.292 | G77: =+AVERAGE(D77:E77) -> 1566873 | H77: =+F77/G77 -> 0.062026911 | I77: =+ROUND(AVERAGE(D77:E77),0) -> 1566873
A78: 73 | B78: REVISION Y LIMPIEZA DE SENSORES | C78: GLOBAL | D78: 243510.77 | E78: 265851.21 | F78: =+_xlfn.STDEV.S(D78:E78) -> 15797.075 | G78: =+AVERAGE(D78:E78) -> 254680.99 | H78: =+F78/G78 -> 0.062026911 | I78: =+ROUND(AVERAGE(D78:E78),0) -> 254681
A79: 74 | B79: MANTENIMIENTO DE TURBO | C79: UNIDAD | D79: 667006.45 | E79: 728199.7 | F79: =+_xlfn.STDEV.S(D79:E79) -> 43270.164 | G79: =+AVERAGE(D79:E79) -> 697603.07 | H79: =+F79/G79 -> 0.062026911 | I79: =+ROUND(AVERAGE(D79:E79),0) -> 697603
A80: 75 | B80: MANTENIMIENTO, REPARACION Y/O CAMBIO BOMBA DE ALTA | C80: UNIDAD | D80: 1065378.6 | E80: 1163119.8 | F80: =+_xlfn.STDEV.S(D80:E80) -> 69113.437 | G80: =+AVERAGE(D80:E80) -> 1114249.2 | H80: =+F80/G80 -> 0.062026911 | I80: =+ROUND(AVERAGE(D80:E80),0) -> 1114249
A81: 76 | B81: REPARACION INYECTOR (INCLUYE REPUESTOS , MONTAJE Y DESMONTAJE) | C81: UNIDAD | D81: 687243.13 | E81: 750292.96 | F81: =+_xlfn.STDEV.S(D81:E81) -> 44582.961 | G81: =+AVERAGE(D81:E81) -> 718768.04 | H81: =+F81/G81 -> 0.062026911 | I81: =+ROUND(AVERAGE(D81:E81),0) -> 718768
A82: 77 | B82: LIMPIEZA Y MANTENIMIENTO TANQUE DE COMBUSTIBLE | C82: UNIDAD | D82: 366270.82 | E82: 399873.64 | F82: =+_xlfn.STDEV.S(D82:E82) -> 23760.787 | G82: =+AVERAGE(D82:E82) -> 383072.23 | H82: =+F82/G82 -> 0.062026911 | I82: =+ROUND(AVERAGE(D82:E82),0) -> 383072
A83: 78 | B83: MANTENIMIENTO VALVULA EGR | C83: UNIDAD | D83: N/A | E83: N/A | F83: =+_xlfn.STDEV.S(D83:E83) -> #DIV/0! | G83: =+AVERAGE(D83:E83) -> #DIV/0! | H83: =+F83/G83 -> #DIV/0! | I83: =+ROUND(AVERAGE(D83:E83),0) -> #DIV/0!
A84: 79 | B84: DESMONTE Y MONTAJE DE LA TOTALIDAD DEL SISTEMA DE INYECCION | C84: GLOBAL | D84: 881656.93 | E84: 962542.88 | F84: =+_xlfn.STDEV.S(D84:E84) -> 57195.008 | G84: =+AVERAGE(D84:E84) -> 922099.9 | H84: =+F84/G84 -> 0.062026911 | I84: =+ROUND(AVERAGE(D84:E84),0) -> 922100
A85: 80 | B85: MANTENIMIENTO RIEL DE COMBUSTIBLE | C85: UNIDAD | D85: N/A | E85: N/A | F85: =+_xlfn.STDEV.S(D85:E85) -> #DIV/0! | G85: =+AVERAGE(D85:E85) -> #DIV/0! | H85: =+F85/G85 -> #DIV/0! | I85: =+ROUND(AVERAGE(D85:E85),0) -> #DIV/0!
A86: 81 | B86: CAMBIO RECIPIENTE DEPOSITO DE LIQUIDO REFRIGERANTE (POTE DE AGUA) | C86: UNIDAD | D86: 182959.24 | E86: 215565.84 | F86: =+_xlfn.STDEV.S(D86:E86) -> 23056.346 | G86: =+AVERAGE(D86:E86) -> 199262.54 | H86: =+F86/G86 -> 0.11570838 | I86: =+ROUND(AVERAGE(D86:E86),0) -> 199263
A87: 82 | B87: VALVULA ELECTROVALVULA SCV DE LA BOMBA ALTA | C87: UNIDAD | D87: N/A | E87: N/A | F87: =+_xlfn.STDEV.S(D87:E87) -> #DIV/0! | G87: =+AVERAGE(D87:E87) -> #DIV/0! | H87: =+F87/G87 -> #DIV/0! | I87: =+ROUND(AVERAGE(D87:E87),0) -> #DIV/0!
A88: 83 | B88: REPARACION DE FLOTADOR DE COMBUSTIBLE | C88: UNIDAD | D88: 426244.93 | E88: 456965.29 | F88: =+_xlfn.STDEV.S(D88:E88) -> 21722.572 | G88: =+AVERAGE(D88:E88) -> 441605.11 | H88: =+F88/G88 -> 0.049190037 | I88: =+ROUND(AVERAGE(D88:E88),0) -> 441605
A89: 84 | B89: DESMONTE Y MONTE DE TANQUE GASOLINA | C89: UNIDAD | D89: 335503.9 | E89: 359684.36 | F89: =+_xlfn.STDEV.S(D89:E89) -> 17098.168 | G89: =+AVERAGE(D89:E89) -> 347594.13 | H89: =+F89/G89 -> 0.049190037 | I89: =+ROUND(AVERAGE(D89:E89),0) -> 347594
A90: 85 | B90: REPARACIÓN Y/O MANTENIMEINTO RADIADOR INCLUYE CAMBIO | C90: UNIDAD | D90: 506299.78 | E90: 563607.8 | F90: =+_xlfn.STDEV.S(D90:E90) -> 40522.89 | G90: =+AVERAGE(D90:E90) -> 534953.79 | H90: =+F90/G90 -> 0.075750262 | I90: =+ROUND(AVERAGE(D90:E90),0) -> 534954
A91: 86 | B91: TANQUE RADIADOR | C91: UNIDAD | D91: 300217.96 | E91: 334199.6 | F91: =+_xlfn.STDEV.S(D91:E91) -> 24028.648 | G91: =+AVERAGE(D91:E91) -> 317208.78 | H91: =+F91/G91 -> 0.075750262 | I91: =+ROUND(AVERAGE(D91:E91),0) -> 317209
A92: 87 | B92: CAMBIO KIT DE EMBRAGUE (PRENSA, DISCO, BALINERA COLLARÍN), INCLUYE RECTIFICADA DE VOLANTE EMBRAGUE | C92: JUEGO | D92: 1218681.4 | E92: 1356623.8 | F92: =+_xlfn.STDEV.S(D92:E92) -> 97540.021 | G92: =+AVERAGE(D92:E92) -> 1287652.6 | H92: =+F92/G92 -> 0.075750262 | I92: =+ROUND(AVERAGE(D92:E92),0) -> 1287653
A93: 88 | B93: DESMONTE Y REPARACIÓN CAJA DE TRANSMISIÓN | C93: UNIDAD | D93: 1265072.3 | E93: 1384945.8 | F93: =+_xlfn.STDEV.S(D93:E93) -> 84763.336 | G93: =+AVERAGE(D93:E93) -> 1325009.1 | H93: =+F93/G93 -> 0.063971891 | I93: =+ROUND(AVERAGE(D93:E93),0) -> 1325009
A94: 89 | B94: DESMONTE Y REPARACIÓN CAJA DE DIRECCIÓN | C94: UNIDAD | D94: 1937707.9 | E94: 2121317.8 | F94: =+_xlfn.STDEV.S(D94:E94) -> 129831.78 | G94: =+AVERAGE(D94:E94) -> 2029512.9 | H94: =+F94/G94 -> 0.063971891 | I94: =+ROUND(AVERAGE(D94:E94),0) -> 2029513
A95: 90 | B95: CAMBIO DE CRUCETAS | C95: GLOBAL | D95: 170849.38 | E95: 196245.91 | F95: =+_xlfn.STDEV.S(D95:E95) -> 17958.059 | G95: =+AVERAGE(D95:E95) -> 183547.65 | H95: =+F95/G95 -> 0.097838674 | I95: =+ROUND(AVERAGE(D95:E95),0) -> 183548
A96: 91 | B96: CAMBIO DE PLANETARIOS | C96: JUEGO | D96: 360028.83 | E96: 413546.63 | F96: =+_xlfn.STDEV.S(D96:E96) -> 37842.799 | G96: =+AVERAGE(D96:E96) -> 386787.73 | H96: =+F96/G96 -> 0.097838674 | I96: =+ROUND(AVERAGE(D96:E96),0) -> 386788
A97: 92 | B97: CAMBIO DE JOCKEY | C97: UNIDAD | D97: 331980.06 | E97: 381328.44 | F97: =+_xlfn.STDEV.S(D97:E97) -> 34894.579 | G97: =+AVERAGE(D97:E97) -> 356654.25 | H97: =+F97/G97 -> 0.097838674 | I97: =+ROUND(AVERAGE(D97:E97),0) -> 356654
A98: 93 | B98: CAMBIO Y REPARACIÓN TRANSMISIÓN (ASPECTOS NO CONTEMPLADOS EN LOS ITEMS ANTERIORES) | C98: UNIDAD | D98: 3684958.8 | E98: 4232722.9 | F98: =+_xlfn.STDEV.S(D98:E98) -> 387327.74 | G98: =+AVERAGE(D98:E98) -> 3958840.8 | H98: =+F98/G98 -> 0.097838674 | I98: =+ROUND(AVERAGE(D98:E98),0) -> 3958841
A99: 94 | B99: RECTIFICACIÓN DE CULATA | C99: UNIDAD | D99: 1054246.9 | E99: 1054246.9 | F99: =+_xlfn.STDEV.S(D99:E99) -> 0 | G99: =+AVERAGE(D99:E99) -> 1054246.9 | H99: =+F99/G99 -> 0 | I99: =+ROUND(AVERAGE(D99:E99),0) -> 1054247
... A111: 106 | B111: DIAGNOSTICO REPARACIÓN GENERAL SISTEMA ELECTRICO | C111: UNIDAD | D111: 611484.05 | E111: 616666.12 | F111: =+_xlfn.STDEV.S(D111:E111) -> 3664.2756 | G111: =+AVERAGE(D111:E111) -> 614075.09 | H111: =+F111/G111 -> 0.0059671458 | I111: =+ROUND(AVERAGE(D111:E111),0) -> 614075
A112: 107 | B112: DESMONTE, MONTAJE Y PROGRAMACION DE LA COMPUTADORA | C112: UNIDAD | D112: N/A | E112: N/A | F112: =+_xlfn.STDEV.S(D112:E112) -> #DIV/0! | G112: =+AVERAGE(D112:E112) -> #DIV/0! | H112: =+F112/G112 -> #DIV/0! | I112: =+ROUND(AVERAGE(D112:E112),0) -> #DIV/0!
A113: 108 | B113: REPARACION DE LA COMPUTADORA | C113: UNIDAD | D113: N/A | E113: N/A | F113: =+_xlfn.STDEV.S(D113:E113) -> #DIV/0! | G113: =+AVERAGE(D113:E113) -> #DIV/0! | H113: =+F113/G113 -> #DIV/0! | I113: =+ROUND(AVERAGE(D113:E113),0) -> #DIV/0!
A114: 109 | B114: DIAGNOSTICO ELECTRICO MEDIDOR DE COMBUSTIBLE EN TABLERO | C114: UNIDAD | D114: 345893.43 | E114: 404335.15 | F114: =+_xlfn.STDEV.S(D114:E114) -> 41324.536 | G114: =+AVERAGE(D114:E114) -> 375114.29 | H114: =+F114/G114 -> 0.11016519 | I114: =+ROUND(AVERAGE(D114:E114),0) -> 375114
A115: 110 | B115: LINEA COMPRESOR A/A (INCLUYE INSTALACIÓN) | C115: UNIDAD | D115: N/A | E115: N/A | F115: =+_xlfn.STDEV.S(D115:E115) -> #DIV/0! | G115: =+AVERAGE(D115:E115) -> #DIV/0! | H115: =+F115/G115 -> #DIV/0! | I115: =+ROUND(AVERAGE(D115:E115),0) -> #DIV/0!
A116: 111 | B116: CONTROL O BOTONES SISTEMA AIRE ACONDICIONADO (INCLUYE INSTALACIÓN) | C116: UNIDAD | D116: N/A | E116: N/A | F116: =+_xlfn.STDEV.S(D116:E116) -> #DIV/0! | G116: =+AVERAGE(D116:E116) -> #DIV/0! | H116: =+F116/G116 -> #DIV/0! | I116: =+ROUND(AVERAGE(D116:E116),0) -> #DIV/0!
A117: 112 | B117: ORING SISTEMA AIRE ACONDICIONADO (INCLUYE INSTALACIÓN) | C117: UNIDAD | D117: N/A | E117: N/A | F117: =+_xlfn.STDEV.S(D117:E117) -> #DIV/0! | G117: =+AVERAGE(D117:E117) -> #DIV/0! | H117: =+F117/G117 -> #DIV/0! | I117: =+ROUND(AVERAGE(D117:E117),0) -> #DIV/0!
A118: 113 | B118: BARRIDO Y CARGA GAS SISTEMA AIRE ACONDICIONAD} | C118: GLOBAL | D118: N/A | E118: N/A | F118: =+_xlfn.STDEV.S(D118:E118) -> #DIV/0! | G118: =+AVERAGE(D118:E118) -> #DIV/0! | H118: =+F118/G118 -> #DIV/0! | I118: =+ROUND(AVERAGE(D118:E118),0) -> #DIV/0!
A119: 114 | B119: REVISION SISTEMA ELECTRICO AIRE ACONDICIONADO | C119: GLOBAL | D119: N/A | E119: N/A | F119: =+_xlfn.STDEV.S(D119:E119) -> #DIV/0! | G119: =+AVERAGE(D119:E119) -> #DIV/0! | H119: =+F119/G119 -> #DIV/0! | I119: =+ROUND(AVERAGE(D119:E119),0) -> #DIV/0!
A120: 115 | B120: MANTENIMIENTO AIRE ACONDICIONADO GENERAL (INCLUYE BARRIDO Y CARGA DE GAS, CAMBIO DE FILTROS, CAMBIO DE ORING) | C120: GLOBAL | D120: N/A | E120: N/A | F120: =+_xlfn.STDEV.S(D120:E120) -> #DIV/0! | G120: =+AVERAGE(D120:E120) -> #DIV/0! | H120: =+F120/G120 -> #DIV/0! | I120: =+ROUND(AVERAGE(D120:E120),0) -> #DIV/0!
A121: 116 | B121: CORRECION FUGAS LINEAS SISTEMA AIRE ACONDICIONADO | C121: GLOBAL | D121: N/A | E121: N/A | F121: =+_xlfn.STDEV.S(D121:E121) -> #DIV/0! | G121: =+AVERAGE(D121:E121) -> #DIV/0! | H121: =+F121/G121 -> #DIV/0! | I121: =+ROUND(AVERAGE(D121:E121),0) -> #DIV/0!
A122: 117 | B122: MANTENIMIENTO COMPRESOR AIRE ACONDICIONADO | C122: GLOBAL | D122: N/A | E122: N/A | F122: =+_xlfn.STDEV.S(D122:E122) -> #DIV/0! | G122: =+AVERAGE(D122:E122) -> #DIV/0! | H122: =+F122/G122 -> #DIV/0! | I122: =+ROUND(AVERAGE(D122:E122),0) -> #DIV/0!
A123: 118 | B123: MANTENIMIENTO VENTANAS ELECTRICAS | C123: UNIDAD | D123: N/A | E123: N/A | F123: =+_xlfn.STDEV.S(D123:E123) -> #DIV/0! | G123: =+AVERAGE(D123:E123) -> #DIV/0! | H123: =+F123/G123 -> #DIV/0! | I123: =+ROUND(AVERAGE(D123:E123),0) -> #DIV/0!
A124: 119 | B124: DESPINCHADA DE SELLO MATIC | C124: UNIDAD | D124: 42909.57 | E124: 49479.058 | F124: =+_xlfn.STDEV.S(D124:E124) -> 4645.3298 | G124: =+AVERAGE(D124:E124) -> 46194.314 | H124: =+F124/G124 -> 0.10056064 | I124: =+ROUND(AVERAGE(D124:E124),0) -> 46194
A125: 120 | B125: DESPINCHADA CON NEUMATICO | C125: UNIDAD | D125: 67544.4 | E125: 77885.5 | F125: =+_xlfn.STDEV.S(D125:E125) -> 7312.2619 | G125: =+AVERAGE(D125:E125) -> 72714.95 | H125: =+F125/G125 -> 0.10056064 | I125: =+ROUND(AVERAGE(D125:E125),0) -> 72715
A126: 121 | B126: SERVICIO ESPECIALIZADO DE ESCANNER EN TALLER AUTORIZADO DE LA MARCA DEL VEHICULO | C126: UNIDAD | D126: N/A | E126: N/A | F126: =+_xlfn.STDEV.S(D126:E126) -> #DIV/0! | G126: =+AVERAGE(D126:E126) -> #DIV/0! | H126: =+F126/G126 -> #DIV/0! | I126: =+ROUND(AVERAGE(D126:E126),0) -> #DIV/0!
A127: 122 | B127: REVISION TECNICOMECANICA Y DE GASES (Alistamiento, trámite y entrega de documento) | C127: UNIDAD | D127: 740000 | E127: 734000 | F127: =+_xlfn.STDEV.S(D127:E127) -> 4242.6407 | G127: =+AVERAGE(D127:E127) -> 737000 | H127: =+F127/G127 -> 0.0057566359 | I127: =+ROUND(AVERAGE(D127:E127),0) -> 737000
...

Sheet TOYOTA LAND CRUISER
A1: MANTENIMIENTO PREVENTIVO Y CORRECTIVO CON INCLUSIÓN DE REPUESTOS PARA LAS MOTOBOMBAS Y SISTEMAS HIDRÁULICOS A CARGO DE LA DIRECCIÓN SECCIONAL DE ADUANAS DE CÚCUTA Y DE LA DIRECCIÓN SECCIONAL DE IMPUESTOS DE CÚCUTA | K1: 25
D3: MECANIZADOS Y SERVICIOS INTEGRALES S.A.S. | E3: COMPAÑÍA DE ASISTENCIA INTEGRAL S.A.S.
A4: ITEMS | B4: DESCRIPCIÓN | C4: MEDIDA | D4: Cotización 1 | E4: Cotización 2 | F4: DESVIACIÓN ESTÁNDAR | G4: PROMEDIO | H4: COEFICIENTE DE VARIACIÓN | I4: PRECIO UNITARIO DE REFERENCIA IVA INCLUIDO
D5: PRECIO UNITARIO IVA INCLUÍDO | E5: PRECIO UNITARIO IVA INCLUÍDO
A6: 1 | B6: LAVADO SENCILLO EXTERNO,INTERNO,ASPIRADA | C6: UNIDAD | D6: 69138.634 | E6: 75481.628 | F6: =+_xlfn.STDEV.S(D6:E6) -> 4485.174 | G6: =+AVERAGE(D6:E6) -> 72310.131 | H6: =+F6/G6 -> 0.062026911 | I6: =+ROUND(AVERAGE(D6:E6),0) -> 72310
A7: 2 | B7: LAVADO GENERAL INCLUYE ASPIRADA, LAVADO DEL MOTOR Y CHASIS EN CARCAMO | C7: UNIDAD | D7: 114197.82 | E7: 134549.91 | F7: =+_xlfn.STDEV.S(D7:E7) -> 14391.098 | G7: =+AVERAGE(D7:E7) -> 124373.86 | H7: =+F7/G7 -> 0.11570838 | I7: =+ROUND(AVERAGE(D7:E7),0) -> 124374
A8: 3 | B8: LAVADO GENERAL CON DESMANCHADO Y PULIDA | C8: UNIDAD | D8: 193133.55 | E8: 227553.39 | F8: =+_xlfn.STDEV.S(D8:E8) -> 24338.503 | G8: =+AVERAGE(D8:E8) -> 210343.47 | H8: =+F8/G8 -> 0.11570838 | I8: =+ROUND(AVERAGE(D8:E8),0) -> 210343
A9: 4 | B9: LAVADO TAPICERIA | C9: UNIDAD | D9: 293210.68 | E9: 345466.05 | F9: =+_xlfn.STDEV.S(D9:E9) -> 36950.126 | G9: =+AVERAGE(D9:E9) -> 319338.36 | H9: =+F9/G9 -> 0.11570838 | I9: =+ROUND(AVERAGE(D9:E9),0) -> 319338
A10: 5 | B10: ENGRASE GENERAL | C10: GLOBAL | D10: 68654.163 | E10: 80889.558 | F10: =+_xlfn.STDEV.S(D10:E10) -> 8651.731 | G10: =+AVERAGE(D10:E10) -> 74771.86 | H10: =+F10/G10 -> 0.11570838 | I10: =+ROUND(AVERAGE(D10:E10),0) -> 74772
A11: 6 | B11: REVISION GENERAL, AJUSTE Y MANTENIMIENTO DEL SISTEMA DE FRENOS INCLUYE: REVISION DE GAS,TUBERIAS,MANGUERAS,REVISION DE FLUIDOS. | C11: UNIDAD | D11: 158961.24 | E11: 185454.78 | F11: =+_xlfn.STDEV.S(D11:E11) -> 18733.762 | G11: =+AVERAGE(D11:E11) -> 172208.01 | H11: =+F11/G11 -> 0.10878566 | I11: =+ROUND(AVERAGE(D11:E11),0) -> 172208
A12: 7 | B12: DESMONTAJE Y MONTAJE COMPONENTES FRENO DE DISCO (PASTILLAS,MORDAZAS,DISCOS,CILINDROS, ETC) | C12: GLOBAL | D12: 125753.07 | E12: 146711.91 | F12: =+_xlfn.STDEV.S(D12:E12) -> 14820.141 | G12: =+AVERAGE(D12:E12) -> 136232.49 | H12: =+F12/G12 -> 0.10878566 | I12: =+ROUND(AVERAGE(D12:E12),0) -> 136232
A13: 8 | B13: DESMONTAJE Y MONTAJE BOMBA DE FRENO | C13: UNIDAD | D13: 149455.02 | E13: 174364.19 | F13: =+_xlfn.STDEV.S(D13:E13) -> 17613.444 | G13: =+AVERAGE(D13:E13) -> 161909.61 | H13: =+F13/G13 -> 0.10878566 | I13: =+ROUND(AVERAGE(D13:E13),0) -> 161910
A14: 9 | B14: DESMONTAJE Y MONTAJE DE MODULO ABS | C14: UNIDAD | D14: 214345.59 | E14: 250069.86 | F14: =+_xlfn.STDEV.S(D14:E14) -> 25260.871 | G14: =+AVERAGE(D14:E14) -> 232207.73 | H14: =+F14/G14 -> 0.10878566 | I14: =+ROUND(AVERAGE(D14:E14),0) -> 232208
A15: 10 | B15: DESMONTAJE Y MONTAJE DE SENSOR | C15: UNIDAD | D15: 107117.39 | E15: 124970.29 | F15: =+_xlfn.STDEV.S(D15:E15) -> 12623.906 | G15: =+AVERAGE(D15:E15) -> 116043.84 | H15: =+F15/G15 -> 0.10878566 | I15: =+ROUND(AVERAGE(D15:E15),0) -> 116044
A16: 11 | B16: DESMONTAJE Y MONTAJE INCLUYE RECTIFICACION DE DISCO O CAMPANA | C16: UNIDAD | D16: 94309.796 | E16: 110028.1 | F16: =+_xlfn.STDEV.S(D16:E16) -> 11114.516 | G16: =+AVERAGE(D16:E16) -> 102168.95 | H16: =+F16/G16 -> 0.10878566 | I16: =+ROUND(AVERAGE(D16:E16),0) -> 102169
A17: 12 | B17: DESMONTAJE Y MONTAJE COMPONENTES FRENOS TRASERO Y/O FRENO TAMBOR | C17: GLOBAL | D17: 599878.17 | E17: 699857.86 | F17: =+_xlfn.STDEV.S(D17:E17) -> 70696.32 | G17: =+AVERAGE(D17:E17) -> 649868.01 | H17: =+F17/G17 -> 0.10878566 | I17: =+ROUND(AVERAGE(D17:E17),0) -> 649868
... A36: 31 | B36: DESMONTAJE Y MONTAJE DE PUNTA DE EJE LADO RUEDA | C36: UNIDAD | D36: 336893.89 | E36: 378211.07 | F36: =+_xlfn.STDEV.S(D36:E36) -> 29215.655 | G36: =+AVERAGE(D36:E36) -> 357552.48 | H36: =+F36/G36 -> 0.081710117 | I36: =+ROUND(AVERAGE(D36:E36),0) -> 357552
A37: 32 | B37: DESMONTAJE Y MONTAJE CUNA SUSPENSION | C37: UNIDAD | D37: N/A | E37: N/A | F37: =+_xlfn.STDEV.S(D37:E37) -> #DIV/0! | G37: =+AVERAGE(D37:E37) -> #DIV/0! | H37: =+F37/G37 -> #DIV/0! | I37: =+ROUND(AVERAGE(D37:E37),0) -> #DIV/0!
A38: 33 | B38: DESMONTAJE Y MONTAJE PERNO DE RUEDA | C38: UNIDAD | D38: 109668.5 | E38: 122540.39 | F38: =+_xlfn.STDEV.S(D38:E38) -> 9101.8002 | G38: =+AVERAGE(D38:E38) -> 116104.44 | H38: =+F38/G38 -> 0.078393213 | I38: =+ROUND(AVERAGE(D38:E38),0) -> 116104
A39: 34 | B39: DESMONTAJE Y MONTAJE HOJA PRINCIPAL DEL MUELLE | C39: UNIDAD | D39: 284325.73 | E39: 317697.3 | F39: =+_xlfn.STDEV.S(D39:E39) -> 23597.26 | G39: =+AVERAGE(D39:E39) -> 301011.51 | H39: =+F39/G39 -> 0.078393213 | I39: =+ROUND(AVERAGE(D39:E39),0) -> 301012
A40: 35 | B40: DESMONTAJE Y MONTAJE CREMALLERA DIRECCION | C40: UNIDAD | D40: 479291.95 | E40: 535546.87 | F40: =+_xlfn.STDEV.S(D40:E40) -> 39778.238 | G40: =+AVERAGE(D40:E40) -> 507419.41 | H40: =+F40/G40 -> 0.078393213 | I40: =+ROUND(AVERAGE(D40:E40),0) -> 507419
A41: 36 | B41: DESMONTAJE Y MONTAJE BUJE CREMALLERA | C41: UNIDAD | D41: 322235.83 | E41: 360056.94 | F41: =+_xlfn.STDEV.S(D41:E41) -> 26743.561 | G41: =+AVERAGE(D41:E41) -> 341146.38 | H41: =+F41/G41 -> 0.078393213 | I41: =+ROUND(AVERAGE(D41:E41),0) -> 341146
A42: 37 | B42: DESMONTAJE Y MONTAJE COLUMNA DIRECCION | C42: UNIDAD | D42: 422020.62 | E42: 483353.74 | F42: =+_xlfn.STDEV.S(D42:E42) -> 43369.067 | G42: =+AVERAGE(D42:E42) -> 452687.18 | H42: =+F42/G42 -> 0.095803611 | I42: =+ROUND(AVERAGE(D42:E42),0) -> 452687
A43: 38 | B43: DESMONTAJE Y MONTAJE BIELA DE DIRECCION | C43: UNIDAD | D43: 217944.92 | E43: 249619.3 | F43: =+_xlfn.STDEV.S(D43:E43) -> 22397.171 | G43: =+AVERAGE(D43:E43) -> 233782.11 | H43: =+F43/G43 -> 0.095803611 | I43: =+ROUND(AVERAGE(D43:E43),0) -> 233782
A44: 39 | B44: DESMONTAJE Y MONTAJE BARRA LARGA DE LA DIRECCIÓN | C44: UNIDAD | D44: 409976.85 | E44: 469559.63 | F44: =+_xlfn.STDEV.S(D44:E44) -> 42131.385 | G44: =+AVERAGE(D44:E44) -> 439768.24 | H44: =+F44/G44 -> 0.095803611 | I44: =+ROUND(AVERAGE(D44:E44),0) -> 439768
A45: 40 | B45: DESMONTAJE Y MONTAJE BARRA CORTA DE LA DIRECCIÓN | C45: UNIDAD | D45: 432136.47 | E45: 480600.37 | F45: =+_xlfn.STDEV.S(D45:E45) -> 34269.154 | G45: =+AVERAGE(D45:E45) -> 456368.42 | H45: =+F45/G45 -> 0.075090986 | I45: =+ROUND(AVERAGE(D45:E45),0) -> 456368
A46: 41 | B46: DESMONTAJE Y MONTAJE BUJE SUJECION CAJA DIRECCION | C46: UNIDAD | D46: 209559.25 | E46: 233061.22 | F46: =+_xlfn.STDEV.S(D46:E46) -> 16618.404 | G46: =+AVERAGE(D46:E46) -> 221310.24 | H46: =+F46/G46 -> 0.075090986 | I46: =+ROUND(AVERAGE(D46:E46),0) -> 221310
A47: 42 | B47: DESMONTAJE Y MONTAJE EMPAQUETADURA COMPLETA CREMALLERA DIRECCION | C47: JUEGO | D47: 965804.87 | E47: 1074119.4 | F47: =+_xlfn.STDEV.S(D47:E47) -> 76589.963 | G47: =+AVERAGE(D47:E47) -> 1019962.1 | H47: =+F47/G47 -> 0.075090986 | I47: =+ROUND(AVERAGE(D47:E47),0) -> 1019962
A48: 43 | B48: DESMONTAJE Y MONTAJE RETENEDOR CREMALLERA DIRECCION | C48: UNIDAD | D48: 725497.82 | E48: 794243.24 | F48: =+_xlfn.STDEV.S(D48:E48) -> 48610.355 | G48: =+AVERAGE(D48:E48) -> 759870.53 | H48: =+F48/G48 -> 0.063971891 | I48: =+ROUND(AVERAGE(D48:E48),0) -> 759871
A49: 44 | B49: DESMONTAJE Y MONTAJE RODAMIENTO CREMALLERA DIRECCION | C49: UNIDAD | D49: 690180.58 | E49: 755579.48 | F49: =+_xlfn.STDEV.S(D49:E49) -> 46244.003 | G49: =+AVERAGE(D49:E49) -> 722880.03 | H49: =+F49/G49 -> 0.063971891 | I49: =+ROUND(AVERAGE(D49:E49),0) -> 722880
... A63: 58 | B63: CAMBIO BOMBA HIDRAHULICA | C63: UNIDAD | D63: 381315.26 | E63: 416298.31 | F63: =+_xlfn.STDEV.S(D63:E63) -> 24736.753 | G63: =+AVERAGE(D63:E63) -> 398806.78 | H63: =+F63/G63 -> 0.062026911 | I63: =+ROUND(AVERAGE(D63:E63),0) -> 398807
A64: 59 | B64: CAMBIO CORREA DE DENTADO | C64: UNIDAD | D64: N/A | E64: N/A | F64: =+_xlfn.STDEV.S(D64:E64) -> #DIV/0! | G64: =+AVERAGE(D64:E64) -> #DIV/0! | H64: =+F64/G64 -> #DIV/0! | I64: =+ROUND(AVERAGE(D64:E64),0) -> #DIV/0!
A65: 60 | B65: MANTENIMIENTO MOTOR DE ARRANQUE (INCLUYE REPUESTOS) | C65: UNIDAD | D65: 2923830 | E65: 2761395 | F65: =+_xlfn.STDEV.S(D65:E65) -> 114858.89 | G65: =+AVERAGE(D65:E65) -> 2842612.5 | H65: =+F65/G65 -> 0.040406102 | I65: =+ROUND(AVERAGE(D65:E65),0) -> 2842613
A66: 61 | B66: MANTENIMIENTO ALTERNADOR (INCLUYE REPUESTOS) | C66: UNIDAD | D66: 1982206.8 | E66: 1872084.2 | F66: =+_xlfn.STDEV.S(D66:E66) -> 77868.437 | G66: =+AVERAGE(D66:E66) -> 1927145.5 | H66: =+F66/G66 -> 0.040406102 | I66: =+ROUND(AVERAGE(D66:E66),0) -> 1927146
A67: 62 | B67: RADIADOR DE AIRE ACONDICIONADO | C67: UNIDAD | D67: 485410.55 | E67: 458443.3 | F67: =+_xlfn.STDEV.S(D67:E67) -> 19068.727 | G67: =+AVERAGE(D67:E67) -> 471926.93 | H67: =+F67/G67 -> 0.040406102 | I67: =+ROUND(AVERAGE(D67:E67),0) -> 471927
A68: 63 | B68: RADIADOR DE MOTOR | C68: UNIDAD | D68: 493587.29 | E68: 466165.77 | F68: =+_xlfn.STDEV.S(D68:E68) -> 19389.94 | G68: =+AVERAGE(D68:E68) -> 479876.53 | H68: =+F68/G68 -> 0.040406102 | I68: =+ROUND(AVERAGE(D68:E68),0) -> 479877
A69: 64 | B69: EMPAQUE MULTIPLE EXOSTO | C69: JUEGO | D69: 244306.25 | E69: 282531.04 | F69: =+_xlfn.STDEV.S(D69:E69) -> 27029.007 | G69: =+AVERAGE(D69:E69) -> 263418.65 | H69: =+F69/G69 -> 0.10260855 | I69: =+ROUND(AVERAGE(D69:E69),0) -> 263419
A70: 65 | B70: MOFLE Y EXOSTO | C70: UNIDAD | D70: 256021.27 | E70: 296079.02 | F70: =+_xlfn.STDEV.S(D70:E70) -> 28325.107 | G70: =+AVERAGE(D70:E70) -> 276050.15 | H70: =+F70/G70 -> 0.10260855 | I70: =+ROUND(AVERAGE(D70:E70),0) -> 276050
A71: 66 | B71: CAMBIO BOMBONA DE EXOSTO | C71: UNIDAD | D71: 291997.78 | E71: 337684.51 | F71: =+_xlfn.STDEV.S(D71:E71) -> 32305.395 | G71: =+AVERAGE(D71:E71) -> 314841.14 | H71: =+F71/G71 -> 0.10260855 | I71: =+ROUND(AVERAGE(D71:E71),0) -> 314841
A72: 67 | B72: ARGOLLAS Y SOLDADURAS | C72: GLOBAL | D72: 205125.57 | E72: 235163.23 | F72: =+_xlfn.STDEV.S(D72:E72) -> 21239.83 | G72: =+AVERAGE(D72:E72) -> 220144.4 | H72: =+F72/G72 -> 0.096481356 | I72: =+ROUND(AVERAGE(D72:E72),0) -> 220144
A73: 68 | B73: REPARACION COMPRESOR AIRE ACONDICIONADO | C73: UNIDAD | D73: 1121975.8 | E73: 1286272.8 | F73: =+_xlfn.STDEV.S(D73:E73) -> 116175.55 | G73: =+AVERAGE(D73:E73) -> 1204124.3 | H73: =+F73/G73 -> 0.096481356 | I73: =+ROUND(AVERAGE(D73:E73),0) -> 1204124
A74: 69 | B74: REVISION Y NIVELACION DE VALVULINA EN CAJA Y TRANSMISION | C74: UNIDAD | D74: 169724.64 | E74: 194578.34 | F74: =+_xlfn.STDEV.S(D74:E74) -> 17574.223 | G74: =+AVERAGE(D74:E74) -> 182151.49 | H74: =+F74/G74 -> 0.096481356 | I74: =+ROUND(AVERAGE(D74:E74),0) -> 182151
A75: 70 | B75: CAMBIO GUARDAPOLVO | C75: UNIDAD | D75: 139105.57 | E75: 159475.56 | F75: =+_xlfn.STDEV.S(D75:E75) -> 14403.756 | G75: =+AVERAGE(D75:E75) -> 149290.57 | H75: =+F75/G75 -> 0.096481356 | I75: =+ROUND(AVERAGE(D75:E75),0) -> 149291
A76: 71 | B76: SERVICIO DE ESCANNER | C76: UNIDAD | D76: 156021.56 | E76: 160056.6 | F76: =+_xlfn.STDEV.S(D76:E76) -> 2853.2044 | G76: =+AVERAGE(D76:E76) -> 158039.08 | H76: =+F76/G76 -> 0.01805379 | I76: =+ROUND(AVERAGE(D76:E76),0) -> 158039
... A133: 128 | B133: BATERIA (INCLUYE MANO DE OBRA) | C133: UNIDAD | D133: 959876.72 | E133: 1073546.3 | F133: =+_xlfn.STDEV.S(D133:E133) -> 80376.553 | G133: =+AVERAGE(D133:E133) -> 1016711.5 | H133: =+F133/G133 -> 0.079055417 | I133: =+ROUND(AVERAGE(D133:E133),0) -> 1016712
A134: 129 | B134: NEUMATICOS | C134: UNIDAD | D134: N/A | E134: N/A | F134: =+_xlfn.STDEV.S(D134:E134) -> #DIV/0! | G134: =+AVERAGE(D134:E134) -> #DIV/0! | H134: =+F134/G134 -> #DIV/0! | I134: =+ROUND(AVERAGE(D134:E134),0) -> #DIV/0!
A135: 130 | B135: BOMBA DE COMBUSTIBLE | C135: UNIDAD | D135: 436240 | E135: 487900 | F135: =+_xlfn.STDEV.S(D135:E135) -> 36529.136 | G135: =+AVERAGE(D135:E135) -> 462070 | H135: =+F135/G135 -> 0.079055417 | I135: =+ROUND(AVERAGE(D135:E135),0) -> 462070
A136: 131 | B136: BOMBA DE FRENO | C136: UNIDAD | D136: 877800 | E136: 981750 | F136: =+_xlfn.STDEV.S(D136:E136) -> 73503.75 | G136: =+AVERAGE(D136:E136) -> 929775 | H136: =+F136/G136 -> 0.079055417 | I136: =+ROUND(AVERAGE(D136:E136),0) -> 929775
A137: 132 | B137: MODULO ABS PROGRAMADO | C137: UNIDAD | D137: 22344000 | E137: 24990000 | F137: =+_xlfn.STDEV.S(D137:E137) -> 1871004.5 | G137: =+AVERAGE(D137:E137) -> 23667000 | H137: =+F137/G137 -> 0.079055417 | I137: =+ROUND(AVERAGE(D137:E137),0) -> 23667000
A138: 133 | B138: SENSOR ABS | C138: UNIDAD | D138: 1019312 | E138: 1140020 | F138: =+_xlfn.STDEV.S(D138:E138) -> 85353.445 | G138: =+AVERAGE(D138:E138) -> 1079666 | H138: =+F138/G138 -> 0.079055417 | I138: =+ROUND(AVERAGE(D138:E138),0) -> 1079666
A139: 134 | B139: BOMBA DE AGUA | C139: UNIDAD | D139: 1449608 | E139: 1621272.1 | F139: =+_xlfn.STDEV.S(D139:E139) -> 121384.85 | G139: =+AVERAGE(D139:E139) -> 1535440 | H139: =+F139/G139 -> 0.079055417 | I139: =+ROUND(AVERAGE(D139:E139),0) -> 1535440
A140: 135 | B140: BOMBA HIDRAULICA | C140: UNIDAD | D140: 2489741.3 | E140: 2784579.1 | F140: =+_xlfn.STDEV.S(D140:E140) -> 208481.8 | G140: =+AVERAGE(D140:E140) -> 2637160.2 | H140: =+F140/G140 -> 0.079055417 | I140: =+ROUND(AVERAGE(D140:E140),0) -> 2637160
A141: 136 | B141: EMPAQUETADURA BOMBA DE DIRECCIÓN | C141: UNIDAD | D141: 905409.73 | E141: 1012629.3 | F141: =+_xlfn.STDEV.S(D141:E141) -> 75815.687 | G141: =+AVERAGE(D141:E141) -> 959019.51 | H141: =+F141/G141 -> 0.079055417 | I141: =+ROUND(AVERAGE(D141:E141),0) -> 959020
A142: 137 | B142: EMPATEDURA CAJA DE DIRECCIÓN | C142: UNIDAD | D142: 1075428.4 | E142: 1202781.8 | F142: =+_xlfn.STDEV.S(D142:E142) -> 90052.426 | G142: =+AVERAGE(D142:E142) -> 1139105.1 | H142: =+F142/G142 -> 0.079055417 | I142: =+ROUND(AVERAGE(D142:E142),0) -> 1139105
A143: 138 | B143: BUJE DE TIJERA | C143: UNIDAD | D143: 203983.39 | E143: 228139.31 | F143: =+_xlfn.STDEV.S(D143:E143) -> 17080.82 | G143: =+AVERAGE(D143:E143) -> 216061.35 | H143: =+F143/G143 -> 0.079055417 | I143: =+ROUND(AVERAGE(D143:E143),0) -> 216061
A144: 139 | B144: BUJE DE AMORTIGUADOR | C144: UNIDAD | D144: 285949.12 | E144: 319811.51 | F144: =+_xlfn.STDEV.S(D144:E144) -> 23944.329 | G144: =+AVERAGE(D144:E144) -> 302880.31 | H144: =+F144/G144 -> 0.079055417 | I144: =+ROUND(AVERAGE(D144:E144),0) -> 302880
A145: 140 | B145: BASE DE AMORTIGUADOR | C145: UNIDAD | D145: 432923.5 | E145: 484190.76 | F145: =+_xlfn.STDEV.S(D145:E145) -> 36251.425 | G145: =+AVERAGE(D145:E145) -> 458557.13 | H145: =+F145/G145 -> 0.079055417 | I145: =+ROUND(AVERAGE(D145:E145),0) -> 458557
A146: 141 | B146: AMORTIGUADOR DELANTERO | C146: JUEGO | D146: 688539.79 | E146: 770077.39 | F146: =+_xlfn.STDEV.S(D146:E146) -> 57655.794 | G146: =+AVERAGE(D146:E146) -> 729308.59 | H146: =+F146/G146 -> 0.079055417 | I146: =+ROUND(AVERAGE(D146:E146),0) -> 729309
... A153: 148 | B153: FILTRO COMBUSTIBLE ORIGINALES | C153: UNIDAD | D153: 247238.89 | E153: 276517.18 | F153: =+_xlfn.STDEV.S(D153:E153) -> 20702.877 | G153: =+AVERAGE(D153:E153) -> 261878.04 | H153: =+F153/G153 -> 0.079055417 | I153: =+ROUND(AVERAGE(D153:E153),0) -> 261878
A154: 149 | B154: FILTRO SEDIMENTADOR ACPM ORIGINAL NISSAN | C154: UNIDAD | D154: N/A | E154: N/A | F154: =+_xlfn.STDEV.S(D154:E154) -> #DIV/0! | G154: =+AVERAGE(D154:E154) -> #DIV/0! | H154: =+F154/G154 -> #DIV/0! | I154: =+ROUND(AVERAGE(D154:E154),0) -> #DIV/0!
A155: 150 | B155: FILTRO TRAMPA ACPM NISSAN ORIGINAL | C155: UNIDAD | D155: N/A | E155: N/A | F155: =+_xlfn.STDEV.S(D155:E155) -> #DIV/0! | G155: =+AVERAGE(D155:E155) -> #DIV/0! | H155: =+F155/G155 -> #DIV/0! | I155: =+ROUND(AVERAGE(D155:E155),0) -> #DIV/0!
A156: 151 | B156: FILTRO DE AIRE ACONDICIONADO | C156: UNIDAD | D156: 146390.23 | E156: 163725.91 | F156: =+_xlfn.STDEV.S(D156:E156) -> 12258.18 | G156: =+AVERAGE(D156:E156) -> 155058.07 | H156: =+F156/G156 -> 0.079055417 | I156: =+ROUND(AVERAGE(D156:E156),0) -> 155058
A157: 152 | B157: VALVULAS DE ADMISIÓN | C157: JUEGO | D157: 417384.5 | E157: 466811.62 | F157: =+_xlfn.STDEV.S(D157:E157) -> 34950.246 | G157: =+AVERAGE(D157:E157) -> 442098.06 | H157: =+F157/G157 -> 0.079055417 | I157: =+ROUND(AVERAGE(D157:E157),0) -> 442098
A158: 153 | B158: VALVULAS DE ESCAPE | C158: JUEGO | D158: 417247.24 | E158: 466658.1 | F158: =+_xlfn.STDEV.S(D158:E158) -> 34938.752 | G158: =+AVERAGE(D158:E158) -> 441952.67 | H158: =+F158/G158 -> 0.079055417 | I158: =+ROUND(AVERAGE(D158:E158),0) -> 441953
A159: 154 | B159: GUIAS DE VALVULAS | C159: JUEGO | D159: 513677.57 | E159: 574507.81 | F159: =+_xlfn.STDEV.S(D159:E159) -> 43013.474 | G159: =+AVERAGE(D159:E159) -> 544092.69 | H159: =+F159/G159 -> 0.079055417 | I159: =+ROUND(AVERAGE(D159:E159),0) -> 544093
A160: 155 | B160: GORRO DE VALVULAS | C160: JUEGO | D160: 401220.07 | E160: 448732.97 | F160: =+_xlfn.STDEV.S(D160:E160) -> 33596.696 | G160: =+AVERAGE(D160:E160) -> 424976.52 | H160: =+F160/G160 -> 0.079055417 | I160: =+ROUND(AVERAGE(D160:E160),0) -> 424977
A161: 156 | B161: EMPAQUE DE ADMISIÓN | C161: UNIDAD | D161: 327501.69 | E161: 366284.78 | F161: =+_xlfn.STDEV.S(D161:E161) -> 27423.789 | G161: =+AVERAGE(D161:E161) -> 346893.24 | H161: =+F161/G161 -> 0.079055417 | I161: =+ROUND(AVERAGE(D161:E161),0) -> 346893
A162: 157 | B162: EMPAQUE TAPA VALVULAS | C162: UNIDAD | D162: 367590.77 | E162: 411121.26 | F162: =+_xlfn.STDEV.S(D162:E162) -> 30780.702 | G162: =+AVERAGE(D162:E162) -> 389356.02 | H162: =+F162/G162 -> 0.079055417 | I162: =+ROUND(AVERAGE(D162:E162),0) -> 389356
A163: 158 | B163: EMPAQUE DE ESCAPE | C163: UNIDAD | D163: 339009.38 | E163: 379155.23 | F163: =+_xlfn.STDEV.S(D163:E163) -> 28387.401 | G163: =+AVERAGE(D163:E163) -> 359082.31 | H163: =+F163/G163 -> 0.079055417 | I163: =+ROUND(AVERAGE(D163:E163),0) -> 359082
A164: 159 | B164: EMPAQUE DE CARTER | C164: UNIDAD | D164: 362457.21 | E164: 405379.77 | F164: =+_xlfn.STDEV.S(D164:E164) -> 30350.836 | G164: =+AVERAGE(D164:E164) -> 383918.49 | H164: =+F164/G164 -> 0.079055417 | I164: =+ROUND(AVERAGE(D164:E164),0) -> 383918
A165: 160 | B165: MAGUERA HIDRAULICA | C165: UNIDAD | D165: 262477.55 | E165: 293560.42 | F165: =+_xlfn.STDEV.S(D165:E165) -> 21978.907 | G165: =+AVERAGE(D165:E165) -> 278018.99 | H165: =+F165/G165 -> 0.079055417 | I165: =+ROUND(AVERAGE(D165:E165),0) -> 278019
A166: 161 | B166: MANGUERA DE AGUA | C166: UNIDAD | D166: 218305.56 | E166: 244157.54 | F166: =+_xlfn.STDEV.S(D166:E166) -> 18280.106 | G166: =+AVERAGE(D166:E166) -> 231231.55 | H166: =+F166/G166 -> 0.079055417 | I166: =+ROUND(AVERAGE(D166:E166),0) -> 231232
A167: 162 | B167: SOPORTE DE MOTOR | C167: UNIDAD | D167: 439182.03 | E167: 491190.43 | F167: =+_xlfn.STDEV.S(D167:E167) -> 36775.491 | G167: =+AVERAGE(D167:E167) -> 465186.23 | H167: =+F167/G167 -> 0.079055417 | I167: =+ROUND(AVERAGE(D167:E167),0) -> 465186
... A199: 194 | B199: KIT ACCESORIOS (JUEGOS DE CORREAS, TENSOR, PATIN BALINERA) | C199: JUEGO | D199: 1218013.3 | E199: 1362251.8 | F199: =+_xlfn.STDEV.S(D199:E199) -> 101991.97 | G199: =+AVERAGE(D199:E199) -> 1290132.6 | H199: =+F199/G199 -> 0.079055417 | I199: =+ROUND(AVERAGE(D199:E199),0) -> 1290133
A200: 195 | B200: TELA ORIGINAL SILLA DELANTERA | C200: UNIDAD | D200: N/A | E200: N/A | F200: =+_xlfn.STDEV.S(D200:E200) -> #DIV/0! | G200: =+AVERAGE(D200:E200) -> #DIV/0! | H200: =+F200/G200 -> #DIV/0! | I200: =+ROUND(AVERAGE(D200:E200),0) -> #DIV/0!
A201: 196 | B201: GATO DE BOTELLA 2 TONELADAS | C201: UNIDAD | D201: N/A | E201: N/A | F201: =+_xlfn.STDEV.S(D201:E201) -> #DIV/0! | G201: =+AVERAGE(D201:E201) -> #DIV/0! | H201: =+F201/G201 -> #DIV/0! | I201: =+ROUND(AVERAGE(D201:E201),0) -> #DIV/0!
A202: 197 | B202: CRUCETA PARA CAMIONETA FRONTIER RIN 16 | C202: UNIDAD | D202: N/A | E202: N/A | F202: =+_xlfn.STDEV.S(D202:E202) -> #DIV/0! | G202: =+AVERAGE(D202:E202) -> #DIV/0! | H202: =+F202/G202 -> #DIV/0! | I202: =+ROUND(AVERAGE(D202:E202),0) -> #DIV/0!
A203: 198 | B203: KIT DE CARRETERA OBLIGATORIO | C203: UNIDAD | D203: 274657.13 | E203: 307182.32 | F203: =+_xlfn.STDEV.S(D203:E203) -> 22998.78 | G203: =+AVERAGE(D203:E203) -> 290919.72 | H203: =+F203/G203 -> 0.079055417 | I203: =+ROUND(AVERAGE(D203:E203),0) -> 290920
A204: 199 | B204: RETENEDOR DE INYECTOR | C204: UNIDAD | D204: 312990.64 | E204: 350055.33 | F204: =+_xlfn.STDEV.S(D204:E204) -> 26208.688 | G204: =+AVERAGE(D204:E204) -> 331522.99 | H204: =+F204/G204 -> 0.079055417 | I204: =+ROUND(AVERAGE(D204:E204),0) -> 331523
A205: 200 | B205: VALVULA DEL RIEL | C205: UNIDAD | D205: 975807.9 | E205: 1091364.1 | F205: =+_xlfn.STDEV.S(D205:E205) -> 81710.572 | G205: =+AVERAGE(D205:E205) -> 1033586 | H205: =+F205/G205 -> 0.079055417 | I205: =+ROUND(AVERAGE(D205:E205),0) -> 1033586
A206: 201 | B206: EMPAQUETADURA BOMBA DE ALTA | C206: UNIDAD | D206: 571265.57 | E206: 638915.44 | F206: =+_xlfn.STDEV.S(D206:E206) -> 47835.682 | G206: =+AVERAGE(D206:E206) -> 605090.5 | H206: =+F206/G206 -> 0.079055417 | I206: =+ROUND(AVERAGE(D206:E206),0) -> 605091
A207: 202 | B207: BOMBA DE ALTA | C207: UNIDAD | D207: 10773000 | E207: 12048750 | F207: =+_xlfn.STDEV.S(D207:E207) -> 902091.48 | G207: =+AVERAGE(D207:E207) -> 11410875 | H207: =+F207/G207 -> 0.079055417 | I207: =+ROUND(AVERAGE(D207:E207),0) -> 11410875
A208: 203 | B208: ELECTROVALVULA SCV PARA BOMBA DE ALTA | C208: UNIDAD | D208: 1171321 | E208: 1310030.1 | F208: =+_xlfn.STDEV.S(D208:E208) -> 98082.122 | G208: =+AVERAGE(D208:E208) -> 1240675.5 | H208: =+F208/G208 -> 0.079055417 | I208: =+ROUND(AVERAGE(D208:E208),0) -> 1240676
A209: 204 | B209: VALVULA DE PRESION BOMBA ALTA | C209: UNIDAD | D209: 508806.15 | E209: 569059.51 | F209: =+_xlfn.STDEV.S(D209:E209) -> 42605.559 | G209: =+AVERAGE(D209:E209) -> 538932.83 | H209: =+F209/G209 -> 0.079055417 | I209: =+ROUND(AVERAGE(D209:E209),0) -> 538933
A210: 205 | B210: EMPAQUETADURA BOMBA LINEAL | C210: UNIDAD | D210: N/A | E210: N/A | F210: =+_xlfn.STDEV.S(D210:E210) -> #DIV/0! | G210: =+AVERAGE(D210:E210) -> #DIV/0! | H210: =+F210/G210 -> #DIV/0! | I210: =+ROUND(AVERAGE(D210:E210),0) -> #DIV/0!
A211: 206 | B211: ACEITE COMPRESOR AIRE ACONDICIONADO | C211: UNIDAD | D211: 132594.41 | E211: 148296.38 | F211: =+_xlfn.STDEV.S(D211:E211) -> 11102.97 | G211: =+AVERAGE(D211:E211) -> 140445.4 | H211: =+F211/G211 -> 0.079055417 | I211: =+ROUND(AVERAGE(D211:E211),0) -> 140445
A212: 207 | B212: VALVULA INYECTOR UNIDAD | C212: UNIDAD | D212: 756380.47 | E212: 845951.84 | F212: =+_xlfn.STDEV.S(D212:E212) -> 63336.524 | G212: =+AVERAGE(D212:E212) -> 801166.16 | H212: =+F212/G212 -> 0.079055417 | I212: =+ROUND(AVERAGE(D212:E212),0) -> 801166
A213: 208 | B213: EMPAQUETADURA DE INYECTOR | C213: JUEGO | D213: 182017.63 | E213: 203572.35 | F213: =+_xlfn.STDEV.S(D213:E213) -> 15241.488 | G213: =+AVERAGE(D213:E213) -> 192794.99 | H213: =+F213/G213 -> 0.079055417 | I213: =+ROUND(AVERAGE(D213:E213),0) -> 192795
A214: 209 | B214: EMPAQUETADURA BOMBA DE INYECCION | C214: JUEGO | D214: 358096.67 | E214: 400502.85 | F214: =+_xlfn.STDEV.S(D214:E214) -> 29985.701 | G214: =+AVERAGE(D214:E214) -> 379299.76 | H214: =+F214/G214 -> 0.079055417 | I214: =+ROUND(AVERAGE(D214:E214),0) -> 379300
A215: 210 | B215: TOBERAS DE INYECTORES | C215: JUEGO | D215: 253288.95 | E215: 283283.69 | F215: =+_xlfn.STDEV.S(D215:E215) -> 21209.487 | G215: =+AVERAGE(D215:E215) -> 268286.32 | H215: =+F215/G215 -> 0.079055417 | I215: =+ROUND(AVERAGE(D215:E215),0) -> 268286
A216: 211 | B216: GUARDAPOLVOS EJES | C216: UNIDAD | D216: 138624.86 | E216: 155040.96 | F216: =+_xlfn.STDEV.S(D216:E216) -> 11607.937 | G216: =+AVERAGE(D216:E216) -> 146832.91 | H216: =+F216/G216 -> 0.079055417 | I216: =+ROUND(AVERAGE(D216:E216),0) -> 146833
A217: 212 | B217: GUARDAPOLVOS AMORTIGUADORES | C217: UNIDAD | D217: 207480 | E217: 232050 | F217: =+_xlfn.STDEV.S(D217:E217) -> 17373.614 | G217: =+AVERAGE(D217:E217) -> 219765 | H217: =+F217/G217 -> 0.079055417 | I217: =+ROUND(AVERAGE(D217:E217),0) -> 219765
A218: 213 | B218: TUERCAS ESPARRAGOS POR UNIDAD | C218: UNIDAD | D218: 69890.393 | E218: 78166.887 | F218: =+_xlfn.STDEV.S(D218:E218) -> 5852.365 | G218: =+AVERAGE(D218:E218) -> 74028.64 | H218: =+F218/G218 -> 0.079055417 | I218: =+ROUND(AVERAGE(D218:E218),0) -> 74029
A219: 214 | B219: EMPAQUE MULTIPLE EXOSTO | C219: JUEGO | D219: 484120 | E219: 541450 | F219: =+_xlfn.STDEV.S(D219:E219) -> 40538.432 | G219: =+AVERAGE(D219:E219) -> 512785 | H219: =+F219/G219 -> 0.079055417 | I219: =+ROUND(AVERAGE(D219:E219),0) -> 512785
A220: 215 | B220: MOFLE Y EXOSTO | C220: JUEGO | D220: 2021600 | E220: 2261000 | F220: =+_xlfn.STDEV.S(D220:E220) -> 169281.36 | G220: =+AVERAGE(D220:E220) -> 2141300 | H220: =+F220/G220 -> 0.079055417 | I220: =+ROUND(AVERAGE(D220:E220),0) -> 2141300
A221: 216 | B221: BOMBONA DE EXOSTO | C221: UNIDAD | D221: 2234400 | E221: 2499000 | F221: =+_xlfn.STDEV.S(D221:E221) -> 187100.45 | G221: =+AVERAGE(D221:E221) -> 2366700 | H221: =+F221/G221 -> 0.079055417 | I221: =+ROUND(AVERAGE(D221:E221),0) -> 2366700
A222: 217 | B222: KIT CALIPER (SELLO Y/O ORING PISTON, GUARDAPOLVOS DE PASADORES Y PISTON, ANTIRUIDOS, PASADORES Y GUIAS O BUJES PASADORES Y TORNILLOS) | C222: GLOBAL | D222: 558600 | E222: 624750 | F222: =+_xlfn.STDEV.S(D222:E222) -> 46775.114 | G222: =+AVERAGE(D222:E222) -> 591675 | H222: =+F222/G222 -> 0.079055417 | I222: =+ROUND(AVERAGE(D222:E222),0) -> 591675
... A308: 303 | B308: TAPA YUGO DESLIZANTE DE ESCUALIZACION O TUERCA AJUSTE LATERAL | C308: UNIDAD | D308: 96554.335 | E308: 104739.89 | F308: =+_xlfn.STDEV.S(D308:E308) -> 5788.061 | G308: =+AVERAGE(D308:E308) -> 100647.11 | H308: =+F308/G308 -> 0.057508466 | I308: =+ROUND(AVERAGE(D308:E308),0) -> 100647
A309: 304 | B309: RODILLOS PORTA SPEED | C309: UNIDAD | D309: N/A | E309: N/A | F309: =+_xlfn.STDEV.S(D309:E309) -> #DIV/0! | G309: =+AVERAGE(D309:E309) -> #DIV/0! | H309: =+F309/G309 -> #DIV/0! | I309: =+ROUND(AVERAGE(D309:E309),0) -> #DIV/0!
A310: 305 | B310: PORTA SPEED | C310: UNIDAD | D310: 1577327.8 | E310: 1711048.4 | F310: =+_xlfn.STDEV.S(D310:E310) -> 94554.736 | G310: =+AVERAGE(D310:E310) -> 1644188.1 | H310: =+F310/G310 -> 0.057508466 | I310: =+ROUND(AVERAGE(D310:E310),0) -> 1644188
...

Sheet FORMATO 9. OFERTA ECONOMICA
A1: FORMATO No. 9 OFERTA ECONÓMICA IMC-89-010-2026
A3: IMC-89-010-2026 - OBJETO: Prestación del servicio de mantenimiento integral y puesta en funcionamiento del sistema de cerca eléctrica perimetral de la Dirección Seccional de Aduanas de Cúcuta.
A5: ITEM | B5: DESCRIPCIÓN | C5: UNIDAD | D5: CANTIDAD | E5: PRECIO UNITARIO DE REFERENCIA IVA INCLUIDO | F5: OFERTA PROPONENTE IVA INCLUIDO
A7: 1 | B7: Revisión técnica integral del sistema de cerca eléctrica y elaboración de diagnóstico inicial. | C7: Global | D7: 1 | E7: 659500
A8: 2 | B8: Retiro de líneas de alambre en mal estado, caídas, rotas y/o sin empalme. | C8: m | D8: 488 | E8: 4217053
A9: 3 | B9: Retiro de aisladores plásticos en mal estado, rotos o dañados. | C9: unidad | D9: 280 | E9: 1749520
A10: 4 | B10: Ajuste de parales tubulares metálicos de sostenimiento de líneas, ajuste de soldadura, anclaje al muro, atornillado (no incluye pintura). | C10: unidad | D10: 46 | E10: 3661129
A11: 5 | B11: Suministro e instalación de central para cerco eléctrico perimetral que incluya equipos de pulsos eléctricos para energizar el sistema con sirena, batería de respaldo, tarjeta electrónica, mando de control y alarma. | C11: unidad | D11: 2 | E11: 5952743
A12: 6 | B12: Instalación eléctrica con su respectiva acometida eléctrica independiente para sistema central. | C12: unidad | D12: 2 | E12: 2828800
A13: 7 | B13: Sistema de puesta a tierra | C13: unidad | D13: 1 | E13: 1161333
A14: 8 | B14: Elaboración de empalmes eléctricos en todo el cercado perimetral entre sectores en todo el recorrido perimetral para la transmisión continua del pulso eléctrico. | C14: unidad | D14: 260 | E14: 6509567
A15: 9 | B15: Instalación de avisos “Peligro Cerca Eléctrica” | C15: unidad | D15: 150 | E15: 5247590
A16: TOTAL | E16: =SUM(E7:E15) -> 31987235 | F16: =+SUM(F7:F15) -> 0
