Workbook

Sheet PRECIOS DE REFERENCIA (2)
A1: ITEMS | B1: DESCRIPCIÓN | C1: MEDIDA | D1: VOLKSWAGEN AMAROK MOD 2015 | E1: NISSAN FRONTIER NP 300 - MOD 2014 | F1: MICROBUS RENAULT MOD 2014 | G1: MITSUBISHI CANTER MOD 2003 | H1: TOYOTA LAND CRUISER MOD 2015
A3: 1 | B3: LAVADO SENCILLO EXTERNO,INTERNO,ASPIRADA | C3: UNIDAD | D3: =+'VOLKSWAGEN AMAROK MOD 2015'!I6 -> 58520 | E3: =+'NISSAN FRONTIER NP 300 - MOD'!I6 -> 57479 | F3: =+'MICROBUS RENAULT MOD 2014'!I6 -> 65692 | G3: =+'MITSUBISHI CANTER MOD 2003'!I6 -> 62959 | H3: =+'TOYOTA LAND CRUISER'!I6 -> 72310
A4: 2 | B4: LAVADO GENERAL INCLUYE ASPIRADA, LAVADO DEL MOTOR Y CHASIS EN CARCAMO | C4: UNIDAD | D4: =+'VOLKSWAGEN AMAROK MOD 2015'!I7 -> 107714 | E4: =+'NISSAN FRONTIER NP 300 - MOD'!I7 -> 106756 | F4: =+'MICROBUS RENAULT MOD 2014'!I7 -> 117581 | G4: =+'MITSUBISHI CANTER MOD 2003'!I7 -> 99861 | H4: =+'TOYOTA LAND CRUISER'!I7 -> 124374
A5: 3 | B5: LAVADO GENERAL CON DESMANCHADO Y PULIDA | C5: UNIDAD | D5: =+'VOLKSWAGEN AMAROK MOD 2015'!I8 -> 173498 | E5: =+'NISSAN FRONTIER NP 300 - MOD'!I8 -> 171956 | F5: =+'MICROBUS RENAULT MOD 2014'!I8 -> 189159 | G5: =+'MITSUBISHI CANTER MOD 2003'!I8 -> 170294 | H5: =+'TOYOTA LAND CRUISER'!I8 -> 210343
A6: 4 | B6: LAVADO TAPICERIA | C6: UNIDAD | D6: =+'VOLKSWAGEN AMAROK MOD 2015'!I9 -> 252792 | E6: =+'NISSAN FRONTIER NP 300 - MOD'!I9 -> 256163 | F6: =+'MICROBUS RENAULT MOD 2014'!I9 -> 282412 | G6: =+'MITSUBISHI CANTER MOD 2003'!I9 -> 206622 | H6: =+'TOYOTA LAND CRUISER'!I9 -> 319338
A7: 5 | B7: ENGRASE GENERAL | C7: GLOBAL | D7: =+'VOLKSWAGEN AMAROK MOD 2015'!I10 -> 46467 | E7: =+'NISSAN FRONTIER NP 300 - MOD'!I10 -> 47150 | F7: =+'MICROBUS RENAULT MOD 2014'!I10 -> 50381 | G7: =+'MITSUBISHI CANTER MOD 2003'!I10 -> 49210 | H7: =+'TOYOTA LAND CRUISER'!I10 -> 74772
A8: 6 | B8: REVISION GENERAL, AJUSTE Y MANTENIMIENTO DEL SISTEMA DE FRENOS INCLUYE: REVISION DE GAS,TUBERIAS,MANGUERAS,REVISION DE FLUIDOS. | C8: UNIDAD | D8: =+'VOLKSWAGEN AMAROK MOD 2015'!I11 -> 171612 | E8: =+'NISSAN FRONTIER NP 300 - MOD'!I11 -> 173655 | F8: =+'MICROBUS RENAULT MOD 2014'!I11 -> 203357 | G8: =+'MITSUBISHI CANTER MOD 2003'!I11 -> 172208 | H8: =+'TOYOTA LAND CRUISER'!I11 -> 172208
A9: 7 | B9: DESMONTAJE Y MONTAJE COMPONENTES FRENO DE DISCO (PASTILLAS,MORDAZAS,DISCOS,CILINDROS, ETC) | C9: GLOBAL | D9: =+'VOLKSWAGEN AMAROK MOD 2015'!I12 -> 135801 | E9: =+'NISSAN FRONTIER NP 300 - MOD'!I12 -> 135801 | F9: =+'MICROBUS RENAULT MOD 2014'!I12 -> 162713 | G9: =+'MITSUBISHI CANTER MOD 2003'!I12 -> 137837 | H9: =+'TOYOTA LAND CRUISER'!I12 -> 136232
A10: 8 | B10: DESMONTAJE Y MONTAJE BOMBA DE FRENO | C10: UNIDAD | D10: =+'VOLKSWAGEN AMAROK MOD 2015'!I13 -> 167038 | E10: =+'NISSAN FRONTIER NP 300 - MOD'!I13 -> 165573 | F10: =+'MICROBUS RENAULT MOD 2014'!I13 -> 195367 | G10: =+'MITSUBISHI CANTER MOD 2003'!I13 -> 144526 | H10: =+'TOYOTA LAND CRUISER'!I13 -> 161910
A11: 9 | B11: DESMONTAJE Y MONTAJE DE MODULO ABS | C11: UNIDAD | D11: =+'VOLKSWAGEN AMAROK MOD 2015'!I14 -> 282579 | E11: N/A | F11: =+'MICROBUS RENAULT MOD 2014'!I14 -> 52731 | G11: N/A | H11: =+'TOYOTA LAND CRUISER'!I14 -> 232208
A12: 10 | B12: DESMONTAJE Y MONTAJE DE SENSOR | C12: UNIDAD | D12: =+'VOLKSWAGEN AMAROK MOD 2015'!I15 -> 141216 | E12: N/A | F12: =+'MICROBUS RENAULT MOD 2014'!I15 -> 48906 | G12: N/A | H12: =+'TOYOTA LAND CRUISER'!I15 -> 116044
A13: 11 | B13: DESMONTAJE Y MONTAJE INCLUYE RECTIFICACION DE DISCO O CAMPANA | C13: UNIDAD | D13: =+'VOLKSWAGEN AMAROK MOD 2015'!I16 -> 104480 | E13: =+'NISSAN FRONTIER NP 300 - MOD'!I16 -> 130361 | F13: =+'MICROBUS RENAULT MOD 2014'!I16 -> 106632 | G13: =+'MITSUBISHI CANTER MOD 2003'!I16 -> 106268 | H13: =+'TOYOTA LAND CRUISER'!I16 -> 102169
A14: 12 | B14: DESMONTAJE Y MONTAJE COMPONENTES FRENOS TRASERO Y/O FRENO TAMBOR | C14: GLOBAL | D14: =+'VOLKSWAGEN AMAROK MOD 2015'!I17 -> 658690 | E14: =+'NISSAN FRONTIER NP 300 - MOD'!I17 -> 779225 | F14: =+'MICROBUS RENAULT MOD 2014'!I17 -> 645360 | G14: =+'MITSUBISHI CANTER MOD 2003'!I17 -> 642079 | H14: =+'TOYOTA LAND CRUISER'!I17 -> 649868
A15: 13 | B15: GRADUACIÓN SISTEMA DE FRENOS RUEDA TRASERA | C15: GLOBAL | D15: =+'VOLKSWAGEN AMAROK MOD 2015'!I18 -> 291996 | E15: =+'NISSAN FRONTIER NP 300 - MOD'!I18 -> 345430 | F15: =+'MICROBUS RENAULT MOD 2014'!I18 -> 286088 | G15: =+'MITSUBISHI CANTER MOD 2003'!I18 -> 284633 | H15: =+'TOYOTA LAND CRUISER'!I18 -> 288086
A16: 14 | B16: CAMBIO GUAYA FRENO DE MANO | C16: UNIDAD | D16: =+'VOLKSWAGEN AMAROK MOD 2015'!I19 -> 196928 | E16: =+'NISSAN FRONTIER NP 300 - MOD'!I19 -> 232964 | F16: =+'MICROBUS RENAULT MOD 2014'!I19 -> 192943 | G16: =+'MITSUBISHI CANTER MOD 2003'!I19 -> 191962 | H16: =+'TOYOTA LAND CRUISER'!I19 -> 194290
A17: 15 | B17: CAMBIO KIT CALIPER (SELLO Y/O ORING PISTON, GUARDAPOLVOS DE PASADORES Y PISTON, ANTIRUIDOS, PASADORES Y GUIAS O BUJES PASADORES Y TORNILLOS) | C17: JUEGO | D17: =+'VOLKSWAGEN AMAROK MOD 2015'!I20 -> 1072320 | E17: =+'NISSAN FRONTIER NP 300 - MOD'!I20 -> 1268547 | F17: =+'MICROBUS RENAULT MOD 2014'!I20 -> 1050620 | G17: =+'MITSUBISHI CANTER MOD 2003'!I20 -> 1045279 | H17: =+'TOYOTA LAND CRUISER'!I20 -> 1057958
A18: 16 | B18: DESMONTAJE Y MONTAJE BRAZOS AXIALES | C18: UNIDAD | D18: =+'VOLKSWAGEN AMAROK MOD 2015'!I21 -> 126097 | E18: =+'NISSAN FRONTIER NP 300 - MOD'!I21 -> 127510 | F18: =+'MICROBUS RENAULT MOD 2014'!I21 -> 125969 | G18: =+'MITSUBISHI CANTER MOD 2003'!I21 -> 115311 | H18: =+'TOYOTA LAND CRUISER'!I21 -> 191796
A19: 17 | B19: DESMONTAJE Y MONTAJE DE TERMINAL DIRECCION | C19: UNIDAD | D19: =+'VOLKSWAGEN AMAROK MOD 2015'!I22 -> 500359 | E19: =+'NISSAN FRONTIER NP 300 - MOD'!I22 -> 501942 | F19: =+'MICROBUS RENAULT MOD 2014'!I22 -> 392795 | G19: =+'MITSUBISHI CANTER MOD 2003'!I22 -> 385978 | H19: =+'TOYOTA LAND CRUISER'!I22 -> 549655
A20: 18 | B20: DESMONTAJE Y MONTAJE DE TIJERAS | C20: UNIDAD | D20: =+'VOLKSWAGEN AMAROK MOD 2015'!I23 -> 124510 | E20: =+'NISSAN FRONTIER NP 300 - MOD'!I23 -> 126710 | F20: =+'MICROBUS RENAULT MOD 2014'!I23 -> 126098 | G20: =+'MITSUBISHI CANTER MOD 2003'!I23 -> 131733 | H20: =+'TOYOTA LAND CRUISER'!I23 -> 202640
A21: 19 | B21: DESMONTAJE Y MONTAJE DE COLGANTES | C21: UNIDAD | D21: =+'VOLKSWAGEN AMAROK MOD 2015'!I24 -> 375269 | E21: =+'NISSAN FRONTIER NP 300 - MOD'!I24 -> 379098 | F21: =+'MICROBUS RENAULT MOD 2014'!I24 -> 262082 | G21: =+'MITSUBISHI CANTER MOD 2003'!I24 -> 263466 | H21: =+'TOYOTA LAND CRUISER'!I24 -> 410586
A22: 20 | B22: DESMONTAJE Y MONTAJE BUJES DE TIJERAS (INCLUYE SUPERIOR E INFERIOR / IZQUIERDO Y DERECHO, SERVICIO DE PRENSA) | C22: JUEGO | D22: =+'VOLKSWAGEN AMAROK MOD 2015'!I25 -> 213311 | E22: =+'NISSAN FRONTIER NP 300 - MOD'!I25 -> 214371 | F22: =+'MICROBUS RENAULT MOD 2014'!I25 -> 212287 | G22: =+'MITSUBISHI CANTER MOD 2003'!I25 -> 214082 | H22: =+'TOYOTA LAND CRUISER'!I25 -> 214082
A23: 21 | B23: DESMONTAJE Y MONTAJE DE MOÑONAS (SERVICIO DE PRENSA INCLUIDO) | C23: UNIDAD | D23: =+'VOLKSWAGEN AMAROK MOD 2015'!I26 -> 163300 | E23: =+'NISSAN FRONTIER NP 300 - MOD'!I26 -> 164857 | F23: =+'MICROBUS RENAULT MOD 2014'!I26 -> 164310 | G23: =+'MITSUBISHI CANTER MOD 2003'!I26 -> 165700 | H23: =+'TOYOTA LAND CRUISER'!I26 -> 210725
A24: 22 | B24: DESMONTAJE Y MONTAJE DE AMORTIGUADORES DELANTEROS | C24: JUEGO | D24: =+'VOLKSWAGEN AMAROK MOD 2015'!I27 -> 278643 | E24: =+'NISSAN FRONTIER NP 300 - MOD'!I27 -> 281299 | F24: =+'MICROBUS RENAULT MOD 2014'!I27 -> 305771 | G24: =+'MITSUBISHI CANTER MOD 2003'!I27 -> 280451 | H24: =+'TOYOTA LAND CRUISER'!I27 -> 403276
... A33: 31 | B33: DESMONTAJE Y MONTAJE DE PUNTA DE EJE LADO RUEDA | C33: UNIDAD | D33: =+'VOLKSWAGEN AMAROK MOD 2015'!I36 -> 335312 | E33: =+'NISSAN FRONTIER NP 300 - MOD'!I36 -> 346327 | F33: =+'MICROBUS RENAULT MOD 2014'!I36 -> 335302 | G33: =+'MITSUBISHI CANTER MOD 2003'!I36 -> 331118 | H33: =+'TOYOTA LAND CRUISER'!I36 -> 357552
A34: 32 | B34: DESMONTAJE Y MONTAJE CUNA SUSPENSION | C34: UNIDAD | D34: N/A | E34: N/A | F34: N/A | G34: N/A | H34: N/A
A35: 33 | B35: DESMONTAJE Y MONTAJE PERNO DE RUEDA | C35: UNIDAD | D35: =+'VOLKSWAGEN AMAROK MOD 2015'!I38 -> 108543 | E35: =+'NISSAN FRONTIER NP 300 - MOD'!I38 -> 111217 | F35: =+'MICROBUS RENAULT MOD 2014'!I38 -> 111269 | G35: =+'MITSUBISHI CANTER MOD 2003'!I38 -> 106897 | H35: =+'TOYOTA LAND CRUISER'!I38 -> 116104
A36: 34 | B36: DESMONTAJE Y MONTAJE HOJA PRINCIPAL DEL MUELLE | C36: UNIDAD | D36: =+'VOLKSWAGEN AMAROK MOD 2015'!I39 -> 281407 | E36: =+'NISSAN FRONTIER NP 300 - MOD'!I39 -> 288341 | F36: =+'MICROBUS RENAULT MOD 2014'!I39 -> 288474 | G36: =+'MITSUBISHI CANTER MOD 2003'!I39 -> 277139 | H36: =+'TOYOTA LAND CRUISER'!I39 -> 301012
A37: 35 | B37: DESMONTAJE Y MONTAJE CREMALLERA DIRECCION | C37: UNIDAD | D37: =+'VOLKSWAGEN AMAROK MOD 2015'!I40 -> 474372 | E37: =+'NISSAN FRONTIER NP 300 - MOD'!I40 -> 486060 | F37: =+'MICROBUS RENAULT MOD 2014'!I40 -> 486285 | G37: =+'MITSUBISHI CANTER MOD 2003'!I40 -> 467177 | H37: =+'TOYOTA LAND CRUISER'!I40 -> 507419
A38: 36 | B38: DESMONTAJE Y MONTAJE BUJE CREMALLERA | C38: UNIDAD | D38: =+'VOLKSWAGEN AMAROK MOD 2015'!I41 -> 318784 | E38: =+'NISSAN FRONTIER NP 300 - MOD'!I41 -> 325181 | F38: =+'MICROBUS RENAULT MOD 2014'!I41 -> 327701 | G38: =+'MITSUBISHI CANTER MOD 2003'!I41 -> 317206 | H38: =+'TOYOTA LAND CRUISER'!I41 -> 341146
A39: 37 | B39: DESMONTAJE Y MONTAJE COLUMNA DIRECCION | C39: UNIDAD | D39: =+'VOLKSWAGEN AMAROK MOD 2015'!I42 -> 427947 | E39: =+'NISSAN FRONTIER NP 300 - MOD'!I42 -> 436535 | F39: =+'MICROBUS RENAULT MOD 2014'!I42 -> 439917 | G39: =+'MITSUBISHI CANTER MOD 2003'!I42 -> 425830 | H39: =+'TOYOTA LAND CRUISER'!I42 -> 452687
A40: 38 | B40: DESMONTAJE Y MONTAJE BIELA DE DIRECCION | C40: UNIDAD | D40: =+'VOLKSWAGEN AMAROK MOD 2015'!I43 -> 221006 | E40: =+'NISSAN FRONTIER NP 300 - MOD'!I43 -> 225441 | F40: =+'MICROBUS RENAULT MOD 2014'!I43 -> 227187 | G40: =+'MITSUBISHI CANTER MOD 2003'!I43 -> 219912 | H40: =+'TOYOTA LAND CRUISER'!I43 -> 233782
A41: 39 | B41: DESMONTAJE Y MONTAJE BARRA LARGA DE LA DIRECCIÓN | C41: UNIDAD | D41: =+'VOLKSWAGEN AMAROK MOD 2015'!I44 -> 415734 | E41: =+'NISSAN FRONTIER NP 300 - MOD'!I44 -> 428073 | F41: =+'MICROBUS RENAULT MOD 2014'!I44 -> 427363 | G41: =+'MITSUBISHI CANTER MOD 2003'!I44 -> 421064 | H41: =+'TOYOTA LAND CRUISER'!I44 -> 439768
A42: 40 | B42: DESMONTAJE Y MONTAJE BARRA CORTA DE LA DIRECCIÓN | C42: UNIDAD | D42: =+'VOLKSWAGEN AMAROK MOD 2015'!I45 -> 433800 | E42: =+'NISSAN FRONTIER NP 300 - MOD'!I45 -> 438138 | F42: =+'MICROBUS RENAULT MOD 2014'!I45 -> 430232 | G42: =+'MITSUBISHI CANTER MOD 2003'!I45 -> 430965 | H42: =+'TOYOTA LAND CRUISER'!I45 -> 456368
A43: 41 | B43: DESMONTAJE Y MONTAJE BUJE SUJECION CAJA DIRECCION | C43: UNIDAD | D43: =+'VOLKSWAGEN AMAROK MOD 2015'!I46 -> 210366 | E43: =+'NISSAN FRONTIER NP 300 - MOD'!I46 -> 212470 | F43: =+'MICROBUS RENAULT MOD 2014'!I46 -> 208636 | G43: =+'MITSUBISHI CANTER MOD 2003'!I46 -> 208991 | H43: =+'TOYOTA LAND CRUISER'!I46 -> 221310
A44: 42 | B44: DESMONTAJE Y MONTAJE EMPAQUETADURA COMPLETA CREMALLERA DIRECCION | C44: JUEGO | D44: =+'VOLKSWAGEN AMAROK MOD 2015'!I47 -> 969523 | E44: =+'NISSAN FRONTIER NP 300 - MOD'!I47 -> 992274 | F44: =+'MICROBUS RENAULT MOD 2014'!I47 -> 961548 | G44: =+'MITSUBISHI CANTER MOD 2003'!I47 -> 967411 | H44: =+'TOYOTA LAND CRUISER'!I47 -> 1019962
A45: 43 | B45: DESMONTAJE Y MONTAJE RETENEDOR CREMALLERA DIRECCION | C45: UNIDAD | D45: =+'VOLKSWAGEN AMAROK MOD 2015'!I48 -> 704156 | E45: =+'NISSAN FRONTIER NP 300 - MOD'!I48 -> 733724 | F45: =+'MICROBUS RENAULT MOD 2014'!I48 -> 717808 | G45: =+'MITSUBISHI CANTER MOD 2003'!I48 -> 715339 | H45: =+'TOYOTA LAND CRUISER'!I48 -> 759871
A46: 44 | B46: DESMONTAJE Y MONTAJE RODAMIENTO CREMALLERA DIRECCION | C46: UNIDAD | D46: =+'VOLKSWAGEN AMAROK MOD 2015'!I49 -> 669877 | E46: =+'NISSAN FRONTIER NP 300 - MOD'!I49 -> 698006 | F46: =+'MICROBUS RENAULT MOD 2014'!I49 -> 682865 | G46: =+'MITSUBISHI CANTER MOD 2003'!I49 -> 680516 | H46: =+'TOYOTA LAND CRUISER'!I49 -> 722880
... A54: 52 | B54: CAMBIO DE POLEAS | C54: GLOBAL | D54: =+'VOLKSWAGEN AMAROK MOD 2015'!I57 -> 171474 | E54: =+'NISSAN FRONTIER NP 300 - MOD'!I57 -> 171094 | F54: =+'MICROBUS RENAULT MOD 2014'!I57 -> 187411 | G54: =+'MITSUBISHI CANTER MOD 2003'!I57 -> 179202 | H54: =+'TOYOTA LAND CRUISER'!I57 -> 310297
A55: 53 | B55: MANTENIMIENTO GENERAL AL SISTEMA DE AIRE ACONDICIONADO | C55: UNIDAD | D55: =+'VOLKSWAGEN AMAROK MOD 2015'!I58 -> 278299 | E55: =+'NISSAN FRONTIER NP 300 - MOD'!I58 -> 277682 | F55: =+'MICROBUS RENAULT MOD 2014'!I58 -> 277811 | G55: N/A | H55: =+'TOYOTA LAND CRUISER'!I58 -> 760462
A56: 54 | B56: CAMBIO MANGUERA PRESION LIQUIDO HIDRAHULICO | C56: UNIDAD | D56: =+'VOLKSWAGEN AMAROK MOD 2015'!I59 -> 144474 | E56: =+'NISSAN FRONTIER NP 300 - MOD'!I59 -> 144154 | F56: =+'MICROBUS RENAULT MOD 2014'!I59 -> 148928 | G56: =+'MITSUBISHI CANTER MOD 2003'!I59 -> 141235 | H56: =+'TOYOTA LAND CRUISER'!I59 -> 168166
...

Sheet PRECIOS DE REFERENCIA 6
A1: ITEMS | B1: DESCRIPCIÓN | C1: MEDIDA | D1: VOLKSWAGEN AMAROK MOD 2015 | E1: NISSAN FRONTIER NP 300 - MOD 2014 | F1: MICROBUS RENAULT MOD 2014 | G1: MITSUBISHI CANTER MOD 2003 | H1: TOYOTA LAND CRUISER MOD 2015
A3: LAVADO Y CUIDADO EXTERIOR E INTERIOR
A4: 1 | B4: LAVADO SENCILLO EXTERNO,INTERNO,ASPIRADA | C4: UNIDAD | D4: =+'VOLKSWAGEN AMAROK MOD 2015'!I6 -> 58520 | E4: =+'NISSAN FRONTIER NP 300 - MOD'!I6 -> 57479 | F4: =+'MICROBUS RENAULT MOD 2014'!I6 -> 65692 | G4: =+'MITSUBISHI CANTER MOD 2003'!I6 -> 62959 | H4: =+'TOYOTA LAND CRUISER'!I6 -> 72310
A5: 2 | B5: LAVADO GENERAL INCLUYE ASPIRADA, LAVADO DEL MOTOR Y CHASIS EN CARCAMO | C5: UNIDAD | D5: =+'VOLKSWAGEN AMAROK MOD 2015'!I7 -> 107714 | E5: =+'NISSAN FRONTIER NP 300 - MOD'!I7 -> 106756 | F5: =+'MICROBUS RENAULT MOD 2014'!I7 -> 117581 | G5: =+'MITSUBISHI CANTER MOD 2003'!I7 -> 99861 | H5: =+'TOYOTA LAND CRUISER'!I7 -> 124374
A6: 3 | B6: LAVADO GENERAL CON DESMANCHADO Y PULIDA | C6: UNIDAD | D6: =+'VOLKSWAGEN AMAROK MOD 2015'!I8 -> 173498 | E6: =+'NISSAN FRONTIER NP 300 - MOD'!I8 -> 171956 | F6: =+'MICROBUS RENAULT MOD 2014'!I8 -> 189159 | G6: =+'MITSUBISHI CANTER MOD 2003'!I8 -> 170294 | H6: =+'TOYOTA LAND CRUISER'!I8 -> 210343
A7: 4 | B7: LAVADO TAPICERIA | C7: UNIDAD | D7: =+'VOLKSWAGEN AMAROK MOD 2015'!I9 -> 252792 | E7: =+'NISSAN FRONTIER NP 300 - MOD'!I9 -> 256163 | F7: =+'MICROBUS RENAULT MOD 2014'!I9 -> 282412 | G7: =+'MITSUBISHI CANTER MOD 2003'!I9 -> 206622 | H7: =+'TOYOTA LAND CRUISER'!I9 -> 319338
A8: 5 | B8: ENGRASE GENERAL | C8: GLOBAL | D8: =+'VOLKSWAGEN AMAROK MOD 2015'!I10 -> 46467 | E8: =+'NISSAN FRONTIER NP 300 - MOD'!I10 -> 47150 | F8: =+'MICROBUS RENAULT MOD 2014'!I10 -> 50381 | G8: =+'MITSUBISHI CANTER MOD 2003'!I10 -> 49210 | H8: =+'TOYOTA LAND CRUISER'!I10 -> 74772
A9: REVISION Y REPARACION SISTEMA DE FRENOS, MANO DE OBRA IVA INCLUIDO
A10: 6 | B10: REVISION GENERAL, AJUSTE Y MANTENIMIENTO DEL SISTEMA DE FRENOS INCLUYE: REVISION DE GAS,TUBERIAS,MANGUERAS,REVISION DE FLUIDOS. | C10: UNIDAD | D10: =+'VOLKSWAGEN AMAROK MOD 2015'!I11 -> 171612 | E10: =+'NISSAN FRONTIER NP 300 - MOD'!I11 -> 173655 | F10: =+'MICROBUS RENAULT MOD 2014'!I11 -> 203357 | G10: =+'MITSUBISHI CANTER MOD 2003'!I11 -> 172208 | H10: =+'TOYOTA LAND CRUISER'!I11 -> 172208
A11: 7 | B11: DESMONTAJE Y MONTAJE COMPONENTES FRENO DE DISCO (PASTILLAS,MORDAZAS,DISCOS,CILINDROS, ETC) | C11: GLOBAL | D11: =+'VOLKSWAGEN AMAROK MOD 2015'!I12 -> 135801 | E11: =+'NISSAN FRONTIER NP 300 - MOD'!I12 -> 135801 | F11: =+'MICROBUS RENAULT MOD 2014'!I12 -> 162713 | G11: =+'MITSUBISHI CANTER MOD 2003'!I12 -> 137837 | H11: =+'TOYOTA LAND CRUISER'!I12 -> 136232
A12: 8 | B12: DESMONTAJE Y MONTAJE BOMBA DE FRENO | C12: UNIDAD | D12: =+'VOLKSWAGEN AMAROK MOD 2015'!I13 -> 167038 | E12: =+'NISSAN FRONTIER NP 300 - MOD'!I13 -> 165573 | F12: =+'MICROBUS RENAULT MOD 2014'!I13 -> 195367 | G12: =+'MITSUBISHI CANTER MOD 2003'!I13 -> 144526 | H12: =+'TOYOTA LAND CRUISER'!I13 -> 161910
A13: 9 | B13: DESMONTAJE Y MONTAJE DE MODULO ABS | C13: UNIDAD | D13: =+'VOLKSWAGEN AMAROK MOD 2015'!I14 -> 282579 | E13: N/A | F13: =+'MICROBUS RENAULT MOD 2014'!I14 -> 52731 | G13: N/A | H13: =+'TOYOTA LAND CRUISER'!I14 -> 232208
A14: 10 | B14: DESMONTAJE Y MONTAJE DE SENSOR | C14: UNIDAD | D14: =+'VOLKSWAGEN AMAROK MOD 2015'!I15 -> 141216 | E14: N/A | F14: =+'MICROBUS RENAULT MOD 2014'!I15 -> 48906 | G14: N/A | H14: =+'TOYOTA LAND CRUISER'!I15 -> 116044
A15: 11 | B15: DESMONTAJE Y MONTAJE INCLUYE RECTIFICACION DE DISCO O CAMPANA | C15: UNIDAD | D15: =+'VOLKSWAGEN AMAROK MOD 2015'!I16 -> 104480 | E15: =+'NISSAN FRONTIER NP 300 - MOD'!I16 -> 130361 | F15: =+'MICROBUS RENAULT MOD 2014'!I16 -> 106632 | G15: =+'MITSUBISHI CANTER MOD 2003'!I16 -> 106268 | H15: =+'TOYOTA LAND CRUISER'!I16 -> 102169
A16: 12 | B16: DESMONTAJE Y MONTAJE COMPONENTES FRENOS TRASERO Y/O FRENO TAMBOR | C16: GLOBAL | D16: =+'VOLKSWAGEN AMAROK MOD 2015'!I17 -> 658690 | E16: =+'NISSAN FRONTIER NP 300 - MOD'!I17 -> 779225 | F16: =+'MICROBUS RENAULT MOD 2014'!I17 -> 645360 | G16: =+'MITSUBISHI CANTER MOD 2003'!I17 -> 642079 | H16: =+'TOYOTA LAND CRUISER'!I17 -> 649868
A17: 13 | B17: GRADUACIÓN SISTEMA DE FRENOS RUEDA TRASERA | C17: GLOBAL | D17: =+'VOLKSWAGEN AMAROK MOD 2015'!I18 -> 291996 | E17: =+'NISSAN FRONTIER NP 300 - MOD'!I18 -> 345430 | F17: =+'MICROBUS RENAULT MOD 2014'!I18 -> 286088 | G17: =+'MITSUBISHI CANTER MOD 2003'!I18 -> 284633 | H17: =+'TOYOTA LAND CRUISER'!I18 -> 288086
A18: 14 | B18: CAMBIO GUAYA FRENO DE MANO | C18: UNIDAD | D18: =+'VOLKSWAGEN AMAROK MOD 2015'!I19 -> 196928 | E18: =+'NISSAN FRONTIER NP 300 - MOD'!I19 -> 232964 | F18: =+'MICROBUS RENAULT MOD 2014'!I19 -> 192943 | G18: =+'MITSUBISHI CANTER MOD 2003'!I19 -> 191962 | H18: =+'TOYOTA LAND CRUISER'!I19 -> 194290
A19: 15 | B19: CAMBIO KIT CALIPER (SELLO Y/O ORING PISTON, GUARDAPOLVOS DE PASADORES Y PISTON, ANTIRUIDOS, PASADORES Y GUIAS O BUJES PASADORES Y TORNILLOS) | C19: JUEGO | D19: =+'VOLKSWAGEN AMAROK MOD 2015'!I20 -> 1072320 | E19: =+'NISSAN FRONTIER NP 300 - MOD'!I20 -> 1268547 | F19: =+'MICROBUS RENAULT MOD 2014'!I20 -> 1050620 | G19: =+'MITSUBISHI CANTER MOD 2003'!I20 -> 1045279 | H19: =+'TOYOTA LAND CRUISER'!I20 -> 1057958
A20: REVISION Y REPARACION TREN DELANTERO, MANO DE OBRA IVA INCLUIDO
A21: 16 | B21: DESMONTAJE Y MONTAJE BRAZOS AXIALES | C21: UNIDAD | D21: =+'VOLKSWAGEN AMAROK MOD 2015'!I21 -> 126097 | E21: =+'NISSAN FRONTIER NP 300 - MOD'!I21 -> 127510 | F21: =+'MICROBUS RENAULT MOD 2014'!I21 -> 125969 | G21: =+'MITSUBISHI CANTER MOD 2003'!I21 -> 115311 | H21: =+'TOYOTA LAND CRUISER'!I21 -> 191796
A22: 17 | B22: DESMONTAJE Y MONTAJE DE TERMINAL DIRECCION | C22: UNIDAD | D22: =+'VOLKSWAGEN AMAROK MOD 2015'!I22 -> 500359 | E22: =+'NISSAN FRONTIER NP 300 - MOD'!I22 -> 501942 | F22: =+'MICROBUS RENAULT MOD 2014'!I22 -> 392795 | G22: =+'MITSUBISHI CANTER MOD 2003'!I22 -> 385978 | H22: =+'TOYOTA LAND CRUISER'!I22 -> 549655
A23: 18 | B23: DESMONTAJE Y MONTAJE DE TIJERAS | C23: UNIDAD | D23: =+'VOLKSWAGEN AMAROK MOD 2015'!I23 -> 124510 | E23: =+'NISSAN FRONTIER NP 300 - MOD'!I23 -> 126710 | F23: =+'MICROBUS RENAULT MOD 2014'!I23 -> 126098 | G23: =+'MITSUBISHI CANTER MOD 2003'!I23 -> 131733 | H23: =+'TOYOTA LAND CRUISER'!I23 -> 202640
A24: 19 | B24: DESMONTAJE Y MONTAJE DE COLGANTES | C24: UNIDAD | D24: =+'VOLKSWAGEN AMAROK MOD 2015'!I24 -> 375269 | E24: =+'NISSAN FRONTIER NP 300 - MOD'!I24 -> 379098 | F24: =+'MICROBUS RENAULT MOD 2014'!I24 -> 262082 | G24: =+'MITSUBISHI CANTER MOD 2003'!I24 -> 263466 | H24: =+'TOYOTA LAND CRUISER'!I24 -> 410586
A25: 20 | B25: DESMONTAJE Y MONTAJE BUJES DE TIJERAS (INCLUYE SUPERIOR E INFERIOR / IZQUIERDO Y DERECHO, SERVICIO DE PRENSA) | C25: JUEGO | D25: =+'VOLKSWAGEN AMAROK MOD 2015'!I25 -> 213311 | E25: =+'NISSAN FRONTIER NP 300 - MOD'!I25 -> 214371 | F25: =+'MICROBUS RENAULT MOD 2014'!I25 -> 212287 | G25: =+'MITSUBISHI CANTER MOD 2003'!I25 -> 214082 | H25: =+'TOYOTA LAND CRUISER'!I25 -> 214082
A26: 21 | B26: DESMONTAJE Y MONTAJE DE MOÑONAS (SERVICIO DE PRENSA INCLUIDO) | C26: UNIDAD | D26: =+'VOLKSWAGEN AMAROK MOD 2015'!I26 -> 163300 | E26: =+'NISSAN FRONTIER NP 300 - MOD'!I26 -> 164857 | F26: =+'MICROBUS RENAULT MOD 2014'!I26 -> 164310 | G26: =+'MITSUBISHI CANTER MOD 2003'!I26 -> 165700 | H26: =+'TOYOTA LAND CRUISER'!I26 -> 210725
A27: 22 | B27: DESMONTAJE Y MONTAJE DE AMORTIGUADORES DELANTEROS | C27: JUEGO | D27: =+'VOLKSWAGEN AMAROK MOD 2015'!I27 -> 278643 | E27: =+'NISSAN FRONTIER NP 300 - MOD'!I27 -> 281299 | F27: =+'MICROBUS RENAULT MOD 2014'!I27 -> 305771 | G27: =+'MITSUBISHI CANTER MOD 2003'!I27 -> 280451 | H27: =+'TOYOTA LAND CRUISER'!I27 -> 403276
A28: 23 | B28: DESMONTAJE Y MONTAJE DE AMORTIGUADORES TRASEROS | C28: JUEGO | D28: =+'VOLKSWAGEN AMAROK MOD 2015'!I28 -> 278643 | E28: =+'NISSAN FRONTIER NP 300 - MOD'!I28 -> 279276 | F28: =+'MICROBUS RENAULT MOD 2014'!I28 -> 305771 | G28: =+'MITSUBISHI CANTER MOD 2003'!I28 -> 279820 | H28: =+'TOYOTA LAND CRUISER'!I28 -> 403276
A29: 24 | B29: DESMONTAJE Y MONTAJE GOMAS BARRA ESTABILIZADORA | C29: GLOBAL | D29: =+'VOLKSWAGEN AMAROK MOD 2015'!I29 -> 127747 | E29: =+'NISSAN FRONTIER NP 300 - MOD'!I29 -> 128748 | F29: =+'MICROBUS RENAULT MOD 2014'!I29 -> 133651 | G29: =+'MITSUBISHI CANTER MOD 2003'!I29 -> 138445 | H29: =+'TOYOTA LAND CRUISER'!I29 -> 131358
A30: 25 | B30: DESMONTAJE Y MONTAJE BARRA ESTABILIZADORA | C30: GLOBAL | D30: =+'VOLKSWAGEN AMAROK MOD 2015'!I30 -> 147917 | E30: =+'NISSAN FRONTIER NP 300 - MOD'!I30 -> 151082 | F30: =+'MICROBUS RENAULT MOD 2014'!I30 -> 158938 | G30: =+'MITSUBISHI CANTER MOD 2003'!I30 -> 164815 | H30: =+'TOYOTA LAND CRUISER'!I30 -> 172491
A31: 26 | B31: DESMONTAJE Y MONTAJE TOPE AMORTIGUADOR | C31: UNIDAD | D31: =+'VOLKSWAGEN AMAROK MOD 2015'!I31 -> 147917 | E31: =+'NISSAN FRONTIER NP 300 - MOD'!I31 -> 149226 | F31: =+'MICROBUS RENAULT MOD 2014'!I31 -> 145693 | G31: =+'MITSUBISHI CANTER MOD 2003'!I31 -> 145037 | H31: =+'TOYOTA LAND CRUISER'!I31 -> 145954
A32: 27 | B32: DESMONTAJE Y MONTAJE BASE AMORTIGUADOR | C32: UNIDAD | D32: =+'VOLKSWAGEN AMAROK MOD 2015'!I32 -> 317302 | E32: =+'NISSAN FRONTIER NP 300 - MOD'!I32 -> 325584 | F32: =+'MICROBUS RENAULT MOD 2014'!I32 -> 317875 | G32: =+'MITSUBISHI CANTER MOD 2003'!I32 -> 317873 | H32: =+'TOYOTA LAND CRUISER'!I32 -> 321300
... A36: 31 | B36: DESMONTAJE Y MONTAJE DE PUNTA DE EJE LADO RUEDA | C36: UNIDAD | D36: =+'VOLKSWAGEN AMAROK MOD 2015'!I36 -> 335312 | E36: =+'NISSAN FRONTIER NP 300 - MOD'!I36 -> 346327 | F36: =+'MICROBUS RENAULT MOD 2014'!I36 -> 335302 | G36: =+'MITSUBISHI CANTER MOD 2003'!I36 -> 331118 | H36: =+'TOYOTA LAND CRUISER'!I36 -> 357552
A37: 32 | B37: DESMONTAJE Y MONTAJE CUNA SUSPENSION | C37: UNIDAD | D37: N/A | E37: N/A | F37: N/A | G37: N/A | H37: N/A
A38: 33 | B38: DESMONTAJE Y MONTAJE PERNO DE RUEDA | C38: UNIDAD | D38: =+'VOLKSWAGEN AMAROK MOD 2015'!I38 -> 108543 | E38: =+'NISSAN FRONTIER NP 300 - MOD'!I38 -> 111217 | F38: =+'MICROBUS RENAULT MOD 2014'!I38 -> 111269 | G38: =+'MITSUBISHI CANTER MOD 2003'!I38 -> 106897 | H38: =+'TOYOTA LAND CRUISER'!I38 -> 116104
A39: 34 | B39: DESMONTAJE Y MONTAJE HOJA PRINCIPAL DEL MUELLE | C39: UNIDAD | D39: =+'VOLKSWAGEN AMAROK MOD 2015'!I39 -> 281407 | E39: =+'NISSAN FRONTIER NP 300 - MOD'!I39 -> 288341 | F39: =+'MICROBUS RENAULT MOD 2014'!I39 -> 288474 | G39: =+'MITSUBISHI CANTER MOD 2003'!I39 -> 277139 | H39: =+'TOYOTA LAND CRUISER'!I39 -> 301012
A40: 35 | B40: DESMONTAJE Y MONTAJE CREMALLERA DIRECCION | C40: UNIDAD | D40: =+'VOLKSWAGEN AMAROK MOD 2015'!I40 -> 474372 | E40: =+'NISSAN FRONTIER NP 300 - MOD'!I40 -> 486060 | F40: =+'MICROBUS RENAULT MOD 2014'!I40 -> 486285 | G40: =+'MITSUBISHI CANTER MOD 2003'!I40 -> 467177 | H40: =+'TOYOTA LAND CRUISER'!I40 -> 507419
A41: 36 | B41: DESMONTAJE Y MONTAJE BUJE CREMALLERA | C41: UNIDAD | D41: =+'VOLKSWAGEN AMAROK MOD 2015'!I41 -> 318784 | E41: =+'NISSAN FRONTIER NP 300 - MOD'!I41 -> 325181 | F41: =+'MICROBUS RENAULT MOD 2014'!I41 -> 327701 | G41: =+'MITSUBISHI CANTER MOD 2003'!I41 -> 317206 | H41: =+'TOYOTA LAND CRUISER'!I41 -> 341146
A42: 37 | B42: DESMONTAJE Y MONTAJE COLUMNA DIRECCION | C42: UNIDAD | D42: =+'VOLKSWAGEN AMAROK MOD 2015'!I42 -> 427947 | E42: =+'NISSAN FRONTIER NP 300 - MOD'!I42 -> 436535 | F42: =+'MICROBUS RENAULT MOD 2014'!I42 -> 439917 | G42: =+'MITSUBISHI CANTER MOD 2003'!I42 -> 425830 | H42: =+'TOYOTA LAND CRUISER'!I42 -> 452687
A43: 38 | B43: DESMONTAJE Y MONTAJE BIELA DE DIRECCION | C43: UNIDAD | D43: =+'VOLKSWAGEN AMAROK MOD 2015'!I43 -> 221006 | E43: =+'NISSAN FRONTIER NP 300 - MOD'!I43 -> 225441 | F43: =+'MICROBUS RENAULT MOD 2014'!I43 -> 227187 | G43: =+'MITSUBISHI CANTER MOD 2003'!I43 -> 219912 | H43: =+'TOYOTA LAND CRUISER'!I43 -> 233782
A44: 39 | B44: DESMONTAJE Y MONTAJE BARRA LARGA DE LA DIRECCIÓN | C44: UNIDAD | D44: =+'VOLKSWAGEN AMAROK MOD 2015'!I44 -> 415734 | E44: =+'NISSAN FRONTIER NP 300 - MOD'!I44 -> 428073 | F44: =+'MICROBUS RENAULT MOD 2014'!I44 -> 427363 | G44: =+'MITSUBISHI CANTER MOD 2003'!I44 -> 421064 | H44: =+'TOYOTA LAND CRUISER'!I44 -> 439768
...

Sheet VOLKSWAGEN AMAROK MOD 2015
A1: MANTENIMIENTO PREVENTIVO Y CORRECTIVO CON INCLUSIÓN DE REPUESTOS PARA LAS MOTOBOMBAS Y SISTEMAS HIDRÁULICOS A CARGO DE LA DIRECCIÓN SECCIONAL DE ADUANAS DE CÚCUTA Y DE LA DIRECCIÓN SECCIONAL DE IMPUESTOS DE CÚCUTA
D3: MECANIZADOS Y SERVICIOS INTEGRALES S.A.S. | E3: COMPAÑÍA DE ASISTENCIA INTEGRAL S.A.S.
A4: ITEMS | B4: DESCRIPCIÓN | C4: MEDIDA | D4: Cotización 1 | E4: Cotización 2 | F4: DESVIACIÓN ESTÁNDAR | G4: PROMEDIO | H4: COEFICIENTE DE VARIACIÓN | I4: PRECIO UNITARIO DE REFERENCIA IVA INCLUIDO
D5: PRECIO UNITARIO IVA INCLUÍDO | E5: PRECIO UNITARIO IVA INCLUÍDO
A6: 1 | B6: LAVADO SENCILLO EXTERNO,INTERNO,ASPIRADA | C6: UNIDAD | D6: 55138.418 | E6: 61900.676 | F6: =+_xlfn.STDEV.S(D6:E6) -> 4781.639 | G6: =+AVERAGE(D6:E6) -> 58519.547 | H6: =+F6/G6 -> 0.081710117 | I6: =+ROUND(AVERAGE(D6:E6),0) -> 58520
A7: 2 | B7: LAVADO GENERAL INCLUYE ASPIRADA, LAVADO DEL MOTOR Y CHASIS EN CARCAMO | C7: UNIDAD | D7: 101490.47 | E7: 113937.41 | F7: =+_xlfn.STDEV.S(D7:E7) -> 8801.3184 | G7: =+AVERAGE(D7:E7) -> 107713.94 | H7: =+F7/G7 -> 0.081710117 | I7: =+ROUND(AVERAGE(D7:E7),0) -> 107714
A8: 3 | B8: LAVADO GENERAL CON DESMANCHADO Y PULIDA | C8: UNIDAD | D8: 163473.47 | E8: 183522.1 | F8: =+_xlfn.STDEV.S(D8:E8) -> 14176.524 | G8: =+AVERAGE(D8:E8) -> 173497.78 | H8: =+F8/G8 -> 0.081710117 | I8: =+ROUND(AVERAGE(D8:E8),0) -> 173498
A9: 4 | B9: LAVADO TAPICERIA | C9: UNIDAD | D9: 238186.37 | E9: 267397.9 | F9: =+_xlfn.STDEV.S(D9:E9) -> 20655.675 | G9: =+AVERAGE(D9:E9) -> 252792.13 | H9: =+F9/G9 -> 0.081710117 | I9: =+ROUND(AVERAGE(D9:E9),0) -> 252792
A10: 5 | B10: ENGRASE GENERAL | C10: GLOBAL | D10: 43782.576 | E10: 49152.137 | F10: =+_xlfn.STDEV.S(D10:E10) -> 3796.8531 | G10: =+AVERAGE(D10:E10) -> 46467.357 | H10: =+F10/G10 -> 0.081710117 | I10: =+ROUND(AVERAGE(D10:E10),0) -> 46467
A11: 6 | B11: REVISION GENERAL, AJUSTE Y MANTENIMIENTO DEL SISTEMA DE FRENOS INCLUYE: REVISION DE GAS,TUBERIAS,MANGUERAS,REVISION DE FLUIDOS. | C11: UNIDAD | D11: 157823.56 | E11: 185399.83 | F11: =+_xlfn.STDEV.S(D11:E11) -> 19499.373 | G11: =+AVERAGE(D11:E11) -> 171611.69 | H11: =+F11/G11 -> 0.11362497 | I11: =+ROUND(AVERAGE(D11:E11),0) -> 171612
A12: 7 | B12: DESMONTAJE Y MONTAJE COMPONENTES FRENO DE DISCO (PASTILLAS,MORDAZAS,DISCOS,CILINDROS, ETC) | C12: GLOBAL | D12: 124890.06 | E12: 146711.91 | F12: =+_xlfn.STDEV.S(D12:E12) -> 15430.382 | G12: =+AVERAGE(D12:E12) -> 135800.98 | H12: =+F12/G12 -> 0.11362497 | I12: =+ROUND(AVERAGE(D12:E12),0) -> 135801
A13: 8 | B13: DESMONTAJE Y MONTAJE BOMBA DE FRENO | C13: UNIDAD | D13: 159711.74 | E13: 174364.19 | F13: =+_xlfn.STDEV.S(D13:E13) -> 10360.849 | G13: =+AVERAGE(D13:E13) -> 167037.97 | H13: =+F13/G13 -> 0.062026911 | I13: =+ROUND(AVERAGE(D13:E13),0) -> 167038
A14: 9 | B14: DESMONTAJE Y MONTAJE DE MODULO ABS | C14: UNIDAD | D14: 267574.75 | E14: 297583.13 | F14: =+_xlfn.STDEV.S(D14:E14) -> 21219.131 | G14: =+AVERAGE(D14:E14) -> 282578.94 | H14: =+F14/G14 -> 0.075090986 | I14: =+ROUND(AVERAGE(D14:E14),0) -> 282579
A15: 10 | B15: DESMONTAJE Y MONTAJE DE SENSOR | C15: UNIDAD | D15: 133718.21 | E15: 148714.64 | F15: =+_xlfn.STDEV.S(D15:E15) -> 10604.081 | G15: =+AVERAGE(D15:E15) -> 141216.43 | H15: =+F15/G15 -> 0.075090986 | I15: =+ROUND(AVERAGE(D15:E15),0) -> 141216
A16: 11 | B16: DESMONTAJE Y MONTAJE INCLUYE RECTIFICACION DE DISCO O CAMPANA | C16: UNIDAD | D16: 98932.825 | E16: 110028.1 | F16: =+_xlfn.STDEV.S(D16:E16) -> 7845.5407 | G16: =+AVERAGE(D16:E16) -> 104480.46 | H16: =+F16/G16 -> 0.075090986 | I16: =+ROUND(AVERAGE(D16:E16),0) -> 104480
A17: 12 | B17: DESMONTAJE Y MONTAJE COMPONENTES FRENOS TRASERO Y/O FRENO TAMBOR | C17: GLOBAL | D17: 617521.64 | E17: 699857.86 | F17: =+_xlfn.STDEV.S(D17:E17) -> 58220.499 | G17: =+AVERAGE(D17:E17) -> 658689.75 | H17: =+F17/G17 -> 0.088388348 | I17: =+ROUND(AVERAGE(D17:E17),0) -> 658690
... A36: 31 | B36: DESMONTAJE Y MONTAJE DE PUNTA DE EJE LADO RUEDA | C36: UNIDAD | D36: 309519 | E36: 361105.5 | F36: =+_xlfn.STDEV.S(D36:E36) -> 36477.164 | G36: =+AVERAGE(D36:E36) -> 335312.25 | H36: =+F36/G36 -> 0.10878566 | I36: =+ROUND(AVERAGE(D36:E36),0) -> 335312
A37: 32 | B37: DESMONTAJE Y MONTAJE CUNA SUSPENSION | C37: UNIDAD | D37: N/A | E37: N/A | F37: =+_xlfn.STDEV.S(D37:E37) -> #DIV/0! | G37: =+AVERAGE(D37:E37) -> #DIV/0! | H37: =+F37/G37 -> #DIV/0! | I37: =+ROUND(AVERAGE(D37:E37),0) -> #DIV/0!
A38: 33 | B38: DESMONTAJE Y MONTAJE PERNO DE RUEDA | C38: UNIDAD | D38: 100087.52 | E38: 116998.18 | F38: =+_xlfn.STDEV.S(D38:E38) -> 11957.643 | G38: =+AVERAGE(D38:E38) -> 108542.85 | H38: =+F38/G38 -> 0.11016519 | I38: =+ROUND(AVERAGE(D38:E38),0) -> 108543
A39: 34 | B39: DESMONTAJE Y MONTAJE HOJA PRINCIPAL DEL MUELLE | C39: UNIDAD | D39: 259486.16 | E39: 303328.62 | F39: =+_xlfn.STDEV.S(D39:E39) -> 31001.298 | G39: =+AVERAGE(D39:E39) -> 281407.39 | H39: =+F39/G39 -> 0.11016519 | I39: =+ROUND(AVERAGE(D39:E39),0) -> 281407
A40: 35 | B40: DESMONTAJE Y MONTAJE CREMALLERA DIRECCION | C40: UNIDAD | D40: 437419.53 | E40: 511325.39 | F40: =+_xlfn.STDEV.S(D40:E40) -> 52259.331 | G40: =+AVERAGE(D40:E40) -> 474372.46 | H40: =+F40/G40 -> 0.11016519 | I40: =+ROUND(AVERAGE(D40:E40),0) -> 474372
A41: 36 | B41: DESMONTAJE Y MONTAJE BUJE CREMALLERA | C41: UNIDAD | D41: 293795.43 | E41: 343772.44 | F41: =+_xlfn.STDEV.S(D41:E41) -> 35339.076 | G41: =+AVERAGE(D41:E41) -> 318783.94 | H41: =+F41/G41 -> 0.11085589 | I41: =+ROUND(AVERAGE(D41:E41),0) -> 318784
A42: 37 | B42: DESMONTAJE Y MONTAJE COLUMNA DIRECCION | C42: UNIDAD | D42: 394401.85 | E42: 461492.83 | F42: =+_xlfn.STDEV.S(D42:E42) -> 47440.483 | G42: =+AVERAGE(D42:E42) -> 427947.34 | H42: =+F42/G42 -> 0.11085589 | I42: =+ROUND(AVERAGE(D42:E42),0) -> 427947
A43: 38 | B43: DESMONTAJE Y MONTAJE BIELA DE DIRECCION | C43: UNIDAD | D43: 203681.71 | E43: 238329.63 | F43: =+_xlfn.STDEV.S(D43:E43) -> 24499.78 | G43: =+AVERAGE(D43:E43) -> 221005.67 | H43: =+F43/G43 -> 0.11085589 | I43: =+ROUND(AVERAGE(D43:E43),0) -> 221006
A44: 39 | B44: DESMONTAJE Y MONTAJE BARRA LARGA DE LA DIRECCIÓN | C44: UNIDAD | D44: 383146.28 | E44: 448322.59 | F44: =+_xlfn.STDEV.S(D44:E44) -> 46086.61 | G44: =+AVERAGE(D44:E44) -> 415734.43 | H44: =+F44/G44 -> 0.11085589 | I44: =+ROUND(AVERAGE(D44:E44),0) -> 415734
A45: 40 | B45: DESMONTAJE Y MONTAJE BARRA CORTA DE LA DIRECCIÓN | C45: UNIDAD | D45: 408735.98 | E45: 458863.98 | F45: =+_xlfn.STDEV.S(D45:E45) -> 35445.847 | G45: =+AVERAGE(D45:E45) -> 433799.98 | H45: =+F45/G45 -> 0.081710117 | I45: =+ROUND(AVERAGE(D45:E45),0) -> 433800
A46: 41 | B46: DESMONTAJE Y MONTAJE BUJE SUJECION CAJA DIRECCION | C46: UNIDAD | D46: 198211.48 | E46: 222520.43 | F46: =+_xlfn.STDEV.S(D46:E46) -> 17189.027 | G46: =+AVERAGE(D46:E46) -> 210365.95 | H46: =+F46/G46 -> 0.081710117 | I46: =+ROUND(AVERAGE(D46:E46),0) -> 210366
A47: 42 | B47: DESMONTAJE Y MONTAJE EMPAQUETADURA COMPLETA CREMALLERA DIRECCION | C47: JUEGO | D47: 913505.88 | E47: 1025539.6 | F47: =+_xlfn.STDEV.S(D47:E47) -> 79219.817 | G47: =+AVERAGE(D47:E47) -> 969522.75 | H47: =+F47/G47 -> 0.081710117 | I47: =+ROUND(AVERAGE(D47:E47),0) -> 969523
A48: 43 | B48: DESMONTAJE Y MONTAJE RETENEDOR CREMALLERA DIRECCION | C48: UNIDAD | D48: 649989.9 | E48: 758321.55 | F48: =+_xlfn.STDEV.S(D48:E48) -> 76602.044 | G48: =+AVERAGE(D48:E48) -> 704155.73 | H48: =+F48/G48 -> 0.10878566 | I48: =+ROUND(AVERAGE(D48:E48),0) -> 704156
A49: 44 | B49: DESMONTAJE Y MONTAJE RODAMIENTO CREMALLERA DIRECCION | C49: UNIDAD | D49: 618348.39 | E49: 721406.46 | F49: =+_xlfn.STDEV.S(D49:E49) -> 72873.057 | G49: =+AVERAGE(D49:E49) -> 669877.42 | H49: =+F49/G49 -> 0.10878566 | I49: =+ROUND(AVERAGE(D49:E49),0) -> 669877
... A133: 128 | B133: BATERIA (INCLUYE MANO DE OBRA) | C133: UNIDAD | D133: 824713.8 | E133: 901202.41 | F133: =+_xlfn.STDEV.S(D133:E133) -> 54085.613 | G133: =+AVERAGE(D133:E133) -> 862958.11 | H133: =+F133/G133 -> 0.062674669 | I133: =+ROUND(AVERAGE(D133:E133),0) -> 862958
A134: 129 | B134: NEUMATICOS | C134: UNIDAD | D134: N/A | E134: N/A | F134: =+_xlfn.STDEV.S(D134:E134) -> #DIV/0! | G134: =+AVERAGE(D134:E134) -> #DIV/0! | H134: =+F134/G134 -> #DIV/0! | I134: =+ROUND(AVERAGE(D134:E134),0) -> #DIV/0!
A135: 130 | B135: BOMBA DE COMBUSTIBLE | C135: UNIDAD | D135: 285096.02 | E135: 330023.6 | F135: =+_xlfn.STDEV.S(D135:E135) -> 31768.599 | G135: =+AVERAGE(D135:E135) -> 307559.81 | H135: =+F135/G135 -> 0.10329242 | I135: =+ROUND(AVERAGE(D135:E135),0) -> 307560
A136: 131 | B136: BOMBA DE FRENO | C136: UNIDAD | D136: 778483.81 | E136: 901163.16 | F136: =+_xlfn.STDEV.S(D136:E136) -> 86747.404 | G136: =+AVERAGE(D136:E136) -> 839823.49 | H136: =+F136/G136 -> 0.10329242 | I136: =+ROUND(AVERAGE(D136:E136),0) -> 839823
A137: 132 | B137: MODULO ABS PROGRAMADO | C137: UNIDAD | D137: 19572386 | E137: 22656750 | F137: =+_xlfn.STDEV.S(D137:E137) -> 2180974.9 | G137: =+AVERAGE(D137:E137) -> 21114568 | H137: =+F137/G137 -> 0.10329242 | I137: =+ROUND(AVERAGE(D137:E137),0) -> 21114568
A138: 133 | B138: SENSOR ABS | C138: UNIDAD | D138: 881965.09 | E138: 1020951.8 | F138: =+_xlfn.STDEV.S(D138:E138) -> 98278.449 | G138: =+AVERAGE(D138:E138) -> 951458.44 | H138: =+F138/G138 -> 0.10329242 | I138: =+ROUND(AVERAGE(D138:E138),0) -> 951458
A139: 134 | B139: BOMBA DE AGUA | C139: UNIDAD | D139: 1086123.6 | E139: 1257283.2 | F139: =+_xlfn.STDEV.S(D139:E139) -> 121028.09 | G139: =+AVERAGE(D139:E139) -> 1171703.4 | H139: =+F139/G139 -> 0.10329242 | I139: =+ROUND(AVERAGE(D139:E139),0) -> 1171703
A140: 135 | B140: BOMBA HIDRAULICA | C140: UNIDAD | D140: 1873967.6 | E140: 2131951.7 | F140: =+_xlfn.STDEV.S(D140:E140) -> 182422.29 | G140: =+AVERAGE(D140:E140) -> 2002959.7 | H140: =+F140/G140 -> 0.091076365 | I140: =+ROUND(AVERAGE(D140:E140),0) -> 2002960
A141: 136 | B141: EMPAQUETADURA BOMBA DE DIRECCIÓN | C141: UNIDAD | D141: 925628.69 | E141: 1053057.5 | F141: =+_xlfn.STDEV.S(D141:E141) -> 90105.773 | G141: =+AVERAGE(D141:E141) -> 989343.1 | H141: =+F141/G141 -> 0.091076365 | I141: =+ROUND(AVERAGE(D141:E141),0) -> 989343
A142: 137 | B142: EMPATEDURA CAJA DE DIRECCIÓN | C142: UNIDAD | D142: 830116.43 | E142: 944396.32 | F142: =+_xlfn.STDEV.S(D142:E142) -> 80808.085 | G142: =+AVERAGE(D142:E142) -> 887256.37 | H142: =+F142/G142 -> 0.091076365 | I142: =+ROUND(AVERAGE(D142:E142),0) -> 887256
...

Sheet NISSAN FRONTIER NP 300 - MOD
A1: MANTENIMIENTO PREVENTIVO Y CORRECTIVO CON INCLUSIÓN DE REPUESTOS PARA LAS MOTOBOMBAS Y SISTEMAS HIDRÁULICOS A CARGO DE LA DIRECCIÓN SECCIONAL DE ADUANAS DE CÚCUTA Y DE LA DIRECCIÓN SECCIONAL DE IMPUESTOS DE CÚCUTA | K1: 39
D3: MECANIZADOS Y SERVICIOS INTEGRALES S.A.S. | E3: COMPAÑÍA DE ASISTENCIA INTEGRAL S.A.S.
A4: ITEMS | B4: DESCRIPCIÓN | C4: MEDIDA | D4: Cotización 1 | E4: Cotización 2 | F4: DESVIACIÓN ESTÁNDAR | G4: PROMEDIO | H4: COEFICIENTE DE VARIACIÓN | I4: PRECIO UNITARIO DE REFERENCIA IVA INCLUIDO
D5: PRECIO UNITARIO IVA INCLUÍDO | E5: PRECIO UNITARIO IVA INCLUÍDO
A6: 1 | B6: LAVADO SENCILLO EXTERNO,INTERNO,ASPIRADA | C6: UNIDAD | D6: 53057.723 | E6: 61900.676 | F6: =+_xlfn.STDEV.S(D6:E6) -> 6252.9126 | G6: =+AVERAGE(D6:E6) -> 57479.2 | H6: =+F6/G6 -> 0.10878566 | I6: =+ROUND(AVERAGE(D6:E6),0) -> 57479
A7: 2 | B7: LAVADO GENERAL INCLUYE ASPIRADA, LAVADO DEL MOTOR Y CHASIS EN CARCAMO | C7: UNIDAD | D7: 99575.551 | E7: 113937.41 | F7: =+_xlfn.STDEV.S(D7:E7) -> 10155.367 | G7: =+AVERAGE(D7:E7) -> 106756.48 | H7: =+F7/G7 -> 0.095126473 | I7: =+ROUND(AVERAGE(D7:E7),0) -> 106756
A8: 3 | B8: LAVADO GENERAL CON DESMANCHADO Y PULIDA | C8: UNIDAD | D8: 160389.06 | E8: 183522.1 | F8: =+_xlfn.STDEV.S(D8:E8) -> 16357.528 | G8: =+AVERAGE(D8:E8) -> 171955.58 | H8: =+F8/G8 -> 0.095126473 | I8: =+ROUND(AVERAGE(D8:E8),0) -> 171956
A9: 4 | B9: LAVADO TAPICERIA | C9: UNIDAD | D9: 244927.49 | E9: 267397.9 | F9: =+_xlfn.STDEV.S(D9:E9) -> 15888.981 | G9: =+AVERAGE(D9:E9) -> 256162.69 | H9: =+F9/G9 -> 0.062026911 | I9: =+ROUND(AVERAGE(D9:E9),0) -> 256163
A10: 5 | B10: ENGRASE GENERAL | C10: GLOBAL | D10: 43292.414 | E10: 51007.894 | F10: =+_xlfn.STDEV.S(D10:E10) -> 5455.668 | G10: =+AVERAGE(D10:E10) -> 47150.154 | H10: =+F10/G10 -> 0.11570838 | I10: =+ROUND(AVERAGE(D10:E10),0) -> 47150
A11: 6 | B11: REVISION GENERAL, AJUSTE Y MANTENIMIENTO DEL SISTEMA DE FRENOS INCLUYE: REVISION DE GAS,TUBERIAS,MANGUERAS,REVISION DE FLUIDOS. | C11: UNIDAD | D11: 159702.63 | E11: 187607.24 | F11: =+_xlfn.STDEV.S(D11:E11) -> 19731.536 | G11: =+AVERAGE(D11:E11) -> 173654.93 | H11: =+F11/G11 -> 0.11362497 | I11: =+ROUND(AVERAGE(D11:E11),0) -> 173655
A12: 7 | B12: DESMONTAJE Y MONTAJE COMPONENTES FRENO DE DISCO (PASTILLAS,MORDAZAS,DISCOS,CILINDROS, ETC) | C12: GLOBAL | D12: 124890.06 | E12: 146711.91 | F12: =+_xlfn.STDEV.S(D12:E12) -> 15430.382 | G12: =+AVERAGE(D12:E12) -> 135800.98 | H12: =+F12/G12 -> 0.11362497 | I12: =+ROUND(AVERAGE(D12:E12),0) -> 135801
A13: 8 | B13: DESMONTAJE Y MONTAJE BOMBA DE FRENO | C13: UNIDAD | D13: 156781.25 | E13: 174364.19 | F13: =+_xlfn.STDEV.S(D13:E13) -> 12433.019 | G13: =+AVERAGE(D13:E13) -> 165572.72 | H13: =+F13/G13 -> 0.075090986 | I13: =+ROUND(AVERAGE(D13:E13),0) -> 165573
A14: 9 | B14: DESMONTAJE Y MONTAJE DE MODULO ABS | C14: UNIDAD | D14: N/A | E14: N/A | F14: =+_xlfn.STDEV.S(D14:E14) -> #DIV/0! | G14: =+AVERAGE(D14:E14) -> #DIV/0! | H14: =+F14/G14 -> #DIV/0! | I14: =+ROUND(AVERAGE(D14:E14),0) -> #DIV/0!
A15: 10 | B15: DESMONTAJE Y MONTAJE DE SENSOR | C15: UNIDAD | D15: N/A | E15: N/A | F15: =+_xlfn.STDEV.S(D15:E15) -> #DIV/0! | G15: =+AVERAGE(D15:E15) -> #DIV/0! | H15: =+F15/G15 -> #DIV/0! | I15: =+ROUND(AVERAGE(D15:E15),0) -> #DIV/0!
A16: 11 | B16: DESMONTAJE Y MONTAJE INCLUYE RECTIFICACION DE DISCO O CAMPANA | C16: UNIDAD | D16: 122213.11 | E16: 138508.19 | F16: =+_xlfn.STDEV.S(D16:E16) -> 11522.362 | G16: =+AVERAGE(D16:E16) -> 130360.65 | H16: =+F16/G16 -> 0.088388348 | I16: =+ROUND(AVERAGE(D16:E16),0) -> 130361
A17: 12 | B17: DESMONTAJE Y MONTAJE COMPONENTES FRENOS TRASERO Y/O FRENO TAMBOR | C17: GLOBAL | D17: 730523.86 | E17: 827927.04 | F17: =+_xlfn.STDEV.S(D17:E17) -> 68874.45 | G17: =+AVERAGE(D17:E17) -> 779225.45 | H17: =+F17/G17 -> 0.088388348 | I17: =+ROUND(AVERAGE(D17:E17),0) -> 779225
A18: 13 | B18: GRADUACIÓN SISTEMA DE FRENOS RUEDA TRASERA | C18: GLOBAL | D18: 323840.47 | E18: 367019.2 | F18: =+_xlfn.STDEV.S(D18:E18) -> 30531.973 | G18: =+AVERAGE(D18:E18) -> 345429.84 | H18: =+F18/G18 -> 0.088388348 | I18: =+ROUND(AVERAGE(D18:E18),0) -> 345430
A19: 14 | B19: CAMBIO GUAYA FRENO DE MANO | C19: UNIDAD | D19: 218404.04 | E19: 247524.58 | F19: =+_xlfn.STDEV.S(D19:E19) -> 20591.33 | G19: =+AVERAGE(D19:E19) -> 232964.31 | H19: =+F19/G19 -> 0.088388348 | I19: =+ROUND(AVERAGE(D19:E19),0) -> 232964
A20: 15 | B20: CAMBIO KIT CALIPER (SELLO Y/O ORING PISTON, GUARDAPOLVOS DE PASADORES Y PISTON, ANTIRUIDOS, PASADORES Y GUIAS O BUJES PASADORES Y TORNILLOS) | C20: JUEGO | D20: 1189262.7 | E20: 1347831.1 | F20: =+_xlfn.STDEV.S(D20:E20) -> 112124.76 | G20: =+AVERAGE(D20:E20) -> 1268546.9 | H20: =+F20/G20 -> 0.088388348 | I20: =+ROUND(AVERAGE(D20:E20),0) -> 1268547
A21: 16 | B21: DESMONTAJE Y MONTAJE BRAZOS AXIALES | C21: UNIDAD | D21: 118319.84 | E21: 136699.62 | F21: =+_xlfn.STDEV.S(D21:E21) -> 12996.467 | G21: =+AVERAGE(D21:E21) -> 127509.73 | H21: =+F21/G21 -> 0.1019253 | I21: =+ROUND(AVERAGE(D21:E21),0) -> 127510
A22: 17 | B22: DESMONTAJE Y MONTAJE DE TERMINAL DIRECCION | C22: UNIDAD | D22: 465766 | E22: 538118 | F22: =+_xlfn.STDEV.S(D22:E22) -> 51160.59 | G22: =+AVERAGE(D22:E22) -> 501942 | H22: =+F22/G22 -> 0.1019253 | I22: =+ROUND(AVERAGE(D22:E22),0) -> 501942
A23: 18 | B23: DESMONTAJE Y MONTAJE DE TIJERAS | C23: UNIDAD | D23: 117577.94 | E23: 135842.48 | F23: =+_xlfn.STDEV.S(D23:E23) -> 12914.977 | G23: =+AVERAGE(D23:E23) -> 126710.21 | H23: =+F23/G23 -> 0.1019253 | I23: =+ROUND(AVERAGE(D23:E23),0) -> 126710
A24: 19 | B24: DESMONTAJE Y MONTAJE DE COLGANTES | C24: UNIDAD | D24: 351775.9 | E24: 406420.7 | F24: =+_xlfn.STDEV.S(D24:E24) -> 38639.709 | G24: =+AVERAGE(D24:E24) -> 379098.3 | H24: =+F24/G24 -> 0.1019253 | I24: =+ROUND(AVERAGE(D24:E24),0) -> 379098
A25: 20 | B25: DESMONTAJE Y MONTAJE BUJES DE TIJERAS (INCLUYE SUPERIOR E INFERIOR / IZQUIERDO Y DERECHO, SERVICIO DE PRENSA) | C25: JUEGO | D25: 199334.52 | E25: 229408.2 | F25: =+_xlfn.STDEV.S(D25:E25) -> 21265.303 | G25: =+AVERAGE(D25:E25) -> 214371.36 | H25: =+F25/G25 -> 0.099198433 | I25: =+ROUND(AVERAGE(D25:E25),0) -> 214371
A26: 21 | B26: DESMONTAJE Y MONTAJE DE MOÑONAS (SERVICIO DE PRENSA INCLUIDO) | C26: UNIDAD | D26: 153293.11 | E26: 176420.5 | F26: =+_xlfn.STDEV.S(D26:E26) -> 16353.537 | G26: =+AVERAGE(D26:E26) -> 164856.8 | H26: =+F26/G26 -> 0.099198433 | I26: =+ROUND(AVERAGE(D26:E26),0) -> 164857
A27: 22 | B27: DESMONTAJE Y MONTAJE DE AMORTIGUADORES DELANTEROS | C27: JUEGO | D27: 261568.04 | E27: 301030.91 | F27: =+_xlfn.STDEV.S(D27:E27) -> 27904.467 | G27: =+AVERAGE(D27:E27) -> 281299.47 | H27: =+F27/G27 -> 0.099198433 | I27: =+ROUND(AVERAGE(D27:E27),0) -> 281299
... A36: 31 | B36: DESMONTAJE Y MONTAJE DE PUNTA DE EJE LADO RUEDA | C36: UNIDAD | D36: 327938.41 | E36: 364716.55 | F36: =+_xlfn.STDEV.S(D36:E36) -> 26006.072 | G36: =+AVERAGE(D36:E36) -> 346327.48 | H36: =+F36/G36 -> 0.075090986 | I36: =+ROUND(AVERAGE(D36:E36),0) -> 346327
A37: 32 | B37: DESMONTAJE Y MONTAJE CUNA SUSPENSION | C37: UNIDAD | D37: N/A | E37: N/A | F37: =+_xlfn.STDEV.S(D37:E37) -> #DIV/0! | G37: =+AVERAGE(D37:E37) -> #DIV/0! | H37: =+F37/G37 -> #DIV/0! | I37: =+ROUND(AVERAGE(D37:E37),0) -> #DIV/0!
A38: 33 | B38: DESMONTAJE Y MONTAJE PERNO DE RUEDA | C38: UNIDAD | D38: 104266.03 | E38: 118168.16 | F38: =+_xlfn.STDEV.S(D38:E38) -> 9830.2953 | G38: =+AVERAGE(D38:E38) -> 111217.1 | H38: =+F38/G38 -> 0.088388348 | I38: =+ROUND(AVERAGE(D38:E38),0) -> 111217
A39: 34 | B39: DESMONTAJE Y MONTAJE HOJA PRINCIPAL DEL MUELLE | C39: UNIDAD | D39: 270319.33 | E39: 306361.91 | F39: =+_xlfn.STDEV.S(D39:E39) -> 25485.951 | G39: =+AVERAGE(D39:E39) -> 288340.62 | H39: =+F39/G39 -> 0.088388348 | I39: =+ROUND(AVERAGE(D39:E39),0) -> 288341
A40: 35 | B40: DESMONTAJE Y MONTAJE CREMALLERA DIRECCION | C40: UNIDAD | D40: 455681.15 | E40: 516438.64 | F40: =+_xlfn.STDEV.S(D40:E40) -> 42962.031 | G40: =+AVERAGE(D40:E40) -> 486059.9 | H40: =+F40/G40 -> 0.088388348 | I40: =+ROUND(AVERAGE(D40:E40),0) -> 486060
A41: 36 | B41: DESMONTAJE Y MONTAJE BUJE CREMALLERA | C41: UNIDAD | D41: 303152.4 | E41: 347210.16 | F41: =+_xlfn.STDEV.S(D41:E41) -> 31153.541 | G41: =+AVERAGE(D41:E41) -> 325181.28 | H41: =+F41/G41 -> 0.095803611 | I41: =+ROUND(AVERAGE(D41:E41),0) -> 325181
A42: 37 | B42: DESMONTAJE Y MONTAJE COLUMNA DIRECCION | C42: UNIDAD | D42: 406962.99 | E42: 466107.76 | F42: =+_xlfn.STDEV.S(D42:E42) -> 41821.665 | G42: =+AVERAGE(D42:E42) -> 436535.37 | H42: =+F42/G42 -> 0.095803611 | I42: =+ROUND(AVERAGE(D42:E42),0) -> 436535
A43: 38 | B43: DESMONTAJE Y MONTAJE BIELA DE DIRECCION | C43: UNIDAD | D43: 210168.68 | E43: 240712.93 | F43: =+_xlfn.STDEV.S(D43:E43) -> 21598.043 | G43: =+AVERAGE(D43:E43) -> 225440.8 | H43: =+F43/G43 -> 0.095803611 | I43: =+ROUND(AVERAGE(D43:E43),0) -> 225441
A44: 39 | B44: DESMONTAJE Y MONTAJE BARRA LARGA DE LA DIRECCIÓN | C44: UNIDAD | D44: 403339.63 | E44: 452805.82 | F44: =+_xlfn.STDEV.S(D44:E44) -> 34977.872 | G44: =+AVERAGE(D44:E44) -> 428072.72 | H44: =+F44/G44 -> 0.081710117 | I44: =+ROUND(AVERAGE(D44:E44),0) -> 428073
A45: 40 | B45: DESMONTAJE Y MONTAJE BARRA CORTA DE LA DIRECCIÓN | C45: UNIDAD | D45: 412823.34 | E45: 463452.62 | F45: =+_xlfn.STDEV.S(D45:E45) -> 35800.306 | G45: =+AVERAGE(D45:E45) -> 438137.98 | H45: =+F45/G45 -> 0.081710117 | I45: =+ROUND(AVERAGE(D45:E45),0) -> 438138
A46: 41 | B46: DESMONTAJE Y MONTAJE BUJE SUJECION CAJA DIRECCION | C46: UNIDAD | D46: 200193.59 | E46: 224745.64 | F46: =+_xlfn.STDEV.S(D46:E46) -> 17360.917 | G46: =+AVERAGE(D46:E46) -> 212469.61 | H46: =+F46/G46 -> 0.081710117 | I46: =+ROUND(AVERAGE(D46:E46),0) -> 212470
A47: 42 | B47: DESMONTAJE Y MONTAJE EMPAQUETADURA COMPLETA CREMALLERA DIRECCION | C47: JUEGO | D47: 948753.42 | E47: 1035795 | F47: =+_xlfn.STDEV.S(D47:E47) -> 61547.704 | G47: =+AVERAGE(D47:E47) -> 992274.22 | H47: =+F47/G47 -> 0.062026911 | I47: =+ROUND(AVERAGE(D47:E47),0) -> 992274
A48: 43 | B48: DESMONTAJE Y MONTAJE RETENEDOR CREMALLERA DIRECCION | C48: UNIDAD | D48: 701543.02 | E48: 765904.77 | F48: =+_xlfn.STDEV.S(D48:E48) -> 45510.626 | G48: =+AVERAGE(D48:E48) -> 733723.89 | H48: =+F48/G48 -> 0.062026911 | I48: =+ROUND(AVERAGE(D48:E48),0) -> 733724
A49: 44 | B49: DESMONTAJE Y MONTAJE RODAMIENTO CREMALLERA DIRECCION | C49: UNIDAD | D49: 667391.91 | E49: 728620.52 | F49: =+_xlfn.STDEV.S(D49:E49) -> 43295.169 | G49: =+AVERAGE(D49:E49) -> 698006.21 | H49: =+F49/G49 -> 0.062026911 | I49: =+ROUND(AVERAGE(D49:E49),0) -> 698006
...

Sheet MICROBUS RENAULT MOD 2014
A1: MANTENIMIENTO PREVENTIVO Y CORRECTIVO CON INCLUSIÓN DE REPUESTOS PARA LAS MOTOBOMBAS Y SISTEMAS HIDRÁULICOS A CARGO DE LA DIRECCIÓN SECCIONAL DE ADUANAS DE CÚCUTA Y DE LA DIRECCIÓN SECCIONAL DE IMPUESTOS DE CÚCUTA | M1: 223
D3: MECANIZADOS Y SERVICIOS INTEGRALES S.A.S. | E3: COMPAÑÍA DE ASISTENCIA INTEGRAL S.A.S.
A4: ITEMS | B4: DESCRIPCIÓN | C4: MEDIDA | D4: Cotización 1 | E4: Cotización 2 | F4: DESVIACIÓN ESTÁNDAR | G4: PROMEDIO | H4: COEFICIENTE DE VARIACIÓN | I4: PRECIO UNITARIO DE REFERENCIA IVA INCLUIDO
D5: PRECIO UNITARIO IVA INCLUÍDO | E5: PRECIO UNITARIO IVA INCLUÍDO
A6: 1 | B6: LAVADO SENCILLO EXTERNO,INTERNO,ASPIRADA | C6: UNIDAD | D6: 62871.604 | E6: 68639.641 | F6: =+_xlfn.STDEV.S(D6:E6) -> 4078.6181 | G6: =+AVERAGE(D6:E6) -> 65755.623 | H6: =+F6/G6 -> 0.062026911 | I6: =ROUND(GEOMEAN(D6:E6),0) -> 65692
A7: 2 | B7: LAVADO GENERAL INCLUYE ASPIRADA, LAVADO DEL MOTOR Y CHASIS EN CARCAMO | C7: UNIDAD | D7: 110448.5 | E7: 125174.97 | F7: =+_xlfn.STDEV.S(D7:E7) -> 10413.185 | G7: =+AVERAGE(D7:E7) -> 117811.74 | H7: =+F7/G7 -> 0.088388348 | I7: =ROUND(GEOMEAN(D7:E7),0) -> 117581
A8: 3 | B8: LAVADO GENERAL CON DESMANCHADO Y PULIDA | C8: UNIDAD | D8: 177683.82 | E8: 201375 | F8: =+_xlfn.STDEV.S(D8:E8) -> 16752.191 | G8: =+AVERAGE(D8:E8) -> 189529.41 | H8: =+F8/G8 -> 0.088388348 | I8: =ROUND(GEOMEAN(D8:E8),0) -> 189159
A9: 4 | B9: LAVADO TAPICERIA | C9: UNIDAD | D9: 265279.78 | E9: 300650.42 | F9: =+_xlfn.STDEV.S(D9:E9) -> 25010.818 | G9: =+AVERAGE(D9:E9) -> 282965.1 | H9: =+F9/G9 -> 0.088388348 | I9: =ROUND(GEOMEAN(D9:E9),0) -> 282412
A10: 5 | B10: ENGRASE GENERAL | C10: GLOBAL | D10: 46643.324 | E10: 54417.211 | F10: =+_xlfn.STDEV.S(D10:E10) -> 5496.9684 | G10: =+AVERAGE(D10:E10) -> 50530.267 | H10: =+F10/G10 -> 0.10878566 | I10: =ROUND(GEOMEAN(D10:E10),0) -> 50381
A11: 6 | B11: REVISION GENERAL, AJUSTE Y MANTENIMIENTO DEL SISTEMA DE FRENOS INCLUYE: REVISION DE GAS,TUBERIAS,MANGUERAS,REVISION DE FLUIDOS. | C11: UNIDAD | D11: 187439.23 | E11: 220625.8 | F11: =+_xlfn.STDEV.S(D11:E11) -> 23466.449 | G11: =+AVERAGE(D11:E11) -> 204032.52 | H11: =+F11/G11 -> 0.11501328 | I11: =ROUND(GEOMEAN(D11:E11),0) -> 203357
A12: 7 | B12: DESMONTAJE Y MONTAJE COMPONENTES FRENO DE DISCO (PASTILLAS,MORDAZAS,DISCOS,CILINDROS, ETC) | C12: GLOBAL | D12: 149976.94 | E12: 176530.72 | F12: =+_xlfn.STDEV.S(D12:E12) -> 18776.358 | G12: =+AVERAGE(D12:E12) -> 163253.83 | H12: =+F12/G12 -> 0.11501328 | I12: =ROUND(GEOMEAN(D12:E12),0) -> 162713
A13: 8 | B13: DESMONTAJE Y MONTAJE BOMBA DE FRENO | C13: UNIDAD | D13: 180074.81 | E13: 211957.5 | F13: =+_xlfn.STDEV.S(D13:E13) -> 22544.461 | G13: =+AVERAGE(D13:E13) -> 196016.15 | H13: =+F13/G13 -> 0.11501328 | I13: =ROUND(GEOMEAN(D13:E13),0) -> 195367
A14: 9 | B14: DESMONTAJE Y MONTAJE DE MODULO ABS | C14: UNIDAD | D14: 49766.998 | E14: 55870.498 | F14: =+_xlfn.STDEV.S(D14:E14) -> 4315.8261 | G14: =+AVERAGE(D14:E14) -> 52818.748 | H14: =+F14/G14 -> 0.081710117 | I14: =ROUND(GEOMEAN(D14:E14),0) -> 52731
A15: 10 | B15: DESMONTAJE Y MONTAJE DE SENSOR | C15: UNIDAD | D15: 46157.502 | E15: 51818.328 | F15: =+_xlfn.STDEV.S(D15:E15) -> 4002.8083 | G15: =+AVERAGE(D15:E15) -> 48987.915 | H15: =+F15/G15 -> 0.081710117 | I15: =ROUND(GEOMEAN(D15:E15),0) -> 48906
A16: 11 | B16: DESMONTAJE Y MONTAJE INCLUYE RECTIFICACION DE DISCO O CAMPANA | C16: UNIDAD | D16: 100638.87 | E16: 112981.37 | F16: =+_xlfn.STDEV.S(D16:E16) -> 8727.4674 | G16: =+AVERAGE(D16:E16) -> 106810.12 | H16: =+F16/G16 -> 0.081710117 | I16: =ROUND(GEOMEAN(D16:E16),0) -> 106632
A17: 12 | B17: DESMONTAJE Y MONTAJE COMPONENTES FRENOS TRASERO Y/O FRENO TAMBOR | C17: GLOBAL | D17: 600409.15 | E17: 693676.58 | F17: =+_xlfn.STDEV.S(D17:E17) -> 65950.039 | G17: =+AVERAGE(D17:E17) -> 647042.86 | H17: =+F17/G17 -> 0.1019253 | I17: =ROUND(GEOMEAN(D17:E17),0) -> 645360
... A36: 31 | B36: DESMONTAJE Y MONTAJE DE PUNTA DE EJE LADO RUEDA | C36: UNIDAD | D36: 310429.35 | E36: 362167.58 | F36: =+_xlfn.STDEV.S(D36:E36) -> 36584.45 | G36: =+AVERAGE(D36:E36) -> 336298.46 | H36: =+F36/G36 -> 0.10878566 | I36: =ROUND(GEOMEAN(D36:E36),0) -> 335302
A37: 32 | B37: DESMONTAJE Y MONTAJE CUNA SUSPENSION | C37: UNIDAD | D37: N/A | E37: N/A | F37: =+_xlfn.STDEV.S(D37:E37) -> #DIV/0! | G37: =+AVERAGE(D37:E37) -> #DIV/0! | H37: =+F37/G37 -> #DIV/0! | I37: =ROUND(GEOMEAN(D37:E37),0) -> #NUM!
A38: 33 | B38: DESMONTAJE Y MONTAJE PERNO DE RUEDA | C38: UNIDAD | D38: 105509.46 | E38: 117342.29 | F38: =+_xlfn.STDEV.S(D38:E38) -> 8367.0789 | G38: =+AVERAGE(D38:E38) -> 111425.88 | H38: =+F38/G38 -> 0.075090986 | I38: =ROUND(GEOMEAN(D38:E38),0) -> 111269
A39: 34 | B39: DESMONTAJE Y MONTAJE HOJA PRINCIPAL DEL MUELLE | C39: UNIDAD | D39: 273543.04 | E39: 304220.76 | F39: =+_xlfn.STDEV.S(D39:E39) -> 21692.427 | G39: =+AVERAGE(D39:E39) -> 288881.9 | H39: =+F39/G39 -> 0.075090986 | I39: =ROUND(GEOMEAN(D39:E39),0) -> 288474
A40: 35 | B40: DESMONTAJE Y MONTAJE CREMALLERA DIRECCION | C40: UNIDAD | D40: 461115.41 | E40: 512829.29 | F40: =+_xlfn.STDEV.S(D40:E40) -> 36567.234 | G40: =+AVERAGE(D40:E40) -> 486972.35 | H40: =+F40/G40 -> 0.075090986 | I40: =ROUND(GEOMEAN(D40:E40),0) -> 486285
A41: 36 | B41: DESMONTAJE Y MONTAJE BUJE CREMALLERA | C41: UNIDAD | D41: 311464.11 | E41: 344783.53 | F41: =+_xlfn.STDEV.S(D41:E41) -> 23560.386 | G41: =+AVERAGE(D41:E41) -> 328123.82 | H41: =+F41/G41 -> 0.071803338 | I41: =ROUND(GEOMEAN(D41:E41),0) -> 327701
A42: 37 | B42: DESMONTAJE Y MONTAJE COLUMNA DIRECCION | C42: UNIDAD | D42: 418120.94 | E42: 462850.16 | F42: =+_xlfn.STDEV.S(D42:E42) -> 31628.333 | G42: =+AVERAGE(D42:E42) -> 440485.55 | H42: =+F42/G42 -> 0.071803338 | I42: =ROUND(GEOMEAN(D42:E42),0) -> 439917
A43: 38 | B43: DESMONTAJE Y MONTAJE BIELA DE DIRECCION | C43: UNIDAD | D43: 215931 | E43: 239030.6 | F43: =+_xlfn.STDEV.S(D43:E43) -> 16333.881 | G43: =+AVERAGE(D43:E43) -> 227480.8 | H43: =+F43/G43 -> 0.071803338 | I43: =ROUND(GEOMEAN(D43:E43),0) -> 227187
A44: 39 | B44: DESMONTAJE Y MONTAJE BARRA LARGA DE LA DIRECCIÓN | C44: UNIDAD | D44: 406188.47 | E44: 449641.19 | F44: =+_xlfn.STDEV.S(D44:E44) -> 30725.713 | G44: =+AVERAGE(D44:E44) -> 427914.83 | H44: =+F44/G44 -> 0.071803338 | I44: =ROUND(GEOMEAN(D44:E44),0) -> 427363
A45: 40 | B45: DESMONTAJE Y MONTAJE BARRA CORTA DE LA DIRECCIÓN | C45: UNIDAD | D45: 402203.47 | E45: 460213.58 | F45: =+_xlfn.STDEV.S(D45:E45) -> 41019.346 | G45: =+AVERAGE(D45:E45) -> 431208.52 | H45: =+F45/G45 -> 0.095126473 | I45: =ROUND(GEOMEAN(D45:E45),0) -> 430232
A46: 41 | B46: DESMONTAJE Y MONTAJE BUJE SUJECION CAJA DIRECCION | C46: UNIDAD | D46: 195043.61 | E46: 223174.9 | F46: =+_xlfn.STDEV.S(D46:E46) -> 19891.826 | G46: =+AVERAGE(D46:E46) -> 209109.26 | H46: =+F46/G46 -> 0.095126473 | I46: =ROUND(GEOMEAN(D46:E46),0) -> 208636
A47: 42 | B47: DESMONTAJE Y MONTAJE EMPAQUETADURA COMPLETA CREMALLERA DIRECCION | C47: JUEGO | D47: 898906.01 | E47: 1028555.9 | F47: =+_xlfn.STDEV.S(D47:E47) -> 91676.327 | G47: =+AVERAGE(D47:E47) -> 963730.96 | H47: =+F47/G47 -> 0.095126473 | I47: =ROUND(GEOMEAN(D47:E47),0) -> 961548
A48: 43 | B48: DESMONTAJE Y MONTAJE RETENEDOR CREMALLERA DIRECCION | C48: UNIDAD | D48: 677466.41 | E48: 760551.91 | F48: =+_xlfn.STDEV.S(D48:E48) -> 58750.322 | G48: =+AVERAGE(D48:E48) -> 719009.16 | H48: =+F48/G48 -> 0.081710117 | I48: =ROUND(GEOMEAN(D48:E48),0) -> 717808
A49: 44 | B49: DESMONTAJE Y MONTAJE RODAMIENTO CREMALLERA DIRECCION | C49: UNIDAD | D49: 644487.34 | E49: 723528.24 | F49: =+_xlfn.STDEV.S(D49:E49) -> 55890.357 | G49: =+AVERAGE(D49:E49) -> 684007.79 | H49: =+F49/G49 -> 0.081710117 | I49: =ROUND(GEOMEAN(D49:E49),0) -> 682865
... A94: 89 | B94: DESMONTE Y REPARACIÓN CAJA DE DIRECCIÓN | C94: UNIDAD | D94: 1852142.2 | E94: 2121317.8 | F94: =+_xlfn.STDEV.S(D94:E94) -> 190335.91 | G94: =+AVERAGE(D94:E94) -> 1986730 | H94: =+F94/G94 -> 0.095803611 | I94: =ROUND(GEOMEAN(D94:E94),0) -> 1982166
A95: 90 | B95: CAMBIO DE CRUCETAS | C95: GLOBAL | D95: N/A | E95: N/A | F95: =+_xlfn.STDEV.S(D95:E95) -> #DIV/0! | G95: =+AVERAGE(D95:E95) -> #DIV/0! | H95: =+F95/G95 -> #DIV/0! | I95: =ROUND(GEOMEAN(D95:E95),0) -> #NUM!
A96: 91 | B96: CAMBIO DE PLANETARIOS | C96: JUEGO | D96: N/A | E96: N/A | F96: =+_xlfn.STDEV.S(D96:E96) -> #DIV/0! | G96: =+AVERAGE(D96:E96) -> #DIV/0! | H96: =+F96/G96 -> #DIV/0! | I96: =ROUND(GEOMEAN(D96:E96),0) -> #NUM!
A97: 92 | B97: CAMBIO DE JOCKEY | C97: UNIDAD | D97: N/A | E97: N/A | F97: =+_xlfn.STDEV.S(D97:E97) -> #DIV/0! | G97: =+AVERAGE(D97:E97) -> #DIV/0! | H97: =+F97/G97 -> #DIV/0! | I97: =ROUND(GEOMEAN(D97:E97),0) -> #NUM!
A98: 93 | B98: CAMBIO Y REPARACIÓN TRANSMISIÓN (ASPECTOS NO CONTEMPLADOS EN LOS ITEMS ANTERIORES) | C98: UNIDAD | D98: 4588413.9 | E98: 4232722.9 | F98: =+_xlfn.STDEV.S(D98:E98) -> 251511.52 | G98: =+AVERAGE(D98:E98) -> 4410568.4 | H98: =+F98/G98 -> 0.05702474 | I98: =ROUND(GEOMEAN(D98:E98),0) -> 4406981
A99: 94 | B99: RECTIFICACIÓN DE CULATA | C99: UNIDAD | D99: 1058678.2 | E99: 1058678.2 | F99: =+_xlfn.STDEV.S(D99:E99) -> 0 | G99: =+AVERAGE(D99:E99) -> 1058678.2 | H99: =+F99/G99 -> 0 | I99: =ROUND(GEOMEAN(D99:E99),0) -> 1058678
A100: 95 | B100: DESMONTAR Y MONTAR CULATA | C100: UNIDAD | D100: 746402.87 | E100: 746402.87 | F100: =+_xlfn.STDEV.S(D100:E100) -> 0 | G100: =+AVERAGE(D100:E100) -> 746402.87 | H100: =+F100/G100 -> 0 | I100: =ROUND(GEOMEAN(D100:E100),0) -> 746403
A101: 96 | B101: REPARACION GENERAL DE MOTOR | C101: UNIDAD | D101: 4568882.3 | E101: 4568882.3 | F101: =+_xlfn.STDEV.S(D101:E101) -> 0 | G101: =+AVERAGE(D101:E101) -> 4568882.3 | H101: =+F101/G101 -> 0 | I101: =ROUND(GEOMEAN(D101:E101),0) -> 4568882
A102: 97 | B102: ANILLADA MOTOR | C102: UNIDAD | D102: 3687500 | E102: 3975000 | F102: =+_xlfn.STDEV.S(D102:E102) -> 203293.2 | G102: =+AVERAGE(D102:E102) -> 3831250 | H102: =+F102/G102 -> 0.053061847 | I102: =ROUND(GEOMEAN(D102:E102),0) -> 3828552
A103: 98 | B103: DESMONTE, AJUSTE, MANTENIMIENTO Y MONTAJE SUSPENSION DELANTERA | C103: UNIDAD | D103: 399752.77 | E103: 399752.77 | F103: =+_xlfn.STDEV.S(D103:E103) -> 0 | G103: =+AVERAGE(D103:E103) -> 399752.77 | H103: =+F103/G103 -> 0 | I103: =ROUND(GEOMEAN(D103:E103),0) -> 399753
...

Sheet MITSUBISHI CANTER MOD 2003
A1: MANTENIMIENTO PREVENTIVO Y CORRECTIVO CON INCLUSIÓN DE REPUESTOS PARA LAS MOTOBOMBAS Y SISTEMAS HIDRÁULICOS A CARGO DE LA DIRECCIÓN SECCIONAL DE ADUANAS DE CÚCUTA Y DE LA DIRECCIÓN SECCIONAL DE IMPUESTOS DE CÚCUTA | K1: 26
D3: MECANIZADOS Y SERVICIOS INTEGRALES S.A.S. | E3: COMPAÑÍA DE ASISTENCIA INTEGRAL S.A.S.
A4: ITEMS | B4: DESCRIPCIÓN | C4: MEDIDA | D4: Cotización 1 | E4: Cotización 2 | F4: DESVIACIÓN ESTÁNDAR | G4: PROMEDIO | H4: COEFICIENTE DE VARIACIÓN | I4: PRECIO UNITARIO DE REFERENCIA IVA INCLUIDO
D5: PRECIO UNITARIO IVA INCLUÍDO | E5: PRECIO UNITARIO IVA INCLUÍDO
A6: 1 | B6: LAVADO SENCILLO EXTERNO,INTERNO,ASPIRADA | C6: UNIDAD | D6: 60197.957 | E6: 65720.705 | F6: =+_xlfn.STDEV.S(D6:E6) -> 3905.1728 | G6: =+AVERAGE(D6:E6) -> 62959.331 | H6: =+F6/G6 -> 0.062026911 | I6: =+ROUND(AVERAGE(D6:E6),0) -> 62959
A7: 2 | B7: LAVADO GENERAL INCLUYE ASPIRADA, LAVADO DEL MOTOR Y CHASIS EN CARCAMO | C7: UNIDAD | D7: 93619.675 | E7: 106102.3 | F7: =+_xlfn.STDEV.S(D7:E7) -> 8826.5476 | G7: =+AVERAGE(D7:E7) -> 99860.986 | H7: =+F7/G7 -> 0.088388348 | I7: =+ROUND(AVERAGE(D7:E7),0) -> 99861
A8: 3 | B8: LAVADO GENERAL CON DESMANCHADO Y PULIDA | C8: UNIDAD | D8: 159650.25 | E8: 180936.95 | F8: =+_xlfn.STDEV.S(D8:E8) -> 15051.97 | G8: =+AVERAGE(D8:E8) -> 170293.6 | H8: =+F8/G8 -> 0.088388348 | I8: =+ROUND(AVERAGE(D8:E8),0) -> 170294
A9: 4 | B9: LAVADO TAPICERIA | C9: UNIDAD | D9: 193707.87 | E9: 219535.59 | F9: =+_xlfn.STDEV.S(D9:E9) -> 18262.953 | G9: =+AVERAGE(D9:E9) -> 206621.73 | H9: =+F9/G9 -> 0.088388348 | I9: =+ROUND(AVERAGE(D9:E9),0) -> 206622
A10: 5 | B10: ENGRASE GENERAL | C10: GLOBAL | D10: 45424.729 | E10: 52995.517 | F10: =+_xlfn.STDEV.S(D10:E10) -> 5353.3557 | G10: =+AVERAGE(D10:E10) -> 49210.123 | H10: =+F10/G10 -> 0.10878566 | I10: =+ROUND(AVERAGE(D10:E10),0) -> 49210
A11: 6 | B11: REVISION GENERAL, AJUSTE Y MANTENIMIENTO DEL SISTEMA DE FRENOS INCLUYE: REVISION DE GAS,TUBERIAS,MANGUERAS,REVISION DE FLUIDOS. | C11: UNIDAD | D11: 158961.24 | E11: 185454.78 | F11: =+_xlfn.STDEV.S(D11:E11) -> 18733.762 | G11: =+AVERAGE(D11:E11) -> 172208.01 | H11: =+F11/G11 -> 0.10878566 | I11: =+ROUND(AVERAGE(D11:E11),0) -> 172208
A12: 7 | B12: DESMONTAJE Y MONTAJE COMPONENTES FRENO DE DISCO (PASTILLAS,MORDAZAS,DISCOS,CILINDROS, ETC) | C12: GLOBAL | D12: 127234.22 | E12: 148439.92 | F12: =+_xlfn.STDEV.S(D12:E12) -> 14994.696 | G12: =+AVERAGE(D12:E12) -> 137837.07 | H12: =+F12/G12 -> 0.10878566 | I12: =+ROUND(AVERAGE(D12:E12),0) -> 137837
A13: 8 | B13: DESMONTAJE Y MONTAJE BOMBA DE FRENO | C13: UNIDAD | D13: 133408.43 | E13: 155643.17 | F13: =+_xlfn.STDEV.S(D13:E13) -> 15722.334 | G13: =+AVERAGE(D13:E13) -> 144525.8 | H13: =+F13/G13 -> 0.10878566 | I13: =+ROUND(AVERAGE(D13:E13),0) -> 144526
A14: 9 | B14: DESMONTAJE Y MONTAJE DE MODULO ABS | C14: UNIDAD | D14: N/A | E14: N/A | F14: =+_xlfn.STDEV.S(D14:E14) -> #DIV/0! | G14: =+AVERAGE(D14:E14) -> #DIV/0! | H14: =+F14/G14 -> #DIV/0! | I14: =+ROUND(AVERAGE(D14:E14),0) -> #DIV/0!
A15: 10 | B15: DESMONTAJE Y MONTAJE DE SENSOR | C15: UNIDAD | D15: N/A | E15: N/A | F15: =+_xlfn.STDEV.S(D15:E15) -> #DIV/0! | G15: =+AVERAGE(D15:E15) -> #DIV/0! | H15: =+F15/G15 -> #DIV/0! | I15: =+ROUND(AVERAGE(D15:E15),0) -> #DIV/0!
A16: 11 | B16: DESMONTAJE Y MONTAJE INCLUYE RECTIFICACION DE DISCO O CAMPANA | C16: UNIDAD | D16: 98865.05 | E16: 113670.93 | F16: =+_xlfn.STDEV.S(D16:E16) -> 10469.336 | G16: =+AVERAGE(D16:E16) -> 106267.99 | H16: =+F16/G16 -> 0.098518248 | I16: =+ROUND(AVERAGE(D16:E16),0) -> 106268
A17: 12 | B17: DESMONTAJE Y MONTAJE COMPONENTES FRENOS TRASERO Y/O FRENO TAMBOR | C17: GLOBAL | D17: 597350.25 | E17: 686808.5 | F17: =+_xlfn.STDEV.S(D17:E17) -> 63256.535 | G17: =+AVERAGE(D17:E17) -> 642079.38 | H17: =+F17/G17 -> 0.098518248 | I17: =+ROUND(AVERAGE(D17:E17),0) -> 642079
A18: 13 | B18: GRADUACIÓN SISTEMA DE FRENOS RUEDA TRASERA | C18: GLOBAL | D18: 264804.75 | E18: 304461.5 | F18: =+_xlfn.STDEV.S(D18:E18) -> 28041.557 | G18: =+AVERAGE(D18:E18) -> 284633.12 | H18: =+F18/G18 -> 0.098518248 | I18: =+ROUND(AVERAGE(D18:E18),0) -> 284633
A19: 14 | B19: CAMBIO GUAYA FRENO DE MANO | C19: UNIDAD | D19: 178589.25 | E19: 205334.5 | F19: =+_xlfn.STDEV.S(D19:E19) -> 18911.748 | G19: =+AVERAGE(D19:E19) -> 191961.88 | H19: =+F19/G19 -> 0.098518248 | I19: =+ROUND(AVERAGE(D19:E19),0) -> 191962
