Workbook
Name ____DIA1: #REF!
Name ____DIA1: #REF!
Name ____DIA1: #REF!
Name ____DIA1: #REF!
Name ____DIA2: #REF!
Name ____DIA2: #REF!
Name ____DIA2: #REF!
Name ____DIA2: #REF!
Name ____EE1: #REF!
Name ____EE1: #REF!
Name ____EE1: #REF!
Name ____EE1: #REF!
Name ____GT1: #REF!
Name ____GT1: #REF!
Name ____GT1: #REF!
Name ____GT1: #REF!
Name ____GTO1: #REF!
Name ____GTO1: #REF!
Name ____GTO1: #REF!
Name ____GTO1: #REF!
Name ____INC1: #REF!
Name ____INC1: #REF!
Name ____INC1: #REF!
Name ____INC1: #REF!
Name ____INI1: #REF!
Name ____INI1: #REF!
Name ____INI1: #REF!
Name ____INI1: #REF!
Name ____MA1: #REF!
Name ____MA1: #REF!
Name ____MA1: #REF!
Name ____MA1: #REF!
Name ____MES1: #REF!
Name ____MES1: #REF!
Name ____MES1: #REF!
Name ____MES1: #REF!
Name ____RC: #REF!
Name ____RC: #REF!
Name ____RC: #REF!
Name ____RC: #REF!
Name ___DAT1: #REF!
Name ___DAT1: #REF!
Name ___DAT1: #REF!
Name ___DAT1: #REF!
Name ___DIA1: #REF!
Name ___DIA1: #REF!
Name ___DIA1: #REF!
Name ___DIA1: #REF!
Name ___DIA2: #REF!
Name ___DIA2: #REF!
Name ___DIA2: #REF!
Name ___DIA2: #REF!
Name ___EE1: #REF!
Name ___EE1: #REF!
Name ___EE1: #REF!
Name ___EE1: #REF!
Name ___GT1: #REF!
Name ___GT1: #REF!
Name ___GT1: #REF!
Name ___GT1: #REF!

Sheet DMC
A1: ANEXO Nº 1 (ESPECIFICACIONES TECNICAS POLIZA TODO RIESGO DAÑO MATERIAL)
A2: TOMADOR: | C2: INSTITUTO PARA LA INVESTIGACION Y PRESERVACION DEL PATRIMONIO CULTURAL Y NATURAL DEL VALLE DEL CAUCA - INCIVA
A3: ASEGURADO : | C3: =+C2 -> INSTITUTO PARA LA INVESTIGACION Y PRESERVACION DEL PATRIMONIO CULTURAL Y NATURAL DEL VALLE DEL CAUCA - INCIVA
A4: BENEFICIARIO: | C4: =+C2 -> INSTITUTO PARA LA INVESTIGACION Y PRESERVACION DEL PATRIMONIO CULTURAL Y NATURAL DEL VALLE DEL CAUCA - INCIVA
A5: NIT | C5: 800.086.201 - 5
A6: RAMO Y POLIZA No. | C6: TODO RIESGO DANO MATERIAL
A7: PROCESO
A8: VIGENCIA | C8: Desde las 00:00 horas del 30 de Septiembre de 2026 Hasta las 24:00 del 10 de Julio de 2027
A9: CONDICIONES MINIMAS REQUERIDAS OBLIGATORIAS
A10: BIENES ASEGURADOS | C10: VALOR ASEGURADO | D10: TASA | E10: PRIMA NETA
B11: 1. Edificio, incluye mejoras locativas, cimientos, muros de contención, todo elemento que forme parte integrante del edificios aledaños y adyacentes de propiedad del asegurado y de los bienes que estan bajo su responsabildiad y en comodato y similares, cableado estructurado, auditorios. | C11: 1.0106539e+10
B12: 2. Incremento en los costos de contruccion para edificios | C12: 7.3502101e+08
B13: 3.Muebles y enseres propios de la actividad delasegurado, incluye material bibliografico y demas elementos que forme parte integrante de los contenidos | C13: 6.9218431e+08
B14: 4.Maquinaria y Equipo : subestaciones electricas,plantas de emergencia,ascensores,motores electricos,motacargas,aires acondicionados de cada oficina, aire acondicionado central,motobombas,transformadores y equipos similares de acuerdo a la relacion de activos que figuran como propios del asegurado y/o que esten bajo su responsabilidad ciudado y tenencia. | C14: 3.5690754e+08
B15: 5.Dinero en efectivo | C15: 57720000
B16: 6.Equipos electricos y electrónicos de computo y sus accesorios, incluye equipos en comodato, telescopios y equipos de observacion solar y demas equipos no mencionados explicitamente. | C16: 9.0451668e+08
B17: 7.Equipos moviles y portatiles | C17: 1.0710478e+08
B18: Sustraccion con y sin violencia: muebles y enseres, material bibliografico,maquinaria y equipo, dinero dentro y fuera de caja fuerte, equipos de computo fijos, moviles y portatiles y demas bienes no mencionados explicitamente (todo riesgo). | C18: 7.4990431e+08
B19: SUBTOTAL | C19: 1.2959993e+10
B20: * Indice variable 10% | C20: 1.2902273e+09
B21: TOTAL | C21: 1.4250221e+10
B22: PRIMA NETA
B23: IVA
B24: TOTAL
A25: OBJETO DEL SEGURO | C25: Amparar las pérdidas y/o daños materiales que sufran los bienes de propiedad del ASEGURADO, o bajo su responsabilidad, tenencia o control y, en general, dados y recibidos a cualquier título y/o por los que tenga algún interés asegurable.
A26: COBERTURA OBLIGATORIA
B27: Modalidad de la póliza: Todo Riesgo pérdida y/o daño material con exclusiones.
B28: La aseguradora se obliga a indemnizar al asegurado los daños y/o pérdidas que sufran los intereses asegurados, así como los costos y/o gastos en que incurra, o todos combinados, como consecuencia de los riesgos que a continuación se enuncian y sujeto a los riesgos excluidos: Todo riesgo para las pérdidas y/o daños materiales que sufran los intereses asegurados por cualquier riesgo y/o causas, incluidos, pero no limitados a: Incendio, explosión, anegación, daños por agua; extended coverage; huelga, asonada, motín, conmoción civil o popular, actos malintencionados de terceros, incluidos sabotaje y los actos terroristas, cometidos o no por movimientos subversivos (tomas a poblaciones, municipios y ciudades y los actos de la autoridad para repelerlos; también se amparan las pérdidas materiales que sufran los bienes asegurados causados directa o indirectamente por cohetes, misiles o similares); terremoto, temblor y/o erupción volcánica, maremoto, tsunami, y/o eventos de la naturaleza tales como ciclón, huracán, tempestad, vientos, inundación, desbordamiento, alza en el nivel de aguas y enfangamiento, hundimiento, deslizamiento del terreno, derrumbes, aludes, desprendimiento de tierra y rocas, y las pérdidas y/o daños consecuenciales originados por tales fenómenos; ; daño interno de equipos eléctricos y electrónicos: coberturas de todo riesgo daño material por rotura de maquinaria y equipos eléctricos y electrónicos (explosión física o química interna, caída directa de rayo, rotura debido a fuerza centrifuga, cuerpo extraños, acción directa de la energía eléctrica y/o rayo, impericia, descuido, negligencia; sabotaje individual; error de diseño, defecto de mano de obra, falta de agua en aparatos generadores de vapor, otros accidentes ocurridos a los equipos por causas no expresamente excluidas en la póliza); rotura de vidrios, sustracción con violencia y sustracción sin violencia, y demás amparos y/o cobertura que no se encuentren expresamente excluidas. La cobertura de Hurto simple y calificado se extiende a amparar los equipos moviles y portatiles , kit de emergencias, herramientas, equipos y similares dentro y/o fuera de los predios del asegurado y en aquellos donde ejerza su actividad y cuando estan siendo transportados en vehiculos del asegurado, de sus empleados y/o de terceros contratistas y/o subcontratistas del mismo.
A29: BIENES ASEGURADOS (INTERES ASEGURABLE) OBLIGATORIA
B30: Todos los bienes de propiedad real o personal del ASEGURADO, o en los que tuviere interes asegurable , o los recibidos a cualquier titulo, los tomados en arriendo, los recibidos en donacion de pagos o posesión o los recibidos a cualquier titulo, los de terceros o aquellos por los cuales sea o pueda llegar a ser responsable, que se encuentren bajo su cuidado, control y custodia, utilizados en el desarrollo del objeto social del asegurado, consistentes principalmente en, pero no limitados a : edificios, estructuras,cimientos, muros de contencion, cercas, escaleras externas, vidrios planos, patios, estacionamientos, vias de acceso, otras construcciones separadas de las edificaciones, alumbrado publico (luminarias), instalaciones subterraneas, instalaciones electricas, de cableado estructural de aires acondicionados, plantas electronicas, de comunicacion, para conduccion de gas sean o no subterraneas y en general todo tipo de equipo que se encuentren por debajo del nivel del suelo, instalaciones fijas de proteccion contra incenido, alarmas, alumbrado publico zona rural y urbana (luminarias), camaras y circuitos cerrados de television, maquinaria, equipos, herramientas, ascensores, subestaciones y /o plantas electricas, muebles, enseres, aviso, , equipos de oficina, equipos de comunicacion, de audiovisuales, de sistemas, de laboratorios, mejoras locativas (acabados y obras realizadas en el edificio, mercancías, repuestos, insumos, armas de fuego, equipos movilesm vehículos inmovilizados ( en reposo), dinero en efectivo, medallas, plata labrada, obras de arte, estatuas, frescos, colecciones, y muebles que tengan valor artístico, científico e histórico, manuscritos, planos, croquis, patrones, sellos, monedas, libros de comercio, títulos valores y billetes de bancos, instrumentos musicales, equipos de sonidos, bienes que por su naturaleza deben permanecer a la intemperie, bienes de la personeria municipal, los vehiculos y enseres y demás bienes aunque no hayan determinado especificamente, localizados dentro y/o fuera de los predios donde el asegurado desarrolle su actividad en el territorio de la Republica de colombia.
A31: DIRECCION UBICACIÓN RIESGOS | C31: Calle 5 No.24-91 Cali ( Valle )
A32: COBERTURAS SUBLIMITADAS
B33: Terremoto, temblor, erupcion volcanica | C33: 1
B34: Actos Mal intencionados de terceros ,sabotaje y Terrorismo, Huelga Motín, Asonada, conmoción civil o popular | C34: 1
B35: Rotura de maquinaria | C35: =C14 -> 3.5690754e+08
B36: Sustracción con violencia y sin violencia | C36: =C18 -> 7.4990431e+08
B37: Hurto de dinero en efectivo dentro y fuera de caja fuerte | C37: =C15 -> 57720000
A38: CLAUSULAS PARTICULARES Y CONDICIONES ESPECIALES OBLIGATORIAS
A39: 1 | B39: CONVENIO PARA EL PLAZO DEL PAGO DE LA PRIMA | C39: No obstante cualquier estipulación en contrario, por la presente cláusula se deja establecido que, de acuerdo con lo estipulado en el artículo 81 de la Ley 45/90 y la Resolución numero 03750 de Diciembre 31/74 de la Superintendencia Financiera, las partes contratantes convienen que las primas causadas por el presente Contrato de seguros y los Certificados o Anexos que se emitan en aplicación al mismo serán pagadas por EL ASEGURADO, mínimo dentro de los noventa (90) días contados a partir de la fecha en que el respectivo documento sea recibido en sus oficinas, directamente por la Aseguradora y/o por el intermediario de seguros, quien deberá certificar haber recibido a satisfacción las respectivas pólizas en las condiciones contratadas;. Si las pólizas no han sido correctamente elaboradas, el término para el pago solo empezará a contarse desde la fecha en que se presenten en debida forma. La demora en el pago originada por la presentación incorrecta de los documentos requeridos será responsabilidad del contratista y no tendrán por ello derecho al pago de intereses o compensación de ninguna naturaleza o a la aplicación de la terminación del contrato por mora en el pago de la prima.
A40: 3 | B40: DOCUMENTO PARA SUSTENTAR RECLAMO | C40: Para la demostración de la propiedad de los bienes del asegurados, EL ASEGURADO aportará la factura de compra o en su defecto la certificación expedida y firmada por el jefe del departamento de Gestión de Servicio Administrativo o quien haga sus veces donde conste que el bien materia del siniestro se encontraba incluido en su sistema de inventarios. En los casos de hurto el asegurado aportará copia al carbón del denuncio o fotocopia SIMPLE de este o en su defecto una constancia de la fiscalía de que conoce el caso.
...

Sheet VEHICULO INMOVILIZADOS
A1: ANEXO 1A RELACION DEL PARQUE AUTOMOTOR
A2: MUNICIPIO DE PALMIRA
A3: =+A2 -> MUNICIPIO DE PALMIRA
A4: =+A2 -> MUNICIPIO DE PALMIRA
A5: 891.380.007-3
A6: TODO RIESGO DAÑO MATERIAL VEHICULOS INACTIVOS
A9: PLACA | B9: MOTOR | C9: CLASE | D9: MARCA | E9: MODELO | F9: ESTADO | T9: OBSERVACIONES
A10: IHT19A | C10: MOTOCICLETA | D10: VESPA | E10: 1996 | F10: ANTIGUO IDEMA PATIOS | G10: PENDIENTE CONDONACION DE IMPUESTOS | H10: PATIOS | T10: ESTOS VEHICULOS POR ESTAR INACTIVOS SON INCLUIDOS BAJO LA POLIZA DE TODO RIESGO DAÑO MATERIAL Y NO POR LA POLIZA DE AUTOMOVILES
A11: IHT20A | C11: MOTOCICLETA | D11: PIAGGIO | E11: 1996 | F11: ANTIGUO IDEMA PATIOS | G11: PENDIENTE CONDONACION DE IMPUESTOS | H11: PATIOS
A12: IHT23A | C12: MOTOCICLETA | D12: PIAGGIO | E12: 1996 | F12: ANTIGUO IDEMA PATIOS | G12: PENDIENTE CONDONACION DE IMPUESTOS | H12: PATIOS
A13: IHT27A | C13: MOTOCICLETA | D13: PIAGGIO | E13: 1996 | F13: ANTIGUO IDEMA PATIOS | G13: PENDIENTE CONDONACION DE IMPUESTOS | H13: PATIOS
A14: OOK065 | B14: 354677 | C14: CAMIONETA | D14: DOBLE CABINA | E14: 1994 | F14: SECRETARIA DE MOVILIDAD | G14: MAL ESTADO | H14: PATIOS
A15: IHT24A | C15: MOTOCICLETA | D15: PIAGGIO | E15: 1996 | F15: ANTIGUO IDEMA PATIOS | G15: PENDIENTE CONDONACION DE IMPUESTOS | H15: PATIOS
A16: IHT28A | C16: MOTOCICLETA | D16: PIAGGIO | E16: 1996 | F16: ANTIGUO IDEMA PATIOS | G16: PENDIENTE CONDONACION DE IMPUESTOS | H16: PATIOS
A17: IGZ63A | C17: MOTOCICLETA | D17: HONDA | E17: 1993 | F17: ANTIGUO IDEMA PATIOS | G17: SIN PENDIENTE | H17: PATIOS
A18: IHT15A | C18: MOTOCICLETA | D18: PIAGGIO | E18: 1996 | F18: SOTANO CAMP | G18: PENDIENTE CONDONACION DE IMPUESTOS | H18: PATIOS
A19: IHT22A | C19: MOTOCICLETA | D19: PIAGGIO | E19: 1996 | F19: ANTIGUO IDEMA PATIOS | G19: PENDIENTE CONDONACION DE IMPUESTOS | H19: PATIOS
A20: IHT25A | C20: MOTOCICLETA | D20: PIAGGIO | E20: 1996 | F20: ANTIGUO IDEMA PATIOS | G20: PENDIENTE CONDONACION DE IMPUESTOS | H20: PATIOS
A21: IHT30A | C21: MOTOCICLETA | D21: PIAGGIO | E21: 1996 | F21: ANTIGUO IDEMA PATIOS | G21: PENDIENTE CONDONACION DE IMPUESTOS | H21: PATIOS
A22: IHL47A | C22: MOTOCICLETA | D22: HONDA | E22: 1996 | F22: ANTIGUO IDEMA PATIOS | G22: PENDIENTE CONDONACION DE IMPUESTOS | H22: PATIOS
A23: MP001 | C23: MOTOCICLETA | D23: HONDA | E23: 1996 | F23: ANTIGUO IDEMA PATIOS | G23: SIN PENDIENTE | H23: PATIOS
A24: MP002 | C24: MOTOCICLETA | D24: HONDA | E24: 1996 | F24: POLICIA NACIONAL PALMIRA | G24: SIN PENDIENTE | H24: PATIOS
A25: VP025 | C25: MOTOCICLETA | D25: YAMAHA | E25: 1988 | F25: ANTIGUO IDEMA PATIOS | G25: SIN PENDIENTE | H25: PATIOS
A26: IHT34A | C26: MOTOCICLETA | D26: PIAGGIO | E26: 1996 | F26: ANTIGUO IDEMA PATIOS | G26: PENDIENTE CONDONACION DE IMPUESTOS | H26: PATIOS
... A32: IHL48A | C32: MOTOCICLETA | D32: HONDA | E32: 1996 | F32: ANTIGUO IDEMA PATIOS | G32: PENDIENTE CONDONACION DE IMPUESTOS | H32: PATIOS
A33: OOE163 | B33: F477370 | C33: CAMPERO | D33: TOYOYA LANCRUISE | F33: TALLER DEL MUNICIPIO | G33: MAL ESTADO | H33: TALLERES DEL MUNICIPIO
A34: VP014 | C34: MOTOCICLETA | D34: SUZUKI | E34: 1984 | F34: ANTIGUO IDEMA PATIOS | G34: CHATARRA | H34: PATIOS
A35: OOK121 | B35: F2813493 | C35: CAMIONETA | D35: MAZDA | E35: 1999 | F35: DEVUELTO POR LA POLICIA | G35: NO FUNCIONA | H35: TALLERES DEL MUNICIPIO
A36: VP018 | C36: MOTOCICLETA | D36: SUZUKI | E36: 1984 | F36: ANTIGUO IDEMA PATIOS | G36: CHATARRA | H36: PATIOS
A37: 271030 | C37: MOTOCICLETAS | D37: HONDA | E37: 1996 | F37: ANTIGUO IDEMA PATIOS | G37: PENDIENTE CONDONACION DE IMPUESTOS | H37: PATIOS
A38: ON6789 | C38: VOLQUETA | D38: MERCBENZVP199 | E38: 1980 | F38: SCRIA. OBRAS PUBLICAS | G38: PROPEITARIO - GOBERNACION | H38: TALLER MUNICIPAL
A39: OOK017 | C39: VOLQUETA | D39: CHEVROLET | E39: 1992 | F39: SCRIA. OBRAS PUBLICAS | G39: PENDIENTE LEASING | H39: TALLER MUNICIPAL
A40: VP204 | C40: VOLQUETA | D40: MERC-BENZ | E40: 1980 | F40: SCRIA. OBRAS PUBLICAS | G40: PROPEITARIO - GOBERNACION | H40: TALLER MUNICIPAL
A41: VPO20 | C41: MOTOCICLETA | D41: SUZUKI TS 125 | E41: 1986 | F41: SCRIA. TRANSITO OPERATIVA | G41: SIN PENDIENTE | H41: PATIOS
A42: OOK062 | B42: 4G54KW0501 | C42: CAMPERO | D42: MITSUBISCHI | E42: 1993 | F42: MANTENIMIENTO | G42: CONCEJO MPAL | H42: TALLER MUNICIPAL
A43: IHL40A | C43: MOTOCICLETA | D43: HONDA | E43: 1996 | F43: OBRAS PUBLICAS | G43: PENDIENTE CONDONACION DE IMPUESTOS | H43: PATIOS
A44: IHT14A | C44: MOTOCICLETA | D44: PIAGGIO | E44: 1996 | F44: OBRAS PUBLICAS - INSPECTOR | G44: PENDIENTE CONDONACION DE IMPUESTOS | H44: PATIOS
A45: IHT31A | C45: MOTOCICLETA | D45: PIAGGIO | E45: 1996 | F45: PLANEACION - INSPECTORES | G45: PENDIENTE CONDONACION DE IMPUESTOS | H45: PATIOS
A46: IHT26A | C46: MOTOCICLETA | D46: PIAGGIO | E46: 1996 | F46: DIVISION CIVIL - INSPECTOR | G46: PENDIENTE CONDONACION DE IMPUESTOS | H46: PATIOS
A47: IHT21A | C47: MOTOCICLETA | D47: PIAGGIO | E47: 1996 | F47: SERVICIOS ADMON. SUPERVISOR DE VIGILANCIA | G47: PENDIENTE CONDONACION DE IMPUESTOS | H47: PATIOS
...

Sheet MANEJO 
A1: ANEXO Nº 2 ( ESPECIFICACIONES TECNICAS MANEJO SERVIDORES PUBLICOS)
A2: TOMADOR: | C2: =+DMC!C3 -> INSTITUTO PARA LA INVESTIGACION Y PRESERVACION DEL PATRIMONIO CULTURAL Y NATURAL DEL VALLE DEL CAUCA - INCIVA
A3: ASEGURADO : | C3: =+C2 -> INSTITUTO PARA LA INVESTIGACION Y PRESERVACION DEL PATRIMONIO CULTURAL Y NATURAL DEL VALLE DEL CAUCA - INCIVA
A4: BENEFICIARIO: | C4: =+C2 -> INSTITUTO PARA LA INVESTIGACION Y PRESERVACION DEL PATRIMONIO CULTURAL Y NATURAL DEL VALLE DEL CAUCA - INCIVA
A5: NIT | C5: =+DMC!C5 -> 800.086.201 - 5
A6: RAMO Y POLIZA No. | C6: Seguro de Manejo Empleados Oficiales
A7: PROCESO
A8: VIGENCIA | C8: =DMC!C8 -> Desde las 00:00 horas del 30 de Septiembre de 2026 Hasta las 24:00 del 10 de Julio de 2027
A9: CONDICIONES MINIMAS REQUERIDAS OBLIGATORIAS
A10: INTERES ASEGURADO | C10: COBERTURAS | D10: VALOR ASEGURADO | F10: TASA | G10: PRIMA NETA ACTUAL
A11: Se amparan a las entidades estatales aseguradas contra los riesgos que impliquen menoscabode fondos y bienes, causados por sus empleados en el ejercicio de los cargos amparados, por actos que se tipifiquen como delitos contra la administración pública o fallos con responsabilidad fiscal, siempre y cuando hecho sea cometido dentro de la vigencia de la póliza. | C11: Abuso de confianza, Estafa, Peculado, hurto, huto calificado | E11: 140000000
C12: Falsificación, Delitos contra la
C13: Administración Pública, Delitos contra
C14: el patrimonio economico, alcances fiscales
C15: Gastos de Rendiciòn y reconstrucciòn de cuentas
C16: CAJAS MENORES | E16: 10000000
C17: Empleados no identificados | D17: =D11 | E17: =E11/2 -> 70000000
C18: Protecciòn de Depósitos bancarios | D18: =D17 | E18: =E11/2 -> 70000000
C19: Empleados de firma especializada y temporales, cooperativas y empresas asociativas | D19: =D17 | E19: =E11/2 -> 70000000
D20: PRIMA NETA | F20: Prima Neta | G20: =SUM(G13:G19) -> 0
D21: IVA | F21: Iva | G21: =+G20*0.19 -> 0
D22: PRIMA TOTAL | F22: Total | G22: =SUM(G20:G21) -> 0
A23: CONDICIONES ESPECIALES OBLIGATORIAS
A24: 1 | B24: AMPARO POR PECULADO | C24: Mediante la presente Cláusula se conviene en amparar al Asegurado las pérdidas o detrimentos patrimoniales que sufra por causa de peculado cometido por sus empleados de acuerdo con las denominaciones que para delitos cometidos por empleados oficiales o públicos contempla la ley
A25: 2 | B25: AMPARO POR DELITOS CONTRA LA ADMINISTRACION PÚBLICA: | C25: Mediante la presente Cláusula se conviene en amparar AL ASEGURADO, las pérdidas o detrimentos patrimoniales que sufra por causa de los delitos cometidos por sus servidores públicos, empleados oficiales ó públicos, contemplados en la Ley
A26: 3 | B26: EXTENSION DE COBERTURAS A EMPLEADOS TEMPORALES Y FIRMAS ESPECIALIZADAS: | C26: Se consideran cubiertas todas las perdidas y/o daños que ocasionen los empleados de firmas especializadas, temporales y provisionales, que pertenezcan o no a la firma especializada, estos últimos asesores, estudiantes en práctica, contratistas y subcontratistas.
A27: 4 | B27: PERDIDAS CAUSADAS POR EMPLEADOS NO IDENTIFICADOS | C27: Con sujecion a las condiciones genereales de la poliza y no obstante lo que en contratio se diga en la misma o en sus anexos, si una perdida cubierta se presume haber sido causada por uno o mas de los empleados y el asegurado no pudiere senalar especdificamente el empelado o empleados causantes, dicha perdia se considera debidamene amparada, siempre y cuando las pruebas que se presentern sean concluyente quedando entendido ademas la responsabilidad de la aseguradora no excedera en ningun caso el valor asegurado por cada evento.
A28: 5 | B28: PROTECCION DE DEPOSITOS BANCARIOS | C28: Por medio del presente anexo, se cubren las pérdidas que el Asegurado sufra en cuanto a los dineros depositados en su cuenta corriente o de ahorros que mantenga con una entidad bancaria o financiera, siempre y cuando dicha pérdida se deba a falsificación de un cheque, letra de cambio, pagaré, carta de crédito o cualquier otra clase de titulo valor que el banco o LA ENTIDAD financiera presuma que ha sido firmado, endosado o avalado por el Asegurado o por una persona que obre en su nombre o representación y que el banco o entidad financiera compruebe que no es responsable por dicho pago. El amparo se hace extensivo a cualquiera de los siguientes eventos: A. Cuando el cheque girado presuntamente por el Asegurado o su representante sea pagado a una persona ficticia. B. Cuando un cheque girado por el Asegurado o su representante a favor de un tercero y entregado a dicho tercero o a un representante de este, resulte endosado y cobrado por una persona distinta a dicho tercero o a aquella otra a quien ha debido hacerse el pago en virtud de una transferencia posterior que hubiese podido efectuarse respecto a dicho cheque. C. Cualquier cheque con destino al pago de salarios que habiendo sido girado u ordenado por el Asegurado, resultase endosado y cobrado por un tercero obrando supuestamente a nombre del girador, o de aquel a quien se debía hacer el pago. Es requisito indispensable para que sea procedente una indemnización bajo los literales a, b, y c, que exista falsificación o adulteración de conformidad con las disposiciones legales vigentes al momento del siniestro. Las firmas estampadas por medios mecánicos, serán consideradas como firmas autógrafas.
A29: 6 | B29: =DMC!B39 -> CONVENIO PARA EL PLAZO DEL PAGO DE LA PRIMA | C29: =DMC!C39 -> No obstante cualquier estipulación en contrario, por la presente cláusula se deja establecido que, de acuerdo con lo estipulado en el artículo 81 de la Ley 45/90 y la Resolución numero 03750 de Diciembre 31/74 de la Superintendencia Financiera, las partes contratantes convienen que las primas causadas por el presente Contrato de seguros y los Certificados o Anexos que se emitan en aplicación al mismo serán pagadas por EL ASEGURADO, mínimo dentro de los noventa (90) días contados a partir de la fecha en que el respectivo documento sea recibido en sus oficinas, directamente por la Aseguradora y/o por el intermediario de seguros, quien deberá certificar haber recibido a satisfacción las respectivas pólizas en las condiciones contratadas;. Si las pólizas no han sido correctamente elaboradas, el término para el pago solo empezará a contarse desde la fecha en que se presenten en debida forma. La demora en el pago originada por la presentación incorrecta de los documentos requeridos será responsabilidad del contratista y no tendrán por ello derecho al pago de intereses o compensación de ninguna naturaleza o a la aplicación de la terminación del contrato por mora en el pago de la prima.
A30: 7 | B30: AMPARO AUTOMÁTICO PARA NUEVOS CARGOS | C30: No obstante cualquier estipulación en contrario en las condiciones generales de la póliza y sus anexos, este seguro se extiende a cubrir todo nuevo cargo creado por el Asegurado sin limite de plazo para reportar a la aseguradora.
A31: 8 | B31: PERÍODO ADICIONAL DE COBERTURAS | C31: Por medio de la presente cláusula se deja establecido y convenido que las personas al servicio del asegurado, continuarán amparadas los treinta (30) días inmediatamente siguientes a la fecha de retiro, con sujeción a las Cláusulas relativas a vigencia, terminación y revocación de la Póliza
A32: 9 | B32: REVOCACIÓN , NO RENOVACIÓN O MODIFICACIONES DE LA PÓLIZA Y SUS ANEXOS | C32: La Aseguradora deberá dar aviso por escrito aL ASEGURADO, con una anticipación de noventa (90) días, en caso que decida modificar, revocar o no renovar esta póliza y/o alguno de sus amparos adicionales o modificar cualquiera de sus condiciones. En caso de revocación la aseguradora devolverá al asegurado, la proporción de prima correspondiente al tiempo que falte para el vencimiento de la Póliza, liquidada a prorrata. Si la revocación es solicitada por EL ASEGURADO , la Aseguradora devolverá el valor de la prima no corrida del riesgo, liquidada a Prorrata.
A33: 10 | B33: PRORROGAS | C33: Queda expresamente declarado y convenido que la (s) aseguradora (s) queda (n) obligadas (s) a otorgar la (s) prorroga (s) que el Asegurado solicite en caso de que se requiera tiempo adicional para surtir los trámites internos de una nueva licitación, en las mismas condiciones en que se encuentran suscritas las pólizas, incluido el intermediario y su cobro será calculado a prorrata..
A34: 11 | B34: ERRORES Y OMISIONES NO INTENCIONALES | C34: El tomador esta obligado a declarar sinceramente los hechos o circunstancias que determinen el estado del riesgo, la inexactitud sobre hechos o circunstancias que conocidas por la compañía, la hubiere retraído de celebrar el contrato, o inducido a estipular condiciones más onerosas, produce la nulidad relativa del seguro. Sin embargo, si el tomador incurriere en errores, omisiones o inexactitudes inculpables a él o al asegurado, el contrato de seguro al cual se adhiere este documento no será nulo, ni habrá lugar a la aplicación del inciso tercero del Art. 1058 del Código de Comercio sobre reducción porcentual de la prestación asegurada. En ese caso, se deberá pagar la prima adecuada al verdadero estado del riesgo
A35: 12 | B35: No Aplicación de Garantías | C35: Queda expresamente acordado y aceptado que la aseguradora no establecerá garantías a cumplir por parte del ASEGURADO ., sin previo acuerdo con la entidad tomadora y/o asegurada. Para tal efecto, queda expresamente acordado que para la determinación de garantías, la aseguradora presentará previamente para aceptación del ASEGURADO., la propuesta en la que se detallen los terminos en los que se aplicarán, los cuales quedarán sujetos a los siguientes requisitos: - Que la operación de la entidad, ya contemple el cumplimiento de las condiciones de las garantías propuestas. - Que para el cumplimiento de las condiciones de las garantías propuestas, la entidad cuente con los recursos presupuestales que le permita atender las mismas. - Que las condiciones de las garantías propuestas se enmarquen dentro de las disposiciones legales y/o políticas de la entidad. Se precisa que en el caso de que en algún documento de la propuesta se contenga algún tipo de garantía que no cumpla con cualquiera de los anteriores requisitos, se dará como no exigida y el proponente con la firma de la propuesta acepta esta condición.
A36: 13 | B36: MODIFICACIÓN DEL ESTADO DEL RIESGO | C36: No obstante lo estipulado en las condiciones generales de la póliza y sus anexos, por la presente cláusula se establece una limitación a la obligación que el Asegurado notifique los hechos o circunstancias que agraven el riesgo durante la vigencia del contrato, en el sentido, que la aseguradora solo puede invocarla cuando exista relación de causalidad entre la agravación y el siniestro. Se ampararán automáticamente los riesgos cuya agravación se informe, hasta el pronunciamiento del asegurador en contrario.
A37: 14 | B37: CLAUSULA DE ANTICIPO DE LA INDEMNIZACION HASTA 50% | C37: la Aseguradora anticipara la indemnización, hasta por el 50%, con la demostración de la ocurrencia del siniestro por parte del asegurado, el valor de los daños y la comprobación de que existe cobertura y mientras se formaliza a cabalidad la indemnización Correspondiente
A38: 16 | B38: ACUERDO PARA AJUSTE EN CASO DE SINIESTRO | C38: Por medio de la presente Cláusula se conviene que todos los siniestros serán ajustados conforme al procedimiento especial de ajuste que se acuerde entre el Asegurador y Asegurado, y que bajo estas condiciones, operará el Ajustador que se designe cuando sea necesario
A39: 17 | B39: NOMBRAMIENTO DE AJUSTADOR | C39: En caso de siniestro que afecte las pólizas contratadas y en los que a juicio de la aseguradora se deba asignar Ajustador, dichos Ajustadores no podrán ser asignados unilateralmente por la aseguradora, sino bajo los siguientes parámetros
A40: 18 | B40: DESIGNACION DE CARGOS | C40: En adición a los términos y condiciones contenidas en la póliza y sus anexos, la Aseguradora acepta el titulo, nombre, denominación, nomenclatura con que el Asegurado identifica o describe los cargos asegurados
...

Sheet RCE 
A1: ANEXO Nº 3 ( ESPECIFICACIONES TECNICAS RESPONSABILIDAD CIVIL EXTRACONTRACTUAL )
A2: TOMADOR: | C2: =+DMC!C2 -> INSTITUTO PARA LA INVESTIGACION Y PRESERVACION DEL PATRIMONIO CULTURAL Y NATURAL DEL VALLE DEL CAUCA - INCIVA
A3: ASEGURADO : | C3: =+C2 -> INSTITUTO PARA LA INVESTIGACION Y PRESERVACION DEL PATRIMONIO CULTURAL Y NATURAL DEL VALLE DEL CAUCA - INCIVA
A4: BENEFICIARIO: | C4: LOS TERCEROS AFECTADOS
A5: NIT | C5: =+DMC!C5 -> 800.086.201 - 5
A6: RAMO Y POLIZA No. | C6: Seguro de Responsabilidad Civil Extracontractual,
A7: PROCESO
A8: VIGENCIA | C8: =DMC!C8 -> Desde las 00:00 horas del 30 de Septiembre de 2026 Hasta las 24:00 del 10 de Julio de 2027
A9: COBERTURAS Y CONDICIONES MINIMAS REQUERIDAS OBLIGATORIAS
A10: OBJETO | C10: AMPAROS | D10: LIMITE ASEGURADO | F10: TASA POR MIL | G10: PRIMA ANUAL
D12: EVENTO | E12: VIGENCIA
B13: Territorio Colombiano | D13: 1000000000
B14: Se amparan los perjuicios patrimoniales y extrapatrimoniales, incluyendo los perjuicios morales, que el asegurado cause a terceros, con motivo de la responsabilidad civil en que incurra de acuerdo con la Ley, durante el giro normal de sus actividades, incluyendo las complementarias. Los perjuicios cubiertos son los derivados de: Lesiones ó muerte a personas, Daños a bienes de propiedad de terceros, Perjuicios morales,, perjuicios de dano en la vida relacion y fisiológicos. lucro cesante que se derive de un daño material y/o de un daño corporal - La cobertura se extiende a amparar la Responsabilidad del asegurado frente a terceros cuando sea necesario acceder a predios que no son propiedad del asegurado para reparar daños a sus redes, cables, tubería y similares. | C14: Predios, labores y operaciones.
C15: La posesion, el uso el mantenimiento de los predios en los cuales se desarrolla la actividad propia del asegurado.
C16: Las operaciones que lleve a Cabo el asegurado en los predios asegurados y donde desarrolle su actividad.
C17: Las actividades que razonablemente forman parte del riesgo asegurado y que son inherentes al desarrollo del giro normal de su actividad.
C18: Incendio y explosión
C19: Uso de maquina y equipos de trabajo de carque, descarque y transporte dentro y/o fuera de los predios del asegurado.
C20: Actividades sociales, deportivas y culturales, asi como las instalaciones sociales y deportivas dentro y/o fuera de los predios del asegurado
C21: Participacion del asegurado en ferias y exposiciones nacionales.
C22: Viajes al exterior realizados por los representantes, directores y empleados al servicio del asegurado, en funciones inherentes al desarrollo de las actividades propias del asegurado.
C23: viajes dentro del territorio nacional de los representantes, directores y empleados al servicio del asegurado, en funciones inherentes al desarrollo de las actividades propias del asegurado.
C24: Posesion y uso de depositos, tanques, y tuberias dentro de los predios asegurados;
C25: Cafeteria, restaurantes, casinos, bares
C26: Transporte de materias primas y productos azarosos, Manejo de combustible según decreto No. 1521 de 1996
... C31: Ascensores, montacargas, escaleras automáticas
C32: Contratistas y/o subcontratistas independientes | D32: =D13*50% -> 500000000 | E32: =D13 -> 1000000000
C33: Patronal | D33: 500000000 | E33: 1000000000
C34: Vehículos propios y no propios (Incluye maquinaria pesada) | D34: 500000000 | E34: 1000000000
C35: Gastos medicos | D35: 200000000 | E35: 600000000
C36: Bienes bajo cuidado tenencia y control | D36: 250000000 | E36: 500000000
C37: Responsabilidad Civil Cruzada | D37: =D13*50% -> 500000000 | E37: =D13*100% -> 1000000000
C38: Parqueaderos | D38: 200000000 | E38: 300000000
D39: PRIMA NETA | G39: =SUM(G22:G36) -> 0
D40: IMPOVENTAS | G40: =+G39*0.19 -> 0
D41: TOTAL IMPOVENTAS | G41: =SUM(G39:G40) -> 0
A42: CONDICIONES ESPECIALES OBLIGATORIAS
A43: 1 | B43: LOS CLIENTES, VISITANTES Y USUARIOS SON CONSIDERADOS COMO TERCEROS
A44: 2 | B44: ACTIVIDADES SOCIALES, CULTURALES Y DEPORTIVAS | C44: Por la presente cláusula y no obstante lo que en contrario se diga en las condiciones generales de la Póliza o en sus anexos, la Aseguradora cubre la responsabilidad civil imputable al Asegurado, derivada del ejercicio, dirección o supervisión de actividades deportivas, sociales y culturales, que se desarrollen en cualquier parte del territorio de la República de Colombia.
A45: 3 | B45: RCE DERIVADA DEL SERVICIO DE VIGILANCIA | C45: Por la presente cláusula y no obstante lo que en contrario se diga en las condiciones generales de la Póliza o en sus anexos, la Aseguradora ampara la responsabilidad civil deL ASEGURADO, frente a terceros por perjuicios patrimoniales y extrapatrimoniales, causados por vigilantes y personal de seguridad, en el cumplimiento de sus obligaciones y de los ocasionados por su negligencia o imprudencia, incluso, los que se ocasionen como consecuencia del uso de armas de fuego, en cualquier parte del territorio de la República de Colombia.
...

Sheet AUTOS 
A1: ANEXO Nº 5 (ESPECIFICACIONES TECNICAS SEGURO DE AUTOMOVILES )
A2: TOMADOR: | B2: MUNICIPIO DE PALMIRA
A3: ASEGURADO : | B3: =+B2 -> MUNICIPIO DE PALMIRA
A4: BENEFICIARIO: | B4: =+B2 -> MUNICIPIO DE PALMIRA
A5: NIT | B5: 891.380.007-3
A6: RAMO Y POLIZA No. | B6: Automoviles
A7: PROCESO | B7: MP-SG-LP-CS-021-2014
A8: VIGENCIA | B8: 01 de septiembre de 2014 a las 00:00 horas Hasta el 23 de Agosto de 2015 a las 24:00 horas
A9: COBERTURAS OBLIGATORIAS
A10: AUTOMOVILES
A11: INTERES Y BIENES ASEGURADOS | B11: AMPAROS | C11: VALOR ASEGURADO | D11: Tasa | E11: PRIMA NETA ACTUAL | G11: VALOR ASEGURADO | H11: TASA | I11: PRIMA NETA ACTUAL | K11: VALOR ASEGURADO MINIMO REQUERIDO | L11: PROPUESTA ASEGURADORA PARA RCE | M11: TASA | N11: PRIMA NETA ACTUAL
A13: Vehículos propiedad del asegurado
B14: Responsabilidad Civil Extracontractual : (Cubre el lucro cesante y el daño moral) | D14: Autos 3.5% | E14: #REF! | H14: Autos 4.%
A15: Ver Relacion Anexo No. xxxx | B15: Daños a bienes de terceros | C15: 200000000 | D15: Furgones 6% | E15: #REF! | G15: 200000000 | H15: Furgones 6% | K15: 500000000
B16: Lesiones o muerte a una persona | C16: 200000000 | G16: 200000000 | K16: 500000000
B17: Lesiones o muerte a dos o más personas | C17: 400000000 | G17: 400000000 | K17: 1000000000
G19: Vlr comercial fasecolda+ accesorios
B20: Perdida Total para Daños | C20: Vlr comercial fasecolda+ accesorios | G20: Vlr comercial fasecolda+ accesorios | K20: V/r Comercial guia fasecolda + accesorios no originales
B21: Perdida Parcial para Daños | C21: Vlr comercial fasecolda+ accesorios | G21: Vlr comercial fasecolda+ accesorios
B22: Perdida Total para Hurto | C22: Vlr comercial fasecolda+ accesorios | G22: Vlr comercial fasecolda+ accesorios
B23: Perdida Parcial para Hurto | C23: Vlr comercial fasecolda+ accesorios | G23: Vlr comercial fasecolda+ accesorios
B24: Terremoto | C24: Vlr comercial fasecolda+ accesorios | G24: Vlr comercial fasecolda+ accesorios
B25: Proteccion Patrimonial | C25: Si ampara | G25: Si ampara
B26: Gastos de Transporte por perdidas totales Daños $50.000 DIARIOS X 60 DIAS | C26: 480000 | G26: =SUM(20000*60) -> 1200000
B27: Gastos de Transporte por perdidas total Hurto $50.000 DIARIOS X 60 DIAS | C27: 480000 | G27: =SUM(20000*60) -> 1200000
B28: Asistencia Juridica Penal | C28: Si ampara | G28: Si ampara
B29: Asistencia Juridica Civil | C29: Si ampara | G29: Si ampara
B30: Asistencia en Viaje (excluido motos) | C30: Si ampara | G30: Si ampara, excluye motos, públicos y pesados
B31: hmccop | C31: Si ampara | G31: Si ampara
B32: Rc en exceso | C32: No ampara | G32: No ampara | K32: 1000 SMMLV
L33: PRIMA NETA
L34: IVA
L35: TOTAL
A36: CONDICIONES ESPECIALES OBLIGATORIAS
A37: CONTINUIDAD DE COBERTURA : Se otorga continuidad de seguros a los vehículos que vienen amparados y por lo tanto la propuesta no debe contener ningún tipo de restricciones en cuanto al estado, modelo y características de los vehículos, ni exigencias de inspecciones. SE OTORGA
A38: NO APLICACIÓN DE DEDUCIBLES PARA ENTIDADES ESTATALES: La Aseguradora no aplicará ningún tipo de deducible en las coberturas del ramo de automóviles. SE OTORGA
A39: FORMATO 5 : ACEPTACION CLAUSULAS Y CONDICIONES OBLIGATORIAS
A40: LA COBERTURA DE RESPONSABILIDAD CIVIL EXTRACONTRACTUAL AMPARA LOS PERJUICIOS PATRIMONIALES Y EXTRAPATRIMONIALES ( DAÑO MORAL, LUCRO CESANTE Y PERJUICIO DE DAÑO EN LA VIDA RELACION. SE OTORGA
A41: REVOCACIÓN , NO RENOVACIÓN O MODIFICACIONES DE LA PÓLIZA Y SUS ANEXOS : La Aseguradora deberá dar aviso por escrito aL ASEGURADO, con una anticipación de noventa (90) días, en caso que decida modificar, revocar o no renovar esta póliza y/o alguno de sus amparos adicionales o modificar cualquiera de sus condiciones. En caso de revocación la aseguradora devolverá al asegurado, la proporción de prima correspondiente al tiempo que falte para el vencimiento de la Póliza, liquidada a prorrata. Para HMACC AMIT TERRORISMO Aplican 10 días. Si la revocación es solicitada por EL ASEGURADO , la Aseguradora devolverá el valor de la prima no corrida del riesgo, liquidada a Prorrata.
A42: . RESTABLECIMIENTO AUTOMATICO DEL VALOR ASEGURADO POR SINIESTRO PARA LA COBERTURA DE RCE:
...

Sheet RELACION AUTOS
A2: ANEXO Nº 5A (ESPECIFICACIONES TECNICAS SEGURO DE AUTOMOVILES)
A3: RELACION PARQUE AUTOMOTOR
A5: No. | B5: CÓDIGO FASECOLDA | C5: MARCA * | D5: CLASE * | E5: MODELO * | F5: PLACA * | G5: MOTOR | H5: CHASIS | I5: VALOR ASEGURADO FASECOLDA 212 | J5: TASA | K5: PRIMA ANUAL SIN IVA
A6: 1 | B6: 05621004 | C6: MAZDA | D6: CAMIONETA | E6: 1999 | F6: OOK130 | G6: G6219502 | H6: B260D02422 | I6: 14100000
A7: 2 | B7: 01620058 | C7: CHEVROLET | D7: CAMIONETA | E7: 1997 | F7: OOK108 | G7: TS96342407 | H7: 476010 | I7: 10000000
A8: 3 | B8: 05621004 | C8: MAZDA | D8: CAMIONETA | E8: 1999 | F8: OOK124 | G8: G6220400 | H8: B2600D02282 | I8: 14100000
A9: 4 | B9: 09020027 | C9: TOYOTA | D9: CAMIONETA | E9: 1995 | F9: OOK086 | G9: 3992123 | H9: RN855124707 | I9: 8800000
A10: 5 | B10: 01621037 | C10: CHEVROLET | D10: CAMIONETA | E10: 2008 | F10: OOK147 | G10: C24SE31023447 | H10: 8LBETF1D080008225 | I10: 25400000
A11: 6 | B11: 01620040 | C11: CHEVROLET | D11: CAMIONETA | E11: 1993 | F11: OOK049 | G11: C24SE31023540 | H11: 8LBETF1D880008215 | I11: 7700000
A12: 7 | B12: 01620058 | C12: CHEVROLEV. | D12: CAMIONETA | E12: 1995 | F12: OOK094 | G12: C24SE31023540 | H12: 8LBETF1D880008215 | I12: 9000000
A13: 8 | B13: 01621037 | C13: CHEVROLET | D13: CAMIONETA | E13: 2008 | F13: OOK149 | G13: C24SE31023540 | H13: 8LBETF1D880008215 | I13: 25400000
A14: 9 | B14: 01603038 | C14: CHEVROLET | D14: CAMIONETA | E14: 2011 | F14: OOK165 | G14: 806298 | H14: 9GCNPR712BB002054 | I14: 121400000
A15: 10 | B15: 06221010 | C15: CHEVROLET | D15: CAMIONETA | E15: 2012 | F15: OOK170 | G15: 4D56UCCK5252 | H15: MMBJNKB40BD628182 | I15: 71000000
A16: 11 | B16: 01603110 | C16: CHEVROLET | D16: MICROBUS | E16: 2011 | F16: OOK171 | G16: 847472 | H16: 9GCNPR710BB040074 | I16: 81900000
A17: 12 | B17: 01621037 | C17: CHEVROLET | D17: CAMIONETA | E17: 2008 | F17: OOK156 | G17: C24SE31025432 | H17: 8LBETF1D980008949 | I17: 25400000
A18: 13 | B18: 01621037 | C18: CHEVROLET | D18: CAMIONETA | E18: 2008 | F18: OOK148 | G18: C24SE31023446 | H18: 8LBETF1D980008224 | I18: 25400000
A19: 14 | B19: 01608047 | C19: CHEVROLET | D19: CAMIONETA | E19: 2008 | F19: OOK158 | G19: C8J178747 | H19: 1GNFK13J48J178747 | I19: 68300000
A20: 15 | B20: 06206002 | C20: MITSUBISHI | D20: AMBULANCIA | E20: 1995 | F20: OOK082 | G20: 4G54KY5873 | H20: L042M10629 | I20: 11500000
A21: 16 | B21: 06206002 | C21: MITSUBISHI | D21: AMBULANCIA | E21: 1995 | F21: OOK084 | G21: 4G54KY5873 | H21: L042M10629 | I21: 11500000
A22: 17 | B22: 06206002 | C22: MISSUBISHI | D22: CAMIONETA | E22: 1994 | F22: OOK064 | G22: 4GE63PP7576 | H22: P13WHLCLBO151 | I22: 10700000
A23: 18 | B23: 04606004 | C23: KIA | D23: CAMIONETA | E23: 1997 | F23: OOK116 | G23: HW414579 | H23: KMFTP152B6345042 | I23: 10600000
A24: 19 | B24: 06206002 | C24: MITSUBISHI | D24: CAMPERO | E24: 1995 | F24: OOK083 | G24: 4G54KY5876 | H24: LO42M10617 | I24: 11500000
A25: 20 | B25: 09817018 | C25: YAMAHA | D25: MOTOCICLETA | E25: 2008 | F25: IJY66A | G25: 3TK029109 | H25: 9FK3TK11682029109 | I25: 3300000
A26: 21 | B26: 09817018 | C26: YAMAHA | D26: MOTOCICLETA | E26: 2008 | F26: IJY67A | G26: 3TK029116 | H26: 9FK3TK11682029116 | I26: 3300000
A27: 22 | B27: 09817018 | C27: YAMAHA | D27: MOTOCICLETA | E27: 2008 | F27: IJY68A | G27: 3TK029118 | H27: 9FK3TK11682029118 | I27: 3300000
A28: 23 | B28: 09817018 | C28: YAMAHA | D28: MOTOCICLETA | E28: 2008 | F28: IJY69A | G28: 3TK029114 | H28: 9FK3TK11682029114 | I28: 3300000
... A38: 33 | B38: 06421005 | C38: NISSAN | D38: CAMIONETA | E38: 2006 | F38: OOK144 | G38: K24002992C | H38: 3N6CD13S7ZK856290 | I38: 15800000
A39: 34 | B39: 10606002 | C39: CHERY | D39: CAMIONETA | E39: 2013 | F39: OOK189 | G39: SQR473FAFCM00056 | H39: LVTDB12A0DB023150 | I39: 21300000
A40: 35 | B40: 01612075 | C40: CHEVROLET | D40: CAMIONETA | E40: 2008 | F40: OOK150 | G40: C24SE31023635 | H40: 8LBETF7D780000887 | I40: 24700000
A41: 36 | B41: 06421005 | C41: NISSAN | D41: CAMIONETA | E41: 2006 | F41: OOK139 | G41: K24002930286C | H41: 3N6CD13S4Z856361 | I41: 15800000
A42: 37 | B42: 03203016 | C42: NISSAN | D42: CAI MOVIL | E42: 2010 | F42: OOK164 | G42: D4B93920SA | H42: KMFGA17BPAC900734 | I42: 57200000
A43: 38 | B43: 09817123 | C43: YAMAHA | D43: MOTOCICLETA | E43: 2006 | F43: IJM93A | G43: 5GPO27278 | H43: 9FK5GP11061027278 | I43: 2600000
A44: 39 | B44: 09817123 | C44: YAMAHA | D44: MOTOCICLETA | E44: 2006 | F44: IJM94A | G44: 5GPO27255 | H44: 9FK5GP11061027255 | I44: 2600000
A45: 40 | B45: 09817123 | C45: YAMAHA | D45: MOTOCICLETA | E45: 2006 | F45: IJM95A | G45: 5GPO27275 | H45: 9FK5GP11061027275 | I45: 2600000
A46: 41 | B46: 09817123 | C46: YAMAHA | D46: MOTOCICLETA | E46: 2006 | F46: IJM96A | G46: 5GPO27273 | H46: 9FK5GP11061027273 | I46: 2600000
A47: 42 | B47: 09817123 | C47: YAMAHA | D47: MOTOCICLETA | E47: 2006 | F47: IJM97A | G47: 5GPO27271 | H47: 9FK5GP11061027271 | I47: 2600000
A48: 43 | B48: 09817123 | C48: YAMAHA | D48: MOTOCICLETA | E48: 2006 | F48: IJM98A | G48: 5GPO27257 | H48: 9FK5GP11061027257 | I48: 2600000
A49: 44 | B49: 09817123 | C49: YAMAHA | D49: MOTOCICLETA | E49: 2006 | F49: IJM99A | G49: 5GPO27272 | H49: 9FK5GP110610272272 | I49: 2600000
A50: 45 | B50: 09817123 | C50: YAMAHA | D50: MOTOCICLETA | E50: 2006 | F50: IJN01A | G50: 5GP027274 | H50: 9FK5GP11061027274 | I50: 2600000
A51: 46 | B51: 09817123 | C51: YAMAHA | D51: MOTOCICLETA | E51: 2006 | F51: IJN02A | G51: 5GPO27277 | H51: 9FK5GP11061027277 | I51: 2600000
...

Sheet RELACION SOAT
A3: RELACION PARQUE AUTOMOTOR PARA SOAT
A5: No. | B5: VENCIMIENTO | C5: CÓDIGO FASECOLDA | D5: MARCA * | E5: CLASE * | F5: MODELO * | G5: PLACA * | H5: PRIMA SOAT
A6: 20 | B6: 41403 | C6: 01621037 | D6: CHEVROLET | E6: CAMIONETA | F6: 2008 | G6: OOK147 | H6: 516560 | I6: 06206002
A7: 3 | B7: 41409 | C7: 09817018 | D7: YAMAHA | E7: MOTOCICLETA | F7: 2008 | G7: IJY66A | H7: 361240 | I7: 05621004
A8: 4 | B8: 41409 | C8: 05621004 | D8: MAZDA | E8: CAMIONETA | F8: 1999 | G8: OOK130 | H8: 692340
A9: 5 | B9: 41409 | C9: 06206002 | D9: MITSUBISHI | E9: AMBULANCIA | F9: 1995 | G9: OOK082 | H9: 555500 | I9: 01621037
A10: 6 | B10: 41409 | C10: 06206002 | D10: MITSUBISHI | E10: AMBULANCIA | F10: 1995 | G10: OOK084 | H10: 555500 | I10: 01620040
A11: 7 | B11: 41409 | C11: 06206002 | D11: MISSUBISHI | E11: CAMIONETA | F11: 1994 | G11: OOK064 | H11: 555500 | I11: 01620058
A12: 8 | B12: 41409 | C12: 04606004 | D12: KIA | E12: CAMIONETA | F12: 1997 | G12: OOK116 | H12: 555500 | I12: 01621037
A13: 9 | B13: 41409 | C13: 06206002 | D13: MITSUBISHI | E13: CAMPERO | F13: 1995 | G13: OOK083 | H13: 555500 | I13: 01603038
A14: 10 | B14: 41409 | C14: 08817064 | D14: SUZUKI | E14: MOTOCICLETA | F14: 2002 | G14: IIG05A | H14: 361240 | I14: 06221010
A15: 11 | B15: 41409 | C15: 01626003 | D15: CHEVROLET | E15: VOLQUETA | F15: 1991 | G15: OOK006 | H15: 699710 | I15: 01603110
A16: 12 | B16: 41409 | C16: 01626003 | D16: CHEVROLET | E16: VOLQUETA | F16: 1991 | G16: OOK007 | H16: 699710 | I16: 01621037
A17: 13 | B17: 41409 | C17: 01626011 | D17: CHEVROLET | E17: VOLQUETA | F17: 1994 | G17: OOK080 | H17: 699710 | I17: 01621037
A18: 14 | B18: 41409 | C18: 05621026 | D18: MAZDA | E18: CAMIONETA | F18: 1999 | G18: OOK120 | H18: 605770 | I18: 01608047
A19: 15 | B19: 41409 | C19: 05621026 | D19: MAZDA | E19: CAMIONETA | F19: 1999 | G19: OOK122 | H19: 605770 | I19: 01621037
A20: 16 | B20: 41409 | C20: 05826002 | D20: MERCEDES | E20: VOLQUETA | F20: 1980 | G20: ONF773 | H20: 699710 | I20: 06206002
... A24: 1 | B24: 41409 | C24: 09817123 | D24: YAMAHA | E24: MOTOCICLETA | F24: 2006 | G24: IJN03A | H24: 328400 | I24: 05621004
A25: 2 | B25: 41409 | C25: 09817123 | D25: YAMAHA | E25: MOTOCICLETA | F25: 2006 | G25: IJN05A | H25: 328400
A26: 21 | B26: 41409 | C26: 01621037 | D26: CHEVROLET LUV | E26: CAMIONETA | F26: 2008 | G26: OOK146 | H26: 469600 | I26: 09817018
A27: 22 | B27: 41409 | C27: 09817018 | D27: YAMAHA | E27: MOTOCICLETA | F27: 2008 | G27: IJY67A | H27: 328400 | I27: 09817018
A28: 23 | B28: 41409 | C28: 06421005 | D28: NISSAN | E28: CAMIONETA | F28: 2006 | G28: OOK142 | H28: 469600 | I28: 09817018
A29: 24 | B29: 41409 | C29: 06221010 | D29: NISSAN | E29: CAMIONETA | F29: 2010 | G29: OOK168 | H29: 469600 | I29: 09817018
A30: 25 | B30: 41409 | C30: 06421005 | D30: NISSAN | E30: CAMIONETA | F30: 2006 | G30: OOK143 | H30: 469600 | I30: 09817018
A31: 26 | B31: 41409 | C31: 06421005 | D31: NISSAN | E31: CAMIONETA | F31: 2006 | G31: OOK144 | H31: 469600 | I31: 09817018
A32: 27 | B32: 41409 | C32: 01612075 | D32: CHEVROLET | E32: CAMIONETA | F32: 2008 | G32: OOK150 | H32: 469600 | I32: 09817018
A33: 28 | B33: 41409 | C33: 03203016 | D33: NISSAN | E33: CAMIONETA | F33: 2006 | G33: OOK139 | H33: 550700 | I33: 09817018
A34: 29 | B34: 41409 | C34: 03203016 | D34: NISSAN | E34: CAI MOVIL | F34: 2010 | G34: OOK164 | H34: 550700 | I34: 09817018
A35: 30 | B35: 41409 | C35: 09817123 | D35: YAMAHA | E35: MOTOCICLETA | F35: 2006 | G35: IJM94A | H35: 328400 | I35: 06421005
A36: 31 | B36: 41409 | C36: 09817123 | D36: YAMAHA | E36: MOTOCICLETA | F36: 2006 | G36: IJM95A | H36: 328400 | I36: 06421005
A37: 32 | B37: 41409 | C37: 09817123 | D37: YAMAHA | E37: MOTOCICLETA | F37: 2006 | G37: IJM97A | H37: 328400 | I37: 06221010
... A123: 118 | B123: 41511 | C123: 01608047 | D123: CHEVROLET | E123: CAMIONETA | F123: 2008 | G123: OOK158 | H123: 550700 | I123: 08817082
A124: 119 | B124: 41529 | D124: INTERNATIONAL | E124: CAMION | F124: 2008 | G124: OOK154 | H124: 440700 | I124: 08817082
A125: 120 | B125: 41555 | C125: 01621037 | D125: CHEVROLET | E125: CAMIONETA | F125: 2008 | G125: OOK149 | H125: 624900 | I125: 08817082
A126: 121 | B126: 41596 | C126: 09817018 | D126: YAMAHA | E126: MOTOCICLETA | F126: 2008 | G126: IJY68A | H126: 328400 | I126: 08817082
A127: 122 | B127: 41596 | C127: 09817018 | D127: YAMAHA | E127: MOTOCICLETA | F127: 2008 | G127: IJY69A | H127: 328400 | I127: 08817082
A128: 123 | B128: 41596 | C128: 09817018 | D128: YAMAHA | E128: MOTOCICLETA | F128: 2008 | G128: IJY70A | H128: 328400 | I128: 08817082
A129: 124 | B129: 41596 | C129: 09817018 | D129: YAMAHA | E129: MOTOCICLETA | F129: 2008 | G129: IJY71A | H129: 328400 | I129: 15917002
A130: 125 | B130: 41596 | C130: 09817018 | D130: YAMAHA | E130: MOTOCICLETA | F130: 2008 | G130: IJY72A | H130: 328400 | I130: 15917002
A131: 126 | B131: 41596 | C131: 09817018 | D131: YAMAHA | E131: MOTOCICLETA | F131: 2008 | G131: IJY73A | H131: 328400 | I131: 08817064
...

Sheet FORMA DE PAGO
A1: ALTERNATIVAS DE PAGO
A2: =#REF! -> #REF!
B7: FORMA PARTE INTEGRAL DE LA COTIZACION DE LA POLIZA DE DAÑO MATERIAL
A9: CONTADO
B10: EFECTIVO
B11: CHEQUE
B12: TARJETA DE CREDITO
A14: CONVENDIO DE PAGO A 60 DIAS
B15: 1. CONVENIO ESCRITO CON COMPROMISO DE PAGO EL LAS FECHAS INDICADAS A CONTINUACION.
B16: 2.GIRO DE 3 CHEQUES ASI:
B17: - EL PRIMERO AL DIA DE LA EXPEDICION DE LA POLIZA
B18: - EL SEGUNDO A 30 DIAS
B19: - EL TERCERO A 60 DIAS, EL CUAL NO DEBEN EXCEDER LOS 60 DIAS A PARTIR DE LA VIGENCIA DE LA POLIZA
A21: FINANCIACION CON LA COMPAÑÍA DE SEGUROS
B22: TERMINOS
B23: - 20% DE CUOTA INICIAL (APLICADO SOBRE LA PRIMA TOTAL)
B24: - EL SALDO A 10 CUOTAS MAXIMO
B26: PERSONA NATURAL
B27: - VALOR MINIMO A FINANCIAR $400.000
B28: - SOLICITUD DE CREDITO
B29: - CARTA DE DESEMBOLSO
B30: - FOTOCOPIA DE LA CEDULA DE CIUDADANIA
B31: - FOTOCOPIA DE LA POLIZA
B33: PERSONAL JURIDICA
B34: - VALOR MINIMO A FINANCIAR $2.000.000
B35: - SOLICITUD DE CREDITO
... B39: - CERTIFICADO DE CAMARA DE COMERCIO NO MAYOR A 45 DIAS DE EXPEDIDO

Sheet INFIDELIDAD Y RIESGOS FINANCI
A1: ANEXO Nº 6 (ESPECIFICACIONES TECNICAS SEGURO DE INFIDELIDAD Y RIESGOS FINANCIEROS
A2: TOMADOR | B2: MUNICIPIO DE PALMIRA
A3: ASEGURADO | B3: MUNICIPIO DE PALMIRA
A4: BENEFICIARIO | B4: MUNICIPIO DE PALMIRA
A5: NIT | B5: 891.380.007-3
A6: RAMO Y POLIZA No. | B6: INFIDELIDAD Y RIESGOS FINANCIEROS
A7: PROCESO | B7: MP-SG-LP-CS-021-2014
A8: VIGENCIA | B8: 01 de septiembre de 2014 a las 00:00 horas Hasta el 23 de Agosto de 2015 a las 24:00 horas
A9: CONDICIONES MINIMAS REQUERIDAS OBLIGATORIAS
A10: OBJETO | B10: AMPAROS | C10: V/R ASEGURADO | D10: TASA | E10: PRIMA
A12: La aseguradora respondera al asegurado por perdidas | B12: Infidelidad de Empleados | C12: 2000000000
A13: directas de dinero, titulo valores y otras propiedades a causa | B13: Predios
B14: Peculado
A15: de cualquier infidelidad o falsificacion por parte de cualquier | B15: Transito de valores u otras propiedades, incluyendo mercancia
A16: empleado que actue solo o en concurso con otros; asi | B16: Falsificacion o adulteracion de cheques u otros documentos
A17: mismo sera responsible por las perdidas directas causadas | B17: Perdida causadas por empleados no identificados
A18: por la destruccion real, desaparicion o hurto de dinero o titulos valores dentro de los predios. | B18: Hurto por computador y Fraude Transferencia de Fondos
B19: Gastos legales y honorarios de abogados
B20: Empleados no indentificados
B21: Proteccion de Depositos bancarios
A22: PRIMA NETA
A23: IVA
A24: PRIMATOTAL
A26: =+'[4]TODO RIESGO DAÑO MATERIAL'!A27 -> DIRECCION COMERCIAL | B26: Calle 30 con Carrera 29 esquina Palmira (V)
A27: ALCANCE TERRITORIAL | B27: MUNDIAL
A28: JURISDICION | B28: territorio de la República de Colombia
A29: =+'[4]TODO RIESGO DAÑO MATERIAL'!A29 -> OCUPACION / ACTIVIDAD | B29: Empresa Estatal
A30: FECHA DE RETROACTIVIDAD: | B30: A partir del inicio de vigencia de la primera poliza expedida por la Previsora Seguros , 26 enero 2010: de lo contrario queda inhabilitado para concursar en esta poliza.
A31: CLAUSULA DE DESCUBRIMIENTO: No obstante cualquier estipulación en contrario en las condiciones generales y particulares de la póliza, se conviene que las pérdidas provenientes de los amparos del presente seguro, se regirán por el término descubrimiento (claims made) y no ocurrencia y por lo tanto quedan debidamente amparadas todas las pérdidas que se descubran durante la vigencia de la misma y hayan ocuurido dentro del periodo de retroactividad pactado.
A32: COBERTURAS
A33: CLAUSULAS Y CONDICIONES OBLIGATORIAS
A34: A-INFEDILIDAD | B34: Cubre la perdida resultante directa y unicamente de actos dolosos cometidos por empleados del asegurado, solos o en colusion con otros, mientras se encuentre al serivio regular de este.
A35: PERDIDAS CAUSADAS POR EMPLEADOS O IDENTIFICADOS | B35: En todos aquellos casos en que no obstante atribuirse una perdida a actos dolosos cometidos por uno o mas empleados, no sea posible para el asegurado precisar nombres o sindicar concretamente al empleado o empleados causantes de la misma , se pagara la indemnizacion correspondiente previa presentacion de la respectiva denuncia penal y de pruebas que acrediten que la perdida es a consecuencia de actos doloso de uno o mas empleados.
A36: B- PREDIOS: LA COBERTURA DE ESTA AMPARO INCLUIRA | B36: Perdidas DE DINERO o VALORES directamente resultante de: * destruccion o desaparicion por hurto, hurto calificado, mientras esten en predios del asegurado. * Perdidas causadas a otros bienes dentro de los predios del asegurado, causadas por hurto calificado tentativa a bovedas o cajas fuertes. * Perdidas causadas dentro de locales a cajillas registradoras, en las que se guarde dinero, causadas por hurto calificado o la tentativa .* Danos a los locales del asegurado, causados por hurto calificado o tentativa, siempre que el asegurado sea propietario o usufructuario de dichos predios o responsable ante otras personas por tales perdidas
A37: C= BIENES EN TRANSITO : LA COBERTURA BAJO ESTE AMPARO TAMBIEN INCLUIRA: | B37: Perdidas o dano de otras propiedades por hurto calificado o un inteno de ello , fuera del predio , mientras la propiedad esta siendo transportada por el asegurado, un socio, un empleado o por una compania de transporte de valores; Perdida por hurto de tal propiedad mientras se encuentra temporalmente dentro de la residencia del asegurado, socio o un empleado;
A38: D-PERDIDA POR FALSIFICACION | B38: Adulteracion de dineros o titulos valores.* Solo cubre falsedad material.* La aceptacion, de buena fe, y en el curso normal de sus negocios de monedas o billetes falsificados de todo el mundo.* La falsificacion o alteracion dolosa de cualquier cheque, pagare, giro, o cualquier documento o titulo similar, mediante los cuales se ordene o se de instrucciones de pagar una suma determinada de dinero.
A39: AMPARO DE PERDIDA POR AMENAZA O EXTORSION: Queda expresamente declarado y convenido que esta cobertura debe comprender la indemnizacion de las perdidas que sufra el asegurado como consecuencia o que resulten de la entrega de valores dentro o fuera del establecimiento del asegurado, como resultado de la amenaza comunicada a este y con el fin de causar dano a: Un miembro de junta directiva, fideicomisario, empleado o socio del asegurado y sus familiares. Danar propiedades o predios del asegurado o sus servidores publicos dentro del territorio de la republica de colombia. \EXTORSION. Por expresa prohibición legal (Ley 40 de 1993), se excluyen pérdidas por pagos efectuados bajo amenaza de secuestro y/o rescates efectuados para liberar personas secuestradas”.
A40: EXTENSION DEL CRIMEN POR COMPUTADOR
A41: EXTENSION DE COBERTURA DE INCENDIO O LINEAS ALIADAS PARA TITULOS VALORES | C41: $ 200.000.000 evento / $ 500.000.000 vigencia
A42: EXTENSION DE LA COBERTURA DE HAMCC, AMIT | C42: $ 500.000.000 evento vigencia
...

Sheet GRUPO VIDA FUNCIONARIOS
A1: ANEXO 7 ( ESPECIFICACIONES TECNICA SEGURO DE GRUPO VIDA FUNCIONARIOS)
A2: TOMADOR: | B2: MUNICIPIO DE PALMIRA
A3: ASEGURADO : | B3: FUNCIONARIOS DEL TOMADOR SEGÚN RELACION ANEXA 7A
A4: BENEFICIARIO: | B4: LOS DESIGNADOS POR LOS ASEGURADOS O EN SU DEFECTO LOS ESTABLECIDOS POR LA LEY
A5: NIT | B5: =+'[5]TODO RIESGO DANO MATERIAL '!K5 -> 891.380.033-5
A6: RAMO Y POLIZA No. | B6: GRUPO VIDA
A7: PROCESO | B7: MP-SG-LP-CS-021-2014
A8: VIGENCIA | B8: 01 de septiembre de 2014 a las 00:00 horas Hasta el 23 de Agosto de 2015 a las 24:00 horas
A9: CONDICIONES MINIMAS REQUERIDAS OBLIGATORIAS
A10: INTERES ASEGURADO | B10: AMPAROS | C10: VALOR ASEGURADO | D10: PROPUESTA CIA | E10: TASA por mil (%o) | F10: PRIMA
A11: Funcionarios del Municipio de Palmira. Empleados Públicos, trabajadores Oficiales aprendices y trabajadores que tengan contrato laboral con el municipio de palmira Asegurados - según relación ver Anexo No 7A | B11: Vida (En la cobertura basica se incluye suicidio, homicidio y sida desde inicio de vigencia Cubre Epidemia y Pandemia) | C11: =+'REL ASEG (2)'!G471 -> 9300000000
B12: Incapacidad Total y permanente | C12: =SUM(C11) -> 9300000000
B13: Indemnizaciòn adicional por muerte accidental y Beneficios por Desmembracion | C13: =SUM(C12) -> 9300000000
B14: Enfermedades graves 50% como suma asegurada independiente) opera como anticipo | C14: =SUM(C13*50%) -> 4650000000
B15: Auxilio de exequias | C15: =+'REL ASEG (2)'!G472 -> 1023000000
E16: PRIMA
A17: TOTAL ASEGURADOS: VER Relacion anexo 7A
A18: DETERMINACION DEL VALOR ASEGURADO INDIVIDUAL | D18: Basico, Incapacidad, Doble iindemnizacionv/r asegurado convenido $ 20.000.000 c/u. Enferemdades graves 50% del amparo b-asico, auxilio de exequias $ 2.2000.000 -c/ui
A19: VR ASEGURADO MAXIMO | B19: 20000000
A20: CONDICIONES ESPECIALES REQUERIDAS
A21: COBERTURAS | B21: EDAD MAXIM\O DE INGRESO | D21: EDAD MAXIMA DE PERMANENCIA.
A22: Amparo basico y Aux. funerario | B22: 75 | D22: INDEFINIDAD
A23: Incapacidad total y permanente | B23: 65 | D23: 65 mas 364 dias
A24: Enfermedades graves | B24: 65 | D24: 66
A25: Doble indemnizacion por muerte accidental | B25: 65 | D25: 70 | H25: =2014-65 -> 1949
A26: Exequias | B26: 70 | D26: INDEFINIDAD
A27: El amparo basico cubre el suicidio, Homicidioy el sida desde el inicio de la vigencia.
A28: BENEFICIARIOS: | B28: Para efectos de este seguro los beneficiarios seran los estipulados por cada asegurado o en su defecto los de ley.
A29: Extensiòn de Coberturas ( para todas las coberturas excepto Enfermedades graves): Se amparan los eventos accidentales causados por terrorismo, muerte causada con armas de fuego,cortante, punzante o contundente, el Homicidio en cualquiera de sus modalidades, Peleas, riñas, atraco, embriaguez, contravenciones, fenòmenos de la naturaleza, picaduras de insectos, infecciones baterianas, practica de deportes de alto riesgo en calidad de aficionado, cuando el asegurado se encuentre como pasajero en naves o aeronaves de lineas no comerciales y siempre y cuando no haga parte de la tripulacion y tecnicos de dichos aparatos.
A30: CLAUSULA DE AMPARO AUTOMATICO: Con sujeción a los valores asegurados pactados, la póliza ampara automáticamente a todas las personas que entren a formar parte del grupo asegurado, incluyendo cualquier variación en la suma asegurada que se presente, desde la fecha en que tales modificaciones aparezcan en los registros internos del ASEGURADO. El asegurado se compromete a reportar el numero total de asegurados al final de la vigencia con base en lo cual se efectuara el ajuste anual de prima correspondiente.
A31: DESAPARECIMIENTO: Desapariciòn en Catàstrofes Naturales como Terremotos, Inundaciones y Maremotos. Desaparecidos en un Rio, Lago o Mar. Desapariciòn como consecuencia del extravìo, caida, Explosiòn, Naufragio o encalladura de cualquier vehìculo respecto del cual no exista exclusiòn expresa de cobertura, unicamente cuando sea dictado por un fallo judicial
A32: EL FALLECIMIENTO POR HOMICIDIO SE CONSIDERA MUERTE ACCIDENTAL
A33: CONTINUIDAD DE AMPARO : Como ésta póliza se expide en reemplazo inmediato de otra anterior, La Compañía de Seguros ampara a todas las personas que forman parte del grupo asegurado anterior, sin limitaciones de sus condiciones de salud o su edad, valor asegurado, etc, ni exigencias medicas, otorgando por lo tanto continuidad de cobertura para todo el grupo que viene asegurado en la (s) compañía (s) anterior (es), desde la fecha en la persona ingresó en la (s) póliza (S) contratada (s) por EL ASEGURADO.
