Workbook
Name APU: #REF!
Name APUAUXILIARES: #REF!
Name CODIGOEQUIPOS: #REF!
Name CODIGOMATERIALES: #REF!
Name CÓDIGOS_EQUIPOS: '[7]INSUMOS EQUIPOS'!$A$8:$A$105
Name CÓDIGOS_MANO_DE_OBRA: '[7]INSUMOS MANO DE OBRA'!$A$8:$A$63
Name CODIGOSMANODEOBRA: #REF!
Name CODIGOSSERVICIOS: #REF!
Name CODIGOTRANSPORTES: #REF!
Name FACTORPRESTACIONAL: #REF!
Name INSUMOS_EQUIPOS: '[7]INSUMOS EQUIPOS'!$A$1:$D$105
Name INSUMOS_MANO_DE_OBRA: '[7]INSUMOS MANO DE OBRA'!$A$1:$H$63
Name INSUMOSEQUIPOS: #REF!
Name INSUMOSMANODEOBRA: #REF!
Name INSUMOSMATERIALES: #REF!
Name INSUMOSSERVICIOS: #REF!
Name INSUMOSTRANSPORTES: #REF!
Name MEMORIAS: #REF!
Name PRESUPUESTO: 'SUMINISTRO DE MATERIALES '!$A$7:$H$22
Name PRESUPUESTO: #REF!

Sheet DATOS INICIALES
B1: DEPARTAMENTO DE ANTIOQUIA
B2: MUNICIPIO DE DABEIBA
B3: =B7 -> SUMINISTRO Y TRANSPORTE DE MATERIALES DE CONSTRUCCIÓN REQUERIDOS PARA EL MEJORAMIENTO, ADECUACIÓN Y MANTENIMIENTO DE LAS CASETAS COMUNALES DEL MUNICIPIO DE DABEIBA, ANTIOQUIA; COMO ESTRATEGIA PARA EL FORTALECIMIENTO DE LA INFRAESTRUCTURA COMUNITARIA CONTEMPLADA EN EL PLAN DE DESARROLLO TERRITORIAL 'PRIMERO DABEIBA' 2024-2027
B5: DATOS INICIALES
A6: ENTIDAD: | B6: MUNICIPIO DE DABEIBA | C6: Elija el municipio de la lista desplegable
A7: NOMBRE DEL PROYECTO: | B7: SUMINISTRO Y TRANSPORTE DE MATERIALES DE CONSTRUCCIÓN REQUERIDOS PARA EL MEJORAMIENTO, ADECUACIÓN Y MANTENIMIENTO DE LAS CASETAS COMUNALES DEL MUNICIPIO DE DABEIBA, ANTIOQUIA; COMO ESTRATEGIA PARA EL FORTALECIMIENTO DE LA INFRAESTRUCTURA COMUNITARIA CONTEMPLADA EN EL PLAN DE DESARROLLO TERRITORIAL 'PRIMERO DABEIBA' 2024-2027 | C7: Digite el nombre del proyecto. Recuerde que debe coincidir con el objeto del contrato resultante de este proceso.
A8: RESPONSABLE: | B8: MARLON ASDRUBAL PEREZ HERRERA | C8: Digite el nombre del profesional responsable del presupuesto.
A9: CARGO DE RESPONSABLE: | B9: INGENIERO BANCO DE PROYECTOS | C9: Digite el cargo del profesional responsable del presupuesto.
A10: DEPENDENCIA DE RESPONSABLE: | B10: BANCO DE PROYECTOS - SECRETARÍA DE PLANEACIÓN | C10: Digite el nombre de la dependencia del profesional responsable del presupuesto.
A11: MATRÍCULA PROFESIONAL RESPONSABLE: | B11: MAT No. 05202-354756ANT | C11: Digite la matrícula profesional del profesional responsable del presupuesto.
A12: SALARIO MÍNIMO MENSUAL VIGENTE: | B12: 1750000
A13: AUXILIO DE TRANSPORTE VIGENTE: | B13: 200000
A14: EXONERADO ART 114-1 ET PARA LA OBRA: | B14: SI | C14: Elegir de las listas desplegables (Ver artículo 114-1 del Estatuto Tributario. Cabe aclarar que, al momento de proyectar los documentos del proceso de selección, deberá incluirse el método o procedimiento mediante el cual la Administración se asegurará de que, si el contratista elegido es de naturaleza contraria a esta decisión, el equilibrio contractual se encuentre garantizado).
A15: EXONERADO ART 114-1 ET PARA LA INTERVENTORÍA | B15: SI
A16: NIVEL DE RIESGO ARL APLICABLE | B16: V | C16: Elegir de la lista desplegable (Ver Decreto 1607 de 2002 para asignación de Riesgo ARL Aplicable).
A17: % ARL | B17: =+IF(B16="I",0.522%,IF(B16="II",1.044%,IF(B16="III",2.436%,IF(B16="IV",4.35%,6.96%)))) -> 0.0696
A18: DURACIÓN ESTIMADA DE OBRA (MESES) | B18: 1 | C18: Digite la duración de la obra de acuerdo al cronograma
A19: DISTANCIA A SITIO DE BOTADA DE TIERRA (KM) | B19: 5 | C19: Digite la distancia al sitio de botada de tierra de acuerdo al certificado expedido por la entidad.
A20: DISTANCIA A SITIO DE BOTADA DE ESCOMBROS (KM) | B20: 5 | C20: Digite la distancia al sitio de botada de escombros de acuerdo al certificado expedido por la entidad.
A21: DISTANCIA A SITIO DE PROVISIÓN DE MATERIAL DE PLAYA (ARENILLON, PIEDRA RODADA DE RIO) (KM) | B21: 10 | C21: Digite la distancia al sitio de provisión de material de playa de acuerdo al certificado expedido por la entidad.
A22: DISTANCIA A SITIO DE PROVISIÓN DE MATERIAL DE PLAYA (TRITURADO) (KM) | B22: 10 | C22: Digite la distancia al sitio de provisión de material de playa de acuerdo al certificado expedido por la entidad.
A23: DISTANCIA A SITIO DE PROVISIÓN DE MATERIAL GRANULAR (KM) | B23: 5 | C23: Digite la distancia al sitio de provisión de material granular de acuerdo al certificado expedido por la entidad.
A24: DISTANCIA A SITIO DE PROVISIÓN DE INSUMOS GENERALES (KM) | B24: 5 | C24: Digite la distancia al sitio de provisión de insumos generales de acuerdo al certificado expedido por la entidad.
A25: DISTANCIA A SITIO DE PROVISIÓN DE ASFALTOS (KM) | C25: Digite la distancia al sitio de provisión de asfaltos de acuerdo al certificado expedido por la entidad.
A26: PÓLIZA DE RCE EXIGIBLE A LA INTERVENTORÍA | B26: SI | C26: Elegir de la lista desplegable si se solicitará a la interventoría la póliza de responsabilidad civil extracontractual
A46: Fecha de actualización: 22 de FEBRERO de 2021 | B46: Nota 1: El archivo contiene referencias circulares, por lo tanto se debe tener activo el calculo iterativo de las fórmulas

Sheet PAGA
A1: DEPARTAMENTO DE ANTIOQUIA
A2: ='DATOS INICIALES'!B2 -> MUNICIPIO DE DABEIBA
A3: ='DATOS INICIALES'!B3 -> SUMINISTRO Y TRANSPORTE DE MATERIALES DE CONSTRUCCIÓN REQUERIDOS PARA EL MEJORAMIENTO, ADECUACIÓN Y MANTENIMIENTO DE LAS CASETAS COMUNALES DEL MUNICIPIO DE DABEIBA, ANTIOQUIA; COMO ESTRATEGIA PARA EL FORTALECIMIENTO DE LA INFRAESTRUCTURA COMUNITARIA CONTEMPLADA EN EL PLAN DE DESARROLLO TERRITORIAL 'PRIMERO DABEIBA' 2024-2027
A5: PROGRAMA DE ADAPTACION DE LA GUIA AMBIENTAL DE INVIAS – PAGA.
A7: ITEM | B7: DESCRIPCIÓN | C7: UNIDAD | D7: CANTIDAD | E7: VR.UNITARIO | F7: VALOR TOTAL | H7: EQUIPOS | I7: MATERIALES | J7: TRANSPORTES | K7: MANO DE OBRA | L7: SERVICIOS | M7: TOTAL
A8: 1 | B8: PROGRAMA / PROYECTO GESTIÓN AMBIENTAL
A9: 1.1 | B9: CUMPLIMIENTO DE REQUISITOS LEGALES
B10: TRAMITE DE PERMISO DE OCUPACIÓN DE CAUCE | C10: UN | D10: N/A | F10: 0
A11: 1.2 | B11: MANEJO Y DISPOSICION FINAL DE RESIDUOS SOLIDOS CONVENCIONALES Y ESPECIALES
B12: JUEGO DE TRES RECIPIENTES O CANECAS DE 55 GALONES, PUNTO ECOLOGICO CON SEÑALIZACIÓN INCLUYE IVA | C12: UN | D12: 1 | E12: 350000 | F12: =+IF(D12*E12=0,"",D12*E12) -> 350000
B13: BOLSAS POLIETILENO ALTA DENSIDAD (PAQUETE 100 UNIDADES DE 100 X 100). INCLUYE IVA | C13: UN | D13: =4*4 -> 16 | E13: 18000 | F13: =+IF(D13*E13=0,"",D13*E13) -> 288000
B14: DISPOSICIÓN DE RESIDUOS PELIGROSOS Y ESPECIALES CON EMPRESAS CERTIFICADAS | C14: MES | D14: 4 | E14: 70000 | F14: =+IF(D14*E14=0,"",D14*E14) -> 280000
A15: 1.3 | B15: SEÑALIZACIÓN FRENTES DE OBRAS Y SITIOS TEMPORALES (DEMARCACIÓN DE ÁREAS DE TRABAJO Y CENTROS DE ACOPIO)
B16: TELA VERDE ZARÁN DE H=2,50 Y ESTACONES REDONDOS CADA 1,50M | C16: M | D16: 100 | E16: 12000 | F16: =+IF(D16*E16=0,"",D16*E16) -> 1200000
B17: CINTA SEÑALIZACIÓN CALIBRE 4, 12 CM DE ALTO, COLOR NARANJA - BLANCO O AMARILLO- NEGRO, DE 500 M. (INCLUYE IVA) | C17: ML | D17: 1000 | E17: 60 | F17: =+IF(D17*E17=0,"",D17*E17) -> 60000
A18: 1.4 | B18: PROYECTO DE MANEJO INTEGRAL DE MATERIALES DE CONSTRUCCION Y MANEJO DE FUENTES DE EMISIONES ATMOSFÉRICAS
B19: HUMECTACIÓN DE VÍA/ÁREAS DE TRABAJO PARA CONTROL DE MATERIAL PARTICULADO (INCLUYE IVA) | C19: DÍA | D19: =4*4 -> 16 | E19: 100000 | F19: =+IF(D19*E19=0,"",D19*E19) -> 1600000
B20: TELERAS 1,35M X 0,90 M | C20: UN | D20: 4 | E20: 80000 | F20: =+IF(D20*E20=0,"",D20*E20) -> 320000
B21: LAVADERO DE LLANTAS | C21: UN | D21: 1 | E21: 300000 | F21: =+IF(D21*E21=0,"",D21*E21) -> 300000
B22: PLÁSTICO NEGRO POLIETILENO DE GRUESO CALIBRE, (150 M, CALIBRE 3.5 ANCHO DE 3 M). | C22: ROLLO | D22: 4 | E22: 180000 | F22: =+IF(D22*E22=0,"",D22*E22) -> 720000
A23: 1.5 | B23: MANEJO DE RESIDUOS LÍQUIDOS DOMÉSTICOS E INDUSTRIALES
B24: KIT DE EMERGENCIA PARA DERRAMES | C24: UN | D24: 1 | E24: 180000 | F24: =+IF(D24*E24=0,"",D24*E24) -> 180000
B25: SUBTOTAL GESTIÓN AMBIENTAL | F25: =IF(SUM(F8:F24)=0,"",SUM(F8:F24)) -> 5298000
A26: 2 | B26: PROGRAMA DE SEGURIDAD Y SALUD EN EL TRABAJO
A27: 2.1 | B27: DOTACIÓN DE CAMPAMENTOS /INSTALACIONES PROVISIONALES
B28: SEÑALES DE CAMPAMENTO - AVISOS EN POLIETILENO DE 30 X 50 CM (INCLUYE IVA) | C28: UN | D28: 2 | E28: 25000 | F28: =+IF(D28*E28=0,"",D28*E28) -> 50000
B29: CAMILLA EMERGENCIA POLIETILENO 185X45CM (INCLUYE IVA) | C29: UN | D29: 1 | E29: 160000 | F29: =+IF(D29*E29=0,"",D29*E29) -> 160000
B30: EXTINTOR ABC 20 LB (INCLUYE IVA) | C30: UN | D30: 1 | E30: 100000 | F30: =+IF(D30*E30=0,"",D30*E30) -> 100000
B31: BOTIQUÍN CRUZ ROJA DE PRIMEROS AUXILIOS REF. 115 EN LONA | C31: UN | D31: 1 | E31: 180000 | F31: =+IF(D31*E31=0,"",D31*E31) -> 180000
A32: 2.2 | B32: IMAGEN INSTITUCIONAL
B33: LONA PARA VEHÍCULO (VOLQUETA O CAMIÓN) DE 1,50 X 0,80 M, IMPRESIÓN INJEKT RESISTENTE A LA INTEMPERIE | C33: UN | D33: 2 | E33: 200000 | F33: =+IF(D33*E33=0,"",D33*E33) -> 400000
B34: CARNÉ PERSONAL. | C34: UN | D34: 10 | E34: 5000 | F34: =+IF(D34*E34=0,"",D34*E34) -> 50000
B35: SUBTOTAL GESTIÓN SEGURIDAD Y SALUD EN EL TRABAJO | F35: =IF(SUM(F26:F34)=0,"",SUM(F26:F34)) -> 940000
A36: 3 | B36: GESTIÓN SOCIAL
A37: 3.1 | B37: INFORMACIÓN Y DIVULGACIÓN
B38: PRODUCTOS DE LITOGRAFIA: AFICHES, VOLANTES, PLEGABLES, FORMATOS. | C38: UN | D38: 300 | E38: 500 | F38: =+IF(D38*E38=0,"",D38*E38) -> 150000
B39: BUZÓN PQRS EN ACRÍLICO SEGÚN DISEÑO SUMINISTRADO POR LA ENTIDAD (0,35M*0,45M) | C39: UN | D39: 1 | E39: 80000 | F39: =+IF(D39*E39=0,"",D39*E39) -> 80000
B40: REUNIONES, TALLERES INFORMATIVOS Y DE SOCIALIZACIÓN CON LA COMUNIDAD AFECTADA POR EL PROYECTO. INICIO, AVANCE Y FIN DE OBRA. INCLUYE LOGÍSTICA Y REFRIGERIOS. | C40: UN | D40: 3 | E40: 200000 | F40: =+IF(D40*E40=0,"",D40*E40) -> 600000
B41: SUBTOTAL GESTIÓN SOCIAL | F41: =IF(SUM(F36:F40)=0,"",SUM(F36:F40)) -> 830000
A42: TOTAL PLAN DE MANEJO AMBIENTAL - PMA | F42: =IF(SUM(F10:F41)=0,"",SUM(F25,F35,F41)) -> 7068000
...

Sheet PMT
A1: DEPARTAMENTO DE ANTIOQUIA
A2: MUNICIPIO DE DABEIBA
A3: ='DATOS INICIALES'!B7 -> SUMINISTRO Y TRANSPORTE DE MATERIALES DE CONSTRUCCIÓN REQUERIDOS PARA EL MEJORAMIENTO, ADECUACIÓN Y MANTENIMIENTO DE LAS CASETAS COMUNALES DEL MUNICIPIO DE DABEIBA, ANTIOQUIA; COMO ESTRATEGIA PARA EL FORTALECIMIENTO DE LA INFRAESTRUCTURA COMUNITARIA CONTEMPLADA EN EL PLAN DE DESARROLLO TERRITORIAL 'PRIMERO DABEIBA' 2024-2027
A5: PLAN DE MANEJO DE TRÁNSITO - PMT
A7: ITEM | B7: CÓDIGO | C7: DESCRIPCIÓN | D7: UNIDAD | E7: CANTIDAD | F7: PLAZO | G7: VR.UNITARIO | H7: VALOR TOTAL
A8: 1. DISPOSITIVOS DE CONTROL
A9: 1.1 | C9: BARRICADAS | D9: UNIDAD | E9: 4 | G9: 32000 | H9: =+IF(E9*G9=0,"",E9*G9) -> 128000
A10: 1.2 | C10: PALETAS DE PARE Y SIGA | D10: UNIDAD | E10: 4 | G10: 25000 | H10: =+IF(E10*G10=0,"",E10*G10) -> 100000
A11: 1.3 | C11: DELINEADORES TUBULARES (COLOMBINAS) | D11: UNIDAD | E11: 4 | G11: 40000 | H11: =+IF(E11*G11=0,"",E11*G11) -> 160000
A12: 1.4 | C12: CINTA PLASTICA PELIGRO NO PASE | D12: ML | E12: 1000 | G12: =20000/500 -> 40 | H12: =+IF(E12*G12=0,"",E12*G12) -> 40000
A13: 2. SEÑALIZACION
A14: 2.1 | C14: SEÑALIZACION PRIMER NIVEL (PASAVIAS EN TELA) | D14: UNIDAD | E14: 2 | G14: 150000 | H14: =+IF(E14*G14=0,"",E14*G14) -> 300000
A15: 2.2 | C15: SEÑALES MOVILES DE APROXIMACION | D15: UNIDAD | E15: 2 | G15: 200000 | H15: =+IF(E15*G15=0,"",E15*G15) -> 400000
A16: 3. EQUIPOS VARIOS
A17: 3.1 | C17: CHALECOS REFLECTIVOS | D17: UNIDAD | E17: 2 | G17: 15000 | H17: =+IF(E17*G17=0,"",E17*G17) -> 30000
A18: 3.2 | C18: VOLANTES INFORMATIVOS | D18: UNIDAD | E18: 300 | G18: 500 | H18: =+IF(E18*G18=0,"",E18*G18) -> 150000
A19: 3.3 | C19: PITOS PARA AUXILIARES DE TRANSITO | D19: UNIDAD | E19: 2 | G19: 2000 | H19: =+IF(E19*G19=0,"",E19*G19) -> 4000
A20: 3.4 | C20: PAPELERIA E INFORMES | D20: MES | E20: 1 | G20: 150000 | H20: =+IF(E20*G20=0,"",E20*G20) -> 150000
A21: 3.5 | B21: EQ010 | C21: RADIOTELÉFONOS PARE-SIGA | D21: MES | E21: 1 | F21: 6 | G21: 51800 | H21: =+IF(E21*G21*F21=0,"",E21*G21*F21) -> 310800
A22: 4. PERSONAL
A23: 4.1 | B23: MO038 | C23: AUXILIAR PARE-SIGA | D23: MES | E23: 2 | F23: 6 | G23: =(#REF!+#REF!)*#REF! -> #REF! | H23: =+IF(E23*G23*F23=0,"",E23*G23*F23) -> #REF!
A24: TOTAL PLAN DE MANEJO DE TRÁNSITO - PMT | H24: =IF(SUM(H8:H23)=0,"",SUM(H8:H23)) -> #REF!

Sheet PAPSO 
A3: PRESUPUESTO OFICIAL
A4: ='DATOS INICIALES'!B7 -> SUMINISTRO Y TRANSPORTE DE MATERIALES DE CONSTRUCCIÓN REQUERIDOS PARA EL MEJORAMIENTO, ADECUACIÓN Y MANTENIMIENTO DE LAS CASETAS COMUNALES DEL MUNICIPIO DE DABEIBA, ANTIOQUIA; COMO ESTRATEGIA PARA EL FORTALECIMIENTO DE LA INFRAESTRUCTURA COMUNITARIA CONTEMPLADA EN EL PLAN DE DESARROLLO TERRITORIAL 'PRIMERO DABEIBA' 2024-2027
A5: PROTOCOLO DE BIOSEGURIDAD COVID 19
A6: Plazo | B6: (6) seis meses
A7: Presupuesto de Implementación Protocolo de Bioseguridad
A8: ITEM | B8: DETALLE | C8: UNIDAD DE MEDIDA | D8: OCASIÓN | E8: CANTIDAD MENSUAL | F8: VALOR UNITARIO | G8: VALOR TOTAL | H8: CANTIDADES MAXIMAS | I8: ESPECIFICACIÓN | J8: EQUIPOS | K8: MATERIALES | L8: TRANSPORTES | M8: MANO DE OBRA | N8: SERVICIOS | O8: TOTAL
A9: 1 | B9: Alcohol antiséptico al 70% | C9: Litro | D9: 4 | E9: =27*0.006*30 -> 4.86 | F9: 9000 | G9: =D9*E9*F9 -> 174960 | H9: 0,006 Litro por día por persona | I9: Antiséptico 70%. Ingrediente activo alcohol etílico potabilizado al 96%. Debe contar con registro INVIMA
A10: 2 | B10: Gel antibacterial | C10: Litro | D10: 4 | E10: =0.003*27*30 -> 2.43 | F10: 11085 | G10: =ROUND(D10*E10*F10,0) -> 107746 | H10: 0,003 litros por día por persona. | I10: No requiere enjuague. Antiséptico para manos. Anticorrosivo. PH entre 6 y 7,5. Gel en base Glicerina + Alcohol antiséptico al 70%. Contenido de agua máximo 30%. Adicionado con emulientes y humectantes. Debe contar con registro INVIMA
A11: 3 | B11: Jabón líquido antibacterial | C11: Litro | D11: 4 | E11: =0.005*27*30 -> 4.05 | F11: 3995 | G11: =D11*E11*F11 -> 64719 | H11: 0,005 litros por día por persona | I11: Agente limpiador 6%. Agente humectante 3%, PH 5,5 a 7,0.
A12: 4 | B12: Hipoclorito de uso doméstico | C12: Litro | D12: 4 | E12: =27*0.05*1*0.15*30 -> 6.075 | F12: 2774 | G12: =ROUND(D12*E12*F12,0) -> 67408 | H12: 0,05 litros por cada litro de solución a 2500 ppm, para lavado rutinario. | I12: Hipoclorito de sodio al 5%(NaOCl), solución acuosa, libre de partículas, de control bacteriológico y microbiológico.
A13: 5 | B13: Tapabocas reutilizable en tela | C13: Unidad | D13: 4 | E13: =4*27 -> 108 | F13: 1000 | G13: =D13*E13*F13 -> 432000 | H13: 4 unidades por mes por persona | I13: Se deben seguir las especificaciones de la Resolución 666 del 24 de abril de 2020 y el documento soporte GIPS18 expedidos por el Ministerio de Salud
A14: 6 | B14: Guantes de nitrilo | C14: Par | D14: 4 | E14: =8*27 -> 216 | F14: 598 | G14: =D14*E14*F14 -> 516672 | H14: 2 pares por semana por persona | I14: NTC 2190; UNE EN 374, UNE EN 388, UNE EN 420, UNE EN 455. No esteril. Reutilizables o lavables de calibre de 0.05 mm o 2 mils.
A15: 7 | B15: Termómetro digital infrarrojo | C15: Unidad | D15: 4 | E15: 1 | F15: 299900 | G15: =D15*E15*F15 -> 1199600 | H15: 1 por la obra | I15: Sensibilidad a 0.1 °C. Debe ser específicamente diseñado para leer temperatura corporal y no para cualquier superficie.
A16: 8 | B16: Bomba de espalda | C16: Unidad | D16: 4 | E16: 1 | F16: 124900 | G16: =D16*E16*F16 -> 499600 | H16: 1 por la obra | I16: Aspersor tipo agrícola, portátil, 20 lts de capacidad con sistema, con bomba de acción manual, válvula de descompresión, boquillas plásticas y válvula de diafragma para regular el flujo
A17: COSTO TOTAL IMPLEMENTACIÓN PROTOCOLO DE BIOSEGURIDAD COVID 19 | G17: =SUM(G9:G16) -> 3062705
A18: VALOR COSTO DIRECTO DE OBRA | G18: =#REF! -> #REF!
A19: % TOTAL IMPLEMENTACIÓN PROTOCOLO DE BIOSEGURIDAD | G19: =ROUND(G17/G18,4) -> #REF!
A21: Nota 1: de conformidad con las cantidades máximas para insumos y elementos requeridos para el protocolo de bioseguridad covid 19 establecidas en la circular externa 003 del 07 de mayo de 2020 del Ministerio de Transporte, en el presente proyecto se determina en obra 27 personas, que corresponden a (16) obreros, (4) oficiales, (1) topografo, (1) cadenero, (1) residente de obra contratista, (1) director de obra contratista, (1) Tecnologo SST, (1) Residente ambiental.
A25: SECRETARIA DE PLANEACIÓN E INFRAESTRUCTURA

Sheet INTERVENTORIA
A1: DEPARTAMENTO DE ANTIOQUIA
A2: ='DATOS INICIALES'!B2 -> MUNICIPIO DE DABEIBA
A3: ='DATOS INICIALES'!B3 -> SUMINISTRO Y TRANSPORTE DE MATERIALES DE CONSTRUCCIÓN REQUERIDOS PARA EL MEJORAMIENTO, ADECUACIÓN Y MANTENIMIENTO DE LAS CASETAS COMUNALES DEL MUNICIPIO DE DABEIBA, ANTIOQUIA; COMO ESTRATEGIA PARA EL FORTALECIMIENTO DE LA INFRAESTRUCTURA COMUNITARIA CONTEMPLADA EN EL PLAN DE DESARROLLO TERRITORIAL 'PRIMERO DABEIBA' 2024-2027
A5: PRESUPUESTO INTERVENTORÍA
A7: ITEM | B7: CÓDIGO | C7: DESCRIPCIÓN | D7: CANT | E7: VALOR MENSUAL | F7: PREST. SOC. | G7: DEDIC. % | H7: PLAZO | I7: VALOR PARCIAL
A8: A | B8: COSTOS DIRECTOS DE PERSONAL
A9: 1 | B9: EQUIPO PROFESIONAL | I9: =IFERROR(IF(SUM(I10:I12)=0,"",SUM(I10:I12)),"")
A10: 1.1 | B10: =IF(C10="","",INDEX(CODIGOSMANODEOBRA,MATCH($C10,#REF!,0))) -> #REF! | C10: DIRECTOR DE INTERVENTORÍA | D10: 1 | E10: =IF(C10="","",IFERROR(VLOOKUP($B10,INSUMOSMANODEOBRA,4,0),"")) | F10: 1 | G10: 0.3 | H10: 6 | I10: =+IF(D10=0,"",IFERROR(D10*(E10+F10)*G10*H10,""))
A11: 1.2 | B11: =IF(C11="","",INDEX(CODIGOSMANODEOBRA,MATCH($C11,#REF!,0))) -> #REF! | C11: RESIDENTE DE INTERVENTORÍA | D11: 1 | E11: =IF(C11="","",IFERROR(VLOOKUP($B11,INSUMOSMANODEOBRA,4,0),"")) | F11: 1 | G11: 1 | H11: 6 | I11: =+IF(D11=0,"",IFERROR(D11*(E11+F11)*G11*H11,""))
A12: 1.3 | B12: =IF(C12="","",INDEX(CODIGOSMANODEOBRA,MATCH($C12,#REF!,0))) -> #REF! | C12: RESIDENTE SOCIAL | D12: 1 | E12: =IF(C12="","",IFERROR(VLOOKUP($B12,INSUMOSMANODEOBRA,4,0),"")) | F12: 1 | G12: 0.6 | H12: 6 | I12: =+IF(D12=0,"",IFERROR(D12*(E12+F12)*G12*H12,""))
A13: 2 | B13: 6 | I13: =IFERROR(IF(SUM(I14:I14)=0,"",SUM(I14:I14)),"")
A14: 2.1 | B14: =IF(C14="","",INDEX(CODIGOSMANODEOBRA,MATCH($C14,#REF!,0))) -> #REF! | C14: SECRETARIA | D14: 1 | E14: =IF(C14="","",IFERROR(VLOOKUP($B14,INSUMOSMANODEOBRA,4,0),"")) | F14: 1 | G14: 0.5 | H14: 6 | I14: =+IF(D14=0,"",IFERROR(D14*(E14+F14)*G14*H14,""))
A15: 3 | B15: APLICACIÓN FACTOR MULTIPLICADOR
A16: 3.1 | C16: SUBTOTAL COSTOS DE PERSONAL | I16: =IF(SUM(I9,I13)=0,"",SUM(I9,I13))
A17: 3.2 | C17: FACTOR MULTIPLICADOR | I17: ='FM INTERVENTORIA'!H39
A18: 3.3 | C18: VALOR TOTAL COSTOS DE PERSONAL | I18: =+IFERROR(I16*I17,"")
A19: 4 | B19: Calculo del costo a reconocer por concepto de prestaciones sociales en caso de que el interventor este obligado a realizar aportes a salud, ICBF y SENA
C20: SUBTOTAL COSTOS DE PERSONAL | I20: =IF(SUM(I9,I13)=0,"",SUM(I9,I13))
A21: 4.1 | C21: EPS | H21: 0.085 | I21: =$I$20*H21 -> #VALUE!
A22: 4.2 | C22: ICBF | H22: 0.03 | I22: =$I$20*H22 -> #VALUE!
A23: 4.3 | C23: SENA | H23: 0.02 | I23: =$I$20*H23 -> #VALUE!
C24: VALOR TOTAL | I24: =I21+I22+I23 -> #VALUE!
B25: TOTAL COSTOS DIRECTOS DE PERSONAL | I25: =I24+I18 -> #VALUE!
A26: B | B26: OTROS COSTOS DIRECTOS
A27: 5 | B27: GASTOS DE TRANSPORTE, ALQUILER DE EQUIPO Y OTROS (SE PAGAN CONTRA FACTURA Y RESULTADOS SI APLICA): | I27: =IF(SUM(I28:I40)=0,"",SUM(I28:I40)) -> #VALUE!
A28: 5.1 | B28: =IF(C28="","",INDEX(CODIGOEQUIPOS,MATCH($C28,#REF!,0))) -> #REF! | C28: COMUNICACIONES (TELÉFONO, FAX, CELULAR, INTERNET, ETC.) MENSUAL EN CAMPO | D28: 1 | E28: =IF(C28="","",IFERROR(VLOOKUP($B28,INSUMOSEQUIPOS,4,0),"")) | H28: 6 | I28: =+IFERROR(D28*E28*H28,"")
A29: 5.2 | B29: =IF(C29="","",INDEX(CODIGOEQUIPOS,MATCH($C29,#REF!,0))) -> #REF! | C29: TARIFA PUESTO DE TRABAJO DEL PERSONAL DE OFICINA DE CAMPO, INCLUYE: ALQUILER DE UN (1) EQUIPO DE COMPUTO COMPLETO, ESCRITORIO, SILLA Y OTROS ENSERES DE OFICINA POR PUESTO DE TRABAJO | D29: 2 | E29: =IF(C29="","",IFERROR(VLOOKUP($B29,INSUMOSEQUIPOS,4,0),"")) | H29: 6 | I29: =+IFERROR(D29*E29*H29,"")
A30: 5.3 | B30: =IF(C30="","",INDEX(CODIGOEQUIPOS,MATCH($C30,#REF!,0))) -> #REF! | C30: IMPRESORA EN OBRA (ALQUILER) | D30: 1 | E30: =IF(C30="","",IFERROR(VLOOKUP($B30,INSUMOSEQUIPOS,4,0),"")) | H30: 6 | I30: =+IFERROR(D30*E30*H30,"")
A31: 5.4 | B31: =IF(C31="","",INDEX(CODIGOSSERVICIOS,MATCH($C31,#REF!,0))) -> #REF! | C31: COMISIÓN TOPOGRÁFICA (1 TOP. + 1 CAD. 1) | D31: 2 | E31: =IF(C31="","",IFERROR(VLOOKUP($B31,INSUMOSSERVICIOS,4,0),"")) | H31: 6 | I31: =+IFERROR(D31*E31*H31,"")
A32: 5.5 | B32: =IF(C32="","",INDEX(CODIGOSSERVICIOS,MATCH($C32,#REF!,0))) -> #REF! | C32: Diseños de mezcla para una resistencia determinada (Incluye ensayos a agregados y verificación de resistencia) | D32: 1 | E32: =IF(C32="","",IFERROR(VLOOKUP($B32,INSUMOSSERVICIOS,4,0),"")) | H32: 6 | I32: =+IFERROR(D32*E32*H32,"")
A33: 5.6 | B33: =IF(C33="","",INDEX(CODIGOSSERVICIOS,MATCH($C33,#REF!,0))) -> #REF! | C33: Resistencia a la compresión de cilindros de concreto (método normal) | D33: 3 | E33: =IF(C33="","",IFERROR(VLOOKUP($B33,INSUMOSSERVICIOS,4,0),"")) | H33: 6 | I33: =+IFERROR(D33*E33*H33,"")
A34: 5.7 | B34: =IF(C34="","",INDEX(CODIGOSSERVICIOS,MATCH($C34,#REF!,0))) -> #REF! | C34: Relaciones de humedad - masa unitaria seca en los suelos (ensayo modificado de compactación - Proctor Modificado) con corrección del peso unitario y contenido de agua | D34: 1 | E34: =IF(C34="","",IFERROR(VLOOKUP($B34,INSUMOSSERVICIOS,4,0),"")) | H34: 6 | I34: =+IFERROR(D34*E34*H34,"")
A35: 5.8 | C35: PAPSO INTERVENTORIA (Incluye SISO 10% de dedicación) | D35: 1 | E35: ='PAPSO INTERVENTORIA'!H18/6 -> #REF! | H35: 6 | I35: =+IFERROR(D35*E35*H35,"")
B36: TOTAL OTROS COSTOS DIRECTOS | I36: =IF(SUM(I28:I35)=0,"",SUM(I28:I35))
A37: VALOR BÁSICO TOTAL | I37: =I25+I36 -> #VALUE!
A38: IVA | H38: 0.19 | I38: =+IFERROR(I37*H38,"")
A39: TOTAL INTERVENTORÍA | I39: =IF(I37="","",SUM(I37:I38)) -> #VALUE!
A40: COSTO TOTAL DE LA OBRA | I40: =#REF! -> #REF!
A41: % | I41: =I39/I40 -> #VALUE!
C51: SECRETARIA DE PLANEACIÓN E INFRAESTRUCTURA

Sheet FM INTERVENTORIA
A1: DEPARTAMENTO DE ANTIOQUIA
A2: ='DATOS INICIALES'!B2 -> MUNICIPIO DE DABEIBA
A3: ='DATOS INICIALES'!B3 -> SUMINISTRO Y TRANSPORTE DE MATERIALES DE CONSTRUCCIÓN REQUERIDOS PARA EL MEJORAMIENTO, ADECUACIÓN Y MANTENIMIENTO DE LAS CASETAS COMUNALES DEL MUNICIPIO DE DABEIBA, ANTIOQUIA; COMO ESTRATEGIA PARA EL FORTALECIMIENTO DE LA INFRAESTRUCTURA COMUNITARIA CONTEMPLADA EN EL PLAN DE DESARROLLO TERRITORIAL 'PRIMERO DABEIBA' 2024-2027
A5: FACTOR MULTIPLICADOR INTERVENTORÍA
A7: 1 | B7: SALARIO BÁSICO | H7: =SUM(H8) -> 1
A8: 1.1 | B8: SALARIO BÁSICO | H8: 1
A9: 2 | B9: PRESTACIONES SOCIALES | H9: =SUM(H10:H22) -> 0.4719
A10: 2.1 | B10: PRIMA ANUAL | H10: 0.0833
A11: 2.2 | B11: CESANTÍA ANUAL | H11: 0.0833
A12: 2.3 | B12: INTERÉS A LAS CESANTÍAS | H12: 0.01
A13: 2.4 | B13: VACACIONES ANUALES | H13: 0.0417
A14: 2.5 | B14: EPS | H14: 0 | I14: 8.5
A15: 2.6 | B15: PENSIONES (AFP) | H15: 0.12
A16: 2.7 | B16: SENA | H16: 0 | I16: 0.2
A17: 2.8 | B17: ICBF | H17: 0 | I17: 0.3
A18: 2.9 | B18: SUBSIDIO FAMILIAR (CAJA DE COMPENSACIÓN) | H18: 0.04
A19: 2.10 | B19: ARP 6,96 % NORMAL | H19: 0.0696
A20: 2.11 | B20: DOTACIÓN | H20: 0.008 | I20: ENTRE 0.5% Y 1.5%
A21: 2.12 | B21: EPP | H21: 0.012 | I21: ENTRE 1% Y 2%
A22: 2.13 | B22: EXÁMENES DE INGRESO - EGRESO | H22: 0.004 | I22: ENTRE 0.35% Y 0.65%
A23: 3 | B23: COSTOS INDIRECTOS | H23: =SUM(H24:H28) -> 0
A24: 3.1 | B24: COSTOS OFICINA (ARRENDAMIENTO,ADMINISTRACIÓN Y SERVICIOS PÚLBICOS, MANTENIMIENTO DE OFICINAS, ASEO, VIGILANCIA, SEGUROS DE ROBO E INCENDIO, ALQUILER (O DEPRECIACIÓN) Y MANTENIMIENTO DE VEHÍCULOS DE ADMINISTRACIÓN Y GERENCIA, ASOCIACIONES PROFESIONALES, DOCUMENTACIÓN TÉCNICA, REVISTAS, REPRESENTACIÓN Y PROMOCIÓN, PREPARACIÓN Y EDICIÓN DE PROPUESTAS, GASTOS DE VIAJE, GASTOS DE REPRESENTACIÓN) | C24: 1 | D24: 2500000 | E24: 0.2 | F24: 6 | G24: =+C24*D24*E24*F24 -> 3000000 | H24: =+IFERROR(G24/INTERVENTORIA!$I$20,"")
A25: 3.2 | B25: PAPELERÍA DE LA OFICINA DEL CONSULTOR PARA USO DEL PROYECTO (CAFETERÍA Y OTROS GASTOS FUNCIONAMIENTO | C25: 1 | D25: 400000 | E25: 0.2 | F25: 6 | G25: =+C25*D25*E25*F25 -> 480000 | H25: =+IFERROR(G25/INTERVENTORIA!$I$20,"")
A26: 3.3 | B26: MUEBLES Y EQUIPOS DE OFICINA, PAGO PROGRAMAS, SISTEMATIZACIÓN Y ACTUALIZACIÓN TECNOLÓGICA, RACK. | C26: 1 | D26: 1200000 | E26: 0.2 | F26: 6 | G26: =+C26*D26*E26*F26 -> 1440000 | H26: =+IFERROR(G26/INTERVENTORIA!$I$20,"")
A27: 3.4 | B27: PERSONAL ADMINISTRATIVO, TÉCNICO Y NO TÉCNICO, NO FACTURABLE, ENTRENAMIENTO DE PERSONAL, CAPACITACIÓN Y ACTUALIZACIÓN TÉCNICA (CURSOS, SEMINARIOS, CONGRESOS). | C27: 1 | D27: 2000000 | E27: 0.1 | F27: 6 | G27: =+C27*D27*E27*F27 -> 1200000 | H27: =+IFERROR(G27/INTERVENTORIA!$I$20,"")
A28: 3.5 | B28: ASESORÍA CONTABLE, TRIBUTARIA (REVISORÍA FISCAL) Y MÉDICA | C28: 1 | D28: 2500000 | E28: 0.1 | F28: 6 | G28: =+C28*D28*E28*F28 -> 1500000 | H28: =+IFERROR(G28/INTERVENTORIA!$I$20,"")
A29: 4 | B29: GASTOS DE LEGALIZACIÓN DE CONTRATO | H29: =SUM(H30:H31) -> #VALUE!
A30: 4.1 | B30: PÓLIZAS | G30: =+'POLIZAS INTERVENTORIA'!G21 | H30: ='POLIZAS INTERVENTORIA'!$G$22 -> #VALUE!
A31: 4.2 | B31: ESTAMPILLAS | G31: =IFERROR(IF(SUM(G32:G35)=0,"",SUM(G32:G35)),"") | H31: =SUM(H32:H35) -> 0
A32: 4.2.1 | B32: Pro Hospital | C32: 0.01 | D32: =+IF(INTERVENTORIA!$I$20=0,"",IF(B32="","",INTERVENTORIA!$I$39)) -> #VALUE! | G32: =+IFERROR(IF(C32*D32=0,"",C32*D32),"") | H32: =+IFERROR(G32/INTERVENTORIA!$I$20,"") | I32: COLOCAR LAS ESTAMPILLAS APLICABLES AL MUNICIPIO
A33: 4.2.2 | B33: Pro cultura | C33: 0.02 | D33: =+IF(INTERVENTORIA!$I$20=0,"",IF(B33="","",INTERVENTORIA!$I$39)) -> #VALUE! | G33: =+IFERROR(IF(C33*D33=0,"",C33*D33),"") | H33: =+IFERROR(G33/INTERVENTORIA!$I$20,"")
A34: 4.2.3 | B34: Pro Anciano | C34: 0.04 | D34: =+IF(INTERVENTORIA!$I$20=0,"",IF(B34="","",INTERVENTORIA!$I$39)) -> #VALUE! | G34: =+IFERROR(IF(C34*D34=0,"",C34*D34),"") | H34: =+IFERROR(G34/INTERVENTORIA!$I$20,"")
A35: 4.2.4 | B35: Pro Deporte y Recreación | C35: 0.02 | D35: =+IF(INTERVENTORIA!$I$20=0,"",IF(B35="","",INTERVENTORIA!$I$39)) -> #VALUE! | G35: =+IFERROR(IF(C35*D35=0,"",C35*D35),"") | H35: =+IFERROR(G35/INTERVENTORIA!$I$20,"")
A36: 5 | B36: HONORARIOS | H36: =SUM(H37) -> 0
A37: 4.1 | B37: HONORARIOS | G37: 0.08 | H37: =+IFERROR(G37*(H29+H23+H9+H7),"") | I37: ENTRE 8% Y 12%
A38: SUBTOTAL | H38: =IFERROR(SUM(H36,H29,H23,H9,H7),"")
A39: FACTOR MULTIPLICADOR AJUSTADO A 2 CIFRAS DECIMALES | H39: =+IFERROR(ROUND(H38,2),"")
B49: SECRETARIA DE PLANEACIÓN E INFRAESTRUCTURA

Sheet POLIZAS INTERVENTORIA
A1: DEPARTAMENTO DE ANTIOQUIA
A2: ='DATOS INICIALES'!B6 -> MUNICIPIO DE DABEIBA
A3: ='DATOS INICIALES'!B3 -> SUMINISTRO Y TRANSPORTE DE MATERIALES DE CONSTRUCCIÓN REQUERIDOS PARA EL MEJORAMIENTO, ADECUACIÓN Y MANTENIMIENTO DE LAS CASETAS COMUNALES DEL MUNICIPIO DE DABEIBA, ANTIOQUIA; COMO ESTRATEGIA PARA EL FORTALECIMIENTO DE LA INFRAESTRUCTURA COMUNITARIA CONTEMPLADA EN EL PLAN DE DESARROLLO TERRITORIAL 'PRIMERO DABEIBA' 2024-2027
A5: CÁLCULO DE PÓLIZAS DE OBRA
A6: VALOR DEL CONTRATO ( $ ) | B6: =INTERVENTORIA!I39 -> #VALUE! | C6: =IFERROR(B6/'DATOS INICIALES'!B12,"")
A7: PLAZO DEL CONTRATO | B7: ='DATOS INICIALES'!B18 -> 1 | C7: =+IFERROR(B7*30,"") -> 30
A8: ANTICIPO | B8: 0 | C8: =+IFERROR(B8*B6,"")
A10: TIPO DE GARANTÍA | B10: VALOR ASEGURADO | E10: COBERTURA ( DÍAS ) | F10: TASA ANUAL | G10: PRIMA
B11: % | C11: BASE | D11: VALOR
A12: CUMPLIMIENTO | B12: 0.2 | C12: =$B$6 -> #VALUE! | D12: =IFERROR(B12*C12,"") | E12: =IFERROR($C$7+180,"") -> 210 | F12: 0.002 | G12: =IFERROR(F12*D12*E12/360,"")
A13: BUEN MANEJO Y CORRECTA INVERSIÓN DEL ANTICIPO | B13: 1 | C13: =$C$8 | D13: =IFERROR(B13*C13,"") | E13: =IFERROR($C$7+180,"") -> 210 | F13: 0.0015 | G13: =IFERROR(F13*D13*E13/360,"")
A14: SALARIOS Y PRESTACIONES SOCIALES | B14: 0.2 | C14: =$B$6 -> #VALUE! | D14: =IFERROR(B14*C14,"") | E14: =IFERROR($C$7+1080,"") -> 1110 | F14: 0.0015 | G14: =IFERROR(F14*D14*E14/360,"")
A15: CALIDAD DEL SERVICIO | B15: 0.2 | C15: =$B$6 -> #VALUE! | D15: =IFERROR(B15*C15,"") | E15: =IF($B$6="","",1800) -> #VALUE! | F15: 0.0022 | G15: =IFERROR(F15*D15*E15/360,"")
A16: DECRETO 1082 SMMLV RESPONSABILIDAD CIVIL | B16: SMMLV | C16: MONTO ASEGURABLE | E16: PLAZO MESES | F16: TASA ANUAL | G16: PRIMA
A17: =+IF(B6="","",IF(C6<=1500,200,IF(C6<=2500,300,IF(C6<=5000,400,IF(C6<=10000,500,"5%"))))) -> #VALUE! | B17: ='DATOS INICIALES'!B12 -> 1750000 | C17: =IFERROR(IF(C6>10000,B6+5%,A17*B17),"") | E17: =B7 -> 1 | F17: 0.002 | G17: =IFERROR(F17*E17*C17/12,"")
A18: SUBTOTAL PRIMA | G18: =IF(SUM(G12:G15,G17)=0,"",SUM(G12:G15,G17))
A19: GASTOS DE EXPEDICIÓN | G19: =IF(G19="","",20000) -> 20000
A20: IVA | G20: =IFERROR((G18+G19)*0.19,"")
A21: TOTAL POLIZAS | G21: =IF(G18="","",SUM(G18:G20))
A22: % | G22: =$G$21/$B$6 -> #VALUE!
A30: SECRETARIA DE PLANEACIÓN E INFRAESTRUCTURA

Sheet PAPSO INTERVENTORIA
A1: DEPARTAMENTO DE ANTIOQUIA
A2: ='DATOS INICIALES'!B2 -> MUNICIPIO DE DABEIBA
A3: ='DATOS INICIALES'!B3 -> SUMINISTRO Y TRANSPORTE DE MATERIALES DE CONSTRUCCIÓN REQUERIDOS PARA EL MEJORAMIENTO, ADECUACIÓN Y MANTENIMIENTO DE LAS CASETAS COMUNALES DEL MUNICIPIO DE DABEIBA, ANTIOQUIA; COMO ESTRATEGIA PARA EL FORTALECIMIENTO DE LA INFRAESTRUCTURA COMUNITARIA CONTEMPLADA EN EL PLAN DE DESARROLLO TERRITORIAL 'PRIMERO DABEIBA' 2024-2027
A5: PAPSO INTERVENTORIA
A8: 5 | B8: PAPSO | C8: Unidad de medida | D8: Ocasión | E8: Cant. Mensual | F8: Cant.max y Especificación | G8: Valor Unitario | H8: Valor total
A9: 4.1 | B9: SISO (10% de dedicación) | C9: Und/mes | D9: 6 | E9: 1 | G9: =#REF!*#REF! -> #REF! | H9: =D9*E9*G9*0.1 -> #REF!
A10: 4.2 | B10: Alcohol antiseptico al 70% | C10: Litro | D10: 6 | E10: =3*0.006*30 -> 0.54 | F10: 0,006 Litro por día por persona - Antiséptico 70%. Ingrediente activo alcohol etílico potabilizado al 96%. Debe contar con registro INVIMA | G10: 9000 | H10: =D10*E10*G10 -> 29160
A11: 4.3 | B11: Gel antibacterial | C11: Litro | D11: 6 | E11: =0.003*3*30 -> 0.27 | F11: 0,003 litros por día por persona - No requiere enjuague. Antiséptico para manos. Anticorrosivo. PH entre 6 y 7,5. Gel en base Glicerina + Alcohol antiséptico al 70%. Contenido de agua máximo 30%. Adicionado con emulientes y humectantes. Debe contar con registro INVIMA | G11: 11085 | H11: =D11*E11*G11 -> 17957.7
A12: 4.4 | B12: Jabón líquido antibacterial | C12: Litro | D12: 6 | E12: =0.005*D12*30*3 -> 2.7 | F12: 0,005 litros por día por persona - Agente limpiador 6%. Agente humectante 3%, PH 5,5 a 7,0. | G12: 3995 | H12: =D12*E12*G12 -> 64719
A13: 4.5 | B13: Hipoclorito de uso doméstico | C13: Litro | D13: 6 | E13: =3*0.05*1*0.15*30 -> 0.675 | F13: 0,05 litros por cada litro de solución a 2500 ppm, para lavado rutinario. Hipoclorito de sodio al 5%(NaOCl), solución acuosa, libre de partículas, de control bacteriológico y microbiológico. | G13: 2774 | H13: =D13*E13*G13 -> 11234.7
A14: 4.6 | B14: Tapabocas reutilizable en tela | C14: Unidad | D14: 6 | E14: =4*3 -> 12 | F14: 4 unidades por mes por persona - Se deben seguir las especificaciones de la Resolución 666 del 24 de abril de 2020 y el documento soporte GIPS18 expedidos por el Ministerio de Salud | G14: 1000 | H14: =D14*E14*G14 -> 72000
A15: 4.7 | B15: Guantes de nitrilo | C15: Par | D15: 6 | E15: =8*3 -> 24 | F15: 2 pares por semana por persona - NTC 2190; UNE EN 374, UNE EN 388, UNE EN 420, UNE EN 455. No esteril. Reutilizables o lavables de calibre de 0.05 mm o 2 mils. | G15: 598 | H15: =D15*E15*G15 -> 86112
A16: 4.8 | B16: Termómetro digital infrarrojo | C16: Unidad | D16: 1 | E16: 1 | F16: 1 por la obra, Sensibilidad a 0.1 °C. Debe ser específicamente diseñado para leer temperatura corporal y no para cualquier superficie. | G16: 299000 | H16: 299000
A17: 4.9 | B17: Bomba de espalda | C17: Unidad | D17: 1 | E17: 1 | F17: 1 por la obra, Aspersor tipo agrícola, portátil, 20 lts de capacidad con sistema, con bomba de acción manual, válvula de descompresión, boquillas plásticas y válvula de diafragma para regular el flujo | G17: 499600 | H17: 499600
B18: SUBTOTAL PAPSO | H18: =SUM(H9:H17) -> #REF!
B27: SECRETARIA DE PLANEACIÓN E INFRAESTRUCTURA

Sheet SUMINISTRO DE MATERIALES 
A1: DEPARTAMENTO DE ANTIOQUIA
A2: ='DATOS INICIALES'!B2 -> MUNICIPIO DE DABEIBA
A3: ='DATOS INICIALES'!B3 -> SUMINISTRO Y TRANSPORTE DE MATERIALES DE CONSTRUCCIÓN REQUERIDOS PARA EL MEJORAMIENTO, ADECUACIÓN Y MANTENIMIENTO DE LAS CASETAS COMUNALES DEL MUNICIPIO DE DABEIBA, ANTIOQUIA; COMO ESTRATEGIA PARA EL FORTALECIMIENTO DE LA INFRAESTRUCTURA COMUNITARIA CONTEMPLADA EN EL PLAN DE DESARROLLO TERRITORIAL 'PRIMERO DABEIBA' 2024-2027
A5: PRESUPUESTO GENERAL
A7: ITEM | D7: DESCRIPCIÓN | E7: UNIDAD | F7: CANTIDAD | G7: VR.UNITARIO | H7: VALOR TOTAL
A9: 1
A10: 1.1 | D10: SUMINISTRO Y TRANSPORTE DE TUBO RECTANGULAR | E10: UND | F10: 80
A11: 1.2 | D11: SUMINISTRO Y TRANSPORTE DE TUBO CUADRADO | E11: UND | F11: 28
A12: 1.3 | D12: SUMINISTRO Y TRANSPORTE TEJA ETERNIT N8 | E12: UND | F12: 68
A13: 1.4 | D13: SUMINISTRO Y TRANSPORTE TEJA ETERNIT N10 | E13: UND | F13: 38
A14: 1.5 | D14: SUMINISTRO Y TRANSPORTE DE SACO DE CEMENTO POR 50 KG | E14: KG | F14: 125
A15: 1.6 | D15: SUMINISTRO Y TRANSPORTE DE ANTICORROSIVO CON | E15: M3 | F15: 2
A16: 1.7 | D16: SUMINISTRO Y TRANSPORTE DE DISCO DE CORTE | E16: M3 | F16: 2
A17: 1.8 | D17: SUMINISTRO Y TRANSPORTE DE SOLDADURA 6011 / 6013 | E17: UND | F17: 10
A18: 1.9 | D18: SUMINISTRO Y TRANSPORTE DE THINNER GARRAFA | E18: UND | F18: 4
A19: 1.1 | D19: SUMINISTRO Y TRANSPORTE DE VARILLA CORRUGADA | E19: UND | F19: 20
A20: 1.11 | D20: SUMINISTRO Y TRANSPORTE ADOBE 10X20X40CM | E20: UND | F20: 287
A21: SUBTOTAL COSTOS DIRECTOS
A22: VALOR TOTAL DE SUMINISTRO
