Workbook

Sheet ANÁLISIS VALORES ATÍPICOS
B3: ÍTEM | C3: CÓDIGO DANE | D3: DESCRIPCIÓN DEL BIEN Y/O SERVICIO | E3: UNIDAD MEDIDA | F3: EXISTENCIAS (STOCK - INVENTARIOS) | G3: NECESIDAD | H3: UNSPSC (CCE) | I3: CÓDIGO MATERIAL SAP | J3: CÓDIGO OTAN - NOC | O3: RANGO INTERCUARTÍLICO | P3: LÍMITE INFERIOR | Q3: LÍMITE SUPERIOR
K4: VALOR UNITARIO IVA INCLUIDO | L4: VALOR UNITARIO INCLUIDO IVA | M4: VALOR UNITARIO INCLUIDO IVA | N4: PROYECCIÓN 2026
B5: REPUESTOS EQUIPOS DE COMPUTO: A-02-02-01-004-005 MAQUINARIA DE OFICINA, CONTABILIDAD E INFORMÁTICA “EQUIPOS DE CÓMPUTO"
B6: 1 | C6: 4529001 | D6: ACOPLADOR CONECTOR EXTENSIÓN - ETHERNET PARA CABLE RJ45 COMPATIBLE CON REDES UTP CAT7, CAT6, CAT5E, CAT5. | E6: UNIDAD | F6: 0 | G6: 1 | H6: 43211600 | I6: 1701186 | J6: SIN CREAR | K6: 39666.667 | L6: 59500 | M6: 11235.195 | N6: 593.815 | O6: =QUARTILE(K6:N6,3)-QUARTILE(K6:N6,1) -> 36050.15 | P6: =QUARTILE(K6:N6,1)-O6*1.5 -> -45500.376 | Q6: =QUARTILE(K6:N6,3)+O6*1.5 -> 98700.225
B7: 2 | C7: 4529001 | D7: ADAPTADOR DVI-D MACHO A VGA HEMBRA (DVI 24 + 1 PIN) | E7: UNIDAD | F7: 0 | G7: 1 | H7: 43211600 | I7: 1636658 | J7: SIN CREAR | K7: 391906.67 | L7: 104125 | M7: 26480.832 | N7: 14132.797 | O7: =QUARTILE(K7:N7,3)-QUARTILE(K7:N7,1) -> 152676.59 | P7: =QUARTILE(K7:N7,1)-O7*1.5 -> -205621.07 | Q7: =QUARTILE(K7:N7,3)+O7*1.5 -> 405085.31
B8: 3 | C8: 4529001 | D8: ADAPTADOR DE USB: 4 PUERTOS DE ALTA VELOCIDAD USB 3.0, HASTA 480 MBPS DE TRANSFERENCIA DE DATOS, COMPATIBLE CON USB1.0/1.1, CON INDICADOR LED POR CADA PUERTO QUE SE PUEDEN ENCENDER O APAGAR CON EL CORRESPONDIENTE INTERRUPTOR | E8: UNIDAD | F8: 0 | G8: 1 | H8: 43211600 | I8: 1114330 | J8: SIN CREAR | K8: 23363.667 | L8: 104125 | M8: 39469.087 | N8: 17099.77 | O8: =QUARTILE(K8:N8,3)-QUARTILE(K8:N8,1) -> 33835.373 | P8: =QUARTILE(K8:N8,1)-O8*1.5 -> -28955.367 | Q8: =QUARTILE(K8:N8,3)+O8*1.5 -> 106386.12
B9: 4 | C9: 4529001 | D9: ADAPTADOR DE USB 3.0 A ETHERNET (10/100/1000), QUE FUNCIONE A VELOCIDADES FULL DÚPLEX DE ETHERNET DE 2 GBPS. | E9: UNIDAD | F9: 0 | G9: 1 | H9: 43211600 | I9: 1230777 | J9: SIN CREAR | K9: 23363.667 | L9: 282625 | M9: 68603.5 | N9: 35331.467 | O9: =QUARTILE(K9:N9,3)-QUARTILE(K9:N9,1) -> 89769.358 | P9: =QUARTILE(K9:N9,1)-O9*1.5 -> -102314.52 | Q9: =QUARTILE(K9:N9,3)+O9*1.5 -> 256762.91
B10: 5 | C10: 4529001 | D10: ADAPTADOR DE USB: MULTIPLICADOR DE PUERTOS USB 3.0 QUE PERMITE CONECTAR HASTA 4 DISPOSITIVOS USB CON VELOCIDADES DE TRANSMISIÓN DE HASTA 5GBPS. PLUG AND PLAY (NO REQUIERE INSTALACIÓN DE DRIVERS/CONTROLADORES) | E10: UNIDAD | F10: 0 | G10: 1 | H10: 43211600 | I10: 1114330 | J10: SIN CREAR | K10: 69416.667 | L10: 59500 | M10: 42258.804 | N10: 17099.77 | O10: =QUARTILE(K10:N10,3)-QUARTILE(K10:N10,1) -> 26010.121 | P10: =QUARTILE(K10:N10,1)-O10*1.5 -> -3046.1363 | Q10: =QUARTILE(K10:N10,3)+O10*1.5 -> 100994.35
B11: 6 | C11: 4529001 | D11: ALIMENTADOR DE CORRIENTE - CABLE DE ALIMENTACIÓN UNIVERSAL TNP - NEMA 5-15P - IEC 60320 (ENCHUFE ESTÁNDAR DE 3 PATAS - 3 CLAVIJAS), NEGRO, 6 PIES (FT ) Y/O 2 METROS APROXIMADOS. | E11: UNIDAD | F11: 0 | G11: 1 | H11: 26111700 | I11: 1235827 | J11: SIN CREAR | K11: 243950 | L11: 82487.825 | M11: 22742.28 | N11: 5652.278 | O11: =QUARTILE(K11:N11,3)-QUARTILE(K11:N11,1) -> 104383.59 | P11: =QUARTILE(K11:N11,1)-O11*1.5 -> -138105.6 | Q11: =QUARTILE(K11:N11,3)+O11*1.5 -> 279428.75
B12: 7 | C12: 4529001 | D12: CARGADOR PARA PORTATIL - ALIMENTADOR DE CORRIENTE PARA PORTATILES MARCA LENOVO MODELO Y480 LAPTOP (IDEAPAD) SERIALES CB18649808-CB18639455-CB18640068. | E12: UNIDAD | F12: 0 | G12: 1 | H12: 26111700 | I12: 1643220 | J12: SIN CREAR | K12: 85283.333 | L12: 178500 | M12: 62284.6 | N12: 42398.391 | O12: =QUARTILE(K12:N12,3)-QUARTILE(K12:N12,1) -> 51274.452 | P12: =QUARTILE(K12:N12,1)-O12*1.5 -> -19598.631 | Q12: =QUARTILE(K12:N12,3)+O12*1.5 -> 185499.18
B13: 8 | C13: 4529001 | D13: CARGADOR PARA PORTATIL - ALIMENTADOR DE CORRIENTE PARA PORTATILES MARCA HEWLETT-PACKARD MODELO PC NOTEBOOK HP 1000-1115LA SERIAL 5CG220026B. | E13: UNIDAD | F13: 0 | G13: 1 | H13: 26111700 | I13: 1643220 | J13: SIN CREAR | K13: 45220 | L13: 178500 | M13: 62284.6 | N13: 35331.467 | O13: =QUARTILE(K13:N13,3)-QUARTILE(K13:N13,1) -> 48590.583 | P13: =QUARTILE(K13:N13,1)-O13*1.5 -> -30138.008 | Q13: =QUARTILE(K13:N13,3)+O13*1.5 -> 164224.32
B14: 9 | C14: 4529001 | D14: CARGADOR PARA PORTATIL - ALIMENTADOR DE CORRIENTE. PARA PORTATILES MARCA HEWLETT-PACKARD MODELO PC PORTÁTIL DE ENTRETENIMIENTO HP PAVILION DV6-6C80LA SERIAL 2CE203063M. | E14: UNIDAD | F14: 0 | G14: 1 | H14: 26111700 | I14: 1769384 | J14: SIN CREAR | K14: 515666.67 | L14: 178500 | M14: 62284.6 | N14: 35331.467 | O14: =QUARTILE(K14:N14,3)-QUARTILE(K14:N14,1) -> 207245.35 | P14: =QUARTILE(K14:N14,1)-O14*1.5 -> -255321.71 | Q14: =QUARTILE(K14:N14,3)+O14*1.5 -> 573659.69
B15: 10 | C15: 4529001 | D15: CARGADOR PARA PORTATIL - ALIMENTADOR DE CORRIENTE. PARA PORTATILES MARCA HEWLETT-PACKARD MODELO PC NOTEBOOK HP PROBOOK 440 G2 (ENERGY STAR) SERIAL CND43917YJ. | E15: UNIDAD | F15: 0 | G15: 1 | H15: 26111700 | I15: 1769384 | J15: SIN CREAR | K15: 803250 | L15: 178500 | M15: 62284.6 | N15: 49753.289 | O15: =QUARTILE(K15:N15,3)-QUARTILE(K15:N15,1) -> 275535.73 | P15: =QUARTILE(K15:N15,1)-O15*1.5 -> -354151.82 | Q15: =QUARTILE(K15:N15,3)+O15*1.5 -> 747991.09
B16: 11 | C16: 4529001 | D16: CARGADOR PARA PORTATIL - ALIMENTADOR DE CORRIENTE PARA PORTATILES MARCA HEWLETT-PACKARD MODELO PC NOTEBOOK DE ENTRETENIMIENTO HP PAVILION DV6-4087LA SERIAL CNF1154T8T. | E16: UNIDAD | F16: 0 | G16: 1 | H16: 26111700 | I16: 1643220 | J16: SIN CREAR | K16: 803250 | L16: 178500 | M16: 62284.6 | N16: 49753.289 | O16: =QUARTILE(K16:N16,3)-QUARTILE(K16:N16,1) -> 275535.73 | P16: =QUARTILE(K16:N16,1)-O16*1.5 -> -354151.82 | Q16: =QUARTILE(K16:N16,3)+O16*1.5 -> 747991.09
B17: 12 | C17: 4529001 | D17: CARGADOR PARA PORTATIL - ALIMENTADOR DE CORRIENTE. (CARGADOR) PARA PORTATILES MARCA LENOVO MODELO Z40-70 LAPTOP SERIAL YB09809525-YB09024573. | E17: UNIDAD | F17: 0 | G17: 1 | H17: 26111700 | I17: 1769384 | J17: SIN CREAR | K17: 69416.667 | L17: 208250 | M17: 56025.2 | N17: 35331.467 | O17: =QUARTILE(K17:N17,3)-QUARTILE(K17:N17,1) -> 53273.233 | P17: =QUARTILE(K17:N17,1)-O17*1.5 -> -29058.083 | Q17: =QUARTILE(K17:N17,3)+O17*1.5 -> 184034.85
... B74: 69 | C74: 4529001 | D74: DISCO DURO DE CAPACIDAD 2TB, INTERFAZ SATA 6GB/S, TAMAÑO 2,5" Y VELOCIDAD 7200 RPM. APLICACIONES: PC, PORTATIL, ETC. | E74: UNIDAD | F74: 0 | G74: 1 | H74: 43201800 | I74: 1144781 | J74: SIN CREAR | K74: 299808.6 | L74: 2380000 | M74: 551152.74 | N74: 275151.8 | O74: =QUARTILE(K74:N74,3)-QUARTILE(K74:N74,1) -> 714720.15 | P74: =QUARTILE(K74:N74,1)-O74*1.5 -> -778435.83 | Q74: =QUARTILE(K74:N74,3)+O74*1.5 -> 2080444.8
B75: 70 | C75: 4527101 | D75: CADDY/ADAPTADOR INTERFAZ INTERNA: SATA (PARA HDD/SSD DE 2,5 PULGADAS O UNIDAD SSD) INTERFAZ EXTERNA: SATA (PARA ORDENADOR PORTÁTIL/PLACA MADRE), ADMITE SATA I & SATA II Y SATA III | E75: UNIDAD | F75: 0 | G75: 1 | H75: 43201800 | I75: 1901150 | J75: SIN CREAR | K75: 169122.8 | L75: 53550 | M75: 32855.9 | N75: 16958.936 | O75: =QUARTILE(K75:N75,3)-QUARTILE(K75:N75,1) -> 53561.541 | P75: =QUARTILE(K75:N75,1)-O75*1.5 -> -51460.652 | Q75: =QUARTILE(K75:N75,3)+O75*1.5 -> 162785.51
B76: 71 | C76: 4529001 | D76: CABLE CONVERTIDOR PARA DISCO DURO SATA III DE 2.5 Y 3.5 A USB 3.0 DE ALTA VELOCIDAD DE HASTA 6GBP; LED INDICADOR. | E76: UNIDAD | F76: 0 | G76: 1 | H76: 43211700 | I76: 1514218 | J76: SIN CREAR | K76: 593889.33 | L76: 192214.75 | M76: 61269.316 | N76: 39571.201 | O76: =QUARTILE(K76:N76,3)-QUARTILE(K76:N76,1) -> 236788.61 | P76: =QUARTILE(K76:N76,1)-O76*1.5 -> -299338.13 | Q76: =QUARTILE(K76:N76,3)+O76*1.5 -> 647816.31
B77: 72 | C77: 4529001 | D77: CONVERTIDOR USB 2.0 AUDIO 5.1CH MIC | E77: UNIDAD | F77: 0 | G77: 1 | H77: 43211600 | I77: 1819894 | J77: SIN CREAR | K77: 297500 | L77: 421289.75 | M77: 45660.943 | N77: 11305.607 | O77: =QUARTILE(K77:N77,3)-QUARTILE(K77:N77,1) -> 291375.33 | P77: =QUARTILE(K77:N77,1)-O77*1.5 -> -399990.88 | Q77: =QUARTILE(K77:N77,3)+O77*1.5 -> 765510.43
B78: 73 | C78: 4529001 | D78: CONVERTIDOR ACTIVO DVI D 24+1(DIGITAL) A VGA (ANALOGO): RESOLUCIÓN PC SOPORTADA: 800X600, 1024X768, 1280X768, 1280X800, 1280X960, 1280X1024, 1440X900, 1600X1200, 1680X1050 60HZ, 1920X1080 60HZ, 1920X1200 60HZ, RESOLUCIÓNHDTV SOPORTADA: 480I, 576I, 480 P, 576 P, 1080I Y 1080 P 60HZ, DISPOSITIVOS COMPATIBLES: TARJETAS GRAFICAS, COMPUTADORES DE SOBREMESA, COMPUTADORES PORTÁTILES O CUALQUIER OTRO DISPOSITIVO DE SALIDA DVI-D, CHIPSET: AG6200 | E78: UNIDAD | F78: 0 | G78: 1 | H78: 43202200 | I78: 1636658 | J78: SIN CREAR | K78: 453556.6 | L78: 65450 | M78: 37247 | N78: 27625.535 | O78: =QUARTILE(K78:N78,3)-QUARTILE(K78:N78,1) -> 127635.02 | P78: =QUARTILE(K78:N78,1)-O78*1.5 -> -156610.89 | Q78: =QUARTILE(K78:N78,3)+O78*1.5 -> 353929.17
B79: 74 | C79: 4529001 | D79: PINZA DE PONCHADO PARA CONECTORES RJ45,RJ11,RJ9 PARA RED Y TELEFONÍA. CON CORTADOR Y PELADOR DE CABLE | E79: UNIDAD | F79: 0 | G79: 1 | H79: 43201600 | I79: 1151968 | J79: SIN CREAR | K79: 601576.73 | L79: 103827.5 | M79: 32055.625 | N79: 21198.67 | O79: =QUARTILE(K79:N79,3)-QUARTILE(K79:N79,1) -> 198923.42 | P79: =QUARTILE(K79:N79,1)-O79*1.5 -> -269043.75 | Q79: =QUARTILE(K79:N79,3)+O79*1.5 -> 526649.94
B80: 75 | C80: 4527101 | D80: DISCO DURO EXTERNO 2,5" USB 3.0 CAPACIDAD 1 TB | E80: UNIDAD | F80: 0 | G80: 1 | H80: 43201800 | I80: 1261352 | J80: SIN CREAR | K80: 1037799 | L80: 773500 | M80: 343957.6 | N80: 297072.51 | O80: =QUARTILE(K80:N80,3)-QUARTILE(K80:N80,1) -> 507338.42 | P80: =QUARTILE(K80:N80,1)-O80*1.5 -> -428771.31 | Q80: =QUARTILE(K80:N80,3)+O80*1.5 -> 1600582.4
B81: 76 | C81: 4527201 | D81: DISCO DURO EXTERNO 2,5" USB 3.0 CAPACIDAD 2 TB | E81: UNIDAD | F81: 0 | G81: 1 | H81: 43201800 | I81: 1142717 | J81: SIN CREAR | K81: 277666.67 | L81: 937125 | M81: 481664.4 | N81: 408088.59 | O81: =QUARTILE(K81:N81,3)-QUARTILE(K81:N81,1) -> 220046.44 | P81: =QUARTILE(K81:N81,1)-O81*1.5 -> 45413.44 | Q81: =QUARTILE(K81:N81,3)+O81*1.5 -> 925599.22
B82: 77 | C82: 4527201 | D82: DISCO DURO EXTERNO 1TB HD710M | E82: UNIDAD | F82: 0 | G82: 1 | H82: 43201800 | I82: 1261352 | J82: SIN CREAR | K82: 111066.67 | L82: 1011500 | M82: 643195 | N82: 339086.23 | O82: =QUARTILE(K82:N82,3)-QUARTILE(K82:N82,1) -> 453189.91 | P82: =QUARTILE(K82:N82,1)-O82*1.5 -> -397703.52 | Q82: =QUARTILE(K82:N82,3)+O82*1.5 -> 1415056.1
B83: 78 | C83: 4527201 | D83: FUENTE DE PODER ATX DE 750 WTS DE 24 PINES PC | E83: UNIDAD | F83: 0 | G83: 1 | H83: 43201800 | I83: 1800316 | J83: SIN CREAR | K83: 3966.6667 | L83: 178502.98 | M83: 85891.677 | N83: 51764.903 | O83: =QUARTILE(K83:N83,3)-QUARTILE(K83:N83,1) -> 69229.158 | P83: =QUARTILE(K83:N83,1)-O83*1.5 -> -64028.393 | Q83: =QUARTILE(K83:N83,3)+O83*1.5 -> 212888.24
B84: 79 | C84: 4529001 | D84: FUENTE DE ENERGÍA ININTERRUMPIDA DE MINIMO 300 WATTS (600 VA); 6 TOMAS; VOLTAJE: 110 VOLTIOS, 115, 120; QUE OFREZCA RESPALDO DE MÍNIMO 15 MINUTOS, REGULACION AUTOMATICA DE VOLTAJE, ALARMA VISUAL Y AUDITIVA, POTENCIA ACTIVA NOMINAL DE SALIDA: 240 W; CORRIENTE NOMINAL DE SALIDA: 3,5 AM; TIPO DE BATERÍA: 12 VOLTS / 7 AH * 1 PC; GARANTIA: 1 AÑO; COLOR NEGRO. | E84: UNIDAD | F84: 0 | G84: 1 | H84: 43211600 | I84: 1350440 | J84: SIN CREAR | K84: 23363.667 | L84: 496825 | M84: 370943.15 | N84: 98929.579 | O84: =QUARTILE(K84:N84,3)-QUARTILE(K84:N84,1) -> 322375.51 | P84: =QUARTILE(K84:N84,1)-O84*1.5 -> -403525.16 | Q84: =QUARTILE(K84:N84,3)+O84*1.5 -> 885976.87
B85: 80 | C85: 4529001 | D85: FUSIBLE ELECTRÓNICO DE ALTA VELOCIDADDE PARA PROTECCION DE CIRCUITOS ELECTRONICOS DE AMPS 1-30A | E85: UNIDAD | F85: 0 | G85: 1 | H85: 43211600 | I85: 1739668 | J85: SIN CREAR | K85: 158666.67 | L85: 368900 | M85: 27960.145 | N85: 7065.873 | O85: =QUARTILE(K85:N85,3)-QUARTILE(K85:N85,1) -> 188488.42 | P85: =QUARTILE(K85:N85,1)-O85*1.5 -> -259996.06 | Q85: =QUARTILE(K85:N85,3)+O85*1.5 -> 493957.63
B86: 81 | C86: 4529001 | D86: UPS ININTERUMPIDA U650 VA 8 TOMAS PROTECTOR ENERGIA: ENTRADA; VOLTAJE 110 VOLTIOS, 115,120 VCA, REGULADOR DE VOLTAJE -30% +25%, FRECUENCIA: 50 HZ A 60 HERTZ, SALIDA; RANGO DE VOLTAJE: +/-10%, FRECUENCIA: 50/60 HZ +/-1HZ, TIPO DE ONDA: ONDA CUSISENOIDAL, TRANSFERENCIA: <6MS (TYPICO), TOMAS DE SALIDA: NEMAS5-15R X 8 TOMAS, BATERÍA: TIPO DE BATERÍA: 12 VDC, TIEMPO DE DURACIÓN: 10-15 MINUTOS, TIEMPO DE RECARGA: 5 HORAS | E86: UNIDAD | F86: 0 | G86: 1 | H86: 43211600 | I86: 1812630 | J86: SIN CREAR | K86: 226100 | L86: 351050 | M86: 289194.07 | N86: 197859.16 | O86: =QUARTILE(K86:N86,3)-QUARTILE(K86:N86,1) -> 85618.266 | P86: =QUARTILE(K86:N86,1)-O86*1.5 -> 90612.391 | Q86: =QUARTILE(K86:N86,3)+O86*1.5 -> 433085.45
B87: 82 | C87: 4529001 | D87: UPS 750VA REGULADOR DE VOLTAJE: CAPACIDAD : 750 VAC, VOLTAJE NOMINAL DE ENTRADA : 110 VAC, CONEXIÓN DE ENTRADA : CLAVIJA NEMA 5-15P, CONEXIÓN DE SALIDA : 3 SALIDAS NEMA 5-15R + 1 SALIDA NEMA, BATERÍA : 12V 7,5 AH X 1, DIMENSIONES : 14 X 10 X 33 CM, PESO : 6 KG | E87: UNIDAD | F87: 0 | G87: 1 | H87: 43211600 | I87: 1779431 | J87: SIN CREAR | K87: 198333.33 | L87: 428400 | M87: 318920 | N87: 180799.33 | O87: =QUARTILE(K87:N87,3)-QUARTILE(K87:N87,1) -> 152340.17 | P87: =QUARTILE(K87:N87,1)-O87*1.5 -> -34560.421 | Q87: =QUARTILE(K87:N87,3)+O87*1.5 -> 574800.25
B88: 83 | C88: 4529001 | D88: JUEGO DE BATERÍAS DE 12V - 7 AH, PARA UPS 750 VA - U650 VA, 600 VA Y/O UPS SIMILARES. | E88: UNIDAD | F88: 0 | G88: 1 | H88: 43211600 | I88: 1477765 | J88: SIN CREAR | K88: 376833.33 | L88: 119000 | M88: 81062.8 | N88: 49940.367 | O88: =QUARTILE(K88:N88,3)-QUARTILE(K88:N88,1) -> 110176.14 | P88: =QUARTILE(K88:N88,1)-O88*1.5 -> -91982.021 | Q88: =QUARTILE(K88:N88,3)+O88*1.5 -> 348722.55
B89: 84 | C89: 4529001 | D89: HUB 4 PUERTOS USB 3.0: DIMENSIONES 71 X 71 X 16.6 MM. (2.8 X 2.8 X 0.7 IN), INTERFAZ DE ENTRADA 4 PUERTOS USB 3.0, INTERFAZ DE SALIDA USB 3.0 TIPO-A, CHIPSET VIA VL812 CHIPSET CON ÚLTIMO FIRMWARE, ISTEMAS SOPORTADOS WINDOWS, MAC OS X Y SISTEMAS LINUX, CONTENIDO DE PAQUETE UH400 HUB PORTÁTIL DE 4 PUERTOS USB 3.0 | E89: UNIDAD | F89: 0 | G89: 1 | H89: 43211600 | I89: 1074087 | J89: SIN CREAR | K89: 376833.33 | L89: 208250 | M89: 49765.8 | N89: 24449.413 | O89: =QUARTILE(K89:N89,3)-QUARTILE(K89:N89,1) -> 206959.13 | P89: =QUARTILE(K89:N89,1)-O89*1.5 -> -267001.99 | Q89: =QUARTILE(K89:N89,3)+O89*1.5 -> 560834.53
B90: 85 | C90: 4529001 | D90: REGULADOR ELÉCTRICO DE VOLTAJE 1000 WATTS: CUERPO METÁLICO, VOLTAJE DE ENTRADA 95-135 VOLTIOS, SUPRESOR DE PICOS, FUSIBLE DE 10 AMPERIOS, MULTITOMA 4 SALIDAS | E90: UNIDAD | F90: 0 | G90: 1 | H90: 43211600 | I90: 1812624 | J90: SIN CREAR | K90: 452200 | L90: 832702.5 | M90: 90916 | N90: 75041.4 | O90: =QUARTILE(K90:N90,3)-QUARTILE(K90:N90,1) -> 460378.28 | P90: =QUARTILE(K90:N90,1)-O90*1.5 -> -603620.06 | Q90: =QUARTILE(K90:N90,3)+O90*1.5 -> 1237893
B91: 86 | C91: 4529001 | D91: REGULADOR DE CORRIENTE DE MINIMO 1000 WATTS, 8 TOMAS SALIDAS E INDICADOR LED DE ENCENDIDO- VOLTAJE DE ENTRADA: 90V - 140V-FRECUENCIA: 60 HZ VOLTAJE DE SALIDA VOLTAJE NOMINAL: 120 VAC | E91: UNIDAD | F91: 0 | G91: 1 | H91: 43211600 | I91: 1798487 | J91: SIN CREAR | K91: 779450 | L91: 208250 | M91: 90916 | N91: 75041.4 | O91: =QUARTILE(K91:N91,3)-QUARTILE(K91:N91,1) -> 264102.65 | P91: =QUARTILE(K91:N91,1)-O91*1.5 -> -309206.62 | Q91: =QUARTILE(K91:N91,3)+O91*1.5 -> 747203.98
B92: 87 | C92: 4528101 | D92: KIT ALIMENTADOR DOCUMENTOS PIEZA HP L2718A PARA IMPRESORA HP LASERJET ENTERPRISE MFP M630 | E92: UNIDAD | F92: 0 | G92: 1 | H92: 43202200 | I92: 1769350 | J92: SIN CREAR | K92: 3768333.3 | L92: 773500 | M92: 201190.87 | N92: 171769.13 | O92: =QUARTILE(K92:N92,3)-QUARTILE(K92:N92,1) -> 1328372.9 | P92: =QUARTILE(K92:N92,1)-O92*1.5 -> -1798723.9 | Q92: =QUARTILE(K92:N92,3)+O92*1.5 -> 3514767.7
B93: 88 | C93: 4529001 | D93: KIT DE MANTENIMIENTO PIEZA HP 110V-B3M77A PARA IMPRESORA HP LASERJET ENTERPRISE MFP M630 | E93: UNIDAD | F93: 0 | G93: 1 | H93: 43202200 | I93: 1591746 | J93: SIN CREAR | K93: 3768333.3 | L93: 3808000 | M93: 1190411.4 | N93: 1046077.1 | O93: =QUARTILE(K93:N93,3)-QUARTILE(K93:N93,1) -> 2623922.2 | P93: =QUARTILE(K93:N93,1)-O93*1.5 -> -2781555.4 | Q93: =QUARTILE(K93:N93,3)+O93*1.5 -> 7714133.2
B94: 89 | C94: 4529001 | D94: KIT DE MANTENIMIENTO PARA IMPRESORA HP M428 FDW | E94: UNIDAD | F94: 0 | G94: 1 | H94: 43202200 | I94: 1703849 | J94: SIN CREAR | K94: 595000 | L94: 2603125 | M94: 1130704.6 | N94: 993373.67 | O94: =QUARTILE(K94:N94,3)-QUARTILE(K94:N94,1) -> 605029.44 | P94: =QUARTILE(K94:N94,1)-O94*1.5 -> -13763.902 | Q94: =QUARTILE(K94:N94,3)+O94*1.5 -> 2406353.8
B95: 90 | C95: 4529001 | D95: KIT DE RODILLOS DE TRANSFERENCIA PIEZA B3G84-67901 PARA IMPRESORA HP LASERJET ENTERPRISE MFP M630 | E95: UNIDAD | F95: 0 | G95: 1 | H95: 43202200 | I95: 1769350 | J95: SIN CREAR | K95: 49583.333 | L95: 193375 | M95: 252346.72 | N95: 98929.579 | O95: =QUARTILE(K95:N95,3)-QUARTILE(K95:N95,1) -> 121524.91 | P95: =QUARTILE(K95:N95,1)-O95*1.5 -> -95694.352 | Q95: =QUARTILE(K95:N95,3)+O95*1.5 -> 390405.3
B96: 91 | C96: 4529001 | D96: KIT DE MANTENIMIENTO - PARA ADF SERIE MX810 NÚMERO DE REFERENCIA 40X8431 PARA IMPRESORA HP LASERJET ENTERPRISE MFP M630 | E96: UNIDAD | F96: 0 | G96: 1 | H96: 43202200 | I96: 1731682 | J96: SIN CREAR | K96: 188416.67 | L96: 223125 | M96: 541908.42 | N96: 367441.16 | O96: =QUARTILE(K96:N96,3)-QUARTILE(K96:N96,1) -> 196610.06 | P96: =QUARTILE(K96:N96,1)-O96*1.5 -> -80467.173 | Q96: =QUARTILE(K96:N96,3)+O96*1.5 -> 705973.07
B97: 92 | C97: 4529001 | D97: KIT DE MANTENIMIENTO DEL ADF INCLUYE RODILLO DE RECAMBIO PARA EL ALIMENTADOR DE DOCUMENTOS PIEZA L2718A PARA IMPRESORA HP LASERJET ENTERPRISE MFP M630 | E97: UNIDAD | F97: 0 | G97: 1 | H97: 43202200 | I97: 1731682 | J97: SIN CREAR | K97: 75366.667 | L97: 416500 | M97: 433488.25 | N97: 353319.92 | O97: =QUARTILE(K97:N97,3)-QUARTILE(K97:N97,1) -> 136915.45 | P97: =QUARTILE(K97:N97,1)-O97*1.5 -> 78458.432 | Q97: =QUARTILE(K97:N97,3)+O97*1.5 -> 626120.24
B98: 93 | C98: 4529001 | D98: KIT DE LA GUÍA DE ENTRADA DEL FUSOR PIEZA B3G84-67904 PARA IMPRESORA HP LASERJET ENTERPRISE MFP M630 | E98: UNIDAD | F98: 0 | G98: 1 | H98: 43202200 | I98: 1591744 | J98: SIN CREAR | K98: 19833.333 | L98: 773500 | M98: 158056.32 | N98: 98929.579 | O98: =QUARTILE(K98:N98,3)-QUARTILE(K98:N98,1) -> 232761.73 | P98: =QUARTILE(K98:N98,1)-O98*1.5 -> -269987.07 | Q98: =QUARTILE(K98:N98,3)+O98*1.5 -> 661059.83
...

Sheet OFERTA ECONÓMICA
B2: OFERTA ECONÓMICA
B3: Yo, ____________________________, identificado (a) como aparece al pie de mi firma, actuando en calidad de representante legal de ____________________ (razón social del proponente), presento oferta económica inicial dentro del proceso de Mínima Cuantía, cuyo objeto es: “ADQUISICIÓN Y MANTENIMIENTO DE EQUIPOS MÉDICOS, BIOMÉDICOS Y ELEMENTOS MÉDICOS PARA LAS UNIDADES MILITARES, VIGENCIA 2026.”
B4: ÍTEM | C4: CÓDIGO UNSPSC | D4: DESCRIPCIÓN DEL BIEN Y/O SERVICIO | E4: UNIDAD DE MEDIDA | F4: VALOR UNITARIO ANTES DE IVA | G4: IVA | H4: VALOR UNITARIO IVA INCLUIDO
B5: 1 | C5: 72154101 | D5: SERVICIO DE MANTENIMIENTO PREVENTIVO Y/O CORRECTIVO PARA COMPRESOR DE UNIDAD ODONTOLÓGICA, QUE INCLUYA: REVISIÓN GENERAL, LIMPIEZA INTERNA, LUBRICACIÓN, AJUSTE DE PRESIÓN, VERIFICACIÓN DE FUGAS, CAMBIO DE FILTROS, PRUEBAS DE FUNCIONAMIENTO, CONTROL DE VIBRACIÓN, REVISIÓN ELÉCTRICA Y ENTREGA DE INFORME TÉCNICO DETALLADO. | E5: UN
B6: =B5+1 -> 2 | C6: 41111508 | D6: BÁSCULA PESA-PERSONAS CON TALLÍMETRO INTEGRADO, CAPACIDAD MÍNIMA 300 KG, PRECISIÓN 50 G, PLATAFORMA ANTIDESLIZANTE, ESTRUCTURA METÁLICA REFORZADA, INDICADOR DIGITAL O MECÁNICO DE FÁCIL LECTURA, TALLÍMETRO GRADUADO MÍNIMO HASTA 2,10 M. DEBE ENTREGARSE CON CERTIFICADO DE CALIBRACIÓN VIGENTE EMITIDO POR LABORATORIO ACREDITADO ANTE ONAC. | E6: UN
B7: =B6+1 -> 3 | C7: 42191808 | D7: CAMA HOSPITALARIA MECÁNICA FABRICADA EN ACERO, CON CINCO POSICIONES AJUSTABLES, TENDIDO TROQUELADO DIVIDIDO EN TRES SECCIONES, DOS BARANDAS LATERALES ECUALIZABLES, ATRIL DOBLE GANCHO, CUATRO RUEDAS GRADO HOSPITALARIO DE 3” CON FRENO, CAPACIDAD MÍNIMA DE CARGA 180 KG, ACABADO EN PINTURA ELECTROSTÁTICA. DIMENSIONES MÍNIMAS: LARGO 1,93 M, ANCHO 0,90 M, ALTO 0,50 M. | E7: UN
B8: =B7+1 -> 4 | C8: 42192201 | D8: CAMILLA HOSPITALARIA FIJA TAPIZADA TIPO CORDOBÁN - CAMILLA HOSPITALARIA FIJA CON ESTRUCTURA METÁLICA REFORZADA, SUPERFICIE ACOLCHADA TAPIZADA EN MATERIAL SINTÉTICO TIPO CORDOBÁN, RESISTENTE A FLUIDOS, DESINFECTANTES Y DESGASTE. DIMENSIONES MÍNIMAS: LARGO 1,70 M, ANCHO 0,60 M, ALTURA 0,60 M. SOLDADURAS REFORZADAS Y PATAS ANTIDESLIZANTES. | E8: UN
B9: =B8+1 -> 5 | C9: 42182005 | D9: EQUIPO DE ÓRGANOS DE PARED (OTOSCOPIO + OFTALMOSCOPIO) EQUIPO DE ÓRGANOS DE PARED CON TRANSFORMADOR DE 3.5V, DOS MANGOS ERGONÓMICOS, CABEZALES DE OTOSCOPIO Y OFTALMOSCOPIO, ILUMINACIÓN LED DE ALTA EFICIENCIA, ENCENDIDO/APAGADO AUTOMÁTICO, FILTROS DIAGNÓSTICOS, COMPATIBILIDAD ELECTROMAGNÉTICA, CARCASA RESISTENTE Y SISTEMA DE MONTAJE SEGURO.
B10: VALOR TOTAL
B11: FIRMA Y DATOS DEL REPRESENTANTE LEGAL
B12: Firma:
B13: Nombre:
B14: Cédula de ciudadanía:
B15: En representación de:
B16: NIT:

Sheet CANTIDADES MÍNIMAS
B3: ÍTEM | C3: CÓDIGO DANE | D3: DESCRIPCIÓN DEL BIEN Y/O SERVICIO | E3: UNIDAD MEDIDA | F3: EXISTENCIAS (STOCK - INVENTARIOS) | G3: BAACA10 | H3: BAACA2 | I3: BACAC | J3: BAMAD3 | K3: BAS10 | L3: BICAR | M3: BIMOC | N3: BR10 | O3: CENAC VALLEDUPAR | P3: DIM15 | Q3: FUTAM | R3: GMMAT | S3: GMRON | T3: NT | U3: M | V3: L | W3: PRECIO UNITARIO DE REFERENCIA | X3: VALOR TOTAL | Y3: BAACA10 | AC3: BAACA2 | AG3: BACAC | AK3: BAMAD3 | AO3: BAS10 | AS3: BICAR | AW3: BIMOC | BA3: BR10 | BE3: CENAC VALLEDUPAR | BI3: DIM15 | BM3: FUTAM | BQ3: GMMAT | BU3: GMRON
Y4: NT | Z4: M | AA4: L | AB4: VT | AC4: NT | AD4: M | AE4: L | AF4: VT | AG4: NT | AH4: M | AI4: L | AJ4: VT | AK4: NT | AL4: M | AM4: L | AN4: VT | AO4: NT | AP4: M | AQ4: L | AR4: VT | AS4: NT | AT4: M | AU4: L | AV4: VT | AW4: NT | AX4: M | AY4: L | AZ4: VT | BA4: NT | BB4: M | BC4: L | BD4: VT | BE4: NT | BF4: M | BG4: L | BH4: VT | BI4: NT | BJ4: M | BK4: L | BL4: VT | BM4: NT | BN4: M | BO4: L | BP4: VT | BQ4: NT | BR4: M | BS4: L | BT4: VT | BU4: NT | BV4: M | BW4: L | BX4: VT
B5: DOTACION UNIFORME FEMENINO PERSONAL AUXILIAR ADMINISTRATIVO DOTACION DE VESTUARIO CIVIL CLIMA CALIDO Y FRIO NTMD-0359
B6: A-02-02-01-002-008 DOTACIÓN (PRENDAS DE VESTIR Y CALZADO)
B7: ='OFERTA ECONÓMICA'!B5 -> 1 | C7: ='OFERTA ECONÓMICA'!C5 -> 72154101 | D7: ='OFERTA ECONÓMICA'!D5 -> SERVICIO DE MANTENIMIENTO PREVENTIVO Y/O CORRECTIVO PARA COMPRESOR DE UNIDAD ODONTOLÓGICA, QUE INCLUYA: REVISIÓN GENERAL, LIMPIEZA INTERNA, LUBRICACIÓN, AJUSTE DE PRESIÓN, VERIFICACIÓN DE FUGAS, CAMBIO DE FILTROS, PRUEBAS DE FUNCIONAMIENTO, CONTROL DE VIBRACIÓN, REVISIÓN ELÉCTRICA Y ENTREGA DE INFORME TÉCNICO DETALLADO. | E7: ='OFERTA ECONÓMICA'!E5 -> UN | F7: ='OFERTA ECONÓMICA'!#REF! -> #REF! | G7: ='OFERTA ECONÓMICA'!#REF! -> #REF! | H7: ='OFERTA ECONÓMICA'!#REF! -> #REF! | I7: ='OFERTA ECONÓMICA'!#REF! -> #REF! | J7: ='OFERTA ECONÓMICA'!#REF! -> #REF! | K7: ='OFERTA ECONÓMICA'!#REF! -> #REF! | L7: ='OFERTA ECONÓMICA'!#REF! -> #REF! | M7: ='OFERTA ECONÓMICA'!#REF! -> #REF! | ... T7: ='OFERTA ECONÓMICA'!#REF! -> #REF! | W7: ='OFERTA ECONÓMICA'!#REF! -> #REF! | X7: =U7*W7 -> #REF! | Y7: =G7 -> #REF! | Z7: 2 | AB7: =Z7*W7 -> #REF! | AC7: =H7 -> #REF! | AG7: =I7 -> #REF! | AK7: =J7 -> #REF! | AO7: =K7 -> #REF! | AS7: =L7 -> #REF! | AW7: =M7 -> #REF! | BA7: =N7 -> #REF! | BE7: =O7 -> #REF! | BI7: =P7 -> #REF! | BM7: =Q7 -> #REF! | BQ7: =R7 -> #REF! | BU7: =S7 -> #REF!
B8: ='OFERTA ECONÓMICA'!B6 -> 2 | C8: ='OFERTA ECONÓMICA'!C6 -> 41111508 | D8: ='OFERTA ECONÓMICA'!D6 -> BÁSCULA PESA-PERSONAS CON TALLÍMETRO INTEGRADO, CAPACIDAD MÍNIMA 300 KG, PRECISIÓN 50 G, PLATAFORMA ANTIDESLIZANTE, ESTRUCTURA METÁLICA REFORZADA, INDICADOR DIGITAL O MECÁNICO DE FÁCIL LECTURA, TALLÍMETRO GRADUADO MÍNIMO HASTA 2,10 M. DEBE ENTREGARSE CON CERTIFICADO DE CALIBRACIÓN VIGENTE EMITIDO POR LABORATORIO ACREDITADO ANTE ONAC. | E8: ='OFERTA ECONÓMICA'!E6 -> UN | F8: ='OFERTA ECONÓMICA'!#REF! -> #REF! | G8: ='OFERTA ECONÓMICA'!#REF! -> #REF! | H8: ='OFERTA ECONÓMICA'!#REF! -> #REF! | I8: ='OFERTA ECONÓMICA'!#REF! -> #REF! | J8: ='OFERTA ECONÓMICA'!#REF! -> #REF! | K8: ='OFERTA ECONÓMICA'!#REF! -> #REF! | L8: ='OFERTA ECONÓMICA'!#REF! -> #REF! | M8: ='OFERTA ECONÓMICA'!#REF! -> #REF! | ... T8: ='OFERTA ECONÓMICA'!#REF! -> #REF! | W8: ='OFERTA ECONÓMICA'!#REF! -> #REF! | X8: =U8*W8 -> #REF! | Y8: =G8 -> #REF! | Z8: 6 | AB8: =Z8*W8 -> #REF! | AC8: =H8 -> #REF! | AG8: =I8 -> #REF! | AK8: =J8 -> #REF! | AO8: =K8 -> #REF! | AS8: =L8 -> #REF! | AW8: =M8 -> #REF! | BA8: =N8 -> #REF! | BE8: =O8 -> #REF! | BI8: =P8 -> #REF! | BM8: =Q8 -> #REF! | BQ8: =R8 -> #REF! | BU8: =S8 -> #REF!
B9: ='OFERTA ECONÓMICA'!B7 -> 3 | C9: ='OFERTA ECONÓMICA'!C7 -> 42191808 | D9: ='OFERTA ECONÓMICA'!D7 -> CAMA HOSPITALARIA MECÁNICA FABRICADA EN ACERO, CON CINCO POSICIONES AJUSTABLES, TENDIDO TROQUELADO DIVIDIDO EN TRES SECCIONES, DOS BARANDAS LATERALES ECUALIZABLES, ATRIL DOBLE GANCHO, CUATRO RUEDAS GRADO HOSPITALARIO DE 3” CON FRENO, CAPACIDAD MÍNIMA DE CARGA 180 KG, ACABADO EN PINTURA ELECTROSTÁTICA. DIMENSIONES MÍNIMAS: LARGO 1,93 M, ANCHO 0,90 M, ALTO 0,50 M. | E9: ='OFERTA ECONÓMICA'!E7 -> UN | F9: ='OFERTA ECONÓMICA'!#REF! -> #REF! | G9: ='OFERTA ECONÓMICA'!#REF! -> #REF! | H9: ='OFERTA ECONÓMICA'!#REF! -> #REF! | I9: ='OFERTA ECONÓMICA'!#REF! -> #REF! | J9: ='OFERTA ECONÓMICA'!#REF! -> #REF! | K9: ='OFERTA ECONÓMICA'!#REF! -> #REF! | L9: ='OFERTA ECONÓMICA'!#REF! -> #REF! | M9: ='OFERTA ECONÓMICA'!#REF! -> #REF! | ... T9: ='OFERTA ECONÓMICA'!#REF! -> #REF! | W9: ='OFERTA ECONÓMICA'!#REF! -> #REF! | X9: =U9*W9 -> #REF! | Y9: =G9 -> #REF! | Z9: 4 | AB9: =Z9*W9 -> #REF! | AC9: =H9 -> #REF! | AG9: =I9 -> #REF! | AK9: =J9 -> #REF! | AO9: =K9 -> #REF! | AS9: =L9 -> #REF! | AW9: =M9 -> #REF! | BA9: =N9 -> #REF! | BE9: =O9 -> #REF! | BI9: =P9 -> #REF! | BM9: =Q9 -> #REF! | BQ9: =R9 -> #REF! | BU9: =S9 -> #REF!
B10: ='OFERTA ECONÓMICA'!B8 -> 4 | C10: ='OFERTA ECONÓMICA'!C8 -> 42192201 | D10: ='OFERTA ECONÓMICA'!D8 -> CAMILLA HOSPITALARIA FIJA TAPIZADA TIPO CORDOBÁN - CAMILLA HOSPITALARIA FIJA CON ESTRUCTURA METÁLICA REFORZADA, SUPERFICIE ACOLCHADA TAPIZADA EN MATERIAL SINTÉTICO TIPO CORDOBÁN, RESISTENTE A FLUIDOS, DESINFECTANTES Y DESGASTE. DIMENSIONES MÍNIMAS: LARGO 1,70 M, ANCHO 0,60 M, ALTURA 0,60 M. SOLDADURAS REFORZADAS Y PATAS ANTIDESLIZANTES. | E10: ='OFERTA ECONÓMICA'!E8 -> UN | F10: ='OFERTA ECONÓMICA'!#REF! -> #REF! | G10: ='OFERTA ECONÓMICA'!#REF! -> #REF! | H10: ='OFERTA ECONÓMICA'!#REF! -> #REF! | I10: ='OFERTA ECONÓMICA'!#REF! -> #REF! | J10: ='OFERTA ECONÓMICA'!#REF! -> #REF! | K10: ='OFERTA ECONÓMICA'!#REF! -> #REF! | L10: ='OFERTA ECONÓMICA'!#REF! -> #REF! | M10: ='OFERTA ECONÓMICA'!#REF! -> #REF! | ... T10: ='OFERTA ECONÓMICA'!#REF! -> #REF! | W10: ='OFERTA ECONÓMICA'!#REF! -> #REF! | X10: =U10*W10 -> #REF! | Y10: =G10 -> #REF! | Z10: 4 | AB10: =Z10*W10 -> #REF! | AC10: =H10 -> #REF! | AG10: =I10 -> #REF! | AK10: =J10 -> #REF! | AO10: =K10 -> #REF! | AS10: =L10 -> #REF! | AW10: =M10 -> #REF! | BA10: =N10 -> #REF! | BE10: =O10 -> #REF! | BI10: =P10 -> #REF! | BM10: =Q10 -> #REF! | BQ10: =R10 -> #REF! | BU10: =S10 -> #REF!
B11: ='OFERTA ECONÓMICA'!B9 -> 5 | C11: ='OFERTA ECONÓMICA'!C9 -> 42182005 | D11: ='OFERTA ECONÓMICA'!D9 -> EQUIPO DE ÓRGANOS DE PARED (OTOSCOPIO + OFTALMOSCOPIO) EQUIPO DE ÓRGANOS DE PARED CON TRANSFORMADOR DE 3.5V, DOS MANGOS ERGONÓMICOS, CABEZALES DE OTOSCOPIO Y OFTALMOSCOPIO, ILUMINACIÓN LED DE ALTA EFICIENCIA, ENCENDIDO/APAGADO AUTOMÁTICO, FILTROS DIAGNÓSTICOS, COMPATIBILIDAD ELECTROMAGNÉTICA, CARCASA RESISTENTE Y SISTEMA DE MONTAJE SEGURO. | E11: ='OFERTA ECONÓMICA'!E9 -> 0 | F11: ='OFERTA ECONÓMICA'!#REF! -> #REF! | G11: ='OFERTA ECONÓMICA'!#REF! -> #REF! | H11: ='OFERTA ECONÓMICA'!#REF! -> #REF! | I11: ='OFERTA ECONÓMICA'!#REF! -> #REF! | J11: ='OFERTA ECONÓMICA'!#REF! -> #REF! | K11: ='OFERTA ECONÓMICA'!#REF! -> #REF! | L11: ='OFERTA ECONÓMICA'!#REF! -> #REF! | M11: ='OFERTA ECONÓMICA'!#REF! -> #REF! | ... T11: ='OFERTA ECONÓMICA'!#REF! -> #REF! | W11: ='OFERTA ECONÓMICA'!#REF! -> #REF! | X11: =U11*W11 -> #REF! | Y11: =G11 -> #REF! | Z11: 2 | AB11: =Z11*W11 -> #REF! | AC11: =H11 -> #REF! | AG11: =I11 -> #REF! | AK11: =J11 -> #REF! | AO11: =K11 -> #REF! | AS11: =L11 -> #REF! | AW11: =M11 -> #REF! | BA11: =N11 -> #REF! | BE11: =O11 -> #REF! | BI11: =P11 -> #REF! | BM11: =Q11 -> #REF! | BQ11: =R11 -> #REF! | BU11: =S11 -> #REF!
B12: VALOR TOTAL DE LA NECESIDAD | Y12: =SUM(AB7:AB11) -> #REF! | AC12: =SUM(AF7:AF11) -> 0 | AG12: =SUM(AJ7:AJ11) -> 0 | AK12: =SUM(AN7:AN11) -> 0 | AO12: =SUM(AR7:AR11) -> 0 | AS12: =SUM(AV7:AV11) -> 0 | AW12: =SUM(AZ7:AZ11) -> 0 | BA12: =SUM(BD7:BD11) -> 0 | BE12: =SUM(BH7:BH11) -> 0 | BI12: =SUM(BL7:BL11) -> 0 | BM12: =SUM(BP7:BP11) -> 0 | BQ12: =SUM(BT7:BT11) -> 0 | BU12: =SUM(BX7:BX11) -> 0
B13: PRESUPUESTO ASIGNADO | Y13: =SUM(#REF!) -> #REF! | AC13: =SUM(#REF!) -> #REF! | AG13: =SUM(#REF!) -> #REF! | AK13: =SUM(#REF!) -> #REF! | AO13: =SUM(#REF!) -> #REF! | AS13: =SUM(#REF!) -> #REF! | AW13: =SUM(#REF!) -> #REF! | BA13: =SUM(#REF!) -> #REF! | BE13: =SUM(#REF!) -> #REF! | BI13: =SUM(#REF!) -> #REF! | BM13: =SUM(#REF!) -> #REF! | BQ13: =SUM(#REF!) -> #REF! | BU13: =SUM(#REF!) -> #REF!
B14: SALDO | Y14: =Y13-Y12 -> #REF! | AC14: =AC13-AC12 -> #REF! | AG14: =AG13-AG12 -> #REF! | AK14: =AK13-AK12 -> #REF! | AO14: =AO13-AO12 -> #REF! | AS14: =AS13-AS12 -> #REF! | AW14: =AW13-AW12 -> #REF! | BA14: =BA13-BA12 -> #REF! | BE14: =BE13-BE12 -> #REF! | BI14: =BI13-BI12 -> #REF! | BM14: =BM13-BM12 -> #REF! | BQ14: =BQ13-BQ12 -> #REF! | BU14: =BU13-BU12 -> #REF!
B16: DOTACION UNIFORME MASCULINO PERSONAL AUXILIAR ADMINISTRATIVO DOTACION DE VESTUARIO CIVIL CLIMA CALIDO Y FRIO NTMD-0359
B17: A-02-02-01-002-008 DOTACIÓN (PRENDAS DE VESTIR Y CALZADO)
B18: ÍTEM | C18: CÓDIGO DANE | D18: DESCRIPCIÓN DEL BIEN Y/O SERVICIO | E18: UNIDAD MEDIDA | F18: EXISTENCIAS (STOCK - INVENTARIOS) | G18: ='OFERTA ECONÓMICA'!#REF! -> #REF! | H18: ='OFERTA ECONÓMICA'!#REF! -> #REF! | I18: ='OFERTA ECONÓMICA'!#REF! -> #REF! | J18: ='OFERTA ECONÓMICA'!#REF! -> #REF! | K18: ='OFERTA ECONÓMICA'!#REF! -> #REF! | L18: ='OFERTA ECONÓMICA'!#REF! -> #REF! | M18: ='OFERTA ECONÓMICA'!#REF! -> #REF! | N18: ='OFERTA ECONÓMICA'!#REF! -> #REF! | ... S18: ='OFERTA ECONÓMICA'!#REF! -> #REF! | T18: NT | U18: M | V18: L | W18: PRECIO UNITARIO DE REFERENCIA | X18: VALOR TOTAL | Y18: BAACA10 | AC18: BAACA2 | AG18: BACAC | AK18: BAMAD3 | AO18: BAS10 | AS18: BICAR | AW18: BIMOC | BA18: BR10 | BE18: CENAC VALLEDUPAR | BI18: DIM15 | BM18: FUTAM | BQ18: GMMAT | BU18: GMRON
H19: ='OFERTA ECONÓMICA'!#REF! -> #REF! | I19: ='OFERTA ECONÓMICA'!#REF! -> #REF! | J19: ='OFERTA ECONÓMICA'!#REF! -> #REF! | K19: ='OFERTA ECONÓMICA'!#REF! -> #REF! | L19: ='OFERTA ECONÓMICA'!#REF! -> #REF! | M19: ='OFERTA ECONÓMICA'!#REF! -> #REF! | N19: ='OFERTA ECONÓMICA'!#REF! -> #REF! | O19: ='OFERTA ECONÓMICA'!#REF! -> #REF! | ... S19: ='OFERTA ECONÓMICA'!#REF! -> #REF! | Y19: NT | Z19: M | AA19: L | AB19: VT | AC19: NT | AD19: M | AE19: L | AF19: VT | AG19: NT | AH19: M | AI19: L | AJ19: VT | AK19: NT | AL19: M | AM19: L | AN19: VT | AO19: NT | AP19: M | AQ19: L | AR19: VT | AS19: NT | AT19: M | AU19: L | AV19: VT | AW19: NT | AX19: M | AY19: L | AZ19: VT | BA19: NT | BB19: M | BC19: L | BD19: VT | BE19: NT | BF19: M | BG19: L | BH19: VT | BI19: NT | BJ19: M | BK19: L | BL19: VT | BM19: NT | BN19: M | BO19: L | BP19: VT | BQ19: NT | BR19: M | BS19: L | BT19: VT | BU19: NT | BV19: M | BW19: L | BX19: VT
B20: ='OFERTA ECONÓMICA'!#REF! -> #REF! | C20: 2823101 | D20: DOTACIÓN DE VESTUARIO CIVIL CLIMA CÁLIDO Y FRÍO NTMD-0359. 3.1.2.1 Diseño y confección vestido formal. Se compone de dos piezas: saco y pantalón (NTMD-0359). Saco ítem 3.1.2.1.1, pág. 11. Pantalón ítem 3.1.2.1.2, pág. 12. Color (opcional). | E20: UNIDAD | F20: 0 | G20: ='OFERTA ECONÓMICA'!#REF! -> #REF! | H20: ='OFERTA ECONÓMICA'!#REF! -> #REF! | I20: ='OFERTA ECONÓMICA'!#REF! -> #REF! | J20: ='OFERTA ECONÓMICA'!#REF! -> #REF! | K20: ='OFERTA ECONÓMICA'!#REF! -> #REF! | L20: ='OFERTA ECONÓMICA'!#REF! -> #REF! | M20: ='OFERTA ECONÓMICA'!#REF! -> #REF! | N20: ='OFERTA ECONÓMICA'!#REF! -> #REF! | ... T20: ='OFERTA ECONÓMICA'!#REF! -> #REF! | W20: ='OFERTA ECONÓMICA'!#REF! -> #REF! | X20: =U20*W20 -> #REF! | Y20: =G20 -> #REF! | AC20: =H20 -> #REF! | AG20: =I20 -> #REF! | AK20: =J20 -> #REF! | AO20: =K20 -> #REF! | AS20: =L20 -> #REF! | AW20: =M20 -> #REF! | BA20: =N20 -> #REF! | BE20: =O20 -> #REF! | BI20: =P20 -> #REF! | BM20: =Q20 -> #REF! | BQ20: =R20 -> #REF! | BU20: =S20 -> #REF!
B21: =B20+1 -> #REF! | C21: 2823213 | D21: DOTACIÓN DE VESTUARIO CIVIL CLIMA CÁLIDO Y FRÍO NTMD-0359. 3.1.2.2 Diseño y confección camisa formal manga larga. El cuello de la camisa debe ser compuesto tipo corbata con pie de cuello y su respectivo botón; debe ir unido al cuerpo de la camisa mediante costura doble, terminado en puntas con botón para ajustar la punta del cuello al cuerpo de la camisa a cada lado, con un refuerzo como elemento estructural elaborado en un material que no se deforme, no se quiebre ni se marque en el planchado, pág. 12 (NTMD-0359). Color (opcional). | E21: UNIDAD | F21: 0 | G21: ='OFERTA ECONÓMICA'!#REF! -> #REF! | H21: ='OFERTA ECONÓMICA'!#REF! -> #REF! | I21: ='OFERTA ECONÓMICA'!#REF! -> #REF! | J21: ='OFERTA ECONÓMICA'!#REF! -> #REF! | K21: ='OFERTA ECONÓMICA'!#REF! -> #REF! | L21: ='OFERTA ECONÓMICA'!#REF! -> #REF! | M21: ='OFERTA ECONÓMICA'!#REF! -> #REF! | N21: ='OFERTA ECONÓMICA'!#REF! -> #REF! | ... T21: ='OFERTA ECONÓMICA'!#REF! -> #REF! | W21: ='OFERTA ECONÓMICA'!#REF! -> #REF! | X21: =U21*W21 -> #REF! | Y21: =G21 -> #REF! | AC21: =H21 -> #REF! | AG21: =I21 -> #REF! | AK21: =J21 -> #REF! | AO21: =K21 -> #REF! | AS21: =L21 -> #REF! | AW21: =M21 -> #REF! | BA21: =N21 -> #REF! | BE21: =O21 -> #REF! | BI21: =P21 -> #REF! | BM21: =Q21 -> #REF! | BQ21: =R21 -> #REF! | BU21: =S21 -> #REF!
B22: =B21+1 -> #REF! | C22: 2823125 | D22: DOTACIÓN DE VESTUARIO CIVIL CLIMA CÁLIDO Y FRÍO NTMD-0359. 3.1.2.13 Diseño y confección pantalón dril formal. Confeccionado en dos (2) delanteros y dos (2) posteriores de bota semientubada, con pretina elaborada en el mismo material del pantalón, en su contorno con mínimo seis (6) pasadores distribuidos equidistantemente, pág. 17 (NTMD-0359). | E22: UNIDAD | F22: 0 | G22: ='OFERTA ECONÓMICA'!#REF! -> #REF! | H22: ='OFERTA ECONÓMICA'!#REF! -> #REF! | I22: ='OFERTA ECONÓMICA'!#REF! -> #REF! | J22: ='OFERTA ECONÓMICA'!#REF! -> #REF! | K22: ='OFERTA ECONÓMICA'!#REF! -> #REF! | L22: ='OFERTA ECONÓMICA'!#REF! -> #REF! | M22: ='OFERTA ECONÓMICA'!#REF! -> #REF! | N22: ='OFERTA ECONÓMICA'!#REF! -> #REF! | ... T22: ='OFERTA ECONÓMICA'!#REF! -> #REF! | W22: ='OFERTA ECONÓMICA'!#REF! -> #REF! | X22: =U22*W22 -> #REF! | Y22: =G22 -> #REF! | AC22: =H22 -> #REF! | AG22: =I22 -> #REF! | AK22: =J22 -> #REF! | AO22: =K22 -> #REF! | AS22: =L22 -> #REF! | AW22: =M22 -> #REF! | BA22: =N22 -> #REF! | BE22: =O22 -> #REF! | BI22: =P22 -> #REF! | BM22: =Q22 -> #REF! | BQ22: =R22 -> #REF! | BU22: =S22 -> #REF!
B23: =B22+1 -> #REF! | C23: 2824199 | D23: CALZADO PARA DAMA Y CABALLERO PERSONAL CIVIL NTMD-0361, pág. 12. 3.1.3 Calzado caballero. 3.1.3.1 Calzado de calle para caballero formal. 3.1.3.1.1 Modelos: mínimo cuatro (4) modelos en colores sobrios. 3.1.3.1.2 Cuero: debe ser flexible y uniforme, y no debe presentar eflorescencias de grasas o de sales. | E23: PAR | F23: 0 | G23: ='OFERTA ECONÓMICA'!#REF! -> #REF! | H23: ='OFERTA ECONÓMICA'!#REF! -> #REF! | I23: ='OFERTA ECONÓMICA'!#REF! -> #REF! | J23: ='OFERTA ECONÓMICA'!#REF! -> #REF! | K23: ='OFERTA ECONÓMICA'!#REF! -> #REF! | L23: ='OFERTA ECONÓMICA'!#REF! -> #REF! | M23: ='OFERTA ECONÓMICA'!#REF! -> #REF! | N23: ='OFERTA ECONÓMICA'!#REF! -> #REF! | ... T23: ='OFERTA ECONÓMICA'!#REF! -> #REF! | W23: ='OFERTA ECONÓMICA'!#REF! -> #REF! | X23: =U23*W23 -> #REF! | Y23: =G23 -> #REF! | AC23: =H23 -> #REF! | AG23: =I23 -> #REF! | AK23: =J23 -> #REF! | AO23: =K23 -> #REF! | AS23: =L23 -> #REF! | AW23: =M23 -> #REF! | BA23: =N23 -> #REF! | BE23: =O23 -> #REF! | BI23: =P23 -> #REF! | BM23: =Q23 -> #REF! | BQ23: =R23 -> #REF! | BU23: =S23 -> #REF!
B24: VALOR TOTAL DE LA NECESIDAD | Y24: =SUM(AB19:AB23) -> 0 | AC24: =SUM(AF19:AF23) -> 0 | AG24: =SUM(AJ19:AJ23) -> 0 | AK24: =SUM(AN19:AN23) -> 0 | AO24: =SUM(AR19:AR23) -> 0 | AS24: =SUM(AV19:AV23) -> 0 | AW24: =SUM(AZ19:AZ23) -> 0 | BA24: =SUM(BD19:BD23) -> 0 | BE24: =SUM(BH19:BH23) -> 0 | BI24: =SUM(BL19:BL23) -> 0 | BM24: =SUM(BP19:BP23) -> 0 | BQ24: =SUM(BT19:BT23) -> 0 | BU24: =SUM(BX19:BX23) -> 0
B25: PRESUPUESTO ASIGNADO
B26: SALDO | Y26: =Y25-Y24 -> 0 | AC26: =AC25-AC24 -> 0 | AG26: =AG25-AG24 -> 0 | AK26: =AK25-AK24 -> 0 | AO26: =AO25-AO24 -> 0 | AS26: =AS25-AS24 -> 0 | AW26: =AW25-AW24 -> 0 | BA26: =BA25-BA24 -> 0 | BE26: =BE25-BE24 -> 0 | BI26: =BI25-BI24 -> 0 | BM26: =BM25-BM24 -> 0 | BQ26: =BQ25-BQ24 -> 0 | BU26: =BU25-BU24 -> 0
B28: DOTACION ORIENTADORES ESPIRITUALES JEMPP-CEDE4-DIETE-ET-04693 INT-0
B29: A-02-02-01-002-008 DOTACIÓN (PRENDAS DE VESTIR Y CALZADO)
B30: ÍTEM | C30: CÓDIGO DANE | D30: DESCRIPCIÓN DEL BIEN Y/O SERVICIO | E30: UNIDAD MEDIDA | F30: EXISTENCIAS (STOCK - INVENTARIOS) | G30: ='OFERTA ECONÓMICA'!#REF! -> #REF! | H30: ='OFERTA ECONÓMICA'!#REF! -> #REF! | I30: ='OFERTA ECONÓMICA'!#REF! -> #REF! | J30: ='OFERTA ECONÓMICA'!#REF! -> #REF! | K30: ='OFERTA ECONÓMICA'!#REF! -> #REF! | L30: ='OFERTA ECONÓMICA'!#REF! -> #REF! | M30: ='OFERTA ECONÓMICA'!#REF! -> #REF! | N30: ='OFERTA ECONÓMICA'!#REF! -> #REF! | ... S30: ='OFERTA ECONÓMICA'!#REF! -> #REF! | T30: NT | U30: M | V30: L | W30: PRECIO UNITARIO DE REFERENCIA | X30: VALOR TOTAL | Y30: BAACA10 | AC30: BAACA2 | AG30: BACAC | AK30: BAMAD3 | AO30: BAS10 | AS30: BICAR | AW30: BIMOC | BA30: BR10 | BE30: CENAC VALLEDUPAR | BI30: DIM15 | BM30: FUTAM | BQ30: GMMAT | BU30: GMRON
G31: ='OFERTA ECONÓMICA'!#REF! -> #REF! | H31: ='OFERTA ECONÓMICA'!#REF! -> #REF! | I31: ='OFERTA ECONÓMICA'!#REF! -> #REF! | J31: ='OFERTA ECONÓMICA'!#REF! -> #REF! | K31: ='OFERTA ECONÓMICA'!#REF! -> #REF! | L31: ='OFERTA ECONÓMICA'!#REF! -> #REF! | M31: ='OFERTA ECONÓMICA'!#REF! -> #REF! | N31: ='OFERTA ECONÓMICA'!#REF! -> #REF! | ... S31: ='OFERTA ECONÓMICA'!#REF! -> #REF! | Y31: NT | Z31: M | AA31: L | AB31: VT | AC31: NT | AD31: M | AE31: L | AF31: VT | AG31: NT | AH31: M | AI31: L | AJ31: VT | AK31: NT | AL31: M | AM31: L | AN31: VT | AO31: NT | AP31: M | AQ31: L | AR31: VT | AS31: NT | AT31: M | AU31: L | AV31: VT | AW31: NT | AX31: M | AY31: L | AZ31: VT | BA31: NT | BB31: M | BC31: L | BD31: VT | BE31: NT | BF31: M | BG31: L | BH31: VT | BI31: NT | BJ31: M | BK31: L | BL31: VT | BM31: NT | BN31: M | BO31: L | BP31: VT | BQ31: NT | BR31: M | BS31: L | BT31: VT | BU31: NT | BV31: M | BW31: L | BX31: VT
B32: ='OFERTA ECONÓMICA'!#REF! -> #REF! | C32: ='OFERTA ECONÓMICA'!#REF! -> #REF! | D32: ='OFERTA ECONÓMICA'!#REF! -> #REF! | E32: ='OFERTA ECONÓMICA'!#REF! -> #REF! | F32: ='OFERTA ECONÓMICA'!#REF! -> #REF! | G32: ='OFERTA ECONÓMICA'!#REF! -> #REF! | H32: ='OFERTA ECONÓMICA'!#REF! -> #REF! | I32: ='OFERTA ECONÓMICA'!#REF! -> #REF! | ... T32: ='OFERTA ECONÓMICA'!#REF! -> #REF! | W32: ='OFERTA ECONÓMICA'!#REF! -> #REF! | X32: =U32*W32 -> #REF! | Y32: =G32 -> #REF! | AC32: =H32 -> #REF! | AG32: =I32 -> #REF! | AK32: =J32 -> #REF! | AO32: =K32 -> #REF! | AS32: =L32 -> #REF! | AW32: =M32 -> #REF! | BA32: =N32 -> #REF! | BE32: =O32 -> #REF! | BI32: =P32 -> #REF! | BM32: =Q32 -> #REF! | BQ32: =R32 -> #REF! | BU32: =S32 -> #REF!
B33: ='OFERTA ECONÓMICA'!#REF! -> #REF! | C33: ='OFERTA ECONÓMICA'!#REF! -> #REF! | D33: ='OFERTA ECONÓMICA'!#REF! -> #REF! | E33: ='OFERTA ECONÓMICA'!#REF! -> #REF! | F33: ='OFERTA ECONÓMICA'!#REF! -> #REF! | G33: ='OFERTA ECONÓMICA'!#REF! -> #REF! | H33: ='OFERTA ECONÓMICA'!#REF! -> #REF! | I33: ='OFERTA ECONÓMICA'!#REF! -> #REF! | ... T33: ='OFERTA ECONÓMICA'!#REF! -> #REF! | W33: ='OFERTA ECONÓMICA'!#REF! -> #REF! | X33: =U33*W33 -> #REF! | Y33: =G33 -> #REF! | AC33: =H33 -> #REF! | AG33: =I33 -> #REF! | AK33: =J33 -> #REF! | AO33: =K33 -> #REF! | AS33: =L33 -> #REF! | AW33: =M33 -> #REF! | BA33: =N33 -> #REF! | BE33: =O33 -> #REF! | BI33: =P33 -> #REF! | BM33: =Q33 -> #REF! | BQ33: =R33 -> #REF! | BU33: =S33 -> #REF!
B34: ='OFERTA ECONÓMICA'!#REF! -> #REF! | C34: ='OFERTA ECONÓMICA'!#REF! -> #REF! | D34: ='OFERTA ECONÓMICA'!#REF! -> #REF! | E34: ='OFERTA ECONÓMICA'!#REF! -> #REF! | F34: ='OFERTA ECONÓMICA'!#REF! -> #REF! | G34: ='OFERTA ECONÓMICA'!#REF! -> #REF! | H34: ='OFERTA ECONÓMICA'!#REF! -> #REF! | I34: ='OFERTA ECONÓMICA'!#REF! -> #REF! | ... T34: ='OFERTA ECONÓMICA'!#REF! -> #REF! | W34: ='OFERTA ECONÓMICA'!#REF! -> #REF! | X34: =U34*W34 -> #REF! | Y34: =G34 -> #REF! | AC34: =H34 -> #REF! | AG34: =I34 -> #REF! | AK34: =J34 -> #REF! | AO34: =K34 -> #REF! | AS34: =L34 -> #REF! | AW34: =M34 -> #REF! | BA34: =N34 -> #REF! | BE34: =O34 -> #REF! | BI34: =P34 -> #REF! | BM34: =Q34 -> #REF! | BQ34: =R34 -> #REF! | BU34: =S34 -> #REF!
B35: ='OFERTA ECONÓMICA'!#REF! -> #REF! | C35: ='OFERTA ECONÓMICA'!#REF! -> #REF! | D35: ='OFERTA ECONÓMICA'!#REF! -> #REF! | E35: ='OFERTA ECONÓMICA'!#REF! -> #REF! | F35: ='OFERTA ECONÓMICA'!#REF! -> #REF! | G35: ='OFERTA ECONÓMICA'!#REF! -> #REF! | H35: ='OFERTA ECONÓMICA'!#REF! -> #REF! | I35: ='OFERTA ECONÓMICA'!#REF! -> #REF! | ... T35: ='OFERTA ECONÓMICA'!#REF! -> #REF! | W35: ='OFERTA ECONÓMICA'!#REF! -> #REF! | X35: =U35*W35 -> #REF! | Y35: =G35 -> #REF! | AC35: =H35 -> #REF! | AG35: =I35 -> #REF! | AK35: =J35 -> #REF! | AO35: =K35 -> #REF! | AS35: =L35 -> #REF! | AW35: =M35 -> #REF! | BA35: =N35 -> #REF! | BE35: =O35 -> #REF! | BI35: =P35 -> #REF! | BM35: =Q35 -> #REF! | BQ35: =R35 -> #REF! | BU35: =S35 -> #REF!
B36: ='OFERTA ECONÓMICA'!#REF! -> #REF! | C36: ='OFERTA ECONÓMICA'!#REF! -> #REF! | D36: ='OFERTA ECONÓMICA'!#REF! -> #REF! | E36: ='OFERTA ECONÓMICA'!#REF! -> #REF! | F36: ='OFERTA ECONÓMICA'!#REF! -> #REF! | G36: ='OFERTA ECONÓMICA'!#REF! -> #REF! | H36: ='OFERTA ECONÓMICA'!#REF! -> #REF! | I36: ='OFERTA ECONÓMICA'!#REF! -> #REF! | ... T36: ='OFERTA ECONÓMICA'!#REF! -> #REF! | W36: ='OFERTA ECONÓMICA'!#REF! -> #REF! | X36: =U36*W36 -> #REF! | Y36: =G36 -> #REF! | AC36: =H36 -> #REF! | AG36: =I36 -> #REF! | AK36: =J36 -> #REF! | AO36: =K36 -> #REF! | AS36: =L36 -> #REF! | AW36: =M36 -> #REF! | BA36: =N36 -> #REF! | BE36: =O36 -> #REF! | BI36: =P36 -> #REF! | BM36: =Q36 -> #REF! | BQ36: =R36 -> #REF! | BU36: =S36 -> #REF!
B37: VALOR TOTAL DE LA NECESIDAD | Y37: =SUM(AB32:AB36) -> 0 | AC37: =SUM(AF32:AF36) -> 0 | AG37: =SUM(AJ32:AJ36) -> 0 | AK37: =SUM(AN32:AN36) -> 0 | AO37: =SUM(AR32:AR36) -> 0 | AS37: =SUM(AV32:AV36) -> 0 | AW37: =SUM(AZ32:AZ36) -> 0 | BA37: =SUM(BD32:BD36) -> 0 | BE37: =SUM(BH32:BH36) -> 0 | BI37: =SUM(BL32:BL36) -> 0 | BM37: =SUM(BP32:BP36) -> 0 | BQ37: =SUM(BT32:BT36) -> 0 | BU37: =SUM(BX32:BX36) -> 0
B38: PRESUPUESTO ASIGNADO
B39: SALDO | Y39: =Y38-Y37 -> 0 | AC39: =AC38-AC37 -> 0 | AG39: =AG38-AG37 -> 0 | AK39: =AK38-AK37 -> 0 | AO39: =AO38-AO37 -> 0 | AS39: =AS38-AS37 -> 0 | AW39: =AW38-AW37 -> 0 | BA39: =BA38-BA37 -> 0 | BE39: =BE38-BE37 -> 0 | BI39: =BI38-BI37 -> 0 | BM39: =BM38-BM37 -> 0 | BQ39: =BQ38-BQ37 -> 0 | BU39: =BU38-BU37 -> 0
B41: DOTACION PERSONAL MUSICO UNIFORME BANDA SINFONICA Y BANDA DE MUSICOS CLIMA FRIO Y CLIMA CALIDO JEMPP-CEDE4-DIETE-ET-04692/INT-0
B42: A-02-02-01-002-008 DOTACIÓN (PRENDAS DE VESTIR Y CALZADO)
B43: ÍTEM | C43: CÓDIGO DANE | D43: DESCRIPCIÓN DEL BIEN Y/O SERVICIO | E43: UNIDAD MEDIDA | F43: EXISTENCIAS (STOCK - INVENTARIOS) | G43: ='OFERTA ECONÓMICA'!#REF! -> #REF! | H43: ='OFERTA ECONÓMICA'!#REF! -> #REF! | I43: ='OFERTA ECONÓMICA'!#REF! -> #REF! | J43: ='OFERTA ECONÓMICA'!#REF! -> #REF! | K43: ='OFERTA ECONÓMICA'!#REF! -> #REF! | L43: ='OFERTA ECONÓMICA'!#REF! -> #REF! | M43: ='OFERTA ECONÓMICA'!#REF! -> #REF! | N43: ='OFERTA ECONÓMICA'!#REF! -> #REF! | ... S43: ='OFERTA ECONÓMICA'!#REF! -> #REF! | T43: NT | U43: M | V43: L | W43: PRECIO UNITARIO DE REFERENCIA | X43: VALOR TOTAL | Y43: BAACA10 | AC43: BAACA2 | AG43: BACAC | AK43: BAMAD3 | AO43: BAS10 | AS43: BICAR | AW43: BIMOC | BA43: BR10 | BE43: CENAC VALLEDUPAR | BI43: DIM15 | BM43: FUTAM | BQ43: GMMAT | BU43: GMRON
G44: ='OFERTA ECONÓMICA'!#REF! -> #REF! | H44: ='OFERTA ECONÓMICA'!#REF! -> #REF! | I44: ='OFERTA ECONÓMICA'!#REF! -> #REF! | J44: ='OFERTA ECONÓMICA'!#REF! -> #REF! | K44: ='OFERTA ECONÓMICA'!#REF! -> #REF! | L44: ='OFERTA ECONÓMICA'!#REF! -> #REF! | M44: ='OFERTA ECONÓMICA'!#REF! -> #REF! | N44: ='OFERTA ECONÓMICA'!#REF! -> #REF! | ... S44: ='OFERTA ECONÓMICA'!#REF! -> #REF! | Y44: NT | Z44: M | AA44: L | AB44: VT | AC44: NT | AD44: M | AE44: L | AF44: VT | AG44: NT | AH44: M | AI44: L | AJ44: VT | AK44: NT | AL44: M | AM44: L | AN44: VT | AO44: NT | AP44: M | AQ44: L | AR44: VT | AS44: NT | AT44: M | AU44: L | AV44: VT | AW44: NT | AX44: M | AY44: L | AZ44: VT | BA44: NT | BB44: M | BC44: L | BD44: VT | BE44: NT | BF44: M | BG44: L | BH44: VT | BI44: NT | BJ44: M | BK44: L | BL44: VT | BM44: NT | BN44: M | BO44: L | BP44: VT | BQ44: NT | BR44: M | BS44: L | BT44: VT | BU44: NT | BV44: M | BW44: L | BX44: VT
B45: ='OFERTA ECONÓMICA'!#REF! -> #REF! | C45: ='OFERTA ECONÓMICA'!#REF! -> #REF! | D45: ='OFERTA ECONÓMICA'!#REF! -> #REF! | E45: ='OFERTA ECONÓMICA'!#REF! -> #REF! | F45: ='OFERTA ECONÓMICA'!#REF! -> #REF! | G45: ='OFERTA ECONÓMICA'!#REF! -> #REF! | H45: ='OFERTA ECONÓMICA'!#REF! -> #REF! | I45: ='OFERTA ECONÓMICA'!#REF! -> #REF! | ... T45: ='OFERTA ECONÓMICA'!#REF! -> #REF! | W45: ='OFERTA ECONÓMICA'!#REF! -> #REF! | X45: =U45*W45 -> #REF! | Y45: =G45 -> #REF! | AC45: =H45 -> #REF! | AG45: =I45 -> #REF! | AK45: =J45 -> #REF! | AO45: =K45 -> #REF! | AS45: =L45 -> #REF! | AW45: =M45 -> #REF! | BA45: =N45 -> #REF! | BE45: =O45 -> #REF! | BI45: =P45 -> #REF! | BM45: =Q45 -> #REF! | BQ45: =R45 -> #REF! | BU45: =S45 -> #REF!
...

Sheet MÍNIMAS
B2: =#REF! -> #REF!
B3: ÍTEM | C3: CÓDIGO DANE | D3: DESCRIPCIÓN DEL BIEN Y/O SERVICIO | E3: UNIDAD MEDIDA | F3: EXISTENCIAS (STOCK - INVENTARIOS) | G3: NECESIDAD | H3: UNSPSC (CCE) | I3: CÓDIGO MATERIAL SAP (OPCIONAL) | J3: CÓDIGO OTAN - NOC (OPCIONAL) | K3: NECESIDAD TOTAL | L3: VALOR ADJUDICACIÓN | M3: VALOR TOTAL
N4: N | O4: VALOR TOTAL NECESIDAD | P4: N | Q4: VALOR TOTAL NECESIDAD | R4: N | S4: VALOR TOTAL NECESIDAD | T4: N | U4: VALOR TOTAL NECESIDAD | V4: N | W4: VALOR TOTAL NECESIDAD | X4: N | Y4: VALOR TOTAL NECESIDAD | Z4: N | AA4: VALOR TOTAL NECESIDAD | AB4: N | AC4: VALOR TOTAL NECESIDAD | AD4: N | AE4: VALOR TOTAL NECESIDAD | AF4: N | AG4: VALOR TOTAL NECESIDAD | AH4: N | AI4: VALOR TOTAL NECESIDAD | AJ4: N | AK4: VALOR TOTAL NECESIDAD | AL4: N | AM4: VALOR TOTAL NECESIDAD | AN4: N | AO4: VALOR TOTAL NECESIDAD | AP4: N | AQ4: VALOR TOTAL NECESIDAD | AR4: N | AS4: VALOR TOTAL NECESIDAD | AT4: N | AU4: VALOR TOTAL NECESIDAD | AV4: N | AW4: VALOR TOTAL NECESIDAD | AX4: N | AY4: VALOR TOTAL NECESIDAD | AZ4: N | BA4: VALOR TOTAL NECESIDAD | BB4: N | BC4: VALOR TOTAL NECESIDAD | BD4: N | BE4: VALOR TOTAL NECESIDAD | BF4: N | BG4: VALOR TOTAL NECESIDAD | BH4: N | BI4: VALOR TOTAL NECESIDAD | BJ4: N | BK4: VALOR TOTAL NECESIDAD
B5: ='OFERTA ECONÓMICA'!B5 -> 1 | C5: ='OFERTA ECONÓMICA'!C5 -> 72154101 | D5: ='OFERTA ECONÓMICA'!D5 -> SERVICIO DE MANTENIMIENTO PREVENTIVO Y/O CORRECTIVO PARA COMPRESOR DE UNIDAD ODONTOLÓGICA, QUE INCLUYA: REVISIÓN GENERAL, LIMPIEZA INTERNA, LUBRICACIÓN, AJUSTE DE PRESIÓN, VERIFICACIÓN DE FUGAS, CAMBIO DE FILTROS, PRUEBAS DE FUNCIONAMIENTO, CONTROL DE VIBRACIÓN, REVISIÓN ELÉCTRICA Y ENTREGA DE INFORME TÉCNICO DETALLADO. | E5: ='OFERTA ECONÓMICA'!E5 -> UN | F5: ='OFERTA ECONÓMICA'!#REF! -> #REF! | G5: ='OFERTA ECONÓMICA'!#REF! -> #REF! | H5: ='OFERTA ECONÓMICA'!#REF! -> #REF! | I5: ='OFERTA ECONÓMICA'!#REF! -> #REF! | J5: ='OFERTA ECONÓMICA'!#REF! -> #REF! | K5: =SUM(N5,P5,R5,T5,V5,X5,Z5,AB5,AD5,AF5,AH5,AJ5,AL5,AN5,AP5,AR5,AT5,AV5,AX5,AZ5,BB5,BD5,BF5,BH5,BJ5) -> 0 | M5: =K5*L5 -> 0 | O5: =N5*L5 -> 0 | Q5: =P5*$L5 -> 0 | S5: =R5*$L5 -> 0 | U5: =T5*$L5 -> 0 | W5: =V5*$L5 -> 0 | Y5: =X5*$L5 -> 0 | AA5: =Z5*$L5 -> 0 | AC5: =AB5*$L5 -> 0 | AE5: =AD5*$L5 -> 0 | AG5: =AF5*$L5 -> 0 | AI5: =AH5*$L5 -> 0 | AK5: =AJ5*$L5 -> 0 | AM5: =AL5*$L5 -> 0 | AO5: =AN5*$L5 -> 0 | AQ5: =AP5*$L5 -> 0 | AS5: =AR5*$L5 -> 0 | AU5: =AT5*$L5 -> 0 | AW5: =AV5*$L5 -> 0 | AY5: =AX5*$L5 -> 0 | BA5: =AZ5*$L5 -> 0 | BC5: =BB5*$L5 -> 0 | BE5: =BD5*$L5 -> 0 | BG5: =BF5*$L5 -> 0 | BI5: =BH5*$L5 -> 0 | BK5: =BJ5*$L5 -> 0
B6: ='OFERTA ECONÓMICA'!B6 -> 2 | C6: ='OFERTA ECONÓMICA'!#REF! -> #REF! | D6: ='OFERTA ECONÓMICA'!D6 -> BÁSCULA PESA-PERSONAS CON TALLÍMETRO INTEGRADO, CAPACIDAD MÍNIMA 300 KG, PRECISIÓN 50 G, PLATAFORMA ANTIDESLIZANTE, ESTRUCTURA METÁLICA REFORZADA, INDICADOR DIGITAL O MECÁNICO DE FÁCIL LECTURA, TALLÍMETRO GRADUADO MÍNIMO HASTA 2,10 M. DEBE ENTREGARSE CON CERTIFICADO DE CALIBRACIÓN VIGENTE EMITIDO POR LABORATORIO ACREDITADO ANTE ONAC. | E6: ='OFERTA ECONÓMICA'!#REF! -> #REF! | F6: ='OFERTA ECONÓMICA'!#REF! -> #REF! | G6: ='OFERTA ECONÓMICA'!#REF! -> #REF! | H6: ='OFERTA ECONÓMICA'!#REF! -> #REF! | I6: ='OFERTA ECONÓMICA'!#REF! -> #REF! | J6: ='OFERTA ECONÓMICA'!#REF! -> #REF! | K6: =SUM(N6,P6,R6,T6,V6,X6,Z6,AB6,AD6,AF6,AH6,AJ6,AL6,AN6,AP6,AR6,AT6,AV6,AX6,AZ6,BB6,BD6,BF6,BH6,BJ6) -> 0 | M6: =K6*L6 -> 0 | O6: =N6*L6 -> 0 | Q6: =P6*$L6 -> 0 | S6: =R6*$L6 -> 0 | U6: =T6*$L6 -> 0 | W6: =V6*$L6 -> 0 | Y6: =X6*$L6 -> 0 | AA6: =Z6*$L6 -> 0 | AC6: =AB6*$L6 -> 0 | AE6: =AD6*$L6 -> 0 | AG6: =AF6*$L6 -> 0 | AI6: =AH6*$L6 -> 0 | AK6: =AJ6*$L6 -> 0 | AM6: =AL6*$L6 -> 0 | AO6: =AN6*$L6 -> 0 | AQ6: =AP6*$L6 -> 0 | AS6: =AR6*$L6 -> 0 | AU6: =AT6*$L6 -> 0 | AW6: =AV6*$L6 -> 0 | AY6: =AX6*$L6 -> 0 | BA6: =AZ6*$L6 -> 0 | BC6: =BB6*$L6 -> 0 | BE6: =BD6*$L6 -> 0 | BG6: =BF6*$L6 -> 0 | BI6: =BH6*$L6 -> 0 | BK6: =BJ6*$L6 -> 0
B7: ='OFERTA ECONÓMICA'!B7 -> 3 | C7: ='OFERTA ECONÓMICA'!#REF! -> #REF! | D7: ='OFERTA ECONÓMICA'!#REF! -> #REF! | E7: ='OFERTA ECONÓMICA'!#REF! -> #REF! | F7: ='OFERTA ECONÓMICA'!#REF! -> #REF! | G7: ='OFERTA ECONÓMICA'!#REF! -> #REF! | H7: ='OFERTA ECONÓMICA'!#REF! -> #REF! | I7: ='OFERTA ECONÓMICA'!#REF! -> #REF! | J7: ='OFERTA ECONÓMICA'!#REF! -> #REF! | K7: =SUM(N7,P7,R7,T7,V7,X7,Z7,AB7,AD7,AF7,AH7,AJ7,AL7,AN7,AP7,AR7,AT7,AV7,AX7,AZ7,BB7,BD7,BF7,BH7,BJ7) -> 0 | M7: =K7*L7 -> 0 | O7: =N7*L7 -> 0 | Q7: =P7*$L7 -> 0 | S7: =R7*$L7 -> 0 | U7: =T7*$L7 -> 0 | W7: =V7*$L7 -> 0 | Y7: =X7*$L7 -> 0 | AA7: =Z7*$L7 -> 0 | AC7: =AB7*$L7 -> 0 | AE7: =AD7*$L7 -> 0 | AG7: =AF7*$L7 -> 0 | AI7: =AH7*$L7 -> 0 | AK7: =AJ7*$L7 -> 0 | AM7: =AL7*$L7 -> 0 | AO7: =AN7*$L7 -> 0 | AQ7: =AP7*$L7 -> 0 | AS7: =AR7*$L7 -> 0 | AU7: =AT7*$L7 -> 0 | AW7: =AV7*$L7 -> 0 | AY7: =AX7*$L7 -> 0 | BA7: =AZ7*$L7 -> 0 | BC7: =BB7*$L7 -> 0 | BE7: =BD7*$L7 -> 0 | BG7: =BF7*$L7 -> 0 | BI7: =BH7*$L7 -> 0 | BK7: =BJ7*$L7 -> 0
B8: ='OFERTA ECONÓMICA'!B8 -> 4 | C8: ='OFERTA ECONÓMICA'!#REF! -> #REF! | D8: ='OFERTA ECONÓMICA'!#REF! -> #REF! | E8: ='OFERTA ECONÓMICA'!#REF! -> #REF! | F8: ='OFERTA ECONÓMICA'!#REF! -> #REF! | G8: ='OFERTA ECONÓMICA'!#REF! -> #REF! | H8: ='OFERTA ECONÓMICA'!#REF! -> #REF! | I8: ='OFERTA ECONÓMICA'!#REF! -> #REF! | J8: ='OFERTA ECONÓMICA'!#REF! -> #REF! | K8: =SUM(N8,P8,R8,T8,V8,X8,Z8,AB8,AD8,AF8,AH8,AJ8,AL8,AN8,AP8,AR8,AT8,AV8,AX8,AZ8,BB8,BD8,BF8,BH8,BJ8) -> 0 | M8: =K8*L8 -> 0 | O8: =N8*L8 -> 0 | Q8: =P8*$L8 -> 0 | S8: =R8*$L8 -> 0 | U8: =T8*$L8 -> 0 | W8: =V8*$L8 -> 0 | Y8: =X8*$L8 -> 0 | AA8: =Z8*$L8 -> 0 | AC8: =AB8*$L8 -> 0 | AE8: =AD8*$L8 -> 0 | AG8: =AF8*$L8 -> 0 | AI8: =AH8*$L8 -> 0 | AK8: =AJ8*$L8 -> 0 | AM8: =AL8*$L8 -> 0 | AO8: =AN8*$L8 -> 0 | AQ8: =AP8*$L8 -> 0 | AS8: =AR8*$L8 -> 0 | AU8: =AT8*$L8 -> 0 | AW8: =AV8*$L8 -> 0 | AY8: =AX8*$L8 -> 0 | BA8: =AZ8*$L8 -> 0 | BC8: =BB8*$L8 -> 0 | BE8: =BD8*$L8 -> 0 | BG8: =BF8*$L8 -> 0 | BI8: =BH8*$L8 -> 0 | BK8: =BJ8*$L8 -> 0
B9: ='OFERTA ECONÓMICA'!B9 -> 5 | C9: ='OFERTA ECONÓMICA'!#REF! -> #REF! | D9: ='OFERTA ECONÓMICA'!#REF! -> #REF! | E9: ='OFERTA ECONÓMICA'!E9 -> 0 | F9: ='OFERTA ECONÓMICA'!#REF! -> #REF! | G9: ='OFERTA ECONÓMICA'!#REF! -> #REF! | H9: ='OFERTA ECONÓMICA'!#REF! -> #REF! | I9: ='OFERTA ECONÓMICA'!#REF! -> #REF! | J9: ='OFERTA ECONÓMICA'!#REF! -> #REF! | K9: =SUM(N9,P9,R9,T9,V9,X9,Z9,AB9,AD9,AF9,AH9,AJ9,AL9,AN9,AP9,AR9,AT9,AV9,AX9,AZ9,BB9,BD9,BF9,BH9,BJ9) -> 0 | M9: =K9*L9 -> 0 | O9: =N9*L9 -> 0 | Q9: =P9*$L9 -> 0 | S9: =R9*$L9 -> 0 | U9: =T9*$L9 -> 0 | W9: =V9*$L9 -> 0 | Y9: =X9*$L9 -> 0 | AA9: =Z9*$L9 -> 0 | AC9: =AB9*$L9 -> 0 | AE9: =AD9*$L9 -> 0 | AG9: =AF9*$L9 -> 0 | AI9: =AH9*$L9 -> 0 | AK9: =AJ9*$L9 -> 0 | AM9: =AL9*$L9 -> 0 | AO9: =AN9*$L9 -> 0 | AQ9: =AP9*$L9 -> 0 | AS9: =AR9*$L9 -> 0 | AU9: =AT9*$L9 -> 0 | AW9: =AV9*$L9 -> 0 | AY9: =AX9*$L9 -> 0 | BA9: =AZ9*$L9 -> 0 | BC9: =BB9*$L9 -> 0 | BE9: =BD9*$L9 -> 0 | BG9: =BF9*$L9 -> 0 | BI9: =BH9*$L9 -> 0 | BK9: =BJ9*$L9 -> 0
B10: ='OFERTA ECONÓMICA'!#REF! -> #REF! | C10: ='OFERTA ECONÓMICA'!#REF! -> #REF! | D10: ='OFERTA ECONÓMICA'!#REF! -> #REF! | E10: ='OFERTA ECONÓMICA'!#REF! -> #REF! | F10: ='OFERTA ECONÓMICA'!#REF! -> #REF! | G10: ='OFERTA ECONÓMICA'!#REF! -> #REF! | H10: ='OFERTA ECONÓMICA'!#REF! -> #REF! | I10: ='OFERTA ECONÓMICA'!#REF! -> #REF! | J10: ='OFERTA ECONÓMICA'!#REF! -> #REF! | K10: =SUM(N10,P10,R10,T10,V10,X10,Z10,AB10,AD10,AF10,AH10,AJ10,AL10,AN10,AP10,AR10,AT10,AV10,AX10,AZ10,BB10,BD10,BF10,BH10,BJ10) -> 0 | M10: =K10*L10 -> 0 | O10: =N10*L10 -> 0 | Q10: =P10*$L10 -> 0 | S10: =R10*$L10 -> 0 | U10: =T10*$L10 -> 0 | W10: =V10*$L10 -> 0 | Y10: =X10*$L10 -> 0 | AA10: =Z10*$L10 -> 0 | AC10: =AB10*$L10 -> 0 | AE10: =AD10*$L10 -> 0 | AG10: =AF10*$L10 -> 0 | AI10: =AH10*$L10 -> 0 | AK10: =AJ10*$L10 -> 0 | AM10: =AL10*$L10 -> 0 | AO10: =AN10*$L10 -> 0 | AQ10: =AP10*$L10 -> 0 | AS10: =AR10*$L10 -> 0 | AU10: =AT10*$L10 -> 0 | AW10: =AV10*$L10 -> 0 | AY10: =AX10*$L10 -> 0 | BA10: =AZ10*$L10 -> 0 | BC10: =BB10*$L10 -> 0 | BE10: =BD10*$L10 -> 0 | BG10: =BF10*$L10 -> 0 | BI10: =BH10*$L10 -> 0 | BK10: =BJ10*$L10 -> 0
B11: ='OFERTA ECONÓMICA'!#REF! -> #REF! | C11: ='OFERTA ECONÓMICA'!#REF! -> #REF! | D11: ='OFERTA ECONÓMICA'!#REF! -> #REF! | E11: ='OFERTA ECONÓMICA'!#REF! -> #REF! | F11: ='OFERTA ECONÓMICA'!#REF! -> #REF! | G11: ='OFERTA ECONÓMICA'!#REF! -> #REF! | H11: ='OFERTA ECONÓMICA'!#REF! -> #REF! | I11: ='OFERTA ECONÓMICA'!#REF! -> #REF! | J11: ='OFERTA ECONÓMICA'!#REF! -> #REF! | K11: =SUM(N11,P11,R11,T11,V11,X11,Z11,AB11,AD11,AF11,AH11,AJ11,AL11,AN11,AP11,AR11,AT11,AV11,AX11,AZ11,BB11,BD11,BF11,BH11,BJ11) -> 0 | M11: =K11*L11 -> 0 | O11: =N11*L11 -> 0 | Q11: =P11*$L11 -> 0 | S11: =R11*$L11 -> 0 | U11: =T11*$L11 -> 0 | W11: =V11*$L11 -> 0 | Y11: =X11*$L11 -> 0 | AA11: =Z11*$L11 -> 0 | AC11: =AB11*$L11 -> 0 | AE11: =AD11*$L11 -> 0 | AG11: =AF11*$L11 -> 0 | AI11: =AH11*$L11 -> 0 | AK11: =AJ11*$L11 -> 0 | AM11: =AL11*$L11 -> 0 | AO11: =AN11*$L11 -> 0 | AQ11: =AP11*$L11 -> 0 | AS11: =AR11*$L11 -> 0 | AU11: =AT11*$L11 -> 0 | AW11: =AV11*$L11 -> 0 | AY11: =AX11*$L11 -> 0 | BA11: =AZ11*$L11 -> 0 | BC11: =BB11*$L11 -> 0 | BE11: =BD11*$L11 -> 0 | BG11: =BF11*$L11 -> 0 | BI11: =BH11*$L11 -> 0 | BK11: =BJ11*$L11 -> 0
B12: ='OFERTA ECONÓMICA'!#REF! -> #REF! | C12: ='OFERTA ECONÓMICA'!#REF! -> #REF! | D12: ='OFERTA ECONÓMICA'!#REF! -> #REF! | E12: ='OFERTA ECONÓMICA'!#REF! -> #REF! | F12: ='OFERTA ECONÓMICA'!#REF! -> #REF! | G12: ='OFERTA ECONÓMICA'!#REF! -> #REF! | H12: ='OFERTA ECONÓMICA'!#REF! -> #REF! | I12: ='OFERTA ECONÓMICA'!#REF! -> #REF! | J12: ='OFERTA ECONÓMICA'!#REF! -> #REF! | K12: =SUM(N12,P12,R12,T12,V12,X12,Z12,AB12,AD12,AF12,AH12,AJ12,AL12,AN12,AP12,AR12,AT12,AV12,AX12,AZ12,BB12,BD12,BF12,BH12,BJ12) -> 0 | M12: =K12*L12 -> 0 | O12: =N12*L12 -> 0 | Q12: =P12*$L12 -> 0 | S12: =R12*$L12 -> 0 | U12: =T12*$L12 -> 0 | W12: =V12*$L12 -> 0 | Y12: =X12*$L12 -> 0 | AA12: =Z12*$L12 -> 0 | AC12: =AB12*$L12 -> 0 | AE12: =AD12*$L12 -> 0 | AG12: =AF12*$L12 -> 0 | AI12: =AH12*$L12 -> 0 | AK12: =AJ12*$L12 -> 0 | AM12: =AL12*$L12 -> 0 | AO12: =AN12*$L12 -> 0 | AQ12: =AP12*$L12 -> 0 | AS12: =AR12*$L12 -> 0 | AU12: =AT12*$L12 -> 0 | AW12: =AV12*$L12 -> 0 | AY12: =AX12*$L12 -> 0 | BA12: =AZ12*$L12 -> 0 | BC12: =BB12*$L12 -> 0 | BE12: =BD12*$L12 -> 0 | BG12: =BF12*$L12 -> 0 | BI12: =BH12*$L12 -> 0 | BK12: =BJ12*$L12 -> 0
B13: ='OFERTA ECONÓMICA'!#REF! -> #REF! | C13: ='OFERTA ECONÓMICA'!#REF! -> #REF! | D13: ='OFERTA ECONÓMICA'!#REF! -> #REF! | E13: ='OFERTA ECONÓMICA'!#REF! -> #REF! | F13: ='OFERTA ECONÓMICA'!#REF! -> #REF! | G13: ='OFERTA ECONÓMICA'!#REF! -> #REF! | H13: ='OFERTA ECONÓMICA'!#REF! -> #REF! | I13: ='OFERTA ECONÓMICA'!#REF! -> #REF! | J13: ='OFERTA ECONÓMICA'!#REF! -> #REF! | K13: =SUM(N13,P13,R13,T13,V13,X13,Z13,AB13,AD13,AF13,AH13,AJ13,AL13,AN13,AP13,AR13,AT13,AV13,AX13,AZ13,BB13,BD13,BF13,BH13,BJ13) -> 0 | M13: =K13*L13 -> 0 | O13: =N13*L13 -> 0 | Q13: =P13*$L13 -> 0 | S13: =R13*$L13 -> 0 | U13: =T13*$L13 -> 0 | W13: =V13*$L13 -> 0 | Y13: =X13*$L13 -> 0 | AA13: =Z13*$L13 -> 0 | AC13: =AB13*$L13 -> 0 | AE13: =AD13*$L13 -> 0 | AG13: =AF13*$L13 -> 0 | AI13: =AH13*$L13 -> 0 | AK13: =AJ13*$L13 -> 0 | AM13: =AL13*$L13 -> 0 | AO13: =AN13*$L13 -> 0 | AQ13: =AP13*$L13 -> 0 | AS13: =AR13*$L13 -> 0 | AU13: =AT13*$L13 -> 0 | AW13: =AV13*$L13 -> 0 | AY13: =AX13*$L13 -> 0 | BA13: =AZ13*$L13 -> 0 | BC13: =BB13*$L13 -> 0 | BE13: =BD13*$L13 -> 0 | BG13: =BF13*$L13 -> 0 | BI13: =BH13*$L13 -> 0 | BK13: =BJ13*$L13 -> 0
B14: ='OFERTA ECONÓMICA'!#REF! -> #REF! | C14: ='OFERTA ECONÓMICA'!#REF! -> #REF! | D14: ='OFERTA ECONÓMICA'!#REF! -> #REF! | E14: ='OFERTA ECONÓMICA'!#REF! -> #REF! | F14: ='OFERTA ECONÓMICA'!#REF! -> #REF! | G14: ='OFERTA ECONÓMICA'!#REF! -> #REF! | H14: ='OFERTA ECONÓMICA'!#REF! -> #REF! | I14: ='OFERTA ECONÓMICA'!#REF! -> #REF! | J14: ='OFERTA ECONÓMICA'!#REF! -> #REF! | K14: =SUM(N14,P14,R14,T14,V14,X14,Z14,AB14,AD14,AF14,AH14,AJ14,AL14,AN14,AP14,AR14,AT14,AV14,AX14,AZ14,BB14,BD14,BF14,BH14,BJ14) -> 0 | M14: =K14*L14 -> 0 | O14: =N14*L14 -> 0 | Q14: =P14*$L14 -> 0 | S14: =R14*$L14 -> 0 | U14: =T14*$L14 -> 0 | W14: =V14*$L14 -> 0 | Y14: =X14*$L14 -> 0 | AA14: =Z14*$L14 -> 0 | AC14: =AB14*$L14 -> 0 | AE14: =AD14*$L14 -> 0 | AG14: =AF14*$L14 -> 0 | AI14: =AH14*$L14 -> 0 | AK14: =AJ14*$L14 -> 0 | AM14: =AL14*$L14 -> 0 | AO14: =AN14*$L14 -> 0 | AQ14: =AP14*$L14 -> 0 | AS14: =AR14*$L14 -> 0 | AU14: =AT14*$L14 -> 0 | AW14: =AV14*$L14 -> 0 | AY14: =AX14*$L14 -> 0 | BA14: =AZ14*$L14 -> 0 | BC14: =BB14*$L14 -> 0 | BE14: =BD14*$L14 -> 0 | BG14: =BF14*$L14 -> 0 | BI14: =BH14*$L14 -> 0 | BK14: =BJ14*$L14 -> 0
B15: ='OFERTA ECONÓMICA'!#REF! -> #REF! | C15: ='OFERTA ECONÓMICA'!C6 -> 41111508 | D15: ='OFERTA ECONÓMICA'!#REF! -> #REF! | E15: ='OFERTA ECONÓMICA'!E6 -> UN | F15: ='OFERTA ECONÓMICA'!#REF! -> #REF! | G15: ='OFERTA ECONÓMICA'!#REF! -> #REF! | H15: ='OFERTA ECONÓMICA'!#REF! -> #REF! | I15: ='OFERTA ECONÓMICA'!#REF! -> #REF! | J15: ='OFERTA ECONÓMICA'!#REF! -> #REF! | K15: =SUM(N15,P15,R15,T15,V15,X15,Z15,AB15,AD15,AF15,AH15,AJ15,AL15,AN15,AP15,AR15,AT15,AV15,AX15,AZ15,BB15,BD15,BF15,BH15,BJ15) -> 0 | M15: =K15*L15 -> 0 | O15: =N15*L15 -> 0 | Q15: =P15*$L15 -> 0 | S15: =R15*$L15 -> 0 | U15: =T15*$L15 -> 0 | W15: =V15*$L15 -> 0 | Y15: =X15*$L15 -> 0 | AA15: =Z15*$L15 -> 0 | AC15: =AB15*$L15 -> 0 | AE15: =AD15*$L15 -> 0 | AG15: =AF15*$L15 -> 0 | AI15: =AH15*$L15 -> 0 | AK15: =AJ15*$L15 -> 0 | AM15: =AL15*$L15 -> 0 | AO15: =AN15*$L15 -> 0 | AQ15: =AP15*$L15 -> 0 | AS15: =AR15*$L15 -> 0 | AU15: =AT15*$L15 -> 0 | AW15: =AV15*$L15 -> 0 | AY15: =AX15*$L15 -> 0 | BA15: =AZ15*$L15 -> 0 | BC15: =BB15*$L15 -> 0 | BE15: =BD15*$L15 -> 0 | BG15: =BF15*$L15 -> 0 | BI15: =BH15*$L15 -> 0 | BK15: =BJ15*$L15 -> 0
