Workbook

Sheet ESTUDIO DE MERCADO
A1: PROPUESTA ECONOMICA
A3: CAMIONETA CHEVROLET LUV DMAX MODELO 2007 | F3: AGROAUTOMOTORA | G3: GREIT S.A.S | H3: PRESUPUESTO OFICIAL | I3: PROPUESTA ECONOMICA
A4: Item | B4: DESCRIPCION | C4: Und | D4: Cantidad | E4: VALOR UNITARIO INCLUIDO IVA (HISTÒRICO DEL CONTRATO + IPC 5,10%) | F4: VALOR UNITARIO INCLUIDO IVA | G4: VALOR UNITARIO INCLUIDO IVA | H4: PRESUPUESTO UNITARIO | I4: VALOR UNITARIO-PRECIO TECHO | J4: VALOR OFERTADO POR EL OFERENTE | K4: DEJAR UN VALOR TOTAL A BAJO
A5: 1 | B5: ACEITE MOTOR 15W40 X 1/4 | C5: CUARTO | D5: 1 | E5: =41496.68*(1+5.1%) -> 43613.011 | F5: 60000 | G5: 64500 | H5: =ROUND((AVERAGE(E5,F5,G5)),0) -> 56038
A6: 2 | B6: FILTRO ACEITE MOTOR | C6: UNIDAD | D6: 1 | E6: =41496.68*(1+5.1%) -> 43613.011 | F6: 179690 | G6: 193166.75 | H6: =ROUND((AVERAGE(F6,G6)),0) -> 186428
A7: 3 | B7: FILTRO AIRE MOTOR | C7: UNIDAD | D7: 1 | E7: =102261.15*(1+5.1%) -> 107476.47 | F7: 442680 | G7: 475881 | H7: =ROUND((AVERAGE(F7,G7)),0) -> 459281
A8: 4 | B8: FILTRO COMBUSTIBLE MOTOR | C8: UNIDAD | D8: 1 | E8: =61356.69*(1+5.1%) -> 64485.881 | F8: 197540 | G8: 212355.5 | H8: =ROUND((AVERAGE(F8,G8)),0) -> 204948
A9: 5 | B9: MANTENIMIENTO Y CAMBIO DE ACEITE Y FILTROS | C9: UNIDAD | D9: 1 | E9: =258801*(1+5.1%) -> 271999.85 | F9: 152320 | G9: 163744 | H9: =ROUND((AVERAGE(E9,F9,G9)),0) -> 196021
A10: 6 | B10: LIQUIDO DE FRENOS | C10: UNIDAD | D10: 1 | E10: =28288*(1+5.1%) -> 29730.688 | F10: 83300 | G10: 89547.5 | H10: =ROUND((AVERAGE(E10,F10,G10)),0) -> 67526
A11: 7 | B11: BANDAS FRENO TRASERO | C11: JUEGO | D11: 1 | E11: =792065*(1+5.1%) -> 832460.31 | F11: 614040 | G11: 660093 | H11: =ROUND((AVERAGE(E11,F11,G11)),0) -> 702198
A12: 8 | B12: PASTILLAS FRENO DELANTERO | C12: JUEGO | D12: 1 | E12: =530000*(1+5.1%) -> 557030 | F12: 921060 | G12: 990139.5 | H12: =ROUND((AVERAGE(E12,F12,G12)),0) -> 822743
A13: 9 | B13: M.O CAMBIO DE PASTILLAS Y BANDAS DE FRENO Y MTO | C13: UNIDAD | D13: 1 | E13: =424000*(1+5.1%) -> 445624 | F13: 309400 | G13: 332605 | H13: =ROUND((AVERAGE(E13,F13,G13)),0) -> 362543
A14: 10 | B14: MANTENIMIENTO Y GRADUACION DE FRENOS EN GENERAL | C14: UNIDAD | D14: 1 | E14: =165000*(1+5.1%) -> 173415 | F14: 190400 | G14: 204680 | H14: =ROUND((AVERAGE(E14,F14,G14)),0) -> 189498
A15: 11 | B15: REVISIÓN DEL SISTEMA DE SUSPENSIÓN Y DIRECCIÓN | C15: UNIDAD | D15: 1 | E15: =350000*(1+5.1%) -> 367850 | F15: 297500 | G15: 319812.5 | H15: =ROUND((AVERAGE(E15,F15,G15)),0) -> 328388
A16: 12 | B16: REVISIÓN DEL SISTEMA ELÉCTRICO Y BATERÍA | C16: UNIDAD | D16: 1 | E16: =180000*(1+5.1%) -> 189180 | F16: 142800 | G16: 153510 | H16: =ROUND((AVERAGE(E16,F16,G16)),0) -> 161830
A17: 13 | B17: REVISIÓN DE NIVELES DE FLUIDOS (REFRIGERANTE, FRENOS Y DIRECCIÓN) | C17: UNIDAD | D17: 1 | E17: =220000*(1+5.1%) -> 231220 | F17: 142800 | G17: 153510 | H17: =ROUND((AVERAGE(E17,F17,G17)),0) -> 175843
A18: 14 | B18: REVISIÓN TECNO MECÁNICA | C18: UNIDAD | D18: 1 | E18: =248000*(1+5.1%) -> 260648 | F18: 440300 | G18: 473322.5 | H18: =ROUND((AVERAGE(E18,F18,G18)),0) -> 391424
A19: TOTAL | G19: =SUM(G5:G18) -> 4486867.2 | H19: =SUM(H5:H18) -> 4304709
A20: AUTOMÓVIL CHEVROLET MODELO 2009- | F20: AGROAUTOMOTORA | G20: GREIT S.A.S | H20: PRESUPUESTO OFICIAL
A21: Item | B21: Descripcion | C21: Und | D21: Cantidad | E21: VALOR UNITARIO INCLUIDO IVA (HISTÒRICO DEL CONTRATO + IPC 5,10%) | F21: VALOR UNITARIO INCLUIDO IVA | G21: VALOR UNITARIO INCLUIDO IVA | H21: PRESUPUESTO UNITARIO
A22: 1 | B22: ACEITE MOTOR 15W40 X 1/4 | C22: CUARTO | D22: 1 | E22: =59400*(1+5.1%) -> 62429.4 | F22: 60000 | G22: 64500 | H22: =ROUND((AVERAGE(E22,F22,G22)),0) -> 62310
A23: 2 | B23: FILTRO ACEITE MOTOR | C23: UNIDAD | D23: 1 | E23: =59400*(1+5.1%) -> 62429.4 | F23: 179690 | G23: 193166.75 | H23: =ROUND((AVERAGE(F23,G23)),0) -> 186428
A24: 3 | B24: FILTRO AIRE MOTOR | C24: UNIDAD | D24: 1 | E24: =59400*(1+5.1%) -> 62429.4 | F24: 442680 | G24: 475881 | H24: =ROUND((AVERAGE(F24,G24)),0) -> 459281
A25: 4 | B25: FILTRO COMBUSTIBLE MOTOR | C25: UNIDAD | D25: 1 | E25: =26700*(1+5.1%) -> 28061.7 | F25: 197540 | G25: 212355.5 | H25: =ROUND((AVERAGE(F25,G25)),0) -> 204948
A26: 5 | B26: MANTENIMIENTO Y CAMBIO DE ACEITE Y FILTROS | C26: UNIDAD | D26: 1 | E26: =242300*(1+5.1%) -> 254657.3 | F26: 152320 | G26: 163744 | H26: =ROUND((AVERAGE(E26,F26,G26)),0) -> 190240
A27: 6 | B27: LIQUIDO DE FRENOS | C27: UNIDAD | D27: 1 | E27: =53500*(1+5.1%) -> 56228.5 | F27: 83300 | G27: 89547.5 | H27: =ROUND((AVERAGE(E27,F27,G27)),0) -> 76359
A28: 7 | B28: PASTILLAS FRENO TRASERO | C28: JUEGO | D28: 1 | E28: =152500*(1+5.1%) -> 160277.5 | F28: 535500 | G28: 575662.5 | H28: =ROUND((AVERAGE(F28,G28)),0) -> 555581
A29: 8 | B29: PASTILLAS FRENO DELANTERO | C29: JUEGO | D29: 1 | E29: =152500*(1+5.1%) -> 160277.5 | F29: 618800 | G29: 665210 | H29: =ROUND((AVERAGE(F29,G29)),0) -> 642005
A30: 9 | B30: M.O CAMBIO DE PASTILLAS DE FRENO Y MTO | C30: UNIDAD | D30: 1 | E30: =433000*(1+5.1%) -> 455083 | F30: 309400 | G30: 332605 | H30: =ROUND((AVERAGE(E30,F30,G30)),0) -> 365696
A31: 10 | B31: MANTENIMIENTO Y GRADUACION DE FRENOS EN GENERAL | C31: UNIDAD | D31: 1 | E31: =280000*(1+5.1%) -> 294280 | F31: 190400 | G31: 204680 | H31: =ROUND((AVERAGE(E31,F31,G31)),0) -> 229787
A32: 11 | B32: ALINEACION DE DIRECCION | C32: UNIDAD | D32: 1 | E32: =114000*(1+5.1%) -> 119814 | F32: 83300 | G32: 89547.5 | H32: =ROUND((AVERAGE(E32,F32,G32)),0) -> 97554
A33: 12 | B33: REVISIÓN DE SUSPENSIÓN | C33: UNIDAD | D33: 1 | E33: =249900*(1+5.1%) -> 262644.9 | F33: 249900 | G33: 268642.5 | H33: =ROUND((AVERAGE(E33,F33,G33)),0) -> 260396
A34: 13 | B34: REVISIÓN DEL SISTEMA ELÉCTRICO | C34: UNIDAD | D34: 1 | E34: =142800*(1+5.1%) -> 150082.8 | F34: 142800 | G34: 153510 | H34: =ROUND((AVERAGE(E34,F34,G34)),0) -> 148798
A35: 14 | B35: DIAGNÓSTICO GENERAL DEL MOTOR | C35: UNIDAD | D35: 1 | E35: =900000*(1+5.1%) -> 945900 | F35: 1130500 | G35: 1215287.5 | H35: =ROUND((AVERAGE(E35,F35,G35)),0) -> 1097229
A36: 15 | B36: REVISIÓN TECNO MECÁNICA | C36: UNIDAD | D36: 1 | E36: =335000*(1+5.1%) -> 352085 | F36: 440300 | G36: 473322.5 | H36: =ROUND((AVERAGE(E36,F36,G36)),0) -> 421903
A38: TOYOTA RAV4 MODELO 2020- | F38: AGROAUTOMOTORA | G38: GREIT S.A.S | H38: PRESUPUESTO OFICIAL
A39: Item | B39: Descripcion | C39: Und | D39: Cantidad | E39: VALOR UNITARIO INCLUIDO IVA (HISTÒRICO DEL CONTRATO + IPC 5,10%) | F39: VALOR UNITARIO INCLUIDO IVA | G39: VALOR UNITARIO INCLUIDO IVA | H39: PRESUPUESTO UNITARIO
A40: 1 | B40: ACEITE MOTOR 15W40 X 1/4 | C40: CUARTO | D40: 1 | E40: =66900*(1+5.1%) -> 70311.9 | F40: 60000 | G40: 64500 | H40: =ROUND((AVERAGE(E40,F40,G40)),0) -> 64937
A41: 2 | B41: FILTRO ACEITE MOTOR | C41: UNIDAD | D41: 1 | E41: =66900*(1+5.1%) -> 70311.9 | F41: 179690 | G41: 193166.75 | H41: =ROUND((AVERAGE(F41,G41)),0) -> 186428
A42: 3 | B42: FILTRO AIRE MOTOR | C42: UNIDAD | D42: 1 | E42: =66900*(1+5.1%) -> 70311.9 | F42: 442680 | G42: 475881 | H42: =ROUND((AVERAGE(F42,G42)),0) -> 459281
...

Sheet Hoja1
A1: CAMIONETA CHEVROLET LUV DMAX MODELO 2007 | E1: PROPUESTA ECONOMICA
A2: Item | B2: DESCRIPCION | C2: Und | D2: Cantidad | E2: PRESUPUESTO OFICIAL | F2: VALOR OFERTADO POR EL OFERENTE
A3: 1 | B3: ACEITE MOTOR 15W40 X 1/4 | C3: CUARTO | D3: 1 | E3: ='ESTUDIO DE MERCADO'!H5 -> 56038
A4: 2 | B4: FILTRO ACEITE MOTOR | C4: UNIDAD | D4: 1 | E4: ='ESTUDIO DE MERCADO'!H6 -> 186428
A5: 3 | B5: FILTRO AIRE MOTOR | C5: UNIDAD | D5: 1 | E5: ='ESTUDIO DE MERCADO'!H7 -> 459281
A6: 4 | B6: FILTRO COMBUSTIBLE MOTOR | C6: UNIDAD | D6: 1 | E6: ='ESTUDIO DE MERCADO'!H8 -> 204948
A7: 5 | B7: MANTENIMIENTO Y CAMBIO DE ACEITE Y FILTROS | C7: UNIDAD | D7: 1 | E7: ='ESTUDIO DE MERCADO'!H9 -> 196021
A8: 6 | B8: LIQUIDO DE FRENOS | C8: UNIDAD | D8: 1 | E8: ='ESTUDIO DE MERCADO'!H10 -> 67526
A9: 7 | B9: BANDAS FRENO TRASERO | C9: JUEGO | D9: 1 | E9: ='ESTUDIO DE MERCADO'!H11 -> 702198
A10: 8 | B10: PASTILLAS FRENO DELANTERO | C10: JUEGO | D10: 1 | E10: ='ESTUDIO DE MERCADO'!H12 -> 822743
A11: 9 | B11: M.O CAMBIO DE PASTILLAS Y BANDAS DE FRENO Y MTO | C11: UNIDAD | D11: 1 | E11: ='ESTUDIO DE MERCADO'!H13 -> 362543
A12: 10 | B12: MANTENIMIENTO Y GRADUACION DE FRENOS EN GENERAL | C12: UNIDAD | D12: 1 | E12: ='ESTUDIO DE MERCADO'!H14 -> 189498
A13: 11 | B13: REVISIÓN DEL SISTEMA DE SUSPENSIÓN Y DIRECCIÓN | C13: UNIDAD | D13: 1 | E13: ='ESTUDIO DE MERCADO'!H15 -> 328388
A14: 12 | B14: REVISIÓN DEL SISTEMA ELÉCTRICO Y BATERÍA | C14: UNIDAD | D14: 1 | E14: ='ESTUDIO DE MERCADO'!H16 -> 161830
... A16: 14 | B16: REVISIÓN TECNO MECÁNICA | C16: UNIDAD | D16: 1 | E16: ='ESTUDIO DE MERCADO'!H18 -> 391424
A17: TOTAL | E17: =SUM(E3:E16) -> 4304709
A18: AUTOMÓVIL CHEVROLET MODELO 2009- | E18: PRESUPUESTO OFICIAL | F18: VALOR OFERTADO POR EL OFERENTE
A19: Item | B19: Descripcion | C19: Und | D19: Cantidad
A20: 1 | B20: ACEITE MOTOR 15W40 X 1/4 | C20: CUARTO | D20: 1 | E20: ='ESTUDIO DE MERCADO'!H22 -> 62310
A21: 2 | B21: FILTRO ACEITE MOTOR | C21: UNIDAD | D21: 1 | E21: ='ESTUDIO DE MERCADO'!H23 -> 186428
A22: 3 | B22: FILTRO AIRE MOTOR | C22: UNIDAD | D22: 1 | E22: ='ESTUDIO DE MERCADO'!H24 -> 459281
A23: 4 | B23: FILTRO COMBUSTIBLE MOTOR | C23: UNIDAD | D23: 1 | E23: ='ESTUDIO DE MERCADO'!H25 -> 204948
A24: 5 | B24: MANTENIMIENTO Y CAMBIO DE ACEITE Y FILTROS | C24: UNIDAD | D24: 1 | E24: ='ESTUDIO DE MERCADO'!H26 -> 190240
A25: 6 | B25: LIQUIDO DE FRENOS | C25: UNIDAD | D25: 1 | E25: ='ESTUDIO DE MERCADO'!H27 -> 76359
A26: 7 | B26: PASTILLAS FRENO TRASERO | C26: JUEGO | D26: 1 | E26: ='ESTUDIO DE MERCADO'!H28 -> 555581
A27: 8 | B27: PASTILLAS FRENO DELANTERO | C27: JUEGO | D27: 1 | E27: ='ESTUDIO DE MERCADO'!H29 -> 642005
A28: 9 | B28: M.O CAMBIO DE PASTILLAS DE FRENO Y MTO | C28: UNIDAD | D28: 1 | E28: ='ESTUDIO DE MERCADO'!H30 -> 365696
A29: 10 | B29: MANTENIMIENTO Y GRADUACION DE FRENOS EN GENERAL | C29: UNIDAD | D29: 1 | E29: ='ESTUDIO DE MERCADO'!H31 -> 229787
A30: 11 | B30: ALINEACION DE DIRECCION | C30: UNIDAD | D30: 1 | E30: ='ESTUDIO DE MERCADO'!H32 -> 97554
A31: 12 | B31: REVISIÓN DE SUSPENSIÓN | C31: UNIDAD | D31: 1 | E31: ='ESTUDIO DE MERCADO'!H33 -> 260396
... A34: 15 | B34: REVISIÓN TECNO MECÁNICA | C34: UNIDAD | D34: 1 | E34: ='ESTUDIO DE MERCADO'!H36 -> 421903
A35: TOTAL | E35: =SUM(E20:E34) -> 4998515
A36: TOYOTA RAV4 MODELO 2020- | E36: PRESUPUESTO OFICIAL | F36: VALOR OFERTADO POR EL OFERENTE
A37: Item | B37: Descripcion | C37: Und | D37: Cantidad
A38: 1 | B38: ACEITE MOTOR 15W40 X 1/4 | C38: CUARTO | D38: 1 | E38: =SUM('ESTUDIO DE MERCADO'!F40) -> 60000
A39: 2 | B39: FILTRO ACEITE MOTOR | C39: UNIDAD | D39: 1 | E39: =SUM('ESTUDIO DE MERCADO'!F41) -> 179690
A40: 3 | B40: FILTRO AIRE MOTOR | C40: UNIDAD | D40: 1 | E40: =SUM('ESTUDIO DE MERCADO'!F42) -> 442680
A41: 4 | B41: FILTRO COMBUSTIBLE MOTOR | C41: UNIDAD | D41: 1 | E41: =SUM('ESTUDIO DE MERCADO'!F43) -> 197540
A42: 5 | B42: MANTENIMIENTO Y CAMBIO DE ACEITE Y FILTROS | C42: UNIDAD | D42: 1 | E42: =SUM('ESTUDIO DE MERCADO'!F44) -> 152320
A43: 6 | B43: LIQUIDO DE FRENOS | C43: UNIDAD | D43: 1 | E43: =SUM('ESTUDIO DE MERCADO'!F45) -> 83300
...
