Workbook
Name \a: #REF!
Name \a: #REF!
Name \a: #REF!
Name \a: #REF!
Name \a: #REF!
Name \a: #REF!
Name \a: #REF!
Name \a: #REF!
Name \b: '[1]APU PVC'!#REF!
Name \b: #REF!
Name \b: #REF!
Name \b: '[1]APU PVC'!#REF!
Name \b: '[1]APU PVC'!#REF!
Name \b: '[1]APU PVC'!#REF!
Name \b: '[1]APU PVC'!#REF!
Name \b: '[1]APU PVC'!#REF!
Name \b: '[1]APU PVC'!#REF!
Name \c: '[1]APU PVC'!#REF!
Name \c: '[1]APU PVC'!#REF!
Name \c: '[1]APU PVC'!#REF!
Name \c: '[1]APU PVC'!#REF!
Name \c: '[1]APU PVC'!#REF!
Name \e: '[1]APU PVC'!#REF!
Name \e: '[1]APU PVC'!#REF!
Name \e: '[1]APU PVC'!#REF!
Name \e: '[1]APU PVC'!#REF!
Name \e: '[1]APU PVC'!#REF!
Name \eliminar: [2]RESUM96!#REF!
Name \eliminar: [2]RESUM96!#REF!
Name \eliminar: [2]RESUM96!#REF!
Name \eliminar: [2]RESUM96!#REF!
Name \eliminar: [2]RESUM96!#REF!
Name \eliminar: [2]RESUM96!#REF!
Name \eliminar: [2]RESUM96!#REF!
Name \eliminar1: [2]RESUM96!#REF!
Name \eliminar1: [2]RESUM96!#REF!
Name \eliminar1: [2]RESUM96!#REF!
Name \eliminar1: [2]RESUM96!#REF!
Name \eliminar1: [2]RESUM96!#REF!
Name \eliminar1: [2]RESUM96!#REF!
Name \eliminar1: [2]RESUM96!#REF!
Name \i: [3]INSUMOS!#REF!
Name \i: [3]INSUMOS!#REF!
Name \i: '[1]APU PVC'!#REF!
Name \i: '[1]APU PVC'!#REF!
Name \i: '[1]APU PVC'!#REF!
Name \i: '[1]APU PVC'!#REF!
Name \i: '[1]APU PVC'!#REF!
Name \m: [3]INSUMOS!#REF!
Name \m: [3]INSUMOS!#REF!
Name \m: '[1]APU PVC'!#REF!
Name \m: '[1]APU PVC'!#REF!
Name \m: '[1]APU PVC'!#REF!
Name \m: '[1]APU PVC'!#REF!
Name \m: '[1]APU PVC'!#REF!
Name \p: '[4]OPS&OMS'!$Z$2:$AE$23
Name \q: #REF!
Name \q: #REF!
Name \q: #REF!
Name \q: #REF!

Sheet RESUMEN
B2: MUNICIPIO DE TÁMESIS - ANTIOQUIA
B3: SECRETARÍA DE PLANEACIÓN - DEPENDENCIA DE INFRAESTRUCTURA Y OBRAS PÚBLICAS
B4: OPTIMIZACIÓN REDES DE ACUEDUCTO Y ALCANTARILLADO RESIDUAL Y PLUVIAL DEL MUNICIPIO DE TÁMESIS - ANTIOQUIA
D5: Distancia botadero | F5: 10 | G5: Distancia Fuente materiales | H5: 32
B6: ITEM | C6: DESCRIPCIÓN | G6: VALOR OBRA CIVIL | H6: VALOR SUMUNISTRO
B7: 1 | C7: PRESUPUESTO ALCANTARILLADO RESIDUAL | G7: =+'PPTO OFICIAL (Entidad)'!G58 -> 6.9711365e+09 | H7: =+'PPTO OFICIAL (Entidad)'!H58 -> 1.6523538e+09
B8: =+B7+1 -> 2 | C8: PRESUPUESTO ALCANTARILLADO PLUVIAL | G8: =+'PPTO OFICIAL (Entidad)'!G122 -> 5.0526354e+09 | H8: =+'PPTO OFICIAL (Entidad)'!H122 -> 8.1028726e+08
B9: =+B8+1 -> 3 | C9: PRESUPUESTO ACUEDUCTO | G9: =+'PPTO OFICIAL (Entidad)'!G8 -> 1.0174054e+09 | H9: =+'PPTO OFICIAL (Entidad)'!H8 -> 2.5884837e+08
B10: =+B9+1 -> 4 | C10: PRESUPUESTO OBRAS ADICIONALES | G10: =+'PPTO OFICIAL (Entidad)'!G242 -> 9.0270437e+08 | H10: =+'PPTO OFICIAL (Entidad)'!H242 -> 8.7878553e+08
E11: TOTAL COSTOS DE OBRA | G11: =ROUND(SUM(G7:G10),0) -> 13943881757
E12: =+#REF! -> #REF! | G12: =+#REF! -> #REF!
E13: 0.05 | G13: =+#REF! -> #REF!
E14: COSTOS INDIRECTOS (A+I+U) | G14: =ROUND(G13+G12,0) -> #REF!
E15: VALOR TOTAL OBRA (CD+CI) | G15: =+ROUND(G14+G11,0) -> #REF!
E17: TOTAL COSTOS DE SUMINISTRO | H17: =ROUND(SUM(H7:H10),0) -> 3600275009
E18: VALOR TOTAL OBRA + SUMINISTRO | H18: =+G15+H17 -> #REF!
E20: =+'PPTO OFICIAL (Entidad)'!F252 -> 0.01 | H20: =+ROUND(G11*E20,0) -> 139438818
C21: INTERVENTORIA DE OBRA CIVIL | G21: =+ROUND(H21/(G15+#REF!),4) -> #REF! | H21: 1343545658
C22: INTERVENTORIA DE SUMINISTROS | G22: 0.02 | H22: =ROUND($H$18*G22,0) -> #REF!
C23: TOTAL INTERVENTORIA | G23: =+H23/#REF! -> #REF! | H23: =SUM(H21:H22) -> #REF!
D24: Componente total MVCT 2%
B25: TOTAL COSTO OBRA+SUMINISTRO+INTERVENTORIA+IMPREVISTOS | H25: =+#REF!+H23+H24+H20 -> #REF!

Sheet PPTO OFICIAL (Entidad)
A2: GOBERNACIÓN DE ANTIOQUIA - SECRETARÍA DE MEDIO AMBIENTE
A3: OPTIMIZACIÓN REDES DE ACUEDUCTO Y ALCANTARILLADO RESIDUAL Y PLUVIAL DEL MUNICIPIO DE TÁMESIS - ANTIOQUIA
A5: PRESUPUESTO
A7: ESPEC. NEGC | B7: ÍTEM | C7: DESCRIPCIÓN | D7: UND | E7: CANTIDAD | F7: VALOR UNITARIO | G7: OBRA CIVIL | H7: SUMINISTROS
B8: 1 | C8: ACUEDUCTO | G8: 1.0174054e+09 | H8: 2.5884837e+08
B9: 1.1 | C9: ACTIVIDADES PRELIMINARES | G9: 1.7606428e+08 | H9: 0
A10: NC-MN-OC01-01 | B10: 1.1.1 | C10: Localización, trazado y replanteo | D10: ml | E10: 2129.5965 | F10: 3168 | G10: 6746561.6 | J10: 2129.5965
A11: NC-MN-OC03-01 | B11: 1.1.2 | C11: Excavación manual en cualquier material y grado de humedad, para nichos de investigación y trabajos no asociados directamente a la instalacion de las tuberias, no incluye botada | D11: m³ | E11: 18 | F11: 51003 | G11: 918054 | J11: 18
A12: NC-MN-OC03-01 | B12: 1.1.4 | C12: Excavación manual en material heterogéneo húmedo <2 m, no incluye entibado ni botada de material. (Domiciliarias) | D12: m³ | E12: 1926.5865 | F12: 49522 | G12: 95408417 | J12: 1926.5865
A13: NC-MN-OC05-05 | B13: 1.1.5 | C13: CORTE Y ROTURA DE PAVIMENTO ARTICULADO PARA ZANJAS | D13: m² | E13: 1298.1975 | F13: 33278 | G13: 43201416 | J13: 1298.1975
A14: NC-MN-OC05-01 | B14: 1.1.6 | C14: CORTE Y ROTURA DE PAVIMENTO RÍGIDO PARA ZANJAS e=0,20 m Incluye cargue, transporte y botada de escombros hasta 10km hasta el sitio que lo indique la interventoría. | D14: m² | E14: 916.61015 | F14: 32500 | G14: 29789830 | J14: 916.61015
B15: 1.2 | C15: EXCAVACIONES, RELLENOS Y TERRAPLÉN | G15: 3.9688556e+08 | H15: 0
A16: NC-MN-OC04-01 | B16: 1.2.1 | C16: Lleno compactado mecanicamente con material de préstamo densidad de compactación >90% PM TIPO BASE | D16: m³ | E16: 121.66121 | F16: 190848 | G16: 23218798 | J16: 121.66121
A17: NC-MN-OC04-01 | B17: 1.2.2 | C17: Lleno y apisonado de zanjas con material seleccionado de la excavación, densidad de compactación >90% PM | D17: m³ | E17: 1274.6994 | F17: 30277 | G17: 38594074 | J17: 1274.6994
A18: NC-MN-OC04-01 | B18: 1.2.3 | C18: Lleno con material granular, triturado de 3/4" para apoyo de tubería. Incluye transporte | D18: m³ | E18: 183.30078 | F18: 177250 | G18: 32490063 | J18: 183.30078
A19: NC-MN-OC05-05 | B19: 1.2.5 | C19: Concreto para pavimento rígido 24.5 MPa - (3500 PSI). Incluye junta en asfalto | D19: m³ | E19: 183.32203 | F19: 978407 | G19: 1.7936356e+08 | J19: 183.32203
A20: NC-MN-OC07-05 | B20: 1.2.6 | C20: Construcción de PISO EN ADOQUÍN CUADRADO EN CONCRETO DE 20x20x6cm. Incluye suministro y transporte de los adoquines, cama de asiento en arena limpia de 5 cm, sello de juntas en arena, cortes a máquina. Seguir recomendación del MEP y patrones de instalación del ICPC. El adoquín deberá resellarse por 2 veces con un lapso de 4 meses luego de su instalación y cumplir con la norma NTC 2017. | D20: m² | E20: 1298.1975 | F20: 73909 | G20: 95948477 | J20: 1298.1975
A21: NC-MN-OC01-04 | B21: 1.2.7 | C21: Retiro y botada de materiales resultantes de la excavacion y demoliciones a distancias mayores a 10 km. | D21: m3*km | E21: 10164.216 | F21: 2683 | G21: 27270592 | J21: 10164.216
B22: 1.3 | C22: Válvulas de compuerta, vastago no ascendente sello elástico bridada en los siguientes diámetros: | G22: 3191397 | H22: 39867660
A23: NC_AS_IL01_16 | B23: 1.3.1 | C23: Suministro Válvula de compuerta en hierro dúctil, vástago no ascendente, sello elástico, según norma de fabricación AWWWA C-515/509, extremo brida de 50 mm (2") | D23: un | E23: 9 | F23: 728521.2 | H23: 6556690.8 | J23: 9
A24: NC_AS_IL01_16 | B24: 1.3.2 | C24: Instalacion Válvula de compuerta en hierro dúctil, vástago no ascendente, sello elástico, según norma de fabricación AWWWA C-515/509, extremo brida de 50 mm (2") | D24: un | E24: 9 | F24: 96709 | G24: 870381 | J24: 9
A25: NC_AS_IL01_16 | B25: 1.3.3 | C25: Suministro Válvula de compuerta en hierro dúctil, vástago no ascendente, sello elástico, según norma de fabricación AWWWA C-515/509, extremo brida 75 mm (3") | D25: un | E25: 7 | F25: 1140544.2 | H25: 7983809.7 | J25: 7
A26: NC_AS_IL01_16 | B26: 1.3.4 | C26: Instalacion Válvula de compuerta en hierro dúctil, vástago no ascendente, sello elástico, según norma de fabricación AWWWA C-515/509, extremo brida 75 mm (3") | D26: un | E26: 7 | F26: 96709 | G26: 676963 | J26: 7
A27: NC_AS_IL01_16 | B27: 1.3.5 | C27: Suministro Válvula de compuerta en hierro dúctil, vástago no ascendente, sello elástico, según norma de fabricación AWWWA C-515/509, extremo brida 100mm (4") | D27: un | E27: 17 | F27: 1489832.9 | H27: 25327159 | J27: 17
A28: NC_AS_IL01_16 | B28: 1.3.6 | C28: Instalacion Válvula de compuerta en hierro dúctil, vástago no ascendente, sello elástico, según norma de fabricación AWWWA C-515/509, extremo brida 100mm (4") | D28: un | E28: 17 | F28: 96709 | G28: 1644053 | J28: 17 | Q28: 33
B29: 1.5 | C29: Suministro, transporte e instalación de redes | G29: 27327268 | H29: 2.1121938e+08
A30: NC_AS_IL01_34 | B30: 1.5.1 | C30: Suministro, transporte de tuberia PF+UAD de 15 mm para acometidas de acueducto | D30: ml | E30: 1596.2444 | F30: 3500.97 | H30: 5588403.6 | J30: 1596.2444
A31: NC_AS_IL01_34 | B31: 1.5.2 | C31: instalación de tuberia PF+UAD de 15 mm PVC-P para acometidas de acueducto | D31: ml | E31: 1596.2444 | F31: 1295 | G31: 2067136.5 | J31: 1596.2444
A32: NC_AS_IL01_34 | B32: 1.5.3 | C32: Suministro, transporte tuberia PVC 4" RDE 21 | D32: ml | E32: 2129.5965 | F32: 90260 | H32: 1.9221738e+08 | J32: 2129.5965
A33: NC_AS_IL01_34 | B33: 1.5.4 | C33: instalación de redes de tuberia PVC 4" RDE 21 | D33: ml | E33: 2129.5965 | F33: 10776 | G33: 22948532 | J33: 2129.5965 | P33: 3725.8408
A34: NC_AS_IL01_34 | B34: 1.5.5 | C34: ST collares de derivacion | D34: un | E34: 400 | F34: 33534 | H34: 13413600 | J34: 400
A35: NC_AS_IL01_34 | B35: 1.5.6 | C35: Instalacion collares de derivación | D35: un | E35: 400 | F35: 5779 | G35: 2311600 | J35: 400
B36: 1.6 | C36: URBANISMO | G36: 193929403 | H36: 7761332
A37: NC-MN-OC07-01 | B37: 1.6.1 | C37: Construcción y/o reconstrucción de cordones de andenes en concreto f`c = 210 kg/cm2 | D37: ml | E37: 240 | F37: 107324 | G37: 25757760 | J37: 240
A38: NC-MN-OC08-01 | B38: 1.6.2 | C38: Construcción de cuneta triangular en concreto de f´c = 3000PSI (21Mpa), ancho 0,40m, alto 0,20m y e=0,10m, incluye entresuelo en triturado de 0,10m de espesor, incluye Acero | D38: ml | E38: 240 | F38: 108608 | G38: 26065920 | J38: 240
A39: NC_AS_IL01_02 | B39: 1.6.3 | C39: Construcción de cajas para medidores de acueducto De 15 mm (1/2") de de 0.45m x 0.25m x 0.20m (Medidas internas) (TIPO EPM), con tapa metálica y marco | D39: un | E39: 400 | F39: 301072 | G39: 120428800 | J39: 400
A40: NC_AS_IL01_05 | B40: 1.6.4 | C40: Caja para válvula de 21 Mpa (0,4 x 0,4 X0,5m medidas internas e=0,10m) con tapa polimérica de 0,4x0,4m, incluye herraje | D40: un | E40: 34 | F40: 575835 | G40: 19578390 | J40: 34
A41: NC_AS_IL01_03 | B41: 1.6.5 | C41: Suministro de estación reguladora de presión de diámetro 2 pulg. | D41: un | E41: 1 | F41: 7761332 | H41: 7761332 | J41: 1
A42: NC_AS_IL01_03 | B42: 1.6.6 | C42: Intalación Estación reguladora de presión de diámetro 2 pulg. incluye construcción de caja | D42: un | E42: 1 | F42: 2098533 | G42: 2098533 | J42: 1
B43: 1.7 | C43: SEÑALIZACIÓN Y ELEMENTOS | G43: 12401908 | H43: 0
...

Sheet PROPUESTA ECONOMICA (Proponente
A2: GOBERNACIÓN DE ANTIOQUIA - SECRETARÍA DE MEDIO AMBIENTE
A3: OPTIMIZACIÓN REDES DE ACUEDUCTO Y ALCANTARILLADO RESIDUAL Y PLUVIAL DEL MUNICIPIO DE TÁMESIS - ANTIOQUIA
A5: PRESUPUESTO
A7: ESPEC. NEGC | B7: ÍTEM | C7: DESCRIPCIÓN | D7: UND | E7: CANTIDAD | F7: VALOR UNITARIO | G7: OBRA CIVIL | H7: SUMINISTROS
B8: 1 | C8: ACUEDUCTO
B9: 1.1 | C9: ACTIVIDADES PRELIMINARES
A10: NC-MN-OC01-01 | B10: 1.1.1 | C10: Localización, trazado y replanteo | D10: ml | E10: 2129.5965 | J10: 2129.5965
A11: NC-MN-OC03-01 | B11: 1.1.2 | C11: Excavación manual en cualquier material y grado de humedad, para nichos de investigación y trabajos no asociados directamente a la instalacion de las tuberias, no incluye botada | D11: m³ | E11: 18 | J11: 18
A12: NC-MN-OC03-01 | B12: 1.1.4 | C12: Excavación manual en material heterogéneo húmedo <2 m, no incluye entibado ni botada de material. (Domiciliarias) | D12: m³ | E12: 1926.5865 | J12: 1926.5865
A13: NC-MN-OC05-05 | B13: 1.1.5 | C13: CORTE Y ROTURA DE PAVIMENTO ARTICULADO PARA ZANJAS | D13: m² | E13: 1298.1975 | J13: 1298.1975
A14: NC-MN-OC05-01 | B14: 1.1.6 | C14: CORTE Y ROTURA DE PAVIMENTO RÍGIDO PARA ZANJAS e=0,20 m Incluye cargue, transporte y botada de escombros hasta 10km hasta el sitio que lo indique la interventoría. | D14: m² | E14: 916.61015 | J14: 916.61015
B15: 1.2 | C15: EXCAVACIONES, RELLENOS Y TERRAPLÉN
A16: NC-MN-OC04-01 | B16: 1.2.1 | C16: Lleno compactado mecanicamente con material de préstamo densidad de compactación >90% PM TIPO BASE | D16: m³ | E16: 121.66121 | J16: 121.66121
A17: NC-MN-OC04-01 | B17: 1.2.2 | C17: Lleno y apisonado de zanjas con material seleccionado de la excavación, densidad de compactación >90% PM | D17: m³ | E17: 1274.6994 | J17: 1274.6994
A18: NC-MN-OC04-01 | B18: 1.2.3 | C18: Lleno con material granular, triturado de 3/4" para apoyo de tubería. Incluye transporte | D18: m³ | E18: 183.30078 | J18: 183.30078
A19: NC-MN-OC05-05 | B19: 1.2.5 | C19: Concreto para pavimento rígido 24.5 MPa - (3500 PSI). Incluye junta en asfalto | D19: m³ | E19: 183.32203 | J19: 183.32203
A20: NC-MN-OC07-05 | B20: 1.2.6 | C20: Construcción de PISO EN ADOQUÍN CUADRADO EN CONCRETO DE 20x20x6cm. Incluye suministro y transporte de los adoquines, cama de asiento en arena limpia de 5 cm, sello de juntas en arena, cortes a máquina. Seguir recomendación del MEP y patrones de instalación del ICPC. El adoquín deberá resellarse por 2 veces con un lapso de 4 meses luego de su instalación y cumplir con la norma NTC 2017. | D20: m² | E20: 1298.1975 | J20: 1298.1975
A21: NC-MN-OC01-04 | B21: 1.2.7 | C21: Retiro y botada de materiales resultantes de la excavacion y demoliciones a distancias mayores a 10 km. | D21: m3*km | E21: 10164.216 | J21: 10164.216
B22: 1.3 | C22: Válvulas de compuerta, vastago no ascendente sello elástico bridada en los siguientes diámetros:
A23: NC_AS_IL01_16 | B23: 1.3.1 | C23: Suministro Válvula de compuerta en hierro dúctil, vástago no ascendente, sello elástico, según norma de fabricación AWWWA C-515/509, extremo brida de 50 mm (2") | D23: un | E23: 9 | J23: 9
A24: NC_AS_IL01_16 | B24: 1.3.2 | C24: Instalacion Válvula de compuerta en hierro dúctil, vástago no ascendente, sello elástico, según norma de fabricación AWWWA C-515/509, extremo brida de 50 mm (2") | D24: un | E24: 9 | J24: 9
A25: NC_AS_IL01_16 | B25: 1.3.3 | C25: Suministro Válvula de compuerta en hierro dúctil, vástago no ascendente, sello elástico, según norma de fabricación AWWWA C-515/509, extremo brida 75 mm (3") | D25: un | E25: 7 | J25: 7
A26: NC_AS_IL01_16 | B26: 1.3.4 | C26: Instalacion Válvula de compuerta en hierro dúctil, vástago no ascendente, sello elástico, según norma de fabricación AWWWA C-515/509, extremo brida 75 mm (3") | D26: un | E26: 7 | J26: 7
A27: NC_AS_IL01_16 | B27: 1.3.5 | C27: Suministro Válvula de compuerta en hierro dúctil, vástago no ascendente, sello elástico, según norma de fabricación AWWWA C-515/509, extremo brida 100mm (4") | D27: un | E27: 17 | J27: 17
A28: NC_AS_IL01_16 | B28: 1.3.6 | C28: Instalacion Válvula de compuerta en hierro dúctil, vástago no ascendente, sello elástico, según norma de fabricación AWWWA C-515/509, extremo brida 100mm (4") | D28: un | E28: 17 | J28: 17 | Q28: 33
B29: 1.5 | C29: Suministro, transporte e instalación de redes
A30: NC_AS_IL01_34 | B30: 1.5.1 | C30: Suministro, transporte de tuberia PF+UAD de 15 mm para acometidas de acueducto | D30: ml | E30: 1596.2444 | J30: 1596.2444
A31: NC_AS_IL01_34 | B31: 1.5.2 | C31: instalación de tuberia PF+UAD de 15 mm PVC-P para acometidas de acueducto | D31: ml | E31: 1596.2444 | J31: 1596.2444
A32: NC_AS_IL01_34 | B32: 1.5.3 | C32: Suministro, transporte tuberia PVC 4" RDE 21 | D32: ml | E32: 2129.5965 | J32: 2129.5965
A33: NC_AS_IL01_34 | B33: 1.5.4 | C33: instalación de redes de tuberia PVC 4" RDE 21 | D33: ml | E33: 2129.5965 | J33: 2129.5965 | P33: 3725.8408
A34: NC_AS_IL01_34 | B34: 1.5.5 | C34: ST collares de derivacion | D34: un | E34: 400 | J34: 400
A35: NC_AS_IL01_34 | B35: 1.5.6 | C35: Instalacion collares de derivación | D35: un | E35: 400 | J35: 400
B36: 1.6 | C36: URBANISMO
A37: NC-MN-OC07-01 | B37: 1.6.1 | C37: Construcción y/o reconstrucción de cordones de andenes en concreto f`c = 210 kg/cm2 | D37: ml | E37: 240 | J37: 240
A38: NC-MN-OC08-01 | B38: 1.6.2 | C38: Construcción de cuneta triangular en concreto de f´c = 3000PSI (21Mpa), ancho 0,40m, alto 0,20m y e=0,10m, incluye entresuelo en triturado de 0,10m de espesor, incluye Acero | D38: ml | E38: 240 | J38: 240
A39: NC_AS_IL01_02 | B39: 1.6.3 | C39: Construcción de cajas para medidores de acueducto De 15 mm (1/2") de de 0.45m x 0.25m x 0.20m (Medidas internas) (TIPO EPM), con tapa metálica y marco | D39: un | E39: 400 | J39: 400
A40: NC_AS_IL01_05 | B40: 1.6.4 | C40: Caja para válvula de 21 Mpa (0,4 x 0,4 X0,5m medidas internas e=0,10m) con tapa polimérica de 0,4x0,4m, incluye herraje | D40: un | E40: 34 | J40: 34
A41: NC_AS_IL01_03 | B41: 1.6.5 | C41: Suministro de estación reguladora de presión de diámetro 2 pulg. | D41: un | E41: 1 | J41: 1
A42: NC_AS_IL01_03 | B42: 1.6.6 | C42: Intalación Estación reguladora de presión de diámetro 2 pulg. incluye construcción de caja | D42: un | E42: 1 | J42: 1
B43: 1.7 | C43: SEÑALIZACIÓN Y ELEMENTOS
...

Sheet APU ITEM DE PAGO
C2: =+RESUMEN!B4 -> OPTIMIZACIÓN REDES DE ACUEDUCTO Y ALCANTARILLADO RESIDUAL Y PLUVIAL DEL MUNICIPIO DE TÁMESIS - ANTIOQUIA
A3: CAPITULO | B3: ITEM | C3: Descripción | H3: U.M.
A6: 1. MATERIALES
A7: DESCRIPCIÓN | E7: UNIDAD | F7: CANTIDAD | G7: V/UNITARIO | H7: V/TOTAL
H8: =ROUND(F8*G8,2) -> 0
H9: =IF(OR(F9="",G9=""),"",ROUND(F9*G9,0))
H10: =IF(OR(F10="",G10=""),"",ROUND(F10*G10,0))
G11: SUBTOTAL | H11: =SUM(H8:H10) -> 0
A13: 2. MAQUINARIA Y EQUIPO
A14: DESCRIPCIÓN | E14: UNIDAD | F14: Rendimiento | G14: V/UNITARIO | H14: V/TOTAL
A15: HERRAMIENTA Y EQUIPO MENOR (%M.O) | E15: % | F15: 0.05 | G15: =+H29 -> 0
G17: SUBTOTAL | H17: =+H15 -> 0
A19: 3. TRANSPORTE
A20: DESCRIPCIÓN | E20: UNIDAD | F20: Rendimiento | G20: V/UNITARIO | H20: V/TOTAL
H21: =ROUND(F21*G21,2) -> 0
H22: =IF(OR(F22="",G22=""),"",ROUND(F22*G22,0))
G23: SUBTOTAL | H23: =SUM(H21:H22) -> 0
A25: 4. MANO DE OBRA
A26: DESCRIPCIÓN | E26: UNIDAD | F26: V/UNITARIO | G26: Rendimiento | H26: V/TOTAL
A27: =+#REF! -> #REF! | E27: JORNAL
G29: SUBTOTAL
F31: COSTOS DIRECTOS | H31: =ROUND(H29+H23+H17+H11,0) -> 0

Sheet PPTO ACTO
B1: MUNICIPIO DE TÁMESIS - ANTIOQUIA
B2: SECRETARÍA DE PLANEACIÓN - DEPENDENCIA DE INFRAESTRUCTURA Y OBRAS PÚBLICAS
B3: CONSTRUCCIÓN DE PLAN MAESTRO DE ACUEDUCTO Y ALCANTARILLADO EN EL MUNICIPIO DE TÁMESIS - ANTIOQUIA
D4: Distancia botadero | F4: 10 | G4: Distancia Fuente materiales | H4: =+RESUMEN!H5 -> 32
B5: ITEM | C5: DESCRIPCIÓN | D5: UNIDAD | E5: CANTIDAD TOTAL | F5: VALOR UNITARIO | G5: VALOR OBRA CIVIL | H5: VALOR SUMUNISTRO
B6: 1 | C6: PRELIMINARES | G6: =SUM(G7:G11) -> #REF! | H6: =ROUND(SUM(H7:H11),2) -> 0 | J6: =G6*1.32 -> #REF! | K6: =G6*1.32 -> #REF!
B7: =B6+0.01 -> 1.01 | C7: Localización, trazado y replanteo | D7: ml | E7: 2007 | F7: =+'APU ITEM DE PAGO'!$H$31 -> 0 | G7: =ROUND(F7*E7,2) -> 0 | I7: =+ROUND(E7,0) -> 2007
B8: =B7+0.01 -> 1.02 | C8: Excavación manual en cualquier material y grado de humedad, para nichos de investigación y trabajos no asociados directamente a la instalacion de las tuberias | D8: m³ | E8: 18 | F8: =+'APU ITEM DE PAGO'!#REF! -> #REF! | G8: =ROUND(F8*E8,2) -> #REF! | I8: =+ROUND(E8,0) -> 18
B9: =B8+0.01 -> 1.03 | C9: Excavación manual en material heterogéneo húmedo <2 m, no incluye entibado. (Domiciliarias) | D9: m³ | E9: 1444 | F9: =+'APU ITEM DE PAGO'!#REF! -> #REF! | G9: =ROUND(F9*E9,2) -> #REF! | I9: =+ROUND(E9,0) -> 1444
B10: =B9+0.01 -> 1.04 | C10: CORTE Y ROTURA DE PAVIMENTO ARTICULADO PARA ZANJAS | D10: m² | E10: 1444 | F10: =+'APU ITEM DE PAGO'!#REF! -> #REF! | G10: =ROUND(F10*E10,2) -> #REF! | I10: =+ROUND(E10,0) -> 1444
B11: =B10+0.01 -> 1.05 | C11: CORTE Y ROTURA DE PAVIMENTO RÍGIDO PARA ZANJAS Incluye cargue, transporte y botada de escombros hasta 10km hasta el sitio que lo indique la interventoría. | D11: m² | E11: 1444 | F11: =+'APU ITEM DE PAGO'!#REF! -> #REF! | G11: =ROUND(F11*E11,2) -> #REF! | I11: =+ROUND(E11,0) -> 1444
B12: =+'PPTO ACTO'!B6+1 -> 2 | C12: EXCAVACIONES , RELLENOS Y TERRAPLEN | G12: =ROUND(SUM(G13:G19),2) -> #REF! | H12: =ROUND(SUM(H13:H19),2) -> 0 | I12: =+ROUND(E12,0) -> 0 | J12: =G12*1.32 -> #REF! | K12: =G12*1.32 -> #REF!
B13: =B12+0.01 -> 2.01 | C13: Lleno compactado mecanicamente con material de préstamo densidad de compactación >90% PM TIPO BASE | D13: m³ | E13: 23 | F13: =+'APU ITEM DE PAGO'!#REF! -> #REF! | G13: =ROUND(F13*E13,2) -> #REF! | I13: =+ROUND(E13,0) -> 23
B14: =B13+0.01 -> 2.02 | C14: Lleno y apisonado de zanjas con material seleccionado de la excavación, densidad de compactación >90% PM | D14: m³ | E14: 1155 | F14: =+'APU ITEM DE PAGO'!#REF! -> #REF! | G14: =ROUND(F14*E14,2) -> #REF! | I14: =+ROUND(E14,0) -> 1155
B15: =B14+0.01 -> 2.03 | C15: Lleno con material granular, triturado de 3/4" para apoyo de tubería | D15: m³ | E15: 289 | F15: =+'APU ITEM DE PAGO'!#REF! -> #REF! | G15: =ROUND(F15*E15,2) -> #REF! | I15: =+ROUND(E15,0) -> 289
B16: =B15+0.01 -> 2.04 | C16: Cargue, retiro y botada de material sobrante y escombros, a cualquier distancia, para trabajos no asociados directamente a la instalación de las tuberías. Distancia hasta 25 km. | D16: m³ | E16: 197 | F16: =+'APU ITEM DE PAGO'!#REF! -> #REF! | G16: =ROUND(F16*E16,2) -> #REF! | I16: =+ROUND(E16,0) -> 197
B17: =B16+0.01 -> 2.05 | C17: CONCRETO PARA PAVIMENTO RIGIDO 24.5 MPa - (3500 PSI), INCLUYE JUNTA EN ASFALTO | D17: m³ | E17: 289 | F17: =+'APU ITEM DE PAGO'!#REF! -> #REF! | G17: =ROUND(F17*E17,2) -> #REF! | I17: =+ROUND(E17,0) -> 289
B18: =B17+0.01 -> 2.06 | C18: Construcción de PISO EN ADOQUÍN CUADRADO EN CONCRETO DE 20x20x6cm. Incluye suministro y transporte de los adoquines, cama de asiento en arena limpia de 5 cm, sello de juntas en arena, cortes a máquina. Seguir recomendación del MEP y patrones de instalación del ICPC. El adoquín deberá resellarse por 2 veces con un lapso de 4 meses luego de su instalación y cumplir con la norma NTC 2017. | D18: m² | E18: 1444 | F18: =+'APU ITEM DE PAGO'!#REF! -> #REF! | G18: =ROUND(F18*E18,2) -> #REF! | I18: =+ROUND(E18,0) -> 1444
B19: =B18+0.01 -> 2.07 | C19: Retiro y botada de materiales resultantes de la excavacion y demoliciones a cualquier distancia incluye cargue | D19: m3-km | E19: 1967 | F19: =+'APU ITEM DE PAGO'!#REF! -> #REF! | G19: =ROUND(F19*E19,2) -> #REF! | I19: =+ROUND(E19,0) -> 1967
B20: =+B12+1 -> 3 | C20: Válvulas de compuerta, vastago no ascendente sello elástico bridada en los siguientes diámetros: | G20: =SUM(G21:G26) -> #REF! | H20: =SUM(H21:H26) -> 0 | I20: =+ROUND(E20,0) -> 0 | J20: =G20*1.32 -> #REF! | K20: =G20*1.32 -> #REF!
B21: =B20+0.01 -> 3.01 | C21: suministro Válvula de compuerta en hierro dúctil, vástago no ascendente, sello elástico, según norma de fabricación AWWWA C-515/509, extremo brida de 50 mm (2") | D21: un | E21: 4 | F21: =+'APU ITEM DE PAGO'!#REF!+'APU ITEM DE PAGO'!#REF! -> #REF! | G21: =+E21*F21 -> #REF! | I21: =+ROUND(E21,0) -> 4 | J21: =H20*K22 -> 0
B22: =B21+0.01 -> 3.02 | C22: Instalacion Válvula de compuerta en hierro dúctil, vástago no ascendente, sello elástico, según norma de fabricación AWWWA C-515/509, extremo brida de 50 mm (2") | D22: =+D21 -> un | E22: 4 | F22: =+'APU ITEM DE PAGO'!#REF!+'APU ITEM DE PAGO'!#REF! -> #REF! | G22: =ROUND(F22*E22,2) -> #REF! | I22: =+ROUND(E22,0) -> 4 | K22: 1.19
B23: =B22+0.01 -> 3.03 | C23: suministro Válvula de compuerta en hierro dúctil, vástago no ascendente, sello elástico, según norma de fabricación AWWWA C-515/509, extremo brida 75 mm (3") | D23: un | E23: 4 | F23: =+'APU ITEM DE PAGO'!#REF!+'APU ITEM DE PAGO'!#REF! -> #REF! | G23: =+E23*F23 -> #REF! | I23: =+ROUND(E23,0) -> 4
B24: =B23+0.01 -> 3.04 | C24: Instalacion Válvula de compuerta en hierro dúctil, vástago no ascendente, sello elástico, según norma de fabricación AWWWA C-515/509, extremo brida 75 mm (3") | D24: =+D23 -> un | E24: 4 | F24: =+'APU ITEM DE PAGO'!#REF!+'APU ITEM DE PAGO'!#REF! -> #REF! | G24: =ROUND(F24*E24,2) -> #REF! | I24: =+ROUND(E24,0) -> 4
B25: =B24+0.01 -> 3.05 | C25: suministro Válvula de compuerta en hierro dúctil, vástago no ascendente, sello elástico, según norma de fabricación AWWWA C-515/509, extremo brida 100mm (4") | D25: un | E25: 9 | F25: =+'APU ITEM DE PAGO'!#REF!+'APU ITEM DE PAGO'!#REF! -> #REF! | G25: =+E25*F25 -> #REF! | I25: =+ROUND(E25,0) -> 9
B26: =B25+0.01 -> 3.06 | C26: Instalacion Válvula de compuerta en hierro dúctil, vástago no ascendente, sello elástico, según norma de fabricación AWWWA C-515/509, extremo brida 100mm (4") | D26: =+D25 -> un | E26: 9 | F26: =+'APU ITEM DE PAGO'!#REF!+'APU ITEM DE PAGO'!#REF! -> #REF! | G26: =ROUND(F26*E26,2) -> #REF! | I26: =+ROUND(E26,0) -> 9
B27: =+B20+1 -> 4 | C27: Válvulas de compuerta, vastago no ascendente sello elástico bridada en los siguientes diámetros: | G27: =SUM(G28:G33) -> #REF! | H27: =SUM(H28:H33) -> 0 | I27: =+ROUND(E27,0) -> 0 | J27: =G27*1.32 -> #REF! | K27: =G27*1.32 -> #REF!
B28: =B27+0.01 -> 4.01 | C28: suministro Brida ajustable PVC SCH 80 de 50 mm (2") | D28: =+D26 -> un | E28: 8 | F28: =+'APU ITEM DE PAGO'!#REF!+'APU ITEM DE PAGO'!#REF!+'APU ITEM DE PAGO'!#REF! -> #REF! | G28: =ROUND(F28*E28,2) -> #REF! | I28: =+ROUND(E28,0) -> 8 | J28: =H27*K29 -> 0
B29: =B28+0.01 -> 4.02 | C29: instalación Brida ajustable PVC SCH 80 de 50 mm (2") | D29: =+D28 -> un | E29: 8 | F29: =+'APU ITEM DE PAGO'!#REF!+'APU ITEM DE PAGO'!#REF! -> #REF! | G29: =ROUND(F29*E29,2) -> #REF! | I29: =+ROUND(E29,0) -> 8 | K29: 1.19
B30: =B29+0.01 -> 4.03 | C30: Suministro Brida ajustable PVC SCH 80 150 PSI, de 80 mm (3") | D30: =+D29 -> un | E30: 8 | F30: =+'APU ITEM DE PAGO'!#REF!+'APU ITEM DE PAGO'!#REF!+'APU ITEM DE PAGO'!#REF! -> #REF! | G30: =ROUND(F30*E30,2) -> #REF! | I30: =+ROUND(E30,0) -> 8
B31: =B30+0.01 -> 4.04 | C31: instalación Brida ajustable PVC SCH 80 150 PSI, de 80 mm (3") | D31: =+D30 -> un | E31: 8 | F31: =+'APU ITEM DE PAGO'!#REF!+'APU ITEM DE PAGO'!#REF! -> #REF! | G31: =ROUND(F31*E31,2) -> #REF! | I31: =+ROUND(E31,0) -> 8
B32: =B31+0.01 -> 4.05 | C32: suministro Brida ajustable PVC SCH 80 150 PSI de 100 mm (4") | D32: =+D31 -> un | E32: 18 | F32: =+'APU ITEM DE PAGO'!#REF!+'APU ITEM DE PAGO'!#REF!+'APU ITEM DE PAGO'!#REF! -> #REF! | G32: =ROUND(F32*E32,2) -> #REF! | I32: =+ROUND(E32,0) -> 18
B33: =B32+0.01 -> 4.06 | C33: instalación Brida ajustable PVC SCH 80 150 PSI de 100 mm (4") | D33: =+D32 -> un | E33: 18 | F33: =+'APU ITEM DE PAGO'!#REF!+'APU ITEM DE PAGO'!#REF! -> #REF! | G33: =ROUND(F33*E33,2) -> #REF! | I33: =+ROUND(E33,0) -> 18
B34: =B27+1 -> 5 | C34: Suministro, transporte e instalación de redes | G34: =SUM(G35:G40) -> #REF! | H34: =SUM(H35:H40) -> #REF! | I34: =+ROUND(E34,0) -> 0 | J34: =G34*1.32 -> #REF! | K34: =G34*1.32 -> #REF!
B35: =B34+0.01 -> 5.01 | C35: Suministro, transporte de tuberia PF+UAD de 15 mm para acometidas de acueducto | D35: ml | E35: 400 | F35: =+'APU ITEM DE PAGO'!#REF!+'APU ITEM DE PAGO'!#REF! -> #REF! | H35: =ROUND(F35*E35,2) -> #REF! | I35: =+ROUND(E35,0) -> 400 | J35: 0
B36: =B35+0.01 -> 5.02 | C36: instalación de tuberia PF+UAD de 15 mm PVC-P para acometidas de acueducto | D36: =+D35 -> ml | E36: =+E35 -> 400 | F36: =+'APU ITEM DE PAGO'!#REF!+'APU ITEM DE PAGO'!#REF! -> #REF! | G36: =ROUND(F36*E36,2) -> #REF! | I36: =+ROUND(E36,0) -> 400 | K36: 1.19
B37: =B36+0.01 -> 5.03 | C37: Suministro, transporte tuberia PVC 4" RDE 21 | D37: ml | E37: 2007 | F37: =+'APU ITEM DE PAGO'!#REF!+'APU ITEM DE PAGO'!#REF! -> #REF! | H37: =ROUND(F37*E37,2) -> #REF! | I37: =+ROUND(E37,0) -> 2007
B38: =B37+0.01 -> 5.04 | C38: instalación de redes de tuberia PVC 4" RDE 21 | D38: =+D37 -> ml | E38: 2007 | F38: =+'APU ITEM DE PAGO'!#REF!+'APU ITEM DE PAGO'!#REF! -> #REF! | G38: =ROUND(F38*E38,2) -> #REF! | I38: =+ROUND(E38,0) -> 2007
B39: =B38+0.01 -> 5.05 | C39: ST collares de derivacion | D39: un | E39: 400 | F39: =+'APU ITEM DE PAGO'!#REF!+'APU ITEM DE PAGO'!#REF! -> #REF! | G39: =ROUND(F39*E39,2) -> #REF! | I39: =+ROUND(E39,0) -> 400
B40: =B39+0.01 -> 5.06 | C40: Instalacion collares de derivacion | D40: un | E40: =+E39 -> 400 | F40: =+'APU ITEM DE PAGO'!#REF!+'APU ITEM DE PAGO'!#REF! -> #REF! | G40: =ROUND(F40*E40,2) -> #REF! | I40: =+ROUND(E40,0) -> 400
...

Sheet PPTO RES
B2: MUNICIPIO DE TÁMESIS - ANTIOQUIA
B3: SECRETARÍA DE PLANEACIÓN - DEPENDENCIA DE INFRAESTRUCTURA Y OBRAS PÚBLICAS
B4: =+RESUMEN!B4 -> OPTIMIZACIÓN REDES DE ACUEDUCTO Y ALCANTARILLADO RESIDUAL Y PLUVIAL DEL MUNICIPIO DE TÁMESIS - ANTIOQUIA
D5: Distancia botadero | F5: 10 | G5: Distancia Fuente materiales | H5: =+#REF! -> #REF!
B6: ITEM | C6: DESCRIPCIÓN | D6: UNIDAD | E6: CANTIDAD TOTAL | F6: VALOR UNITARIO | G6: VALOR OBRA CIVIL | H6: VALOR SUMUNISTRO | K6: IVA
B7: 1 | C7: PRELIMINARES | G7: =ROUND(SUM(G8:G12),2) -> #REF! | H7: =ROUND(SUM(H8:H12),2) -> 0 | I7: =G7*1.32 -> #REF! | J7: AIU | K7: =#REF!/5 -> #REF!
B8: 1.01 | C8: =+'APU ITEM DE PAGO'!C4 -> 0 | D8: =+'APU ITEM DE PAGO'!H4 -> 0 | E8: 14639 | F8: =+'APU ITEM DE PAGO'!$H$31 -> 0 | G8: =ROUND(F8*E8,2) -> 0
B9: =+B8+0.01 -> 1.02 | C9: nichos de investigación y trabajos no asociados directamente a la instalacion de las tuberias | D9: m³ | E9: 10 | F9: =+'APU ITEM DE PAGO'!#REF! -> #REF! | G9: =ROUND(F9*E9,2) -> #REF!
B10: =+B9+0.01 -> 1.03 | C10: =+'PPTO ALC'!C10 -> CORTE Y ROTURA DE PAVIMENTO RÍGIDO PARA ZANJAS Incluye cargue, transporte y botada de escombros hasta 10km hasta el sitio que lo indique la interventoría. | D10: =+'APU ITEM DE PAGO'!#REF! -> #REF! | E10: 3727 | F10: =+'APU ITEM DE PAGO'!#REF! -> #REF! | G10: =ROUND(F10*E10,2) -> #REF!
B11: =+B10+0.01 -> 1.04 | C11: =+'PPTO ALC'!C11 -> CORTE Y ROTURA DE PAVIMENTO ARTICULADO PARA ZANJAS | D11: =+'APU ITEM DE PAGO'!#REF! -> #REF! | E11: 10190 | F11: =+'APU ITEM DE PAGO'!#REF! -> #REF! | G11: =ROUND(F11*E11,2) -> #REF!
B12: =+B11+0.01 -> 1.05 | C12: Rotura y demolicion de andenes incluye, cargue, transporte y botada de escombro. Incluye retiro de cordones, enchape (baldosa, baldosín forros en arenón, madera, vinilo, granito esmerilado, concreto, pisos en gres, entre otros), Incluye cargue, transporte y botada de escombros hasta 10km hasta el sitio que lo indique la interventoría. | D12: m² | E12: 1392 | F12: =+'APU ITEM DE PAGO'!#REF! -> #REF! | G12: =ROUND(F12*E12,2) -> #REF!
B13: =+B7+1 -> 2 | C13: EXCAVACIONES , RELLENOS Y TERRAPLEN | G13: =ROUND(SUM(G14:G26),2) -> #REF! | H13: =ROUND(SUM(H14:H26),2) -> 0 | I13: =G13*1.32 -> #REF!
B14: 2.01 | C14: =+'PPTO ALC'!C14 -> Excavación mecánica en material heterogéneo húmedo <2 m, no incluye entibado. | D14: =+'PPTO ALC'!D14 -> m³ | E14: 2974 | F14: =+'APU ITEM DE PAGO'!#REF! -> #REF! | G14: =ROUND(F14*E14,2) -> #REF! | M14: =+E14/$N$15 -> 0.13738624
B15: =+B14+0.01 -> 2.02 | C15: =+'PPTO ALC'!C15 -> Excavación manual en material heterogéneo húmedo <2 m, no incluye entibado. Incluye cargue, transporte y botada de escombros hasta 10km hasta el sitio que lo indique la interventoría. (Domiciliarias) | D15: =+'PPTO ALC'!D15 -> m³ | E15: 11896 | F15: =+'APU ITEM DE PAGO'!#REF! -> #REF! | G15: =ROUND(F15*E15,2) -> #REF! | M15: =+E15/$N$15 -> 0.54954497 | N15: =+E14+E15+E16+E17+E18+E19 -> 21647 | P15: 21647.325
B16: =+B15+0.01 -> 2.03 | C16: =+'PPTO ALC'!C16 -> Excavación manual en material heterogéneo 2m - 4m, no incluye botada ni entibado. Incluye cargue, transporte y botada de escombros hasta 10km hasta el sitio que lo indique la interventoría. | D16: =+'PPTO ALC'!D16 -> m³ | E16: 1439 | F16: =+'APU ITEM DE PAGO'!#REF! -> #REF! | G16: =ROUND(F16*E16,2) -> #REF! | M16: =+E16/$N$15 -> 0.066475724 | N16: =+E22 -> 14576
B17: =+B16+0.01 -> 2.04 | C17: =+'PPTO ALC'!C17 -> Excavación mecanica en material heterogéneo 2m - 4m, no incluye botada ni entibado. Incluye cargue, transporte y botada de escombros hasta 10km hasta el sitio que lo indique la interventoría. | D17: =+'PPTO ALC'!D17 -> m³ | E17: 360 | F17: =+'APU ITEM DE PAGO'!#REF! -> #REF! | G17: =ROUND(F17*E17,2) -> #REF! | M17: =+E17/$N$15 -> 0.01663048 | N17: =+N15-N16 -> 7071
B18: =+B17+0.01 -> 2.05 | C18: Excavación en Roca a cualquier profundidad y bajo cualquier condición de humedad por métodos no explosivos, Incluye cargue, transporte y botada de escombros hasta 10km hasta el sitio que lo indique la interventoría. | D18: m³ | E18: 996 | F18: =+'APU ITEM DE PAGO'!#REF! -> #REF! | G18: =ROUND(F18*E18,2) -> #REF! | M18: =+E18/$N$15 -> 0.046010995
B19: =+B18+0.01 -> 2.06 | C19: Excavación en Roca con Compresor | D19: m³ | E19: 3982 | F19: 125000 | G19: =ROUND(F19*E19,2) -> 497750000 | M19: =+E19/$N$15 -> 0.18395159
B20: =+B19+0.01 -> 2.07 | C20: Entibado Continuo temporal de zanja EN MADERA (Hasta 4 Reusos) | D20: m² | E20: 40951 | F20: =+'APU ITEM DE PAGO'!#REF! -> #REF! | G20: =ROUND(F20*E20,2) -> #REF!
B21: =+B20+0.01 -> 2.08 | C21: Lleno con material granular, triturado de 3/4" para apoyo de tubería | D21: m³ | E21: 1840 | F21: =+'APU ITEM DE PAGO'!#REF! -> #REF! | G21: =ROUND(F21*E21,2) -> #REF!
B22: =+B21+0.01 -> 2.09 | C22: Lleno y apisonado de zanjas con material seleccionado de la excavación, densidad de compactación >90% PM | D22: m³ | E22: 14576 | F22: =+'APU ITEM DE PAGO'!#REF! -> #REF! | G22: =ROUND(F22*E22,2) -> #REF!
B23: =+B22+0.01 -> 2.1 | C23: Lleno compactado mecanicamente con material de préstamo densidad de compactación >90% PM | D23: m³ | E23: 3644 | F23: =+'APU ITEM DE PAGO'!#REF! -> #REF! | G23: =ROUND(F23*E23,2) -> #REF!
B24: =+B23+0.01 -> 2.11 | C24: Demolición de cámaras de inspección MH | D24: m³ | E24: 150 | F24: =+'APU ITEM DE PAGO'!#REF! -> #REF! | G24: =ROUND(F24*E24,2) -> #REF!
B25: =+#REF!+0.01 -> #REF! | C25: Manejo de aguas residuales | D25: ml | E25: 1751 | F25: =+'APU ITEM DE PAGO'!#REF! -> #REF! | G25: =ROUND(F25*E25,2) -> #REF!
B26: =+B25+0.01 -> #REF! | C26: Retiro y botada de materiales resultantes de la excavacion y demoliciones a cualquier distancia incluye cargue | D26: m³/Km | E26: 70711 | F26: =+'APU ITEM DE PAGO'!#REF! -> #REF! | G26: =ROUND(F26*E26,2) -> #REF!
B27: =+B13+1 -> 3 | C27: ESTRUCTURAS | G27: =SUM(G28:G34) -> #REF! | H27: =SUM(H28:H34) -> 0 | I27: =G27*1.32 -> #REF!
B28: 3.01 | C28: =+'PPTO ALC'!C30 -> Construcción de cilindro para cámara de inspección MH Ø1,2m de concreto de 21 Mpa (3000 PSI). Incluye los pedaños de escalera | D28: ml | E28: 84 | F28: =+'APU ITEM DE PAGO'!#REF! -> #REF! | G28: =ROUND(F28*E28,2) -> #REF!
B29: =+B28+0.01 -> 3.02 | C29: =+'PPTO ALC'!C31 -> Construcción de cono concentrico, cuello, base y cañuela para MH de Ø1,2m. Incluye suministro e nistalación de tapa | D29: Und | E29: 284 | F29: =+'APU ITEM DE PAGO'!#REF! -> #REF! | G29: =ROUND(F29*E29,2) -> #REF!
B30: =+B29+0.01 -> 3.03 | C30: =+'PPTO ALC'!C32 -> Construcción de caja de empalme fundida in situ de (45x45)cm | D30: Und | E30: 2469 | F30: =+'APU ITEM DE PAGO'!#REF! -> #REF! | G30: =ROUND(F30*E30,2) -> #REF!
B31: =+B30+0.01 -> 3.04 | C31: =+'PPTO ALC'!C33 -> Suministro, transporte e instalación de Concreto f'c = 210 kg/cm2 para estructuras especiales, atraques y empotramientos | D31: m³ | E31: 13 | F31: =+'APU ITEM DE PAGO'!#REF! -> #REF! | G31: =ROUND(F31*E31,2) -> #REF!
B32: 3.07 | C32: suministro transporte e instalacion de concreto de 28 Mpa. Para Cabezote de descarga, | D32: =+D31 -> m³ | E32: 1 | F32: =+'APU ITEM DE PAGO'!#REF! -> #REF! | G32: =ROUND(F32*E32,2) -> #REF!
B33: 3.08 | C33: Construccion cámara de caída de 315 mm en PVC | D33: ML | E33: 3 | F33: =+'APU ITEM DE PAGO'!#REF! -> #REF! | G33: =ROUND(F33*E33,2) -> #REF!
B34: =+'PPTO ALL'!#REF! -> #REF! | C34: Suministro, transporte e instalación de Concreto f'c = 280 kg/cm2 para estructuras de protección de tuberías con profundidad clave menor a 1 m en vías. Incluye acero de refuerzo | D34: m³ | E34: 76 | F34: =+'APU ITEM DE PAGO'!#REF! -> #REF! | G34: =+F34*E34 -> #REF!
B35: =+B27+1 -> 4 | C35: ALCANTARILLADO Y AGUAS RESIDUALES | G35: =SUM(G36:G61) -> #REF! | H35: =SUM(H36:H61) -> #REF! | I35: =G35*1.32 -> #REF! | J35: =I35+I36 -> #REF!
B36: 4.01 | C36: Suministro de tubería de 6" de Pared Estructural para Alcantarillado, según Norma NTC 3722-1 (Novafort o Similar) para conexiones domiciliarias | D36: ml | E36: 7266 | F36: =+'APU ITEM DE PAGO'!#REF!+'APU ITEM DE PAGO'!#REF! -> #REF! | H36: =ROUND(E36*F36,2) -> #REF!
B37: =+B36+0.01 -> 4.02 | C37: instalación de tubería de 6" de Pared Estructural para Alcantarillado, según Norma NTC 3722-1 (Novafort o Similar) para conexiones domiciliarias | D37: ml | E37: 7266 | F37: =+'APU ITEM DE PAGO'!#REF!+'APU ITEM DE PAGO'!#REF! -> #REF! | G37: =ROUND(F37*E37,2) -> #REF!
B38: =+B37+0.01 -> 4.03 | C38: Suministro de tubería de 8" de Pared Estructural para Alcantarillado, según Norma NTC 3722-1 (Novafort o Similar) para conexiones domiciliarias | D38: ml | E38: 5980 | F38: =+'APU ITEM DE PAGO'!#REF!+'APU ITEM DE PAGO'!#REF! -> #REF! | H38: =ROUND(E38*F38,2) -> #REF!
B39: =+B38+0.01 -> 4.04 | C39: instalación de tubería de 8" de Pared Estructural para Alcantarillado, según Norma NTC 3722-1 (Novafort o Similar) para conexiones domiciliarias | D39: ml | E39: 5980 | F39: =+'APU ITEM DE PAGO'!#REF!+'APU ITEM DE PAGO'!#REF! -> #REF! | G39: =ROUND(F39*E39,2) -> #REF!
B40: 4.05 | C40: Suministro de tubería de 10" de Pared Estructural para Alcantarillado, según Norma NTC 3722-1 (Novafort o Similar) para conexiones domiciliarias | D40: ml | E40: 2434 | F40: =+'APU ITEM DE PAGO'!#REF!+'APU ITEM DE PAGO'!#REF! -> #REF! | H40: =ROUND(E40*F40,2) -> #REF!
B41: =+B40+0.01 -> 4.06 | C41: instalación de tubería de 10" de Pared Estructural para Alcantarillado, según Norma NTC 3722-1 (Novafort o Similar) para conexiones domiciliarias | D41: ml | E41: 2434 | F41: =+'APU ITEM DE PAGO'!#REF!+'APU ITEM DE PAGO'!#REF! -> #REF! | G41: =ROUND(F41*E41,2) -> #REF!
...

Sheet PPTO ALL
B2: MUNICIPIO DE TÁMESIS - ANTIOQUIA
B3: SECRETARÍA DE PLANEACIÓN - DEPENDENCIA DE INFRAESTRUCTURA Y OBRAS PÚBLICAS
B4: =+RESUMEN!B4 -> OPTIMIZACIÓN REDES DE ACUEDUCTO Y ALCANTARILLADO RESIDUAL Y PLUVIAL DEL MUNICIPIO DE TÁMESIS - ANTIOQUIA
D5: Distancia botadero | F5: =+#REF! -> #REF! | G5: Distancia Fuente materiales | H5: =+#REF! -> #REF!
B6: ITEM | C6: DESCRIPCIÓN | D6: UNIDAD | E6: CANTIDAD TOTAL | F6: VALOR UNITARIO | G6: VALOR OBRA CIVIL | H6: VALOR SUMUNISTRO
B7: 1 | C7: PRELIMINARES | G7: =ROUND(SUM(G8:G11),2) -> #REF! | H7: =ROUND(SUM(H8:H25),2) -> 0
B8: 1.01 | C8: LOCALIZACIÓN TRAZADO Y REPLANTEO | D8: =+'APU ITEM DE PAGO'!H4 -> 0 | E8: 10392 | F8: =+'APU ITEM DE PAGO'!$H$31 -> 0 | G8: =ROUND(F8*E8,0) -> 0
B9: =+B8+0.01 -> 1.02 | C9: Excavación manual en cualquier material y grado de humedad, para nichos de investigación y trabajos no asociados directamente a la instalacion de las tuberias | D9: m³ | E9: 5 | F9: =+'APU ITEM DE PAGO'!#REF! -> #REF! | G9: =ROUND(F9*E9,0) -> #REF!
B10: =+B9+0.01 -> 1.03 | C10: =+#REF! -> #REF! | D10: =+'APU ITEM DE PAGO'!#REF! -> #REF! | E10: 1644 | F10: =+'APU ITEM DE PAGO'!#REF! -> #REF! | G10: =ROUND(F10*E10,0) -> #REF!
B11: =+B10+0.01 -> 1.04 | C11: =+#REF! -> #REF! | D11: =+'APU ITEM DE PAGO'!#REF! -> #REF! | E11: 8276 | F11: =+'APU ITEM DE PAGO'!#REF! -> #REF! | G11: =ROUND(F11*E11,0) -> #REF!
B12: =+B7+1 -> 2 | C12: EXCAVACIONES , RELLENOS Y TERRAPLEN | G12: =ROUND(SUM(G13:G26),2) -> #REF! | H12: =ROUND(SUM(H13:H26),2) -> 0
B13: 2.01 | C13: =#REF! -> #REF! | D13: =#REF! -> #REF! | E13: 2219 | F13: =+'APU ITEM DE PAGO'!#REF! -> #REF! | G13: =ROUND(F13*E13,0) -> #REF!
B14: =+B13+0.01 -> 2.02 | C14: =#REF! -> #REF! | D14: =#REF! -> #REF! | E14: 8878 | F14: =+'APU ITEM DE PAGO'!#REF! -> #REF! | G14: =ROUND(F14*E14,0) -> #REF!
B15: =+B14+0.01 -> 2.03 | C15: =#REF! -> #REF! | D15: =#REF! -> #REF! | E15: 294 | F15: =+'APU ITEM DE PAGO'!#REF! -> #REF! | G15: =ROUND(F15*E15,0) -> #REF!
C16: =#REF! -> #REF! | D16: =#REF! -> #REF! | E16: 74 | F16: =+'APU ITEM DE PAGO'!#REF! -> #REF! | G16: =ROUND(F16*E16,0) -> #REF!
B17: =+B15+0.01 -> 2.04 | C17: Excavación en Roca a cualquier profundidad y bajo cualquier condición de humedad por métodos no explosivos, Incluye cargue, transporte y botada de escombros hasta 10km hasta el sitio que lo indique la interventoría. | D17: m³ | E17: 803 | F17: =+'APU ITEM DE PAGO'!#REF! -> #REF! | G17: =ROUND(F17*E17,0) -> #REF!
C18: Excavación en Roca con Compresor | D18: m3 | E18: 3116 | F18: 125000 | G18: =ROUND(F18*E18,0) -> 389500000
B19: =+B17+0.01 -> 2.05 | C19: Entibado temporal de zanja | D19: m² | E19: 30867 | F19: =+'APU ITEM DE PAGO'!#REF! -> #REF! | G19: =ROUND(F19*E19,0) -> #REF!
B20: =+B19+0.01 -> 2.06 | C20: entibado permanente de zanjas | D20: m² | E20: 3430 | F20: =+'APU ITEM DE PAGO'!#REF! -> #REF! | G20: =ROUND(F20*E20,0) -> #REF!
B21: =+B20+0.01 -> 2.07 | C21: Lleno con material granular, triturado de 3/4" para apoyo de tubería | D21: m³ | E21: 1751 | F21: =+'APU ITEM DE PAGO'!#REF! -> #REF! | G21: =ROUND(F21*E21,0) -> #REF!
B22: =+B21+0.01 -> 2.08 | C22: Lleno y apisonado de zanjas con material seleccionado de la excavación, densidad de compactación >90% PM | D22: m³ | E22: 8891 | F22: =+'APU ITEM DE PAGO'!#REF! -> #REF! | G22: =ROUND(F22*E22,0) -> #REF!
B23: =+B22+0.01 -> 2.09 | C23: Lleno compactado mecanicamente con material de préstamo densidad de compactación >90% PM | D23: m³ | E23: 2647 | F23: =+'APU ITEM DE PAGO'!#REF! -> #REF! | G23: =ROUND(F23*E23,0) -> #REF!
B24: =+B23+0.01 -> 2.1 | C24: Demolición de cámaras de inspección MH | D24: m³ | E24: 99 | F24: =+'APU ITEM DE PAGO'!#REF! -> #REF! | G24: =ROUND(F24*E24,0) -> #REF!
B25: =+#REF!+0.01 -> #REF! | C25: Demolición y extracción de tubería existente | D25: ml | E25: 359 | F25: =+'APU ITEM DE PAGO'!#REF! -> #REF! | G25: =ROUND(F25*E25,0) -> #REF!
B26: =+B25+0.01 -> #REF! | C26: Retiro y botada de materiales resultantes de la excavacion y demoliciones a cualquier distancia incluye cargue | D26: m³/Km | E26: 81571 | F26: =+'APU ITEM DE PAGO'!#REF! -> #REF! | G26: =ROUND(F26*E26,0) -> #REF!
B27: =+B12+1 -> 3 | C27: ESTRUCTURAS | G27: =SUM(G28:G34) -> #REF! | H27: =SUM(H28:H31) -> 0
B28: 3.01 | C28: =#REF! -> #REF! | D28: =#REF! -> #REF! | E28: 229 | F28: =+'APU ITEM DE PAGO'!#REF! -> #REF! | G28: =ROUND(F28*E28,0) -> #REF!
B29: 3.01 | C29: =#REF! -> #REF! | D29: =#REF! -> #REF! | E29: 268 | F29: =+'APU ITEM DE PAGO'!#REF! -> #REF! | G29: =ROUND(F29*E29,0) -> #REF!
B30: 3.01 | C30: =#REF! -> #REF! | D30: =#REF! -> #REF! | E30: 82 | F30: =+'APU ITEM DE PAGO'!#REF! -> #REF! | G30: =ROUND(F30*E30,0) -> #REF!
B31: 3.01 | C31: suministro transporte e instalacion de concreto de 28 Mpa. Para Cabezote de descarga, | D31: =+D30 -> #REF! | E31: 30 | F31: =+'APU ITEM DE PAGO'!#REF! -> #REF! | G31: =ROUND(F31*E31,0) -> #REF!
B32: 3.01 | C32: Concreto de 28 Mpa para canales escalonados o estructuras de discipación de energia en las descargas de aguas lluvias a las fuentes, con dimensiones de 0.3 de huellla y 0.25 de contrahuella, espesor de muros de 0.15, ancho del canal de 0.6 y altura de muros de 0.6, incluye una llave de anclaje. No incluye acero de refuerzo | D32: ml | E32: 39 | F32: =+'APU ITEM DE PAGO'!#REF! -> #REF! | G32: =ROUND(F32*E32,0) -> #REF!
C33: Suministro, transporte e instalación de Concreto f'c = 280 kg/cm2 para estructuras de protección de tuberías con profundidad clave menor a 1 m en vías. Incluye acero de refuerzo | D33: m3 | E33: 52 | F33: =+'APU ITEM DE PAGO'!#REF! -> #REF! | G33: =ROUND(F33*E33,0) -> #REF!
C34: Construcción de tapa losa para cámara de inspección de Ø=1,2 m, (profundidad menor a 1 m) de concreto f'c=4000 PSI. | D34: un | E34: 6 | F34: =+'APU ITEM DE PAGO'!#REF! -> #REF! | G34: =ROUND(F34*E34,0) -> #REF!
B35: =+B27+1 -> 4 | C35: ALCANTARILLADO Y AGUAS RESIDUALES | G35: =SUM(G36:G43) -> #REF! | H35: =SUM(H36:H43) -> #REF!
B36: =+#REF!+0.01 -> #REF! | C36: =#REF! -> #REF! | D36: =#REF! -> #REF! | E36: 7786 | F36: =+'APU ITEM DE PAGO'!#REF!+'APU ITEM DE PAGO'!#REF! -> #REF! | H36: =ROUND(E36*F36,0) -> #REF!
B37: =+B36+0.01 -> #REF! | C37: =#REF! -> #REF! | D37: =#REF! -> #REF! | E37: 7786 | F37: =+'APU ITEM DE PAGO'!#REF!+'APU ITEM DE PAGO'!#REF! -> #REF! | G37: =ROUND(F37*E37,0) -> #REF!
B38: =+B37+0.01 -> #REF! | C38: =#REF! -> #REF! | D38: =#REF! -> #REF! | E38: 1042 | F38: =+'APU ITEM DE PAGO'!#REF!+'APU ITEM DE PAGO'!#REF! -> #REF! | H38: =ROUND(E38*F38,0) -> #REF!
B39: =+B38+0.01 -> #REF! | C39: =#REF! -> #REF! | D39: =#REF! -> #REF! | E39: 1042 | F39: =+'APU ITEM DE PAGO'!#REF!+'APU ITEM DE PAGO'!#REF! -> #REF! | G39: =ROUND(F39*E39,0) -> #REF!
B40: =+B39+0.01 -> #REF! | C40: =#REF! -> #REF! | D40: =#REF! -> #REF! | E40: 881 | F40: =+'APU ITEM DE PAGO'!#REF!+'APU ITEM DE PAGO'!#REF! -> #REF! | H40: =ROUND(E40*F40,0) -> #REF!
B41: =+B40+0.01 -> #REF! | C41: =#REF! -> #REF! | D41: =#REF! -> #REF! | E41: 881 | F41: =+'APU ITEM DE PAGO'!#REF!+'APU ITEM DE PAGO'!#REF! -> #REF! | G41: =ROUND(F41*E41,0) -> #REF!
...

Sheet PPTO ALC
B2: MUNICIPIO DE TÁMESIS - ANTIOQUIA
B3: SECRETARÍA DE PLANEACIÓN - DEPENDENCIA DE INFRAESTRUCTURA Y OBRAS PÚBLICAS
B4: CONSTRUCCIÓN DE PLAN MAESTRO DE ACUEDUCTO Y ALCANTARILLADO EN EL MUNICIPIO DE TÁMESIS - ANTIOQUIA
D5: Distancia botadero | F5: 10 | G5: Distancia Fuente materiales | H5: =+[147]RESUMEN!H5 -> 32
B6: ITEM | C6: DESCRIPCIÓN | D6: UNIDAD | E6: CANTIDAD TOTAL | F6: VALOR UNITARIO | G6: VALOR OBRA CIVIL | H6: VALOR SUMUNISTRO
B7: 1 | C7: PRELIMINARES | G7: =ROUND(SUM(G8:G12),2) -> 3.9854329e+08 | H7: =ROUND(SUM(H8:H27),2) -> 0 | J7: =G7*1.32 -> 5.2607715e+08
B8: 1.01 | C8: LOCALIZACIÓN TRAZADO Y REPLANTEO | D8: =+[147]APU!I4 -> ml | E8: 15325.08 | F8: =+[147]APU!I31 -> 1984 | G8: =ROUND(F8*E8,2) -> 30404959
B9: =+B8+0.01 -> 1.02 | C9: nichos de investigación y trabajos no asociados directamente a la instalacion de las tuberias | D9: m³ | E9: 5 | F9: =+[147]APU!I61 -> 70267 | G9: =ROUND(F9*E9,2) -> 351335
B10: =+B9+0.01 -> 1.03 | C10: CORTE Y ROTURA DE PAVIMENTO RÍGIDO PARA ZANJAS Incluye cargue, transporte y botada de escombros hasta 10km hasta el sitio que lo indique la interventoría. | D10: =+[147]APU!I64 -> m² | E10: =(1673.2184195*0.38/0.2)+(E35*0.6*0.38) -> 4909.3139 | F10: =+[147]APU!I90 -> 24481 | G10: =ROUND(F10*E10,2) -> 1.2018491e+08
B11: =+B10+0.01 -> 1.04 | C11: CORTE Y ROTURA DE PAVIMENTO ARTICULADO PARA ZANJAS | D11: =+[147]APU!I93 -> m² | E11: =(1673.2184195*0.65*1.5/0.2)+E35*1.5*0.6*0.65 -> 12596.266 | F11: =+[147]APU!I119 -> 18650 | G11: =ROUND(F11*E11,2) -> 2.3492036e+08
B12: =+B11+0.01 -> 1.05 | C12: Rotura y demolicion de andenes incluye, cargue, transporte y botada de escombro. Incluye retiro de cordones, enchape (baldosa, baldosín forros en arenón, madera, vinilo, granito esmerilado, concreto, pisos en gres, entre otros), Incluye cargue, transporte y botada de escombros hasta 10km hasta el sitio que lo indique la interventoría. | D12: m² | E12: 590.672 | F12: =+[147]APU!I148 -> 21470 | G12: =ROUND(F12*E12,2) -> 12681728
B13: =+B7+1 -> 2 | C13: EXCAVACIONES , RELLENOS Y TERRAPLEN | G13: =ROUND(SUM(G14:G28),2) -> 3.3787345e+09 | H13: =ROUND(SUM(H14:H28),2) -> 0 | J13: =G13*1.32 -> 4.4599295e+09
B14: 2.01 | C14: Excavación mecánica en material heterogéneo húmedo <2 m, no incluye entibado. | D14: m³ | E14: =+((E35*0.6*1.2)+8010.92)*0.8 -> 10779.765 | F14: =+[147]APU!I177 -> 10710 | G14: =ROUND(F14*E14,2) -> 1.1545128e+08 | O14: QUITAR TRANSPORTE EN NOMBRE
B15: =+B14+0.01 -> 2.02 | C15: Excavación manual en material heterogéneo húmedo <2 m, no incluye entibado. Incluye cargue, transporte y botada de escombros hasta 10km hasta el sitio que lo indique la interventoría. (Domiciliarias) | D15: m³ | E15: =+((E35*0.6*1.2)+8010.92)*0.2 -> 2694.9412 | F15: =+[147]APU!I204 -> 25086 | G15: =ROUND(F15*E15,2) -> 67605295
B16: =+B15+0.01 -> 2.03 | C16: Excavación manual en material heterogéneo 2m - 4m, no incluye botada ni entibado. Incluye cargue, transporte y botada de escombros hasta 10km hasta el sitio que lo indique la interventoría. | D16: m³ | E16: =(1524.42+59.91)*0.8 -> 1267.464 | F16: =+[147]APU!I259 -> 32028 | G16: =ROUND(F16*E16,2) -> 40594337
B17: =+B16+0.01 -> 2.04 | C17: Excavación mecanica en material heterogéneo 2m - 4m, no incluye botada ni entibado. Incluye cargue, transporte y botada de escombros hasta 10km hasta el sitio que lo indique la interventoría. | D17: m³ | E17: =(1524.42+59.91)*0.2 -> 316.866 | F17: =+[147]APU!I232 -> 12612 | G17: =ROUND(F17*E17,2) -> 3996314
B18: =+B17+0.01 -> 2.05 | C18: Excavación en Roca a cualquier profundidad y bajo cualquier condición de humedad por métodos no explosivos, Incluye cargue, transporte y botada de escombros hasta 10km hasta el sitio que lo indique la interventoría. | D18: m³ | E18: 4112.25 | F18: =+[147]APU!I287 -> 347498 | G18: =ROUND(F18*E18,2) -> 1.4289987e+09
B19: =+B18+0.01 -> 2.06 | C19: Entibado temporal de zanja | D19: m² | E19: 36907 | F19: =+[147]APU!I316 -> 20628 | G19: =ROUND(F19*E19,2) -> 761317596
B20: =+B19+0.01 -> 2.07 | C20: entibado permanente de zanjas | D20: m² | E20: 7288.8678 | F20: =+[147]APU!I346 -> 38348 | G20: =ROUND(F20*E20,2) -> 2.795135e+08
B21: =+B20+0.01 -> 2.08 | C21: Lleno con material granular, triturado de 3/4" para apoyo de tubería | D21: m³ | E21: 1134.86 | F21: =+[147]APU!I375 -> 109686 | G21: =ROUND(F21*E21,2) -> 1.2447825e+08
B22: =+B21+0.01 -> 2.09 | C22: Lleno y apisonado de zanjas con material seleccionado de la excavación, densidad de compactación >90% PM | D22: m³ | E22: =7018.64+E14*0.4 -> 11330.546 | F22: =+[147]APU!I405 -> 19164 | G22: =ROUND(F22*E22,2) -> 2.1713858e+08
B23: =+B22+0.01 -> 2.1 | C23: Lleno compactado mecanicamente con material de préstamo densidad de compactación >90% PM TIPO BASE | D23: m³ | E23: 1754.66 | F23: =+[147]APU!I435 -> 122244 | G23: =ROUND(F23*E23,2) -> 2.1449666e+08
B24: =+B23+0.01 -> 2.11 | C24: Demolición de cámaras de inspección MH | D24: und | E24: 50 | F24: =+[147]APU!I465 -> 132790 | G24: =ROUND(F24*E24,2) -> 6639500
B25: =+B24+0.01 -> 2.12 | C25: Demolición de estructuras especiales, en puentes, coberturas y empotramientos | D25: =+D23 -> m³ | E25: 5 | F25: =+[147]APU!I496 -> 144745 | G25: =ROUND(F25*E25,2) -> 723725
B26: =+B25+0.01 -> 2.13 | C26: Manejo de aguas residuales | D26: ml | E26: =+(E37+E39+E41+E43+E45)*0.2 -> 1821.262 | F26: =+[147]APU!I527 -> 11696 | G26: =ROUND(F26*E26,2) -> 21301480
B27: =+B26+0.01 -> 2.14 | C27: Demolición y extracción de tubería existente | D27: ml | E27: =+(E37+E39+E41)*0.9 -> 7854.282 | F27: =+[147]APU!I555 -> 9983 | G27: =ROUND(F27*E27,2) -> 78409297
B28: =+B27+0.01 -> 2.15 | C28: Retiro y botada de materiales resultantes de la excavacion y demoliciones a cualquier distancia incluye cargue | D28: m³/Km | E28: 13900 | F28: 1300 | G28: =ROUND(F28*E28,2) -> 18070000
B29: =+B13+1 -> 3 | C29: ESTRUCTURAS | G29: =SUM(G30:G33) -> 9.054933e+08 | H29: =SUM(H30:H33) -> 0 | J29: =G29*1.32 -> 1.1952512e+09
B30: 3.01 | C30: Construcción de cilindro para cámara de inspección MH Ø1,2m de concreto de 21 Mpa (3000 PSI). Incluye los pedaños de escalera | D30: ml | E30: 300.87 | F30: =+[147]APU!I617 -> 760914 | G30: =ROUND(F30*E30,2) -> 2.289362e+08 | J30: =H27*K31 -> 0
B31: =+B30+0.01 -> 3.02 | C31: Construcción de cono concentrico, cuello, base y cañuela para MH de Ø1,2m. Incluye suministro e nistalación de tapa | D31: Und | E31: 233 | F31: =+[147]APU!I648 -> 1219803 | G31: =ROUND(F31*E31,2) -> 284214099
B32: =+B31+0.01 -> 3.03 | C32: Construcción de caja de empalme fundida in situ de (45x45)cm | D32: Und | E32: =+E35/5 -> 1517.7183 | F32: =+[147]APU!I678 -> 242487 | G32: =ROUND(F32*E32,2) -> 3.6802697e+08
B33: =+B32+0.01 -> 3.04 | C33: Suministro, transporte e instalación de Concreto f'c = 210 kg/cm2 para estructuras especiales, atraques y empotramientos | D33: =+D16 -> m³ | E33: 35 | F33: =+[147]APU!I708 -> 694744 | G33: =ROUND(F33*E33,2) -> 24316040
B34: =+B29+1 -> 4 | C34: ALCANTARILLADO Y AGUAS RESIDUALES | G34: =SUM(G35:G60) -> 94372842 | H34: =SUM(H35:H60) -> 1.1003733e+09 | J34: =G34*1.32 -> 1.2457215e+08
B35: 4.01 | C35: Suministro de tubería de 6" de Pared Estructural para Alcantarillado, según Norma NTC 3722-1 (Novafort o Similar) para conexiones domiciliarias | D35: ml | E35: =+(E37+E39+E41+E43+E45)*5/6 -> 7588.5917 | F35: =+[147]APU!I896+[147]APU!I908 -> 34067 | H35: =ROUND(E35*F35,2) -> 2.5852055e+08 | J35: =H34*1.19 -> 1.3094442e+09
B36: =+B35+0.01 -> 4.02 | C36: instalación de tubería de 6" de Pared Estructural para Alcantarillado, según Norma NTC 3722-1 (Novafort o Similar) para conexiones domiciliarias | D36: ml | E36: =+E35 -> 7588.5917 | F36: =+[147]APU!I914+[147]APU!I902 -> 2914 | G36: =ROUND(F36*E36,2) -> 22113156
B37: =+B36+0.01 -> 4.03 | C37: Suministro de tubería de 8" de Pared Estructural para Alcantarillado, según Norma NTC 3722-1 (Novafort o Similar) para conexiones domiciliarias | D37: ml | E37: 4753.97 | F37: =+[147]APU!I925+[147]APU!I937 -> 46281 | H37: =ROUND(E37*F37,2) -> 2.2001849e+08
B38: =+B37+0.01 -> 4.04 | C38: instalación de tubería de 8" de Pared Estructural para Alcantarillado, según Norma NTC 3722-1 (Novafort o Similar) para conexiones domiciliarias | D38: ml | E38: =+E37 -> 4753.97 | F38: =+[147]APU!I931+[147]APU!I943 -> 3085 | G38: =ROUND(F38*E38,2) -> 14665997
B39: =+B38+0.01 -> 4.05 | C39: Suministro de tubería de 10" de Pared Estructural para Alcantarillado, según Norma NTC 3722-1 (Novafort o Similar) para conexiones domiciliarias | D39: ml | E39: 2397.86 | F39: =+[147]APU!I954+[147]APU!I966 -> 67290.93 | H39: =ROUND(E39*F39,2) -> 1.6135423e+08
B40: =+B39+0.01 -> 4.06 | C40: instalación de tubería de 10" de Pared Estructural para Alcantarillado, según Norma NTC 3722-1 (Novafort o Similar) para conexiones domiciliarias | D40: ml | E40: =+E39 -> 2397.86 | F40: =+[147]APU!I960+[147]APU!I972 -> 4284.6 | G40: =ROUND(F40*E40,2) -> 10273871
B41: =+B40+0.01 -> 4.07 | C41: Suministro de tubería de 12" de Pared Estructural para Alcantarillado, según Norma NTC 3722-1 (Novafort o Similar) para conexiones domiciliarias | D41: ml | E41: 1575.15 | F41: =+[147]APU!I983+[147]APU!I995 -> 99174.18 | H41: =ROUND(E41*F41,2) -> 1.5621421e+08
...

Sheet ResumenALL
B1: MUNICIPIO DE TÁMESIS - ANTIOQUIA
B2: SECRETARÍA DE PLANEACIÓN - DEPENDENCIA DE INFRAESTRUCTURA Y OBRAS PÚBLICAS
B3: OPTIMIZACIÓN DE ACUEDUCTO Y ALCANTARILLADO EN EL MUNICIPIO DE TÁMESIS - ANTIOQUIA
B5: Botadero | C5: Costo directo Obra Civil/Mano de Obra | D5: Costo directo Suministro
B6: B647 | C6: =+PPTOALL_B647!G43 -> #REF! | D6: =+PPTOALL_B647!H51 -> #REF!
B7: B671 | C7: =+PPTOALL_B671!G41 -> #REF! | D7: =+PPTOALL_B671!H49 -> #REF!
B8: B534 | C8: =+PPTOALL_B534!G42 -> #REF! | D8: =+PPTOALL_B534!H50 -> #REF!
B9: B672 | C9: =+PPTOALL_B672!G46 -> #REF! | D9: =+PPTOALL_B672!H54 -> #REF!
B10: B1112 | C10: =+PPTOALL_B1112!G45 -> #REF! | D10: =+PPTOALL_B1112!H53 -> #REF!
B11: B1109 | C11: =+PPTOALL_B1109!G51 -> #REF! | D11: =+PPTOALL_B1109!H59 -> #REF!
B12: B538 | C12: =+PPTOALL_B538!G48 -> #REF! | D12: =+PPTOALL_B538!H56 -> #REF!
B13: B439A | C13: =+PPTOALL_B439A!G50 -> #REF! | D13: =+PPTOALL_B439A!H58 -> #REF!
B14: B1114 | C14: =+PPTOALL_B1114!G47 -> #REF! | D14: =+PPTOALL_B1114!H55 -> #REF!
B15: B4 | C15: =+PPTOALL_B4!G47 -> #REF! | D15: =+PPTOALL_B4!H55 -> #REF!
B16: B539A | C16: =+PPTOALL_B539A!G50 -> #REF! | D16: =+PPTOALL_B539A!H58 -> #REF!
B17: B511 | C17: =+PPTOALL_B511!G49 -> #REF! | D17: =+PPTOALL_B511!H57 -> #REF!
B18: B515 | C18: =+PPTOALL_B515!G43 -> #REF! | D18: =+PPTOALL_B515!H51 -> #REF!
B19: B1115 | C19: =+PPTOALL_B1115!G41 -> #REF! | D19: =+PPTOALL_B1115!H49 -> #REF!
B20: B1077 | C20: =+PPTOALL_B1077!G41 -> #REF! | D20: =+PPTOALL_B1077!H49 -> #REF!
B21: B184P | C21: =+PPTOALL_B184P!G48 -> #REF! | D21: =+PPTOALL_B184P!H56 -> #REF!
B22: B6 | C22: =+PPTOALL_B6!G49 -> #REF! | D22: =+PPTOALL_B6!H57 -> #REF!
B23: D1 | C23: =+PPTOALL_D1!G45 -> #REF! | D23: =+PPTOALL_D1!H53 -> #REF!
B24: B70 | C24: =+PPTOALL_B70!G49 -> #REF! | D24: =+PPTOALL_B70!H57 -> #REF!
B25: D2 | C25: =+PPTOALL_D2!G42 -> #REF! | D25: =+PPTOALL_D2!H50 -> #REF!
B26: B526 | C26: =+PPTOALL_B526!G49 -> #REF! | D26: =+PPTOALL_B526!H57 -> #REF!
B27: B5 | C27: =+PPTOALL_B5!G44 -> #REF! | D27: =+PPTOALL_B5!H52 -> #REF!
B28: B539 | C28: =+PPTOALL_B539!G48 -> #REF! | D28: =+PPTOALL_B539!H56 -> #REF!
B29: B520 | C29: =+PPTOALL_B520!G50 -> #REF! | D29: =+PPTOALL_B520!H58 -> #REF!
B30: B2 | C30: =+PPTOALL_B2!G46 -> #REF! | D30: =+PPTOALL_B2!H54 -> #REF!
B31: B1 | C31: =+PPTOALL_B1!G42 -> #REF! | D31: =+PPTOALL_B1!H50 -> #REF!
B32: B3 | C32: =+PPTOALL_B3!G45 -> #REF! | D32: =+PPTOALL_B3!H53 -> #REF!
B33: B542 | C33: =+PPTOALL_B542!G47 -> #REF! | D33: =+PPTOALL_B542!H55 -> #REF!
B34: B96 | C34: =+PPTOALL_B96!G49 -> #REF! | D34: =+PPTOALL_B96!H57 -> #REF!
B35: Total | C35: =+SUM(C6:C34) -> #REF! | D35: =+SUM(D6:D34) -> #REF!
B38: TOTAL COSTOS DE OBRA | D38: =+C35 -> #REF!
B39: =+RESUMEN!E12 -> #REF!
B40: =+RESUMEN!#REF! -> #REF!
B41: =+RESUMEN!E13 -> 0.05
B42: =+RESUMEN!#REF! -> #REF!
B43: COSTOS INDIRECTOS (A+I+U)
...

Sheet INTERV
B2: INTERVENTORÍA, TÉCNICA, ADMINISTRATIVA, AMBIENTAL Y FINANCIERA AL CONTRATO DE EJECUCIÓN DE LAS OBRAS PARA LA CONSTRUCCIÓN DE PLAN MAESTRO DE ACUEDUCTO Y ALCANTARILLADO EN EL MUNICIPIO DE TÁMESIS - ANTIOQUIA
B4: PERSONAL
B5: CONCEPTO | E5: A | F5: B | G5: E | I5: C | J5: D | K5: F
B6: Personal | D6: Cantidad | E6: Sueldo Mes Básico | F6: % Dedicación | G6: No. Meses | H6: Valor parcial | I6: F.M. | J6: Valor Mes (AxBxC) | K6: Total Parcial (DxE)
B7: Director de Interventoría | D7: 1 | E7: 6000000 | F7: 1 | G7: 15 | H7: =+D7*E7*F7*G7 -> 90000000 | I7: =+FM!F36 -> 1.91 | J7: =+D7*I7*F7*E7 -> 11460000 | K7: =+J7*G7 -> 171900000
B8: Residente de Interventoría | D8: 2 | E8: 4800000 | F8: 1 | G8: =+G7 -> 15 | H8: =+D8*E8*F8*G8 -> 144000000 | I8: =+FM!F36 -> 1.91 | J8: =+D8*I8*F8*E8 -> 18336000 | K8: =+J8*G8 -> 275040000
B9: Tecnólogo residente de interventoría | D9: 2 | E9: 2800000 | F9: 1 | G9: =+G8 -> 15 | H9: =+D9*E9*F9*G9 -> 84000000 | I9: =+FM!F36 -> 1.91 | J9: =+D9*I9*F9*E9 -> 10696000 | K9: =+J9*G9 -> 160440000
B10: Profesional ambiental | D10: 1 | E10: 4000000 | F10: 0.7 | G10: =+G9 -> 15 | H10: =+D10*E10*F10*G10 -> 42000000 | I10: =+FM!F36 -> 1.91 | J10: =+D10*I10*F10*E10 -> 5348000 | K10: =+J10*G10 -> 80220000
B11: Profesional social | D11: 1 | E11: 4000000 | F11: 0.7 | G11: =+G10 -> 15 | H11: =+D11*E11*F11*G11 -> 42000000 | I11: =+FM!F36 -> 1.91 | J11: =+D11*I11*F11*E11 -> 5348000 | K11: =+J11*G11 -> 80220000
B12: Profesional en salud ocupacional | D12: 1 | E12: 4000000 | F12: 1 | G12: =+G11 -> 15 | H12: =+D12*E12*F12*G12 -> 60000000 | I12: =+FM!F36 -> 1.91 | J12: =+D12*I12*F12*E12 -> 7640000 | K12: =+J12*G12 -> 114600000
B13: Secretaria | D13: 1 | E13: 2210000 | F13: 1 | G13: =+G12 -> 15 | H13: =+D13*E13*F13*G13 -> 33150000 | I13: =+FM!F36 -> 1.91 | J13: =+D13*I13*F13*E13 -> 4221100 | K13: =+J13*G13 -> 63316500
B14: Provisión horas extras para tecnólogos (Corresponde a la mitad del 0,2% del valor parcial de los tecnólogos sin FM). Este ítem se pagará con autorización previa del supervisor del contrato. | D14: Estimado | E14: =0.002*H9*0.5 -> 84000 | H14: =+E14*G14 -> 0 | I14: =+FM!F36 -> 1.91 | J14: =+H14*I14 -> 0 | K14: =+J14*G14 -> 0
B15: SUBTOTAL COSTO PERSONAL SIN FM | H15: =SUM(H7:H14) -> 495150000
B16: SUBTOTAL COSTO PERSONAL CON FM | K16: =SUM(K7:K14) -> 945736500
B18: OTROS COSTOS DIRECTOS
B19: Otros Costos Directos | H19: Cantidad | I19: No meses | J19: Valor Unitario | K19: Total
B20: COMISIÓN TOPOGRAFICA INCLUYE: Personal: Topografo Certificado, Dos Cadeneros. Equipos con Certificado de verificacion y vigentes para estacion total, nivel de precision. Radios, GPS y otros medios de comunicación. Procesamiento de informacion: Planos en medio fisico y magnetico e informe impreso. Elementos de apoyo, estacas, pintura. (Resolucion 0056 de 2018) | I20: 13 | J20: 6500000 | K20: =+I20*J20 -> 84500000
B21: Arriendo Oficina local, incluye personal oficios varios | H21: 1 | I21: 15 | J21: 2000000 | K21: =+H21*I21*J21 -> 30000000
B22: Servicios públicos oficina local (Agua, energía, teléfono e internet) | H22: =+H21 -> 1 | I22: 15 | J22: 800000 | K22: =+H22*I22*J22 -> 12000000
