Workbook

Sheet ACTA DE OBRA No1
E2: ACTA DE OBRA N° 1 | L2: Código:
L3: Versión:
L4: Pagìna:
E5: “OBRAS DE CONSTRUCCIÓN DE ANDENES, COMUNA 1 LIBORIO MEJIA DEL MUNICIPIO DE RIONEGRO”
B10: INTERVENTORÍA | D10: CONSORCIO M&G | F10: CONTRATO N° | H10: ODC No 22 DE 2026 | I10: PERIODO DEL ACTA | L10: 11 DE MAYO DE 2026 AL 25 DE JULIO DE 2026
B11: CONTRATISTA | D11: CONSULTORES Y CONSTRUCTORES ASOCIADOS S.A.S. | F11: CONTRATO N° | H11: IP 006-2026 | I11: FECHA DE INICIO DEL CONTRATO | L11: 11 DE MAYO DE 2026
B12: CONTRATANTE | D12: EMPRESA DE DESARROLLO SOSTENIBLE - EDESO | F12: VALOR TOTAL DEL CONTRATO | H12: ($3.547.603.146) INCLUYE AIU | I12: FECHA DE TERMINACIÓN DEL CONTRATO | L12: 11 DE AGOSTO DE 2026
B13: ITEM | C13: DESCRIPCIÓN | E13: CANTIDADES ORIGINALES | I13: PRESENTE ACTA | K13: VALOR ACUMULADO ACTA ANTERIOR | M13: VALOR ACUMULADO ACTA PRESENTE | O13: PORCENTAJE DE OBRA EJECUTADA
E14: UNIDAD | F14: CANTIDAD | G14: VALOR UNITARIO | H14: VALOR TOTAL | I14: CANTIDAD | J14: VALOR TOTAL | K14: CANTIDAD | L14: VALOR TOTAL | M14: CANTIDAD | N14: VALOR TOTAL
B15: 1 | C15: LOCALIZACIÓN Y REPLANTEO | H15: =SUM(H16:H16) -> 8316552 | J15: =SUM(J16:J16) -> 0 | L15: =SUM(L16:L16) -> 0 | N15: =+J15+L15 -> 0 | O15: =N15/$H$44 -> 0
B16: 1.01 | C16: LOCALIZACIÓN, TRAZADO Y REPLANTEO (incluye equipo de precisión debidamente calibrado, estacas, libretas, planos, memorias, edición y dibujo). Se incluye la localización y replanteo de ambas márgenes con todos los elementos necesarios para el proyecto, y de acuerdo con las indicaciones de la Interventoría. | E16: dia | F16: 12 | G16: 693046 | H16: =ROUND(G16*F16,0) -> 8316552 | J16: =ROUND(I16*$G16,0) -> 0 | M16: =I16+K16 -> 0 | N16: =+J16+L16 -> 0 | O16: =N16/$H$44 -> 0
B17: 2 | C17: DEMOLICIÓN, EXCAVACIÓN Y LLENOS | H17: =SUM(H18:H23) -> 495503357 | J17: =SUM(J18:J23) -> 88053821 | L17: =SUM(L18:L23) -> 0 | N17: =+J17+L17 -> 88053821 | O17: =N17/$H$44 -> 0.024820651
B18: 2.01 | C18: DEMOLICIÓN ESTRUCTURAS DE CONCRETO. Incluye cargue, transporte y botada de escombros, manual o mecánicamente, de cualquier resistencia, reforzado o ciclópeo, y en cualquier clase de estructura, retiro de refuerzo y cualquier tipo de acabado (revoques y enchapes) o piso (en losas) e instalaciones embebidas, compresor neumático con martillo, además recuperación de los materiales aprovechables o su transporte hasta el sitio que lo indique la interventoría, distancia máxima de 15 km. | E18: m3 | F18: 533.33333 | G18: 238570 | H18: =ROUND(G18*F18,0) -> 127237333 | I18: =+'2,01 DC'!AQ41 -> 119.1 | J18: =ROUND(I18*G18,0) -> 28413687 | M18: =I18+K18 -> 119.1 | N18: =+J18+L18 -> 28413687 | O18: =N18/$H$44 -> 0.0080092631
B19: 2.02 | C19: DEMOLICIÓN PAVIMENTO ASFÁLTICO, de cualquier espesor. Incluye corte con cortadora según trazado, cargue, además recuperación de los materiales aprovechables o su transporte hasta el sitio que lo indique la interventoría. | E19: m3 | F19: 166.66667 | G19: 163597 | H19: =ROUND(G19*F19,0) -> 27266167 | I19: =+'2,02 DA'!AQ36 -> 87.6 | J19: =ROUND(I19*G19,0) -> 14331097 | M19: =I19+K19 -> 87.6 | N19: =+J19+L19 -> 14331097 | O19: =N19/$H$44 -> 0.0040396562
B20: 2.03 | C20: EXCAVACIÓN MANUAL de material heterogéneo DE 0-2 m., bajo cualquier grado de humedad. Incluye: roca descompuesta, bolas de roca de volumen inferior a 0.35 m³., el cargue, transporte interno y externo, botada de material proveniente de las excavaciones en los sitios donde lo indique la interventoría y su medida será en el sitio. No incluye entibado. | E20: m3 | F20: 3000 | G20: 70711 | H20: =ROUND(G20*F20,0) -> 212133000 | I20: =+'2,03 EX'!AQ58 -> 257.9 | J20: =ROUND(I20*G20,0) -> 18236367 | M20: =I20+K20 -> 257.9 | N20: =+J20+L20 -> 18236367 | O20: =N20/$H$44 -> 0.0051404755
B21: 2.04 | C21: DESMONTE Y RETIRO DE CORDONES en concreto. MANUAL O MECÁNICO. Incluye: compresor neumático con martillo, cargue, transporte y botada de escombros, retiro de refuerzo e instalaciones embebidas. Además recuperación de los materiales aprovechables o su transporte hasta el sitio que lo indique la interventoría. | E21: m | F21: 2000 | G21: 24480 | H21: =ROUND(G21*F21,0) -> 48960000 | I21: =+'2,04 DRC'!AQ42 -> 1002.7 | J21: =ROUND(I21*G21,0) -> 24546096 | M21: =I21+K21 -> 1002.7 | N21: =+J21+L21 -> 24546096 | O21: =N21/$H$44 -> 0.0069190648
B22: 2.05 | C22: RETIRO DE SEÑALES VIALES. Incluye cargue, transporte y recuperación de los materiales aprovechables y su transporte hasta el sitio que lo indique la interventoría, cargue, transporte y botada de escombros y materiales sobrantes en botaderos oficiales o donde lo indique la interventoría. | E22: un | F22: 15 | G22: 42786 | H22: =ROUND(G22*F22,0) -> 641790 | J22: =ROUND(I22*G22,0) -> 0 | M22: =I22+K22 -> 0 | N22: =+J22+L22 -> 0 | O22: =N22/$H$44 -> 0
B23: 2.06 | C23: LLENOS COMPACTADOS CON MATERIAL DE PRÉSTAMO (limo de la zona de acuerdo con las especificaciones para construcción de terraplenes del INVÍAS). Debe alcanzar el 95% del valor seco máximo del ensayo proctor modificado; y realizar el control de densidades y materiales, de acuerdo con la normatividad INVÍAS y las indicaciones de la Interventoría. Incluye 15 km de transporte externo que debe ser validado por la Interventoría. | E23: m3 | F23: 1066.6667 | G23: 74311 | H23: =ROUND(G23*F23,0) -> 79265067 | I23: =+'2,06 LLE'!AQ39 -> 34 | J23: =ROUND(I23*G23,0) -> 2526574 | M23: =I23+K23 -> 34 | N23: =+J23+L23 -> 2526574 | O23: =N23/$H$44 -> 0.00071219184
B24: 3 | C24: ANDENES | H24: =SUM(H25:H28) -> 2086736100 | J24: =SUM(J25:J28) -> 268921665 | L24: =SUM(L25:L28) -> 0 | N24: =SUM(N25:N28) -> 268921665 | O24: =N24/$H$44 -> 0.075803762
B25: 3.01 | C25: Suministro e instalación de loseta táctil guía o alerta de 20x20x6 en concreto, con mortero de nivelación y fijación, incluyendo materiales, y todo lo necesario para su correcta instalación. | E25: m | F25: 5000 | G25: 35626 | H25: =ROUND(G25*F25,0) -> 178130000 | I25: =+'3,01 LOS'!AQ36 -> 826 | J25: =ROUND(I25*G25,0) -> 29427076 | M25: =I25+K25 -> 826 | N25: =+J25+L25 -> 29427076 | O25: =N25/$H$44 -> 0.0082949177
B26: 3.02 | C26: Suministro, transporte y colocación de BASE GRANULAR tipo INVIAS, reacomodado con medios MANUALES y compactado al 98% mínimo del ensayo del Proctor modificado, según normas para la construcción de pavimentos del INVIAS, y todo lo necesario para su correcta construcción y funcionamiento. Su medida será tomada en sitio ya compactado, previa autorización de la interventoría , para parcheos de máximo 25 m2 de área superficial. | E26: m3 | F26: 1575 | G26: 284588 | H26: =ROUND(G26*F26,0) -> 448226100 | I26: =+'3,02 BG'!AQ43 -> 204.6 | J26: =ROUND(I26*G26,0) -> 58226705 | M26: =I26+K26 -> 204.6 | N26: =+J26+L26 -> 58226705 | O26: =N26/$H$44 -> 0.01641297
B27: 3.03 | C27: Suministro, transporte y colocación de Bordillo prefabricado de concreto de 21 Mpa, juntas ranuradas, referencia Bordillo Barrera Recto (BOBAR) 15x45x80 (según M.E.P). Incluye ajustes de concreto o pavimento donde sea necesario, mortero 1:4 de asiento y pega en las longitudes más adecuadas para el desarrollo de la obra, y todo lo necesario para su correcta construcción y funcionamiento. Según diseño. | E27: m | F27: 5000 | G27: 104213 | H27: =ROUND(G27*F27,0) -> 521065000 | I27: =+'3,03 BOR'!AQ37 -> 947.9 | J27: =ROUND(I27*G27,0) -> 98783503 | M27: =I27+K27 -> 947.9 | N27: =+J27+L27 -> 98783503 | O27: =N27/$H$44 -> 0.027845139
B28: 3.04 | C28: Construcción de ANDÉN en concreto de 21 Mpa, espesor de 0.10m. Incluye suministro y transporte de los materiales, Malla electrosoldada D-84; juntas para andenes de 5X5 mm con cortadora de disco, soporte fondo de junta, sellante de juntas elastomérico de poliuretano, acabado escobillado y llaneado 0.10m en los bordes, y todos los demás elementos necesarios para su correcta construcción. Se ejecutarán los rebajes que sean necesarios para garantizar el acceso de los discapacitados y hasta una huellas y una contrahuella necesarias en los lugares que indique la interventoría. Las excavaciones o descapotes se pagarán en su ítem respectivo. | E28: m2 | F28: 7500 | G28: 125242 | H28: =ROUND(G28*F28,0) -> 939315000 | I28: =+'3,04 AN10'!AQ39 -> 658.6 | J28: =ROUND(I28*G28,0) -> 82484381 | M28: =I28+K28 -> 658.6 | N28: =+J28+L28 -> 82484381 | O28: =N28/$H$44 -> 0.023250735
B29: 6 | C29: OBRAS COMPLEMENTARIAS | H29: =SUM(H30:H32) -> 135448853 | J29: =SUM(J30:J32) -> 409657 | L29: =SUM(L30:L32) -> 0 | N29: =+J29+L29 -> 409657 | O29: =N29/$H$44 -> 0.0001154743
B30: 6.36 | C30: Realce de MH hasta 15 cm. Incluye tapa y cuello nuevos en concreto, demolición de pavimento, suministro, transporte e instalación, excavación, descargue y transportes internos hasta sitio de acopio y de este al sitio de instalación y todo lo necesario para su correcta instalación y funcionamiento. No incluye transporte y botada de escombros. | E30: un | F30: 30 | G30: 1157432 | H30: =ROUND(G30*F30,0) -> 34722960 | J30: =ROUND(I30*G30,0) -> 0 | M30: =I30+K30 -> 0 | N30: =+J30+L30 -> 0 | O30: =N30/$H$44 -> 0
B31: 6.37 | C31: Suministro e instalación de tapa para caja de contador de agua, fabricada en madera plástica de alta resistencia, con dimensiones adecuadas para la caja existente. La tapa deberá contar con bisagra y sistema de cierre seguro para facilitar el acceso al medidor. Incluye todos los elementos necesarios para su correcta instalación y funcionamiento. | E31: un | F31: 120 | G31: 384208 | H31: =ROUND(G31*F31,0) -> 46104960 | J31: =ROUND(I31*G31,0) -> 0 | M31: =I31+K31 -> 0 | N31: =+J31+L31 -> 0 | O31: =N31/$H$44 -> 0
B32: 6.38 | C32: Demolición de la tapa de concreto existente, incluye herraje metálico y construcción de una nueva tapa de concreto reforzado con una resistencia de 21 MPa, garantizando su adecuado ajuste y funcionalidad. Se incluyen actividades de preparación de superficie, limpieza y tratamiento del herraje, vaciado del concreto, curado y acabado final. | E32: m2 | F32: 133.33333 | G32: 409657 | H32: =ROUND(G32*F32,0) -> 54620933 | I32: =+'6,38 DTC'!AQ18 -> 1 | J32: =ROUND(I32*G32,0) -> 409657 | M32: =I32+K32 -> 1 | N32: =+J32+L32 -> 409657 | O32: =N32/$H$44 -> 0.0001154743
B33: OE | C33: OBRAS EXTRAS | J33: =SUM(J34:J38) -> 52666545 | N33: =SUM(N34:N38) -> 52666545
B34: OE-1 | C34: Corte con pulidora en la articulación entre un andén de concreto y fachadas existentes para creación de junta de aislamiento, que absorba los movimientos estructurales diferenciales evitando que vibraciones por posterior demolición de los andenes fracturen los acabados de la fachada. Espesor hasta 4" | E34: m | G34: 27500 | I34: =+'OE-1 CP'!AQ21 -> 18 | J34: =ROUND(I34*G34,0) -> 495000 | M34: =I34+K34 -> 18 | N34: =+J34+L34 -> 495000 | O34: =N34/$H$44 -> 0.00013953083
B35: OE-2 | C35: Construcción de la losa vehicular concreto de 21 Mpa, espesor de 0.15 m para rampa de acceso ubicada en la franja de andén peatonal acceso a garajes o predios o en aquellos puntos que por su uso requieran un reforzamiento adicional. El ítem incluye el acero de refuerzo en parilla con varilla de 1/2” cada 0.20 m en las dos direcciones, Malla electrosoldada D-84, acabado escobillado y llaneado 0.10m en los bordes, y todos los demás elementos necesarios para su correcta construcción | E35: m2 | G35: 285357 | I35: =+'OE-2 AN15'!AQ23 -> 76.1 | J35: =ROUND(I35*G35,0) -> 21715668 | M35: =I35+K35 -> 76.1 | N35: =+J35+L35 -> 21715668 | O35: =N35/$H$44 -> 0.0061212224
B36: OE-3 | C36: Reparación y/o reubicación de la acometida domiciliar de servicios públicos cuya ejecución se hace necesaria debido a que la posición, profundidad o estado real de la red difiere sustancialmente de la información técnica entregada al inicio del proyecto, incluye todo lo necesario para su correcta instalación | E36: und | G36: 144634 | I36: =+'OE-3 RA'!AQ23 -> 7 | J36: =ROUND(I36*G36,0) -> 1012438 | M36: =I36+K36 -> 7 | N36: =+J36+L36 -> 1012438 | O36: =N36/$H$44 -> 0.00028538649
B37: OE-4 | C37: Fabricación, instalación y posterior retiro de estructuras provisionales tipo pasarela o rampa de madera destinadas a garantizar el acceso peatonal a las viviendas afectadas por las excavaciones y/o demoliciones. El ítem incluye el recubrimiento superior con tapete antideslizante, fijaciones seguras para evitar tropiezos, pasamanos de protección si se requieren por altura y el mantenimiento continuo durante el tiempo que dure la interferencia de la obra frente al predio y todo lo necesario para su correcto funcionamiento. | E37: und | G37: 100000 | J37: =ROUND(I37*G37,0) -> 0 | M37: =I37+K37 -> 0 | N37: =+J37+L37 -> 0 | O37: =N37/$H$44 -> 0
B38: OE-5 | C38: Suministro e instalación de adoquín demarcador de 10x20x6 en concreto, con mortero de nivelación y fijación, incluyendo materiales, y todo lo necesario para su correcta instalación | E38: m | G38: 34956 | I38: =+'OE-5 ADO'!AQ37 -> 842.3 | J38: =ROUND(I38*G38,0) -> 29443439 | M38: =I38+K38 -> 842.3 | N38: =+J38+L38 -> 29443439 | O38: =N38/$H$44 -> 0.0082995301
B39: SUBTOTAL OBRAS | H39: =+H15+H17+H24+H29 -> 2726004862 | J39: =+J15+J17+J24+J29+J33 -> 410051688 | L39: =+L15+L17+L24+L29 -> 0 | N39: =+J39+L39 -> 410051688 | O39: =N39/$H$44 -> 0.11558556
B40: ADMINISTRACION | G40: 0.25139282 | H40: =+ROUND(H39*$G$40,0) -> 685298041 | J40: =+ROUND(J39*$G$40,0) -> 103084049 | N40: =+J40+L40 -> 103084049 | O40: =+N40/H44 -> 0.029057379
B41: IMPREVISTOS | G41: 0 | H41: =+ROUND(H39*$G$41,0) -> 0 | J41: =+ROUND(J39*$G$41,0) -> 0 | N41: =+J41+L41 -> 0
B42: UTILIDAD | G42: 0.05 | H42: =+ROUND(H39*$G$42,0) -> 136300243 | J42: =+ROUND(J39*$G$42,0) -> 20502584 | N42: =+J42+L42 -> 20502584 | O42: =+N42/H44 -> 0.0057792778
B43: SUBTOTAL COSTOS INDIRECTOS | H43: =+H40+H41+H42 -> 821598284 | J43: =+J40+J41+J42 -> 123586633 | N43: =+J43+L43 -> 123586633 | O43: =+N43/H44 -> 0.034836657
B44: VALOR TOTAL: (COSTOS DIRECTOS + COSTOS INDIRECTOS | H44: =+H43+H39 -> 3547603146 | J44: =+J43+J39 -> 533638321 | N44: =+J44+L44 -> 533638321 | O44: =+N44/H44 -> 0.15042221
C46: V/R INICIAL CONTRATO: | E46: =+H44 -> 3547603146 | I46: V/R ANTICIPO: | J46: =+H44*0.1 -> 3.5476031e+08
...

Sheet 2,01 DC
B2: MEMORIAS DE CÁLCULO
B5: OBJETO DEL CONTRATO | J5: OBRAS DE CONSTRUCCIÓN DE ANDENES, COMUNA 1 LIBORIO MEJIA DEL MUNICIPIO DE RIONEGRO
B6: INTERVENTORÍA | J6: CONSORCIO M&G | AF6: NIT | AJ6: 902059165 - 3 | AK6: CONTRATO DE OBRA N° | AO6: IP 006-2026
B7: CONTRATISTA | J7: CONSULTORES Y CONSTRUCTORES ASOCIADOS S.A.S. | AF7: NIT | AJ7: 900339866 - 2 | AK7: PLAZO INICIAL | AO7: 3 (Tres) Meses
B9: FECHA | G9: DD | I9: 25 | K9: MM | M9: 7 | O9: AA | Q9: 2026 | AH9: ELABORÓ | AK9: Ing. OLMAN SNEYDER RINCON GAVIRIA
AH10: APROBÓ | AK10: Ing. SERGIO AMAURY DURANGO ZORA
B12: DESCRIPCIÓN | I12: =+'ACTA DE OBRA No1'!C18 -> DEMOLICIÓN ESTRUCTURAS DE CONCRETO. Incluye cargue, transporte y botada de escombros, manual o mecánicamente, de cualquier resistencia, reforzado o ciclópeo, y en cualquier clase de estructura, retiro de refuerzo y cualquier tipo de acabado (revoques y enchapes) o piso (en losas) e instalaciones embebidas, compresor neumático con martillo, además recuperación de los materiales aprovechables o su transporte hasta el sitio que lo indique la interventoría, distancia máxima de 15 km.
B13: CAPÍTULO | I13: 2. DEMOLICIÓN, EXCAVACIÓN Y LLENOS | V13: SUB CAPÍTULO | AK13: ITEM | AN13: =+'ACTA DE OBRA No1'!B18 -> 2.01 | AP13: UNID | AQ13: =+'ACTA DE OBRA No1'!E18 -> m3
B14: ESQUEMAS Y/O REGISTRO FOTOGRÁFICO | AJ14: Actividad / Ubicación | AP14: CANTIDAD | AQ14: Medida Parcial
AK15: Carril | AL15: Distancia | AM15: Ancho | AN15: Altura | AO15: Área total
AJ16: Calle 51 - Losa anden existente | AK16: Izquierdo | AL16: 36.2 | AM16: 0.95 | AN16: 0.2 | AO16: =AM16*AN16 -> 0.19 | AP16: 1 | AQ16: =ROUND(AO16*AL16*AP16,1) -> 6.9
AJ18: Carrera 59A - Losa anden existente | AK18: Izquierdo | AL18: 190.05 | AM18: 0.95 | AN18: 0.2 | AO18: =AM18*AN18 -> 0.19 | AP18: 1 | AQ18: =ROUND(AO18*AL18*AP18,1) -> 36.1
AJ19: Carrera 59A - Losa anden existente | AK19: Derecho | AL19: 56.06 | AM19: 0.95 | AN19: 0.25 | AO19: =AM19*AN19 -> 0.2375 | AP19: 1 | AQ19: =ROUND(AO19*AL19*AP19,1) -> 13.3
AJ20: Carrera 59A - Demolición cuneta existente | AK20: Derecho | AL20: 107.4 | AM20: 0.86 | AN20: 0.17 | AO20: =AM20*AN20 -> 0.1462 | AP20: 1 | AQ20: =ROUND(AO20*AL20*AP20,1) -> 15.7
AJ22: Calle 51D entre 51C y 52 - Losa anden existente | AK22: Izquierdo | AL22: 39.1 | AM22: 0.95 | AN22: 0.2 | AO22: =AM22*AN22 -> 0.19 | AP22: 1 | AQ22: =ROUND(AO22*AL22*AP22,1) -> 7.4
AJ23: Calle 51D entre 51C y 52 - Losa anden existente | AK23: Derecho | AL23: 44.5 | AM23: 0.95 | AN23: 0.2 | AO23: =AM23*AN23 -> 0.19 | AP23: 1 | AQ23: =ROUND(AO23*AL23*AP23,1) -> 8.5
AJ25: Calle 51C - Losa anden existente | AK25: Derecho | AL25: 21.35 | AM25: 0.8 | AN25: 0.2 | AO25: =AM25*AN25 -> 0.16 | AP25: 1 | AQ25: =ROUND(AO25*AL25*AP25,1) -> 3.4
AJ26: Calle 51C - Losa anden existente | AK26: Derecho | AL26: 6.05 | AM26: 0.85 | AN26: 0.2 | AO26: =AM26*AN26 -> 0.17 | AP26: 1 | AQ26: =ROUND(AO26*AL26*AP26,1) -> 1
AJ27: Calle 51C - Recta | AK27: Izquierdo | AL27: 6.1 | AM27: 1.05 | AN27: 0.25 | AO27: =AM27*AN27 -> 0.2625 | AP27: 1 | AQ27: =ROUND(AO27*AL27*AP27,1) -> 1.6
AJ28: Calle 51C - Anden Variable | AK28: Izquierdo | AL28: 13 | AM28: 1.81 | AN28: 0.25 | AO28: =AM28*AN28 -> 0.4525 | AP28: 1 | AQ28: =ROUND(AO28*AL28*AP28,1) -> 5.9
AJ29: Calle 51C - Recta | AK29: Izquierdo | AL29: 2.1 | AM29: 1.1 | AN29: 0.25 | AO29: =AM29*AN29 -> 0.275 | AP29: 1 | AQ29: =ROUND(AO29*AL29*AP29,1) -> 0.6
AJ31: Calle 51D - Rampa acceso moto | AK31: Izquierdo | AL31: 0.6 | AM31: 0.63 | AN31: 0.27 | AO31: =AM31*AN31 -> 0.1701 | AP31: 1 | AQ31: =ROUND(AO31*AL31*AP31,1) -> 0.1
... AJ37: Cra 60A - Anden existente - costado cancha | AK37: Derecho | AL37: 38 | AM37: 0.9 | AN37: 0.2 | AO37: =AM37*AN37 -> 0.18 | AP37: 1 | AQ37: =ROUND(AO37*AL37*AP37,1) -> 6.8
AJ38: CASAS DEL MAR | AP38: TOTAL | AQ38: =SUM(AQ16:AQ37) -> 108.6
AJ39: CALLE 56- Losa anden existente | AK39: Izquierdo | AL39: 52.7 | AM39: 1 | AN39: 0.2 | AO39: =AM39*AN39 -> 0.2 | AP39: 1 | AQ39: =ROUND(AO39*AL39*AP39,1) -> 10.5
AJ40: LAURELES | AP40: TOTAL | AQ40: =SUM(AQ39) -> 10.5
B41: OBSERVACIONES: | AJ41: Subtotal | AQ41: =+AQ38+AQ40 -> 119.1
AJ42: Cantidad Acumulada Anterior | AQ42: 0
AJ43: TOTAL ACUMULADA | AQ43: =ABS(AQ41+AQ42) -> 119.1
B44: Residente de obra: Ing. OLMAN SNEYDER RINCON GAVIRIA | AJ44: Residente Interventoria: Ing. RODRIGO BETANCUR CORREA
B46: M.P. 68202 - 268154 STD | AJ46: M.P. 011037 - 0507481 ANT

Sheet 2,02 DA
B2: MEMORIAS DE CÁLCULO
B5: OBJETO DEL CONTRATO | J5: OBRAS DE CONSTRUCCIÓN DE ANDENES, COMUNA 1 LIBORIO MEJIA DEL MUNICIPIO DE RIONEGRO
B6: INTERVENTORÍA | J6: CONSORCIO M&G | AF6: NIT | AJ6: 902059165 - 3 | AK6: CONTRATO DE OBRA N° | AO6: IP 006-2026
B7: CONTRATISTA | J7: CONSULTORES Y CONSTRUCTORES ASOCIADOS S.A.S. | AF7: NIT | AJ7: 900339866 - 2 | AK7: PLAZO INICIAL | AO7: 3 (Tres) Meses
B9: FECHA | G9: DD | I9: 25 | K9: MM | M9: 7 | O9: AA | Q9: 2026 | AH9: ELABORÓ | AK9: Ing. OLMAN SNEYDER RINCON GAVIRIA
AH10: APROBÓ | AK10: Ing. SERGIO AMAURY DURANGO ZORA
B12: DESCRIPCIÓN | I12: =+'ACTA DE OBRA No1'!C19 -> DEMOLICIÓN PAVIMENTO ASFÁLTICO, de cualquier espesor. Incluye corte con cortadora según trazado, cargue, además recuperación de los materiales aprovechables o su transporte hasta el sitio que lo indique la interventoría.
B13: CAPÍTULO | I13: 2. DEMOLICIÓN, EXCAVACIÓN Y LLENOS | V13: SUB CAPÍTULO | AK13: ITEM | AN13: =+'ACTA DE OBRA No1'!B19 -> 2.02 | AP13: UNID | AQ13: =+'ACTA DE OBRA No1'!E19 -> m3
B14: ESQUEMAS Y/O REGISTRO FOTOGRÁFICO | AJ14: Actividad / Ubicación | AP14: CANTIDAD | AQ14: Medida Parcial
AK15: Carril | AL15: Distancia | AM15: Ancho | AN15: Altura | AO15: Área total
AJ16: Calle 51 | AK16: Izquierdo | AL16: 36.2 | AM16: 0.1 | AN16: 0.1 | AO16: =AM16*AN16 -> 0.01 | AP16: 1 | AQ16: =ROUND(AO16*AL16*AP16,1) -> 0.4
AJ18: Carrera 59A | AK18: Izquierdo | AL18: 190.05 | AM18: 0.22 | AN18: 0.17 | AO18: =AM18*AN18 -> 0.0374 | AP18: 1 | AQ18: =ROUND(AO18*AL18*AP18,1) -> 7.1
AJ19: Carrera 59A - Demolición anden existente | AK19: Derecho | AL19: 56.06 | AM19: 0.55 | AN19: 0.17 | AO19: =AM19*AN19 -> 0.0935 | AP19: 1 | AQ19: =ROUND(AO19*AL19*AP19,1) -> 5.2
AJ20: Carrera 59A - Junto a cuneta existente | AK20: Derecho | AL20: 107.4 | AM20: 0.67 | AN20: 0.17 | AO20: =AM20*AN20 -> 0.1139 | AP20: 1 | AQ20: =ROUND(AO20*AL20*AP20,1) -> 12.2
AJ21: Carrera 59A - Despues de cuneta existente | AK21: Derecho | AL21: 27.5 | AM21: 1.4 | AN21: 0.17 | AO21: =AM21*AN21 -> 0.238 | AP21: 1 | AQ21: =ROUND(AO21*AL21*AP21,1) -> 6.5
AJ23: Calle 51 D entre 51C y 52 | AK23: Izquierdo | AL23: 45.6 | AM23: 0.2 | AN23: 0.1 | AO23: =AM23*AN23 -> 0.02 | AP23: 1 | AQ23: =ROUND(AO23*AL23*AP23,1) -> 0.9
AJ24: Calle 51 D entre 51C y 52 | AK24: Derecho | AL24: 44.5 | AM24: 0.2 | AN24: 0.1 | AO24: =AM24*AN24 -> 0.02 | AP24: 1 | AQ24: =ROUND(AO24*AL24*AP24,1) -> 0.9
AJ26: Cra 60A - Anden existente - costado cancha | AK26: Derecho | AL26: 38 | AM26: 0.2 | AN26: 0.15 | AO26: =AM26*AN26 -> 0.03 | AP26: 1 | AQ26: =ROUND(AO26*AL26*AP26,1) -> 1.1
AJ27: CASAS DEL MAR | AP27: TOTAL | AQ27: =SUM(AQ16:AQ26) -> 34.3
AJ28: Calle 52 | AK28: Derecho | AL28: 26.5 | AM28: 1 | AN28: 0.17 | AO28: =AM28*AN28 -> 0.17 | AP28: 1 | AQ28: =ROUND(AO28*AL28*AP28,1) -> 4.5
AJ29: Calle 52 - Llave contra anden existente | AK29: Derecho | AL29: 26.5 | AM29: 0.4 | AN29: 0.25 | AO29: =AM29*AN29 -> 0.1 | AP29: 1 | AQ29: =ROUND(AO29*AL29*AP29,1) -> 2.7
AJ30: Calle 52 | AK30: Derecho | AL30: 147 | AM30: 1.3 | AN30: 0.17 | AO30: =AM30*AN30 -> 0.221 | AP30: 1 | AQ30: =ROUND(AO30*AL30*AP30,1) -> 32.5
AJ31: Calle 52 - Llave contra anden existente | AK31: Derecho | AL31: 147 | AM31: 0.2 | AN31: 0.25 | AO31: =AM31*AN31 -> 0.05 | AP31: 1 | AQ31: =ROUND(AO31*AL31*AP31,1) -> 7.4
AJ32: Calle 52 - Cra 59 y 58a | AK32: Derecho | AL32: 23.1 | AM32: 1.6 | AN32: 0.15 | AO32: =AM32*AN32 -> 0.24 | AP32: 1 | AQ32: =ROUND(AO32*AL32*AP32,1) -> 5.5
AJ33: QUEBRADA ARRIBA | AP33: TOTAL | AQ33: =SUM(AQ28:AQ32) -> 52.6
AJ34: Calle 56 | AK34: Izquierdo | AL34: 40 | AM34: 0.12 | AN34: 0.15 | AO34: =AM34*AN34 -> 0.018 | AP34: 1 | AQ34: =ROUND(AO34*AL34*AP34,1) -> 0.7
AJ35: LAURELES | AP35: TOTAL | AQ35: =SUM(AQ34) -> 0.7
B36: OBSERVACIONES: | AJ36: Subtotal | AQ36: =+AQ27+AQ33+AQ35 -> 87.6
AJ37: Cantidad Acumulada Anterior | AQ37: 0
AJ38: TOTAL ACUMULADA | AQ38: =ABS(AQ36+AQ37) -> 87.6
B39: Residente de obra: Ing. OLMAN SNEYDER RINCON GAVIRIA | AJ39: Residente Interventoria: Ing. RODRIGO BETANCUR CORREA
B41: M.P. 68202 - 268154 STD | AJ41: M.P. 011037 - 0507481 ANT

Sheet 2,03 EX
B2: MEMORIAS DE CÁLCULO
B5: OBJETO DEL CONTRATO | J5: OBRAS DE CONSTRUCCIÓN DE ANDENES, COMUNA 1 LIBORIO MEJIA DEL MUNICIPIO DE RIONEGRO
B6: INTERVENTORÍA | J6: CONSORCIO M&G | AF6: NIT | AJ6: 902059165-3 | AK6: CONTRATO DE OBRA N° | AO6: IP 006-2026
B7: CONTRATISTA | J7: CONSULTORES Y CONSTRUCTORES ASOCIADOS S.A.S. | AF7: NIT | AJ7: 900339866 - 2 | AK7: PLAZO INICIAL | AO7: 3 (Tres) Meses
B9: FECHA | G9: DD | I9: 25 | K9: MM | M9: 7 | O9: AA | Q9: 2026 | AH9: ELABORÓ | AK9: Ing. OLMAN SNEYDER RINCON GAVIRIA
AH10: APROBÓ | AK10: Ing. SERGIO AMAURY DURANGO ZORA
B12: DESCRIPCIÓN | I12: =+'ACTA DE OBRA No1'!C20 -> EXCAVACIÓN MANUAL de material heterogéneo DE 0-2 m., bajo cualquier grado de humedad. Incluye: roca descompuesta, bolas de roca de volumen inferior a 0.35 m³., el cargue, transporte interno y externo, botada de material proveniente de las excavaciones en los sitios donde lo indique la interventoría y su medida será en el sitio. No incluye entibado.
B13: CAPÍTULO | I13: 2. DEMOLICIÓN, EXCAVACIÓN Y LLENOS | V13: SUB CAPÍTULO | AK13: ITEM | AN13: =+'ACTA DE OBRA No1'!B20 -> 2.03 | AP13: UNID | AQ13: =+'ACTA DE OBRA No1'!E20 -> m3
B14: ESQUEMAS Y/O REGISTRO FOTOGRÁFICO | AJ14: Actividad / Ubicación | AP14: CANTIDAD | AQ14: Medida Parcial
AK15: Carril | AL15: Distancia | AM15: Ancho | AN15: Altura | AO15: Área total
AJ16: Calle 51 - Anden | AK16: Izquierdo | AL16: 36.2 | AM16: 1.25 | AN16: 0.15 | AO16: =AM16*AN16 -> 0.1875 | AP16: 1 | AQ16: =ROUND(AO16*AL16*AP16,1) -> 6.8
AJ17: Calle 51 - Bordillo | AK17: Izquierdo | AL17: 36.2 | AM17: 0.3 | AN17: 0.2 | AO17: =AM17*AN17 -> 0.06 | AP17: 1 | AQ17: =ROUND(AO17*AL17*AP17,1) -> 2.2
AJ18: Calle 51 - Doble Bordillo | AK18: Izquierdo | AL18: 33.55 | AM18: 0.3 | AN18: 0.2 | AO18: =AM18*AN18 -> 0.06 | AP18: 1 | AQ18: =ROUND(AO18*AL18*AP18,1) -> 2
AJ20: Carrera 59A - Anden | AK20: Izquierdo | AL20: 190.05 | AM20: =1.25-0.15*2 -> 0.95 | AN20: 0.15 | AO20: =AM20*AN20 -> 0.1425 | AP20: 1 | AQ20: =ROUND(AO20*AL20*AP20,1) -> 27.1
AJ21: Carrera 59A - Bordillo | AK21: Izquierdo | AL21: 190.05 | AM21: 0.3 | AN21: 0.2 | AO21: =AM21*AN21 -> 0.06 | AP21: 1 | AQ21: =ROUND(AO21*AL21*AP21,1) -> 11.4
AJ22: Carrera 59A - Doble Bordillo | AK22: Izquierdo | AL22: 76.55 | AM22: 0.3 | AN22: 0.2 | AO22: =AM22*AN22 -> 0.06 | AP22: 1 | AQ22: =ROUND(AO22*AL22*AP22,1) -> 4.6
AJ23: Carrera 59A - Muro 1 | AK23: Izquierdo | AL23: 48.6 | AM23: 0.4 | AN23: 0.4 | AO23: =AM23*AN23 -> 0.16 | AP23: 1 | AQ23: =ROUND(AO23*AL23*AP23,1) -> 7.8
AJ24: Carrera 59A - Muro 2 | AK24: Izquierdo | AL24: 14.9 | AM24: 0.4 | AN24: 0.4 | AO24: =AM24*AN24 -> 0.16 | AP24: 1 | AQ24: =ROUND(AO24*AL24*AP24,1) -> 2.4
AJ25: Carrera 59A - Anden | AK25: Derecho | AL25: 187.5 | AM25: 1.55 | AN25: 0.15 | AO25: =AM25*AN25 -> 0.2325 | AP25: 1 | AQ25: =ROUND(AO25*AL25*AP25,1) -> 43.6
AJ26: Carrera 59A - Bordillo | AK26: Derecho | AL26: 187.5 | AM26: 0.3 | AN26: 0.2 | AO26: =AM26*AN26 -> 0.06 | AP26: 1 | AQ26: =ROUND(AO26*AL26*AP26,1) -> 11.3
AJ28: Calle 51D entre 51C y 52 - Anden | AK28: Izquierdo | AL28: 45.3 | AM28: =1.25-0.15*2 -> 0.95 | AN28: 0.15 | AO28: =AM28*AN28 -> 0.1425 | AP28: 1 | AQ28: =ROUND(AO28*AL28*AP28,1) -> 6.5
AJ29: Calle 51D entre 51C y 52 - Bordillo | AK29: Izquierdo | AL29: 45.6 | AM29: 0.3 | AN29: 0.2 | AO29: =AM29*AN29 -> 0.06 | AP29: 1 | AQ29: =ROUND(AO29*AL29*AP29,1) -> 2.7
AJ30: Calle 51D entre 51C y 52 - Doble Bordillo | AK30: Izquierdo | AL30: 6.5 | AM30: 0.3 | AN30: 0.45 | AO30: =AM30*AN30 -> 0.135 | AP30: 1 | AQ30: =ROUND(AO30*AL30*AP30,1) -> 0.9
AJ31: Calle 51D entre 51C y 52 - Anden | AK31: Derecho | AL31: 44.5 | AM31: =1.25-0.15*2 -> 0.95 | AN31: 0.15 | AO31: =AM31*AN31 -> 0.1425 | AP31: 1 | AQ31: =ROUND(AO31*AL31*AP31,1) -> 6.3
AJ32: Calle 51D entre 51C y 52 - Bordillo | AK32: Derecho | AL32: 44.5 | AM32: 0.3 | AN32: 0.2 | AO32: =AM32*AN32 -> 0.06 | AP32: 1 | AQ32: =ROUND(AO32*AL32*AP32,1) -> 2.7
AJ34: Calle 51C - Anden | AK34: Derecho | AL34: 6.05 | AM34: 1.05 | AN34: 0.15 | AO34: =AM34*AN34 -> 0.1575 | AP34: 1 | AQ34: =ROUND(AO34*AL34*AP34,1) -> 1
AJ35: Calle 51C - Anden | AK35: Derecho | AL35: 21.35 | AM35: 1.1 | AN35: 0.15 | AO35: =AM35*AN35 -> 0.165 | AP35: 1 | AQ35: =ROUND(AO35*AL35*AP35,1) -> 3.5
AJ36: Calle 51C - Bordillo | AK36: Derecho | AL36: 6.05 | AM36: 0.3 | AN36: 0.2 | AO36: =AM36*AN36 -> 0.06 | AP36: 1 | AQ36: =ROUND(AO36*AL36*AP36,1) -> 0.4
AJ37: Calle 51C - Parte recta | AK37: Izquierdo | AL37: 6.1 | AM37: =1.5+0.05 -> 1.55 | AN37: 0.15 | AO37: =AM37*AN37 -> 0.2325 | AP37: 1 | AQ37: =ROUND(AO37*AL37*AP37,1) -> 1.4
AJ38: Calle 51C - Parte Variable | AK38: Izquierdo | AL38: 13 | AM38: =1.81+0.05 -> 1.86 | AN38: 0.15 | AO38: =AM38*AN38 -> 0.279 | AP38: 1 | AQ38: =ROUND(AO38*AL38*AP38,1) -> 3.6
AJ39: Calle 51C - Recta | AK39: Izquierdo | AL39: 2.1 | AM39: =1.25+0.05 -> 1.3 | AN39: 0.15 | AO39: =AM39*AN39 -> 0.195 | AP39: 1 | AQ39: =ROUND(AO39*AL39*AP39,1) -> 0.4
AJ40: Calle 51C - Bordillo | AK40: Izquierdo | AL40: 21.2 | AM40: 0.3 | AN40: 0.2 | AO40: =AM40*AN40 -> 0.06 | AP40: 1 | AQ40: =ROUND(AO40*AL40*AP40,1) -> 1.3
AJ42: Cra 60A - Anden | AK42: Derecho | AL42: 38 | AM42: =1.36+0.05 -> 1.41 | AN42: 0.15 | AO42: =AM42*AN42 -> 0.2115 | AP42: 1 | AQ42: =ROUND(AO42*AL42*AP42,1) -> 8
AJ43: Cra 60A - Bordillo | AK43: Derecho | AL43: 38 | AM43: 0.3 | AN43: 0.2 | AO43: =AM43*AN43 -> 0.06 | AP43: 1 | AQ43: =ROUND(AO43*AL43*AP43,1) -> 2.3
AJ44: CASAS DEL MAR | AP44: TOTAL | AQ44: =SUM(AQ16:AQ43) -> 160.2
AJ45: Calle 52 - Anden - cancha | AK45: Derecho | AL45: 26.5 | AM45: 1.4 | AN45: 0.15 | AO45: =AM45*AN45 -> 0.21 | AP45: 1 | AQ45: =ROUND(AO45*AL45*AP45,1) -> 5.6
AJ46: Calle 52 - Anden - via | AK46: Derecho | AL46: 99.6 | AM46: 1.55 | AN46: 0.15 | AO46: =AM46*AN46 -> 0.2325 | AP46: 1 | AQ46: =ROUND(AO46*AL46*AP46,1) -> 23.2
AJ47: Calle 52 - Anden - rebaje | AK47: Derecho | AL47: 47.4 | AM47: 1.55 | AN47: 0.32 | AO47: =AM47*AN47 -> 0.496 | AP47: 1 | AQ47: =ROUND(AO47*AL47*AP47,1) -> 23.5
AJ48: Calle 52 - Bordillo | AK48: Derecho | AL48: 173.5 | AM48: 0.3 | AN48: 0.2 | AO48: =AM48*AN48 -> 0.06 | AP48: 1 | AQ48: =ROUND(AO48*AL48*AP48,1) -> 10.4
AJ49: Calle 52 - Tuberia Novafort 8" | AK49: Derecho | AL49: 30 | AM49: 0.3 | AN49: 0.5 | AO49: =AM49*AN49 -> 0.15 | AP49: 1 | AQ49: =ROUND(AO49*AL49*AP49,1) -> 4.5
...

Sheet 2,04 DRC
B2: MEMORIAS DE CÁLCULO
B5: OBJETO DEL CONTRATO | J5: OBRAS DE CONSTRUCCIÓN DE ANDENES, COMUNA 1 LIBORIO MEJIA DEL MUNICIPIO DE RIONEGRO
B6: INTERVENTORÍA | J6: CONSORCIO M&G | AF6: NIT | AJ6: 902059165 - 3 | AK6: CONTRATO DE OBRA N° | AO6: IP 006-2026
B7: CONTRATISTA | J7: CONSULTORES Y CONSTRUCTORES ASOCIADOS S.A.S. | AF7: NIT | AJ7: 900339866 - 2 | AK7: PLAZO INICIAL | AO7: 3 (Tres) Meses
B9: FECHA | G9: DD | I9: 25 | K9: MM | M9: 7 | O9: AA | Q9: 2026 | AH9: ELABORÓ | AK9: Ing. OLMAN SNEYDER RINCON GAVIRIA
AH10: APROBÓ | AK10: Ing. SERGIO AMAURY DURANGO ZORA
B12: DESCRIPCIÓN | I12: =+'ACTA DE OBRA No1'!C21 -> DESMONTE Y RETIRO DE CORDONES en concreto. MANUAL O MECÁNICO. Incluye: compresor neumático con martillo, cargue, transporte y botada de escombros, retiro de refuerzo e instalaciones embebidas. Además recuperación de los materiales aprovechables o su transporte hasta el sitio que lo indique la interventoría.
B13: CAPÍTULO | I13: 2. DEMOLICIÓN, EXCAVACIÓN Y LLENOS | V13: SUB CAPÍTULO | AK13: ITEM | AN13: =+'ACTA DE OBRA No1'!B21 -> 2.04 | AP13: UNID | AQ13: =+'ACTA DE OBRA No1'!E21 -> m
B14: ESQUEMAS Y/O REGISTRO FOTOGRÁFICO | AJ14: Actividad / Ubicación | AP14: CANTIDAD | AQ14: Medida Parcial
AK15: Carril | AL15: Distancia | AM15: Ancho | AN15: Altura | AO15: Área total
AJ16: Calle 51 - Hacia via | AK16: Izquierdo | AL16: 36.2 | AP16: 1 | AQ16: =ROUND(AL16*AP16,2) -> 36.2
AJ17: Calle 51 - Hacia zona verde | AK17: Izquierdo | AL17: 36.2 | AP17: 1 | AQ17: =ROUND(AL17*AP17,2) -> 36.2
AJ19: Carrera 59A - Hacia via | AK19: Izquierdo | AL19: 190.05 | AP19: 1 | AQ19: =ROUND(AL19*AP19,2) -> 190.05
AJ20: Carrera 59A - Hacia zoma verde | AK20: Izquierdo | AL20: 190.05 | AP20: 1 | AQ20: =ROUND(AL20*AP20,2) -> 190.05
AJ21: Carrera 59A - Hacia via | AK21: Derecho | AL21: 56.06 | AP21: 1 | AQ21: =ROUND(AL21*AP21,2) -> 56.06
AJ22: Carrera 59A - Hacia zona verde | AK22: Derecho | AL22: 56.06 | AP22: 1 | AQ22: =ROUND(AL22*AP22,2) -> 56.06
AJ23: Carrera 59A - Hacia zona verde | AK23: Derecho | AL23: 40.7 | AP23: 1 | AQ23: =ROUND(AL23*AP23,2) -> 40.7
AJ25: Calle 51D entre 51C y 52 -Hacia via | AK25: Izquierdo | AL25: 39.1 | AP25: 1 | AQ25: =ROUND(AL25*AP25,2) -> 39.1
AJ26: Calle 51D entre 51C y 52 - Hacia paramento casa | AK26: Izquierdo | AL26: 39.1 | AP26: 1 | AQ26: =ROUND(AL26*AP26,2) -> 39.1
AJ27: Calle 51D entre 51C y 52 - Hacia via | AK27: Derecho | AL27: 44.5 | AP27: 1 | AQ27: =ROUND(AL27*AP27,2) -> 44.5
AJ28: Calle 51D entre 51C y 52 - Hacia parameto casa | AK28: Derecho | AL28: 44.5 | AP28: 1 | AQ28: =ROUND(AL28*AP28,2) -> 44.5
AJ30: Calle 51C - Hacia zona verde | AK30: Derecho | AL30: 21.35 | AP30: 1 | AQ30: =ROUND(AL30*AP30,2) -> 21.35
... AJ35: Cra 60A - Hacia zona verde | AK35: Derecho | AL35: 38 | AP35: 1 | AQ35: =ROUND(AL35*AP35,2) -> 38
AJ36: CASAS DEL MAR | AP36: TOTAL | AQ36: =SUM(AQ16:AQ35) -> 897.27
AJ38: QUEBRADA ARRIBA | AP38: TOTAL
AJ39: Calle 56 - Hacia via | AK39: Izquierdo | AL39: 52.7 | AP39: 1 | AQ39: =ROUND(AL39*AP39,2) -> 52.7
AJ40: Calle 56 - Hacia paramento | AK40: Izquierdo | AL40: 52.7 | AP40: 1 | AQ40: =ROUND(AL40*AP40,2) -> 52.7
AJ41: LAURELES | AP41: TOTAL | AQ41: =SUM(AQ39:AQ40) -> 105.4
B42: OBSERVACIONES: | AJ42: Subtotal | AQ42: =ROUND(AQ36+AQ38+AQ41,1) -> 1002.7
AJ43: Cantidad Acumulada Anterior | AQ43: 0
AJ44: TOTAL ACUMULADA | AQ44: =ABS(AQ42+AQ43) -> 1002.7
B45: Residente de obra: Ing. OLMAN SNEYDER RINCON GAVIRIA | AJ45: Residente Interventoria: Ing. RODRIGO BETANCUR CORREA
B47: M.P. 68202 - 268154 STD | AJ47: M.P. 011037 - 0507481 ANT

Sheet 2,06 LLE
B2: MEMORIAS DE CÁLCULO
B5: OBJETO DEL CONTRATO | J5: OBRAS DE CONSTRUCCIÓN DE ANDENES, COMUNA 1 LIBORIO MEJIA DEL MUNICIPIO DE RIONEGRO
B6: INTERVENTORÍA | J6: CONSORCIO M&G | AF6: NIT | AJ6: 902059165 - 3 | AK6: CONTRATO DE OBRA N° | AO6: IP 006-2026
B7: CONTRATISTA | J7: CONSULTORES Y CONSTRUCTORES ASOCIADOS S.A.S. | AF7: NIT | AJ7: 900339866 - 2 | AK7: PLAZO INICIAL | AO7: 3 (Tres) Meses
B9: FECHA | G9: DD | I9: 25 | K9: MM | M9: 7 | O9: AA | Q9: 2026 | AH9: ELABORÓ | AK9: Ing. OLMAN SNEYDER RINCON GAVIRIA
AH10: APROBÓ | AK10: Ing. SERGIO AMAURY DURANGO ZORA
B12: DESCRIPCIÓN | I12: =+'ACTA DE OBRA No1'!C23 -> LLENOS COMPACTADOS CON MATERIAL DE PRÉSTAMO (limo de la zona de acuerdo con las especificaciones para construcción de terraplenes del INVÍAS). Debe alcanzar el 95% del valor seco máximo del ensayo proctor modificado; y realizar el control de densidades y materiales, de acuerdo con la normatividad INVÍAS y las indicaciones de la Interventoría. Incluye 15 km de transporte externo que debe ser validado por la Interventoría.
B13: CAPÍTULO | I13: 2. DEMOLICIÓN, EXCAVACIÓN Y LLENOS | V13: SUB CAPÍTULO | AK13: ITEM | AN13: =+'ACTA DE OBRA No1'!B23 -> 2.06 | AP13: UNID | AQ13: =+'ACTA DE OBRA No1'!E23 -> m3
B14: ESQUEMAS Y/O REGISTRO FOTOGRÁFICO | AJ14: Actividad / Ubicación | AP14: CANTIDAD | AQ14: Medida Parcial
AK15: Carril | AL15: Distancia | AM15: Ancho | AN15: Altura | AO15: Área total
AJ16: Calle 51 - Lleno Bordillo via | AK16: Izquierdo | AL16: 36.2 | AM16: 0.15 | AN16: 0.15 | AO16: =AM16*AN16 -> 0.0225 | AP16: 1 | AQ16: =ROUND(AO16*AL16*AP16,1) -> 0.8
AJ17: Calle 51 - Lleno Bordillo zona verde | AK17: Izquierdo | AL17: 33.55 | AM17: 0.15 | AN17: 0.15 | AO17: =AM17*AN17 -> 0.0225 | AP17: 1 | AQ17: =ROUND(AO17*AL17*AP17,1) -> 0.8
AJ19: Carrera 59A - Lleno Muro No 1 | AK19: Izquierdo | AL19: 48.6 | AM19: 0.4 | AN19: 0.5 | AO19: =AM19*AN19 -> 0.2 | AP19: 1 | AQ19: =ROUND(AO19*AL19*AP19,1) -> 9.7
AJ20: Carrera 59A - Lleno Muro No 2 | AK20: Izquierdo | AL20: 14.9 | AM20: 0.4 | AN20: 0.5 | AO20: =AM20*AN20 -> 0.2 | AP20: 1 | AQ20: =ROUND(AO20*AL20*AP20,1) -> 3
AJ21: Carrera 59A - Lleno Bordillo via | AK21: Izquierdo | AL21: 190.05 | AM21: 0.15 | AN21: 0.15 | AO21: =AM21*AN21 -> 0.0225 | AP21: 1 | AQ21: =ROUND(AO21*AL21*AP21,1) -> 4.3
AJ22: Carrera 59A - Lleno Bordillo zona verde | AK22: Izquierdo | AL22: 76.55 | AM22: 0.15 | AN22: 0.15 | AO22: =AM22*AN22 -> 0.0225 | AP22: 1 | AQ22: =ROUND(AO22*AL22*AP22,1) -> 1.7
AJ23: Carrera 59A - Lleno Bordillo via | AK23: Derecho | AL23: 187.5 | AM23: 0.15 | AN23: 0.15 | AO23: =AM23*AN23 -> 0.0225 | AP23: 1 | AQ23: =ROUND(AO23*AL23*AP23,1) -> 4.2
AJ25: Calle 51D entre 51C y 52 - Lleno Bordillo via | AK25: Izquierdo | AL25: 51.86 | AM25: 0.15 | AN25: 0.15 | AO25: =AM25*AN25 -> 0.0225 | AP25: 1 | AQ25: =ROUND(AO25*AL25*AP25,1) -> 1.2
AJ26: Calle 51D entre 51C y 52 - Lleno Bordillo zona verde | AK26: Izquierdo | AL26: 6.5 | AM26: 0.15 | AN26: 0.15 | AO26: =AM26*AN26 -> 0.0225 | AP26: 1 | AQ26: =ROUND(AO26*AL26*AP26,1) -> 0.1
AJ27: Calle 51D entre 51C y 52 - Lleno Bordillo via | AK27: Derecho | AL27: 48.1 | AM27: 0.15 | AN27: 0.15 | AO27: =AM27*AN27 -> 0.0225 | AP27: 1 | AQ27: =ROUND(AO27*AL27*AP27,1) -> 1.1
AJ29: Calle 51C - Lleno bordillo | AK29: Izquierdo | AL29: 21.2 | AM29: 0.15 | AN29: 0.15 | AO29: =AM29*AN29 -> 0.0225 | AP29: 1 | AQ29: =ROUND(AO29*AL29*AP29,1) -> 0.5
AJ30: Calle 51C - Lleno bordillo | AK30: Derecho | AL30: 6.05 | AM30: 0.15 | AN30: 0.15 | AO30: =AM30*AN30 -> 0.0225 | AP30: 1 | AQ30: =ROUND(AO30*AL30*AP30,1) -> 0.1
AJ32: Cra 60A - Lleno Bordillo | AK32: Derecho | AL32: 38 | AM32: 0.15 | AN32: 0.15 | AO32: =AM32*AN32 -> 0.0225 | AP32: 1 | AQ32: =ROUND(AO32*AL32*AP32,1) -> 0.9
AJ33: CASAS DEL MAR | AP33: TOTAL | AQ33: =SUM(AQ16:AQ32) -> 28.4
AJ34: Calle 52 - Lleno Bordillo | AK34: Derecho | AL34: 175 | AM34: 0.15 | AN34: 0.15 | AO34: =AM34*AN34 -> 0.0225 | AP34: 1 | AQ34: =ROUND(AO34*AL34*AP34,1) -> 3.9
AJ35: Calle 52 - Cra 59 y 58a - Lleno bordillo | AK35: Derecho | AL35: 23.1 | AM35: 0.15 | AN35: 0.15 | AO35: =AM35*AN35 -> 0.0225 | AP35: 1 | AQ35: =ROUND(AO35*AL35*AP35,1) -> 0.5
AJ36: QUEBRADA ARRIBA | AP36: TOTAL | AQ36: =SUM(AQ34:AQ35) -> 4.4
AJ37: Calle 56 - Lleno Bordillo | AK37: Izquierdo | AL37: 52.7 | AM37: 0.15 | AN37: 0.15 | AO37: =AM37*AN37 -> 0.0225 | AP37: 1 | AQ37: =ROUND(AO37*AL37*AP37,1) -> 1.2
AJ38: LAURELES | AP38: TOTAL | AQ38: =SUM(AQ37) -> 1.2
B39: OBSERVACIONES: | AJ39: Subtotal | AQ39: =+AQ33+AQ36+AQ38 -> 34
AJ40: Cantidad Acumulada Anterior | AQ40: 0
AJ41: TOTAL ACUMULADA | AQ41: =ABS(AQ39+AQ40) -> 34
B42: Residente de obra: Ing. OLMAN SNEYDER RINCON GAVIRIA | AJ42: Residente Interventoria: Ing. RODRIGO BETANCUR CORREA
B44: M.P. 68202 - 268154 STD | AJ44: M.P. 011037 - 0507481 ANT

Sheet 3,01 LOS
B2: MEMORIAS DE CÁLCULO
B5: OBJETO DEL CONTRATO | J5: OBRAS DE CONSTRUCCIÓN DE ANDENES, COMUNA 1 LIBORIO MEJIA DEL MUNICIPIO DE RIONEGRO
B6: INTERVENTORÍA | J6: CONSORCIO M&G | AF6: NIT | AJ6: 902059165 - 3 | AK6: CONTRATO DE OBRA N° | AO6: IP 006-2026
B7: CONTRATISTA | J7: CONSULTORES Y CONSTRUCTORES ASOCIADOS S.A.S. | AF7: NIT | AJ7: 900339866 - 2 | AK7: PLAZO INICIAL | AO7: 3 (Tres) Meses
B9: FECHA | G9: DD | I9: 25 | K9: MM | M9: 7 | O9: AA | Q9: 2026 | AH9: ELABORÓ | AK9: Ing. OLMAN SNEYDER RINCON GAVIRIA
AH10: APROBÓ | AK10: Ing. SERGIO AMAURY DURANGO ZORA
B12: DESCRIPCIÓN | I12: =+'ACTA DE OBRA No1'!C25 -> Suministro e instalación de loseta táctil guía o alerta de 20x20x6 en concreto, con mortero de nivelación y fijación, incluyendo materiales, y todo lo necesario para su correcta instalación.
B13: CAPÍTULO | I13: 3. ANDENES | V13: SUB CAPÍTULO | AK13: ITEM | AN13: =+'ACTA DE OBRA No1'!B25 -> 3.01 | AP13: UNID | AQ13: =+'ACTA DE OBRA No1'!E25 -> m
B14: ESQUEMAS Y/O REGISTRO FOTOGRÁFICO | AJ14: Actividad / Ubicación | AP14: CANTIDAD | AQ14: Medida Parcial
AK15: Carril | AL15: Distancia | AM15: Ancho | AN15: Altura | AO15: Área total
AJ16: Calle 51 | AK16: Izquierdo | AL16: 35 | AP16: 1 | AQ16: =ROUND(AL16*AP16,1) -> 35
AJ18: Carrera 59A | AK18: Izquierdo | AL18: 185.25 | AP18: 1 | AQ18: =ROUND(AL18*AP18,1) -> 185.3
AJ19: Carrera 59A | AK19: Derecho | AL19: 186.3 | AP19: 1 | AQ19: =ROUND(AL19*AP19,1) -> 186.3
AJ21: Calle 51D entre 51C y 52 | AK21: Izquierdo | AL21: 45.6 | AP21: 1 | AQ21: =ROUND(AL21*AP21,1) -> 45.6
AJ22: Calle 51D entre 51C y 52 | AK22: Derecho | AL22: 42.2 | AP22: 1 | AQ22: =ROUND(AL22*AP22,1) -> 42.2
AJ24: Calle 51C - Parte recta | AK24: Izquierdo | AL24: 6.1 | AP24: 1 | AQ24: =ROUND(AL24*AP24,1) -> 6.1
AJ25: Calle 51C - Parte Variable | AK25: Izquierdo | AL25: 13 | AP25: 1 | AQ25: =ROUND(AL25*AP25,1) -> 13
AJ26: Calle 51C - Parte recta | AK26: Izquierdo | AL26: 2.1 | AP26: 1 | AQ26: =ROUND(AL26*AP26,1) -> 2.1
AJ27: Calle 51C - Recta | AK27: Derecho | AL27: 26.8 | AP27: 1 | AQ27: =ROUND(AL27*AP27,1) -> 26.8
AJ29: Cra 60A | AK29: Derecho | AL29: 38 | AP29: 1 | AQ29: =ROUND(AL29*AP29,1) -> 38
AJ30: CASAS DEL MAR | AP30: TOTAL | AQ30: =SUM(AQ16:AQ29) -> 580.4
AJ31: Calle 52 | AK31: Derecho | AL31: 172.3 | AP31: 1 | AQ31: =ROUND(AL31*AP31,1) -> 172.3
AJ32: Calle 52 - Cra 59 y 58a | AK32: Derecho | AL32: 21.8 | AP32: 1 | AQ32: =ROUND(AL32*AP32,1) -> 21.8
AJ33: QUEBRADA ARRIBA | AP33: TOTAL | AQ33: =SUM(AQ31:AQ32) -> 194.1
AJ34: Calle 56 | AK34: Izquierdo | AL34: 51.5 | AP34: 1 | AQ34: =ROUND(AL34*AP34,1) -> 51.5
AJ35: LAURELES | AP35: TOTAL | AQ35: =SUM(AQ34) -> 51.5
B36: OBSERVACIONES: | AJ36: Subtotal | AQ36: =+AQ30+AQ33+AQ35 -> 826
AJ37: Cantidad Acumulada Anterior | AQ37: 0
AJ38: TOTAL ACUMULADA | AQ38: =ABS(AQ36+AQ37) -> 826
B39: Residente de obra: Ing. OLMAN SNEYDER RINCON GAVIRIA | AJ39: Residente Interventoria: Ing. RODRIGO BETANCUR CORREA
B41: M.P. 68202 - 268154 STD | AJ41: M.P. 011037 - 0507481 ANT

Sheet 3,02 BG
B2: MEMORIAS DE CÁLCULO
B5: OBJETO DEL CONTRATO | J5: OBRAS DE CONSTRUCCIÓN DE ANDENES, COMUNA 1 LIBORIO MEJIA DEL MUNICIPIO DE RIONEGRO
B6: INTERVENTORÍA | J6: CONSORCIO M&G | AF6: NIT | AJ6: 902059165 - 3 | AK6: CONTRATO DE OBRA N° | AO6: IP 006-2026
B7: CONTRATISTA | J7: CONSULTORES Y CONSTRUCTORES ASOCIADOS S.A.S. | AF7: NIT | AJ7: 900339866 - 2 | AK7: PLAZO INICIAL | AO7: 3 (Tres) Meses
B9: FECHA | G9: DD | I9: 25 | K9: MM | M9: 7 | O9: AA | Q9: 2026 | AH9: ELABORÓ | AK9: Ing. OLMAN SNEYDER RINCON GAVIRIA
AH10: APROBÓ | AK10: Ing. SERGIO AMAURY DURANGO ZORA
B12: DESCRIPCIÓN | I12: =+'ACTA DE OBRA No1'!C26 -> Suministro, transporte y colocación de BASE GRANULAR tipo INVIAS, reacomodado con medios MANUALES y compactado al 98% mínimo del ensayo del Proctor modificado, según normas para la construcción de pavimentos del INVIAS, y todo lo necesario para su correcta construcción y funcionamiento. Su medida será tomada en sitio ya compactado, previa autorización de la interventoría , para parcheos de máximo 25 m2 de área superficial.
B13: CAPÍTULO | I13: 3. ANDENES | V13: SUB CAPÍTULO | AK13: ITEM | AN13: =+'ACTA DE OBRA No1'!B26 -> 3.02 | AP13: UNID | AQ13: =+'ACTA DE OBRA No1'!E26 -> m3
B14: ESQUEMAS Y/O REGISTRO FOTOGRÁFICO | AJ14: Actividad / Ubicación | AP14: CANTIDAD | AQ14: Medida Parcial
AK15: Carril | AL15: Distancia | AM15: Ancho | AN15: Altura | AO15: Área total
AJ16: Calle 51 | AK16: Izquierdo | AL16: 36.2 | AM16: 1.05 | AN16: 0.2 | AO16: =AM16*AN16 -> 0.21 | AP16: 1 | AQ16: =ROUND(AO16*AL16*AP16,1) -> 7.6
AJ18: Carrera 59A | AK18: Izquierdo | AL18: 190.05 | AM18: 1.05 | AN18: 0.2 | AO18: =AM18*AN18 -> 0.21 | AP18: 1 | AQ18: =ROUND(AO18*AL18*AP18,1) -> 39.9
AJ19: Carrera 59A | AK19: Derecho | AL19: 160 | AM19: 1.35 | AN19: 0.2 | AO19: =AM19*AN19 -> 0.27 | AP19: 1 | AQ19: =ROUND(AO19*AL19*AP19,1) -> 43.2
AJ20: Carrera 59A | AK20: Derecho | AL20: 27.5 | AM20: =1.4-0.15 -> 1.25 | AN20: 0.2 | AO20: =AM20*AN20 -> 0.25 | AP20: 1 | AQ20: =ROUND(AO20*AL20*AP20,1) -> 6.9
AJ22: Calle 51D entre 51C y 52 | AK22: Izquierdo | AL22: 45.6 | AM22: 1.05 | AN22: 0.2 | AO22: =AM22*AN22 -> 0.21 | AP22: 1 | AQ22: =ROUND(AO22*AL22*AP22,1) -> 9.6
AJ23: Calle 51D entre 51C y 52 | AK23: Derecho | AL23: 44.5 | AM23: 1.05 | AN23: 0.2 | AO23: =AM23*AN23 -> 0.21 | AP23: 1 | AQ23: =ROUND(AO23*AL23*AP23,1) -> 9.3
AJ25: Calle 51C - Parte recta | AK25: Izquierdo | AL25: 6.1 | AM25: 1.35 | AN25: 0.2 | AO25: =AM25*AN25 -> 0.27 | AP25: 1 | AQ25: =ROUND(AO25*AL25*AP25,1) -> 1.6
AJ26: Calle 51C - Parte Variable | AK26: Izquierdo | AL26: 13 | AM26: =1.81-0.15 -> 1.66 | AN26: 0.2 | AO26: =AM26*AN26 -> 0.332 | AP26: 1 | AQ26: =ROUND(AO26*AL26*AP26,1) -> 4.3
AJ27: Calle 51C - Parte recta | AK27: Izquierdo | AL27: 2.1 | AM27: =1.25-0.15 -> 1.1 | AN27: 0.2 | AO27: =AM27*AN27 -> 0.22 | AP27: 1 | AQ27: =ROUND(AO27*AL27*AP27,1) -> 0.5
AJ28: Calle 51C - Bahia | AK28: Derecho | AL28: 6.05 | AM28: 1.05 | AN28: 0.2 | AO28: =AM28*AN28 -> 0.21 | AP28: 1 | AQ28: =ROUND(AO28*AL28*AP28,1) -> 1.3
AJ29: Calle 51C - Recta | AK29: Derecho | AL29: 21.35 | AM29: 1.1 | AN29: 0.2 | AO29: =AM29*AN29 -> 0.22 | AP29: 1 | AQ29: =ROUND(AO29*AL29*AP29,1) -> 4.7
AJ31: Cra 60A | AK31: Derecho | AL31: 38 | AM31: =1.36-0.15 -> 1.21 | AN31: 0.2 | AO31: =AM31*AN31 -> 0.242 | AP31: 1 | AQ31: =ROUND(AO31*AL31*AP31,1) -> 9.2
AJ32: CASAS DEL MAR | AP32: TOTAL | AQ32: =SUM(AQ16:AQ31) -> 138.1
AJ33: Calle 52 | AK33: Derecho | AL33: 26.5 | AM33: =1.36-0.15 -> 1.21 | AN33: 0.2 | AO33: =AM33*AN33 -> 0.242 | AP33: 1 | AQ33: =ROUND(AO33*AL33*AP33,1) -> 6.4
AJ34: Calle 52 | AK34: Derecho | AL34: 31.6 | AM34: =1.45-0.15 -> 1.3 | AN34: 0.2 | AO34: =AM34*AN34 -> 0.26 | AP34: 1 | AQ34: =ROUND(AO34*AL34*AP34,1) -> 8.2
AJ35: Calle 52 | AK35: Derecho | AL35: 115.4 | AM35: =1.5-0.15 -> 1.35 | AN35: 0.2 | AO35: =AM35*AN35 -> 0.27 | AP35: 1 | AQ35: =ROUND(AO35*AL35*AP35,1) -> 31.2
AJ36: Calle 52 - Relleno tuberia Novafort 8" | AK36: Derecho | AL36: 30 | AM36: 0.3 | AN36: 0.4 | AO36: =AM36*AN36-PI()*(0.1^2) -> 0.088584073 | AP36: 1 | AQ36: =ROUND(AO36*AL36*AP36,1) -> 2.7
AJ37: Calle 52 - Cra 59 y 58a | AK37: Derecho | AL37: 23.1 | AM37: =1.55-0.15 -> 1.4 | AN37: 0.2 | AO37: =AM37*AN37-PI()*(0.1^2) -> 0.24858407 | AP37: 1 | AQ37: =ROUND(AO37*AL37*AP37,1) -> 5.7
AJ38: QUEBRADA ARRIBA | AP38: TOTAL | AQ38: =SUM(AQ33:AQ37) -> 54.2
AJ39: Calle 56 | AK39: Izquierdo | AL39: 30 | AM39: =1.32-0.15 -> 1.17 | AN39: 0.2 | AO39: =AM39*AN39 -> 0.234 | AP39: 1 | AQ39: =ROUND(AO39*AL39*AP39,1) -> 7
AJ40: Calle 56 | AK40: Izquierdo | AL40: 4.1 | AM40: =1.16-0.15 -> 1.01 | AN40: 0.2 | AO40: =AM40*AN40 -> 0.202 | AP40: 1 | AQ40: =ROUND(AO40*AL40*AP40,1) -> 0.8
AJ41: Calle 56 | AK41: Izquierdo | AL41: 18.6 | AM41: =1.36-0.15 -> 1.21 | AN41: 0.2 | AO41: =AM41*AN41 -> 0.242 | AP41: 1 | AQ41: =ROUND(AO41*AL41*AP41,1) -> 4.5
AJ42: LAURELES | AP42: TOTAL | AQ42: =SUM(AQ39:AQ41) -> 12.3
B43: OBSERVACIONES: | AJ43: Subtotal | AQ43: =+AQ32+AQ38+AQ42 -> 204.6
AJ44: Cantidad Acumulada Anterior | AQ44: 0
AJ45: TOTAL ACUMULADA | AQ45: =ABS(AQ43+AQ44) -> 204.6
B46: Residente de obra: Ing. OLMAN SNEYDER RINCON GAVIRIA | AJ46: Residente Interventoria: Ing. RODRIGO BETANCUR CORREA
B48: M.P. 68202 - 268154 STD | AJ48: M.P. 011037 - 0507481 ANT

Sheet 3,03 BOR
B2: MEMORIAS DE CÁLCULO
B5: OBJETO DEL CONTRATO | J5: OBRAS DE CONSTRUCCIÓN DE ANDENES, COMUNA 1 LIBORIO MEJIA DEL MUNICIPIO DE RIONEGRO
B6: INTERVENTORÍA | J6: CONSORCIO M&G | AF6: NIT | AJ6: 902059165 - 3 | AK6: CONTRATO DE OBRA N° | AO6: IP 006-2026
B7: CONTRATISTA | J7: CONSULTORES Y CONSTRUCTORES ASOCIADOS S.A.S. | AF7: NIT | AJ7: 900339866 - 2 | AK7: PLAZO INICIAL | AO7: 3 (Tres) Meses
B9: FECHA | G9: DD | I9: 25 | K9: MM | M9: 7 | O9: AA | Q9: 2026 | AH9: ELABORÓ | AK9: Ing. OLMAN SNEYDER RINCON GAVIRIA
AH10: APROBÓ | AK10: Ing. SERGIO AMAURY DURANGO ZORA
B12: DESCRIPCIÓN | I12: =+'ACTA DE OBRA No1'!C27 -> Suministro, transporte y colocación de Bordillo prefabricado de concreto de 21 Mpa, juntas ranuradas, referencia Bordillo Barrera Recto (BOBAR) 15x45x80 (según M.E.P). Incluye ajustes de concreto o pavimento donde sea necesario, mortero 1:4 de asiento y pega en las longitudes más adecuadas para el desarrollo de la obra, y todo lo necesario para su correcta construcción y funcionamiento. Según diseño.
B13: CAPÍTULO | I13: 3. ANDENES | V13: SUB CAPÍTULO | AK13: ITEM | AN13: =+'ACTA DE OBRA No1'!B27 -> 3.03 | AP13: UNID | AQ13: =+'ACTA DE OBRA No1'!E27 -> m
B14: ESQUEMAS Y/O REGISTRO FOTOGRÁFICO | AJ14: Actividad / Ubicación | AP14: CANTIDAD | AQ14: Medida Parcial
AK15: Carril | AL15: Distancia | AM15: Ancho | AN15: Altura | AO15: Área total
AJ16: Calle 51 - Bordillo via | AK16: Izquierdo | AL16: 36.2 | AP16: 1 | AQ16: =+ROUND(AL16,1) -> 36.2
AJ17: Calle 51 - Bordillo zona verde | AK17: Izquierdo | AL17: 33.55 | AP17: 1 | AQ17: =+ROUND(AL17,1) -> 33.6
AJ19: Carrera 59A - Bordillo via | AK19: Izquierdo | AL19: 190.05 | AP19: 1 | AQ19: =+ROUND(AL19,1) -> 190.1
AJ20: Carrera 59A - Bordillo zona verde | AK20: Izquierdo | AL20: 76.55 | AP20: 1 | AQ20: =+ROUND(AL20,1) -> 76.6
AJ21: Carrera 59A - Bordillo via | AK21: Derecho | AL21: 187.5 | AP21: 1 | AQ21: =+ROUND(AL21,1) -> 187.5
AJ23: Calle 51D entre 51C y 52 - Bordillo via | AK23: Izquierdo | AL23: 51.86 | AP23: 1 | AQ23: =+ROUND(AL23,1) -> 51.9
AJ24: Calle 51D entre 51C y 52 - Bordillo zona verde | AK24: Izquierdo | AL24: 6.5 | AP24: 1 | AQ24: =+ROUND(AL24,1) -> 6.5
AJ25: Calle 51D entre 51C y 52 - Bordillo via | AK25: Derecho | AL25: 48.1 | AP25: 1 | AQ25: =+ROUND(AL25,1) -> 48.1
AJ27: Calle 51C | AK27: Izquierdo | AL27: 21.2 | AP27: 1 | AQ27: =+ROUND(AL27,1) -> 21.2
AJ28: Calle 51C | AK28: Derecho | AL28: 6.05 | AP28: 1 | AQ28: =+ROUND(AL28,1) -> 6.1
AJ30: Cra 60A | AK30: Derecho | AL30: 38 | AP30: 1 | AQ30: =+ROUND(AL30,1) -> 38
AJ31: CASAS DEL MAR | AP31: TOTAL | AQ31: =SUM(AQ16:AQ30) -> 695.8
AJ32: Calle 52 | AK32: Derecho | AL32: 175 | AP32: 1 | AQ32: =+ROUND(AL32,1) -> 175
AJ33: Calle 52 - Cra 59 y 58a | AK33: Derecho | AL33: 24.4 | AP33: 1 | AQ33: =+ROUND(AL33,1) -> 24.4
AJ34: QUEBRADA ARRIBA | AP34: TOTAL | AQ34: =SUM(AQ32:AQ33) -> 199.4
AJ35: Calle 56 | AK35: Izquierdo | AL35: 52.7 | AP35: 1 | AQ35: =+ROUND(AL35,1) -> 52.7
AJ36: LAURELES | AP36: TOTAL | AQ36: =SUM(AQ35) -> 52.7
B37: OBSERVACIONES: | AJ37: Subtotal | AQ37: =+AQ31+AQ34+AQ36 -> 947.9
AJ38: Cantidad Acumulada Anterior | AQ38: 0
AJ39: TOTAL ACUMULADA | AQ39: =ABS(AQ37+AQ38) -> 947.9
B40: Residente de obra: Ing. OLMAN SNEYDER RINCON GAVIRIA | AJ40: Residente Interventoria: Ing. RODRIGO BETANCUR CORREA
B42: M.P. 68202 - 268154 STD | AJ42: M.P. 011037 - 0507481 ANT

Sheet 3,04 AN10
B2: MEMORIAS DE CÁLCULO
B5: OBJETO DEL CONTRATO | J5: OBRAS DE CONSTRUCCIÓN DE ANDENES, COMUNA 1 LIBORIO MEJIA DEL MUNICIPIO DE RIONEGRO
B6: INTERVENTORÍA | J6: CONSORCIO M&G | AF6: NIT | AJ6: 902059165 - 3 | AK6: CONTRATO DE OBRA N° | AO6: IP 006-2026
B7: CONTRATISTA | J7: CONSULTORES Y CONSTRUCTORES ASOCIADOS S.A.S. | AF7: NIT | AJ7: 900339866 - 2 | AK7: PLAZO INICIAL | AO7: 3 (Tres) Meses
B9: FECHA | G9: DD | I9: 25 | K9: MM | M9: 7 | O9: AA | Q9: 2026 | AH9: ELABORÓ | AK9: Ing. OLMAN SNEYDER RINCON GAVIRIA
AH10: APROBÓ | AK10: Ing. SERGIO AMAURY DURANGO ZORA
B12: DESCRIPCIÓN | I12: =+'ACTA DE OBRA No1'!C28 -> Construcción de ANDÉN en concreto de 21 Mpa, espesor de 0.10m. Incluye suministro y transporte de los materiales, Malla electrosoldada D-84; juntas para andenes de 5X5 mm con cortadora de disco, soporte fondo de junta, sellante de juntas elastomérico de poliuretano, acabado escobillado y llaneado 0.10m en los bordes, y todos los demás elementos necesarios para su correcta construcción. Se ejecutarán los rebajes que sean necesarios para garantizar el acceso de los discapacitados y hasta una huellas y una contrahuella necesarias en los lugares que indique la interventoría. Las excavaciones o descapotes se pagarán en su ítem respectivo.
B13: CAPÍTULO | I13: 3. ANDENES | V13: SUB CAPÍTULO | AK13: ITEM | AN13: =+'ACTA DE OBRA No1'!B28 -> 3.04 | AP13: UNID | AQ13: =+'ACTA DE OBRA No1'!E28 -> m2
B14: ESQUEMAS Y/O REGISTRO FOTOGRÁFICO | AJ14: Actividad / Ubicación | AP14: CANTIDAD | AQ14: Medida Parcial
AK15: Carril | AL15: Distancia | AM15: Ancho | AN15: Altura | AO15: Área total
AJ16: Calle 51 | AK16: Izquierdo | AL16: 35 | AM16: =1.05-0.3 -> 0.75 | AO16: =AM16*AL16 -> 26.25 | AP16: 1 | AQ16: =ROUND(AO16*AP16,1) -> 26.3
AJ18: Carrera 59A | AK18: Izquierdo | AL18: 186.45 | AM18: =1.05-0.3 -> 0.75 | AO18: =AM18*AL18 -> 139.8375 | AP18: 1 | AQ18: =ROUND(AO18*AP18,1) -> 139.8
AJ19: Carrera 59A | AK19: Derecho | AL19: 158.8 | AM19: =1.35-0.3 -> 1.05 | AO19: =AM19*AL19 -> 166.74 | AP19: 1 | AQ19: =ROUND(AO19*AP19,1) -> 166.7
AJ20: Carrera 59A | AK20: Derecho | AL20: 27.5 | AM20: =1.4-0.15-0.3 -> 0.95 | AO20: =AM20*AL20 -> 26.125 | AP20: 1 | AQ20: =ROUND(AO20*AP20,1) -> 26.1
AJ22: Calle 51D entre 51C y 52 | AK22: Izquierdo | AL22: 44.6 | AM22: =1.05-0.3 -> 0.75 | AO22: =AM22*AL22 -> 33.45 | AP22: 1 | AQ22: =ROUND(AO22*AP22,1) -> 33.5
AJ23: Calle 51D entre 51C y 52 | AK23: Derecho | AL23: 42.2 | AM23: =1.05-0.3 -> 0.75 | AO23: =AM23*AL23 -> 31.65 | AP23: 1 | AQ23: =ROUND(AO23*AP23,1) -> 31.7
AJ25: Calle 51C - Parte recta | AK25: Izquierdo | AL25: 6.1 | AM25: =1.35-0.3 -> 1.05 | AO25: =AM25*AL25 -> 6.405 | AP25: 1 | AQ25: =ROUND(AO25*AP25,1) -> 6.4
AJ26: Calle 51C - Parte Variable | AK26: Izquierdo | AL26: 13 | AM26: =1.81-0.15-0.3 -> 1.36 | AO26: =AM26*AL26 -> 17.68 | AP26: 1 | AQ26: =ROUND(AO26*AP26,1) -> 17.7
AJ27: Calle 51C - Parte recta | AK27: Izquierdo | AL27: 2.1 | AM27: =1.25-0.15-0.3 -> 0.8 | AO27: =AM27*AL27 -> 1.68 | AP27: 1 | AQ27: =ROUND(AO27*AP27,1) -> 1.7
AJ28: Calle 51C - Bahia | AK28: Derecho | AL28: 6.05 | AM28: =1.05-0.3 -> 0.75 | AO28: =AM28*AL28 -> 4.5375 | AP28: 1 | AQ28: =ROUND(AO28*AP28,1) -> 4.5
AJ29: Calle 51C - Recta | AK29: Derecho | AL29: 21.35 | AM29: =1.1-0.2 -> 0.9 | AO29: =AM29*AL29 -> 19.215 | AP29: 1 | AQ29: =ROUND(AO29*AP29,1) -> 19.2
AJ31: Cra 60A | AK31: Derecho | AL31: 38 | AM31: =1.25-0.3 -> 0.95 | AO31: =AM31*AL31 -> 36.1 | AP31: 1 | AQ31: =ROUND(AO31*AP31,1) -> 36.1
AJ32: CASAS DEL MAR | AL32: =SUM(AL16:AL31) -> 581.15 | AM32: m | AP32: TOTAL | AQ32: =SUM(AQ16:AQ31) -> 509.7
AJ33: Calle 52 | AK33: Derecho | AL33: 24.1 | AM33: =(1.36-0.15)-0.15-0.3 -> 0.76 | AO33: =AM33*AL33 -> 18.316 | AP33: 1 | AQ33: =ROUND(AO33*AP33,1) -> 18.3
AJ34: Calle 52 | AK34: Derecho | AL34: 99.6 | AM34: =(1.5-0.15)-0.15-0.3 -> 0.9 | AO34: =AM34*AL34 -> 89.64 | AP34: 1 | AQ34: =ROUND(AO34*AP34,1) -> 89.6
AJ35: Calle 52 - Cra 59 y 58a | AK35: Derecho | AL35: 21.8 | AM35: =1.55-0.15-0.3 -> 1.1 | AO35: =AM35*AL35 -> 23.98 | AP35: 1 | AQ35: =ROUND(AO35*AP35,1) -> 24
AJ36: QUEBRADA ARRIBA | AL36: =SUM(AL33:AL35) -> 145.5 | AM36: m | AP36: TOTAL | AQ36: =SUM(AQ33:AQ35) -> 131.9
AJ37: Calle 56 | AK37: Izquierdo | AL37: 19.5 | AM37: =1.32-0.15-0.3 -> 0.87 | AO37: =AM37*AL37 -> 16.965 | AP37: 1 | AQ37: =ROUND(AO37*AP37,1) -> 17
AJ38: LAURELES | AL38: =SUM(AL37) -> 19.5 | AM38: m | AP38: TOTAL | AQ38: =SUM(AQ37) -> 17
B39: OBSERVACIONES: | AJ39: Subtotal | AQ39: =+AQ32+AQ36+AQ38 -> 658.6
AJ40: Cantidad Acumulada Anterior | AQ40: 0
AJ41: TOTAL ACUMULADA | AQ41: =ABS(AQ39+AQ40) -> 658.6
B42: Residente de obra: Ing. OLMAN SNEYDER RINCON GAVIRIA | AJ42: Residente Interventoria: Ing. RODRIGO BETANCUR CORREA
B44: M.P. 68202 - 268154 STD | AJ44: M.P. 011037 - 0507481 ANT

Sheet 6,38 DTC
B2: MEMORIAS DE CÁLCULO
B5: OBJETO DEL CONTRATO | J5: OBRAS DE CONSTRUCCIÓN DE ANDENES, COMUNA 1 LIBORIO MEJIA DEL MUNICIPIO DE RIONEGRO
B6: INTERVENTORÍA | J6: CONSORCIO M&G | AF6: NIT | AJ6: 902059165 - 3 | AK6: CONTRATO DE OBRA N° | AO6: IP 006-2026
B7: CONTRATISTA | J7: CONSULTORES Y CONSTRUCTORES ASOCIADOS S.A.S. | AF7: NIT | AJ7: 900339866 - 2 | AK7: PLAZO INICIAL | AO7: 3 (Tres) Meses
B9: FECHA | G9: DD | I9: 25 | K9: MM | M9: 7 | O9: AA | Q9: 2026 | AH9: ELABORÓ | AK9: Ing. OLMAN SNEYDER RINCON GAVIRIA
AH10: APROBÓ | AK10: Ing. SERGIO AMAURY DURANGO ZORA
B12: DESCRIPCIÓN | I12: =+'ACTA DE OBRA No1'!C32 -> Demolición de la tapa de concreto existente, incluye herraje metálico y construcción de una nueva tapa de concreto reforzado con una resistencia de 21 MPa, garantizando su adecuado ajuste y funcionalidad. Se incluyen actividades de preparación de superficie, limpieza y tratamiento del herraje, vaciado del concreto, curado y acabado final.
B13: CAPÍTULO | I13: 3. ANDENES | V13: SUB CAPÍTULO | AK13: ITEM | AN13: =+'ACTA DE OBRA No1'!B32 -> 6.38 | AP13: UNID | AQ13: =+'ACTA DE OBRA No1'!E32 -> m2
B14: ESQUEMAS Y/O REGISTRO FOTOGRÁFICO | AJ14: Actividad / Ubicación | AP14: CANTIDAD | AQ14: Medida Parcial
AK15: Carril | AL15: Distancia | AM15: Ancho | AN15: Altura | AO15: Área total
AJ16: Calle 51 - Caja electrica existente | AK16: Izquierdo | AL16: 0.4 | AM16: 1.2 | AO16: =AM16*AL16 -> 0.48 | AP16: 2 | AQ16: =ROUND(AO16*AP16,1) -> 1
AJ17: CASAS DEL MAR | AP17: TOTAL | AQ17: =SUM(AQ16:AQ16) -> 1
B18: OBSERVACIONES: | AJ18: Subtotal | AQ18: =+AQ17 -> 1
AJ19: Cantidad Acumulada Anterior | AQ19: 0
AJ20: TOTAL ACUMULADA | AQ20: =ABS(AQ18+AQ19) -> 1
B21: Residente de obra: Ing. OLMAN SNEYDER RINCON GAVIRIA | AJ21: Residente Interventoria: Ing. RODRIGO BETANCUR CORREA
B23: M.P. 68202 - 268154 STD | AJ23: M.P. 011037 - 0507481 ANT

Sheet OE-1 CP
B2: MEMORIAS DE CÁLCULO
B5: OBJETO DEL CONTRATO | J5: OBRAS DE CONSTRUCCIÓN DE ANDENES, COMUNA 1 LIBORIO MEJIA DEL MUNICIPIO DE RIONEGRO
B6: INTERVENTORÍA | J6: CONSORCIO M&G | AF6: NIT | AJ6: 902059165 - 3 | AK6: CONTRATO DE OBRA N° | AO6: IP 006-2026
B7: CONTRATISTA | J7: CONSULTORES Y CONSTRUCTORES ASOCIADOS S.A.S. | AF7: NIT | AJ7: 900339866 - 2 | AK7: PLAZO INICIAL | AO7: 3 (Tres) Meses
B9: FECHA | G9: DD | I9: 25 | K9: MM | M9: 7 | O9: AA | Q9: 2026 | AH9: ELABORÓ | AK9: Ing. OLMAN SNEYDER RINCON GAVIRIA
AH10: APROBÓ | AK10: Ing. SERGIO AMAURY DURANGO ZORA
B12: DESCRIPCIÓN | I12: =+'ACTA DE OBRA No1'!C34 -> Corte con pulidora en la articulación entre un andén de concreto y fachadas existentes para creación de junta de aislamiento, que absorba los movimientos estructurales diferenciales evitando que vibraciones por posterior demolición de los andenes fracturen los acabados de la fachada. Espesor hasta 4"
B13: CAPÍTULO | I13: OBRAS EXTRAS | V13: SUB CAPÍTULO | AK13: ITEM | AN13: =+'ACTA DE OBRA No1'!B34 -> OE-1 | AP13: UNID | AQ13: =+'ACTA DE OBRA No1'!E34 -> m
B14: ESQUEMAS Y/O REGISTRO FOTOGRÁFICO | AJ14: Actividad / Ubicación | AP14: CANTIDAD | AQ14: Medida Parcial
AK15: Carril | AL15: Distancia | AM15: Ancho | AN15: Altura | AO15: Área total
AJ16: calle 52 # 59-115 | AK16: Derecho | AL16: 11.6 | AP16: 1 | AQ16: =+ROUND(AL16,1) -> 11.6
AJ17: QUEBRADA ARRIBA | AP17: TOTAL | AQ17: =SUM(AQ16:AQ16) -> 11.6
AJ18: calle 56 # 52-31 | AK18: Izquierdo | AL18: 2.9 | AP18: 1 | AQ18: =+ROUND(AL18,1) -> 2.9
AJ19: calle 56 # 52-41 | AK19: Izquierdo | AL19: 3.5 | AP19: 1 | AQ19: =+ROUND(AL19,1) -> 3.5
AJ20: LAURELES | AP20: TOTAL | AQ20: =SUM(AQ18:AQ19) -> 6.4
B21: OBSERVACIONES: | AJ21: Subtotal | AQ21: =+AQ17+AQ20 -> 18
AJ22: Cantidad Acumulada Anterior | AQ22: 0
AJ23: TOTAL ACUMULADA | AQ23: =ABS(AQ21+AQ22) -> 18
B24: Residente de obra: Ing. OLMAN SNEYDER RINCON GAVIRIA | AJ24: Residente Interventoria: Ing. RODRIGO BETANCUR CORREA
B26: M.P. 68202 - 268154 STD | AJ26: M.P. 011037 - 0507481 ANT

Sheet OE-2 AN15
B2: MEMORIAS DE CÁLCULO
B5: OBJETO DEL CONTRATO | J5: OBRAS DE CONSTRUCCIÓN DE ANDENES, COMUNA 1 LIBORIO MEJIA DEL MUNICIPIO DE RIONEGRO
B6: INTERVENTORÍA | J6: CONSORCIO M&G | AF6: NIT | AJ6: 902059165 - 3 | AK6: CONTRATO DE OBRA N° | AO6: IP 006-2026
B7: CONTRATISTA | J7: CONSULTORES Y CONSTRUCTORES ASOCIADOS S.A.S. | AF7: NIT | AJ7: 900339866 - 2 | AK7: PLAZO INICIAL | AO7: 3 (Tres) Meses
B9: FECHA | G9: DD | I9: 24 | K9: MM | M9: 7 | O9: AA | Q9: 2026 | AH9: ELABORÓ | AK9: Ing. OLMAN SNEYDER RINCON GAVIRIA
AH10: APROBÓ | AK10: Ing. SERGIO AMAURY DURANGO ZORA
B12: DESCRIPCIÓN | I12: =+'ACTA DE OBRA No1'!C35 -> Construcción de la losa vehicular concreto de 21 Mpa, espesor de 0.15 m para rampa de acceso ubicada en la franja de andén peatonal acceso a garajes o predios o en aquellos puntos que por su uso requieran un reforzamiento adicional. El ítem incluye el acero de refuerzo en parilla con varilla de 1/2” cada 0.20 m en las dos direcciones, Malla electrosoldada D-84, acabado escobillado y llaneado 0.10m en los bordes, y todos los demás elementos necesarios para su correcta construcción
B13: CAPÍTULO | I13: OBRAS EXTRAS | V13: SUB CAPÍTULO | AK13: ITEM | AN13: =+'ACTA DE OBRA No1'!B35 -> OE-2 | AP13: UNID | AQ13: =+'ACTA DE OBRA No1'!E35 -> m2
B14: ESQUEMAS Y/O REGISTRO FOTOGRÁFICO | AJ14: Actividad / Ubicación | AP14: CANTIDAD | AQ14: Medida Parcial
AK15: Carril | AL15: Distancia | AM15: Ancho | AN15: Altura | AO15: Área total
AJ16: Calle 52 | AK16: Derecho | AL16: 31.6 | AM16: =1.45-0.15-0.3 -> 1 | AO16: =AM16*AL16 -> 31.6 | AP16: 1 | AQ16: =ROUND(AO16*AP16,1) -> 31.6
AJ17: Calle 52 | AK17: Derecho | AL17: 15.8 | AM17: =1.5-0.15-0.3 -> 1.05 | AO17: =AM17*AL17 -> 16.59 | AP17: 1 | AQ17: =ROUND(AO17*AP17,1) -> 16.6
AJ18: QUEBRADA ARRIBA | AL18: =SUM(AL16:AL17) -> 47.4 | AM18: m | AP18: TOTAL | AQ18: =SUM(AQ16:AQ17) -> 48.2
AJ19: Calle 56 | AK19: Izquierdo | AL19: 9.3 | AM19: =1.32-0.15-0.3 -> 0.87 | AO19: =AM19*AL19 -> 8.091 | AP19: 1 | AQ19: =ROUND(AO19*AP19,1) -> 8.1
AJ20: Calle 56 | AK20: Izquierdo | AL20: 4.1 | AM20: =1.16-0.15-0.3 -> 0.71 | AO20: =AM20*AL20 -> 2.911 | AP20: 1 | AQ20: =ROUND(AO20*AP20,1) -> 2.9
AJ21: Calle 56 | AK21: Izquierdo | AL21: 18.6 | AM21: =1.36-0.15-0.3 -> 0.91 | AO21: =AM21*AL21 -> 16.926 | AP21: 1 | AQ21: =ROUND(AO21*AP21,1) -> 16.9
AJ22: LAURELES | AL22: =SUM(AL19:AL21) -> 32 | AM22: m | AP22: TOTAL | AQ22: =SUM(AQ19:AQ21) -> 27.9
B23: OBSERVACIONES: | AJ23: Subtotal | AQ23: =+AQ18+AQ22 -> 76.1
AJ24: Cantidad Acumulada Anterior | AQ24: 0
AJ25: TOTAL ACUMULADA | AQ25: =ABS(AQ23+AQ24) -> 76.1
