Workbook
Name \0: #REF!
Name \0: #REF!
Name \0: #REF!
Name \00: #REF!
Name \00: #REF!
Name \00: #REF!
Name \a: #REF!
Name \a: #REF!
Name \AA: #REF!
Name \b: #REF!
Name \bb: #REF!
Name \c: #REF!
Name \E: #REF!
Name \EE: #REF!
Name \eliminar: #REF!
Name \eliminar1: #REF!
Name \G: #REF!
Name \i: #REF!
Name \k: #REF!
Name \l: #REF!
Name \M: #REF!
Name \ñ: #REF!
Name \o: #REF!
Name \P: #REF!
Name \q: #REF!
Name \R: #REF!
Name \s: #REF!
Name \t: #REF!
Name \V: #REF!
Name \w: #N/A
Name \X: A.I.U!err
Name \x: #REF!
Name \x: #REF!
Name \X: #N/A
Name \Z: A.I.U!err
Name \z: #REF!
Name \z: #REF!
Name \Z: #N/A
Name _: #REF!
Name _: #REF!
Name _: #REF!
Name ___________________________________________________i1: #REF!
Name __________________________________________________i1: #REF!
Name _________________________________________________i1: #REF!
Name ________________________________________________i1: #REF!
Name _______________________________________________i1: #REF!
Name ______________________________________________i1: #REF!
Name _____________________________________________i1: #REF!
Name ____________________________________________i1: #REF!
Name ___________________________________________i1: #REF!
Name __________________________________________i1: #REF!
Name _________________________________________i1: #REF!
Name ________________________________________i1: #REF!
Name _______________________________________i1: #REF!
Name ______________________________________i1: #REF!
Name _____________________________________i1: #REF!
Name ____________________________________i1: #REF!
Name ___________________________________i1: #REF!
Name __________________________________i1: #REF!
Name _________________________________apu1: #REF!

Sheet FM
B2: FACTOR MULTIPLICADOR
B4: REPÚBLICA DE COLOMBIA
B5: DEPARTAMENTO DE SUCRE
B8: =+'PPTO. INTERVENTORIA '!C5 -> "MEJORAMIENTO EN PAVIMENTO RÍGIDO Y CONSTRUCCIÓN DE OBRAS HIDRÁULICAS EN TRAMOS VIALES EN LAS SUBREGIONES SAN JORGE, SABANA Y MONTES DE MARÍA EN EL DEPARTAMENTO DE SUCRE" - LOTE SAMPUES
B11: F.M PARA MAS DE 2 S.M.L.
C12: SALARIOS | E12: 1
B14: 2 | C14: PRESTACIONES SOCIALES | E14: =ROUND(SUM(D15:D24),2) -> 0.58
B15: 2.1 | C15: Cesantia | D15: 0.0833
B16: 2.2 | C16: Intereses de cesantías | D16: 0.01
B17: 2.3 | C17: Prima | D17: 0.0833
B18: 2.4 | C18: Vacaciones | D18: 0.0417
B19: 2.5 | C19: Seguridad Social (salud) | D19: 0.085
B20: 2.6 | C20: Seguridad Social (pensión) | D20: 0.12
B21: 2.7 | C21: Aseguradora de Riesgos Laborales | D21: 0.0696
B22: 2.8 | C22: Subsidio Familiar | D22: 0.04
B23: 2.9 | C23: SENA | D23: 0.02
B24: 2.1 | C24: ICBF | D24: 0.03
B26: 3 | C26: COSTOS INDIRECTOS O DE ADMINISTRACIÓN | E26: =ROUND(SUM(D27:D32),2) -> 0.17
B27: =+B26+0.1 -> 3.1 | C27: Costos de oficina principal(Arriendo de oficina, administración y pago de servicios públicos (Energía, agua, teléfono e internet)) | D27: 0.02
B28: =+B27+0.1 -> 3.2 | C28: implementación de plan de Seguridad industrial y ocupacional de la oficina del interventor | D28: 0.02
B29: =+B28+0.1 -> 3.3 | C29: Asesorias Contable Tributaria, Jurídica, Médica, y otras | D29: 0.04
B30: =+B29+0.1 -> 3.4 | C30: Equipos de oficina para uso del proyecto | D30: 0.03
B31: =+B30+0.1 -> 3.5 | C31: Gastos generales de operación (incluye gastos de representación, dotación de operación y mantenimiento, vigilancia de la oficina, seguros de robo e inendios de la oficina del consultor) | D31: 0.02
B32: =+B31+0.1 -> 3.6 | C32: Papelería, fotocopias y otros útiles de oficina del consultor | D32: 0.04
B34: 4 | C34: COSTOS DE PERFECCIONAMIENTO, IMPUESTOS, PÓLIZAS Y CONTRIBUCIONES | E34: =+ROUND(SUM(D43),3) -> 0.12
B35: 4.1 | C35: ESTAMPILLA PRO-UNISUCRE | D35: 0.015
B36: 4.2 | C36: ESTAMPILLA PRO-ADULTO MAYOR | D36: 0.03 | J36: =6000*49799 -> 298794000
B37: 4.3 | C37: ESTAMPILLA PRODESARROLLO | D37: 0.014
B38: 4.4 | C38: ESTAMPILLA PROELECTRIFICACION | D38: 0.0045
B39: 4.5 | C39: ESTAMPILLA PRODEPORTE | D39: 0.0175
B40: 4.6 | C40: ESTAMPILLA PROCULTURA | D40: 0.019
B41: 4.7 | C41: ESTAMPILLA PRO-HOSPITAL | D41: 0.01
B42: 4.8 | C42: POLIZA | D42: 0.01
D43: =SUM(D35:D42) -> 0.12
B45: 6 | C45: HONORARIOS (UTILIDADES) 20% | E45: 0.2
C47: TOTAL FACTOR MULTIPLICADOR 1 | E47: =+E12+E14+E26+E34+E45 -> 2.07
B48: F.M PARA MENOS DE 2 S.M.L.
B49: 7 | C49: SALARIOS | E49: 1
B51: 8 | C51: PRESTACIONES SOCIALES | E51: =ROUND(SUM(D52:D63),2) -> 0.71
B52: 8.1 | C52: Subsidio de Transporte promedio | D52: 0.08
...

Sheet PPTO. INTERVENTORIA 
C3: PRESUPUESTO OFICIAL DE INTERVENTORIA - SAMPUES
C5: =CONCATENATE(PPTO!C9," - LOTE SAMPUES") -> "MEJORAMIENTO EN PAVIMENTO RÍGIDO Y CONSTRUCCIÓN DE OBRAS HIDRÁULICAS EN TRAMOS VIALES EN LAS SUBREGIONES SAN JORGE, SABANA Y MONTES DE MARÍA EN EL DEPARTAMENTO DE SUCRE" - LOTE SAMPUES
C12: PLAZO CUATRO (4) MESES OBRA
C13: PLAZO (MESES) | D13: 12 | G13: 2026 | I13: 2027
C14: PERSONAL ESPECIALISTA, PROFESIONAL O DE APOYO, PARA OBRAS CIVILES (incluye prestaciones sociales) | D14: CANTIDAD DE PERSONAL POR ACTIVIDAD | E14: Vr. H/MES | F14: DEDICACIÓN | G14: 1 | H14: 2 | I14: 3 | J14: 4
G15: NOVIEMBRE | H15: DICIEMBRE | I15: ENERO | J15: FEBRERO
C16: DIRECTOR | K16: =SUM(I16:J16) -> 0
C17: Director de Interventoría | D17: 1 | E17: 8000000 | F17: 0.5 | G17: =+$F$17*$E$17*$D$17 -> 4000000 | H17: =+$F$17*$E$17*$D$17 -> 4000000 | I17: =+$F$17*$E$17*$D$17 -> 4000000 | J17: =+$F$17*$E$17*$D$17 -> 4000000 | K17: =SUM(G17:J17) -> 16000000
C18: Especialista en vías | D18: 1 | E18: 7000000 | F18: 0.25 | G18: =+$F$18*$E$18*$D$18 -> 1750000 | H18: =+$F$18*$E$18*$D$18 -> 1750000 | I18: =+$F$18*$E$18*$D$18 -> 1750000 | J18: =+$F$18*$E$18*$D$18 -> 1750000 | K18: =SUM(G18:J18) -> 7000000
C19: INGENIERO RESIDENTE DE INTERVENTORIA 1 | D19: 1 | E19: 4500000 | F19: 1 | G19: =+$F$19*$E$19*$D$19 -> 4500000 | H19: =+$F$19*$E$19*$D$19 -> 4500000 | I19: =+$F$19*$E$19*$D$19 -> 4500000 | J19: =+$F$19*$E$19*$D$19 -> 4500000 | K19: =SUM(G19:J19) -> 18000000
C20: PROFESIONAL EN SALUD OCUPACIONAL Y/O SEGURIDAD INDUSTRIAL SISO 1 | D20: =+D19 -> 1 | E20: 3500000 | F20: 1 | G20: =+$F20*$E20*$D20 -> 3500000 | H20: =+$F20*$E20*$D20 -> 3500000 | I20: =+$F20*$E20*$D20 -> 3500000 | J20: =+$F20*$E20*$D20 -> 3500000 | K20: =SUM(G20:J20) -> 14000000
C21: PROFESIONAL EN TRABAJO SOCIAL 1 | D21: =+D20 -> 1 | E21: =+E20 -> 3500000 | F21: 1 | G21: =+$F21*$E21*$D21 -> 3500000 | H21: =+$F21*$E21*$D21 -> 3500000 | I21: =+$F21*$E21*$D21 -> 3500000 | J21: =+$F21*$E21*$D21 -> 3500000 | K21: =SUM(G21:J21) -> 14000000
C22: TOPOGRAFO | D22: 1 | E22: 3500000 | F22: 1 | G22: =+$F22*$E22*$D22 -> 3500000 | H22: =+$F$22*$E$22*$D$22 -> 3500000 | I22: =+$F22*$E22*$D22 -> 3500000 | J22: =+$F$22*$E$22*$D$22 -> 3500000 | K22: =SUM(G22:J22) -> 14000000
G23: =SUM(G17:G22) -> 20750000 | H23: =SUM(H17:H22) -> 20750000 | I23: =SUM(I17:I22) -> 20750000 | J23: =SUM(J17:J22) -> 20750000 | K23: =SUM(K17:K22) -> 83000000
C24: SUBTOTAL x Factor Multiplicador | E24: 2.06 | G24: =+G23*$E$24 -> 42745000 | H24: =+H23*$E$24 -> 42745000 | I24: =+I23*$E$24 -> 42745000 | J24: =+J23*$E$24 -> 42745000 | K24: =ROUND(K23*$E$24,0) -> 170980000
C26: CADENERO 1 | D26: 1 | E26: 2200000 | F26: =+F22 -> 1 | G26: =+$F26*$E26*$D26 -> 2200000 | H26: =+$F26*$E26*$D26 -> 2200000 | I26: =+$F26*$E26*$D26 -> 2200000 | J26: =+$F26*$E26*$D26 -> 2200000 | K26: =SUM(G26:J26) -> 8800000
C27: CADENERO 2 | D27: 1 | E27: 2000000 | F27: =+F26 -> 1 | G27: =+$F27*$E27*$D27 -> 2000000 | H27: =+$F27*$E27*$D27 -> 2000000 | I27: =+$F27*$E27*$D27 -> 2000000 | J27: =+$F27*$E27*$D27 -> 2000000 | K27: =SUM(G27:J27) -> 8000000
G28: =SUM(G26:G27) -> 4200000 | H28: =SUM(H26:H27) -> 4200000 | I28: =SUM(I26:I27) -> 4200000 | J28: =SUM(J26:J27) -> 4200000 | K28: =SUM(K26:K27) -> 16800000
C29: SUBTOTAL x Factor Multiplicador | E29: 2.2 | G29: =+G28*$E$29 -> 9240000 | H29: =+H28*$E$29 -> 9240000 | I29: =+I28*$E$29 -> 9240000 | J29: =+J28*$E$29 -> 9240000 | K29: =ROUND(K28*$E$29,0) -> 36960000
C30: SUBTOTAL 1 | G30: =ROUND(G29+G24,0) -> 51985000 | H30: =ROUND(H29+H24,0) -> 51985000 | I30: =ROUND(I29+I24,0) -> 51985000 | J30: =ROUND(J29+J24,0) -> 51985000 | K30: =ROUND(K29+K24,0) -> 207940000
C31: COSTOS OPERACIONALES
C32: ALQUILER EQUIPO, SUMINISTROS Y OTROS ELEMENTOS | D32: CANTIDAD | E32: COSTO UNITARIO ($) | K32: COSTO ($) TOTAL PROYECTO ETAPA CONSTRUCCION DE OBRAS CIVILES
C33: EQUIPO DE TOPOGRAFIA - Estudios (Equipo completo) | D33: 1 | E33: =44500*30 -> 1335000 | F33: =+F26 -> 1 | G33: =+$F33*$E33*$D33 -> 1335000 | H33: =+$F33*$E33*$D33 -> 1335000 | I33: =+$F33*$E33*$D33 -> 1335000 | J33: =+$F33*$E33*$D33 -> 1335000 | K33: =SUM(G33:J33) -> 5340000
C34: ALQUILER DE CAMPERO INCLUYE COMBUSTIBLE Y CONDUCTOR | D34: 1 | E34: 9200000 | F34: 1 | G34: =+$F34*$E34*$D34 -> 9200000 | H34: =+$F34*$E34*$D34 -> 9200000 | I34: =+$F34*$E34*$D34 -> 9200000 | J34: =+$F34*$E34*$D34 -> 9200000 | K34: =SUM(G34:J34) -> 36800000
C35: ALQUILER DE OFICINA O CAMPAMENTO PARA FRENTE DE TRABAJO | D35: 1 | E35: 558500 | F35: 1 | G35: =+$F35*$E35*$D35 -> 558500 | H35: =+$F35*$E35*$D35 -> 558500 | I35: =+$F35*$E35*$D35 -> 558500 | J35: =+$F35*$E35*$D35 -> 558500 | K35: =SUM(G35:J35) -> 2234000
C36: Ensayos de laboratorio - Ver desglose anexo | D36: 1 | G36: 2500000 | H36: =+G36 -> 2500000 | I36: =+H36 -> 2500000 | J36: =+I36 -> 2500000 | K36: =SUM(G36:J36) -> 10000000
C38: SUBTOTAL 2 | G38: =ROUND((SUM(G33:G36)),0) -> 13593500 | H38: =ROUND((SUM(H33:H36)),0) -> 13593500 | I38: =ROUND((SUM(I33:I36)),0) -> 13593500 | J38: =ROUND((SUM(J33:J36)),0) -> 13593500 | K38: =ROUND((SUM(K33:K36)),0) -> 54374000
C41: SUBTOTAL ( 1 + 2 ) | G41: =ROUND((G30+G38),0) -> 65578500 | H41: =ROUND((H30+H38),0) -> 65578500 | I41: =ROUND((I30+I38),0) -> 65578500 | J41: =ROUND((J30+J38),0) -> 65578500 | K41: =ROUND((K30+K38),0) -> 262314000
C42: IVA 19% | G42: =ROUND(G41*0.19,0) -> 12459915 | H42: =ROUND(H41*0.19,0) -> 12459915 | I42: =ROUND(I41*0.19,0) -> 12459915 | J42: =ROUND(J41*0.19,0) -> 12459915 | K42: =ROUND(K41*0.19,0) -> 49839660 | M42: =+M44-K44 -> 0
C44: TOTAL PERSONAL Y COSTOS OPERACIONALES | G44: =ROUND((SUM(G41:G42)),0) -> 78038415 | H44: =ROUND((SUM(H41:H42)),0) -> 78038415 | I44: =ROUND((SUM(I41:I42)),0) -> 78038415 | J44: =ROUND((SUM(J41:J42)),0) -> 78038415 | K44: =ROUND((SUM(K41:K42)),0) -> 312153660 | M44: 312153660
C48: ANDREA CAMILA CABALLERO HERNANDEZ
C49: Ingeniera civil
C50: Máster en construcción, Mantenimiento y Explotación de carreteras
C51: Realizó

Sheet PPTO
C3: PRESUPUESTO OFICIAL DE OBRA
C4: REPÚBLICA DE COLOMBIA
C5: DEPARTAMENTO DE SUCRE
C6: NIT. 892280021-1
C7: SECRETARIA DE INFRAESTRUCTURA DEPARTAMENTAL
C9: "MEJORAMIENTO EN PAVIMENTO RÍGIDO Y CONSTRUCCIÓN DE OBRAS HIDRÁULICAS EN TRAMOS VIALES EN LAS SUBREGIONES SAN JORGE, SABANA Y MONTES DE MARÍA EN EL DEPARTAMENTO DE SUCRE"
C13: PRESUPUESTO N°1
C14: MUNICIPIO: | E14: SAMPUES
C15: OBJETO: | E15: "MEJORAMIENTO EN PAVIMENTO RÍGIDO DE LA CALLE 27 ENTRE CARRERA 20 Y CALLE 24 EN EL MUNICIPIO DE SAMPUÉS, SUCRE"
C16: VERSIÓN: | E16: V - 27/02/2026
C18: No | D18: ÍTEM DE INVIAS | E18: DESCRIPCIÓN | F18: UND. | G18: CANT. | H18: PRECIO UNITARIO | I18: VALOR TOTAL
C20: 1 | E20: OBRAS PRELIMINARES | I20: =SUM(I21:I26) -> 1.7693201e+08 | K20: =+I20+#REF!+#REF!+#REF!+#REF! -> #REF!
C21: 1.1 | E21: Localización, trazado y replanteo | F21: m | G21: 512 | H21: 4050 | I21: =ROUND(+H21*G21,2) -> 2073600
C22: 1.2 | D22: 210.1.1. | E22: Excavación mecanica en material común bajo cualquier grado de humedad para conformación de estructura de pavimento según diseño. | F22: m3 | G22: 1406.94 | H22: 17015 | I22: =ROUND(+H22*G22,2) -> 23939084
C23: 1.3 | E23: Excavación a mano en material común 0,0m < H ≤ 1,8m (Bordillo y Anden) | F23: m3 | G23: 295.94 | H23: 33587 | I23: =ROUND(+H23*G23,2) -> 9939736.8
C24: 1.4 | E24: Demolición de estructuras existentes. No incluye retiro de material | F24: m3 | G24: 479.44 | H24: 157620 | I24: =ROUND(+H24*G24,2) -> 75569333
C25: 1.5 | D25: 900.2.1 | E25: Retiro de Materiales proveniente de la excavación a lugar autorizado | F25: m3 | G25: 1702.88 | H25: 29792 | I25: =ROUND(+H25*G25,2) -> 50732201
C26: 1.6 | D26: 900.2.1 | E26: Retiro de Materiales proveniente de la demolicion, a lugar autorizado | F26: m3 | G26: 479.44 | H26: 30615 | I26: =ROUND(+H26*G26,2) -> 14678056
C27: 2 | E27: SUBRASANTE, RELLENOS, SUBBASES | I27: =SUM(I28:I29) -> 1.0720417e+08
C28: 2.1 | D28: 320.3.2 | E28: Subbase granular clase C | F28: m3 | G28: 502.55 | H28: 184010 | I28: =ROUND(+H28*G28,2) -> 92474226
C29: 2.2 | D29: 312.4 | E29: Relleno con material seleccionado compactado al 95% del P.M | F29: m3 | G29: 161.61 | H29: 91145 | I29: =ROUND(+H29*G29,2) -> 14729943
C30: 3 | E30: PAVIMENTO RÍGIDO | I30: =SUM(I31:I34) -> 9.3406835e+08
C31: 3.1 | D31: 500.1.1 | E31: Pavimento de concreto hidráulico módulo de rotura de MR=4.0 MPa | F31: m3 | G31: 724.04 | H31: 1017443 | I31: =ROUND(+H31*G31,2) -> 7.3666943e+08
C32: 3.2 | D32: 640.1 | E32: Acero de refuerzo Fy 4200 Mpa Corrugado | F32: Kg | G32: 12447.43 | H32: 8544 | I32: =ROUND(+H32*G32,2) -> 1.0635084e+08
C33: 3.3 | D33: 640.1 | E33: Acero de refuerzo Fy 4200 Mpa Liso | F33: Kg | G33: 4645.83 | H33: 10475 | I33: =ROUND(+H33*G33,2) -> 48665069
C34: 3.4 | E34: Sellado de juntas (Incluye Corte de pavimento para dilataciones, limpieza, suministro e instalación de fondo y sellante). | F34: m | G34: 1616.5 | H34: 26219 | I34: =ROUND(+H34*G34,2) -> 42383014
C35: 4 | E35: CONSTRUCCIÓN DE BORDILLOS Y ANDENES | I35: =SUM(I36:I38) -> 2.5473005e+08
C36: 4.1 | D36: 672.3 | E36: Bordillo prefabricado en concreto 21 mpas, medidas 80x15x45 cm | F36: m | G36: 1086 | H36: 98487 | I36: =ROUND(+H36*G36,2) -> 106956882
C37: 4.2 | D37: 312.4 | E37: Relleno con material seleccionado compactado a rana o canguro para bordillos y andenes | F37: m3 | G37: 184.62 | H37: 121998 | I37: =ROUND(+H37*G37,2) -> 22523271
C38: 4.3 | D38: 630.22 | E38: Concreto de resistencia 21 MPa tipo D para andenes incluye refuerzo y loseta podotáctil, incluye sello corazón | F38: m2 | G38: 923.1 | H38: 135684 | I38: =ROUND(+H38*G38,2) -> 1.252499e+08
C39: 5 | E39: INSTALACIÓN DE SEÑALIZACIÓN VIAL | I39: =SUM(I40:I42) -> 22368864
C40: 5.1 | D40: 710.1.1 | E40: Suministro e instalación de señal vertical de tránsito SP, SR y SI (75cm*75cm) con lamina acero galvanizado retroreflectiva | F40: Und | G40: 28 | H40: 639772 | I40: =ROUND(+H40*G40,2) -> 17913616
C41: 5.2 | E41: Marca vial con pintura en frío | F41: m2 | G41: 10.28 | H41: 59521 | I41: =ROUND(+H41*G41,2) -> 611875.88
C42: 5.3 | E42: Reductor de velocidad amarillo y negro de caucho L=100 x 35 x 5 cm | F42: m | G42: 12 | H42: 320281 | I42: =ROUND(+H42*G42,2) -> 3843372
C43: 6 | E43: CONSTRUCCIÓN DE OBRAS DE ARTE | I43: =SUM(I44:I55) -> 80504422
C44: 6.1 | D44: 210.1.1. | E44: Excavación mecánica en material común bajo cualquier grado de humedad para conformación de estructura de pavimento según diseño | F44: m3 | G44: 120.23 | H44: 17015 | I44: =ROUND(+H44*G44,2) -> 2045713.4
C45: 6.2 | D45: 900.2.1 | E45: Retiro de Materiales proveniente de la excavación a lugar autorizado | F45: m3 | G45: 120.23 | H45: 29792 | I45: =ROUND(+H45*G45,2) -> 3581892.2
C46: 6.3 | D46: 312.4 | E46: Relleno con material seleccionado de cantera mezclado con cal al 3%, compactado al 90% del proctor modificado | F46: m3 | G46: 12.89 | H46: 201650 | I46: =ROUND(+H46*G46,2) -> 2599268.5
C47: 6.4 | D47: 630.6 | E47: Solado en concreto simple Clase F(14 MPa), espesor 0,05m | F47: m2 | G47: 32.2 | H47: 45796 | I47: =ROUND(+H47*G47,2) -> 1474631.2
C48: 6.5 | E48: Losa de Fondo en concreto estructural clase C (28 MPa) Impermeabilizado | F48: m3 | G48: 8.93 | H48: 1101882 | I48: =ROUND(+H48*G48,2) -> 9839806.3
...

Sheet A.I.U
C3: DESGLOSE A.I.U.
C5: =+PPTO!C4 -> REPÚBLICA DE COLOMBIA
C6: =+PPTO!C5 -> DEPARTAMENTO DE SUCRE
C7: =+PPTO!C6 -> NIT. 892280021-1
C8: =+PPTO!C7 -> SECRETARIA DE INFRAESTRUCTURA DEPARTAMENTAL
C11: =+PPTO!C9 -> "MEJORAMIENTO EN PAVIMENTO RÍGIDO Y CONSTRUCCIÓN DE OBRAS HIDRÁULICAS EN TRAMOS VIALES EN LAS SUBREGIONES SAN JORGE, SABANA Y MONTES DE MARÍA EN EL DEPARTAMENTO DE SUCRE"
C15: VALOR COSTO DIRECTO OBRA | D15: =+PPTO!I57 -> 1575807873
C16: VALOR COSTO TOTAL DE LA OBRA | D16: =+PPTO!I66 -> 2209470728
C18: DURACION OBRA EN MESES | D18: 4
C20: COSTOS ADMINISTRATIVOS | D20: VALOR MENSUAL | E20: CANTIDAD | F20: Factor Prestacional | G20: %Ocup Mes | H20: Meses Dedic. | I20: VALOR PARCIAL | J20: % S/Costos Directos | K20: VALOR EN PESOS
C21: PERSONAL PROFESIONAL | D21: =+SUM(D23:D25) -> 11500000 | I21: =+SUM(I23:I25) -> 61620000 | J21: =+SUM(J22:J25) -> 0.055146317 | K21: =+SUM(K22:K25) -> 86900000
C22: DIRECTOR DE OBRA | D22: 8000000 | E22: 1 | F22: 1.58 | G22: 0.5 | H22: =+D18 -> 4 | I22: =+D22*G22*H22*F22*E22 -> 25280000 | J22: =+I22/$D$15 -> 0.016042565 | K22: =+I22 -> 25280000 | P22: TECNOLOGO EN OBRAS CIVILES
C23: INGENIERO RESIDENTE DE OBRA | D23: 4500000 | E23: 1 | F23: =+F22 -> 1.58 | G23: 1 | H23: =+D18 -> 4 | I23: =+D23*G23*H23*F23*E23 -> 28440000 | J23: =+I23/$D$15 -> 0.018047885 | K23: =+I23 -> 28440000 | P23: TECNOLOGO EN OBRAS CIVILES
C24: PROFESIONAL EN SEGURIDAD Y SALUD EN EL TRABAJO - SST | D24: 3500000 | E24: 1 | F24: =+F23 -> 1.58 | G24: 1 | H24: =+$D$18 -> 4 | I24: =+D24*G24*H24*F24*E24 -> 22120000 | J24: =+I24/$D$15 -> 0.014037244 | K24: =+I24 -> 22120000 | P24: INGENIERO RESIDENTE AMBIENTAL
C25: PROFESIONAL EN TRABAJO SOCIAL | D25: =+D24 -> 3500000 | E25: 1 | F25: =+F24 -> 1.58 | G25: 0.5 | H25: =+$D$18 -> 4 | I25: =+D25*G25*H25*F25*E25 -> 11060000 | J25: =+I25/$D$15 -> 0.0070186221 | K25: =+I25 -> 11060000 | M25: =+M52-K52 -> 0 | P25: INGENIERO RESIDENTE AMBIENTAL
C26: COSTOS OFICINA, PAPELERIA Y OTROS: | D26: =+SUM(D27:D27) -> 1000000 | G26: %Utiliz. | H26: Meses | I26: =+SUM(I27:I27) -> 4000000 | J26: =+SUM(J27:J30) -> 0.010419327 | K26: =+SUM(K27:K30) -> 16418857
C27: COSTO OFICINA (Arriendo 60% - Servicios Publicos 40%) | D27: 1000000 | H27: =+D18 -> 4 | I27: =+D27*H27 -> 4000000 | J27: =I27/$D$15 -> 0.0025383805 | K27: =+I27 -> 4000000
C28: COSTO PAPELERIA, FOTOCOPIAS, ETC. | D28: =438501.4375+64851/4 -> 454714.19 | H28: =+H27 -> 4 | I28: =+D28*H28 -> 1818856.8 | J28: =I28/$D$15 -> 0.0011542376 | K28: =+I28 -> 1818856.8
C29: ENSAYOS DE LAB. DE CONTROL DE CALIDAD (ver desglose anexo) | D29: 5600000 | I29: =+D29 -> 5600000 | J29: =I29/$D$15 -> 0.0035537327 | K29: =+I29 -> 5600000 | M29: =+M52-K52 -> 0 | N29: =+N52 -> 0
C30: VALLA DEL PROYECTO | D30: 5000000 | H30: 1 | I30: =+D30*H30 -> 5000000 | J30: =I30/$D$15 -> 0.0031729756 | K30: =+I30 -> 5000000
C31: COSTOS DE LEGALIZACIÓN DEL CONTRATO | D31: =+SUM(D33:D38) -> 4.1979944e+09 | I31: =+SUM(I32:I38) -> 15908189 | J31: =+SUM(J32:J38) -> 0.010095259 | K31: =+SUM(K32:K38) -> 15908189
C32: PÓLIZAS | D32: VR BASE | E32: % ASEGURADO | F32: VIGENCIA AMPARO (MES) | H32: TASA %
C33: CUMPLIMIENTO DE CONTRATO | D33: =+D16 -> 2209470728 | E33: 0.3 | F33: 12 | H33: 0.01 | I33: =+H33*E33*D33 -> 6628412.2 | J33: =I33/$D$15 -> 0.0042063581 | K33: =+I33 -> 6628412.2
C34: BUEN MANEJO DE ANTICIPO 30% | D34: =+D33*0.3 -> 6.6284122e+08 | E34: 1 | F34: 10 | H34: 0.01 | I34: =+H34*E34*D34 -> 6628412.2 | J34: =I34/$D$15 -> 0.0042063581 | K34: =+I34 -> 6628412.2
C35: PAGO DE SALARIO PRESTACIONES SOCIALES | D35: =+$D$16*E35 -> 4.4189415e+08 | E35: 0.2 | F35: =3*5 -> 15 | H35: 0.01 | I35: =+H35*E35*D35 -> 883788.29 | J35: =I35/$D$15 -> 0.00056084774 | K35: =+I35 -> 883788.29
C36: ESTABILIDAD DE OBRA | D36: =+$D$16*E36 -> 4.4189415e+08 | E36: 0.2 | F36: 5 AÑOS | H36: 0.01 | I36: =+H36*E36*D36 -> 883788.29 | J36: =I36/$D$15 -> 0.00056084774 | K36: =+I36 -> 883788.29
C37: GARANTIA DE RESPONSABILIDAD CIVIL | D37: =+$D$16*E37 -> 4.4189415e+08 | E37: 0.2 | F37: 24 | H37: 0.01 | I37: =+H37*E37*D37 -> 883788.29 | J37: =I37/$D$15 -> 0.00056084774 | K37: =+I37 -> 883788.29
L38: 403669090
C39: COSTOS DE IMPUESTOS O CARGA IMPOSITIVA | D39: =+SUM(D40:D48) -> 3.5351532e+08 | E39: =+SUM(E40:E48) -> 0.16 | I39: =+SUM(I40:I48) -> 3.5351532e+08 | J39: =+SUM(J40:J48) -> 0.2243391 | K39: =+SUM(K40:K48) -> 3.5351532e+08 | L39: =+L38-K52 -> -69073272
C41: ESTAMPILLA PRO-UNISUCRE | D41: =$D$16*E41 -> 33142061 | E41: 0.015 | H41: 1 | I41: =+D41*H41 -> 33142061 | J41: =+I41/$D$15 -> 0.02103179 | K41: =+I41 -> 33142061 | M41: 3
C42: ESTAMPILLA PRO-ADULTO MAYOR | D42: =$D$16*E42 -> 66284122 | E42: 0.03 | H42: 1 | I42: =+D42*H42 -> 66284122 | J42: =+I42/$D$15 -> 0.042063581 | K42: =+I42 -> 66284122
C43: ESTAMPILLA PRODESARROLLO | D43: =$D$16*E43 -> 30932590 | E43: 0.014 | H43: 1 | I43: =+D43*H43 -> 30932590 | J43: =+I43/$D$15 -> 0.019629671 | K43: =+I43 -> 30932590
C44: ESTAMPILLA PROELECTRIFICACION | D44: =$D$16*E44 -> 9942618.3 | E44: 0.0045 | H44: 1 | I44: =+D44*H44 -> 9942618.3 | J44: =+I44/$D$15 -> 0.0063095371 | K44: =+I44 -> 9942618.3
C45: ESTAMPILLA PRODEPORTE | D45: =$D$16*E45 -> 38665738 | E45: 0.0175 | H45: 1 | I45: =+D45*H45 -> 38665738 | J45: =+I45/$D$15 -> 0.024537089 | K45: =+I45 -> 38665738
C46: ESTAMPILLA PROCULTURA | D46: =$D$16*E46 -> 41979944 | E46: 0.019 | H46: 1 | I46: =+D46*H46 -> 41979944 | J46: =+I46/$D$15 -> 0.026640268 | K46: =+I46 -> 41979944
C47: ESTAMPILLA PRO-HOSPITAL | D47: =$D$16*E47 -> 22094707 | E47: 0.01 | H47: 1 | I47: =+D47*H47 -> 22094707 | J47: =+I47/$D$15 -> 0.014021194 | K47: =+I47 -> 22094707
C48: CONTRIBUCIÓN LEY DE SEGURIDAD | D48: =$D$16*E48 -> 1.1047354e+08 | E48: 0.05 | H48: 1 | I48: =+D48*H48 -> 1.1047354e+08 | J48: =+I48/$D$15 -> 0.070105968 | K48: =+I48 -> 1.1047354e+08
C49: TOTAL COSTOS ADMINISTRATIVOS (SUMA) | K49: =ROUND((K26+K21+K31+K39),0) -> 472742362
C51: ADMINISTRACIÓN: | M51: ppto | N51: =+N52/2 -> 0
C52: TOTAL COSTOS ADMINISTRATIVOS | J52: =+J26+J21+J31+J39 -> 0.3 | K52: =+K49 -> 472742362 | M52: =+PPTO!I58 -> 472742362 | N52: =+M52-K52 -> 0 | O52: =+IF(K52=M52,"ok","revisar") -> ok
...
