Workbook
Name _: #REF!
Name _: #REF!
Name _________________________________apu1: #REF!
Name _________________________________apu1: #REF!
Name ________________________________apu1: #REF!
Name ________________________________apu1: #REF!
Name _______________________________apu1: #REF!
Name _______________________________apu1: #REF!
Name ______________________________apu1: #REF!
Name ______________________________apu1: #REF!
Name ____________________________apu1: #REF!
Name ____________________________apu1: #REF!
Name ___________________________apu1: #REF!
Name ___________________________apu1: #REF!
Name __________________________apu1: #REF!
Name __________________________apu1: #REF!
Name _________________________apu1: #REF!
Name _________________________apu1: #REF!
Name ________________________apu1: #REF!
Name ________________________apu1: #REF!
Name _______________________apu1: #REF!
Name _______________________apu1: #REF!
Name _____________________apu1: #REF!
Name _____________________apu1: #REF!
Name ____________________apu1: #REF!
Name ____________________apu1: #REF!
Name ___________________apu1: #REF!
Name ___________________apu1: #REF!
Name __________________apu1: #REF!
Name __________________apu1: #REF!
Name _________________apu1: #REF!
Name _________________apu1: #REF!
Name ________________apu1: #REF!
Name ________________apu1: #REF!
Name _______________apu1: #REF!
Name _______________apu1: #REF!
Name _______________EST1: #REF!
Name _______________EST1: #REF!
Name _______________EST10: #REF!
Name _______________EST10: #REF!
Name _______________EST11: #REF!
Name _______________EST11: #REF!
Name _______________EST12: #REF!
Name _______________EST12: #REF!
Name _______________EST13: #REF!
Name _______________EST13: #REF!
Name _______________EST14: #REF!
Name _______________EST14: #REF!
Name _______________EST15: #REF!
Name _______________EST15: #REF!
Name _______________EST16: #REF!
Name _______________EST16: #REF!
Name _______________EST17: #REF!
Name _______________EST17: #REF!
Name _______________EST18: #REF!
Name _______________EST18: #REF!
Name _______________EST19: #REF!
Name _______________EST19: #REF!
Name _______________EST2: #REF!
Name _______________EST2: #REF!

Sheet RESUMEN
A3: RESUMEN COSTOS DIRECTOS
A4: I.E. SAN JOSE PRIMARIA | B4: =+MEMORIAS!M5 -> 54128747
A5: I.E. SAN JOSE SECUNDARIA | B5: =+MEMORIAS!N5 -> 63893352
A6: I.E. LOS ANGELES | B6: =+MEMORIAS!O5 -> 45698077
A7: TRANSPORTE | B7: =+ACTIVIDADES!E204 -> 47169.5
A8: TOTAL COSTO DIRECTO | B8: =+B4+B5+B6 -> 1.6372018e+08
B10: =+ACTIVIDADES!G206 -> 1.6372018e+08
B12: =+B10-B8 -> 0

Sheet CAPITULOS
B2: ITEM | C2: DESCRIPCIÓN | D2: VR TOTAL
B3: 1 | C3: {=IFERROR(INDEX(ACTIVIDADES!$C:$C,MATCH(B3,ACTIVIDADES!$B:$B,0)),"")} -> PRELIMINARES | D3: {=IFERROR(INDEX(ACTIVIDADES!$G:$G,MATCH(B3,ACTIVIDADES!$B:$B,0)),"")} -> 1260536.7
B4: 2 | C4: {=IFERROR(INDEX(ACTIVIDADES!$C:$C,MATCH(B4,ACTIVIDADES!$B:$B,0)),"")} -> LIMPIEZA Y ROCERIA | D4: {=IFERROR(INDEX(ACTIVIDADES!$G:$G,MATCH(B4,ACTIVIDADES!$B:$B,0)),"")} -> 78449.173
B5: 3 | C5: {=IFERROR(INDEX(ACTIVIDADES!$C:$C,MATCH(B5,ACTIVIDADES!$B:$B,0)),"")} -> RETIROS Y DEMOLICIONES | D5: {=IFERROR(INDEX(ACTIVIDADES!$G:$G,MATCH(B5,ACTIVIDADES!$B:$B,0)),"")} -> 1590515.5
B6: 4 | C6: {=IFERROR(INDEX(ACTIVIDADES!$C:$C,MATCH(B6,ACTIVIDADES!$B:$B,0)),"")} -> MOVIMIENTOS DE TIERRA | D6: {=IFERROR(INDEX(ACTIVIDADES!$G:$G,MATCH(B6,ACTIVIDADES!$B:$B,0)),"")} -> 98423.603
B7: 5 | C7: {=IFERROR(INDEX(ACTIVIDADES!$C:$C,MATCH(B7,ACTIVIDADES!$B:$B,0)),"")} -> CONCRETOS | D7: {=IFERROR(INDEX(ACTIVIDADES!$G:$G,MATCH(B7,ACTIVIDADES!$B:$B,0)),"")} -> 948003.23
B8: 6 | C8: {=IFERROR(INDEX(ACTIVIDADES!$C:$C,MATCH(B8,ACTIVIDADES!$B:$B,0)),"")} -> ACERO DE REFUERZO | D8: {=IFERROR(INDEX(ACTIVIDADES!$G:$G,MATCH(B8,ACTIVIDADES!$B:$B,0)),"")} -> 1805921.7
B9: 7 | C9: {=IFERROR(INDEX(ACTIVIDADES!$C:$C,MATCH(B9,ACTIVIDADES!$B:$B,0)),"")} -> IMPERMEABILIZACIONES | D9: {=IFERROR(INDEX(ACTIVIDADES!$G:$G,MATCH(B9,ACTIVIDADES!$B:$B,0)),"")} -> 946741.64
B10: 8 | C10: {=IFERROR(INDEX(ACTIVIDADES!$C:$C,MATCH(B10,ACTIVIDADES!$B:$B,0)),"")} -> PISOS EN CONCRETO | D10: {=IFERROR(INDEX(ACTIVIDADES!$G:$G,MATCH(B10,ACTIVIDADES!$B:$B,0)),"")} -> 16234701
B11: 9 | C11: {=IFERROR(INDEX(ACTIVIDADES!$C:$C,MATCH(B11,ACTIVIDADES!$B:$B,0)),"")} -> MAMPOSTERIA | D11: {=IFERROR(INDEX(ACTIVIDADES!$G:$G,MATCH(B11,ACTIVIDADES!$B:$B,0)),"")} -> 0
B12: 10 | C12: {=IFERROR(INDEX(ACTIVIDADES!$C:$C,MATCH(B12,ACTIVIDADES!$B:$B,0)),"")} -> CUBIERTA | D12: {=IFERROR(INDEX(ACTIVIDADES!$G:$G,MATCH(B12,ACTIVIDADES!$B:$B,0)),"")} -> 19595685
B13: 11 | C13: {=IFERROR(INDEX(ACTIVIDADES!$C:$C,MATCH(B13,ACTIVIDADES!$B:$B,0)),"")} -> CARPINTERÍA METÁLICA y MADERA | D13: {=IFERROR(INDEX(ACTIVIDADES!$G:$G,MATCH(B13,ACTIVIDADES!$B:$B,0)),"")} -> 60237212
B14: 12 | C14: {=IFERROR(INDEX(ACTIVIDADES!$C:$C,MATCH(B14,ACTIVIDADES!$B:$B,0)),"")} -> REDES HIDROSANITARIAS | D14: {=IFERROR(INDEX(ACTIVIDADES!$G:$G,MATCH(B14,ACTIVIDADES!$B:$B,0)),"")} -> 2128783.6
... B21: 19 | C21: {=IFERROR(INDEX(ACTIVIDADES!$C:$C,MATCH(B21,ACTIVIDADES!$B:$B,0)),"")} -> TRANSPORTE | D21: {=IFERROR(INDEX(ACTIVIDADES!$G:$G,MATCH(B21,ACTIVIDADES!$B:$B,0)),"")} -> 47169.5
C23: COSTO OBRA CIVIL E INSTALACIONES ANTES DE A.U. | D23: =SUM(D3:D22) -> 1.6372018e+08
C25: ADMINISTRACIÓN | D25: =+ACTIVIDADES!G208 -> 49476447
C26: UTILIDAD | D26: =+ACTIVIDADES!G209 -> 8186008.8
C28: COSTO DIRECTO TOTAL | D28: =+D23+D25+D26 -> 2.2138263e+08
C30: PGIO | D30: =+ACTIVIDADES!G214 -> 1444227
C31: POLIZAS | D31: =+ACTIVIDADES!G213 -> 1698044
C32: INTERVENTORIA | D32: =+ACTIVIDADES!G216 -> 0
C34: OTROS | D34: =+ACTIVIDADES!G220 -> 0
C36: COSTOS INDIRECTOS | D36: =+D30+D31+D32+D34 -> 3142271
C38: COSTO TOTAL PROYECTO | D38: =+D36+D28 -> 2.245249e+08

Sheet ACTIVIDADES
B2: MANTENIMIENTO RESTAURANTES ESCOLARES
B3: GOBERNACION DE ANTIOQUIA
C5: PRESUPUESTO POR ACTIVIDADES
B7: ITEM | C7: DESCRIPCIÓN | D7: UNIDAD | E7: CANTIDAD | F7: VR UNITARIO | G7: VR TOTAL
B8: 1 | C8: PRELIMINARES | G8: =SUM(G9) -> 1260536.7
B9: =+B8+0.01 -> 1.01 | C9: Suministro e Instalación de CERRAMIENTO PROVISIONAL en tela naranja con una altura de 2,1 m. y estructura en larguero común. Incluye suministro, transporte, instalación y desmonte de la tela , excavación manual en cualquier material y todos los demás elementos necesarios para su correcta instalación. | D9: m | E9: {=INDEX(MEMORIAS!I:I,MATCH(ACTIVIDADES!B9,MEMORIAS!B:B,0))} -> 92.8993 | F9: =INDEX(APU!I:I,MATCH(B9,APU!J:J,0)) -> 13568.85 | G9: =IFERROR(E9*F9,0) -> 1260536.7
B10: 2 | C10: LIMPIEZA Y ROCERIA | G10: =SUM(G11:G12) -> 78449.173
B11: =+B10+0.01 -> 2.01 | C11: Limpieza de cajas y/o sumideros manualmente. Incluye acarreo interno, cargue, transporte botada de material producto de la actividad y todo lo necesario para correcta ejecución de la actividad. | D11: un | E11: {=INDEX(MEMORIAS!I:I,MATCH(ACTIVIDADES!B11,MEMORIAS!B:B,0))} -> 4 | F11: =INDEX(APU!I:I,MATCH(B11,APU!J:J,0)) -> 19612.293 | G11: =IFERROR(E11*F11,0) -> 78449.173
B12: =+B11+0.01 -> 2.02 | C12: Limpieza de cunetas, incluye: Acarreo interno, cargue, transporte y botada de escombros y material producto de la actividad y todo lo necesario para la correcta ejecución de la actividad. | D12: ml | E12: {=INDEX(MEMORIAS!I:I,MATCH(ACTIVIDADES!B12,MEMORIAS!B:B,0))} -> 0 | F12: =INDEX(APU!I:I,MATCH(B12,APU!J:J,0)) -> 5732.9504 | G12: =IFERROR(E12*F12,0) -> 0
B13: 3 | C13: RETIROS Y DEMOLICIONES | G13: =SUM(G14:G34) -> 1590515.5
B14: =+B13+0.01 -> 3.01 | C14: RETIRO Y BOTADA DE CUBIERTA DE TEJA DE BARRO. | D14: m² | E14: {=INDEX(MEMORIAS!I:I,MATCH(ACTIVIDADES!B14,MEMORIAS!B:B,0))} -> 0 | F14: =INDEX(APU!I:I,MATCH(B14,APU!J:J,0)) -> 26039.926 | G14: =IFERROR(E14*F14,0) -> 0
B15: =+B14+0.01 -> 3.02 | C15: RETIRO Y BOTADA DE CUBIERTA EN FIBROCEMENTO O ASBESTO CEMENTO en mal estado. | D15: m² | E15: {=INDEX(MEMORIAS!I:I,MATCH(ACTIVIDADES!B15,MEMORIAS!B:B,0))} -> 0 | F15: =INDEX(APU!I:I,MATCH(B15,APU!J:J,0)) -> 25382.778 | G15: =IFERROR(E15*F15,0) -> 0
B16: =+B15+0.01 -> 3.03 | C16: RETIRO Y BOTADA DE CUBIERTA EN ZINC O EN OTROS MATERIALES NO CONVENCIONALES | D16: m² | E16: {=INDEX(MEMORIAS!I:I,MATCH(ACTIVIDADES!B16,MEMORIAS!B:B,0))} -> 0 | F16: =INDEX(APU!I:I,MATCH(B16,APU!J:J,0)) -> 21513.848 | G16: =IFERROR(E16*F16,0) -> 0
B17: =+B16+0.01 -> 3.04 | C17: RETIRO Y BOTADA DE CANOAS y RUANAS. | D17: m | E17: {=INDEX(MEMORIAS!I:I,MATCH(ACTIVIDADES!B17,MEMORIAS!B:B,0))} -> 0 | F17: =INDEX(APU!I:I,MATCH(B17,APU!J:J,0)) -> 9135.9508 | G17: =IFERROR(E17*F17,0) -> 0
B18: =+B17+0.01 -> 3.05 | C18: RETIRO Y BOTADA DE BAJANTES Y/O TUBERÍA EXPUESTA en mal estado. | D18: m | E18: {=INDEX(MEMORIAS!I:I,MATCH(ACTIVIDADES!B18,MEMORIAS!B:B,0))} -> 0 | F18: =INDEX(APU!I:I,MATCH(B18,APU!J:J,0)) -> 4563.6504 | G18: =IFERROR(E18*F18,0) -> 0
B19: =+B18+0.01 -> 3.06 | C19: RETIRO Y BOTADA DE VENTANAS (marco y alas). | D19: un | E19: {=INDEX(MEMORIAS!I:I,MATCH(ACTIVIDADES!B19,MEMORIAS!B:B,0))} -> 3 | F19: =INDEX(APU!I:I,MATCH(B19,APU!J:J,0)) -> 23928.261 | G19: =IFERROR(E19*F19,0) -> 71784.782
B20: =+B19+0.01 -> 3.07 | C20: RETIRO Y DE PUERTAS (marco y ala). | D20: un | E20: {=INDEX(MEMORIAS!I:I,MATCH(ACTIVIDADES!B20,MEMORIAS!B:B,0))} -> 0 | F20: =INDEX(APU!I:I,MATCH(B20,APU!J:J,0)) -> 36468.489 | G20: =IFERROR(E20*F20,0) -> 0
B21: =+B20+0.01 -> 3.08 | C21: RETIRO Y DE LAVAMANOS en mal estado. | D21: un | E21: {=INDEX(MEMORIAS!I:I,MATCH(ACTIVIDADES!B21,MEMORIAS!B:B,0))} -> 2 | F21: =INDEX(APU!I:I,MATCH(B21,APU!J:J,0)) -> 23650.752 | G21: =IFERROR(E21*F21,0) -> 47301.504
B22: =+B21+0.01 -> 3.09 | C22: RETIRO Y DE SANITARIO en mal estado. | D22: un | E22: {=INDEX(MEMORIAS!I:I,MATCH(ACTIVIDADES!B22,MEMORIAS!B:B,0))} -> 0 | F22: =INDEX(APU!I:I,MATCH(B22,APU!J:J,0)) -> 45565.504 | G22: =IFERROR(E22*F22,0) -> 0
B23: =+B22+0.01 -> 3.1 | C23: RETIRO Y BOTADA DE RED HIDROSANITARIA EN GENERAL en mal estado. Incluye cancha de piso y/o muro, retiro de cualquier de cualquier tipo de accesorio. Hasta diámetro 1 1/2"" | D23: m | E23: {=INDEX(MEMORIAS!I:I,MATCH(ACTIVIDADES!B23,MEMORIAS!B:B,0))} -> 2 | F23: =INDEX(APU!I:I,MATCH(B23,APU!J:J,0)) -> 17806.261 | G23: =IFERROR(E23*F23,0) -> 35612.521
B24: =+B23+0.01 -> 3.11 | C24: RETIRO DE TUBERÍA ELECTRICA PVC Y/O TUBERÍA EMT, incluye cableado, grapas, cajas, aparatos (suiches, tomas, datos, luminarias, tableros, accesorios y demas elementos que lo componen), disposición final de tubería retirada, cableado y demas elementos | D24: m | E24: {=INDEX(MEMORIAS!I:I,MATCH(ACTIVIDADES!B24,MEMORIAS!B:B,0))} -> 0 | F24: =INDEX(APU!I:I,MATCH(B24,APU!J:J,0)) -> 17581.261 | G24: =IFERROR(E24*F24,0) -> 0
B25: =+B24+0.01 -> 3.12 | C25: RETIRO ESTRUCTURA METALICA HASTA 6 MTS DE LONGITUD Y 12KG/ML | D25: ml | E25: {=INDEX(MEMORIAS!I:I,MATCH(ACTIVIDADES!B25,MEMORIAS!B:B,0))} -> 0 | F25: =INDEX(APU!I:I,MATCH(B25,APU!J:J,0)) -> 17223.064 | G25: =IFERROR(E25*F25,0) -> 0
... B34: =+B33+0.01 -> 3.21 | C34: DEMOLICIÓN BANCA Y/O MESÓN EN CONCRETO. INCLUYE BOTADA DE ESCOMBROS | D34: m | E34: {=INDEX(MEMORIAS!I:I,MATCH(ACTIVIDADES!B34,MEMORIAS!B:B,0))} -> 7 | F34: =INDEX(APU!I:I,MATCH(B34,APU!J:J,0)) -> 24348.585 | G34: =IFERROR(E34*F34,0) -> 170440.09
B35: 4 | C35: MOVIMIENTOS DE TIERRA | G35: =SUM(G36:G40) -> 98423.603
B36: =+B35+0.01 -> 4.01 | C36: EXCAVACIÓN MANUAL de material heterogéneo DE 0-2 m., bajo cualquier grado de humedad. Incluye: roca descompuesta, bolas de roca de volumen inferior a 0.35 m³., el cargue, transporte interno y externo, botada de material proveniente de las excavaciones en los sitios donde lo indique la interventoría y su medida será en el sitio. | D36: m³ | E36: {=INDEX(MEMORIAS!I:I,MATCH(ACTIVIDADES!B36,MEMORIAS!B:B,0))} -> 1.28 | F36: =INDEX(APU!I:I,MATCH(B36,APU!J:J,0)) -> 76893.44 | G36: =IFERROR(E36*F36,0) -> 98423.603
B37: =+B36+0.01 -> 4.02 | C37: EXPLANACIÓN Y NIVELACIÓN del terreno manualmente, bajo cualquier grado de humedad, incluye corte de taludes y terraceos requeridos según planos y/o definidos por la interventoría. Medido in situ. No Incluye cargue, transporte y botada. | D37: m3 | E37: {=INDEX(MEMORIAS!I:I,MATCH(ACTIVIDADES!B37,MEMORIAS!B:B,0))} -> 0 | F37: =INDEX(APU!I:I,MATCH(B37,APU!J:J,0)) -> 13696.72 | G37: =IFERROR(E37*F37,0) -> 0
B38: =+B37+0.01 -> 4.03 | C38: LLENOS EN MATERIAL PROVENIENTES DE LA EXCAVACIÓN, compactados manualmente hasta obtener una densidad del 95%, aprobada por Interventoría. Incluye transporte interno. Su medida será en sitio ya compactado. | D38: m3 | E38: {=INDEX(MEMORIAS!I:I,MATCH(ACTIVIDADES!B38,MEMORIAS!B:B,0))} -> 0 | F38: =INDEX(APU!I:I,MATCH(B38,APU!J:J,0)) -> 21191.152 | G38: =IFERROR(E38*F38,0) -> 0
B39: =+B38+0.01 -> 4.04 | C39: LLENOS EN ARENILLA, compactados manualmente en capas de 5 a 10 cms hasta obtener uan densidad del 95%. Incluye el suministro, transporte, colocación de la arenilla, la compactación de la misma y transporte interno. Y su medida será en sitio ya compactado. | D39: m³ | E39: {=INDEX(MEMORIAS!I:I,MATCH(ACTIVIDADES!B39,MEMORIAS!B:B,0))} -> 0 | F39: =INDEX(APU!I:I,MATCH(B39,APU!J:J,0)) -> 107767.63 | G39: =IFERROR(E39*F39,0) -> 0
B40: =+B39+0.01 -> 4.05 | C40: Suministro, transporte y colocación de ENTRESUELO MAS RECEBO con un espesor de 20 cm; conformado con piedra de entresuelo de 15 cm y recebo en arenilla espesor 5 cm; incluye nivelación, compactación y todos los demás elementos necesarios para su correcta colocación. | D40: m² | E40: {=INDEX(MEMORIAS!I:I,MATCH(ACTIVIDADES!B40,MEMORIAS!B:B,0))} -> 0 | F40: =INDEX(APU!I:I,MATCH(B40,APU!J:J,0)) -> 74815.989 | G40: =IFERROR(E40*F40,0) -> 0
B41: 5 | C41: CONCRETOS | G41: =SUM(G42:G53) -> 948003.23
B42: =+B41+0.01 -> 5.01 | C42: Colocación de concreto de 14 Mpa para SOLADO, con un espesor de 0.05 m. Incluye el suministro y el transporte del concreto y todos los demás elementos necesarios para su correcta construcción, incluye acarreo interno. | D42: m² | E42: {=INDEX(MEMORIAS!I:I,MATCH(ACTIVIDADES!B42,MEMORIAS!B:B,0))} -> 0 | F42: =INDEX(APU!I:I,MATCH(B42,APU!J:J,0)) -> 43540.66 | G42: =IFERROR(E42*F42,0) -> 0
B43: =+B42+0.01 -> 5.02 | C43: Colocación de concreto de 21 Mpa para PILOTES Ø= 30cm. HASTA 80 cms. de profundidad. Incluye suministro y el transporte del concreto, mano de obra, vibrado, protección y curado, para estructuras de acuerdo con las diferentes dimensiones establecidas en los planos y diseños. No incluye refuerzo. | D43: m³ | E43: {=INDEX(MEMORIAS!I:I,MATCH(ACTIVIDADES!B43,MEMORIAS!B:B,0))} -> 0 | F43: =INDEX(APU!I:I,MATCH(B43,APU!J:J,0)) -> 168548.63 | G43: =IFERROR(E43*F43,0) -> 0
B44: =+B43+0.01 -> 5.03 | C44: Colocación de concreto de 21 Mpa para MICROPILOTES Ø= 15cm. HASTA 80 cms. de profundidad. Incluye suministro y el transporte del concreto, mano de obra, vibrado, protección y curado, para estructuras de acuerdo con las diferentes dimensiones establecidas en los planos y diseños. No incluye refuerzo. | D44: m | E44: {=INDEX(MEMORIAS!I:I,MATCH(ACTIVIDADES!B44,MEMORIAS!B:B,0))} -> 0 | F44: =INDEX(APU!I:I,MATCH(B44,APU!J:J,0)) -> 24163.28 | G44: =IFERROR(E44*F44,0) -> 0
B45: =+B44+0.01 -> 5.04 | C45: Recintes en CONCRETO CICLÓPEO para reemplazos en terrenos socavados. | D45: m³ | E45: {=INDEX(MEMORIAS!I:I,MATCH(ACTIVIDADES!B45,MEMORIAS!B:B,0))} -> 0 | F45: =INDEX(APU!I:I,MATCH(B45,APU!J:J,0)) -> 551775.46 | G45: =IFERROR(E45*F45,0) -> 0
B46: =+B45+0.01 -> 5.05 | C46: Suministro e instalación de concreto de VIGAS DE CIMENTACIÓN resistencia f'c = 21 MPa (3.000 psi.). Con impermeabilizante integral tipo Plastocrete Dm o equivalente. Incluye el suministro del concreto, mano de obra, vibrado, protección y curado, para estructuras de acuerdo con las diferentes dimensiones establecidas en los planos y diseños. incluye acarreo interno. No incluye refuerzo. | D46: m³ | E46: {=INDEX(MEMORIAS!I:I,MATCH(ACTIVIDADES!B46,MEMORIAS!B:B,0))} -> 0 | F46: =INDEX(APU!I:I,MATCH(B46,APU!J:J,0)) -> 847209.95 | G46: =IFERROR(E46*F46,0) -> 0
B47: =+B46+0.01 -> 5.06 | C47: Suministro e instalación de concreto de VIGAS DE AMARRE resistencia f'c = 21 MPa (3.000 psi.). Con impermeabilizante integral tipo Plastocrete Dm o equivalente. Incluye el suministro del concreto, mano de obra, vibrado, protección y curado, para estructuras de acuerdo con las diferentes dimensiones establecidas en los planos y diseños. incluye acarreo interno. No incluye refuerzo. | D47: m³ | E47: {=INDEX(MEMORIAS!I:I,MATCH(ACTIVIDADES!B47,MEMORIAS!B:B,0))} -> 0 | F47: =INDEX(APU!I:I,MATCH(B47,APU!J:J,0)) -> 847306.66 | G47: =IFERROR(E47*F47,0) -> 0
B48: =+B47+0.01 -> 5.07 | C48: Construcción de GRADERÍAS SOBRE TIERRA en concreto de 21 Mpa. a la vista, con un desarrollo de 1.35 m (contra huella de 0.50 m y huella de 0.85 m). Incluye suministro, transporte y colocación del concreto, mano de obra, formaleta, chaflán en contrahuellas, vibrado, protección, malla electrosoldada D-106, curado, nivelación, conformación y compactación del terreno y todo lo requerido para su correcta construcción. Según diseño. El acero de refuerzo se paga en su respectivo ítem, el entresuelo de ser necesario se pagara en su ítem respectivo. | D48: m | E48: {=INDEX(MEMORIAS!I:I,MATCH(ACTIVIDADES!B48,MEMORIAS!B:B,0))} -> 0 | F48: =INDEX(APU!I:I,MATCH(B48,APU!J:J,0)) -> 311477.31 | G48: =IFERROR(E48*F48,0) -> 0
B49: =+B48+0.01 -> 5.08 | C49: Construcción de CUNETA EN "V" en concreto de 21 Mpa., DESARROLLO DE 0.75 m., ESPESOR DE 0.10 m. Incluye suministro, transporte y colocación del concreto, entresuelo 15 cm de piedra y 5 cm de arenilla y todos lo demás elementos necesario para su correcta construcción. | D49: m | E49: {=INDEX(MEMORIAS!I:I,MATCH(ACTIVIDADES!B49,MEMORIAS!B:B,0))} -> 0 | F49: =INDEX(APU!I:I,MATCH(B49,APU!J:J,0)) -> 95757.26 | G49: =IFERROR(E49*F49,0) -> 0
B50: =+B49+0.01 -> 5.09 | C50: Construcción de CAJA DE INSPECCIÓN Y/O EMPALME de 40x40x40 cm en concreto de 17.5Mpa, medidas internas (L=40cm). Incluye suministro, transporte e instalación de los materiales, tapa y herraje y todos los elementos necesarios para su correcta construcción y funcionamiento. Según normas técnicas de EEPP de Medellín. La excavación, llenos, entresuelo y acero de refuerzo se pagarán en su ítem respectivo. | D50: un | E50: {=INDEX(MEMORIAS!I:I,MATCH(ACTIVIDADES!B50,MEMORIAS!B:B,0))} -> 2 | F50: =INDEX(APU!I:I,MATCH(B50,APU!J:J,0)) -> 474001.62 | G50: =IFERROR(E50*F50,0) -> 948003.23
B51: =+B50+0.01 -> 5.1 | C51: Columna de 30cmx30cm | D51: m3 | E51: {=INDEX(MEMORIAS!I:I,MATCH(ACTIVIDADES!B51,MEMORIAS!B:B,0))} -> 0 | F51: =INDEX(APU!I:I,MATCH(B51,APU!J:J,0)) -> 179811.15 | G51: =IFERROR(E51*F51,0) -> 0
...

Sheet MEMORIAS
B2: DEPARTAMENTO DE ANTIOQUIA | M2: I.E. SAN JOSE PRIMARIA | N2: I.E. SAN JOSE SECUNDARIA | O2: I.E. LOS ANGELES
B3: MEMORIA DE OBRA
B4: =+ACTIVIDADES!$B$2 -> MANTENIMIENTO RESTAURANTES ESCOLARES
B5: ITEM | C5: DESCRIPCIÓN | H5: UNIDAD | I5: CANTIDAD | M5: =SUMIF(B:B,"*PRIMARIA*",K:K) -> 54128747 | N5: =SUMIF(B:B,"*SECUNDARIA*",K:K) -> 63893352 | O5: =SUMIF(B:B,"*ANGELES*",K:K) -> 45698077
B6: =+ACTIVIDADES!B9 -> 1.01 | C6: {=INDEX(ACTIVIDADES!$C:$C,MATCH(B6,ACTIVIDADES!$B:$B,0))} -> Suministro e Instalación de CERRAMIENTO PROVISIONAL en tela naranja con una altura de 2,1 m. y estructura en larguero común. Incluye suministro, transporte, instalación y desmonte de la tela , excavación manual en cualquier material y todos los demás elementos necesarios para su correcta instalación. | H6: {=INDEX(ACTIVIDADES!$D:$D,MATCH(B6,ACTIVIDADES!$B:$B,0))} -> m | I6: =I13 -> 92.8993 | K6: =INDEX(ACTIVIDADES!$F$9:$F$204,MATCH(MEMORIAS!B6,ACTIVIDADES!$B$9:$B$204,0)) -> 13568.85
B7: DETALLE | E7: LONGITUD (m) | F7: BASE / ANCHO (m) | G7: PROF / ALTURA (m) | H7: CANT. | I7: TOTAL
B8: I.E. SAN JOSE PRIMARIA | E8: 15 | H8: 1 | I8: =IF(E8="",1,E8)*IF(F8="",1,F8)*IF(G8="",1,G8)*H8 -> 15 | K8: =+I8*K6 -> 203532.75
B9: I.E. SAN JOSE SECUNDARIA | E9: 30 | H9: 1 | I9: =IF(E9="",1,E9)*IF(F9="",1,F9)*IF(G9="",1,G9)*H9 -> 30 | K9: =+I9*K6 -> 407065.51
B10: I.E. LOS ANGELES | E10: 23.94965 | H10: 2 | I10: =IF(E10="",1,E10)*IF(F10="",1,F10)*IF(G10="",1,G10)*H10 -> 47.8993 | K10: =+I10*K6 -> 649938.43
I11: =IF(E11="",1,E11)*IF(F11="",1,F11)*IF(G11="",1,G11)*H11 -> 0 | K11: =+I11*K6 -> 0
I12: =IF(E12="",1,E12)*IF(F12="",1,F12)*IF(G12="",1,G12)*H12 -> 0 | K12: =+I12*K6 -> 0
B13: TOTAL CANTIDAD | I13: =SUM(I8:I12) -> 92.8993
B14: INSERTE PLANO, GRÁFICO O ESQUEMA AQUÍ
B26: DEPARTAMENTO DE ANTIOQUIA
B27: MEMORIA DE OBRA
B28: =+ACTIVIDADES!$B$2 -> MANTENIMIENTO RESTAURANTES ESCOLARES
B29: ITEM | C29: DESCRIPCIÓN | H29: UNIDAD | I29: CANTIDAD
B30: =+ACTIVIDADES!B11 -> 2.01 | C30: {=INDEX(ACTIVIDADES!$C:$C,MATCH(B30,ACTIVIDADES!$B:$B,0))} -> Limpieza de cajas y/o sumideros manualmente. Incluye acarreo interno, cargue, transporte botada de material producto de la actividad y todo lo necesario para correcta ejecución de la actividad. | H30: {=INDEX(ACTIVIDADES!$D:$D,MATCH(B30,ACTIVIDADES!$B:$B,0))} -> un | I30: =I37 -> 4 | K30: =INDEX(ACTIVIDADES!$F$9:$F$204,MATCH(MEMORIAS!B30,ACTIVIDADES!$B$9:$B$204,0)) -> 19612.293
B31: DETALLE | E31: LONGITUD (m) | F31: BASE / ANCHO (m) | G31: PROF / ALTURA (m) | H31: CANT. | I31: TOTAL
B32: I.E. SAN JOSE SECUNDARIA | H32: 2 | I32: =IF(E32="",1,E32)*IF(F32="",1,F32)*IF(G32="",1,G32)*H32 -> 2 | K32: =+I32*K30 -> 39224.587
B33: I.E. LOS ANGELES | H33: 1 | I33: =IF(E33="",1,E33)*IF(F33="",1,F33)*IF(G33="",1,G33)*H33 -> 1 | K33: =+I33*K30 -> 19612.293
B34: I.E. LOS ANGELES | H34: 1 | I34: =IF(E34="",1,E34)*IF(F34="",1,F34)*IF(G34="",1,G34)*H34 -> 1 | K34: =+I34*K30 -> 19612.293
I35: =IF(E35="",1,E35)*IF(F35="",1,F35)*IF(G35="",1,G35)*H35 -> 0 | K35: =+I35*K30 -> 0
I36: =IF(E36="",1,E36)*IF(F36="",1,F36)*IF(G36="",1,G36)*H36 -> 0 | K36: =+I36*K30 -> 0
B37: TOTAL CANTIDAD | I37: =SUM(I32:I36) -> 4
B50: DEPARTAMENTO DE ANTIOQUIA
B51: MEMORIA DE OBRA
B52: =+ACTIVIDADES!$B$2 -> MANTENIMIENTO RESTAURANTES ESCOLARES
B53: ITEM | C53: DESCRIPCIÓN | H53: UNIDAD | I53: CANTIDAD
B54: =+ACTIVIDADES!B12 -> 2.02 | C54: {=INDEX(ACTIVIDADES!$C:$C,MATCH(B54,ACTIVIDADES!$B:$B,0))} -> Limpieza de cunetas, incluye: Acarreo interno, cargue, transporte y botada de escombros y material producto de la actividad y todo lo necesario para la correcta ejecución de la actividad. | H54: {=INDEX(ACTIVIDADES!$D:$D,MATCH(B54,ACTIVIDADES!$B:$B,0))} -> ml | I54: =I61 -> 0
B55: DETALLE | E55: LONGITUD (m) | F55: BASE / ANCHO (m) | G55: PROF / ALTURA (m) | H55: CANT. | I55: TOTAL
I56: =IF(E56="",1,E56)*IF(F56="",1,F56)*IF(G56="",1,G56)*H56 -> 0
I57: =IF(E57="",1,E57)*IF(F57="",1,F57)*IF(G57="",1,G57)*H57 -> 0
I58: =IF(E58="",1,E58)*IF(F58="",1,F58)*IF(G58="",1,G58)*H58 -> 0
I59: =IF(E59="",1,E59)*IF(F59="",1,F59)*IF(G59="",1,G59)*H59 -> 0
I60: =IF(E60="",1,E60)*IF(F60="",1,F60)*IF(G60="",1,G60)*H60 -> 0
B61: TOTAL CANTIDAD | I61: =SUM(I56:I60) -> 0
B62: INSERTE PLANO, GRÁFICO O ESQUEMA AQUÍ
B74: DEPARTAMENTO DE ANTIOQUIA
B75: MEMORIA DE OBRA
...

Sheet APU
C2: =+ACTIVIDADES!B2 -> MANTENIMIENTO RESTAURANTES ESCOLARES
C3: =+ACTIVIDADES!B3 -> GOBERNACION DE ANTIOQUIA
B5: ITEM | C5: =INDEX(ACTIVIDADES!$C:$C,MATCH(B6,ACTIVIDADES!$B:$B,0)) -> Suministro e Instalación de CERRAMIENTO PROVISIONAL en tela naranja con una altura de 2,1 m. y estructura en larguero común. Incluye suministro, transporte, instalación y desmonte de la tela , excavación manual en cualquier material y todos los demás elementos necesarios para su correcta instalación. | H5: % MAT | I5: % M.O.
B6: =+ACTIVIDADES!B9 -> 1.01 | H6: =IF(I9=0,0,I19/I9) -> 0.8384922 | I6: =IF(I9=0,0,I25/I9) -> 0.15236585
H7: % Eq y Hta | I7: % Ttes
B8: UNIDAD | H8: =IF(I9=0,0,I31/I9) -> 0.0076182927 | I8: =IF(I9=0,0,I37/I9) -> 0.0015236585
B9: =INDEX(ACTIVIDADES!$D:$D,MATCH(B6,ACTIVIDADES!$B:$B,0)) -> m | H9: VALOR UNITARIO | I9: =SUM(I19:I37) -> 13568.85 | J9: =+B6 -> 1.01
C10: MATERIALES
B11: CODIGO | C11: Descripción | D11: Unidad | E11: Cantidad | F11: Precio Unit. | G11: % Desp | H11: Vr. Unitario
C12: Tela cerramiento obra verde, ancho: 2.10 m. Incluye transporte externo e interno. | D12: =IFERROR(INDEX(INSUMOS!$C:$C,MATCH(C12,INSUMOS!$B:$B,0)),"") -> m | E12: 1 | F12: =IFERROR(INDEX(INSUMOS!$D:$D,MATCH(C12,INSUMOS!$B:$B,0)),"") -> 2800 | G12: 0.05 | H12: =IFERROR(G12*F12*E12+F12*E12,0) -> 2940
C13: Taco redondo de madera de 3.0m x 2.89m | D13: =IFERROR(INDEX(INSUMOS!$C:$C,MATCH(C13,INSUMOS!$B:$B,0)),"") -> un | E13: 1 | F13: =IFERROR(INDEX(INSUMOS!$D:$D,MATCH(C13,INSUMOS!$B:$B,0)),"") -> 4050 | H13: =IFERROR(G13*F13*E13+F13*E13,0) -> 4050
C14: Clavo común de 1". Caja x 500gr. | D14: =IFERROR(INDEX(INSUMOS!$C:$C,MATCH(C14,INSUMOS!$B:$B,0)),"") -> lb | E14: 0.04 | F14: =IFERROR(INDEX(INSUMOS!$D:$D,MATCH(C14,INSUMOS!$B:$B,0)),"") -> 5512 | H14: =IFERROR(G14*F14*E14+F14*E14,0) -> 220.48
C15: Listón madera común de 2"x1" | D15: =IFERROR(INDEX(INSUMOS!$C:$C,MATCH(C15,INSUMOS!$B:$B,0)),"") -> un | E15: 0.5 | F15: =IFERROR(INDEX(INSUMOS!$D:$D,MATCH(C15,INSUMOS!$B:$B,0)),"") -> 5000 | H15: =IFERROR(G15*F15*E15+F15*E15,0) -> 2500
C16: Alambre recocido C 18 | D16: =IFERROR(INDEX(INSUMOS!$C:$C,MATCH(C16,INSUMOS!$B:$B,0)),"") -> kg | E16: 0.215 | F16: =IFERROR(INDEX(INSUMOS!$D:$D,MATCH(C16,INSUMOS!$B:$B,0)),"") -> 7753 | H16: =IFERROR(G16*F16*E16+F16*E16,0) -> 1666.895
D17: =IFERROR(INDEX(INSUMOS!$C:$C,MATCH(C17,INSUMOS!$B:$B,0)),"") | F17: =IFERROR(INDEX(INSUMOS!$D:$D,MATCH(C17,INSUMOS!$B:$B,0)),"") | H17: =IFERROR(G17*F17*E17+F17*E17,0) -> 0
D18: =IFERROR(INDEX(INSUMOS!$C:$C,MATCH(C18,INSUMOS!$B:$B,0)),"") | F18: =IFERROR(INDEX(INSUMOS!$D:$D,MATCH(C18,INSUMOS!$B:$B,0)),"") | H18: =IFERROR(G18*F18*E18+F18*E18,0) -> 0
H19: Subtotal | I19: =SUM(H12:H18) -> 11377.375
C20: MANO DE OBRA
B21: CODIGO | C21: Descripción | D21: CANT | E21: Jornal Dia + Prest. | G21: Rend/Dia | H21: Vr. Unitario
C22: Ayudante raso | D22: 2 | E22: =IFERROR(INDEX('MANO DE OBRA'!$F:$F,MATCH(C22,'MANO DE OBRA'!$B:$B,0)),"") -> 0.77116643 | F22: =IFERROR(INDEX('MANO DE OBRA'!$J:$J,MATCH(C22,'MANO DE OBRA'!$B:$B,0)),"") -> 103371.47 | G22: 100 | H22: =IFERROR((F22/G22)*D22,0) -> 2067.4294
E23: =IFERROR(INDEX('MANO DE OBRA'!$F:$F,MATCH(C23,'MANO DE OBRA'!$B:$B,0)),"") | F23: =IFERROR(INDEX('MANO DE OBRA'!$J:$J,MATCH(C23,'MANO DE OBRA'!$B:$B,0)),"") | G23: =+G22 -> 100 | H23: =IFERROR((F23/G23)*D23,0) -> 0
E24: =IFERROR(INDEX('MANO DE OBRA'!$F:$F,MATCH(C24,'MANO DE OBRA'!$B:$B,0)),"") | F24: =IFERROR(INDEX('MANO DE OBRA'!$J:$J,MATCH(C24,'MANO DE OBRA'!$B:$B,0)),"") | H24: =IFERROR((F24/G24)*D24,0) -> 0
H25: Subtotal | I25: =SUM(H22:H24) -> 2067.4294
C26: EQUIPOS Y HERRAMIENTA
B27: CODIGO | C27: Descripción | D27: % | E27: UNIDAD | F27: Tarifa/Hora | G27: Rendimiento | H27: Vr. Unitario
C28: HERRAMIENTA MENOR | D28: 0.05 | F28: =+I25 -> 2067.4294 | G28: 1 | H28: =IFERROR(G28*F28*D28,0) -> 103.37147
E29: =IFERROR(INDEX(INSUMOS!$C:$C,MATCH(C29,INSUMOS!$B:$B,0)),"") | H29: =IFERROR(G29*F29,0) -> 0
E30: =IFERROR(INDEX(INSUMOS!$C:$C,MATCH(C30,INSUMOS!$B:$B,0)),"") | H30: =IFERROR(G30*F30,0) -> 0
H31: Subtotal | I31: =SUM(H28:H30) -> 103.37147
C32: TRANSPORTE
B33: CODIGO | C33: Descripción | D33: % | E33: UNIDAD | F33: Tarifa/Hora | G33: Rendimiento | H33: Vr. Unitario
C34: ACARREO INTERNO | D34: 0.01 | E34: 1 | F34: =+I25 -> 2067.4294 | G34: 0.01 | H34: =IFERROR(G34*F34,0) -> 20.674294
E35: =IFERROR(INDEX(INSUMOS!$C:$C,MATCH(C35,INSUMOS!$B:$B,0)),"") | F35: =IFERROR(INDEX(INSUMOS!$D:$D,MATCH(C35,INSUMOS!$B:$B,0)),"") | H35: =IFERROR(G35*F35,0) -> 0
D36: =IFERROR(INDEX(INSUMOS!$C:$C,MATCH(C36,INSUMOS!$B:$B,0)),"") | F36: =IFERROR(INDEX(INSUMOS!$D:$D,MATCH(C36,INSUMOS!$B:$B,0)),"") | H36: =IFERROR(G36*F36,0) -> 0
H37: Subtotal | I37: =SUM(H34:H36) -> 20.674294
C39: =+$C$2 -> MANTENIMIENTO RESTAURANTES ESCOLARES
C40: =+$C$3 -> GOBERNACION DE ANTIOQUIA
B42: ITEM | C42: =INDEX(ACTIVIDADES!$C:$C,MATCH(B43,ACTIVIDADES!$B:$B,0)) -> Limpieza de cajas y/o sumideros manualmente. Incluye acarreo interno, cargue, transporte botada de material producto de la actividad y todo lo necesario para correcta ejecución de la actividad. | H42: % MAT | I42: % M.O.
B43: =+ACTIVIDADES!B11 -> 2.01 | H43: =IF(I46=0,0,I57/I46) -> 0 | I43: =IF(I46=0,0,I63/I46) -> 0.87845813
H44: % Eq y Hta | I44: % Ttes
...

Sheet APA
B2: ITEM | C2: CONCRETO 1:2:3 ½ OBRA (3000psi) - 210K/CM2 | H2: % MAT | I2: % M.O.
H3: =IF(I6=0,0,I17/I6) -> 0.68984768 | I3: =IF(I6=0,0,I23/I6) -> 0.23302877
H4: % Eq y Hta | I4: % Ttes
B5: Unid. | H5: =IF(I6=0,0,I29/I6) -> 0.015630446 | I5: =IF(I6=0,0,I35/I6) -> 0.06149311
B6: m3 | H6: VALOR UNITARIO | I6: =SUM(I17:I35) -> 686100.74
C7: MATERIALES
B8: CODIGO | C8: Descripción | D8: Unid. | E8: Cantidad | F8: Precio Unit. | G8: % Desp | H8: Vr. Unitario
C9: TRIRURADO 1/2". | D9: {=IFERROR(INDEX(INSUMOS!$C:$C,MATCH(C9,INSUMOS!$B:$B,0)),"")} -> m3 | E9: 0.9 | F9: {=IFERROR(INDEX(INSUMOS!$D:$D,MATCH(C9,INSUMOS!$B:$B,0)),"")} -> 110000 | H9: =IFERROR(G9*F9*E9+F9*E9,0) -> 99000
C10: AGUA | D10: {=IFERROR(INDEX(INSUMOS!$C:$C,MATCH(C10,INSUMOS!$B:$B,0)),"")} -> lts | E10: 182 | F10: {=IFERROR(INDEX(INSUMOS!$D:$D,MATCH(C10,INSUMOS!$B:$B,0)),"")} -> 182 | H10: =IFERROR(G10*F10*E10+F10*E10,0) -> 33124
C11: ARENA DE CONCRETO | D11: {=IFERROR(INDEX(INSUMOS!$C:$C,MATCH(C11,INSUMOS!$B:$B,0)),"")} -> m3 | E11: 0.515 | F11: {=IFERROR(INDEX(INSUMOS!$D:$D,MATCH(C11,INSUMOS!$B:$B,0)),"")} -> 135000 | H11: =IFERROR(G11*F11*E11+F11*E11,0) -> 69525
C12: Cemento Gris | D12: {=IFERROR(INDEX(INSUMOS!$C:$C,MATCH(C12,INSUMOS!$B:$B,0)),"")} -> sac | E12: 7 | F12: {=IFERROR(INDEX(INSUMOS!$D:$D,MATCH(C12,INSUMOS!$B:$B,0)),"")} -> 35280 | G12: 0.1 | H12: =IFERROR(G12*F12*E12+F12*E12,0) -> 271656
D13: {=IFERROR(INDEX(INSUMOS!$C:$C,MATCH(C13,INSUMOS!$B:$B,0)),"")} | F13: {=IFERROR(INDEX(INSUMOS!$D:$D,MATCH(C13,INSUMOS!$B:$B,0)),"")} | H13: =IFERROR(G13*F13*E13+F13*E13,0) -> 0
D14: {=IFERROR(INDEX(INSUMOS!$C:$C,MATCH(C14,INSUMOS!$B:$B,0)),"")} | F14: {=IFERROR(INDEX(INSUMOS!$D:$D,MATCH(C14,INSUMOS!$B:$B,0)),"")} | H14: =IFERROR(G14*F14*E14+F14*E14,0) -> 0
D15: {=IFERROR(INDEX(INSUMOS!$C:$C,MATCH(C15,INSUMOS!$B:$B,0)),"")} | F15: {=IFERROR(INDEX(INSUMOS!$D:$D,MATCH(C15,INSUMOS!$B:$B,0)),"")} | H15: =IFERROR(G15*F15*E15+F15*E15,0) -> 0
D16: {=IFERROR(INDEX(INSUMOS!$C:$C,MATCH(C16,INSUMOS!$B:$B,0)),"")} | F16: {=IFERROR(INDEX(INSUMOS!$D:$D,MATCH(C16,INSUMOS!$B:$B,0)),"")} | H16: =IFERROR(G16*F16*E16+F16*E16,0) -> 0
H17: Subtotal | I17: =SUM(H9:H16) -> 473305
C18: MANO DE OBRA
B19: CODIGO | C19: Descripción | D19: CANT | E19: Jornal Dia + Prest. | G19: Rend/Dia | H19: Vr. Unitario
C20: Ayudante raso | D20: 3 | F20: {=IFERROR(INDEX('MANO DE OBRA'!$J:$J,MATCH(C20,'MANO DE OBRA'!$B:$B,0)),"")} -> 103371.47 | G20: 3 | H20: =IFERROR((F20/G20)*D20,0) -> 103371.47
C21: Oficial de obra civil | D21: 1 | F21: {=IFERROR(INDEX('MANO DE OBRA'!$J:$J,MATCH(C21,'MANO DE OBRA'!$B:$B,0)),"")} -> 169529.21 | G21: =+G20 -> 3 | H21: =IFERROR(F21/G21,0) -> 56509.738
F22: {=IFERROR(INDEX('MANO DE OBRA'!$J:$J,MATCH(C22,'MANO DE OBRA'!$B:$B,0)),"")} | H22: =IFERROR(F22/G22,0) -> 0
H23: Subtotal | I23: =SUM(H20:H22) -> 159881.21
C24: EQUIPOS Y HERRAMIENTA
B25: CODIGO | C25: Descripción | D25: % | E25: Unidad | F25: Tarifa/Hora | G25: Rendimiento | H25: Vr. Unitario
C26: HERRAMIENTA MENOR | D26: 0.05 | F26: =+I23 -> 159881.21 | G26: 1 | H26: =IFERROR(G26*F26*D26,0) -> 7994.0605
C27: CONCRETADORA TROMPO ELECT.1SAC | F27: {=IFERROR(INDEX(INSUMOS!$D:$D,MATCH(C27,INSUMOS!$B:$B,0)),"")} -> 6500 | G27: 0.42 | H27: =IFERROR(G27*F27,0) -> 2730
F28: {=IFERROR(INDEX(INSUMOS!$D:$D,MATCH(C28,INSUMOS!$B:$B,0)),"")} | H28: =IFERROR(G28*F28,0) -> 0
H29: Subtotal | I29: =SUM(H26:H28) -> 10724.06
C30: TRANSPORTE
B31: CODIGO | C31: Descripción | D31: Unid. | E31: Distancia Km. | F31: Tarifa | G31: Cantidad | H31: Vr. Unitario
C32: ACARREO INTERNO | D32: 1 | E32: 1 | F32: =+I23 -> 159881.21 | G32: 0.01 | H32: =IFERROR(G32*F32*E32,0) -> 1598.8121
C33: Transporte Materiales | D33: {=IFERROR(INDEX(INSUMOS!$C:$C,MATCH(C33,INSUMOS!$B:$B,0)),"")} -> m3 | E33: 1 | F33: {=IFERROR(INDEX(INSUMOS!$D:$D,MATCH(C33,INSUMOS!$B:$B,0)),"")} -> 35000 | G33: 1.152 | H33: =IFERROR(G33*F33*E33,0) -> 40320
C34: TRANSP. BULTO CEMENTO | D34: {=IFERROR(INDEX(INSUMOS!$C:$C,MATCH(C34,INSUMOS!$B:$B,0)),"")} | E34: 1 | F34: =+H12*0.001 -> 271.656 | G34: 1 | H34: =IFERROR(G34*F34*E34,0) -> 271.656
H35: Subtotal | I35: =SUM(H32:H34) -> 42190.468
B37: ITEM | C37: CONCRETO 1:3:3 OBRA (2400psi) - 170K/CM2 | H37: % MAT | I37: % M.O.
H38: =IF(I41=0,0,I52/I41) -> 0.67354546 | I38: =IF(I41=0,0,I58/I41) -> 0.24532196
H39: % Eq y Hta | I39: % Ttes
B40: Unid. | H40: =IF(I41=0,0,I64/I41) -> 0.016455014 | I40: =IF(I41=0,0,I70/I41) -> 0.064677568
B41: m3 | H41: VALOR UNITARIO | I41: =SUM(I52:I70) -> 651719.93
C42: MATERIALES
...

Sheet MANO DE OBRA
B1: CALCULO DE JORNALES
B3: Salario mínimo 2026 | C3: 1750905 | E3: Aux. Transporte | F3: 249095
B5: CARGO | C5: CLASE | D5: # de Salarios mínimos | E5: SALARIO MENSUAL | F5: FACTOR PRESTACIONAL | G5: SALARIO MENSUAL + PRESTACIONES | H5: JORNAL | I5: PRESTACIONES | J5: JORNAL TOTAL | L5: FACTOR PRESTACIONAL | M5: RIESGO
B6: ALMACENISTA | C6: ADMINIST. | D6: 1.8176007 | E6: 2587354.6 | F6: =IF($M$8>E6,$M$24,$O$24) -> 0.77116643 | G6: =E6*(1+F6) -> 4582635.7 | H6: =E6/30 -> 86245.155 | I6: =H6*F6 -> 66509.368 | J6: =H6+I6 -> 152754.52 | M6: V | N6: I | O6: V
B7: AUXILIAR DE RESIDENCIA | C7: ADMINIST. | D7: 1.8176007 | E7: 2587354.6 | F7: =IF($M$8>E7,$M$24,$O$24) -> 0.77116643 | G7: =E7*(1+F7) -> 4582635.7 | H7: =E7/30 -> 86245.155 | I7: =H7*F7 -> 66509.368 | J7: =H7+I7 -> 152754.52 | M7: HASTA DE 2 SMLV | N7: HASTA DE 2 SMMLV | O7: MAS DE 2 SMMLV
B8: CADENERO 1 | C8: ADMINIST. | D8: 1.8176007 | E8: 2587354.6 | F8: =IF($M$8>E8,$M$24,$O$24) -> 0.77116643 | G8: =E8*(1+F8) -> 4582635.7 | H8: =E8/30 -> 86245.155 | I8: =H8*F8 -> 66509.368 | J8: =H8+I8 -> 152754.52 | M8: =+$C$3*2 -> 3501810 | N8: =+M8 -> 3501810 | O8: =+N8+1 -> 3501811
B9: COORDINADOR PROYECTO | C9: ADMINIST. | D9: 5.2682413 | E9: 7499341.5 | F9: =IF($M$8>E9,$M$24,$O$24) -> 0.6054 | G9: =E9*(1+F9) -> 12039443 | H9: =E9/30 -> 249978.05 | I9: =H9*F9 -> 151336.71 | J9: =H9+I9 -> 401314.76 | L9: AUXILIO TRANSPORTE | M9: =+F3/C3 -> 0.14226643 | N9: =+F3/C3 -> 0.14226643
B10: CONTADOR | C10: ADMINIST. | D10: 2.16 | E10: 3074760 | F10: =IF($M$8>E10,$M$24,$O$24) -> 0.77116643 | G10: =E10*(1+F10) -> 5445911.7 | H10: =E10/30 -> 102492 | I10: =H10*F10 -> 79038.39 | J10: =H10+I10 -> 181530.39 | L10: CESANTIAS | M10: 0.0833 | N10: 0.0833 | O10: 0.0833
B11: DIRECTOR DE INTERVENTORÍA | C11: ADMINIST. | D11: 5.2682413 | E11: 7499341.5 | F11: =IF($M$8>E11,$M$24,$O$24) -> 0.6054 | G11: =E11*(1+F11) -> 12039443 | H11: =E11/30 -> 249978.05 | I11: =H11*F11 -> 151336.71 | J11: =H11+I11 -> 401314.76 | L11: INT. CESANTIAS | M11: 0.01 | N11: 0.01 | O11: 0.01
B12: DIRECTOR DE OBRA | C12: ADMINIST. | D12: 5.2682413 | E12: 7499341.5 | F12: =IF($M$8>E12,$M$24,$O$24) -> 0.6054 | G12: =E12*(1+F12) -> 12039443 | H12: =E12/30 -> 249978.05 | I12: =H12*F12 -> 151336.71 | J12: =H12+I12 -> 401314.76 | L12: PRIMA | M12: 0.0833 | N12: 0.0833 | O12: 0.0833
B13: ING. ELECTRIC. ADMIN | C13: ADMINIST. | D13: 5.2682413 | E13: 7499341.5 | F13: =IF($M$8>E13,$M$24,$O$24) -> 0.6054 | G13: =E13*(1+F13) -> 12039443 | H13: =E13/30 -> 249978.05 | I13: =H13*F13 -> 151336.71 | J13: =H13+I13 -> 401314.76 | L13: VACACIONES | M13: 0.0417 | N13: 0.0417 | O13: 0.0417
B14: PERSONAL ADMINISTRATIVO | C14: ADMINIST. | D14: 1.72 | E14: 2448420 | F14: =IF($M$8>E14,$M$24,$O$24) -> 0.77116643 | G14: =E14*(1+F14) -> 4336559.3 | H14: =E14/30 -> 81614 | I14: =H14*F14 -> 62937.977 | J14: =H14+I14 -> 144551.98 | L14: SENA | M14: 0.02 | N14: 0.02 | O14: 0.02
B15: PROFESIONAL SST | C15: ADMINIST. | D15: 1.8176007 | E15: 2587354.6 | F15: =IF($M$8>E15,$M$24,$O$24) -> 0.77116643 | G15: =E15*(1+F15) -> 4582635.7 | H15: =E15/30 -> 86245.155 | I15: =H15*F15 -> 66509.368 | J15: =H15+I15 -> 152754.52 | L15: ICBF | M15: 0.03 | N15: 0.03 | O15: 0.03
B16: TECNOLOGO EN CONSTRUC O AFIN | C16: ADMINIST. | D16: 1.55 | E16: 2206425 | F16: =IF($M$8>E16,$M$24,$O$24) -> 0.77116643 | G16: =E16*(1+F16) -> 3907945.9 | H16: =E16/30 -> 73547.5 | I16: =H16*F16 -> 56717.363 | J16: =H16+I16 -> 130264.86 | L16: CAJAS | M16: 0.04 | N16: 0.04 | O16: 0.04
B17: TECNOLOGO EN SST | C17: ADMINIST. | D17: 1.55 | E17: 2206425 | F17: =IF($M$8>E17,$M$24,$O$24) -> 0.77116643 | G17: =E17*(1+F17) -> 3907945.9 | H17: =E17/30 -> 73547.5 | I17: =H17*F17 -> 56717.363 | J17: =H17+I17 -> 130264.86 | L17: FIC | M17: 0.0025 | N17: 0.0025 | O17: 0.0025
B18: RESIDENTE AMBIENTAL | C18: ADMINIST. | D18: 2.33 | E18: 3316755 | F18: =IF($M$8>E18,$M$24,$O$24) -> 0.77116643 | G18: =E18*(1+F18) -> 5874525.1 | H18: =E18/30 -> 110558.5 | I18: =H18*F18 -> 85259.004 | J18: =H18+I18 -> 195817.5 | L18: SALUD | M18: 0.085 | N18: 0.085 | O18: 0.085
B19: RESIDENTE DE INTERVENTORÍA | C19: ADMINIST. | D19: 2.33 | E19: 3316755 | F19: =IF($M$8>E19,$M$24,$O$24) -> 0.77116643 | G19: =E19*(1+F19) -> 5874525.1 | H19: =E19/30 -> 110558.5 | I19: =H19*F19 -> 85259.004 | J19: =H19+I19 -> 195817.5 | L19: PENSIONES | M19: 0.12 | N19: 0.12 | O19: 0.12
B20: RESIDENTE DE OBRA | C20: ADMINIST. | D20: 2.33 | E20: 3316755 | F20: =IF($M$8>E20,$M$24,$O$24) -> 0.77116643 | G20: =E20*(1+F20) -> 5874525.1 | H20: =E20/30 -> 110558.5 | I20: =H20*F20 -> 85259.004 | J20: =H20+I20 -> 195817.5 | L20: ARP | M20: 0.0696 | N20: 0.0052 | O20: 0.0696
B21: TOPÓGRAFO | C21: ADMINIST. | D21: 2.33 | E21: 3316755 | F21: =IF($M$8>E21,$M$24,$O$24) -> 0.77116643 | G21: =E21*(1+F21) -> 5874525.1 | H21: =E21/30 -> 110558.5 | I21: =H21*F21 -> 85259.004 | J21: =H21+I21 -> 195817.5 | L21: DOTACIÓN | M21: 0.0335 | N21: 0.0335 | O21: 0.01
B22: Ayudante carpintero | C22: OPERATIVO | D22: 1 | E22: =$C$3*D22 -> 1750905 | F22: =IF($M$8>E22,$M$24,$O$24) -> 0.77116643 | G22: =E22*(1+F22) -> 3101144.2 | H22: =E22/30 -> 58363.5 | I22: =H22*F22 -> 45007.972 | J22: =H22+I22 -> 103371.47 | L22: Examenes médicos ingreso y retiro | M22: 0.01 | N22: 0.01 | O22: 0.01
B23: Ayudante eléctrico | C23: OPERATIVO | D23: 1 | E23: =$C$3*D23 -> 1750905 | F23: =IF($M$8>E23,$M$24,$O$24) -> 0.77116643 | G23: =E23*(1+F23) -> 3101144.2 | H23: =E23/30 -> 58363.5 | I23: =H23*F23 -> 45007.972 | J23: =H23+I23 -> 103371.47
A24: 60030 | B24: Ayudante entendido | C24: OPERATIVO | D24: 1.29 | E24: =$C$3*D24 -> 2258667.5 | F24: =IF($M$8>E24,$M$24,$O$24) -> 0.77116643 | G24: =E24*(1+F24) -> 4000476 | H24: =E24/30 -> 75288.915 | I24: =H24*F24 -> 58060.284 | J24: =H24+I24 -> 133349.2 | L24: FACTOR PRESTACIONAL | M24: =SUM(M9:M22) -> 0.77116643 | N24: =SUM(N9:N22) -> 0.70676643 | O24: =SUM(O9:O22) -> 0.6054
A25: 60031 | B25: Ayudante plomero | C25: OPERATIVO | D25: 1 | E25: =$C$3*D25 -> 1750905 | F25: =IF($M$8>E25,$M$24,$O$24) -> 0.77116643 | G25: =E25*(1+F25) -> 3101144.2 | H25: =E25/30 -> 58363.5 | I25: =H25*F25 -> 45007.972 | J25: =H25+I25 -> 103371.47
A26: 60032 | B26: Ayudante raso | C26: OPERATIVO | D26: 1 | E26: =$C$3*D26 -> 1750905 | F26: =IF($M$8>E26,$M$24,$O$24) -> 0.77116643 | G26: =E26*(1+F26) -> 3101144.2 | H26: =E26/30 -> 58363.5 | I26: =H26*F26 -> 45007.972 | J26: =H26+I26 -> 103371.47
A27: 60033 | B27: Cadenero 1 operat. | C27: OPERATIVO | D27: 1.55 | E27: =$C$3*D27 -> 2713902.8 | F27: =IF($M$8>E27,$M$24,$O$24) -> 0.77116643 | G27: =E27*(1+F27) -> 4806773.4 | H27: =E27/30 -> 90463.425 | I27: =H27*F27 -> 69762.356 | J27: =H27+I27 -> 160225.78
A28: 60034 | B28: Ing. electric. oper. | C28: OPERATIVO | D28: 4.31 | E28: =$C$3*D28 -> 7546400.5 | F28: =IF($M$8>E28,$M$24,$O$24) -> 0.6054 | G28: =E28*(1+F28) -> 12114991 | H28: =E28/30 -> 251546.68 | I28: =H28*F28 -> 152286.36 | J28: =H28+I28 -> 403833.05
A29: 60035 | B29: Maestro primero | C29: OPERATIVO | D29: 2.3326222 | E29: =$C$3*D29 -> 4084199.9 | F29: =IF($M$8>E29,$M$24,$O$24) -> 0.6054 | G29: =E29*(1+F29) -> 6556774.5 | H29: =E29/30 -> 136140 | I29: =H29*F29 -> 82419.154 | J29: =H29+I29 -> 218559.15
A30: 60036 | B30: Oficial carpintero | C30: OPERATIVO | D30: 2.16 | E30: =$C$3*D30 -> 3781954.8 | F30: =IF($M$8>E30,$M$24,$O$24) -> 0.6054 | G30: =E30*(1+F30) -> 6071550.2 | H30: =E30/30 -> 126065.16 | I30: =H30*F30 -> 76319.848 | J30: =H30+I30 -> 202385.01
A31: 60037 | B31: Oficial de obra civil | C31: OPERATIVO | D31: 1.64 | E31: =$C$3*D31 -> 2871484.2 | F31: =IF($M$8>E31,$M$24,$O$24) -> 0.77116643 | G31: =E31*(1+F31) -> 5085876.4 | H31: =E31/30 -> 95716.14 | I31: =H31*F31 -> 73813.074 | J31: =H31+I31 -> 169529.21
A32: 60038 | B32: Oficial eléctrico | C32: OPERATIVO | D32: 2.16 | E32: =$C$3*D32 -> 3781954.8 | F32: =IF($M$8>E32,$M$24,$O$24) -> 0.6054 | G32: =E32*(1+F32) -> 6071550.2 | H32: =E32/30 -> 126065.16 | I32: =H32*F32 -> 76319.848 | J32: =H32+I32 -> 202385.01
A33: 60039 | B33: Oficial plomero | C33: OPERATIVO | D33: 2.16 | E33: =$C$3*D33 -> 3781954.8 | F33: =IF($M$8>E33,$M$24,$O$24) -> 0.6054 | G33: =E33*(1+F33) -> 6071550.2 | H33: =E33/30 -> 126065.16 | I33: =H33*F33 -> 76319.848 | J33: =H33+I33 -> 202385.01
A34: 60040 | B34: Oficial soldador | C34: OPERATIVO | D34: 2.16 | E34: =$C$3*D34 -> 3781954.8 | F34: =IF($M$8>E34,$M$24,$O$24) -> 0.6054 | G34: =E34*(1+F34) -> 6071550.2 | H34: =E34/30 -> 126065.16 | I34: =H34*F34 -> 76319.848 | J34: =H34+I34 -> 202385.01
A35: 60041 | B35: Pintor | C35: OPERATIVO | D35: 2.16 | E35: =$C$3*D35 -> 3781954.8 | F35: =IF($M$8>E35,$M$24,$O$24) -> 0.6054 | G35: =E35*(1+F35) -> 6071550.2 | H35: =E35/30 -> 126065.16 | I35: =H35*F35 -> 76319.848 | J35: =H35+I35 -> 202385.01
A36: 60042 | B36: Operador equipo liviano | C36: OPERATIVO | D36: 2.16 | E36: =$C$3*D36 -> 3781954.8 | F36: =IF($M$8>E36,$M$24,$O$24) -> 0.6054 | G36: =E36*(1+F36) -> 6071550.2 | H36: =E36/30 -> 126065.16 | I36: =H36*F36 -> 76319.848 | J36: =H36+I36 -> 202385.01
... A39: 60045 | B39: Vigilante | C39: OPERATIVO | D39: 2.16 | E39: =$C$3*D39 -> 3781954.8 | F39: =IF($M$8>E39,$M$24,$O$24) -> 0.6054 | G39: =E39*(1+F39) -> 6071550.2 | H39: =E39/30 -> 126065.16 | I39: =H39*F39 -> 76319.848 | J39: =H39+I39 -> 202385.01
A40: 60046 | B40: Personal adicional | D40: 0 | E40: =$C$3*D40 -> 0 | F40: =IF($M$8>E40,$M$24,$O$24) -> 0.77116643 | G40: =E40*(1+F40) -> 0 | H40: =E40/30 -> 0 | I40: =H40*F40 -> 0 | J40: =H40+I40 -> 0
A41: 60047 | B41: Personal adicional | D41: 0 | E41: =$C$3*D41 -> 0 | F41: =IF($M$8>E41,$M$24,$O$24) -> 0.77116643 | G41: =E41*(1+F41) -> 0 | H41: =E41/30 -> 0 | I41: =H41*F41 -> 0 | J41: =H41+I41 -> 0
A42: 60048 | B42: Personal adicional | D42: 0 | E42: =$C$3*D42 -> 0 | F42: =IF($M$8>E42,$M$24,$O$24) -> 0.77116643 | G42: =E42*(1+F42) -> 0 | H42: =E42/30 -> 0 | I42: =H42*F42 -> 0 | J42: =H42+I42 -> 0
A43: 60049
A44: 60050

Sheet FORM-AU
A1: PRESUPUESTO PROYECTO :
A2: ANALISIS DE AU
A3: Ítem | B3: Descripción | C3: Unidad | D3: Cantidad | E3: Valor/Mes Base + Prestaciones + viaticos | F3: Factor prestacional | G3: Dedicación | H3: Meses | I3: V/Parcial
A4: 1.0 | B4: Personal Profesional y Técnico | I4: =SUM(I5:I9) -> 11749050 | J4: =IFERROR(I4/$I$50,0) -> 0.071762995
A5: 1.1 | B5: DIRECTOR DE OBRA | C5: {=IFERROR(INDEX('MANO DE OBRA'!$C:$C,MATCH(B5,'MANO DE OBRA'!$B:$B,0)),"")} -> ADMINIST. | E5: =+VLOOKUP(B5,'MANO DE OBRA'!$B$6:$F$21,4,FALSE) -> 7499341.5 | F5: {=IFERROR(INDEX('MANO DE OBRA'!$F:$F,MATCH(B5,'MANO DE OBRA'!$B:$B,0))+1,"")} -> 1.6054 | I5: =IF(D5="","-",PRODUCT(D5:H5)) -> -
A6: 1.2 | B6: COORDINADOR PROYECTO | C6: {=IFERROR(INDEX('MANO DE OBRA'!$C:$C,MATCH(B6,'MANO DE OBRA'!$B:$B,0)),"")} -> ADMINIST. | E6: =+VLOOKUP(B6,'MANO DE OBRA'!$B$6:$F$21,4,FALSE) -> 7499341.5 | F6: {=IFERROR(INDEX('MANO DE OBRA'!$F:$F,MATCH(B6,'MANO DE OBRA'!$B:$B,0))+1,"")} -> 1.6054 | I6: =IF(D6="","-",PRODUCT(D6:H6)) -> -
A7: 1.3 | B7: RESIDENTE DE OBRA | C7: {=IFERROR(INDEX('MANO DE OBRA'!$C:$C,MATCH(B7,'MANO DE OBRA'!$B:$B,0)),"")} -> ADMINIST. | D7: 1 | E7: =+VLOOKUP(B7,'MANO DE OBRA'!$B$6:$F$21,4,FALSE) -> 3316755 | F7: {=IFERROR(INDEX('MANO DE OBRA'!$F:$F,MATCH(B7,'MANO DE OBRA'!$B:$B,0))+1,"")} -> 1.7711664 | G7: 1 | H7: 2 | I7: =IF(D7="","-",PRODUCT(D7:H7)) -> 11749050
A8: 1.4 | B8: PROFESIONAL SST | C8: {=IFERROR(INDEX('MANO DE OBRA'!$C:$C,MATCH(B8,'MANO DE OBRA'!$B:$B,0)),"")} -> ADMINIST. | E8: =+VLOOKUP(B8,'MANO DE OBRA'!$B$6:$F$21,4,FALSE) -> 2587354.6 | F8: {=IFERROR(INDEX('MANO DE OBRA'!$F:$F,MATCH(B8,'MANO DE OBRA'!$B:$B,0))+1,"")} -> 1.7711664
A9: 1.5 | B9: =+'MANO DE OBRA'!B17 -> TECNOLOGO EN SST | C9: {=IFERROR(INDEX('MANO DE OBRA'!$C:$C,MATCH(B9,'MANO DE OBRA'!$B:$B,0)),"")} -> ADMINIST. | E9: =+VLOOKUP(B9,'MANO DE OBRA'!$B$6:$F$21,4,FALSE) -> 2206425 | F9: {=IFERROR(INDEX('MANO DE OBRA'!$F:$F,MATCH(B9,'MANO DE OBRA'!$B:$B,0))+1,"")} -> 1.7711664 | I9: =IF(D9="","-",PRODUCT(D9:H9)) -> -
A10: 2 | B10: Personal Operativo y Administrativo | I10: =SUM(I11:I15) -> 0 | J10: =+I10/$I$50 -> 0
A11: 2.1 | I11: =IF(D11="","-",PRODUCT(D11:H11)) -> -
A12: 2.2 | C12: {=IFERROR(INDEX('MANO DE OBRA'!$C:$C,MATCH(B12,'MANO DE OBRA'!$B:$B,0)),"")} | E12: {=IFERROR(INDEX('MANO DE OBRA'!$G:$G,MATCH(B12,'MANO DE OBRA'!$B:$B,0)),"")} | F12: {=IFERROR(INDEX('MANO DE OBRA'!$F:$F,MATCH(B12,'MANO DE OBRA'!$B:$B,0))+1,"")} | I12: =IF(D12="","-",PRODUCT(D12:H12)) -> -
A13: 2.3 | C13: {=IFERROR(INDEX('MANO DE OBRA'!$C:$C,MATCH(B13,'MANO DE OBRA'!$B:$B,0)),"")} | E13: {=IFERROR(INDEX('MANO DE OBRA'!$G:$G,MATCH(B13,'MANO DE OBRA'!$B:$B,0)),"")} | F13: {=IFERROR(INDEX('MANO DE OBRA'!$F:$F,MATCH(B13,'MANO DE OBRA'!$B:$B,0))+1,"")} | I13: =IF(D13="","-",PRODUCT(D13:H13)) -> -
A14: 2.4 | C14: {=IFERROR(INDEX('MANO DE OBRA'!$C:$C,MATCH(B14,'MANO DE OBRA'!$B:$B,0)),"")} | E14: {=IFERROR(INDEX('MANO DE OBRA'!$G:$G,MATCH(B14,'MANO DE OBRA'!$B:$B,0)),"")} | F14: {=IFERROR(INDEX('MANO DE OBRA'!$F:$F,MATCH(B14,'MANO DE OBRA'!$B:$B,0))+1,"")} | I14: =IF(D14="","-",PRODUCT(D14:H14)) -> -
A15: 2.5 | C15: {=IFERROR(INDEX('MANO DE OBRA'!$C:$C,MATCH(B15,'MANO DE OBRA'!$B:$B,0)),"")} | E15: {=IFERROR(INDEX('MANO DE OBRA'!$G:$G,MATCH(B15,'MANO DE OBRA'!$B:$B,0)),"")} | F15: {=IFERROR(INDEX('MANO DE OBRA'!$F:$F,MATCH(B15,'MANO DE OBRA'!$B:$B,0))+1,"")} | I15: =IF(D15="","-",PRODUCT(D15:H15)) -> -
A16: 3 | B16: Personal Ambiental | I16: =SUM(I17) -> 0 | J16: =IFERROR(I16/$I$50,0) -> 0
A17: 3.1 | B17: RESIDENTE AMBIENTAL | C17: {=IFERROR(INDEX('MANO DE OBRA'!$C:$C,MATCH(B17,'MANO DE OBRA'!$B:$B,0)),"")} -> ADMINIST. | E17: {=IF(D17="","",IFERROR(INDEX('MANO DE OBRA'!$G:$G,MATCH(B17,'MANO DE OBRA'!$B:$B,0)),""))} | F17: {=IFERROR(INDEX('MANO DE OBRA'!$F:$F,MATCH(B17,'MANO DE OBRA'!$B:$B,0))+1,"")} -> 1.7711664 | I17: =IF(D17="","-",PRODUCT(D17:H17)) -> -
A18: 4 | B18: Servicios Publicos e Instalaciones Provisionales | D18: Cantidad | E18: Valor | F18: Meses | I18: =SUM(I19:I20) -> 0 | J18: =IFERROR(I18/$I$50,0) -> 0
A19: 4.1 | B19: Oficina, almacen de materiales (incluye servicios publicos y demás estructuras y servicios para su perfecto funcionamiento) | C19: Global | D19: 0 | E19: 1000000 | F19: 2.5 | I19: =IF(D19="","-",PRODUCT(D19:H19)) -> 0
I20: =PRODUCT(D20:H20) -> 0
A21: 5 | B21: Papelería y equipos de oficina | D21: Cantidad | E21: Valor | F21: Meses | I21: =SUM(I22:I24) -> 0 | J21: =IFERROR(I21/$I$50,0) -> 0
A22: 5.1 | B22: Alquiler de equipo de oficina, incluye muebles y enseres, computador, impresora. | C22: mes | I22: =IF(D22="","-",PRODUCT(D22:H22)) -> -
A23: 5.2 | B23: Papelería, tinta, fotocopias y otroS | C23: mes | I23: =IF(D23="","-",PRODUCT(D23:H23)) -> -
I24: =IF(D24="","-",PRODUCT(D24:H24)) -> -
A25: 6 | B25: Laboratorio, estudios, diseños y certificados | I25: =SUM(I26:I28) -> 0 | J25: =IFERROR(I25/$I$50,0) -> 0
A26: 6.1 | I26: =IF(D26="","-",PRODUCT(D26:H26)) -> -
A27: 6.2 | I27: =IF(D27="","-",PRODUCT(D27:H27)) -> -
A28: 6.3 | I28: =IF(D28="","-",PRODUCT(D28:H28)) -> -
A32: 7 | B32: Impacto Comunitario - Valla | D32: Cantidad | E32: Valor | I32: =SUM(I33:I35) -> 1100000 | J32: =IFERROR(I32/$I$50,0) -> 0.0067187809
A33: 7.1 | B33: Suministro, transporte e instalación de Valla de 4,00mt X 2,00mt (según manual de comunicaciones) | C33: un | D33: 2 | E33: 550000 | I33: =IF(D33="","-",PRODUCT(D33:H33)) -> 1100000
I34: =IF(D34="","-",PRODUCT(D34:H34)) -> -
I35: =IF(D35="","-",PRODUCT(D35:H35)) -> -
A36: 8 | B36: Pólizas | I36: =+I37 -> 0 | J36: =IFERROR(I36/$I$50,0) -> 0
A37: 8.1 | B37: Pólizas | C37: global
A38: 9 | B38: Impuestos
A39: 9.1 | B39: Impuestos Retenciones y Deducciones | I39: =SUM(I40) -> 25211685 | J39: =IFERROR(I39/$I$50,0) -> 0.15399253
A40: 9,1,1 | B40: Estampillas municipales. | H40: =+ESTAMPILLAS!$D$13 -> 0.134 | I40: =+ESTAMPILLAS!F13 -> 25211685
A41: 10 | B41: Impuestos Nacionales | I41: =+I42 -> 11205193 | J41: =IFERROR(I41/$I$50,0) -> 0.068441127
A42: 10.1 | B42: Impuesto de Contribución especial 5% (del costo total incluido AU) | H42: 0.05 | I42: =+H42*ESTAMPILLAS!D3 -> 11205193
A43: 10.2 | B43: IMPUESTO 4xMIL | H43: 0.5 | I43: =(CAPITULOS!$D$38-CAPITULOS!$D$32-'FORM-AU'!$I$40+I42)*(4/1000)*$H$43 -> 421036.82
...

Sheet POLIZAS
A1: COSTO POLIZAS
A3: valor total de la obra | B3: =+ACTIVIDADES!G226 -> 2.245249e+08 | C3: =+B3/B12 -> 128.23363 | D3: SMMLV | E3: IVA | F3: 0.19
A5: Poliza | B5: Pocentaje Asegurado | D5: tiempo de amparo años | E5: prima | F5: IVA | G5: total
A6: Seriedad de la oferta
A7: Cumplimiento | B7: 0.3 | C7: 0.004 | D7: 1 | E7: =$B$3*B7*C7*D7 -> 269429.88 | F7: =E7*$F$3 -> 51191.678 | G7: =ROUND(E7+F7,0) -> 320622
A8: Buen manejo del anticipo | C8: 0.004 | D8: 0.5 | E8: =$B$3*B8*C8*D8 -> 0 | F8: =E8*$F$3 -> 0 | G8: =ROUND(E8+F8,0) -> 0
A9: Pago de Salarios | B9: 0.15 | C9: 0.004 | D9: 3.5 | E9: =$B$3*B9*C9*D9 -> 471502.3 | F9: =E9*$F$3 -> 89585.437 | G9: =ROUND(E9+F9,0) -> 561088
A10: Estabilidad de obra | B10: 0.3 | C10: 0.004 | D10: 2 | E10: =$B$3*B10*C10*D10 -> 538859.77 | F10: =E10*$F$3 -> 102383.36 | G10: =ROUND(E10+F10,0) -> 641243
A11: DECRETO 1082 SMMLV RESPONSABILIDAD CIVIL | B11: SMMLV | C11: MONTO ASEGURABLE | E11: PLAZO MESES | F11: TASA ANUAL | G11: PRIMA
A12: =+IF(B3="","",IF(C3<=1500,200,IF(C7<=2500,300,IF(C7<=5000,400,IF(C7<=10000,500,"5%"))))) -> 200 | B12: =+'[1]MANO DE OBRA'!C3 -> 1750905 | C12: =+IFERROR(IF(C3>10000,B3+5%,A12*B12),"") -> 350181000 | E12: =+CRONOGRAMA!$H$27 -> 2 | F12: 0.003 | G12: =+ROUND(IFERROR(F12*E12*C12/12,""),0) -> 175091
E14: COSTO TOTAL POLIZAS | G14: =SUM(G7:G12) -> 1698044
A16: NOTA
A17: *Para el calculo de las polizas, los porcentajes seran definidos de acuerdo al tipo de contratacion que realice el municipio.

Sheet ESTAMPILLAS
A1: CALCULO DEL COSTO DE LAS ESTAMPILLAS
B3: Costo de Obra | D3: =ACTIVIDADES!G226-'FORM-AU'!I43 -> 2.2410387e+08
A5: cod | B5: ESTAMPILLA PRO ADULTO MAYOR | C5: % | D5: 0.04 | E5: =$D$3 -> 2.2410387e+08 | F5: =D5*E5 -> 8964154.7
A6: cod | B6: ESTAMPILLA PRO CULTURA | C6: % | D6: 0.015 | E6: =$D$3 -> 2.2410387e+08 | F6: =D6*E6 -> 3361558
A7: cod | B7: ESTAMPILLA PRO HOSPITAL | C7: % | D7: 0.01 | E7: =$D$3 -> 2.2410387e+08 | F7: =D7*E7 -> 2241038.7
A8: cod | B8: ESTAMPILLA PRO DEPORTE | C8: % | D8: 0.02 | E8: =+ACTIVIDADES!G230-'FORM-AU'!I43*ACTIVIDADES!F230 -> 67231160 | F8: =D8*E8 -> 1344623.2
A9: cod | B9: ESTAMPILLA PRO JUSTICIA FAMILAR | C9: % | D9: 0.02 | E9: =$D$3 -> 2.2410387e+08 | F9: =D9*E9 -> 4482077.3
A10: cod | B10: ESTAMPILLA PRO POLITECNICO | C10: % | D10: 0.004 | E10: =$D$3 -> 2.2410387e+08 | F10: =D10*E10 -> 896415.47
B11: ESTAMPILLA PRODEPORTE GOBERNACION | C11: % | D11: 0.025 | E11: =+F20-ACTIVIDADES!J231 -> 1.5687271e+08 | F11: =D11*E11 -> 3921817.7
B13: Costo Total tasas y estampillas | D13: =SUM(D5:D12) -> 0.134 | F13: =+F5+F6+F7+F8+F9+F10+F11 -> 25211685
B15: NOTA
B16: *Diligenciar el cuadro de estampillas de acuerdo a la espcificacion y porcentaje vigente de cada municipio y adjuntar pantallazo de la certificacion. *En las casillas verdes se debera colocar el porcentaje correspondiente a cada una de las estampillas. *En las casillas azules se debera modificar el nombre de la estampilla segun corresponda a cada municipio. *No calcular dentro de este cuadro el impuesto del 5% de contribucion especial, el cual esta referenciado en la pestaña "FORM-AU"
D20: APORTE GOBERNACION | F20: =+ACTIVIDADES!G229 -> 1.5716743e+08
D21: Base para cobro estampilla Prodeporte Gobernación

Sheet FORM-INTER
A1: MUNICIPIO
A2: INTERVENTORÍA TÉCNICA, ADMINISTRATIVA, FINANCIERA, LEGAL Y AMBIENTAL
A3: PRESUPUESTO INTERVENTORÍA
A4: ITEM | B4: CARGO/OFICIO | C4: CANTIDAD | D4: SUELDO Y/O TARIFA MENSUAL | E4: DEDICACIÓN | F4: DURACIÓN (Mes) | G4: VALOR PARCIAL ($)
A5: A. | B5: COSTOS DIRECTOS DE PERSONAL
A6: 1 | B6: Personal Profesional
A7: 1.1 | B7: DIRECTOR DE INTERVENTORÍA | D7: =+VLOOKUP(B7,'MANO DE OBRA'!$B$6:$E$21,4,FALSE) -> 7499341.5 | G7: =IFERROR(IF(C7="","-",D7*E7*F7*C7),0) -> -
A8: 1.2 | B8: RESIDENTE DE INTERVENTORÍA | D8: =+VLOOKUP(B8,'MANO DE OBRA'!$B$6:$E$21,4,FALSE) -> 3316755 | G8: =IFERROR(IF(C8="","-",D8*E8*F8*C8),0) -> -
A9: 1.3 | B9: AUXILIAR DE RESIDENCIA | D9: =+VLOOKUP(B9,'MANO DE OBRA'!$B$6:$E$21,4,FALSE) -> 2587354.6 | G9: =IFERROR(IF(C9="","-",D9*E9*F9*C9),0) -> -
A10: 1.4 | D10: =+VLOOKUP(B10,'MANO DE OBRA'!$B$6:$E$21,4,FALSE) -> #N/A | G10: =IFERROR(IF(C10="","-",D10*E10*F10*C10),0) -> -
A11: 1.5 | B11: PROFESIONAL SST | D11: =+VLOOKUP(B11,'MANO DE OBRA'!$B$6:$E$21,4,FALSE) -> 2587354.6 | G11: =IFERROR(IF(C11="","-",D11*E11*F11*C11),0) -> -
A12: 1.6 | B12: RESIDENTE AMBIENTAL | D12: =+VLOOKUP(B12,'MANO DE OBRA'!$B$6:$E$21,4,FALSE) -> 3316755 | G12: =IFERROR(IF(C12="","-",D12*E12*F12*C12),0) -> -
A13: 1.7 | B13: =+'MANO DE OBRA'!B17 -> TECNOLOGO EN SST | D13: =+VLOOKUP(B13,'MANO DE OBRA'!$B$6:$E$21,4,FALSE) -> 2206425 | G13: =IFERROR(IF(C13="","-",D13*E13*F13*C13),0) -> -
B14: Subtotal Costos Directos de Personal | G14: =SUM(G7:G13) -> 0
F15: ARL | G15: MAS DE 2 SMMLV - RIEGO V
C16: FACTOR MULTIPLICADOR | G16: =+'FACTOR XDOR'!F35 -> 1.75
F17: TOTAL COSTOS DE PERSONAL INCLUIDO FACTOR MUTIPLICADOR (A) | G17: =G14*G16 -> 0
A18: B. | B18: OTROS COSTOS
B19: DESCRIPCIÓN | C19: UNIDAD | D19: CANTIDAD | E19: VALOR UNITARIO | F19: DURACION | G19: VALOR PARCIAL ($)
A20: 1 | B20: PAPELERIA Y COPIAS | C20: mes | G20: =IFERROR(IF(D20="","-",D20*E20*F20),0) -> -
A21: 2 | B21: SERVICIOS PUBLICOS (Incluye energia, agua e internet) | C21: mes | G21: =IFERROR(IF(D21="","-",D21*E21*F21),0) -> -
A22: 3 | B22: ALQUILER OFICINA CENTRAL | C22: mes | G22: =IFERROR(IF(D22="","-",D22*E22*F22),0) -> -
A23: 4 | B23: AJUSTES DE DISEÑOS ESTRUCTURALES | C23: Un | G23: =IFERROR(IF(D23="","-",D23*E23*F23),0) -> -
A24: 5 | B24: EQUIPOS DE COMPUTO Y MUEBLES | C24: mes | G24: =IFERROR(IF(D24="","-",D24*E24*F24),0) -> -
A25: 6 | B25: POLIZAS | C25: GB | E25: =IFERROR('POL INTERV'!H22,"") | G25: =IFERROR(IF(E25="","",E25),0)
G26: =IFERROR(IF(D26="","-",D26*E26*F26),0) -> -
G27: =IFERROR(IF(D27="","-",D27*E27*F27),0) -> -
G28: =IFERROR(IF(D28="","-",D28*E28*F28),0) -> -
G29: =IFERROR(IF(D29="","-",D29*E29*F29),0) -> -
G30: =IFERROR(IF(D30="","-",D30*E30*F30),0) -> -
B32: SUBTOTAL OTROS COSTOS DIRECTOS (B) | G32: =SUM(G20:G31) -> 0
F34: TOTAL COSTOS DE PERSONAL + OTROS COSTOS DIRECTOS (A+B) | G34: =G17+G32 -> 0
E35: IVA% | F35: 0.19 | G35: =G34*F35 -> 0
F36: VALOR TOTAL DE LA OFERTA INCLUIDO EL IVA | G36: =G34+G35 -> 0
B38: NOTA
B39: *Se calculará solamente si el municipio requiere o decide para el proyecto contratar la interventoria, de lo contrario el municipio se encargará de hacer las revisiones correspondientes. * Se deben diligenciar las celdas de color verde.

Sheet FACTOR XDOR
A1: FACTOR MULTIPLICADOR INTERVENTORÍA
E2: RIESGO | F2: VI | G2: RIESGO | H2: I | I2: RIESGO | J2: V
E3: MAS DE 2 SMMLV | G3: HASTA DE 2 SMMLV | I3: HASTA DE 2 SMLV
A5: ITEM | B5: DESCRIPCION | E5: PORCENTAJE PARCIAL | F5: PORCENTAJE TOTAL | G5: PORCENTAJE PARCIAL | H5: PORCENTAJE TOTAL | I5: PORCENTAJE PARCIAL | J5: PORCENTAJE TOTAL
A6: A | B6: SALARIO BÁSICO | F6: =SUM(E7) -> 100 | H6: =SUM(G7) -> 100 | J6: =SUM(I7) -> 100
B7: Nómina Total Mensual | E7: 100 | G7: 100 | I7: 100
A9: B | B9: PRESTACIONES SOCIALES | F9: =SUM(E10:E25) -> 59.54 | H9: =SUM(G10:G25) -> 69.499877 | J9: =SUM(I10:I25) -> 75.939877
B10: AUXILIO TRANSPORTE | G10: 14.049877 | I10: 14.049877
B11: CESANTIAS | E11: 8.33 | G11: 8.33 | I11: 8.33
B12: INT. CESANTIAS | E12: 1 | G12: 1 | I12: 1
B13: PRIMA | E13: 8.33 | G13: 8.33 | I13: 8.33
B14: VACACIONES | E14: 4.17 | G14: 4.17 | I14: 4.17
B15: SENA | E15: 2 | G15: 2 | I15: 2
B16: ICBF | E16: 3 | G16: 3 | I16: 3
B17: CAJAS | E17: 4 | G17: 4 | I17: 4
B18: FIC | E18: 0.25 | G18: 0.25 | I18: 0.25
B19: SALUD | E19: 8.5 | G19: 8.5 | I19: 8.5
B20: PENSIONES | E20: 12 | G20: 12 | I20: 12
B21: ARP | E21: 6.96 | G21: 0.52 | I21: 6.96
B22: DOTACIÓN | E22: 1 | G22: 3.35 | I22: 3.35
B23: Examenes médicosingreso y retiro
A27: C | B27: COSTOS INDIRECTOS ADMINISTRATIVOS | F27: =+E28 -> 0 | H27: =+G28 -> 0 | J27: =+I28 -> 0
A29: D | B29: COSTOS DE TASAS Y CONTRIBUCIONES (A+B)* | F29: =SUM(E30:E31) -> 0 | H29: =SUM(G30:G31) -> 0 | J29: =SUM(I30:I31) -> 0
A32: E | B32: HONORARIOS (UTILIDADES) 10% de (A+B+C+D) | C32: 0.1 | D32: (A+B+C) | F32: =(F29+F9+F6)*C32 -> 15.954 | H32: =(H29+H9+H6)*C32 -> 16.949988 | J32: =(J29+J9+J6)*C32 -> 17.593988
B33: TOTAL A+B+C+D | E33: Redondeado | F33: =+ROUND(SUM(F6:F32),0) -> 175 | G33: Redondeado | H33: =+ROUND(SUM(H6:H32),0) -> 186 | I33: Redondeado | J33: =+ROUND(SUM(J6:J32),0) -> 194
A35: FACTOR MULTIPLICADOR % | F35: =F33/100 -> 1.75 | H35: =H33/100 -> 1.86 | J35: =J33/100 -> 1.94

Sheet POL INTERV
B2: DEPARTAMENTO DE ANTIOQUIA
B3: 0
B4: INTERVENTORÍA TÉCNICA, ADMINISTRATIVA, FINANCIERA, LEGAL Y AMBIENTAL PARA EL MEJORAMIENTO Y ADECUACIÓN DE INFRAESTRUCTURA EDUCATIVA
B6: CÁLCULO DE PÓLIZAS DE INTERVENTORÍA
B8: VALOR DEL CONTRATO ( $ ) | C8: =+'FORM-INTER'!G36 -> 0 | D8: =+IFERROR(C8/C18,"") -> 0
B9: PLAZO DEL CONTRATO | C9: =+'FORM-INTER'!$F$8 -> 0 | D9: =+IFERROR(C9*30,"") -> 0
B12: TIPO DE GARANTÍA | C12: VALOR ASEGURADO | F12: COBERTURA ( DÍAS ) | G12: TASA ANUAL | H12: PRIMA
C13: % | D13: BASE | E13: VALOR
B14: CUMPLIMIENTO | C14: 0.2 | D14: =+$C$8 -> 0 | E14: =+IFERROR(C14*D14,"") -> 0 | F14: =+IFERROR($D$9+180,"") -> 180 | G14: 0.002 | H14: =+IFERROR(G14*E14*F14/360,"") -> 0
B15: SALARIOS Y PRESTACIONES SOCIALES | C15: 0.2 | D15: =+$C$8 -> 0 | E15: =+IFERROR(C15*D15,"") -> 0 | F15: =+IFERROR($D$9+1080,"") -> 1080 | G15: 0.0015 | H15: =+IFERROR(G15*E15*F15/360,"") -> 0
B16: CALIDAD DEL SERVICIO | C16: 0.2 | D16: =+$C$8 -> 0 | E16: =+IFERROR(C16*D16,"") -> 0 | F16: =+IF($C$8="","",1800) -> 1800 | G16: 0.0022 | H16: =+IFERROR(G16*E16*F16/360,"") -> 0
B17: DECRETO 1082 SMMLV RESPONSABILIDAD CIVIL | C17: SMMLV | D17: MONTO ASEGURABLE | F17: PLAZO MESES | G17: TASA ANUAL | H17: PRIMA
B18: =IF(C8="","",IF(D8<=1500,200,IF(D8<=2500,300,IF(D8<=5000,400,IF(D8<=10000,500,"5%"))))) -> 200 | C18: =+'MANO DE OBRA'!C3 -> 1750905 | D18: =+IFERROR(IF(D8>10000,D8+5%,B18*C18),"") -> 350181000 | F18: =+$C$9 -> 0 | G18: 0.002 | H18: =+IFERROR(G18*F18*D18/12,"") -> 0
B19: SUBTOTAL PRIMA | H19: =IFERROR(ROUND(IF(SUM(H14:H16,H18)=0,"",SUM(H14:H16,H18)),0),"")
B20: GASTOS DE EXPEDICIÓN | H20: =IFERROR(ROUND(IF(SUM(H15:H17,H19)=0,"",SUM(H15:H17,H19)),0),"")
B21: I.V.A. | H21: =IFERROR(ROUND(IF(SUM(H16:H18,H20)=0,"",SUM(H16:H18,H20)),0),"")
B22: TOTAL POLIZAS | H22: =IFERROR(ROUND(IF(SUM(H17:H19,H21)=0,"",SUM(H17:H19,H21)),0),"")
B23: % DEL COSTO DIRECTO DEL PERSONAL | H23: =+IFERROR(ROUND(H22/#REF!,4),"")

Sheet PGIO
B2: PLAN DE GESTION INTEGRAL DE OBRA (PGIO)
B3: SECRETARIA DE EDUCACION- INFRAESTRUCTURA
B4: MUNICIPIO DE BETANIA
B6: ÍTEM | C6: DESCRIPCIÓN | D6: UNIDAD | E6: CANTIDAD | F6: VALOR UNITARIO | G6: VALOR TOTAL | I6: 1.06
B7: 1 | C7: GESTIÓN SOCIAL Y COMUNICACIONES | G7: =+G8+G10+G14 -> 613759.08
B8: 1.1 | C8: Participación | G8: =SUM(G9) -> 454759.08
B9: 1.1.1 | C9: Reuniones con la comunidad de inicio y fin de obra. Incluye logística y refrigerio. | D9: un | E9: 1 | F9: =+I9*$I$6 -> 454759.08 | G9: =IF(E9="","-",E9*F9) -> 454759.08 | I9: 429018
B10: 1.2 | C10: Comunicación y divulgación | G10: =SUM(G11:G13) -> 159000
B11: 1.2.1 | C11: Afiches | D11: un | E11: 0 | F11: =+I11*$I$6 -> 3710 | G11: =IF(E11="","-",E11*F11) -> 0 | I11: 3500
B12: 1.2.2 | C12: Volantes según manual de imagen | D12: un | E12: 0 | F12: =+I12*$I$6 -> 689 | G12: =IF(E12="","-",E12*F12) -> 0 | I12: 650
B13: 1.2.5 | C13: Cartelera informativa de 1,2 m x 0,80 m en corcho | D13: un | E13: 1 | F13: =+I13*$I$6 -> 159000 | G13: =IF(E13="","-",E13*F13) -> 159000 | I13: 150000
