Workbook

Sheet DIAS CONTABLES Y CORRIENTES 202
C5: MES | D5: DIA CONTABLE | E5: DIA CALENDARIO
C6: ENERO
C7: FEBRERO
C8: MARZO
C9: ABRIL
C10: MAYO
C11: JUNIO | G11: 162 | H11: DIAS CONTABLES HATAS 12 DE JUNIO
C12: JULIO | G12: 163 | H12: DIAS CORRIENTES
C13: AGOSTO | D13: 0 | E13: 0
C14: SEPTIEMBRE | D14: 30 | E14: 30
C15: OCTUBRE | D15: 30 | E15: 31
C16: NOVIEMBRE | D16: 30 | E16: 30
C17: DICIMEBRE | D17: 30 | E17: 31
D18: =SUM(D6:D17) -> 120 | E18: =SUM(E6:E17) -> 122
C22: MES | D22: DIA CONTABLE | E22: DIA CALENDARIO
C23: ENERO | D23: 30 | E23: 31
C24: FEBRERO | D24: 30 | E24: 28
C25: MARZO | D25: 30 | E25: 31
C26: ABRIL | D26: 30 | E26: 30 | H26: CA-001-2026 INICIAL
C27: MAYO | D27: 30 | E27: 31
C28: JUNIO | D28: 12 | E28: 12 | G28: =D23+D24+D25+D26+D27+D28 -> 162 | H28: DIAS CONTABLES HATAS 12 DE JUNIO
D29: =SUM(D23:D28) -> 162 | E29: =SUM(E23:E28) -> 163 | G29: =E23+E24+E25+E26+E27+E28 -> 163 | H29: DIAS CALENDARIO HASTA EL 12 JUNIO
C33: MES | D33: DIA CONTABLE | E33: DIA CALENDARIO
C34: JUNIO | D34: 18 | E34: 18
C35: JULIO | D35: 30 | E35: 31
C36: AGOSTO | D36: 30 | E36: 31
C37: SEPTIEMBRE | D37: 30 | E37: 30 | H37: CA-00X-2026 SEGUNDO SEMESTRE
C38: OCTUBRE | D38: 30 | E38: 31
C39: NOVIEMBRE | D39: 30 | E39: 30 | G39: =D34+D35+D36+D37+D38+D39+D40 -> 198 | H39: DIAS CONTABLES HATAS 31 DE DICIEMBRE
C40: DICIMEBRE | D40: 30 | E40: 31 | G40: =E34+E35+E36+E37+E38+E39+E40 -> 202 | H40: DIAS CALENDARIO HASTA EL 31 DE DICIMEBRE
D41: =SUM(D34:D40) -> 198 | E41: =SUM(E34:E40) -> 202
C45: MES | D45: DIA CONTABLE | E45: DIA CALENDARIO
C46: SEPTIEMBRE | D46: 28 | E46: 28 | H46: CA-00X-2026 SEGUNDO SEMESTRE
C47: OCTUBRE | D47: 30 | E47: 31 | L47: Tipo de contrato (bien o servicio) | M47: Convenio de Asociación Régimen especial - Decreto 092 de 2017. (Convenio de Interés Público y Social)
C48: NOVIEMBRE | D48: 30 | E48: 30 | G48: =D46+D47+D48+D49 -> 118 | H48: DIAS CONTABLES HATAS 31 DE DICIEMBRE | L48: Objeto a contratar | M48: Aunar esfuerzos administrativos, técnicos y financieros para la prestación del servicio de atención integral de las personas mayores vulnerables del municipio de Copacabana, en la modalidad de cupo persona para la vigencia 2026, según los lineamientos establecidos por la Administración Municipal en el Plan de Desarrollo 2024- 2027 “Somos un Nuevo Aire”
C49: DICIMEBRE | D49: 30 | E49: 31 | G49: =E46+E47+E48+E49 -> 120 | H49: DIAS CALENDARIO HASTA EL 31 DE DICIMEBRE | L49: Cuantía estimada | M49: 1020000000
D50: =SUM(D46:D49) -> 118 | E50: =SUM(E46:E49) -> 120 | L50: Fuente de financiación (si aplica) | M50: 2024052120064-SLD-431-11001-ICLD 2024052120064-SLD-431-13001-Estampilla ProBienestar del anciano
L51: Fecha tentativa de inicio | M51: 13 de junio de 2026
L52: Tiempo estimado de ejecución | M52: Doscientos dos (202) dias calendario
L57: CONCEPTO | M57: VALOR | N57: PORCENTAJE
...

Sheet RESUMEN
B1: MENSUAL | F1: TOTAL CONTRATO
B2: CONCEPTO | C2: ADULTO MAYOR | F2: =+C2 -> ADULTO MAYOR | I2: =+D2 -> 0 | J2: =+E2 -> 0 | K2: TOTAL
B3: CUPOS MES | C3: 35 | D3: 0 | E3: 0 | F3: 100 | I3: =+D3*$C$12 -> 0 | J3: =+E3*$C$12 -> 0 | K3: =SUM(F3:J3) -> 100
D4: =+D3/#REF! -> #REF! | E4: =+E3/#REF! -> #REF! | F4: 1 | I4: =+I3/$K$3 -> 0 | J4: 1
H5: 0.014926907
B6: CONCEPTO | C6: TOTAL CUPOS | D6: PARTICIPACIÓN | E6: MUNICIPIO | F6: TOTAL
B7: =+C2 -> ADULTO MAYOR | C7: =+C3*$C$12 -> 3605 | D7: =+C7/$C$10 -> 1 | E7: 1 | F7: =+E7+#REF! -> #REF!
B8: =+D2 -> 0 | C8: =+D3*C12 -> 0 | D8: =+C8/$C$10 -> 0 | E8: =ROUND(F15*E7,0) -> 0 | F8: =+E8+#REF! -> #REF!
B9: =+E2 -> 0 | C9: =+E3*C12 -> 0 | D9: =+C9/$C$10 -> 0
B10: TOTAL | C10: =SUM(C7:C9) -> 3605 | D10: =+C10/$C$10 -> 1 | H10: =+F14 -> 101 | I10: =+ROUND((I11*H10)/H11,2) -> 3.37
H11: =3*30 -> 90 | I11: 3
B12: DIAS CALENDARIO | C12: =+G14 -> 103 | F12: 46268
B13: DÍAS CONTABLES | C13: =+F14 -> 101 | F13: 46370
F14: =DAYS360(F12,F13) -> 101 | G14: =_xlfn.DAYS(F13,F12)+1 -> 103
A15: MENSUAL | B15: CONCEPTO | C15: COSTO/MES | D15: COSTO TOTAL
B16: =+'COSTOS DIRECTOS'!B5 -> ALOJAMIENTO | C16: =ROUND('COSTOS DIRECTOS'!C5,0) -> 18392500 | D16: =ROUND('COSTOS DIRECTOS'!E5,0) -> 62096583
B17: =+'COSTOS DIRECTOS'!B8 -> ALIMENTACIÓN | C17: =ROUND('COSTOS DIRECTOS'!D27,0) -> 30023507 | D17: =ROUND('COSTOS DIRECTOS'!E8,0) -> 114612864 | G17: 13
B18: =+'COSTOS DIRECTOS'!B10 -> ESPARCIMIENTO, ASEO Y SALUD | C18: =ROUND('COSTOS DIRECTOS'!C10,0) -> 21228446 | D18: =ROUND('COSTOS DIRECTOS'!E10,0) -> 58312283 | G18: 14
B19: COSTO PERSONAL | C19: =ROUND(PERSONAL!R30,0) -> 74984917 | D19: =ROUND(PERSONAL!S30,0) -> 252449219
B20: COSTOS ADMINISTRATIVOS DE OPERACIÓN | C20: =ROUND('COSTOS ADMINISTRATIVOS'!P11,0) -> 21035893 | D20: =ROUND('COSTOS ADMINISTRATIVOS'!Q11,0) -> 70820840
B21: GASTOS INDIRECTOS ASOCIADOS A LA PUESTA EN MARCHA DEL PROYECTOS | C21: =ROUND(SUM(C16:C20)*$H$5,0) -> 2472870 | D21: =ROUND(SUM(D16:D20)*$H$5,0) -> 8333569
B22: VALOR TOTAL | C22: =SUM(C16:C21) -> 168138133 | D22: =SUM(D16:D21) -> 566625358
B24: VALOR INDIVIDUAL POR PRESTACIÓN
B25: =+B15 -> CONCEPTO | C25: =+C15 -> COSTO/MES
B26: ALOJAMIENTO | C26: =ROUND(C16/$C$3,0) -> 525500
B27: ALIMENTACIÓN | C27: =ROUND(C17/$C$3,0) -> 857814
B28: ESPARCIMIENTO, ASEO Y SALUD | C28: =ROUND(C18/$C$3,0) -> 606527
B29: ASISTENCIA | C29: =ROUND(C19/$C$3,0) -> 2142426
B30: COSTOS ADMINISTRATIVOS DE OPERACIÓN | C30: =ROUND(C20/$C$3,0) -> 601026
B31: GASTOS INDIRECTOS ASOCIADOS A LA PUESTA EN MARCHA DEL PROYECTOS | C31: =ROUND(C21/$C$3,0) -> 70653
D32: TOTAL MES | E32: TOTAL AÑO
B33: TOTAL COSTO UNITARIO | C33: =SUM(C26:C31) -> 4803946 | D33: =+C33*$C$3 -> 168138110 | E33: =ROUND(D33*$I$10,0)-85+12 -> 566625358 | F33: =+E33-D22 -> 0 | G33: 511999190 | H33: =+G33-E34 -> 2036422
B34: APORTE MUNICIPIO | C34: =+C33*90% -> 4323551.4 | D34: =+C34*$C$3 -> 151324299 | E34: =ROUND(D34*$I$10,0)-85-35 -> 509962768 | F34: =+E34/E33 -> 0.8999999
B35: APORTE ASOCIADO MÍNIMO | C35: =ROUND(C33-C34,0) -> 480395 | D35: =+C35*$C$3 -> 16813825 | E35: =ROUND(D35*$I$10,0) -> 56662590 | F35: =+E35/E33 -> 0.1000001
G37: =+E34 -> 509962768
E39: =+E34+E35 -> 566625358
B40: CONCEPTO | C40: VALOR | D40: PORCENTAJE | E40: =+E39-E33 -> 0
B41: APORTE MUNICIPIO | C41: =+E34 -> 509962768 | D41: =+C41/$C$43 -> 0.8999999
B42: APORTE ASOCIADO | C42: =+E35 -> 56662590 | D42: =+C42/$C$43 -> 0.1000001
B43: TOTAL CONVENIO | C43: =+C41+C42 -> 566625358 | D43: =+C43/$C$43 -> 1

Sheet Hoja1
F6: =SUM(F7:F24) -> 509962768
E7: =+RESUMEN!E34 -> 509962768 | F7: 141375817
F8: 65638771
F11: 151474090
F12: 151474090

Sheet PERSONAL
A1: CONCEPTO | B1: FUNDACION HUELLAS DEL AYER | C1: Tipo vinculación | D1: SALARIO | E1: 0.051
A2: Enfermero jefe | B2: 1 | C2: Vinculados | D2: 4500000 | E2: =+D2 -> 4500000
A3: Gestora de enfermería | B3: 1 | C3: Vinculados | D3: 1970000 | E3: =+D3 -> 1970000 | H3: contables
A4: Auxiliares en gerontología o cuidadores certificados / y/o Auxiliar de enfermería | B4: 7 | C4: Vinculados | D4: 1820000 | E4: =+D4 -> 1820000 | H4: =+RESUMEN!C13 -> 101
A5: Trabajador Social | B5: 0.5 | C5: Vinculados | D5: 3500000 | E5: =+D5 -> 3500000
A6: Nutricionista | B6: 0.5 | C6: Prestación de servicios | D6: 3300000 | E6: =+D6 -> 3300000
A7: Fisioterapeuta | B7: 0.5 | C7: Prestación de servicios | D7: 3300000 | E7: =+D7 -> 3300000
A8: Gerontologo | B8: 1 | C8: Vinculados | D8: 2200000 | E8: =+D8 -> 2200000 | L8: =236400+167450+20567 -> 424417
A9: Psicólogo | B9: 0.5 | C9: Prestación de servicios | D9: 3000000 | E9: =+D9 -> 3000000
A10: Manipuladoras de alimentos | B10: 3 | C10: Vinculados | D10: 1430000 | E10: =+IF(D10>=$C$33,D10*(1+$E$1),$C$33) -> 1750905
A11: Mantenimiento sede | B11: 1 | C11: Vinculados | D11: 1430000 | E11: =+IF(D11>=$C$33,D11*(1+$E$1),$C$33) -> 1750905
A12: Personal de servicios Generales | B12: 3 | C12: Vinculados | D12: 1430000 | E12: =+IF(D12>=$C$33,D12*(1+$E$1),$C$33) -> 1750905
A13: TOTAL | B13: =ROUND(SUM(B2:B12),2) -> 19 | D13: =SUM(D2:D12) -> 27880000
F16: 0.2 | G16: 0.205 | H16: 0.01044 | I16: 0.04 | J16: 0.03 | K16: 0.02 | L16: 0.0833 | M16: 0.0833 | N16: 0.01 | O16: 0.0417 | P16: 0.05 | Q16: 0.025
A17: PERFIL | B17: =+C1 -> Tipo vinculación | C17: Cantidad | D17: Salarios | E17: Auxilio de transporte | F17: Recargos | G17: Seguridad Social | H17: ARL | I17: Caja de compensación | J17: SENA | K17: ICBF | L17: Cesantías | M17: Prima | N17: Intereses Cesantías | O17: Vacaciones | P17: Dotación | Q17: SST | R17: COSTO TOTAL PERSONAL | S17: COSTO TOTAL
A18: Gerontologo coordinador | B18: =+C2 -> Vinculados | C18: =+B2 -> 1 | D18: =+E2 -> 4500000 | E18: =IF(D18>=$C$32,0,249095) -> 0 | G18: =+D18*$G$16 -> 922500 | H18: 109350 | I18: =+D18*$I$16 -> 180000 | J18: =+D18*$J$16 -> 135000 | K18: =+D18*$K$16 -> 90000 | L18: =+D18*$L$16 -> 374850 | M18: =+D18*$M$16 -> 374850 | N18: =(L18*$H$4*0.12)/360 -> 12619.95 | O18: =+D18*$O$16 -> 187650 | P18: =+D18*$P$16 -> 225000 | Q18: =+D18*$Q$16 -> 112500 | R18: =+SUM(D18:Q18)*C18 -> 7224320 | S18: =+(R18/30)*$H$4 -> 24321877
A19: =+A3 -> Gestora de enfermería | B19: =+C3 -> Vinculados | C19: =+B3 -> 1 | D19: =+E3 -> 1970000 | E19: =IF(D19>=$C$32,0,249095) -> 249095 | F19: =+D19*F16 -> 394000 | G19: =+D19*$G$16 -> 403850 | H19: 47871 | I19: =+D19*$I$16 -> 78800 | J19: =+D19*$J$16 -> 59100 | K19: =+D19*$K$16 -> 39400 | L19: =(D19+E19)*$L$16 -> 184850.61 | M19: =(D19+E19)*$M$16 -> 184850.61 | N19: =(L19*$H$4*0.12)/360 -> 6223.304 | O19: =+D19*$O$16 -> 82149 | P19: =+D19*$P$16 -> 98500 | Q19: =+D19*$Q$16 -> 49250 | R19: =+SUM(D19:Q19)*C19 -> 3847939.5 | S19: =+(R19/30)*$H$4 -> 12954730
A20: =+A4 -> Auxiliares en gerontología o cuidadores certificados / y/o Auxiliar de enfermería | B20: =+C4 -> Vinculados | C20: =+B4 -> 7 | D20: =+E4 -> 1820000 | E20: =IF(D20>=$C$32,0,249095) -> 249095 | F20: =+D20*F16 -> 364000 | G20: =+D20*$G$16 -> 373100 | H20: 44226 | I20: =+D20*$I$16 -> 72800 | J20: =+D20*$J$16 -> 54600 | K20: =+D20*$K$16 -> 36400 | L20: =+D20*$L$16 -> 151606 | M20: =+D20*$M$16 -> 151606 | N20: =(L20*$H$4*0.12)/360 -> 5104.0687 | O20: =+D20*$O$16 -> 75894 | P20: =+D20*$P$16 -> 91000 | Q20: =+D20*$Q$16 -> 45500 | R20: =+SUM(D20:Q20)*C20 -> 24744517 | S20: =+(R20/30)*$H$4 -> 83306542
A21: =+A5 -> Trabajador Social | B21: =+C5 -> Vinculados | C21: =+B5 -> 0.5 | D21: =+E5 -> 3500000 | E21: =IF(D21>=$C$32,0,249095) -> 249095 | G21: =+D21*$G$16 -> 717500 | H21: 18270 | I21: =+D21*$I$16 -> 140000 | J21: =+D21*$J$16 -> 105000 | K21: =+D21*$K$16 -> 70000 | L21: =+D21*$L$16 -> 291550 | M21: =+D21*$M$16 -> 291550 | N21: =(L21*$H$4*0.12)/360 -> 9815.5167 | O21: =+D21*$O$16 -> 145950 | P21: =+D21*$P$16 -> 175000 | Q21: =+D21*$Q$16 -> 87500 | R21: =+SUM(D21:Q21)*C21 -> 2900615.3 | S21: =+(R21/30)*$H$4 -> 9765404.7
A22: =+A6 -> Nutricionista | B22: =+C6 -> Prestación de servicios | C22: =+B6 -> 0.5 | D22: =+E6 -> 3300000 | E22: 0 | Q22: =+D22*$Q$16 -> 82500 | R22: =+SUM(D22:Q22)*C22 -> 1691250 | S22: =+(R22/30)*$H$4 -> 5693875
A23: =+A7 -> Fisioterapeuta | B23: =+C7 -> Prestación de servicios | C23: =+B7 -> 0.5 | D23: =+E7 -> 3300000 | E23: 0 | Q23: =+D23*$Q$16 -> 82500 | R23: =+SUM(D23:Q23)*C23 -> 1691250 | S23: =+(R23/30)*$H$4 -> 5693875
A24: Enfermero en jefe | B24: Prestación de servicios | C24: 0.5 | D24: 8000000 | Q24: =+D24*$Q$16 -> 200000 | R24: =+SUM(D24:Q24)*C24 -> 4100000 | S24: =+(R24/30)*$H$4 -> 13803333
A25: Tecnólogo gerontologo | B25: =+C8 -> Vinculados | C25: 1 | D25: =+E8 -> 2200000 | E25: =IF(D25>=$C$32,0,249095) -> 249095 | G25: =+D25*$G$16 -> 451000 | H25: 53460 | I25: =+D25*$I$16 -> 88000 | J25: =+D25*$J$16 -> 66000 | K25: =+D25*$K$16 -> 44000 | L25: =+D25*$L$16 -> 183260 | M25: =+D25*$M$16 -> 183260 | N25: =(L25*$H$4*0.12)/360 -> 6169.7533 | O25: =+D25*$O$16 -> 91740 | P25: =+D25*$P$16 -> 110000 | Q25: =+D25*$Q$16 -> 55000 | R25: =+SUM(D25:Q25)*C25 -> 3780984.8 | S25: =+(R25/30)*$H$4 -> 12729315
A26: =+A9 -> Psicólogo | B26: =+C9 -> Prestación de servicios | C26: =+B9 -> 0.5 | D26: =+E9 -> 3000000 | E26: 0 | Q26: =+D26*$Q$16 -> 75000 | R26: =+SUM(D26:Q26)*C26 -> 1537500 | S26: =+(R26/30)*$H$4 -> 5176250
A27: =+A10 -> Manipuladoras de alimentos | B27: =+C10 -> Vinculados | C27: =+B10 -> 3 | D27: =+E10 -> 1750905 | E27: =IF(D27>=$C$32,0,249095) -> 249095 | F27: =+D27*F16 -> 350181 | G27: =+D27*$G$16 -> 358935.52 | H27: 34749 | I27: =+D27*$I$16 -> 70036.2 | J27: =+D27*$J$16 -> 52527.15 | K27: =+D27*$K$16 -> 35018.1 | L27: =+D27*$L$16 -> 145850.39 | M27: =+D27*$M$16 -> 145850.39 | N27: =(L27*$H$4*0.12)/360 -> 4910.2963 | O27: =+D27*$O$16 -> 73012.739 | P27: =+D27*$P$16 -> 87545.25 | Q27: =+D27*$Q$16 -> 43772.625 | R27: =+SUM(D27:Q27)*C27 -> 10207166 | S27: =+(R27/30)*$H$4 -> 34364125
A28: =+A11 -> Mantenimiento sede | B28: =+C11 -> Vinculados | C28: 1 | D28: =+E11 -> 1750905 | E28: =IF(D28>=$C$32,0,249095) -> 249095 | G28: =+D28*$G$16 -> 358935.52 | H28: 34749 | I28: =+D28*$I$16 -> 70036.2 | J28: =+D28*$J$16 -> 52527.15 | K28: =+D28*$K$16 -> 35018.1 | L28: =+D28*$L$16 -> 145850.39 | M28: =+D28*$M$16 -> 145850.39 | N28: =(L28*$H$4*0.12)/360 -> 4910.2963 | O28: =+D28*$O$16 -> 73012.739 | P28: =+D28*$P$16 -> 87545.25 | Q28: =+D28*$Q$16 -> 43772.625 | R28: =+SUM(D28:Q28)*C28 -> 3052207.7 | S28: =+(R28/30)*$H$4 -> 10275766
A29: =+A12 -> Personal de servicios Generales | B29: =+C12 -> Vinculados | C29: =+B12 -> 3 | D29: =+E12 -> 1750905 | E29: =IF(D29>=$C$32,0,249095) -> 249095 | F29: =+D29*F16 -> 350181 | G29: =+D29*$G$16 -> 358935.52 | H29: 34749 | I29: =+D29*$I$16 -> 70036.2 | J29: =+D29*$J$16 -> 52527.15 | K29: =+D29*$K$16 -> 35018.1 | L29: =+D29*$L$16 -> 145850.39 | M29: =+D29*$M$16 -> 145850.39 | N29: =(L29*$H$4*0.12)/360 -> 4910.2963 | O29: =+D29*$O$16 -> 73012.739 | P29: =+D29*$P$16 -> 87545.25 | Q29: =+D29*$Q$16 -> 43772.625 | R29: =+SUM(D29:Q29)*C29 -> 10207166 | S29: =+(R29/30)*$H$4 -> 34364125
A30: =+A13 -> TOTAL | C30: =+B13 -> 19 | D30: =SUM(D18:D29) -> 36842715 | E30: =SUM(E18:E29) -> 1743665 | F30: =SUM(F18:F29) -> 1458362 | G30: =SUM(G18:G29) -> 3944756.6 | H30: =SUM(H18:H29) -> 377424 | I30: =SUM(I18:I29) -> 769708.6 | J30: =SUM(J18:J29) -> 577281.45 | K30: =SUM(K18:K29) -> 384854.3 | ... Q30: =SUM(Q18:Q29) -> 921067.88 | R30: =+SUM(R18:R29) -> 74984917 | S30: =+SUM(S18:S29) -> 2.5244922e+08
C32: 3501810 | P32: dia | Q32: =+R30/30 -> 2499497.2
C33: 1750905 | D33: =+C33*2 -> 3501810

Sheet COSTOS DIRECTOS
E2: TOTAL | H2: 0.1 | I2: 0.051
B3: CONCEPTO | C3: VALOR MES | D3: VALOR DIA | E3: VALOR TOTAL 365 DIAS
B5: ALOJAMIENTO | C5: =C6+C7 -> 18392500 | D5: =SUM(D6:D7) -> 613083.33 | E5: =+E6+E7 -> 62096583
B6: Arrendamiento | C6: =+(15000000*(1+I2)) -> 15765000 | D6: =+C6/30 -> 525500 | E6: =D6*RESUMEN!C13 -> 53075500
B7: Servicios públicos | C7: =2500000*(1+I2) -> 2627500 | D7: =+C7/30 -> 87583.333 | E7: =D7*RESUMEN!C12 -> 9021083.3
B8: ALIMENTACIÓN | C8: =+C9 -> 0 | D8: =+C8/30 -> 0 | E8: =+E9 -> 1.1461286e+08
B9: Compra alimentación | D9: =+(C20+C21+C22+C23+C24+C25)*RESUMEN!C3 -> 947213.75 | E9: =+L26 -> 1.1461286e+08
B10: ESPARCIMIENTO, ASEO Y SALUD | C10: =SUM(C11:C14) -> 21228446 | D10: =+C10/30 -> 707614.88 | E10: =+E11+E12+E13 -> 58312283
B11: ESPARCIMIENTO: YOGA (4 AL MES) CLASES DE HUERTA Y JARDINERIA (4 AL MES) GIMNASIO (4 AL MES) MISAS (2 AL MES) HIDROAEROBICOS (4 AL MES) | C11: =9160000*(1+I2) -> 9627160 | D11: =+C11/30 -> 320905.33 | E11: =+D11*RESUMEN!C12 -> 33053249 | H11: 2 EUCARISTIAS
B12: ASEO INSTITUCIONAL | C12: =2500000*(1+I2) -> 2627500 | D12: =+C12/30 -> 87583.333 | E12: =+D12*RESUMEN!C12 -> 9021083.3 | H12: 4 HIDROAEROBICOS
B13: TRANSPORTE (CITAS, TRAMITES, TRASLADOS) TENER EN CUENTA PEAJES | C13: =4500000*(1+I2) -> 4729500 | D13: =+C13/30 -> 157650 | E13: =+D13*RESUMEN!C12 -> 16237950
B14: MANTENIMIENTO PISCINA Y JARDINES (Mano de obra + insumos) | C14: =4038331.54*(1+I2) -> 4244286.4 | D14: =+C14/30 -> 141476.21 | E14: =+D14*RESUMEN!C13 -> 14289098
B19: Concepto | C19: Valor | D19: Valor por cupo | E19: Junio | F19: Julio | G19: Agosto | H19: Septiembre | I19: Octubre | J19: Noviembre | K19: Diciembre | L19: TOTAL
B20: Desayuno | C20: =4000*(1+I2) -> 4204 | D20: =+C20*RESUMEN!$C$3 -> 147140 | E20: =+D20*$C$28 -> 2648520 | F20: =+D20*$C$29 -> 0 | G20: =+D20*$C$30 -> 0 | H20: =+D20*$C$31 -> 4119920 | I20: =+D20*$C$32 -> 4561340 | J20: =+D20*$C$33 -> 4414200 | K20: =+D20*$C$34 -> 2059960 | L20: =SUM(E20:K20) -> 17803940 | N20: Justificar esto en la propuesta, porque me vale esto cada adulto mayor. Los dias de atención VS valores de cada ración
B21: Media mañana | C21: =2650*(1+5.1%) -> 2785.15 | D21: =+C21*RESUMEN!$C$3 -> 97480.25 | E21: =+D21*$C$28 -> 1754644.5 | F21: =+D21*$C$29 -> 0 | G21: =+D21*$C$30 -> 0 | H21: =+D21*$C$31 -> 2729447 | I21: =+D21*$C$32 -> 3021887.7 | J21: =+D21*$C$33 -> 2924407.5 | K21: =+D21*$C$34 -> 1364723.5 | L21: =SUM(E21:K21) -> 11795110 | N21: la atencion se da con base a meses corridos porque atiendo de lunes a lunes 24 horas
B22: Almuerzo | C22: =8000*(1+5.1%) -> 8408 | D22: =+C22*RESUMEN!$C$3 -> 294280 | E22: =+D22*$C$28 -> 5297040 | F22: =+D22*$C$29 -> 0 | G22: =+D22*$C$30 -> 0 | H22: =+D22*$C$31 -> 8239840 | I22: =+D22*$C$32 -> 9122680 | J22: =+D22*$C$33 -> 8828400 | K22: =+D22*$C$34 -> 4119920 | L22: =SUM(E22:K22) -> 35607880
B23: Media tarde | C23: =2650*(1+5.1%) -> 2785.15 | D23: =+C23*RESUMEN!$C$3 -> 97480.25 | E23: =+D23*$C$28 -> 1754644.5 | F23: =+D23*$C$29 -> 0 | G23: =+D23*$C$30 -> 0 | H23: =+D23*$C$31 -> 2729447 | I23: =+D23*$C$32 -> 3021887.7 | J23: =+D23*$C$33 -> 2924407.5 | K23: =+D23*$C$34 -> 1364723.5 | L23: =SUM(E23:K23) -> 11795110
B24: Cena | C24: =6000*(1+5.1%) -> 6306 | D24: =+C24*RESUMEN!$C$3 -> 220710 | E24: =+D24*$C$28 -> 3972780 | F24: =+D24*$C$29 -> 0 | G24: =+D24*$C$30 -> 0 | H24: =+D24*$C$31 -> 6179880 | I24: =+D24*$C$32 -> 6842010 | J24: =+D24*$C$33 -> 6621300 | K24: =+D24*$C$34 -> 3089940 | L24: =SUM(E24:K24) -> 26705910
B25: Merienda | C25: =2450*(1+5.1%) -> 2574.95 | D25: =+C25*RESUMEN!$C$3 -> 90123.25 | E25: =+D25*$C$28 -> 1622218.5 | F25: =+D25*$C$29 -> 0 | G25: =+D25*$C$30 -> 0 | H25: =+D25*$C$31 -> 2523451 | I25: =+D25*$C$32 -> 2793820.8 | J25: =+D25*$C$33 -> 2703697.5 | K25: =+D25*$C$34 -> 1261725.5 | L25: =SUM(E25:K25) -> 10904913
B26: TOTAL | D26: =SUM(D20:D25) -> 947213.75 | E26: =+D26*$C$28 -> 17049848 | F26: =SUM(F20:F25) -> 0 | G26: =+D26*$C$30 -> 0 | H26: =+D26*$C$31 -> 26521985 | I26: =+D26*$C$32 -> 29363626 | J26: =+D26*$C$33 -> 28416412 | K26: =+D26*$C$34 -> 13260992 | L26: =SUM(L20:L25) -> 1.1461286e+08
B27: Días de atención | C27: Días | D27: =30922708.16-456727-194074-82452-35030-14880-6312-2702-1135-481-203-84-44-25-5-59896-25770-11065-4755-2042-882-391-174-57-17+2 -> 30023507
B28: junio | C28: 18
B29: Julio | C29: 0 | D29: 10
B30: agosto | C30: 0 | D30: 30
B31: septiembre | C31: 28 | D31: 30 | I31: =+RESUMEN!E35 -> 56662590
B32: octubre | C32: 31 | D32: 30 | G32: =+RESUMEN!F33 -> 0 | I32: =+E11 -> 33053249
B33: noviembre | C33: 30 | D33: 30 | G33: =+G32/6 -> 0 | I33: =+I31-I32 -> 23609341
B34: diciembre | C34: 14 | D34: 27
B35: TOTAL DÍAS DE ATENCIÓN | C35: =SUM(C28:C34) -> 121 | G35: 86383.167
G36: 7824.3333
G37: 726.66667
B38: Impuesto de industria y comerico | C38: 0.008 | G38: 62.166667
B39: timbre | C39: 0 | G39: 1.6666667
G40: =1.66666666666667 -> 1.6666667
G41: 0.83333333
G42: -1.8333333

Sheet COSTOS ADMINISTRATIVOS
B2: COSTO MENSUAL
E4: 0.205 | F4: 0.00522 | G4: 0.04 | H4: 0.03 | I4: 0.02 | J4: 0.0833 | K4: 0.0833 | L4: 0.01 | M4: 0.0417 | N4: 0.05 | O4: 0.025
A5: Cantidad | B5: Perfil | C5: Salario | D5: Auxilio de transporte | E5: Seguridad Social | F5: ARL | G5: Caja de compensación | H5: SENA | I5: ICBF | J5: Cesantías | K5: Prima | L5: Intereses Cesantías | M5: Vacaciones | N5: Dotación | O5: SST | P5: COSTO TOTAL PERSONAL | Q5: COSTO TOTAL | S5: MANTENIMIENTO CON INSUMOS PISCINA / JARDINERIA Y ROSERIA
A6: 0.4 | B6: CONTADOR | C6: 5000000 | E6: =+C6*$E$4 -> 1025000 | F6: =+C6*$F$4 -> 26100 | G6: =+C6*$G$4 -> 200000 | H6: =+C6*$H$4 -> 150000 | I6: =+C6*$I$4 -> 100000 | J6: =+C6*$J$4 -> 416500 | K6: =+C6*$K$4 -> 416500 | L6: =+(J6*PERSONAL!$H$4*0.12)/360 -> 14022.167 | M6: =+C6*$M$4 -> 208500 | N6: =+C6*$N$4 -> 250000 | O6: =+C6*$O$4 -> 125000 | P6: =+SUM(C6:O6)*A6 -> 3172648.9 | Q6: =+(P6/30)*PERSONAL!$H$4 -> 10681251
A7: 0.5 | B7: FINANCIERO | C7: 5000000 | E7: =+C7*$E$4 -> 1025000 | F7: =+C7*$F$4 -> 26100 | G7: =+C7*$G$4 -> 200000 | H7: =+C7*$H$4 -> 150000 | I7: =+C7*$I$4 -> 100000 | J7: =+C7*$J$4 -> 416500 | K7: =+C7*$K$4 -> 416500 | L7: =+(J7*PERSONAL!$H$4*0.12)/360 -> 14022.167 | M7: =+C7*$M$4 -> 208500 | N7: =+C7*$N$4 -> 250000 | O7: =+C7*$O$4 -> 125000 | P7: =+SUM(C7:O7)*A7 -> 3965811.1 | Q7: =+(P7/30)*PERSONAL!$H$4 -> 13351564
A8: 0.5 | B8: ABOGADO | C8: 5000000 | E8: =+C8*$E$4 -> 1025000 | F8: =+C8*$F$4 -> 26100 | G8: =+C8*$G$4 -> 200000 | H8: =+C8*$H$4 -> 150000 | I8: =+C8*$I$4 -> 100000 | J8: =+C8*$J$4 -> 416500 | K8: =+C8*$K$4 -> 416500 | L8: =+(J8*PERSONAL!$H$4*0.12)/360 -> 14022.167 | M8: =+C8*$M$4 -> 208500 | N8: =+C8*$N$4 -> 250000 | O8: =+C8*$O$4 -> 125000 | P8: =+SUM(C8:O8)*A8 -> 3965811.1 | Q8: =+(P8/30)*PERSONAL!$H$4 -> 13351564
A9: 1 | B9: COORDINADOR ADMINISTRATIVO | C9: 5000000 | E9: =+C9*$E$4 -> 1025000 | F9: =+C9*$F$4 -> 26100 | G9: =+C9*$G$4 -> 200000 | H9: =+C9*$H$4 -> 150000 | I9: =+C9*$I$4 -> 100000 | J9: =+C9*$J$4 -> 416500 | K9: =+C9*$K$4 -> 416500 | L9: =+(J9*PERSONAL!$H$4*0.12)/360 -> 14022.167 | M9: =+C9*$M$4 -> 208500 | N9: =+C9*$N$4 -> 250000 | O9: =+C9*$O$4 -> 125000 | P9: =+SUM(C9:O9)*A9 -> 7931622.2 | Q9: =+(P9/30)*PERSONAL!$H$4 -> 26703128 | R9: =+'COSTOS DIRECTOS'!I33 -> 23609341 | S9: =+Q9-R9 -> 3093787.3
A10: 1 | B10: GASTOS DE OFICINA Y PAPELERIA | C10: =1500000*(1+5.1%) -> 1576500 | P10: 2000000 | Q10: =+(P10/30)*PERSONAL!$H$4 -> 6733333.3
A11: TOTAL | P11: =+SUM(P6:P10) -> 21035893 | Q11: =+SUM(Q6:Q10) -> 70820840
O13: dia | P13: =+P11/30 -> 701196.44 | Q13: =+Q9+'COSTOS DIRECTOS'!E11 -> 59756377

Sheet INDIRECTOS
C2: BG | D2: =+RESUMEN!D22 -> 566625358
B3: ÍTEM | C3: Porcentaje | D3: Valor
B4: Impuesto de industria y comerico | C4: 0.01 | D4: =ROUND($D$2*C4,0) -> 5666254 | F4: ICA 10X1000 | G4: =10/1000 -> 0.01
B5: timbre | C5: 0 | D5: =ROUND($D$2*C5,0) -> 0 | F5: 0.01 | K5: 742192075
B6: Pólizas | C6: 0.0049269066 | D6: =ROUND(D2*C6,0) -> 2791710 | F6: =+D6/D2 -> 0.0049269062 | K6: 3656711
B7: Total | C7: =SUM(C4:C6) -> 0.014926907 | D7: =SUM(D4:D6) -> 8457964 | K7: =+K6/K5 -> 0.0049269066
D11: =+RESUMEN!D21 -> 8333569 | E11: =+D11/D2 -> 0.01470737 | H11: =+E12-0.05217%+0.10127%+0.00448%+0.00021%+H15+H16+H17-H18-H19-H20-H21-H22-H23-H24+H25-H26-H27-H28-H31-H32-H33-H34-H35-H36 -> 0.015153096 | I11: =+E12*(1-E13) -> 0.014930184
D12: =+D7 -> 8457964 | E12: =+D12/D2 -> 0.014926907
D13: =+D11-D12 -> -124395 | E13: =+(D13*E11)/D11 -> -0.00021953659
H15: -7.4256033e-08
H16: -1.4493029e-07
H17: -2.8274513e-07
H18: -5.524854e-07
H19: -2.596196e-08
H20: -1.2259733e-09
H21: -0.0020000011
H22: -0.00060623792
B23: =+RESUMEN!B15 -> CONCEPTO | C23: =+RESUMEN!D15 -> COSTO TOTAL | D23: APORTE MUNICIPIO | E23: APORTE HUELLAS | F23: NATURALEZA APORTE | H23: 0.0023777439
B24: =+RESUMEN!B16 -> ALOJAMIENTO | C24: =+RESUMEN!D16 -> 62096583 | D24: =+C24 -> 62096583 | H24: 0.00012286097
B25: =+RESUMEN!B17 -> ALIMENTACIÓN | C25: =+RESUMEN!D17 -> 114612864 | D25: =+C25 -> 114612864 | H25: 6.0627499e-06
B26: =+RESUMEN!B18 -> ESPARCIMIENTO, ASEO Y SALUD | C26: =+RESUMEN!D18 -> 58312283 | D26: =+C26-'COSTOS DIRECTOS'!I32 -> 25259034 | E26: =+C26-D26 -> 33053249 | F26: ESPECIE | H26: 1.1827728e-05
B27: =+RESUMEN!B19 -> COSTO PERSONAL | C27: =+RESUMEN!D19 -> 252449219 | D27: =+C27 -> 252449219 | H27: 5.8058445e-07
B28: =+RESUMEN!B20 -> COSTOS ADMINISTRATIVOS DE OPERACIÓN | C28: =+RESUMEN!D20 -> 70820840 | D28: =+C28-'COSTOS DIRECTOS'!I33 -> 47211499 | E28: =+C28-D28 -> 23609341 | F28: ESPECIE | H28: 3.0882169e-08
B29: =+RESUMEN!B21 -> GASTOS INDIRECTOS ASOCIADOS A LA PUESTA EN MARCHA DEL PROYECTOS | C29: =+RESUMEN!D21 -> 8333569 | D29: =+C29 -> 8333569 | H29: 0.0099999991
B30: =+RESUMEN!B22 -> VALOR TOTAL | C30: =+RESUMEN!D22 -> 566625358 | D30: =SUM(D24:D29) -> 5.0996277e+08 | E30: =SUM(E24:E29) -> 56662590 | H30: -0.0093935522
B31: PORCENTAJE | D31: =ROUND(D30/$C$30,4) -> 0.9 | E31: =ROUND(E30/$C$30,4) -> 0.1 | H31: 0.00039870512
H32: 1.1974978e-05
D33: =+RESUMEN!G34 -> 0 | H33: 3.5617048e-07
D34: =+D30-D33 -> 5.0996277e+08 | H34: 8.904265e-09
H35: 2.2260663e-09
H36: -1.1130331e-09
