Workbook

Sheet 1. Historicos
A1: ANALISIS HISTORICO E INDEXACIÓN
A2: PROCESO FGN-RCE-MC-0038-2025 - ACEPTACIÓN DE OFERTA FGN-RCE-0038-2025 | I2: PROYECCION VALOR UNITARIO + IVA INCLUIDO (IPC/INDICE SERIE DE EMPALME) | L2: VALOR INDEXADO
A3: ITEM | B3: DESCRIPCIÓN | C3: U.M. | D3: CANT. | E3: VALOR UNITARIO SIN IVA | F3: IVA | G3: VALOR UNITARIO IVA INCLUIDO | I3: 45868 | J3: 46203 | L3: VALOR UNITARIO SIN IVA | M3: IVA | N3: VALOR UNITARIO IVA INCLUIDO
A4: 1 | B4: Bandera FGN exterior 2 m Altura – 3 m ancho | C4: UND | D4: 1 | E4: 250000 | F4: 0 | G4: =E4+F4 -> 250000 | I4: 150.71 | J4: 159.79 | L4: =$J$4/$I$4*E4 -> 265062.04 | M4: =L4*19% -> 50361.788 | N4: =L4+M4 -> 315423.83
A5: 2 | B5: Bandera FGN exterior 1.10 m Altura – 1.50 m ancho | C5: UND | D5: 1 | E5: 95000 | F5: 0 | G5: =E5+F5 -> 95000 | L5: =$J$4/$I$4*E5 -> 100723.58 | M5: =L5*19% -> 19137.479 | N5: =L5+M5 -> 119861.05
A6: 3 | B6: Bandera Colombia exterior 2 m Altura – 3 m ancho | C6: UND | D6: 1 | E6: 220000 | F6: 0 | G6: =E6+F6 -> 220000 | L6: =$J$4/$I$4*E6 -> 233254.59 | M6: =L6*19% -> 44318.373 | N6: =L6+M6 -> 277572.97
A7: 4 | B7: Bandera Colombia exterior 1.10 m Altura – 1.50 m ancho | C7: UND | D7: 1 | E7: 90000 | F7: 0 | G7: =E7+F7 -> 90000 | L7: =$J$4/$I$4*E7 -> 95422.334 | M7: =L7*19% -> 18130.244 | N7: =L7+M7 -> 113552.58
A8: 5 | B8: Bandera FGN Interior – con moharra, asta y base (en madera maciza)-medida 1.10 m Altura – 1.50 m ancho | C8: UND | D8: 1 | E8: 358000 | F8: 0 | G8: =E8+F8 -> 358000 | L8: =$J$4/$I$4*E8 -> 379568.84 | M8: =L8*19% -> 72118.08 | N8: =L8+M8 -> 451686.92
A9: 6 | B9: Bandera Colombia Interior – con moharra, asta y base (en madera maciza)-medida 1.10 m Altura – 1.50 m ancho | C9: UND | D9: 1 | E9: 295000 | F9: 0 | G9: =E9+F9 -> 295000 | L9: =$J$4/$I$4*E9 -> 312773.21 | M9: =L9*19% -> 59426.909 | N9: =L9+M9 -> 372200.12
A10: 7 | B10: Asta en madera 2 m alta, 5 cm diametro (Moharra, asta y base) | C10: UND | D10: 1 | E10: 160000 | F10: 0 | G10: =E10+F10 -> 160000 | L10: =$J$4/$I$4*E10 -> 169639.71 | M10: =L10*19% -> 32231.544 | N10: =L10+M10 -> 201871.25
A11: 8 | B11: Base- soporte metálico Cold rolled de 1/8- para asta de 1 1/4 in de diámetro | C11: UND | D11: 1 | E11: 60000 | F11: 0 | G11: =E11+F11 -> 60000 | L11: =$J$4/$I$4*E11 -> 63614.89 | M11: =L11*19% -> 12086.829 | N11: =L11+M11 -> 75701.719
A12: 9 | B12: Base- soporte metálico Cold rolled de 1/8- para asta de 1 in de diámetro | C12: UND | D12: 1 | E12: 50000 | F12: 0 | G12: =E12+F12 -> 50000 | L12: =$J$4/$I$4*E12 -> 53012.408 | M12: =L12*19% -> 10072.358 | N12: =L12+M12 -> 63084.765
A13: 10 | B13: Asta metálica 2.50 m alta de 1 in diámetro- moharra 5 cm diámetro | C13: UND | D13: 1 | E13: 110000 | F13: 0 | G13: =E13+F13 -> 110000 | L13: =$J$4/$I$4*E13 -> 116627.3 | M13: =L13*19% -> 22159.187 | N13: =L13+M13 -> 138786.48
A14: 11 | B14: Asta metálica 2.50 m alta de ¾ in diámetro- moharra 5 cm diámetro | C14: UND | D14: 1 | E14: 100000 | F14: 0 | G14: =E14+F14 -> 100000 | L14: =$J$4/$I$4*E14 -> 106024.82 | M14: =L14*19% -> 20144.715 | N14: =L14+M14 -> 126169.53
A15: TOTAL | E15: =SUM(E4:E14) -> 1788000 | F15: =SUM(F4:F14) -> 0 | G15: =SUM(G4:G14) -> 1788000 | L15: =SUM(L4:L14) -> 1895723.7 | M15: =SUM(M4:M14) -> 360187.5 | N15: =SUM(N4:N14) -> 2255911.2

Sheet 2. Valores Definitivos
A1: VALORES DEFINITIVOS - IVA INCLUIDO
A3: ITEM | B3: DESCRIPCIÓN | C3: U.M. | D3: CANT. | E3: VALORES UNITARIOS DEFINITIVOS INCLUIDO IVA
A4: 1 | B4: Bandera FGN exterior 2 m Altura – 3 m ancho | C4: UND | D4: 1 | E4: ='1. Historicos'!N4 -> 315423.83
A5: 2 | B5: Bandera FGN exterior 1.10 m Altura – 1.50 m ancho | C5: UND | D5: 1 | E5: ='1. Historicos'!N5 -> 119861.05
A6: 3 | B6: Bandera Colombia exterior 2 m Altura – 3 m ancho | C6: UND | D6: 1 | E6: ='1. Historicos'!N6 -> 277572.97
A7: 4 | B7: Bandera Colombia exterior 1.10 m Altura – 1.50 m ancho | C7: UND | D7: 1 | E7: ='1. Historicos'!N7 -> 113552.58
A8: 5 | B8: Bandera FGN Interior – con moharra, asta y base (en madera maciza)-medida 1.10 m Altura – 1.50 m ancho | C8: UND | D8: 1 | E8: ='1. Historicos'!N8 -> 451686.92
A9: 6 | B9: Bandera Colombia Interior – con moharra, asta y base (en madera maciza)-medida 1.10 m Altura – 1.50 m ancho | C9: UND | D9: 1 | E9: ='1. Historicos'!N9 -> 372200.12
A10: 7 | B10: Asta en madera 2 m alta, 5 cm diametro (Moharra, asta y base) | C10: UND | D10: 1 | E10: ='1. Historicos'!N10 -> 201871.25
A11: 8 | B11: Base- soporte metálico Cold rolled de 1/8- para asta de 1 1/4 in de diámetro | C11: UND | D11: 1 | E11: ='1. Historicos'!N11 -> 75701.719
A12: 9 | B12: Base- soporte metálico Cold rolled de 1/8- para asta de 1 in de diámetro | C12: UND | D12: 1 | E12: ='1. Historicos'!N12 -> 63084.765
A13: 10 | B13: Asta metálica 2.50 m alta de 1 in diámetro- moharra 5 cm diámetro | C13: UND | D13: 1 | E13: ='1. Historicos'!N13 -> 138786.48
A14: 11 | B14: Asta metálica 2.50 m alta de ¾ in diámetro- moharra 5 cm diámetro | C14: UND | D14: 1 | E14: ='1. Historicos'!N14 -> 126169.53
A15: TOTAL | E15: =SUM(E4:E14) -> 2255911.2
