Workbook
Name _1: #REF!
Name _2: #REF!
Name A: #REF!
Name A_impresión_IM: #REF!
Name aaa: #REF!
Name Auxiliarjal: #REF!
Name B: #REF!
Name basecaro: #REF!
Name basejuliet1: #REF!
Name basemetroabril2017: #REF!
Name basemetroabril2017final: #REF!
Name BLOQUE: #REF!
Name cargo: #REF!
Name CLASE: #REF!
Name correoelectronico: #REF!
Name COSTOM2: #REF!
Name Dólar: #REF!
Name epsypension: #REF!
Name Factor: #REF!
Name JJJJ: #REF!
Name lineainstitucional: #REF!
Name mesabril: #REF!
Name nuevosoi: #REF!
Name origenaux: #REF!
Name pagojuliethjunio: #REF!
Name Profesional: #REF!
Name profesionaljal: #REF!
Name SVASFD: #REF!
Name TCRM: #REF!
Name TCRM_al_03_MAYO_2000: #REF!
Name Títulos_a_imprimir_IM: #REF!
Name TOP: #REF!
Name TRM: #REF!

Sheet 1. COND. BÁSICAS TRDM
B3: AGENCIA NACIONAL DEL ESPECTRO - ANE
B4: Anexo No 1 Condiciones Técnicas Básicas oblgatorias
B5: GRUPO No. 1
B7: 1. PÓLIZA DE SEGURO DE TODO RIESGO DAÑOS MATERIALES COMBINADOS
B8: 1.1. | C8: INFORMACIÓN GENERAL
B9: TOMADOR: | C9: =+B3 -> AGENCIA NACIONAL DEL ESPECTRO - ANE | F9: NIT. | G9: 900.334.265-3
B10: ASEGURADO: | C10: =+C9 -> AGENCIA NACIONAL DEL ESPECTRO - ANE | F10: NIT. | G10: =+G9 -> 900.334.265-3
B11: BENEFICIARIO: | C11: =+C10 -> AGENCIA NACIONAL DEL ESPECTRO - ANE | F11: NIT. | G11: =+G10 -> 900.334.265-3
B12: 1.2. | C12: OBJETO DEL SEGURO
B13: Amparar todos los activos (bienes inmuebles y muebles) de propiedad de la (AGENCIA NACIONAL DEL ESPECTRO - ANE), o aquellos que se encuentren bajo su control, tenencia, responsabilidad o custodia, contra los daños o pérdidas materiales a consecuencia de cualquier riesgo, tanto por eventos internos o externos y en general los recibidos a cualquier título o por los que tenga algún interés asegurable, ubicados en el territorio nacional o por aquellos que por su naturaleza se deban trasladar a nivel mundial, dentro o fuera de las instalaciones del asegurado y/o en predios de terceros o a la intemperie y los utilizados en desarrollo del objeto social de la (AGENCIA NACIONAL DEL ESPECTRO - ANE).
B14: 1.3. | C14: BIENES ASEGURADOS
B15: Las aseguradoras aceptan que no obstante las siguientes definiciones generales de bienes asegurados, el alcance de éstas se amplía al objeto establecido en el Manual de Procedimientos Administrativos y Contables para el manejo y control de los bienes de la Entidad.
B16: Los bienes asegurados comprenden absolutamente toda propiedad de bienes materiales de la (AGENCIA NACIONAL DEL ESPECTRO - ANE) o de terceros que se estén bajo su cuidado, custodia, control o por los cuales sea legal o contractualmente responsable y en general los recibidos a cualquier título o por los que tenga o tenga interés asegurable, localizados dentro del territorio nacional dentro o fuera de las instalaciones del asegurado y/o en predios de terceros y utilizados en desarrollo del objeto social de la AGENCIA NACIONAL DEL ESPECTRO - ANE. consistentes principalmente pero no limitados a los siguientes bienes:
B17: EDIFICIOS: Corresponde a las edificaciones y obras civiles, sus estructuras, cimientos, construcciones fijas con todas sus adiciones y en general toda clase de construcciones propias y no propias, de edificios e inherentes a ellos, y todas aquellas por las que sea legalmente responsable, de propiedad de la (AGENCIA NACIONAL DEL ESPECTRO - ANE). o bajo su cuidado, tenencia y control , incluido anexos, escaleras externas, instalaciones eléctricas, de comunicación, sistemas de aire acondicionado, intercomunicación o sonido, incluidos anexos y estructuras sanitarias, alcantarillado para agua, (subterráneas o no), sistema de drenaje y aguas negras, tuberías, conductos, tuberías, conductos, desagües, tanques para almacenamiento, ductos, mallas, patios, aceras, instalaciones permanentes de protección contra incendio y demás instalaciones que se encuentren o no por debajo del nivel del suelo y/o subterráneas, vidrios internos y externos que conforman y hacen parte de las construcciones, rampas de acceso, tanques de almacenamiento, similares, que formen parte integrante, del edificio, o edificios asegurados, aunque no se hayan informado específicamente, entre otros ubicados en el territorio nacional y que estén bajo su responsabilidad, tenencia y/o control de la (AGENCIA NACIONAL DEL ESPECTRO - ANE).
B18: MEJORAS LOCATIVAS: Todas aquellas mejoras a los inmuebles realizadas por la AGENCIA NACIONAL DEL ESPECTRO - ANE, aún en el caso de no ser propietaria del bien, que haya realizado inversiones para adecuarlas a sus necesidades, tales como tapetes, tapizados, enchapes, mejoras eléctricas, cielos rasos, etc.
B19: CONTENIDOS Y BIENES EN GENERAL: Corresponden a todo tipo de bienes como muebles y enseres en general propios de la actividad general de una entidad pública, incluidos equipos de oficina no eléctricos ni electrónicos, entre otros, sistemas de oficina abierta, al igual que los documentos de cualquier tipo, que se encuentren localizados dentro de los predios asegurados o fuera de los mismos y que esten bajo su responsabilidad, tenencia y/o control de la (AGENCIA NACIONAL DEL ESPECTRO - ANE).
B20: PLANTA, EQUIPOS Y MÁQUINAS: Corresponde a todo tipo de equipos y máquinas, extendida esta definión a aquellos que son de adhesión o para la operatividad de la infraestructura de las edificaciones al igual que cualquier tipo de herramientas, accesorios, ascensores, plantas eléctricas, calderas, generadores, ascensores, equipos del sistema hidráulico, motobombas (incluidas aquellas que son sumergibles) , aire acondicionado, extractores de olores, entre otros.
B21: EQUIPOS ELÉCTRICOS, ELECTRÓNICOS Y DE COMUNICACIÓN: Comprende todos aquellos equipos eléctricos, electrónicos, electromecánicos y los de comunicación (incluidas antenas cuando sean parte de los activos, caso contrario no se tendrán en cuenta), al igual que activos especiales, como: radares, equipos de control y medición, etc y todas aquellas por las que sea legalmente responsable, extendida esta definición a salas de control, servidores, equipos de computo con todos sus accesorios periféricos scanner, ploters, servidores, impresoras software, equipos de telecomunicaciones, equipos celulares, equipos de comunicación portátil, tabletas, equipos móviles y/o portátiles, equipos científicos de laboratorio, electrodomésticos, entre otros y que esten bajo su tenencia y/o control de la (AGENCIA NACIONAL DEL ESPECTRO - ANE).
B22: BIENES O ACTIVOS DE ALMÁCEN E INVENTARIOS: Comprende todos los elementos de consumo, devolutivos nuevos, recuperables, inservibles, papelería, útiles de oficina, equipos en general, repuestos, muestras de oferentes y demás bienes contenidos en las diferentes dependencias de la (AGENCIA NACIONAL DEL ESPECTRO - ANE) y en general todo elemento que los Asegurados determinen como existencias o elementos de almacén, aunque no se hayan determinado específicamente.
B23: 1.4. | C23: VALORES ASEGURADOS
B24: 1.4.1. Bienes Asegurables (Anexo No. 2) | F24: VALORES ASEGURADOS
B25: A1. Edificios | F25: 10820927250
B26: A2. Edificios en Comodato | F26: 3527684872
B27: A. Total Edificios | F27: =SUM(F25:G26) -> 14348612122
B28: B. Contenidos, Muebles y Enseres | F28: 25849000
B29: C. Equipo Eléctricos, Electrónicos y de Comunicación (incluidos equipos móviles y portátiles, software y licencias) | F29: 38992425692
B30: D. Equipo y Maquinaría | F30: 102816345
B31: E. Herramientas Y Accesorios | F31: 2037636892
B32: SUBTOTAL | F32: =SUM(F27:G31) -> 55507340051
B33: INDICE VARIABLE 5% (ITEMS A y C) | F33: =+(F27+F29)*5% -> 2.6670519e+09
B34: G. Gastos para la adecuación de suelos y terrenos | F34: =+F25*10% -> 1082092725
B35: H. Cláusula de Adecuación de Construcciones a las Normas de Sismo Resistencia | F35: =+F25*10% -> 1082092725
B36: TOTAL VALOR ASEGURADO | F36: =SUM(F32:G35) -> 6.0338577e+10
B37: Nota: Las aseguradoras debe tener en cuenta que el índice variable esta calculado con relación a la vigencia minima exigida, por tanto la aseguradora debe calcular el índice variable con relación a la vigencia ofertada.
B38: 1.4.1. Bienes con Sublímites
B39: BIENES Y/O RIESGO CON SUBLÍMITE A PRIMERA PÉRDIDA ABSOLUTA | F39: SUBLÍMITE
B40: Dinero y títulos valores dentro y fuera de caja fuerte. | F40: 13637960
B41: Bienes decomisados a la fecha | F41: 309394469
B42: Bienes de consumo controlado | F42: 3544786897
B43: Bienes devolutivos | F43: 22607261706
...

Sheet 2. COND. BÁSICAS MANEJO
B3: =+'1. COND. BÁSICAS TRDM'!B3:G3 -> AGENCIA NACIONAL DEL ESPECTRO - ANE
B4: Anexo No 1 Condiciones Técnicas Básicas oblgatorias
B5: GRUPO No. 1
B7: 2. PÓLIZA DE SEGURO GLOBAL DE MANEJO PARA ENTIDADES OFICIALES
B8: 2.1. | C8: INFORMACIÓN GENERAL
B9: TOMADOR: | C9: =+'1. COND. BÁSICAS TRDM'!$C$9:$E$9 -> AGENCIA NACIONAL DEL ESPECTRO - ANE | F9: NIT. | G9: =+'1. COND. BÁSICAS TRDM'!G9 -> 900.334.265-3
B10: ASEGURADO: | C10: =+C9 -> AGENCIA NACIONAL DEL ESPECTRO - ANE | F10: NIT. | G10: =+G9 -> 900.334.265-3
B11: BENEFICIARIO: | C11: =+C10 -> AGENCIA NACIONAL DEL ESPECTRO - ANE | F11: NIT. | G11: =+G10 -> 900.334.265-3
B12: 2.2. | C12: OBJETO DEL SEGURO
B13: Amparar los riesgos que impliquen menoscabo de los fondos y/o bienes de propiedad de (AGENCIA NACIONAL DEL ESPECTRO - ANE) o que estén bajo su tenencia, control y/o responsabilidad causados por acciones u omisiones de sus servidores, que incurran en delitos contra la administración pública o fallos con responsabilidad fiscal, por incumplimiento de las disposiciones legales y reglamentarias, incluyendo el costo de la rendición de cuentas en caso de abandono del cargo o fallecimiento del empleado, en concordancia con la Resolución 014249 del 15 de mayo de 1992, aprobada por la Contraloría General de la República.
B14: 2.3. | C14: LÍMITE ASEGURADO EVENTO /VIGENCIA
A15: 1 | B15: Oferta Básica: Se califica en Condiciones Adicionales (Formato No. 3) el aumento del límite asegurado sin cobro de prima adicional. | F15: 610000002
B16: 2.3.1. | C16: MODALIDAD DE COBERTURA:
B17: Los amparos otorgados, en la presente póliza, operan bajo la modalidad de delimitación temporal de cobertura, denominada OCURRENCIA, es decir que se cubrirán las pérdidas que sufra o que se causen al asegurado durante la vigencia de la póliza.
B18: 2.3.2. | C18: BASE PARA LA DETERMINACIÓN Y APLICACIÓN DEL CONCEPTO SUBLÍMITE / VIGENCIA / AGREGADO ANUAL
B19: Para la totalidad de Coberturas y/o condiciones básicas sublímitadas, queda expresamente aceptado por parte de los proponentes que, en concordancia con la vigencia de la póliza que se adjudique, cada Sublímite operará así:
B20: - Si la vigencia es igual o mayor a doce (12) meses: Sublímite indicado Evento /Agregado Anual.
B21: En caso de discrepancia en alguna cobertura o cláusula básicas con relación al concepto de aplicación del sublímite / vigencia / agregado anual, frente a la vigencia ofertada, prevalece el establecido en este numeral con relación al plazo de la condición ofertada.
B22: 2.4. | C22: CARGOS ASEGURADOS
B23: De Planta | D23: 82 | E23: MONTO ANUAL PROYECTADO DE LA NÓMINA: | G23: $15.729.498.384
B24: Contratstas (Aporx) | D24: 124
B25: TOTAL CARGOS ASEGURADOS: | D25: =D24+D23 -> 206
B26: NOTA: | C26: CADA SUBLÍMITE O GASTOS INDICADOS ESTAN CONTEMPLADOS DENTRO DEL LÍMITE ASEGURADO.
B27: 2.5. | C27: COBERTURAS BÁSICAS
B28: DELITOS CONTRA LA ADMINISTRACIÓN PÚBLICA | E28: La aseguradora indemnizará la pérdida económica que sufra la Entidad a consecuencia de actos que se tipifiquen como delitos contra la administración, cometidos por empleado(s) en desempeño de(los) cargo(s) señalados en el numeral 2.4.
B29: GASTOS DE RECONSTRUCCIÓN O RENDICIÓN DE CUENTAS | E29: La aseguradora mediante este amparo cubre los gastos que la Entidad tenga que incurrir en caso de abandono del cargo o fallecimiento del empleado, para llevar a cabo los procesos de rendición y reconstrucción de cuentas.
B30: DELITOS CONTRA EL PATRIMONIO ECÓNOMICO | E30: La aseguradora mediante este amparo indemnizará la pérdida económica que sufra la Entidad, por aquellas conductas penalmente sancionables, cometidas por los empleados de la Entidad, que no dan cuenta de un buen manejo de los recursos estatales y que causan detrimento al patrimonio del estado.
B31: JUICIOS CON RESPONSABILIDAD FISCAL Y ALCANCES FISCALES | E31: La aseguradora mediante este amparo cubre los procesos de responsabilidad fiscal con ocasión de la ejecución de actos que den lugar a iniciación de juicios de esta naturaleza, al igual que los alcances fiscales.
B32: PÉRDIDA DE EMPLEADOS NO IDENTIFICADOS AL 100% DEL LÍMITE ASEGURADO | E32: En caso de ocurrencia de cualquier pérdida, pero que la Entidad no pudiera determinar específicamente al empleado o los empleados responsables, la aseguradora reconocerá la indemnización correspondiente, siempre y cuando las circunstancias que dieron lugar al evento, permitan considerar que en la ocurrencia del mismo intervinieron uno o varios empleados de la Entidad, a cualquier titulo (autor intelectual, material o cómplice). Queda entendido que la responsabilidad de la compañía, respecto de tales pérdidas, no excederá en ningún caso del monto asegurado estipulado en la póliza.
B33: PROTECCIÓN DE DEPÓSITOS BANCARIOS AL 100% DEL LÍMITE ASEGURADO | E33: Cubre las pérdidas de dinero que el asegurado tenga depositado en sus cuentas corrientes o de ahorro en entidades bancarias o financieras (incluidos sus respectivos intereses), que se deba a falsificación o adulteración de un cheque, letra de cambio, pagaré, carta de crédito o cualquier otra clase de título valor que el banco o entidad financiera presuma que ha sido firmado, endosado o avalado por el asegurado o por una persona que obre en su nombre o representación y que el banco o entidad financiera compruebe que no es responsable por dicho pago, incluyendo: a) Cualquier cheque o giro hecho o girado en nombre de la Entidad pagadero a una persona ficticia y endosado o pagado a nombre de dicha persona. b) Cualquier cheque o giro hecho o girado en transacción de la Entidad o por su representante a favor de un tercero y entregado al representante de éste que resultare endosado o cobrado por persona distinta de aquel a quien se giró. c) Cualquier cheque o giro con destino al pago de salarios que habiendo sido girado u ordenado por la Entidad, resultare endosado y cobrado por un tercero obrando supuestamente a nombre del girador, o de aquel a quien se debía hacer el pago. Esta cobertura aplica cuando se demuestra la participación de uno o más empleados del asegurado y que la entidad bancaria demuestre que no tiene ninguna responsabilidad.
B34: EXTENSIÓN DE COBERTURA PARA EMPLEADOS OCASIONALES, TEMPORALES Y TRANSITORIOS AL 100% DEL LÍMITE ASEGURADO | E34: Bajo esta condición la cobertura de la presente póliza se extiende a amparar a los trabajadores ocasionales, temporales o transitorios y a quienes, sin serlo, realicen prácticas o investigaciones en sus dependencias. Esta cobertura queda sujeta a que las operaciones que realicen tales personas estén bajo el control de la Entidad.
B35: EXTENSIÓN DE COBERTURA PARA EMPLEADOS DE FIRMAS ESPECIALIZADAS Y OTROS AL 100% DEL LÍMITE ASEGURADO | E35: Bajo esta condición la cobertura de la presente póliza se extiende a amparar a todas aquellas personas naturales que presten servicios en los establecimientos del asegurado bajo cualquier título o contrato, incluidos los empleados de firmas especializadas, los empleados de contratistas independientes, los cuales deben cumplir con las normas que los regulan y con las garantías exigidas por la ley 80 de 1993. Esta cobertura queda sujeta a que las operaciones que realicen tales personas estén bajo el control de la Entidad.
B36: EXTENSIÓN DE COBERTURA PARA PÉRDIDAS OCASIONADAS POR EMPLEADOS DE CONTRATISTAS Y SUBCONTRASTISTAS INDEPENDIENTES AL 100% DEL LÍMITE ASEGURADO | E36: Bajo esta condición la cobertura de la presente póliza se extiende a amparar a todas aquellas personas naturales que presten servicios en los establecimientos del asegurado bajo cualquier título o contrato, incluidos los empleados de contratistas y subcontratistas independientes, los cuales deben cumplir con las normas que los regulan y con las garantías exigidas por la ley 80 de 1993.
B37: GASTOS POR PAGOS DE AUDITORES, REVISORES, CONTADORES Y ABOGADOS | E37: La cobertura de esta póliza debe extenderse a amparar los gastos en que incurra el asegurado, por pago a auditores, revisores, contadores y abogados, que se requieran para analizar y certificar los datos extraídos de los libros de contabilidad y demás documentos del asegurado, al igual que cualquier otra información que sea solicitada por la compañía al asegurado para el ajuste y definición de los reclamos.
B38: GASTOS PARA LA DEMOSTRACIÓN DEL SINIESTRO | E38: Bajo este amparo se cubren los gastos razonables en que incurra el asegurado, para la demostración de la ocurrencia y cuantía del siniestro y serán indemnizados bajo esta póliza. Estos gastos deben ser previamente aprobados por la aseguradora y la Entidad se compromete para estos casos presentar previamente cotización de estos gastos (cuando se requiera), la aseguradora se reserva el derecho de poder cotizar con sus proveedores los servicios que demanden la aplicación de estos gastos.Hasta el 100% de los gastos demostrados.
A39: =A15+1 -> 2 | B39: GASTOS ADICIONALES. Sublímite 10% del límite asegurado. Se califica en Condiciones Adicionales (Formato No. 3) el aumento del porcentaje ofrecido. | E39: No obstante lo que se diga en contrario en las condiciones generales y particulares de la póliza, la Compañía se obliga a indemnizar los gastos adicionales (que no tengan carácter de permanentes) incluidos aquellos que tenga que asumir por la reconstrucción de archivos, documentos, bases de datos o información en servidores o medios magnéticos, debidamente comprobados en que necesaria y razonablemente incurra el asegurado, como consecuencia directa del siniestro, hasta el 100% de los gastos demostrados.
A40: =A39+1 -> 3 | B40: HONORARIOS PROFESIONALES DE ABOGADOS, CONSULTORES, AUDITORES, INTERVENTORES, ETC Sublímite 10% del límite asegurado. Se califica en Condiciones Adicionales (Formato No. 3) el aumento del porcentaje ofrecido. | E40: No obstante lo que se diga en contrario en las condiciones generales y particulares de la póliza, la Compañía se obliga a indemnizar los honorarios en que necesaria y razonablemente incurra el asegurado, por concepto de abogados, consultores, auditores, interventores, revisores, contadores, etc., para obtener y certificar: a.- los detalles extraídos de los libros de contabilidad y del negocio mismo del asegurado, y b.- cualesquiera otras informaciones, documentos y testimonios que sean pedidos por la compañía al asegurado según lo establecido en las condiciones generales y particulares de la póliza. La compañía reconocerá hasta el 100% de los gastos razonables demostrados por el asegurado.
A41: =A40+1 -> 4 | B41: COSTAS EN JUICIO, HONORARIOS PROFESIONALES Y SELECCIÓN DE PROFESIONALES PARA LA DEFENSA. Sublímite del 30% del límite asegurado. Se califica en Condiciones Adicionales (Formato No. 3) el aumento del porcentaje ofrecido. | E41: Por medio de la presente cláusula la compañía indemnizará al asegurado las costas de los procesos judiciales y los honorarios de abogados hasta por el 100% del valor asegurado, siempre y cuando sean justificados, razonables, causados y cancelados por el asegurado en la defensa de cualquier procedimiento legal o pleito en el cual sea demandado por el (los) funcionario(s) investigado(s) con ocasión de los hechos que dan origen a la reclamación formulada a la compañía de seguros. Sin embargo, si dicha reclamación es mayor que el monto del deducible, el asegurador asumirá el pago de las costas y honorarios en igual proporción en que haya asumido la pérdida. El asegurador podrá, en caso de así determinarlo y de común acuerdo con el asegurado asumir la defensa en cualquier litigio o procedimiento legal a nombre del asegurado, a través de abogados elegidos por el asegurador. La selección de los profesionales encargados para la defensa corresponderá al Asegurado, o los funcionarios que esta designe, quienes para su aprobación presentan a la compañía la propuesta correspondiente. La compañía podrá, previo común acuerdo con la Entidad asegurada, asumir la defensa de cualquier litigio o procedimiento legal a nombre del asegurado, a través de abogados elegidos por este.
B42: ACTOS DE AUTORIDAD | E42: La póliza se extiende a cubrir los daños o pérdidas materiales de los bienes asegurados, causados directamente por la acción de la autoridad legalmente constituida, ejercida con el fin de disminuir o aminorar las consecuencias de cualquiera de los riesgos amparados. Se excluye el embargo y la confiscación de bienes.
B43: 2.6. | C43: CLÁUSULAS BÁSICAS
...

Sheet 3. COND. BÁSICAS RCE
B3: =+'2. COND. BÁSICAS MANEJO'!$B$3:$G$3 -> AGENCIA NACIONAL DEL ESPECTRO - ANE
B4: ANEXO No. 1 - CONDICIONES OBLIGATORIAS (MÍNIMAS TÉCNICAS)
B5: GRUPO No. 1
B7: 3. PÓLIZA DE SEGURO DE RESPONSABILIDAD CIVIL EXTRACONTRACTUAL
B8: 3.1. | C8: INFORMACIÓN GENERAL
B9: TOMADOR: | C9: =+'2. COND. BÁSICAS MANEJO'!$C$9:$E$9 -> AGENCIA NACIONAL DEL ESPECTRO - ANE | F9: NIT. | G9: =+'1. COND. BÁSICAS TRDM'!G9 -> 900.334.265-3
B10: ASEGURADO: | C10: =+C9 -> AGENCIA NACIONAL DEL ESPECTRO - ANE | F10: NIT. | G10: =+G9 -> 900.334.265-3
B11: BENEFICIARIO: | C11: TERCEROS AFECTADOS
B12: 3.2. | C12: OBJETO DEL SEGURO
B13: Amparar los perjuicios patrimoniales y extrapatrimoniales que cause la (AGENCIA NACIONAL DEL ESPECTRO - ANE) como consecuencia de la Responsabilidad Civil Extracontractual originada dentro o fuera de sus instalaciones, en el desarrollo de sus actividades o en lo relacionado con ella, lo mismo que los actos de sus empleados y funcionarios o el personal para el apoyo a la gestión administrativa dentro y fuera del territorio nacional o por bienes que se encuentren bajo tenencia, control y/o responsabilidad . Nota: Se entenderán como terceros todos los servidores públicos, empleados y funcionarios permanentes, o temporales, o estudiantes en práctica o pasantias, o contratistas, o subcontratistas, o de personas voluntarias que presten servicios al asegurado, incluyendo miembros de las Directivas y cada una de las personas que circulen, ingresen, accedan o se encuentren en los predios de asegurado o por los cuales es responsable en su aseguramiento, independientemente que el asegurado le esté prestando un servicio objeto de su razón social.
B14: 3.3. | C14: LÍMITE ASEGURADO EVENTO / VIGENCIA
A15: 1 | B15: Oferta Básica: Se califica en Condiciones Adicionales (Formato No. 3) el aumento del límite ofrecido sin cobro de prima adicional. | F15: 6050000001
B16: 3.3.1. | C16: MODALIDAD DE COBERTURA
B17: Por ocurrencia: La aseguradora cubre todos los perjuicios que se generen durante la vigencia del seguro
B18: 3.4. | C18: INFORMACIÓN GENERAL
B19: Nómina promedio mensual: $ 1.310.791.532
B20: Número de funcionarios: 82 Contratistas: 124
B21: Presupuesto anual proyectado de la Entidad año 2026: $46.872.210.000
B22: 3.4.1. | C22: BASE PARA LA DETERMINACIÓN Y APLICACIÓN DEL CONCEPTO SUBLÍMITE / VIGENCIA / AGREGADO ANUAL
B23: Para la totalidad de Coberturas y/o condiciones básicas sublímitadas, queda expresamente aceptado por parte de los proponentes que, en concordancia con la vigencia de la póliza que se adjudique, cada Sublímite operará así:
B24: - Si la vigencia es igual o mayor a doce (12) meses: Sublímite indicado Evento /Agregado Anual.
B25: En caso de discrepancia en alguna cobertura o cláusula básicas con relación al concepto de aplicación del sublímite / vigencia / agregado anual, frente a la vigencia ofertada, prevalece el establecido en este numeral con relación al plazo de la condición ofertada.
B26: NOTA: | C26: CADA SUBLÍMITE O GASTOS INDICADOS ESTAN CONTEMPLADOS DENTRO DEL LÍMITE ASEGURADO.
B27: 3.4.2. | C27: PREDIOS ASEGURADOS
B28: Todos los de propiedad del asegurado, que éste use o entregue en comodato y aquellos de terceros que el asegurado use, mantenga, ocupe en desarrollo de sus actividades y operaciones y los tomados en arriendo.
B29: 3.5. | C29: COBERTURAS BÁSICAS
B30: Queda expresamente acordado y convenido, que mediante la presente póliza la aseguradora ampara los perjuicios patrimoniales y extrapatrimoniales, que cause la Entidad a terceros al igual que las costas y gastos de proceso, siempre y cuando el hecho generador le cause daños materiales, lesiones personales y/o muerte; generados como consecuencia de la responsabilidad civil extracontractual originada dentro o fuera de sus instalaciones, en el desarrollo de sus actividades propias a su objeto social o en lo relacionado con ellas, incluidos los actos de sus empleados y funcionarios en el desarrollo de sus funciones. De igual forma, se acuerda que para todos los efectos de la presente póliza, el termino de “perjuicios patrimoniales” contempla los perjuicios relacionados con daños materiales, daño emergente, lucro cesante y demás perjuicios considerados como patrimoniales; y el termino de “perjuicios extrapatrimoniales” comprende, entre otros, el daño moral, daño fisiológico, daño a la vida de relación y demás perjuicios considerados como extrapatrimoniales. La aseguradora acepta expresamente el otorgamiento de la cobertura de este seguro, según lo previsto en el Artículo 1131 del Código de Comercio, relacionado con la configuración del siniestro e inicio de la prescripción, que estipula: ARTICULO 1131. Configuración del siniestro en el seguro de responsabilidad civil. En el seguro de responsabilidad se entenderá ocurrido el siniestro en el momento en que acaezca el hecho externo imputable al asegurado, fecha a partir de la cual correrá la prescripción respecto de la víctima. Frente al asegurado ello ocurrirá desde cuando la víctima le formula la petición judicial o extrajudicial.
B31: PREDIOS, LABORES Y OPERACIONES (incluyendo incendio y explosión) | E31: La aseguradora se obliga a indemnizar, sujeto a los términos y condiciones establecidas tanto en las condiciones generales como a las particulares de la póliza, los perjuicios patrimoniales y extrapatrimoniales que cause el asegurado con motivo de la responsabilidad civil extracontractual en que incurra de acuerdo con la ley colombiana, por hechos imputables al asegurado, que causen la muerte, lesión o menoscabo en la salud de las personas (daños personales) y/o el deterioro o destrucción de bienes (daños materiales) y perjuicios económicos, incluyendo lucro cesante y daño moral, como consecuencia directa de tales daños personales y/o daños materiales. La aseguradora responderá, además, por los costos del proceso que el tercero damnificado o sus causahabientes promuevan en su contra o la del asegurado, con las salvedades siguientes: a) Si la Entidad asegurada afronta el proceso contra orden expresa de la compañía. b) Si la responsabilidad proviene de dolo o está expresamente señalada en las exclusiones de la póliza. c) Si la condena por los perjuicios ocasionados a la víctima excede la suma que delimita la responsabilidad de la aseguradora, esta solo responderá por los gastos del proceso en proporción a la cuota que le corresponda en la indemnización.
E32: PREDIOS, los perjuicios patrimoniales y extrapatrimoniales que cause el asegurado por la posesión, el uso o el mantenimiento de sus predios o por los que es responsable y en especial en los que la Entidad asegurada desarrolla y realiza las actividades objeto de la cobertura de esta póliza.
E33: LABORES Y OPERACIONES, los perjuicios patrimoniales y extrapatrimoniales que cause el asegurado por las labores u operaciones que lleva a cabo la Entidad asegurada en el desarrollo de las actividades objeto de la cobertura de esta póliza incluyendo todos los riesgos que son inherentes a las actividades desarrolladas por el asegurado en el giro normal de sus actividades y derivadas de: a) Posesión o uso de ascensores y escaleras automáticas, elevadores, montacarga, grúas, puente grúas, equipo de trabajo. b) Posesión o uso de máquinas y equipos de trabajo, de cargue, descargue y transporte dentro de los predios asegurados. c) Transporte de bienes del asegurado, tales como materias primas, productos en proceso y productos terminados, fuera de los predios asegurados (Cuando aplique) Excluye los daños a la carga propia y al vehículo transportador, en concordancia con la naturaleza del seguro de responsabilidad civil extracontractual d) Operaciones de cargue y descargue. (Cuando aplique) e) Posesión o uso de avisos y vallas publicitarias en el territorio nacional. f) Posesión o uso de sus instalaciones sociales, culturales y deportivas y los eventos que el asegurado realice u organice en ellas. g) Viajes de funcionarios del asegurado dentro y fuera del territorio nacional. Se excluye la Responsabilidad Profesional h) Actividades y Eventos Sociales y Culturales i) Participación del asegurado en ferias y exposiciones nacionales. j) Errores de puntería, opera en exceso de las pólizas que por ley deben tener contratadas las empresas de vigilancia, empleados del asegurado o contratados a través de firma especializada. (Excepto cuando se trata de sus propios funcionarios). k) Vigilancia de los predios por medio de personal armado y/o animales opera en exceso de las pólizas que por ley deben tener contratadas las empresas de vigilancia, empleados del asegurado o contratados a través de firma especializada. (Excepto cuando se trata de sus propios funcionarios)
E34: l) Posesión o uso de depósitos, tanques y tuberías ubicados o instalados dentro de los predios asegurados. m) Actos de los directivos, representantes y empleados del asegurado en el desempeño de sus funciones y dentro de las actividades aseguradas. Se excluye la Responsabilidad Profesional. n) Posesión o uso de cafeterías, casinos y restaurantes para uso de sus empleados y/o invitados. ñ) Incendio y/o explosión producidos dentro de los predios asegurados. o) Uso de parqueaderos dentro de los predios del asegurado p) Descargue, dispersión, liberación o escape de humo, vapores, hollín, ácidos, álcalis y en general productos químicos tóxicos, líquidos o gaseosos, y demás materias irritantes o contaminantes, en o sobre la tierra, atmosfera, ríos, lagos o cualquier curso o cuerpo de agua, producida en forma accidental, súbita e imprevista. (Cuando aplique) q) Uso de casinos, restaurantes y cafeterías de su propiedad o que sean ocupados por él o que tenga tomados en arrendamiento o alquiler, no obstante el hecho que éstos estén administrados por personas naturales o jurídicas distintas de la entidad o sus empleados. r) Productos y Trabajos terminados sin son de la misionalidad de la Entidad, se excluye recogida del producto. (Cuando aplique). s) Participación del asegurado en ferias y exposiciones internacionales, excluyendo la responsabilidad en los países de Estados Unidos, Puerto Rico y Canadá.
A35: =A15+1 -> 2 | B35: GASTOS MÉDICOS (sin aplicación de deducibles). Sublímite $180.000.001 evento / $1.100.000.001 (Evento /Agregado Anual) Se califica en Condiciones Adicionales (Formato No. 3) el aumento del sublímite. | E35: La aseguradora debe contemplar para la propuesta de este amparo, que indemnizarán hasta el límite establecido en la póliza y dentro de los términos y con sujeción a las condiciones de este seguro, los gastos razonables y prioritarios que se causen, por concepto de primeros auxilios inmediatos, servicios médicos, quirúrgicos, de ambulancia de hospital, de enfermeras, medicamentos y de rehabilitación, como consecuencia de las lesiones corporales producidas a terceros en desarrollo de las actividades de la entidad. Se precisa, que el amparo que se otorga es independiente al de responsabilidad civil extracontractual y por consiguiente, los pagos que por dicho concepto se realicen, en ningún caso pueden ser interpretados como aceptación tácita de responsabilidad y no está sujeto a la aplicación de deducible. Los funcionarios y contratistas para el apoyo a la gestión administrativa y demás personal de apoyo a la Entidad se consideran terceros. De igual forma, en caso de requerirse, este amparo puede aplicar por reembolso.
A36: =A35+1 -> 3 | B36: RESPONSABILIDAD CIVIL PATRONAL. Sublímite de 80% del valor asegurado (Evento /Agregado Anual) Se califica en Condiciones Adicionales (Formato No. 3) el aumento del sublímite. | E36: La aseguradora mediante este amparo se compromete a indemnizar los perjuicios patrimoniales derivados de la responsabilidad civil extracontractual que le sea imputable al asegurado en su calidad de empleador exclusivamente por los accidentes de trabajo que sufran los empleados a su servicio, en el desarrollo de las actividades asignadas a ellos y de acuerdo con las siguientes definiciones y condiciones: a) Se entiende por empleado toda persona que mediante contrato de trabajo o de prestación de servicios (incluidos contratistas para el apoyo a la gestión administritativa o misional) preste al asegurado. b) Quedan excluidas de este seguro: Las enfermedades profesionales, endémicas o epidémicas, contagiosas (en especial el COVID19), por accidentes de trabajo que se hayan sido provocados deliberadamente o por culpa grave del empleado. Se precisa que este amparo opera en exceso de la seguridad social.
B37: CONTRATISTAS Y SUBCONTRATISTAS INDEPENDIENTES AL 100% DEL LÍMITE ASEGURADO | E37: La aseguradora bajo este amparo se obliga a cubrir los perjuicios patrimoniales y extra patrimoniales derivados de la responsabilidad civil extracontractual que le sea imputable al asegurado y/o los gastos médicos por los daños que causare a terceros, a consecuencia de labores amparadas realizadas por contratistas y subcontratistas independientes a su servicio. Se precisa que este amparo opera en exceso de las pólizas del contratista o subcontratista.
B38: RESPONSABILIDAD CIVIL CRUZADA AL 100% DEL LÍMITE ASEGURADO. | E38: Se cubren los perjuicios patrimoniales causados por un contratista a otro, a consecuencia de las labores amparadas previamente contratadas por el asegurado y que se efectúen dentro de los predios del mismo. Se precisa que este amparo opera en exceso de las pólizas del contratista.
B39: RESPONSABILIDAD CIVIL POR LA CAIDA, EL DESCOPE, LA PODA Y EL MANTENIMIENTO DE ÁRBOLES. (siempre y cuando sea responsabilidad del asegurado) | E39: Se cubren los perjuicios patrimoniales causados por la caída, el descope, la poda y el mantenimiento de árboles, siempre y cuando sean responsabilidad de la entidad.
B40: VEHÍCULOS PROPIOS Y NO PROPIOS EN EXCESO DEL SEGURO DE AUTOMÓVILES Y SOAT. Sublímite de 40% del valor asegurado (Evento /Agregado Anual) | E40: Mediante esta condición se indemnizarán los daños que cause el asegurado en razón de la responsabilidad civil por lesiones a terceras personas o daños a propiedades de terceros que le sean imputables legalmente como consecuencia de la utilización en el giro normal de sus negocios, de vehículos propios o no propios incluido los de los funcionarios en desarrollo de las actividades del asegurado y en exceso de los limites contratados en el seguro de automóviles. En caso que el vehículo que generó los daños no cuente con póliza de automóviles y/o SOAT, la cobertura de los daños será asumida por la presente póliza hasta el monto del límite fijado.
B41: DAÑOS Y HURTO DE VEHÍCULOS INCLUIDOS ACCESORIOS EN PARQUEADEROS Y PREDIOS DEL ASEGURADO Sublímite de 40% del valor asegurado (Evento /Agregado Anual) | E41: Queda entendido y convenido que la cobertura de la póliza se extiende a amparar los eventos que ocurran en los parqueaderos de propiedad o sobre los cuales se ejerza tenencia y/o control y/o custodia el asegurado, incluyendo daños y hurto de vehículos, motocicletas, bicicletas, patinetas o accesorios. Los vehículos de los funcionarios y contratistas se consideran terceros.
B42: COBERTURA DE PROPIEDADES ADYACENTES (CUANDO APLIQUE) | E42: La aseguradora debe contemplar la extensión de la cobertura de propiedades adyacentes para obras civiles terminadas que tenga el Asegurado a su cargo o por las que sea legal o contractualmente responsable.
B43: AMPARO AUTOMÁTICO PARA NUEVOS PREDIOS Y OPERACIONES Con termino de noventa (90) días. | E43: La aseguradora debe contemplar la extensión de la cobertura automática del seguro, en los mismos términos y limitaciones establecidos en esta póliza, para amparar la responsabilidad extracontractual por nuevas operaciones y/o el uso, posesión y demás actividades desarrolladas en nuevos predios que adquiera el asegurado o sobre los cuales obtenga el dominio o control. Esta condición dará derecho a la compañía al cobro de la prima proporcional, calculada a prorrata, con las tasas adjudicadas y correspondiente al periodo de amparo
...

Sheet 4. COND. BÁSICAS TRANSP. MCIAS.
B3: ='1. COND. BÁSICAS TRDM'!B3 -> AGENCIA NACIONAL DEL ESPECTRO - ANE
B4: Anexo No 1 Condiciones Técnicas Básicas oblgatorias
B5: GRUPO No. 1
B7: 4. PÓLIZA DE TRANSPORTE DE MERCANCÍAS
B8: 4.1. | C8: INFORMACIÓN GENERAL
B9: TOMADOR: | C9: =B3 -> AGENCIA NACIONAL DEL ESPECTRO - ANE | F9: NIT. | G9: =+'1. COND. BÁSICAS TRDM'!G9 -> 900.334.265-3
B10: ASEGURADO: | C10: =+C9 -> AGENCIA NACIONAL DEL ESPECTRO - ANE | F10: NIT. | G10: =+G9 -> 900.334.265-3
B11: BENEFICIARIO: | C11: =+C9 -> AGENCIA NACIONAL DEL ESPECTRO - ANE | F11: NIT. | G11: =+G10 -> 900.334.265-3
B12: 4.2 | C12: OBJETO DEL SEGURO
B13: Amparar las pérdidas y los daños materiales causados como consecuencia de los eventos que constituyen los amparos mencionados, en el transporte de cualquier tipo de mercancías nuevas y usadas incluida maquinaría, por cualquier medio de transporte, de los bienes de su propiedad, bajo tenencia, responsabilidad y/o control; propios del giro normal de las actividades de la (AGENCIA NACIONAL DEL ESPECTRO - ANE)
B14: 4.3. | C14: LÍMITE ASEGURADO POR DESPACHO | F14: 2000000000
B15: 4.3.1. | C15: Presupuesto anual de movilización | F15: 4000000000
B16: 4.4. | C16: TRAYECTOS ASEGURADOS
B17: Importaciones, Exportaciones y Reexportaciones: Desde cualquier lugar del mundo, hasta su destino final en Colombia y viceversa, bodega a bodega. Despachos Nacionales: Desde y hasta cualquier ciudad en el territorio nacional. Despachos Urbanos: Desde cualquier parte de la ciudad hasta su destino final en la misma.
B18: 4.4.1. | C18: Medios de Transporte y alcance de la cobertura
B19: Cualquier vehículo propio, de terceros o de firma especializada, ya sea terrestre, ferreo, aéreo, charter, marítimo y fluvial (incluso para las maritimas y fluviales que no se encuentren clasificadas por las autoridades competentes), y cualquier otro que el asegurado deba utilizar para el transporte de los bienes objeto de este seguro, aclarando que la póliza cubre todo tipo de medio de movilización sin excepción y sin restricción de edad de los vehículos ni de horarios para la movilización, incluido los bienes transportados en vehículos arrendados, de funcionarios o contratistas de la entidad o de terceros.
B20: 4.5. | C20: SISTEMA DE COBRO DE PRIMA
B21: La aseguradora acepta como sistema de cobro un único anual (o con base en las vigencias contratadas y con pago por vigencia fiscal) sobre el valor del presupuesto anual indicado sin reportes y sin ajuste al final de la vigencia. Procedimiento para reporte de movilizaciones: Se ampara cualquier despacho hasta el límite asegurado sin que se requiera suministro de relaciones periodicas de despachos y efectuando el cobro de una prima única por toda la vigencia de la póliza. Por tanto, la aseguradora no dará aplicación a la cláusula de falta de avisos o aplicaciones a la presente póliza, manteniendo de esta forma la cobertura durante la vigencia estipulada en la carátula de la póliza.
B22: NOTA: | C22: CADA SUBLÍMITE O GASTOS INDICADOS ESTAN CONTEMPLADOS DENTRO DEL LÍMITE ASEGURADO.
B23: 4.6. | C23: BASE PARA LA DETERMINACIÓN Y APLICACIÓN DEL CONCEPTO SUBLÍMITE / VIGENCIA / AGREGADO ANUAL
B24: Para la totalidad de Coberturas y/o condiciones básicas sublímitadas, queda expresamente aceptado por parte de los proponentes que, en concordancia con la vigencia de la póliza que se adjudique, cada Sublímite operará así:
B25: - Si la vigencia es igual o mayor a doce (12) meses: Sublímite indicado Evento /Agregado Anual.
B26: En caso de discrepancia en alguna cobertura o cláusula básicas con relación al concepto de aplicación del sublímite / vigencia / agregado anual, frente a la vigencia ofertada, prevalece el establecido en este numeral con relación al plazo de la condición ofertada.
B27: 4.7. | C27: AMPAROS BÁSICOS
B28: COBERTURA COMPLETA, INCLUYENDO:
B29: PÉRDIDA TOTAL Y/O DAÑOS MATERIALES | E29: La aseguradora se compromete a indemnizar la pérdida o daño material de los bienes producida por cualquier riesgo no expresamente excluido, siempre que se produzca con ocasión de su transporte, incluidas las operaciones de cargue, trasiego, trasbordo, descargue o desenvasado y permanencias. Así mismo, esta cobertura incluye los amparos de incendio y/o rayo, vientos fuertes, caída a abismos, hundimiento, colisión, volcamiento, inundaciones, fallas mecánicas imprevistas, combustión espontánea, desbarrancamiento, explosión, derrames accidentales imprevistos y repentinos, caídas accidentales de mercancías, caída de aeronaves u otros objetos que se desprendan de ella u otros objetos aéreos, encallamiento, guerra internacional, maremoto, tsunami, mar de leva, marea alta, iceberg, tempestades, huracanes, vientos fuertes en general, nevadas, ciclón, granizo, deslizamiento de tierra, avalanchas, fallas geológicas, terremoto, temblor y/o erupción volcánica, asentamientos, inconsistencias del suelo o cualquier otra convulsión de la naturaleza, colisión por culpa concurrente y aquellos estipulados en la carátula de la póliza y/o sus condiciones particulares.
B30: FALTA DE ENTREGA | E30: Esta cobertura incluye los amparos de hurto calificado, asonada, motín, conmoción civil o popular, y huelga, actos malintencionados de terceros incluidos actos de piratería y terrorismo, guerra internacional, guerra civil, rebelión, insurrección, acto hostil de un poder beligerante o contra dicho poder, aprehensión, minas, torpedos, bombas u otros artefactos de guerra abandonado y aquellos estipulados en la carátula de la póliza y/o sus condiciones particulares.
B31: AVERÍA PARTICULAR | E31: La aseguradora se compromete a indemnizar los daños ocurridos a la mercancía como consecuencia de descargue forzoso, avería sin accidente del medio de transporte, en general daños por la movilización de los bienes y aquellos estipulados en la carátula de la póliza y/o sus condiciones particulares.
B32: SAQUEO | E32: La aseguradora se compromete a indemnizar las pérdidas de la mercancía ocasionadas por el extravio o el hurto de las mercancías transportadas.
B33: HUELGA ( ASONADA, MOTIN, CONMOCIÓN CIVIL O POPULAR, ACTOS MAL INTENCIONADOS DE TERCEROS, INCLUIDOS ACTOS TERRORISTAS Y DE MOVIMIENTOS SUBVERSIVOS) | E33: La aseguradora se compromete a indemnizar las pérdidas de la mercancías como consecuncia de la Huelga y definida como la Asonada, motín, conmoción civil o popular, actos mal intencionados de terceros, inlcuidos los actos terroristas y de movimientos subversivos.
B34: OPERACIONES DE CARGUE Y DESCARGUE | E34: La aseguradora se compromete a indemnizar las pérdidas de la mercancía ocasionadas en el cargue o descargue de las mismas.
B35: ACTOS DE AUTORIDAD | E35: La póliza se extiende a cubrir los daños o pérdidas materiales de los bienes asegurados, causados directamente por la acción de la autoridad legalmente constituida, ejercida con el fin de disminuir o aminorar las consecuencias de cualquiera de los riesgos amparados. Se excluye el embargo y la confiscación de bienes.
B36: 4.8. | C36: CLÁUSULAS BÁSICAS
B37: REVOCACIÓN DE LA PÓLIZA, CLÁUSULAS O CONDICIONES. Con Termino de Noventa (90) días y para AMIT, AMCCOPH, Terrorismo y Sabotaje diez (10) días. | E37: La aseguradora podrá revocar la póliza, cláusulas o condiciones unilateralmente por la compañía, mediante noticia escrita enviada al asegurado, a su última dirección registrada, con no menos de noventa (90) días y para AMIT Y AMCCOPH diez (10) días, de antelación; contados a partir de la fecha del envío. El asegurado podra pedir la revocación en cualquier momento, según lo previsto en el Código de Comercio. Así mismo, en el caso de que la aseguradora decida no otorgar renovación o prorroga del contrato de seguro, excepto para AMIT, AMCCOPH, Terrorismo y Sabotaje, deberá dar aviso de ello al asegurado con no menos de noventa (90) días de antelación a la fecha de vencimiento de la póliza, en caso contrario se dará por entendido que la aseguradora acepta la renovación o prorroga hasta el límite legal establecido en la Ley 80 de 1993, para la adición de los contratos y manteniendo las mismas condiciones ofertadas en este proceso de aseguradoras.
B38: ERRORES, OMISIONES O INEXACTITUDES | E38: El tomador está obligado a declarar sinceramente los hechos y circunstancias que determinen el estado del riesgo. La inexactitud sobre hechos o circunstancias que, conocidas por la compañía, la hubieren retraído de celebrar el contrato o inducido a estipular condiciones más onerosas, produce la nulidad relativa del seguro. Sin embargo, si se incurriere en errores, omisiones e inexactitudes inculpables al tomador o al asegurado, el contrato no será nulo ni habrá lugar a la aplicación del inciso tercero del artículo 1058 del Código de Comercio sobre reducción porcentual de la prestación asegurada. En este caso se deberá pagar la prima adecuada al verdadero estado del riesgo.
B39: AMPLIACIÓN AVISO DEL SINIESTRO Con termino de noventa (90) días. | E39: Queda convenido y aceptado que el asegurado podrá dar aviso de la ocurrencia del siniestro en un término de noventa (90), siguientes a la fecha en que haya conocido o debido conocer la ocurrencia del mismo.
B40: DESIGNACIÓN O DENOMINACIÓN DE BIENES | E40: La aseguradora acepta el título, nombre, denominación o nomenclatura con que el asegurado identifica o describe los bienes asegurados en sus registros o libros de comercio o contabilidad.
B41: CONOCIMIENTO DEL RIESGO | E41: La aseguradora acepta mediante la presente cláusula que la Entidad, le ha brindado la oportunidad para realizar la inspección de los bienes y riesgos a que están sujetos los mismos y el patrimonio del Asegurado, razón por la cual se deja constancia del conocimiento y aceptación de los hechos, circunstancias y, en general, condiciones de los mismos. La compañía se reserva el derecho de llevar a cabo la inspección cuantas veces lo juzgue pertinente.
A42: 1 | B42: ANTICIPO DE INDEMNIZACIÓN DEL 70% Se califica en Condiciones Adicionales (Formato No. 3) el aumento del porcentaje ofrecido. | E42: Queda expresamente acordado que, a petición escrita de la Entidad, la aseguradora anticipará pagos parciales sobre el valor de cualquier reclamo, con base en el valor de la estimación preliminar de la pérdida aceptada por el ajustador, para adelantar la reparación, reposición o remplazo de los bienes asegurados. En el caso de que no haya nombramiento de ajustador, el anticipo se liquidará con base en la valoración de la cuantía de la pérdida amparada, acreditada por la entidad mediante cotización de la misma. Este anticipo también se extiende a cualquier tipo de gastos que se requiera para la operatividad de la póliza. En caso que el anticipo o suma de anticipos que la compañía adelante al asegurado llegare a exceder la suma total indemnizable a que tenga derecho, éste se compromete a devolver el exceso pagado. Para esta cláusula la aseguradora debe contemplar un plazo máximo para el pago del anticipo de diez (10) días hábiles contados a partir de la fecha de solicitud y formalización del mismo este y no se acepta el requerimiento de ningún requisito adicional para realizar el anticipo.
B43: MODIFICACIONES A FAVOR DEL ASEGURADO | E43: Los cambios o modificaciones a las condiciones de la presente póliza, serán acordados mutuamente entre la compañía y el asegurado. El certificado, documento o comunicaciones que se expidan para formalizarlos debe ser firmado, en señal de aceptación, por un representante legal del asegurado o funcionario autorizado, prevaleciendo sobre las condiciones de esta póliza. No obstante, si durante la vigencia de la póliza se presentan modificaciones en las condiciones del seguro, legalmente aprobadas que representen un beneficio a favor del asegurado, tales modificaciones se consideran automáticamente incorporadas. Siempre y cuando no causen cobro de prima adicional.
...

Sheet 5. COND. BÁSICAS IRF
B4: =+'6. COND. BÁSICAS RCSP'!B3:H3 -> AGENCIA NACIONAL DEL ESPECTRO - ANE
B5: Anexo No 1 Condiciones Técnicas Básicas oblgatorias
B6: GRUPO No. 1
B8: 5. PÓLIZA DE INFIDELIDAD Y RIESGOS FINANCIEROS
B9: 5.1. | C9: INFORMACIÓN GENERAL
B10: TOMADOR: | C10: =+'6. COND. BÁSICAS RCSP'!$C$9:$F$9 -> AGENCIA NACIONAL DEL ESPECTRO - ANE | F10: NIT. | G10: =+'8. G 2 COND. BÁSICAS DRONES'!$G$10 -> 900.334.265-3
B11: ASEGURADO: | C11: =+C10 -> AGENCIA NACIONAL DEL ESPECTRO - ANE | F11: NIT. | G11: =+G10 -> 900.334.265-3
B12: BENEFICIARIO: | C12: =+C11 -> AGENCIA NACIONAL DEL ESPECTRO - ANE | F12: NIT. | G12: =+G10 -> 900.334.265-3
B13: 5.2. | C13: OBJETO DEL SEGURO
B14: Amparar al asegurado las pérdidas, gastos y daños como consecuencia de actos deshonestos o fraudulentos cometidos por empleados del asegurado, solos o en concurso con otros, o con terceros, con la intención manifiesta de hacer que el asegurado sufra dicha pérdida. Se extienen el objeto del seguro a amparar el patrimonio del asegurado por la pérdida o daños de bienes propios y no propios por los cuales el Asegurado sea responsable tales como dineros efectivo y dinero en todas sus formas y representaciones, títulos valores y cualquier documento y forma material o inmaterial de representación de dinero, como consecuencia de los riesgos a que está expuesto el Asegurado en el giro normal de su actividad social.
B15: 5.3. | C15: LÍMITE ASEGURADO EVENTO /AGREGADO VIGENCIA
A16: 1 | B16: Oferta Básica: Ver Anexo Formulario de Infideldad y Riesgos Financieros | E16: $700.000.000 evento / agregado vigencia
B17: NOTA: No se acepta la presentación de condiciones o subjetividades que establezcan condicionamiento para el otorgamiento o expedición de la póliza, tales como: sujeción a envío de información a satisfacción de suscriptores, confirmación de cambios materiales, estudio de riesgos dentro de la vigencia del seguro, entre otros; la propuesta que contenga este tipo de condiciones será objeto de rechazo para la presente póliza.
B18: 5.3.1. | C18: MODALIDAD DE COBERTURA: Los amparos otorgados, en la presente póliza, operan bajo la modalidad Descubrimiento
B19: 5.4. | C19: BASE PARA LA DETERMINACIÓN Y APLICACIÓN DEL CONCEPTO SUBLÍMITE / VIGENCIA / AGREGADO ANUAL
B20: Para la totalidad de Coberturas y/o condiciones básicas sublímitadas, queda expresamente aceptado por parte de los proponentes que, en concordancia con la vigencia de la póliza que se adjudique, cada Sublímite operará así:
B21: - Si la vigencia es igual o mayor a doce (12) meses: Sublímite indicado Evento /Agregado Anual.
B22: En caso de discrepancia en alguna cobertura o cláusula básicas con relación al concepto de aplicación del sublímite / vigencia / agregado anual, frente a la vigencia ofertada, prevalece el establecido en este numeral con relación al plazo de la condición ofertada.
B23: 5.5. | C23: COBERTURAS BÁSICAS (Se precisa que las condiciones, coberturas y cláusulas de esta póliza aplican para las pérdidas derivadas de infidelidad de empleados, solos o en concurso con otros, o con terceros, con la intención manifiesta de hacer que el asegurado sufra dicha pérdida.)
B24: Clausulado DHP-84. Se eliminan las Condiciones Precedentes a Responsabilidad del Clausulado DHP84 y se modifican por exclusiones.
B25: INFIDELIDAD | E25: Actos deshonestos o fraudulentos de los empleados públicos y trabajadores (Texto DHP-84), con cambios en la cláusula de Infidelidad por KFA81.
B26: PREDIOS DHP84 | E26: Como consecuencia de la pérdida de cualquier propiedad bien sea por hurto, sustracción, medios fraudulentos o desaparición misteriosa e inexplicable, o que sea dañada, destruida o extraviada, de cualquier manera, o sea causado por cualquier persona o personas mientras tal propiedad se encuentra dentro de cualquier predio, situado en cualquier lugar, incluyendo tráiler, móviles y/o predios similares usados temporalmente por el Asegurado para el manejo de su negocio, excepto mientras estén en el correo o con un transportador contratado, distinto de una compañía transportadora con vehículos blindados para su transporte. Como consecuencia de la pérdida de cualquiera de los bienes de la propiedad, definidos en la Sección Tercera Definiciones, literal C, en poder de cualquier cliente del Asegurado o de cualquier representante de dicho cliente, ya sea o no el Asegurado legalmente responsable de su pérdida. (i) por cualquier causa mientras tal propiedad se encuentre dentro de cualquiera de los predios del Asegurado, o
E27: (ii) mediante robo mientras dicho cliente o representante este tramitando negocios con el Asegurado en una ventanilla exterior, cajero automático u otra instalación similar proporcionada por el Asegurado para este fin, o mientras dicho cliente o representante se encuentre dentro de cualquier edificio, acceso, parqueadero o lugar similar mantenido por el Asegurado para conveniencia de tales clientes o representantes, siempre que su presencia en dichos predios sea con el propósito de hacer transacciones bancarias con el Asegurado, sujeto siempre a las disposiciones de la Condición 3, y excluyendo, en todos los casos, pérdidas causadas por tal cliente o representante. Como consecuencia de la pérdida o daño causado a los muebles y enseres, instalaciones, equipo (excepto computadores y su equipo periférico), papelería y elementos de oficina, suministros, enseres, o cajas de seguridad y bóvedas que se encuentren dentro de los predios del Asegurado, causados por robo, hurto, hurto calificado, atraco o cualquier intento, o por vandalismo o acto malintencionado, exceptuando siempre toda pérdida o daño causado por incendio; Como consecuencia de la pérdida por daño causado a los predios, o el interior de dichos predios, causados por robo, hurto, hurto calificado, atraco o cualquier intento, o por vandalismo o acto malintencionado. Previsto siempre y cuando el Asegurado sea el propietario de tales predios, muebles y enseres, instalaciones, equipo (excepto computadores y su equipo periférico), papelería y elementos de oficina, suministros, enseres, o cajas de seguridad y bóvedas que se encuentren dentro de los predios del Asegurado, causados por robo, hurto, hurto calificado, atraco o cualquier intento, o por vandalismo o acto malintencionado, exceptuando siempre toda pérdida o daño causado por incendio.
B28: TRÁNSITO DHP84 | E28: La aseguradora se compromete a indemnizar al asegurado las pérdidas directas causadas por la destrucción, la desaparición o hurto de dinero o títulos valores fuera de los predios, mientras que se encuentren transportados por el asegurado, un socio, un empleado, una compañía de transporte de valores, o por cualquier otra persona debidamente autorizada por el asegurado para tener custodia de ellos, o mientras se encuentren temporalmente en la residencia del asegurado, un socio, un empleado, o cualquier otra de tales personas, la cobertura bajo este amparo también incluirá la indemnización por las pérdida o daño de otras propiedades por hurto calificado o por un intento de ello fuera del predio, mientras que la propiedad esté siendo transportada.
B29: FALSIFICACIÓN O ADULTERACIÓN DHP 84 | E29: La presente póliza cubre pérdidas como consecuencia de falsificación o alteración de cheques, giros, letras de cambio, aceptaciones, órdenes de pago, certificados de depósito, cartas de crédito, garantías, giros postales, recibos para retiro de fondos y similares. Así mismo, la transferencia, pago o entrega de fondos, constitución de créditos, entrega de bienes asegurables con base en instrucciones escritas, telegráficas, cablegráficas o hechas por teletipo, dirigidas al asegurado, las cuales habiendo sido alteradas o siendo falsas, aparenten haber sido firmadas o endosadas por algún cliente del asegurado o por una institución bancaria sin consentimiento de estos.
E30: Como consecuencia de la transferencia, pago o entrega de cualquiera fondos o bienes, la constitución de cualquier crédito, la entrega de cualquier bien asegurable, confiando en cualquier instrucción escrita o aviso dirigido al Asegurado y autorizando o reconociendo tal transferencia, pago entrega o recibo de fondos o bienes, cuyas instrucciones o avisos aparentan haber sido firmados o endosados por cualquier cliente del Asegurado o por cualquier otra institución bancario pero que dichas instrucciones o avisos ya sea que lleven la firma o el endoso falsificado o hayan sido alterados sin conocimiento y consentimiento de tal cliente o institución bancario. Las instrucciones o avisos como se menciona anteriormente, telegráficas, cablegráficas o por teletipo, enviadas por una persona diferente del cliente del Asegurado o institución bancario aparentando como que han enviado tales instrucciones o avisos serán consideradas como firmas falsificada. También, como consecuencia del pago por parte del Asegurado de cualquier pagaré, pagadero en cualquier oficina del Asegurado el cual pruebe que lleva un endoso falsificado. Queda convenido que cualquier cheque o giro pagadero a un beneficiario ficticio y endosado a nombre del mismo o efectuado en una transacción cara a cara con el creador o girador de este o cualquiera suplantando a otro, pagadero a aquel suplantado y endosado por cualquier persona diferente del suplantado, será considerado como un endoso falsificado. Las firmas facsímiles mecánicamente reproducidas serán consideradas como firmas manuscritas.
B31: FALSIFICACIÓN EXTENDIDA | E31: Mediante la presente cobertura, el amparo de falsificación se extiende a cubrir las pérdidas ocurridas por compra, adquisición, aceptación, recibo, venta, envío u otorgamiento de algún valor, concesión de crédito, asunción de alguna obligación o en general actuación de buena fe sobre cualquier título valor, documento y otro instrumento escrito, que haya sido falsificado o adulterado en cuanto a la firma de cualquier girador, librador, emisor, endosante, cedente, arrendatario, intermediario, aceptante o fiador, o que hubiese sido borrado, alterado, perdido o hurtado. Así mismo, la garantía otorgada por escrito sobre cualquier título o documento que transfiera o pretenda transferir un título.
B32: PÉRDIDA DE DERECHO DE SUSCRIPCIÓN DHP84 | E32: La presente póliza se extiende a cubrir cualquier pérdida de suscripción, conversión, redención o privilegios de depósito a causa de extravío o pérdida de valores dentro de cualquier predio donde estén ubicados y, mientras se encuentren en tránsito en cualquier lugar por cuenta del asegurado y bajo la vigilancia o custodia de cualquier empleado o transportador especializado, excepto cuando se encuentren en el correo en poder de un transportador contratado, salvo que se trate de una compañía transportadora que utilice vehículos blindados. El importe de la indemnización será el valor que tengan los mencionados privilegios con anterioridad inmediata a su vencimiento o, en caso de divergencia, según se determine por arbitramento o acuerdo.
