Workbook

Sheet INF Est Mercado
A1: PROMEDIOS
A2: Objeto: Prestación del servicio de aseo, oficios varios, mantenimientos y otros para INDEPORTES ANTIOQUIA
A3: CUADRO DE TURNOS | B3: HORAS al dia LUNES SABADO | C3: DIAS LUNES A SABADO | D3: HORAS DOMINGO | E3: DIAS DOMINGO | F3: TOTAL HORA SEMANA | G3: NUMERO DE PERSONAS
A4: Casa Sede Jaques de Bedout Villa
A5: Servicio de aseo | B5: =47/5 -> 9.4 | C5: 5 | D5: 0 | E5: 0 | F5: =47*8 -> 376 | G5: 8
A6: Servicio de oficios varios | B6: =47/5 -> 9.4 | C6: 5 | D6: 0 | E6: 0 | F6: =47*2 -> 94 | G6: 2
A7: Recepcionista | B7: =47/5 -> 9.4 | C7: 5 | D7: 0 | E7: 0 | F7: 47 | G7: 1
A8: Villa Deportiva
A9: Servicio de camareras | B9: =47/6 -> 7.8333333 | C9: 6 | D9: 0 | E9: 0 | F9: =47*4 -> 188 | G9: 4
A10: Servicio de camareras dominicales y festivos | B10: 0 | C10: 0 | D10: 7 | E10: 1 | F10: =D10 -> 7
A11: Servicio de oficios varios | B11: =47/6 -> 7.8333333 | C11: 6 | D11: 0 | E11: 0 | F11: =47*2 -> 94 | G11: 2
A12: Neiva 80
A13: Servicio de camareras | B13: =47/6 -> 7.8333333 | C13: 6 | D13: 0 | E13: 0 | F13: =47*2 -> 94 | G13: 2
A14: Servicio de camareras dominicales y festivos | B14: 0 | C14: 0 | D14: 7 | E14: 1 | F14: =D14 -> 7
A15: Servicio de oficios varios | B15: =47/6 -> 7.8333333 | C15: 6 | D15: 0 | E15: 0 | F15: =47 -> 47 | G15: 1
A16: Villa Nautica - Guatapé
A17: Servicio de oficios varios | B17: =47/6 -> 7.8333333 | C17: 6 | D17: 0 | E17: 0 | F17: =47 -> 47 | G17: 1
A18: Servicio de aseo | B18: =47/6 -> 7.8333333 | C18: 6 | D18: 0 | E18: 0 | F18: =47 -> 47 | G18: 1
A19: CEDEP Urabá - Apartadó
A20: Servicio de aseo | B20: =47/6 -> 7.8333333 | C20: 6 | D20: 0 | E20: 0 | F20: =47 -> 47 | G20: 1
A21: TOTAL REQUERIMIENTO DE PERSONAL | G21: =G5+G6+G7+G9+G11+G13+G15+G17+G18+G20 -> 23
A23: SALARIO Y PRESTACIONES SOCIALES CAMARERIA, ASEO, RECEPCIONISTA, OFICIOS VARIOS | B23: ASEO, CAMARERIA Y RECEPCIONISTA | C23: OFICIOS VARIOS
A24: Concepto | B24: Valor | C24: Valor
A25: SALARIO CAMARERIA, ASEO, RECEPCIONISTA | B25: =AVERAGE('[1]Proveedor 1-Asear'!B25,'[1]Proveedor 2- Seiso'!B25,'[1]Proveedor 3 - GrupoColba'!B25) -> 1347407.7 | C25: =AVERAGE('[1]Proveedor 1-Asear'!C25,'[1]Proveedor 2- Seiso'!C25,'[1]Proveedor 3 - GrupoColba'!C25) -> 1587908 | D25: Diligenciar
A26: Subsidio de transporte | B26: 162000 | C26: 162000 | D26: LEGAL
A27: Total Ingresos empleados | B27: =SUM(B25:B26) -> 1509407.7 | C27: =SUM(C25:C26) -> 1749908
A28: Aportes en salud (ley 1607 de 2012) | B28: 0 | C28: 0
A29: Aportes en pensiones | B29: =B25*12% -> 161688.92 | C29: =C25*12% -> 190548.96
A30: ARL GRADO DE ACUERDO CON LAS EXIGENCIAS DE LEY PARA EL OFICIO | B30: =B25*1.044% -> 14066.936 | C30: =C25*6.96% -> 110518.4
A31: Caja de compensación familiar (ley 1607 de 2012) | B31: =B25*4% -> 53896.307 | C31: =C25*4% -> 63516.32
A32: Sena + ICBF (Ley 1607 de 2012)
A33: Vacaciones | B33: =B25*4.17% -> 56186.9 | C33: =C25*4.17% -> 66215.764
A34: Prima de servicios | B34: =B27*8.33% -> 125733.66 | C34: =C27*8.33% -> 145767.34
A35: Cesantias | B35: =B27*8.33% -> 125733.66 | C35: =C27*8.33% -> 145767.34
A36: Intereses a la cesantia | B36: =B27*1% -> 15094.077 | C36: =C27*1% -> 17499.08
A37: Total Prestaciones y obligaciones sociales | B37: =SUM(B29:B36) -> 552400.46 | C37: =SUM(C29:C36) -> 739833.19
A38: Costo Laboral total | B38: =B37+B27 -> 2061808.1 | C38: =C37+C27 -> 2489741.2
A43: COSTOS VIGENCIA 2024 Desde 1 de junio al 31 de Diciembre de 2024
A44: CONCEPTO | B44: VALOR MES / UNITARIO | C44: CANTIDAD | D44: MESES | E44: VALOR TOTAL
A45: PERSONAL DE ASEO CAMARERIA Y RECEPCION | B45: =+B38 -> 2061808.1 | C45: 16 | D45: 7 | E45: =+B45*C45*D45 -> 2.3092251e+08
...

Sheet Resumen Propuesta
C2: Concepto | D2: Valor
C3: Costo 2026 | D3: =+'Formulario Económico 2026'!H84 -> 66516133
C4: Costo 2027 | D4: =+'Formulario Económico 2027'!L85 -> 1.7312981e+08
C5: Valor total | D5: =SUM(D3:D4) -> 2.3964594e+08
C7: Instrucciones de diligenciamiento
B8: 1 | C8: La información consolidada se trae de las otras 6 hojas de este archivo
B9: 2 | C9: Antes de iniciar el diligenciamiento del formulario económico, es indispensable completar en su totalidad las hojas correspondientes a Dotación 2026, Dotación 2027, Elementos de Aseo y Cafeteria 2026 y Elementos de aseo y Cafeteria 2027
B10: 3 | C10: Este paso es requisito previo y garantiza la correcta consolidación de la información en los Formularios Ecónomicos
B11: 4 | C11: Una vez diligenciadas las hojas Dotación 2026, Dotación 2027, Elementos de Aseo y Cafeteria 2026 y Elementos de aseo y Cafeteria 2027 de acuerdo a las instrucciones de cada hoja acceda a los formularios economicos de los años 2026 y 2027
B12: 5 | C12: En el Formulario economico 2026 y 2027 es obligatorio completar todos los campos requeridos, asegurándose de ingresar la información de manera clara y precisa de acuerdo a las instrucciones alli consignadas
B13: 6 | C13: Antes de finalizar, realice una revisión general de toda la información diligenciada para evitar inconsistencias o errores.

Sheet Formulario Económico 2026
A1: FORMULARIO ECONÓMICO
A2: "Contratación de una empresa que suministre el personal necesario para la prestación de los servicios de Aseo, oficios varios, mantenimientos, recepcionista, camarería, según corresponda, en las instalaciones de indeportes Antioquia y sus diferentes sedes ”
A3: CUADRO DE TURNOS | B3: HORAS al dia LUNES SABADO | C3: DIAS LUNES A SABADO | E3: HORAS DOMINGO | F3: DIAS DOMINGO
A4: Casa Sede Jaques de Bedout Villa
A5: Servicio de aseo | B5: =47/5 -> 9.4 | C5: 5 | E5: 0 | F5: 0
A6: Servicio de oficios varios | B6: =47/5 -> 9.4 | C6: 5 | E6: 0 | F6: 0
A7: Recepcionista | B7: =47/5 -> 9.4 | C7: 5 | E7: 0 | F7: 0
A8: Villa Deportiva
A9: Servicio de camareras | B9: =47/6 -> 7.8333333 | C9: 6 | E9: 0 | F9: 0
A10: Servicio de camareras dominicales y festivos | B10: 0 | C10: 0 | E10: 7 | F10: 1
A11: Servicio de oficios varios | B11: =47/6 -> 7.8333333 | C11: 6 | E11: 0 | F11: 0
A12: Neiva 80
A13: Servicio de camareras | B13: =47/6 -> 7.8333333 | C13: 6 | E13: 0 | F13: 0
A14: Servicio de camareras dominicales y festivos | B14: 0 | C14: 0 | E14: 7 | F14: 1
A15: Servicio de oficios varios | B15: =47/6 -> 7.8333333 | C15: 6 | E15: 0 | F15: 0
A16: Villa Nautica - Guatapé
A17: Servicio de oficios varios | B17: =47/6 -> 7.8333333 | C17: 6 | E17: 0 | F17: 0
A18: Servicio de aseo | B18: =47/6 -> 7.8333333 | C18: 6 | E18: 0 | F18: 0
A19: CEDEP Urabá - Apartadó
A20: Servicio de aseo | B20: =47/6 -> 7.8333333 | C20: 6 | E20: 0 | F20: 0
A21: TOTAL REQUERIMIENTO DE PERSONAL
A23: SMMLV 2026 | B23: 1750905
A24: Auxilio de Transporte | B24: 249095
A27: SALARIO Y PRESTACIONES SOCIALES CAMARERIA, ASEO Y OFICIOS VARIOS. | B27: ASEO, CAFETERÍA Y CAMARERÍA | C27: OFICIOS VARIOS | D27: RECEPCIÓN | E27: Instrucciones
A28: Concepto | B28: Valor | C28: Valor | D28: Valor
A29: Salario personal servicio de aseo, camarería, oficios varios y supernumerarios | E29: Diligenciar estas Celdas. B29, C29 y D29. Teniendo en cuenta que el salario para el caso del personal de aseo, camareria y recepción no puede ser inferior a 1.1 smmlv y para el personal de oficios varios no puede ser inferior a 1.2 smmlv
A30: Subsidio de transporte | B30: =+B24 -> 249095 | C30: =+B24 -> 249095 | D30: =+B24 -> 249095 | E30: Celdas formuladas, No modificar
A31: Total Ingresos empleados | B31: =SUM(B29:B30) -> 249095 | C31: =SUM(C29:C30) -> 249095 | D31: =SUM(D29:D30) -> 249095
A32: Aportes en salud (ley 1607 de 2012) | B32: =+B29*8.5% -> 0 | C32: =+C29*8.5% -> 0 | D32: =+D29*8.5% -> 0 | E32: Esta fila se encuentra formulada. Sin embargo, en caso de aplicar alguna exoneracion diligenciar según corresponda.
A33: Aportes en pensiones | B33: =B29*12% -> 0 | C33: =C29*12% -> 0 | D33: =D29*12% -> 0 | E33: Celdas formuladas, No modificar
A34: ARL Grado de acuerdo con las exigecias de ley para el oficio | B34: =B29*1.044% -> 0 | C34: =C29*4.35% -> 0 | D34: =D29*0.522% -> 0
A35: Caja de compensación familiar (ley 1607 de 2012) | B35: =B29*4% -> 0 | C35: =C29*4% -> 0 | D35: =D29*4% -> 0
A36: Sena + ICBF (Ley 1607 de 2012) | B36: =B29*5% -> 0 | C36: =C29*5% -> 0 | D36: =D29*5% -> 0 | E36: Esta fila se encuentra formulada. Sin embargo, en caso de aplicar alguna exoneracion dilirenciar según corresponda.
A37: Vacaciones | B37: =B29*4.17% -> 0 | C37: =C29*4.17% -> 0 | D37: =D29*4.17% -> 0 | E37: Celdas formuladas, No modificar
A38: Prima de servicios | B38: =B31*8.33% -> 20749.613 | C38: =C31*8.33% -> 20749.613 | D38: =D31*8.33% -> 20749.613
A39: Cesantias | B39: =B31*8.33% -> 20749.613 | C39: =C31*8.33% -> 20749.613 | D39: =D31*8.33% -> 20749.613
A40: Intereses a la cesantías | B40: =B31*1% -> 2490.95 | C40: =C31*1% -> 2490.95 | D40: =D31*1% -> 2490.95
A41: Total Aportes Parafiscales y Prestaciones Sociales | B41: =SUM(B32:B40) -> 43990.177 | C41: =SUM(C32:C40) -> 43990.177 | D41: =SUM(D32:D40) -> 43990.177
A42: Costo Laboral Total | B42: =B41+B31 -> 293085.18 | C42: =C41+C31 -> 293085.18 | D42: =D41+D31 -> 293085.18
A45: COSTOS VIGENCIA 2026 (octubre a diciembre de 2026)
...

Sheet Dotación 2026
A1: DOTACIÓN PERSONAL ASEO, CAFETERÍA, RECEPCIÓN Y CAMARERÍA | E1: CANT
A2: DESCRIPCIÓN | B2: CANTIDAD | C2: VALOR UNITARIO IVA INCLUIDO | D2: SUBTOTAL
A3: Uniforme Anti fluido bordado | B3: 2 | D3: =(C3*B3) -> 0
A4: Par de Botas de caucho PVC, resistente a hidrocarburos, forro en poliéster, con aditivo antihongos | B4: 1 | D4: =(C4*B4) -> 0
A5: Par de Zapatos en cuero con zuela antideslizante | B5: 1 | D5: =(C5*B5) -> 0
A6: Mascarilla para polvo , tapabocas x 10 unid | B6: 2 | D6: =(C6*B6) -> 0
A7: Gafa en policarbonato, protección UV y protección al impacto | B7: 1 | D7: =(C7*B7) -> 0
A8: Par de Guantes con resistencia a productos químicos, elaborado en látex natural de bajo amonio, fácil agarre. | B8: 1 | D8: =(C8*B8) -> 0
A9: SUBTOTAL UNITARIO IVA INCLUIDO | D9: =SUM(D3:D8) -> 0
A10: TOTAL | D10: =D9*E10 -> 0 | E10: 16
A12: DOTACIÓN PERSONAL RECEPCION
A13: DESCRIPCIÓN | B13: CANTIDAD | C13: VALOR UNITARIO IVA INCLUIDO | D13: SUBTOTAL
A14: Camiseta tipo polo | B14: 2 | D14: =(C14*B14) -> 0
A15: Pantalon tipo drill | B15: 2 | D15: =(C15*B15) -> 0
A16: Zapatos tipo tennis color negro | B16: 1 | D16: =(C16*B16) -> 0
A17: SUBTOTAL UNITARIO IVA INCLUIDO | D17: =SUM(D14:D16) -> 0
A18: TOTAL | D18: =D17*E18 -> 0 | E18: 1
A20: DOTACIÓN PERSONAL DE OFICIOS VARIOS SERVICIOS GENERALES
A21: Descripción | B21: CANTIDAD | C21: VALOR UNITARIO IVA INCLUIDO | D21: SUBTOTAL
A22: Par de Botas de caucho, PVC, resistente a hidrocarburos, forro en poliéster, con aditivo antihongos | B22: 1 | D22: =(C22*B22) -> 0
A23: par de Botas de seguridad Dieléctrica Decker punta de acero resistente a hidrocarburos | B23: 1 | D23: =(C23*B23) -> 0
A24: Overol Drill, 100% algodón, Manga Larga bordado | B24: 2 | D24: =(C24*B24) -> 0
A25: Gafa en policarbonato, protección UV y protección al impacto | B25: 1 | D25: =(C25*B25) -> 0
A26: Mascarilla para polvo , tapabocas x 10 unid | B26: 2 | D26: =(C26*B26) -> 0
A27: Protector oído tipo copa | B27: 1 | D27: =(C27*B27) -> 0
A28: Par de Guantes carnaza | B28: 2 | D28: =(C28*B28) -> 0
A29: SUBTOTAL UNITARIO IVA INCLUIDO | D29: =SUM(D22:D28) -> 0
A30: TOTAL | D30: =D29*E30 -> 0 | E30: 7
A34: Total 1 dotación | D34: =+D10+D30+D18 -> 0
A36: Diligenciar las celdas sombreadas con los valores unitarios incluido IVA

Sheet Elementos aseo y cafeteria2026
F1: 2026
A2: No. | B2: Descripcion | C2: Caracteristicas | D2: Und medida | E2: Cant. | F2: Vlr unit. | G2: IVA | H2: Subtotal por artículo
A3: 1 | B3: ALCOHOL DESINFECTANTE AL 70% | C3: Alcohol desinfectante con mínimo 3 meses de garantía por defectos de fabricación a partir de la fecha de entrega. La fecha de vencimiento no puede ser menor a 6 meses a partir la fecha de entrega. | D3: Tarro (700 ml) | E3: 40 | G3: =+ROUND(F3*0.19,0) -> 0 | H3: =(F3+G3)*E3 -> 0
A4: 2 | B4: AMBIENTADOR EN AEROSOL | C4: Ambientador de repuesto, de aerosol automático de 250 ML, Accesorio aseo, químicos para mantener el aire aromatizado y neutralizar olores, tipo ambientador, aerosol automático. Las fragancias: fantasía floral, lavanda, manzana y canela. | D4: Und (250 ml) | E4: 15 | G4: =+ROUND(F4*0.19,0) -> 0 | H4: =(F4+G4)*E4 -> 0
A5: 3 | B5: AROMATICAS SABORES SURTIDA | C5: Infusiones naturales libres de cafeína, hechas con ingredientes frutales, en diferentes surtidos de bebidas a base de frutos rojos, amarillos, verdes y naranjados, mezcla herbal, sabores a miel o jengibre, etc., empacadas en cajas que contienen 20 bolsas: | D5: Caja (20 unidades) | E5: 550 | G5: =+ROUND(F5*0.19,0) -> 0 | H5: =(F5+G5)*E5 -> 0
A6: 4 | B6: AZUCAR BLANCA | C6: Azúcar blanca refinada natural en bolsas de paquete por 200 sobres de cinco (5) gramos. - Empaque elaborado en materiales atóxicos - Debe cumplir con Resolución 810 de 2021 sobre rotulado y etiquetado nutricional y las normas que la modifiquen. La fecha | D6: Paquete (200 sobres de 5 grs) | E6: 448 | G6: =+ROUND(F6*0.05,0) -> 0 | H6: =(F6+G6)*E6 -> 0
A7: 5 | B7: BALDE PLASTICO | C7: Balde plástico capacidad 12 litros | D7: Und | E7: 15 | G7: =+ROUND(F7*0.19,0) -> 0 | H7: =(F7+G7)*E7 -> 0
A8: 6 | B8: BOLSA DE BASURA BLANCA DE 55 X 55 | C8: Bolsas plásticas de color blanco, con medidas de 55x55 CALIBRE 1.5, paquete de bolsas por 10 unidades, que se encuentren libres de átomos de cloro, con la respectiva certificación para cumplir norma sanitaria | D8: Paquete (10 unidades) | E8: 100 | G8: =+ROUND(F8*0.19,0) -> 0 | H8: =(F8+G8)*E8 -> 0
A9: 7 | B9: BOLSA DE BASURA BLANCA DE 65 X 90 | C9: Bolsas plásticas de color blanco con medidas de 65x90 cm, CALIBRE 1.6, para canecas de 20 litros. Paquete de bolsas por 10 unidades, que se encuentren libres de átomos de cloro, con la respectiva certificación para cumplir norma sanitaria, | D9: Paquete (10 unidades) | E9: 500 | G9: =+ROUND(F9*0.19,0) -> 0 | H9: =(F9+G9)*E9 -> 0
A10: 8 | B10: BOLSA DE BASURA BLANCA DE 80 X 110 | C10: Bolsas plástica de color blanca con medidas de 80x110 CALIBRE 1.6, paquete de bolsas por 10 unidades, que se encuentren libres de átomos de cloro, con la respectiva certificación para cumplir norma sanitaria | D10: Paquete (10 unidades) | E10: 100 | G10: =+ROUND(F10*0.19,0) -> 0 | H10: =(F10+G10)*E10 -> 0
A11: 9 | B11: BOLSA DE BASURA NEGRA 65X90 PAQUETE X 10 | C11: Bolsas plásticas de color negro con medidas de 65x90 CALIBRE 1.6, para canecas de 20 litros. Paquete de bolsas por 10 unidades, que se encuentren libres de átomos de cloro, con la respectiva certificación para cumplir norma sanitaria | D11: Paquete (10 unidades) | E11: 100 | G11: =+ROUND(F11*0.19,0) -> 0 | H11: =(F11+G11)*E11 -> 0
A12: 10 | B12: BOLSA DE BASURA NEGRA 80X 110 PAQUETE X 10 UNDS. | C12: Bolsas plásticas de color negro con medidas de 80x110 CALIBRE 1.6 (PUNTO ECOLÓGICO), paquete de bolsas por 10 unidades, que se encuentren libres de átomos de cloro, con la respectiva certificación para cumplir norma sanitaria | D12: Paquete (10 unidades) | E12: 100 | G12: =+ROUND(F12*0.19,0) -> 0 | H12: =(F12+G12)*E12 -> 0
A13: 11 | B13: BOLSA DE BASURA NEGRA DE 55 X 55 | C13: Bolsas plásticas de color negro con medidas de 55x55 CALIBRE 1.5, paquete de bolsas por 10 unidades, que se encuentren libres de átomos de cloro, con la respectiva certificación para cumplir norma sanitaria | D13: Paquete (10 unidades) | E13: 100 | G13: =+ROUND(F13*0.19,0) -> 0 | H13: =(F13+G13)*E13 -> 0
A14: 12 | B14: BOLSA DE BASURA PARA CONTENEDORES 100 X 120 CMS. | C14: Bolsas plásticas de color blanco y negro, Tamaño 120cms de ancho x 110cms de largo Paquete por 10 unidades. Calibre 1.6 | D14: Paquete (10 unidades) | E14: 30 | G14: =+ROUND(F14*0.19,0) -> 0 | H14: =(F14+G14)*E14 -> 0
A15: 13 | B15: BOLSA PARA BASURA PEQUEÑA DE 40 X 50 | C15: Bolsa para pasura de 40x50 color blanca. | D15: Paquete (10 unidades) | E15: 40 | G15: =+ROUND(F15*0.19,0) -> 0 | H15: =(F15+G15)*E15 -> 0
A16: 14 | B16: BOLSA PARA BASURA PEQUEÑA DE 40 X 50 | C16: Bolsa para pasura de 40x50 negra. | D16: Paquete (10 unidades) | E16: 40 | G16: =+ROUND(F16*0.19,0) -> 0 | H16: =(F16+G16)*E16 -> 0
A17: 15 | B17: BOLSA PARA BASURA PEQUEÑA DE 40 X 50 | C17: Bolsa para pasura de 40x50 color verde. | D17: Paquete (10 unidades) | E17: 40 | G17: =+ROUND(F17*0.19,0) -> 0 | H17: =(F17+G17)*E17 -> 0
A18: 16 | B18: BOLSA PARA BASURA PEQUEÑA DE 40 X 50 | C18: Bolsa para pasura de 40x50 color roja riesgo biologico | D18: Paquete (10 unidades) | E18: 40 | G18: =+ROUND(F18*0.19,0) -> 0 | H18: =(F18+G18)*E18 -> 0
... A24: 22 | B24: BOMBA PARA DESTAQUEAR | C24: Uso en zona Sanitaria. | D24: Und | E24: 10 | G24: =+ROUND(F24*0.19,0) -> 0 | H24: =(F24+G24)*E24 -> 0
A25: 23 | B25: CAFÉ | C25: Café granulado molido y tostado tipo medio en empaque laminado y metalizado de 2.500 gramos cada paquete. Mezcla de café con cáscara de café tostado y molido. - Debe cumplir con Resolución 810 de 2021 sobre rotulado y etiquetado nutricional y las normas q | D25: Paquete (2500 gramos). | E25: 200 | G25: =+ROUND(F25*0.05,0) -> 0 | H25: =(F25+G25)*E25 -> 0
A26: 24 | B26: CANECA BLANCA PEDAL 20 LTS. | C26: canecas blancas de pedal con leyenda para residuos aprovechables de 20 litros | D26: Und | E26: 11 | G26: =+ROUND(F26*0.19,0) -> 0 | H26: =(F26+G26)*E26 -> 0
A27: 25 | B27: CANECA NEGRA PEDAL 20 LTS. | C27: canecas negras de pedal con leyenda para residuos no aprovechables por 20 litros | D27: Und | E27: 9 | G27: =+ROUND(F27*0.19,0) -> 0 | H27: =(F27+G27)*E27 -> 0
A28: 26 | B28: CEPILLO DE MANO | C28: Cepillo tipo plancha, para lavar a mano, trabajo pesado | D28: Und | E28: 10 | G28: =+ROUND(F28*0.19,0) -> 0 | H28: =(F28+G28)*E28 -> 0
A29: 27 | B29: CREMA FROTEX | C29: Limpiador desengrasante en crema, pastosa de textura suave y homogénea en color blanco .-- Con agente(s) tensoactivo(s) principal(es) con efecto limpiador y desengrasante en una concentración mínima del 10%- con capacidad de 250 cc La fecha de fabricació | D29: Tarro (250 ml.) | E29: 20 | G29: =+ROUND(F29*0.19,0) -> 0 | H29: =(F29+G29)*E29 -> 0
A30: 28 | B30: CUCHARA PLASTICA | C30: Cuchara pequeña fabricada en bagazo de caña. Es 100% reciclable. Paquete por 100 unidades. | D30: Paquete (100 unidades) | E30: 50 | G30: =+ROUND(F30*0.19,0) -> 0 | H30: =(F30+G30)*E30 -> 0
A31: 29 | B31: DESENGRASANTE DOMÉSTICO-INDUSTRIAL X 500 ml. (pisos, cocina, parrillas y motores) DE ALTA CONCENTRACIÓN | C31: Desengrasante Biodegradable - Disponible en múltiples fragancias - Limpia y desengrasa todos los metales, plásticos, gomas, vidrio, cerámica y madera. El producto remueve eficazmente la grasa, aceite, resina, hollín, cera, nicotina, suciedad de insectos, | D31: Tarro (500 ml.) | E31: 50 | G31: =+ROUND(F31*0.19,0) -> 0 | H31: =(F31+G31)*E31 -> 0
A32: 30 | B32: DESINFECTANTE AMONIO CUATERNARIO 5A GENERACIÓN | C32: Amonio cuaternario de quinta generación Desinfectante, virucida, bactericida y fungicida. Amonio cuaternario de quinta generación, Para superficies de consultorios médicos, odontológicos, fisioterapia, zonas comunes y áreas administrativas. Este producto | D32: Tarro (galón de 3.750 ml) | E32: 10 | G32: =+ROUND(F32*0.19,0) -> 0 | H32: =(F32+G32)*E32 -> 0
A33: 31 | B33: DETERGENTE EN POLVO | C33: Detergente en polvo multiuso en presentación por 1000 gramos cada bolsa--Con agente tensoactivo de mínimo 60% de biodegradabilidad -Con efecto limpiador de mínimo 9% Polvo, en bolsa plástica o recipiente plástico. | D33: Paquete (bolsa de 1.000 gramos) | E33: 200 | G33: =+ROUND(F33*0.19,0) -> 0 | H33: =(F33+G33)*E33 -> 0
A34: 32 | B34: DETERGENTE LIQUIDO MULTIUSOS | C34: Detergente liquido poder limpiador desinfectante para todas las superficies por 3.8 litros La fecha de fabricación del producto no debe ser superior a un año. | D34: Tarro (galón de 3.750 ml) | E34: 100 | G34: =+ROUND(F34*0.19,0) -> 0 | H34: =(F34+G34)*E34 -> 0
A35: 33 | B35: DETERGENTE LÍQUIDO MULTIUSOS BIDON DE 5 GALONES (20 Litros) | C35: Detergente liquido concentrado con contenido de surfactantes remoción efectiva de la suciedad, galón por 20 litros -Con agente(s) tensoactivo(s) de mínimo 60% de biodegradabilidad -Con efecto limpiador de mínimo 9%. La fecha de fabricación del producto n | D35: Tarro (20 Litros) | E35: 20 | G35: =+ROUND(F35*0.19,0) -> 0 | H35: =(F35+G35)*E35 -> 0
A36: 34 | B36: DULCEABRIGO X METRO | C36: Tela suave de dulce abrigo resistente para la limpieza, 1 metro por 70 cm cada una, tela bayetilla, color blanco. | D36: Und | E36: 30 | G36: =+ROUND(F36*0.19,0) -> 0 | H36: =(F36+G36)*E36 -> 0
A37: 35 | B37: ESCOBA CARRETERA | C37: Escoba cerda largas y dura para barrer carretera o en exterior | D37: Und | E37: 30 | G37: =+ROUND(F37*0.19,0) -> 0 | H37: =(F37+G37)*E37 -> 0
... A78: 76 | B78: VASO DESECHABLE PEQUEÑO | C78: Vaso en papel cartón desechable de 4 onzas paquete por 50 unidades | D78: Paquete (50 unidades) | E78: 100 | G78: =+ROUND(F78*0.19,0) -> 0 | H78: =(F78+G78)*E78 -> 0
F79: Subtotales | H79: =SUM(H3:H78) -> 0
B80: Diligenciar las celdas sombreadas con los valores unitarios antes de IVA

Sheet Formulario Económico 2027
A1: FORMULARIO ECONÓMICO
A2: "Contratación de una empresa que suministre el personal necesario para la prestación de los servicios de Aseo, oficios varios, mantenimientos, recepcionista, camarería, según corresponda, en las instalaciones de indeportes Antioquia y sus diferentes sedes ”
A3: CUADRO DE TURNOS | B3: HORAS al dia LUNES SABADO | C3: DIAS LUNES A SABADO | E3: HORAS DOMINGO | F3: DIAS DOMINGO | G3: TOTAL HORA SEMANA | H3: NUMERO DE PERSONAS
A4: Casa Sede Jaques de Bedout Villa
A5: Servicio de aseo | B5: =47/5 -> 9.4 | C5: 5 | E5: 0 | F5: 0 | G5: =47*8 -> 376 | H5: 8
A6: Servicio de oficios varios | B6: =47/5 -> 9.4 | C6: 5 | E6: 0 | F6: 0 | G6: =47*2 -> 94 | H6: 2
A7: Recepcionista | B7: =47/5 -> 9.4 | C7: 5 | E7: 0 | F7: 0 | G7: 47 | H7: 1
A8: Villa Deportiva
A9: Servicio de camareras | B9: =47/6 -> 7.8333333 | C9: 6 | E9: 0 | F9: 0 | G9: =47*4 -> 188 | H9: 4
A10: Servicio de camareras dominicales y festivos | B10: 0 | C10: 0 | E10: 7 | F10: 1 | G10: =E10 -> 7
A11: Servicio de oficios varios | B11: =47/6 -> 7.8333333 | C11: 6 | E11: 0 | F11: 0 | G11: =47*2 -> 94 | H11: 2
A12: Neiva 80
A13: Servicio de camareras | B13: =47/6 -> 7.8333333 | C13: 6 | E13: 0 | F13: 0 | G13: =47*2 -> 94 | H13: 2
A14: Servicio de camareras dominicales y festivos | B14: 0 | C14: 0 | E14: 7 | F14: 1 | G14: =E14 -> 7
A15: Servicio de oficios varios | B15: =47/6 -> 7.8333333 | C15: 6 | E15: 0 | F15: 0 | G15: =47 -> 47 | H15: 1
A16: Villa Nautica - Guatapé
A17: Servicio de oficios varios | B17: =47/6 -> 7.8333333 | C17: 6 | E17: 0 | F17: 0 | G17: =47 -> 47 | H17: 1
A18: Servicio de aseo | B18: =47/6 -> 7.8333333 | C18: 6 | E18: 0 | F18: 0 | G18: =47 -> 47 | H18: 1
A19: CEDEP Urabá - Apartadó
A20: Servicio de aseo | B20: =47/6 -> 7.8333333 | C20: 6 | E20: 0 | F20: 0 | G20: =47 -> 47 | H20: 1
A21: TOTAL REQUERIMIENTO DE PERSONAL | H21: =H5+H6+H7+H9+H11+H13+H15+H17+H18+H20 -> 23
A23: SMMLV 2026 | B23: 1750905
A24: incremento | B24: 0.15 | C24: =+B23*B24 -> 262635.75
A25: Salario proyectado 2027 | C25: =+B23+C24 -> 2013540.8
A26: Auxilio de Transporte | C26: =249095*1.15 -> 286459.25
A28: SALARIO Y PRESTACIONES SOCIALES CAMARERIA, ASEO Y OFICIOS VARIOS. | B28: ASEO, CAFETERÍA Y CAMARERÍA | C28: OFICIOS VARIOS Y SUPERNUMERARIOS | D28: RECEPCIÓN | E28: Instrucciones
A29: Concepto | B29: Valor | C29: Valor | D29: Valor
A30: Salario personal servicio de aseo, camarería, oficios varios y supernumerarios | E30: Diligenciar estas Celdas. B29, C29 y D29. Teniendo en cuenta que el salario para el caso del personal de aseo, camareria y recepción no puede ser inferior a 1.1 smmlv y para el personal de oficios varios no puede ser inferior a 1.2 smmlv
A31: Subsidio de transporte | B31: =+C26 -> 286459.25 | C31: =+C26 -> 286459.25 | D31: =+B31 -> 286459.25 | E31: Celdas formuladas, No modificar
A32: Total Ingresos empleados | B32: =SUM(B30:B31) -> 286459.25 | C32: =SUM(C30:C31) -> 286459.25 | D32: =+B32 -> 286459.25
A33: Aportes en salud (ley 1607 de 2012) | B33: =+B30*8.5% -> 0 | C33: =+C30*8.5% -> 0 | D33: =+B33 -> 0 | E33: Esta fila se encuentra formulada. Sin embargo, en caso de aplicar alguna exoneracion diligenciar según corresponda.
A34: Aportes en pensiones | B34: =B30*12% -> 0 | C34: =C30*12% -> 0 | D34: =+B34 -> 0 | E34: Celdas formuladas, No modificar
A35: ARL Grado de acuerdo con las exigecias de ley para el oficio | B35: =B30*1.044% -> 0 | C35: =C30*4.35% -> 0 | D35: =D30*0.522% -> 0
A36: Caja de compensación familiar (ley 1607 de 2012) | B36: =B30*4% -> 0 | C36: =C30*4% -> 0 | D36: =+B36 -> 0
A37: Sena + ICBF (Ley 1607 de 2012) | B37: =B30*5% -> 0 | C37: =C30*5% -> 0 | D37: =+B37 -> 0 | E37: Esta fila se encuentra formulada. Sin embargo, en caso de aplicar alguna exoneracion dilirenciar según corresponda.
A38: Vacaciones | B38: =B30*4.17% -> 0 | C38: =C30*4.17% -> 0 | D38: =+B38 -> 0 | E38: Celdas formuladas, No modificar
A39: Prima de servicios | B39: =B32*8.33% -> 23862.056 | C39: =C32*8.33% -> 23862.056 | D39: =+B39 -> 23862.056
A40: Cesantias | B40: =B32*8.33% -> 23862.056 | C40: =C32*8.33% -> 23862.056 | D40: =+B40 -> 23862.056
A41: Intereses a la cesantías | B41: =B32*1% -> 2864.5925 | C41: =C32*1% -> 2864.5925 | D41: =+B41 -> 2864.5925
A42: Total Aportes Parafiscales y Prestaciones Sociales | B42: =SUM(B33:B41) -> 50588.704 | C42: =SUM(C33:C41) -> 50588.704 | D42: =SUM(D33:D41) -> 50588.704
...

Sheet Dotacion 2027
A1: DOTACIÓN PERSONAL ASEO, CAFETERÍA, Y CAMARERÍA
A2: DESCRIPCIÓN | B2: CANTIDAD | C2: VALOR UNITARIO IVA INCLUIDO | D2: SUBTOTAL
A3: Uniforme Anti fluido bordado | B3: 2 | D3: =(C3*B3) -> 0
A4: Par de Botas de caucho PVC, resistente a hidrocarburos, forro en poliéster, con aditivo antihongos | B4: 1 | D4: =(C4*B4) -> 0
A5: Par de Zapatos en cuero con zuela antideslizante | B5: 1 | D5: =(C5*B5) -> 0
A6: Mascarilla para polvo , tapabocas x 10 unid | B6: 2 | D6: =(C6*B6) -> 0
A7: Gafa en policarbonato, protección UV y protección al impacto | B7: 1 | D7: =(C7*B7) -> 0
A8: Par de Guantes con resistencia a productos químicos, elaborado en látex natural de bajo amonio, fácil agarre. | B8: 1 | D8: =(C8*B8) -> 0
A9: SUBTOTAL UNITARIO IVA INCLUIDO | D9: =SUM(D3:D8) -> 0
A10: TOTAL | D10: =D9*E10 -> 0 | E10: 16
A12: DOTACIÓN PERSONAL RECEPCION
A13: DESCRIPCIÓN | B13: CANTIDAD | C13: VALOR UNITARIO IVA INCLUIDO | D13: SUBTOTAL
A14: Camiseta tipo polo | B14: 2 | D14: =(C14*B14) -> 0
A15: Pantalon tipo drill | B15: 2 | D15: =(C15*B15) -> 0
A16: Zapatos tipo tennis color negro | B16: 1 | D16: =(C16*B16) -> 0
A17: SUBTOTAL UNITARIO IVA INCLUIDO | D17: =SUM(D14:D16) -> 0
A18: TOTAL | D18: =D17*E18 -> 0 | E18: 1
A20: DOTACIÓN PERSONAL DE OFICIOS VARIOS SERVICIOS GENERALES
A21: Descripción | B21: CANTIDAD | C21: VALOR UNITARIO IVA INCLUIDO | D21: SUBTOTAL
A22: Par de Botas de caucho, PVC, resistente a hidrocarburos, forro en poliéster, con aditivo antihongos | B22: 1 | D22: =(C22*B22) -> 0
A23: par de Botas de seguridad Dieléctrica Decker punta de acero resistente a hidrocarburos | B23: 1 | D23: =(C23*B23) -> 0
A24: Overol Drill, 100% algodón, Manga Larga bordado | B24: 2 | D24: =(C24*B24) -> 0
A25: Gafa en policarbonato, protección UV y protección al impacto | B25: 1 | D25: =(C25*B25) -> 0
A26: Mascarilla para polvo , tapabocas x 10 unid | B26: 2 | D26: =(C26*B26) -> 0
A27: Protector oído tipo copa | B27: 1 | D27: =(C27*B27) -> 0
A28: Par de Guantes carnaza | B28: 2 | D28: =(C28*B28) -> 0
A29: SUBTOTAL UNITARIO IVA INCLUIDO | D29: =SUM(D22:D28) -> 0
A30: TOTAL | D30: =D29*E30 -> 0 | E30: 7
A34: Total 1 dotación | D34: =+D10+D30+D18 -> 0
A36: Diligenciar las celdas sombreadas con los valores unitarios incluido IVA

Sheet Elementos aseo y cafeteria2027
F1: 2027
A2: No. | B2: Descripcion | C2: Caracteristicas | D2: Und medida | E2: Cant. | F2: Vlr unit. | G2: IVA | H2: Subtotal por artículo
A3: 1 | B3: ACEITE MINERAL | C3: Aceite cistal, Galon de 1.9 litros, de baja toxicidad 100% aceite mineral refinado para lubricacion, sin peroxido y no corrocivo para metales | D3: Und | E3: 20 | G3: =+ROUND(F3*0.19,0) -> 0 | H3: =(F3+G3)*E3 -> 0
A4: 2 | B4: ALCOHOL DESINFECTANTE AL 70% | C4: Alcohol desinfectante con mínimo 3 meses de garantía por defectos de fabricación a partir de la fecha de entrega. La fecha de vencimiento no puede ser menor a 6 meses a partir la fecha de entrega. | D4: Tarro (700 ml) | E4: 80 | G4: =+ROUND(F4*0.19,0) -> 0 | H4: =(F4+G4)*E4 -> 0
A5: 3 | B5: AMBIENTADOR EN AEROSOL | C5: Ambientador de repuesto, de aerosol automático de 250 ML, Accesorio aseo, químicos para mantener el aire aromatizado y neutralizar olores, tipo ambientador, aerosol automático. Las fragancias: fantasía floral, lavanda, manzana y canela. | D5: Und (250 ml) | E5: 30 | G5: =+ROUND(F5*0.19,0) -> 0 | H5: =(F5+G5)*E5 -> 0
A6: 4 | B6: AROMATICAS SABORES SURTIDA | C6: Infusiones naturales libres de cafeína, hechas con ingredientes frutales, en diferentes surtidos de bebidas a base de frutos rojos, amarillos, verdes y naranjados, mezcla herbal, sabores a miel o jengibre, etc., empacadas en cajas que contienen 20 bolsas: | D6: Caja (20 unidades) | E6: 1000 | G6: =+ROUND(F6*0.19,0) -> 0 | H6: =(F6+G6)*E6 -> 0
A7: 5 | B7: AZUCAR BLANCA | C7: Azúcar blanca refinada natural en bolsas de paquete por 200 sobres de cinco (5) gramos. - Empaque elaborado en materiales atóxicos - Debe cumplir con Resolución 810 de 2021 sobre rotulado y etiquetado nutricional y las normas que la modifiquen. La fecha | D7: Paquete (200 sobres de 5 grs) | E7: 800 | G7: =+ROUND(F7*0.05,0) -> 0 | H7: =(F7+G7)*E7 -> 0
A8: 6 | B8: BALDE PLASTICO | C8: Balde plástico capacidad 12 litros | D8: Und | E8: 30 | G8: =+ROUND(F8*0.19,0) -> 0 | H8: =(F8+G8)*E8 -> 0
A9: 7 | B9: BANDEJA RECTANGULAR EN ACERO INOXIDABLE | C9: Bandeja con asas en acero inoxidable de 45 x 35 cms | D9: Und | E9: 20 | G9: =+ROUND(F9*0.19,0) -> 0 | H9: =(F9+G9)*E9 -> 0
A10: 8 | B10: BOLSA DE BASURA BLANCA DE 55 X 55 | C10: Bolsas plásticas de color blanco, con medidas de 55x55 CALIBRE 1.5, paquete de bolsas por 10 unidades, que se encuentren libres de átomos de cloro, con la respectiva certificación para cumplir norma sanitaria | D10: Paquete (10 unidades) | E10: 200 | G10: =+ROUND(F10*0.19,0) -> 0 | H10: =(F10+G10)*E10 -> 0
A11: 9 | B11: BOLSA DE BASURA BLANCA DE 65 X 90 | C11: Bolsas plásticas de color blanco con medidas de 65x90 cm, CALIBRE 1.6, para canecas de 20 litros. Paquete de bolsas por 10 unidades, que se encuentren libres de átomos de cloro, con la respectiva certificación para cumplir norma sanitaria, | D11: Paquete (10 unidades) | E11: 1000 | G11: =+ROUND(F11*0.19,0) -> 0 | H11: =(F11+G11)*E11 -> 0
A12: 10 | B12: BOLSA DE BASURA BLANCA DE 80 X 110 | C12: Bolsas plástica de color blanca con medidas de 80x110 CALIBRE 1.6, paquete de bolsas por 10 unidades, que se encuentren libres de átomos de cloro, con la respectiva certificación para cumplir norma sanitaria | D12: Paquete (10 unidades) | E12: 200 | G12: =+ROUND(F12*0.19,0) -> 0 | H12: =(F12+G12)*E12 -> 0
A13: 11 | B13: BOLSA DE BASURA NEGRA 65X90 PAQUETE X 10 | C13: Bolsas plásticas de color negro con medidas de 65x90 CALIBRE 1.6, para canecas de 20 litros. Paquete de bolsas por 10 unidades, que se encuentren libres de átomos de cloro, con la respectiva certificación para cumplir norma sanitaria | D13: Paquete (10 unidades) | E13: 200 | G13: =+ROUND(F13*0.19,0) -> 0 | H13: =(F13+G13)*E13 -> 0
A14: 12 | B14: BOLSA DE BASURA NEGRA 80X 110 PAQUETE X 10 UNDS. | C14: Bolsas plásticas de color negro con medidas de 80x110 CALIBRE 1.6 (PUNTO ECOLÓGICO), paquete de bolsas por 10 unidades, que se encuentren libres de átomos de cloro, con la respectiva certificación para cumplir norma sanitaria | D14: Paquete (10 unidades) | E14: 200 | G14: =+ROUND(F14*0.19,0) -> 0 | H14: =(F14+G14)*E14 -> 0
A15: 13 | B15: BOLSA DE BASURA NEGRA DE 55 X 55 | C15: Bolsas plásticas de color negro con medidas de 55x55 CALIBRE 1.5, paquete de bolsas por 10 unidades, que se encuentren libres de átomos de cloro, con la respectiva certificación para cumplir norma sanitaria | D15: Paquete (10 unidades) | E15: 200 | G15: =+ROUND(F15*0.19,0) -> 0 | H15: =(F15+G15)*E15 -> 0
A16: 14 | B16: BOLSA DE BASURA PARA CONTENEDORES 100 X 120 CMS. | C16: Bolsas plásticas de color blanco y negro, Tamaño 120cms de ancho x 110cms de largo Paquete por 10 unidades. Calibre 1.6 | D16: Paquete (10 unidades) | E16: 60 | G16: =+ROUND(F16*0.19,0) -> 0 | H16: =(F16+G16)*E16 -> 0
A17: 15 | B17: BOLSA PARA BASURA PEQUEÑA DE 40 X 50 | C17: Bolsa para pasura de 40x50 color blanca. | D17: Paquete (10 unidades) | E17: 80 | G17: =+ROUND(F17*0.19,0) -> 0 | H17: =(F17+G17)*E17 -> 0
A18: 16 | B18: BOLSA PARA BASURA PEQUEÑA DE 40 X 50 | C18: Bolsa para pasura de 40x50 negra. | D18: Paquete (10 unidades) | E18: 80 | G18: =+ROUND(F18*0.19,0) -> 0 | H18: =(F18+G18)*E18 -> 0
A19: 17 | B19: BOLSA PARA BASURA PEQUEÑA DE 40 X 50 | C19: Bolsa para pasura de 40x50 color verde. | D19: Paquete (10 unidades) | E19: 80 | G19: =+ROUND(F19*0.19,0) -> 0 | H19: =(F19+G19)*E19 -> 0
... A26: 24 | B26: BOMBA PARA DESTAQUEAR | C26: Uso en zona Sanitaria. | D26: Und | E26: 20 | G26: =+ROUND(F26*0.19,0) -> 0 | H26: =(F26+G26)*E26 -> 0
A27: 25 | B27: CAFÉ | C27: Café granulado molido y tostado tipo medio en empaque laminado y metalizado de 2.500 gramos cada paquete. Mezcla de café con cáscara de café tostado y molido. - Debe cumplir con Resolución 810 de 2021 sobre rotulado y etiquetado nutricional y las normas q | D27: Paquete (2500 gramos). | E27: 400 | G27: =+ROUND(F27*0.05,0) -> 0 | H27: =(F27+G27)*E27 -> 0
A28: 26 | B28: CANECA BLANCA PEDAL 20 LTS. | C28: canecas blancas de pedal con leyenda para residuos aprovechables de 20 litros | D28: Und | E28: 20 | G28: =+ROUND(F28*0.19,0) -> 0 | H28: =(F28+G28)*E28 -> 0
A29: 27 | B29: CANECA NEGRA PEDAL 20 LTS. | C29: canecas negras de pedal con leyenda para residuos no aprovechables por 20 litros | D29: Und | E29: 20 | G29: =+ROUND(F29*0.19,0) -> 0 | H29: =(F29+G29)*E29 -> 0
A30: 28 | B30: CEPILLO DE MANO | C30: Cepillo tipo plancha, para lavar a mano, trabajo pesado | D30: Und | E30: 20 | G30: =+ROUND(F30*0.19,0) -> 0 | H30: =(F30+G30)*E30 -> 0
A31: 29 | B31: CREMA FROTEX | C31: Limpiador desengrasante en crema, pastosa de textura suave y homogénea en color blanco .-- Con agente(s) tensoactivo(s) principal(es) con efecto limpiador y desengrasante en una concentración mínima del 10%- con capacidad de 250 cc La fecha de fabricació | D31: Tarro (250 ml.) | E31: 40 | G31: =+ROUND(F31*0.19,0) -> 0 | H31: =(F31+G31)*E31 -> 0
A32: 30 | B32: CUCHARA PLASTICA | C32: Cuchara pequeña fabricada en bagazo de caña. Es 100% reciclable. Paquete por 100 unidades. | D32: Paquete (100 unidades) | E32: 30 | G32: =+ROUND(F32*0.19,0) -> 0 | H32: =(F32+G32)*E32 -> 0
A33: 31 | B33: DESENGRASANTE DOMÉSTICO-INDUSTRIAL X 500 ml. (pisos, cocina, parrillas y motores) DE ALTA CONCENTRACIÓN | C33: Desengrasante Biodegradable - Disponible en múltiples fragancias - Limpia y desengrasa todos los metales, plásticos, gomas, vidrio, cerámica y madera. El producto remueve eficazmente la grasa, aceite, resina, hollín, cera, nicotina, suciedad de insectos, | D33: Tarro (500 ml.) | E33: 100 | G33: =+ROUND(F33*0.19,0) -> 0 | H33: =(F33+G33)*E33 -> 0
A34: 32 | B34: DESINFECTANTE AMONIO CUATERNARIO 5A GENERACIÓN | C34: Amonio cuaternario de quinta generación Desinfectante, virucida, bactericida y fungicida. Amonio cuaternario de quinta generación, Para superficies de consultorios médicos, odontológicos, fisioterapia, zonas comunes y áreas administrativas. Este producto | D34: Tarro (galón de 3.750 ml) | E34: 20 | G34: =+ROUND(F34*0.19,0) -> 0 | H34: =(F34+G34)*E34 -> 0
A35: 33 | B35: DETERGENTE EN POLVO | C35: Detergente en polvo multiuso en presentación por 1000 gramos cada bolsa--Con agente tensoactivo de mínimo 60% de biodegradabilidad -Con efecto limpiador de mínimo 9% Polvo, en bolsa plástica o recipiente plástico. | D35: Paquete (bolsa de 1.000 gramos) | E35: 400 | G35: =+ROUND(F35*0.19,0) -> 0 | H35: =(F35+G35)*E35 -> 0
A36: 34 | B36: DETERGENTE LIQUIDO MULTIUSOS | C36: Detergente liquido poder limpiador desinfectante para todas las superficies por 3.8 litros La fecha de fabricación del producto no debe ser superior a un año. | D36: Tarro (galón de 3.750 ml) | E36: 200 | G36: =+ROUND(F36*0.19,0) -> 0 | H36: =(F36+G36)*E36 -> 0
A37: 35 | B37: DETERGENTE LÍQUIDO MULTIUSOS BIDON DE 5 GALONES (20 Litros) | C37: Detergente liquido concentrado con contenido de surfactantes remoción efectiva de la suciedad, galón por 20 litros -Con agente(s) tensoactivo(s) de mínimo 60% de biodegradabilidad -Con efecto limpiador de mínimo 9%. La fecha de fabricación del producto n | D37: Tarro (20 Litros) | E37: 40 | G37: =+ROUND(F37*0.19,0) -> 0 | H37: =(F37+G37)*E37 -> 0
A38: 36 | B38: DULCEABRIGO X METRO | C38: Tela suave de dulce abrigo resistente para la limpieza, 1 metro por 70 cm cada una, tela bayetilla, color blanco. | D38: Und | E38: 60 | G38: =+ROUND(F38*0.19,0) -> 0 | H38: =(F38+G38)*E38 -> 0
A39: 37 | B39: ESCOBA CARRETERA | C39: Escoba cerda largas y dura para barrer carretera o en exterior | D39: Und | E39: 60 | G39: =+ROUND(F39*0.19,0) -> 0 | H39: =(F39+G39)*E39 -> 0
... A80: 78 | B80: VASO DESECHABLE PEQUEÑO | C80: Vaso en papel cartón desechable de 4 onzas paquete por 50 unidades | D80: Paquete (50 unidades) | E80: 200 | G80: =+ROUND(F80*0.19,0) -> 0 | H80: =(F80+G80)*E80 -> 0
H81: =SUM(H3:H80) -> 0
B82: Diligenciar las celdas sombreadas con los valores unitarios antes de IVA
