Workbook

Sheet Cotización_IG
C1: SUBRED INTEGRADA DE SERVICIOS DE SALUD SUR E.S.E
C2: DETERMINACIÓN DE COSTO ESTIMADO DEL PROYECTO - COTIZACIONES
A4: FECHA: | C4: 46101
A5: PROCESO: | C5: CONTRATAR EL SERVICIO DE ELABORACIÓN DE INVENTARIO FORESTAL, PLAN DE PODAS PARA LA TOTALIDAD DE INDIVIDUOS ARBÓREOS EXISTENTES EN LA SUBRED INTEGRADA DE SERVICIOS DE SALUD E.S.E, JUNTO CON EL TRÁMITE Y GESTIÓN PARA LA OBTENCIÓN DE LOS PERMISOS NECESARIOS ANTE LA SECRETARÍA DISTRITAL DE AMBIENTE Y CORPORACIÓN AUTONOMA DE CUNDINAMARCA-CAR.
A7: NOMBRE DESCRIPCIÓN DE SERVICIO REQUERIDO | B7: ID SEDE | C7: Unidad o Sede | D7: Censo aproximado individuos arbóreos | E7: ESPECIFICACIÓN TÉCNICA | F7: Costo unitario individuo inventario forestal | G7: Costo unitario individuo + IVA inventario forestal | H7: Costo total inventario forestal | I7: Costo unitario individuo plan de podas | J7: Costo unitario individuo + IVA plan de podas | K7: Costo total plan de podas | L7: Costo total integral
A8: Inventario Forestal Integral Georreferenciado y Plan de Podas | B8: 1 | C8: Hospital Tunal | D8: 40 | E8: Los documentos que debe incluir el inventario forestal: 1.Formulario de solicitud de manejo o aprovechamiento forestal por unidad de servicio en salud o sede. 2.Formulario de recolección de información silvicultural por individuo (Ficha 1), el inventario forestal al 100% de los individuos dentro del área de solicitud en formato Excel editable (independiente de su actividad silvicultural). 3. Ficha técnica de registro (Ficha 2) para cada uno de los individuos dentro del área de solicitud (independiente del tratamiento silvicultural), exceptuando especies de jardinería. Con las fotos: general y detalle del Individuo, a color y firmada por el Ingeniero Forestal. 4. Placa de identificación numérica para cada individuo arbóreo, elaborada en material resistente a la intemperie y fijada en el fuste o tallo del árbol a una altura que impida su retiro, daño o hurto. 5.Fotografías en digital en formato .jpg, marcadas 1-1.jpg para la fotografía general y 1-2.jpg para la fotografía a detalle, con un tamaño máximo de 400Kb o tamaño comprimido que conserve buena resolución y donde sean apreciables las características de los árboles a evaluar, señalando cada individuo con una flecha o línea roja. 6.Cartografía de ubicación exacta (Georreferenciada), en formato digital (shp y PDF), escala 1:500 o la requerida para apreciar la ubicación de cada uno de los árboles ubicados y enumerados en el área de intervención. El sistema de coordenadas adoptado es WGS-84, correspondiente a coordenadas geográficas en formato grados decimales con mínimo seis dígitos (Ej. Latitud: 4.577852 y Longitud: -74.167712). 7. Memoria técnica que detalle la metodología de cómo se desarrolló el inventario forestal, cronograma de ejecución y la propuesta de compensación con los criterios de un plan de aprovechamiento forestal en formato editable. 8.Medidas para garantizar la conservación y manejo de las especies de fauna silvestre en el área de intervención, de conformidad con los lineamientos técnicos en la normativa vigente. 9.Memoria técnica de las medidas propuestas para el rescate, traslado y reubicación de flora silvestre en veda de tipo vascular, En formato editable. (para los individuos objeto de intervención por actividades silviculturales solicitadas, o por intervención en las de áreas con presencia de flora silvestre en veda de tipo vascular, de habito terrestre y/o rupicola). 10. Mapa coberturas de la tierra: en formato digital (shp y PDF), mapa temático de Coberturas de la tierra indicando los atributos conforme la metodología Corine Land Cover adaptada para Colombia para el objeto de la solicitud. Interpretación a una escala no inferior a 1:500 o la requerida para evidenciar la localización de las especies en relación a los árboles objeto de intervención o según aplique, si corresponde a especies de habito rupícola y/o terrestre; debe incluirse ecosistemas, zonas de vida, unidades de cobertura terrestres a detalle de acuerdo a las condiciones actuales del sitio (para estos, cuantificar las áreas en mˆ2 y en porcentaje). 11.Fotocopia de la tarjeta profesional del Ingeniero Forestal que hizo el inventario así como el certificado de vigencia expedido por el COPNIA (Consejo Profesional Nacional de Ingeniería). 12.Plan de Podas de Individuos Arbóreos y, Cronograma, Fotografías y demás documentos anexos, definidos por la autoridad ambiental. • Formulario De Recolección De Información Silvicultural Por Individuo Plan De Podas - Ficha 3 | F8: 94000 | G8: =F8*(1+19%) -> 111860 | H8: =G8*D8 -> 4474400 | I8: 82250 | J8: =I8*(1+19%) -> 97877.5 | K8: =J8*D8 -> 3915100 | L8: =+H8+K8 -> 8389500
B9: 2 | C9: Sede Administrativa Nuevo Muzu | D9: 17 | F9: 94000 | G9: =F9*(1+19%) -> 111860 | H9: =G9*D9 -> 1901620 | I9: 82250 | J9: =I9*(1+19%) -> 97877.5 | K9: =J9*D9 -> 1663917.5 | L9: =+H9+K9 -> 3565537.5
B10: 3 | C10: Centro De Salud El Carmen | D10: 5 | F10: 94000 | G10: =F10*(1+19%) -> 111860 | H10: =G10*D10 -> 559300 | I10: 82250 | J10: =I10*(1+19%) -> 97877.5 | K10: =J10*D10 -> 489387.5 | L10: =+H10+K10 -> 1048687.5
B11: 4 | C11: Hospital Vista Hermosa | D11: 14 | F11: 94000 | G11: =F11*(1+19%) -> 111860 | H11: =G11*D11 -> 1566040 | I11: 82250 | J11: =I11*(1+19%) -> 97877.5 | K11: =J11*D11 -> 1370285 | L11: =+H11+K11 -> 2936325 | N11: CONTRATAR EL SERVICIO DE ELABORACIÓN DE INVENTARIO FORESTAL, PLAN DE PODAS PARA LA TOTALIDAD DE INDIVIDUOS ARBÓREOS EXISTENTES EN LA SUBRED INTEGRADA DE SERVICIOS DE SALUD E.S.E, JUNTO CON EL TRÁMITE Y GESTIÓN PARA LA OBTENCIÓN DE LOS PERMISOS NECESARIOS ANTE LA SECRETARÍA DISTRITAL DE AMBIENTE Y CORPORACIÓN AUTONOMA DE CUNDINAMARCA-CAR.
B12: 5 | C12: Hospital La Estrella | D12: 9 | F12: 94000 | G12: =F12*(1+19%) -> 111860 | H12: =G12*D12 -> 1006740 | I12: 82250 | J12: =I12*(1+19%) -> 97877.5 | K12: =J12*D12 -> 880897.5 | L12: =+H12+K12 -> 1887637.5
B13: 6 | C13: Sede Administrativa Sierra Morena | D13: 5 | F13: 94000 | G13: =F13*(1+19%) -> 111860 | H13: =G13*D13 -> 559300 | I13: 82250 | J13: =I13*(1+19%) -> 97877.5 | K13: =J13*D13 -> 489387.5 | L13: =+H13+K13 -> 1048687.5
B14: 7 | C14: Hospital De Meissen | D14: 1 | F14: 94000 | G14: =F14*(1+19%) -> 111860 | H14: =G14*D14 -> 111860 | I14: 82250 | J14: =I14*(1+19%) -> 97877.5 | K14: =J14*D14 -> 97877.5 | L14: =+H14+K14 -> 209737.5
B15: 8 | C15: Centro De Salud Betania | D15: 4 | F15: 94000 | G15: =F15*(1+19%) -> 111860 | H15: =G15*D15 -> 447440 | I15: 82250 | J15: =I15*(1+19%) -> 97877.5 | K15: =J15*D15 -> 391510 | L15: =+H15+K15 -> 838950
B16: 9 | C16: Centro De Salud Marichuela | D16: 8 | F16: 94000 | G16: =F16*(1+19%) -> 111860 | H16: =G16*D16 -> 894880 | I16: 82250 | J16: =I16*(1+19%) -> 97877.5 | K16: =J16*D16 -> 783020 | L16: =+H16+K16 -> 1677900
B17: 10 | C17: Centro De Salud Reforma | D17: 2 | F17: 94000 | G17: =F17*(1+19%) -> 111860 | H17: =G17*D17 -> 223720 | I17: 82250 | J17: =I17*(1+19%) -> 97877.5 | K17: =J17*D17 -> 195755 | L17: =+H17+K17 -> 419475
B18: 11 | C18: Parque Chaquén | D18: 330 | F18: 94000 | G18: =F18*(1+19%) -> 111860 | H18: =G18*D18 -> 36913800 | I18: 82250 | J18: =I18*(1+19%) -> 97877.5 | K18: =J18*D18 -> 32299575 | L18: =+H18+K18 -> 69213375
B19: 12 | C19: San Juan | D19: 14 | F19: 94000 | G19: =F19*(1+19%) -> 111860 | H19: =G19*D19 -> 1566040 | I19: 82250 | J19: =I19*(1+19%) -> 97877.5 | K19: =J19*D19 -> 1370285 | L19: =+H19+K19 -> 2936325
B20: 13 | C20: Nazareth | D20: 81 | F20: 94000 | G20: =F20*(1+19%) -> 111860 | H20: =G20*D20 -> 9060660 | I20: 82250 | J20: =I20*(1+19%) -> 97877.5 | K20: =J20*D20 -> 7928077.5 | L20: =+H20+K20 -> 16988738
A21: COSTO TOTAL ESTIMADO PROYECTO* | L21: =SUM(L8:L20) -> 111160875

Sheet Cotización_Energias_Naturales_S
C1: SUBRED INTEGRADA DE SERVICIOS DE SALUD SUR E.S.E
C2: DETERMINACIÓN DE COSTO ESTIMADO DEL PROYECTO - COTIZACIONES PROVEEDORES
A4: FECHA: | C4: 46101
A5: PROCESO: | C5: CONTRATAR EL SERVICIO DE ELABORACIÓN DE INVENTARIO FORESTAL, PLAN DE PODAS PARA LA TOTALIDAD DE INDIVIDUOS ARBÓREOS EXISTENTES EN LA SUBRED INTEGRADA DE SERVICIOS DE SALUD E.S.E, JUNTO CON EL TRÁMITE Y GESTIÓN PARA LA OBTENCIÓN DE LOS PERMISOS NECESARIOS ANTE LA SECRETARÍA DISTRITAL DE AMBIENTE Y CORPORACIÓN AUTONOMA DE CUNDINAMARCA-CAR.
A7: NOMBRE DESCRIPCIÓN DE SERVICIO REQUERIDO | B7: ID SEDE | C7: Unidad o Sede | D7: Censo aproximado individuos arbóreos | E7: ESPECIFICACIÓN TÉCNICA | F7: Costo unitario individuo inventario forestal | G7: IVA | H7: Costo unitario individuo + IVA inventario forestal | I7: Costo total inventario forestal | J7: Costo unitario individuo plan de podas | K7: IVA | L7: Costo unitario individuo + IVA plan de podas | M7: Costo total plan de podas | N7: Costo total integral
A8: Inventario Forestal Integral Georreferenciado y Plan de Podas | B8: 1 | C8: Hospital Tunal | D8: 40 | E8: Los documentos que debe incluir el inventario forestal: 1.Formulario de solicitud de manejo o aprovechamiento forestal por unidad de servicio en salud o sede. 2.Formulario de recolección de información silvicultural por individuo (Ficha 1), el inventario forestal al 100% de los individuos dentro del área de solicitud en formato Excel editable (independiente de su actividad silvicultural). 3. Ficha técnica de registro (Ficha 2) para cada uno de los individuos dentro del área de solicitud (independiente del tratamiento silvicultural), exceptuando especies de jardinería. Con las fotos: general y detalle del Individuo, a color y firmada por el Ingeniero Forestal. 4. Placa de identificación numérica para cada individuo arbóreo, elaborada en material resistente a la intemperie y fijada en el fuste o tallo del árbol a una altura que impida su retiro, daño o hurto. 5.Fotografías en digital en formato .jpg, marcadas 1-1.jpg para la fotografía general y 1-2.jpg para la fotografía a detalle, con un tamaño máximo de 400Kb o tamaño comprimido que conserve buena resolución y donde sean apreciables las características de los árboles a evaluar, señalando cada individuo con una flecha o línea roja. 6.Cartografía de ubicación exacta (Georreferenciada), en formato digital (shp y PDF), escala 1:500 o la requerida para apreciar la ubicación de cada uno de los árboles ubicados y enumerados en el área de intervención. El sistema de coordenadas adoptado es WGS-84, correspondiente a coordenadas geográficas en formato grados decimales con mínimo seis dígitos (Ej. Latitud: 4.577852 y Longitud: -74.167712). 7. Memoria técnica que detalle la metodología de cómo se desarrolló el inventario forestal, cronograma de ejecución y la propuesta de compensación con los criterios de un plan de aprovechamiento forestal en formato editable. 8.Medidas para garantizar la conservación y manejo de las especies de fauna silvestre en el área de intervención, de conformidad con los lineamientos técnicos en la normativa vigente. 9.Memoria técnica de las medidas propuestas para el rescate, traslado y reubicación de flora silvestre en veda de tipo vascular, En formato editable. (para los individuos objeto de intervención por actividades silviculturales solicitadas, o por intervención en las de áreas con presencia de flora silvestre en veda de tipo vascular, de habito terrestre y/o rupicola). 10. Mapa coberturas de la tierra: en formato digital (shp y PDF), mapa temático de Coberturas de la tierra indicando los atributos conforme la metodología Corine Land Cover adaptada para Colombia para el objeto de la solicitud. Interpretación a una escala no inferior a 1:500 o la requerida para evidenciar la localización de las especies en relación a los árboles objeto de intervención o según aplique, si corresponde a especies de habito rupícola y/o terrestre; debe incluirse ecosistemas, zonas de vida, unidades de cobertura terrestres a detalle de acuerdo a las condiciones actuales del sitio (para estos, cuantificar las áreas en mˆ2 y en porcentaje). 11.Fotocopia de la tarjeta profesional del Ingeniero Forestal que hizo el inventario así como el certificado de vigencia expedido por el COPNIA (Consejo Profesional Nacional de Ingeniería). 12.Plan de Podas de Individuos Arbóreos y, Cronograma, Fotografías y demás documentos anexos, definidos por la autoridad ambiental. • Formulario De Recolección De Información Silvicultural Por Individuo Plan De Podas - Ficha 3 | F8: 21000 | G8: =F8*19% -> 3990 | H8: =+F8+G8 -> 24990 | I8: =H8*D8 -> 999600 | J8: 140000 | K8: =J8*19% -> 26600 | L8: =+J8+K8 -> 166600 | M8: =L8*D8 -> 6664000 | N8: =+I8+M8 -> 7663600
B9: 3 | C9: Sede Administrativa Nuevo Muzu | D9: 17 | F9: 21000 | G9: =F9*19% -> 3990 | H9: =+F9+G9 -> 24990 | I9: =H9*D9 -> 424830 | J9: 140000 | K9: =J9*19% -> 26600 | L9: =+J9+K9 -> 166600 | M9: =L9*D9 -> 2832200 | N9: =+I9+M9 -> 3257030
B10: 4 | C10: Centro De Salud El Carmen | D10: 5 | F10: 21000 | G10: =F10*19% -> 3990 | H10: =+F10+G10 -> 24990 | I10: =H10*D10 -> 124950 | J10: 140000 | K10: =J10*19% -> 26600 | L10: =+J10+K10 -> 166600 | M10: =L10*D10 -> 833000 | N10: =+I10+M10 -> 957950
B11: 5 | C11: Hospital Vista Hermosa | D11: 14 | F11: 21000 | G11: =F11*19% -> 3990 | H11: =+F11+G11 -> 24990 | I11: =H11*D11 -> 349860 | J11: 140000 | K11: =J11*19% -> 26600 | L11: =+J11+K11 -> 166600 | M11: =L11*D11 -> 2332400 | N11: =+I11+M11 -> 2682260
B12: 6 | C12: Hospital La Estrella | D12: 9 | F12: 21000 | G12: =F12*19% -> 3990 | H12: =+F12+G12 -> 24990 | I12: =H12*D12 -> 224910 | J12: 140000 | K12: =J12*19% -> 26600 | L12: =+J12+K12 -> 166600 | M12: =L12*D12 -> 1499400 | N12: =+I12+M12 -> 1724310
B13: 7 | C13: Sede Administrativa Sierra Morena | D13: 5 | F13: 21000 | G13: =F13*19% -> 3990 | H13: =+F13+G13 -> 24990 | I13: =H13*D13 -> 124950 | J13: 140000 | K13: =J13*19% -> 26600 | L13: =+J13+K13 -> 166600 | M13: =L13*D13 -> 833000 | N13: =+I13+M13 -> 957950
B14: 8 | C14: Hospital De Meissen | D14: 1 | F14: 21000 | G14: =F14*19% -> 3990 | H14: =+F14+G14 -> 24990 | I14: =H14*D14 -> 24990 | J14: 140000 | K14: =J14*19% -> 26600 | L14: =+J14+K14 -> 166600 | M14: =L14*D14 -> 166600 | N14: =+I14+M14 -> 191590
B15: 9 | C15: Centro De Salud Betania | D15: 4 | F15: 21000 | G15: =F15*19% -> 3990 | H15: =+F15+G15 -> 24990 | I15: =H15*D15 -> 99960 | J15: 140000 | K15: =J15*19% -> 26600 | L15: =+J15+K15 -> 166600 | M15: =L15*D15 -> 666400 | N15: =+I15+M15 -> 766360
B16: 10 | C16: Centro De Salud Marichuela | D16: 8 | F16: 21000 | G16: =F16*19% -> 3990 | H16: =+F16+G16 -> 24990 | I16: =H16*D16 -> 199920 | J16: 140000 | K16: =J16*19% -> 26600 | L16: =+J16+K16 -> 166600 | M16: =L16*D16 -> 1332800 | N16: =+I16+M16 -> 1532720
B17: 11 | C17: Centro De Salud Reforma | D17: 2 | F17: 21000 | G17: =F17*19% -> 3990 | H17: =+F17+G17 -> 24990 | I17: =H17*D17 -> 49980 | J17: 140000 | K17: =J17*19% -> 26600 | L17: =+J17+K17 -> 166600 | M17: =L17*D17 -> 333200 | N17: =+I17+M17 -> 383180
B18: 12 | C18: Parque Chaquén | D18: 330 | F18: 21000 | G18: =F18*19% -> 3990 | H18: =+F18+G18 -> 24990 | I18: =H18*D18 -> 8246700 | J18: 140000 | K18: =J18*19% -> 26600 | L18: =+J18+K18 -> 166600 | M18: =L18*D18 -> 54978000 | N18: =+I18+M18 -> 63224700
B19: 13 | C19: San Juan | D19: 14 | F19: 21000 | G19: =F19*19% -> 3990 | H19: =+F19+G19 -> 24990 | I19: =H19*D19 -> 349860 | J19: 140000 | K19: =J19*19% -> 26600 | L19: =+J19+K19 -> 166600 | M19: =L19*D19 -> 2332400 | N19: =+I19+M19 -> 2682260
B20: 14 | C20: Nazareth | D20: 81 | F20: 21000 | G20: =F20*19% -> 3990 | H20: =+F20+G20 -> 24990 | I20: =H20*D20 -> 2024190 | J20: 140000 | K20: =J20*19% -> 26600 | L20: =+J20+K20 -> 166600 | M20: =L20*D20 -> 13494600 | N20: =+I20+M20 -> 15518790
A21: COSTO TOTAL ESTIMADO PROYECTO* | N21: =SUM(N8:N20) -> 101542700
C26: Elabora | E26: Melissa Eliana Herrera Mejia
E27: 1014237091
E28: Sistema Integrado de Energías Naturales SAS
E29: 900490302-5

Sheet Consolidado_cotizaciones
C1: SUBRED INTEGRADA DE SERVICIOS DE SALUD SUR E.S.E
C2: DETERMINACIÓN DE COSTO ESTIMADO DEL PROYECTO - COTIZACIONES PROVEEDORES
A4: FECHA: | C4: 46101
A5: PROCESO: | C5: CONTRATAR EL SERVICIO DE ELABORACIÓN DE INVENTARIO FORESTAL, PLAN DE PODAS PARA LA TOTALIDAD DE INDIVIDUOS ARBÓREOS EXISTENTES EN LA SUBRED INTEGRADA DE SERVICIOS DE SALUD E.S.E, JUNTO CON EL TRÁMITE Y GESTIÓN PARA LA OBTENCIÓN DE LOS PERMISOS NECESARIOS ANTE LA SECRETARÍA DISTRITAL DE AMBIENTE Y CORPORACIÓN AUTONOMA DE CUNDINAMARCA-CAR.
A7: NOMBRE DESCRIPCIÓN DE SERVICIO REQUERIDO | B7: ID SEDE | C7: Unidad o Sede | D7: Censo aproximado individuos arbóreos | E7: ESPECIFICACIÓN TÉCNICA | F7: COTIZACIÓN 1 IG INGENIERÍA FORESTAL SAS - NIT: 901.372.644-7 | O7: COTIZACIÓN 2 Sistema Integrado de Energías Naturales SAS - NIT 900490302-5 | X7: PROMEDIO COTIZACIONES ( VALORES TECHO)
F8: Costo unitario individuo inventario forestal | G8: IVA | H8: Costo unitario individuo + IVA inventario forestal | I8: Costo total inventario forestal | J8: Costo unitario individuo plan de podas | K8: IVA | L8: Costo unitario individuo + IVA plan de podas | M8: Costo total plan de podas | N8: Costo total integral | O8: Costo unitario individuo inventario forestal | P8: IVA | Q8: Costo unitario individuo + IVA inventario forestal | R8: Costo total inventario forestal | S8: Costo unitario individuo plan de podas | T8: IVA | U8: Costo unitario individuo + IVA plan de podas | V8: Costo total plan de podas | W8: Costo total integral | X8: Costo unitario promedio individuo inventario forestal | Y8: IVA | Z8: Costo unitario promedio individuo + IVA inventario forestal | AA8: Costo total promedio inventario forestal | AB8: Costo unitario promedio individuo plan de podas | AC8: IVA | AD8: Costo unitario promedio individuo + IVA plan de podas | AE8: Costo total Promedio plan de podas | AF8: Costo total integral promedio
A9: Inventario Forestal Integral Georreferenciado y Plan de Podas | B9: 1 | C9: Hospital Tunal | D9: 40 | E9: Los documentos que debe incluir el inventario forestal: 1.Formulario de solicitud de manejo o aprovechamiento forestal por unidad de servicio en salud o sede. 2.Formulario de recolección de información silvicultural por individuo (Ficha 1), el inventario forestal al 100% de los individuos dentro del área de solicitud en formato Excel editable (independiente de su actividad silvicultural). 3. Ficha técnica de registro (Ficha 2) para cada uno de los individuos dentro del área de solicitud (independiente del tratamiento silvicultural), exceptuando especies de jardinería. Con las fotos: general y detalle del Individuo, a color y firmada por el Ingeniero Forestal. 4. Placa de identificación numérica para cada individuo arbóreo, elaborada en material resistente a la intemperie y fijada en el fuste o tallo del árbol a una altura que impida su retiro, daño o hurto. 5.Fotografías en digital en formato .jpg, marcadas 1-1.jpg para la fotografía general y 1-2.jpg para la fotografía a detalle, con un tamaño máximo de 400Kb o tamaño comprimido que conserve buena resolución y donde sean apreciables las características de los árboles a evaluar, señalando cada individuo con una flecha o línea roja. 6.Cartografía de ubicación exacta (Georreferenciada), en formato digital (shp y PDF), escala 1:500 o la requerida para apreciar la ubicación de cada uno de los árboles ubicados y enumerados en el área de intervención. El sistema de coordenadas adoptado es WGS-84, correspondiente a coordenadas geográficas en formato grados decimales con mínimo seis dígitos (Ej. Latitud: 4.577852 y Longitud: -74.167712). 7. Memoria técnica que detalle la metodología de cómo se desarrolló el inventario forestal, cronograma de ejecución y la propuesta de compensación con los criterios de un plan de aprovechamiento forestal en formato editable. 8.Medidas para garantizar la conservación y manejo de las especies de fauna silvestre en el área de intervención, de conformidad con los lineamientos técnicos en la normativa vigente. 9.Memoria técnica de las medidas propuestas para el rescate, traslado y reubicación de flora silvestre en veda de tipo vascular, En formato editable. (para los individuos objeto de intervención por actividades silviculturales solicitadas, o por intervención en las de áreas con presencia de flora silvestre en veda de tipo vascular, de habito terrestre y/o rupicola). 10. Mapa coberturas de la tierra: en formato digital (shp y PDF), mapa temático de Coberturas de la tierra indicando los atributos conforme la metodología Corine Land Cover adaptada para Colombia para el objeto de la solicitud. Interpretación a una escala no inferior a 1:500 o la requerida para evidenciar la localización de las especies en relación a los árboles objeto de intervención o según aplique, si corresponde a especies de habito rupícola y/o terrestre; debe incluirse ecosistemas, zonas de vida, unidades de cobertura terrestres a detalle de acuerdo a las condiciones actuales del sitio (para estos, cuantificar las áreas en mˆ2 y en porcentaje). 11.Fotocopia de la tarjeta profesional del Ingeniero Forestal que hizo el inventario así como el certificado de vigencia expedido por el COPNIA (Consejo Profesional Nacional de Ingeniería). 12.Plan de Podas de Individuos Arbóreos y, Cronograma, Fotografías y demás documentos anexos, definidos por la autoridad ambiental. • Formulario De Recolección De Información Silvicultural Por Individuo Plan De Podas - Ficha 3 | F9: =Cotización_IG!F8 -> 94000 | G9: =F9*19% -> 17860 | H9: =+F9+G9 -> 111860 | I9: =H9*D9 -> 4474400 | J9: =Cotización_IG!I8 -> 82250 | K9: =J9*19% -> 15627.5 | L9: =+J9+K9 -> 97877.5 | M9: =L9*D9 -> 3915100 | N9: =+I9+M9 -> 8389500 | O9: =Cotización_Energias_Naturales_S!F8 -> 21000 | P9: =O9*19% -> 3990 | Q9: =+O9+P9 -> 24990 | R9: =Q9*D9 -> 999600 | S9: =Cotización_Energias_Naturales_S!J8 -> 140000 | T9: =S9*19% -> 26600 | U9: =+S9+T9 -> 166600 | V9: =U9*D9 -> 6664000 | W9: =+R9+V9 -> 7663600 | X9: =+AVERAGE(F9,O9) -> 57500 | Y9: =X9*19% -> 10925 | Z9: =+X9+Y9 -> 68425 | AA9: =Z9*D9 -> 2737000 | AB9: =+AVERAGE(J9,S9) -> 111125 | AC9: =AB9*19% -> 21113.75 | AD9: =+AB9+AC9 -> 132238.75 | AE9: =AD9*D9 -> 5289550 | AF9: =+AA9+AE9 -> 8026550
B10: 2 | C10: Sede Administrativa Nuevo Muzu | D10: 17 | F10: =Cotización_IG!F9 -> 94000 | G10: =F10*19% -> 17860 | H10: =+F10+G10 -> 111860 | I10: =H10*D10 -> 1901620 | J10: =Cotización_IG!I9 -> 82250 | K10: =J10*19% -> 15627.5 | L10: =+J10+K10 -> 97877.5 | M10: =L10*D10 -> 1663917.5 | N10: =+I10+M10 -> 3565537.5 | O10: =Cotización_Energias_Naturales_S!F9 -> 21000 | P10: =O10*19% -> 3990 | Q10: =+O10+P10 -> 24990 | R10: =Q10*D10 -> 424830 | S10: =Cotización_Energias_Naturales_S!J9 -> 140000 | T10: =S10*19% -> 26600 | U10: =+S10+T10 -> 166600 | V10: =U10*D10 -> 2832200 | W10: =+R10+V10 -> 3257030 | X10: =+AVERAGE(F10,O10) -> 57500 | Y10: =X10*19% -> 10925 | Z10: =+X10+Y10 -> 68425 | AA10: =Z10*D10 -> 1163225 | AB10: =+AVERAGE(J10,S10) -> 111125 | AC10: =AB10*19% -> 21113.75 | AD10: =+AB10+AC10 -> 132238.75 | AE10: =AD10*D10 -> 2248058.8 | AF10: =+AA10+AE10 -> 3411283.8
B11: 3 | C11: Centro De Salud El Carmen | D11: 5 | F11: =Cotización_IG!F10 -> 94000 | G11: =F11*19% -> 17860 | H11: =+F11+G11 -> 111860 | I11: =H11*D11 -> 559300 | J11: =Cotización_IG!I10 -> 82250 | K11: =J11*19% -> 15627.5 | L11: =+J11+K11 -> 97877.5 | M11: =L11*D11 -> 489387.5 | N11: =+I11+M11 -> 1048687.5 | O11: =Cotización_Energias_Naturales_S!F10 -> 21000 | P11: =O11*19% -> 3990 | Q11: =+O11+P11 -> 24990 | R11: =Q11*D11 -> 124950 | S11: =Cotización_Energias_Naturales_S!J10 -> 140000 | T11: =S11*19% -> 26600 | U11: =+S11+T11 -> 166600 | V11: =U11*D11 -> 833000 | W11: =+R11+V11 -> 957950 | X11: =+AVERAGE(F11,O11) -> 57500 | Y11: =X11*19% -> 10925 | Z11: =+X11+Y11 -> 68425 | AA11: =Z11*D11 -> 342125 | AB11: =+AVERAGE(J11,S11) -> 111125 | AC11: =AB11*19% -> 21113.75 | AD11: =+AB11+AC11 -> 132238.75 | AE11: =AD11*D11 -> 661193.75 | AF11: =+AA11+AE11 -> 1003318.8
B12: 4 | C12: Hospital Vista Hermosa | D12: 14 | F12: =Cotización_IG!F11 -> 94000 | G12: =F12*19% -> 17860 | H12: =+F12+G12 -> 111860 | I12: =H12*D12 -> 1566040 | J12: =Cotización_IG!I11 -> 82250 | K12: =J12*19% -> 15627.5 | L12: =+J12+K12 -> 97877.5 | M12: =L12*D12 -> 1370285 | N12: =+I12+M12 -> 2936325 | O12: =Cotización_Energias_Naturales_S!F11 -> 21000 | P12: =O12*19% -> 3990 | Q12: =+O12+P12 -> 24990 | R12: =Q12*D12 -> 349860 | S12: =Cotización_Energias_Naturales_S!J11 -> 140000 | T12: =S12*19% -> 26600 | U12: =+S12+T12 -> 166600 | V12: =U12*D12 -> 2332400 | W12: =+R12+V12 -> 2682260 | X12: =+AVERAGE(F12,O12) -> 57500 | Y12: =X12*19% -> 10925 | Z12: =+X12+Y12 -> 68425 | AA12: =Z12*D12 -> 957950 | AB12: =+AVERAGE(J12,S12) -> 111125 | AC12: =AB12*19% -> 21113.75 | AD12: =+AB12+AC12 -> 132238.75 | AE12: =AD12*D12 -> 1851342.5 | AF12: =+AA12+AE12 -> 2809292.5
B13: 5 | C13: Hospital La Estrella | D13: 9 | F13: =Cotización_IG!F12 -> 94000 | G13: =F13*19% -> 17860 | H13: =+F13+G13 -> 111860 | I13: =H13*D13 -> 1006740 | J13: =Cotización_IG!I12 -> 82250 | K13: =J13*19% -> 15627.5 | L13: =+J13+K13 -> 97877.5 | M13: =L13*D13 -> 880897.5 | N13: =+I13+M13 -> 1887637.5 | O13: =Cotización_Energias_Naturales_S!F12 -> 21000 | P13: =O13*19% -> 3990 | Q13: =+O13+P13 -> 24990 | R13: =Q13*D13 -> 224910 | S13: =Cotización_Energias_Naturales_S!J12 -> 140000 | T13: =S13*19% -> 26600 | U13: =+S13+T13 -> 166600 | V13: =U13*D13 -> 1499400 | W13: =+R13+V13 -> 1724310 | X13: =+AVERAGE(F13,O13) -> 57500 | Y13: =X13*19% -> 10925 | Z13: =+X13+Y13 -> 68425 | AA13: =Z13*D13 -> 615825 | AB13: =+AVERAGE(J13,S13) -> 111125 | AC13: =AB13*19% -> 21113.75 | AD13: =+AB13+AC13 -> 132238.75 | AE13: =AD13*D13 -> 1190148.8 | AF13: =+AA13+AE13 -> 1805973.8
B14: 6 | C14: Sede Administrativa Sierra Morena | D14: 5 | F14: =Cotización_IG!F13 -> 94000 | G14: =F14*19% -> 17860 | H14: =+F14+G14 -> 111860 | I14: =H14*D14 -> 559300 | J14: =Cotización_IG!I13 -> 82250 | K14: =J14*19% -> 15627.5 | L14: =+J14+K14 -> 97877.5 | M14: =L14*D14 -> 489387.5 | N14: =+I14+M14 -> 1048687.5 | O14: =Cotización_Energias_Naturales_S!F13 -> 21000 | P14: =O14*19% -> 3990 | Q14: =+O14+P14 -> 24990 | R14: =Q14*D14 -> 124950 | S14: =Cotización_Energias_Naturales_S!J13 -> 140000 | T14: =S14*19% -> 26600 | U14: =+S14+T14 -> 166600 | V14: =U14*D14 -> 833000 | W14: =+R14+V14 -> 957950 | X14: =+AVERAGE(F14,O14) -> 57500 | Y14: =X14*19% -> 10925 | Z14: =+X14+Y14 -> 68425 | AA14: =Z14*D14 -> 342125 | AB14: =+AVERAGE(J14,S14) -> 111125 | AC14: =AB14*19% -> 21113.75 | AD14: =+AB14+AC14 -> 132238.75 | AE14: =AD14*D14 -> 661193.75 | AF14: =+AA14+AE14 -> 1003318.8
B15: 7 | C15: Hospital De Meissen | D15: 1 | F15: =Cotización_IG!F14 -> 94000 | G15: =F15*19% -> 17860 | H15: =+F15+G15 -> 111860 | I15: =H15*D15 -> 111860 | J15: =Cotización_IG!I14 -> 82250 | K15: =J15*19% -> 15627.5 | L15: =+J15+K15 -> 97877.5 | M15: =L15*D15 -> 97877.5 | N15: =+I15+M15 -> 209737.5 | O15: =Cotización_Energias_Naturales_S!F14 -> 21000 | P15: =O15*19% -> 3990 | Q15: =+O15+P15 -> 24990 | R15: =Q15*D15 -> 24990 | S15: =Cotización_Energias_Naturales_S!J14 -> 140000 | T15: =S15*19% -> 26600 | U15: =+S15+T15 -> 166600 | V15: =U15*D15 -> 166600 | W15: =+R15+V15 -> 191590 | X15: =+AVERAGE(F15,O15) -> 57500 | Y15: =X15*19% -> 10925 | Z15: =+X15+Y15 -> 68425 | AA15: =Z15*D15 -> 68425 | AB15: =+AVERAGE(J15,S15) -> 111125 | AC15: =AB15*19% -> 21113.75 | AD15: =+AB15+AC15 -> 132238.75 | AE15: =AD15*D15 -> 132238.75 | AF15: =+AA15+AE15 -> 200663.75
B16: 8 | C16: Centro De Salud Betania | D16: 4 | F16: =Cotización_IG!F15 -> 94000 | G16: =F16*19% -> 17860 | H16: =+F16+G16 -> 111860 | I16: =H16*D16 -> 447440 | J16: =Cotización_IG!I15 -> 82250 | K16: =J16*19% -> 15627.5 | L16: =+J16+K16 -> 97877.5 | M16: =L16*D16 -> 391510 | N16: =+I16+M16 -> 838950 | O16: =Cotización_Energias_Naturales_S!F15 -> 21000 | P16: =O16*19% -> 3990 | Q16: =+O16+P16 -> 24990 | R16: =Q16*D16 -> 99960 | S16: =Cotización_Energias_Naturales_S!J15 -> 140000 | T16: =S16*19% -> 26600 | U16: =+S16+T16 -> 166600 | V16: =U16*D16 -> 666400 | W16: =+R16+V16 -> 766360 | X16: =+AVERAGE(F16,O16) -> 57500 | Y16: =X16*19% -> 10925 | Z16: =+X16+Y16 -> 68425 | AA16: =Z16*D16 -> 273700 | AB16: =+AVERAGE(J16,S16) -> 111125 | AC16: =AB16*19% -> 21113.75 | AD16: =+AB16+AC16 -> 132238.75 | AE16: =AD16*D16 -> 528955 | AF16: =+AA16+AE16 -> 802655
B17: 9 | C17: Centro De Salud Marichuela | D17: 8 | F17: =Cotización_IG!F16 -> 94000 | G17: =F17*19% -> 17860 | H17: =+F17+G17 -> 111860 | I17: =H17*D17 -> 894880 | J17: =Cotización_IG!I16 -> 82250 | K17: =J17*19% -> 15627.5 | L17: =+J17+K17 -> 97877.5 | M17: =L17*D17 -> 783020 | N17: =+I17+M17 -> 1677900 | O17: =Cotización_Energias_Naturales_S!F16 -> 21000 | P17: =O17*19% -> 3990 | Q17: =+O17+P17 -> 24990 | R17: =Q17*D17 -> 199920 | S17: =Cotización_Energias_Naturales_S!J16 -> 140000 | T17: =S17*19% -> 26600 | U17: =+S17+T17 -> 166600 | V17: =U17*D17 -> 1332800 | W17: =+R17+V17 -> 1532720 | X17: =+AVERAGE(F17,O17) -> 57500 | Y17: =X17*19% -> 10925 | Z17: =+X17+Y17 -> 68425 | AA17: =Z17*D17 -> 547400 | AB17: =+AVERAGE(J17,S17) -> 111125 | AC17: =AB17*19% -> 21113.75 | AD17: =+AB17+AC17 -> 132238.75 | AE17: =AD17*D17 -> 1057910 | AF17: =+AA17+AE17 -> 1605310
B18: 10 | C18: Centro De Salud Reforma | D18: 2 | F18: =Cotización_IG!F17 -> 94000 | G18: =F18*19% -> 17860 | H18: =+F18+G18 -> 111860 | I18: =H18*D18 -> 223720 | J18: =Cotización_IG!I17 -> 82250 | K18: =J18*19% -> 15627.5 | L18: =+J18+K18 -> 97877.5 | M18: =L18*D18 -> 195755 | N18: =+I18+M18 -> 419475 | O18: =Cotización_Energias_Naturales_S!F17 -> 21000 | P18: =O18*19% -> 3990 | Q18: =+O18+P18 -> 24990 | R18: =Q18*D18 -> 49980 | S18: =Cotización_Energias_Naturales_S!J17 -> 140000 | T18: =S18*19% -> 26600 | U18: =+S18+T18 -> 166600 | V18: =U18*D18 -> 333200 | W18: =+R18+V18 -> 383180 | X18: =+AVERAGE(F18,O18) -> 57500 | Y18: =X18*19% -> 10925 | Z18: =+X18+Y18 -> 68425 | AA18: =Z18*D18 -> 136850 | AB18: =+AVERAGE(J18,S18) -> 111125 | AC18: =AB18*19% -> 21113.75 | AD18: =+AB18+AC18 -> 132238.75 | AE18: =AD18*D18 -> 264477.5 | AF18: =+AA18+AE18 -> 401327.5
B19: 11 | C19: Parque Chaquén | D19: 330 | F19: =Cotización_IG!F18 -> 94000 | G19: =F19*19% -> 17860 | H19: =+F19+G19 -> 111860 | I19: =H19*D19 -> 36913800 | J19: =Cotización_IG!I18 -> 82250 | K19: =J19*19% -> 15627.5 | L19: =+J19+K19 -> 97877.5 | M19: =L19*D19 -> 32299575 | N19: =+I19+M19 -> 69213375 | O19: =Cotización_Energias_Naturales_S!F18 -> 21000 | P19: =O19*19% -> 3990 | Q19: =+O19+P19 -> 24990 | R19: =Q19*D19 -> 8246700 | S19: =Cotización_Energias_Naturales_S!J18 -> 140000 | T19: =S19*19% -> 26600 | U19: =+S19+T19 -> 166600 | V19: =U19*D19 -> 54978000 | W19: =+R19+V19 -> 63224700 | X19: =+AVERAGE(F19,O19) -> 57500 | Y19: =X19*19% -> 10925 | Z19: =+X19+Y19 -> 68425 | AA19: =Z19*D19 -> 22580250 | AB19: =+AVERAGE(J19,S19) -> 111125 | AC19: =AB19*19% -> 21113.75 | AD19: =+AB19+AC19 -> 132238.75 | AE19: =AD19*D19 -> 43638788 | AF19: =+AA19+AE19 -> 66219038
B20: 12 | C20: San Juan | D20: 14 | F20: =Cotización_IG!F19 -> 94000 | G20: =F20*19% -> 17860 | H20: =+F20+G20 -> 111860 | I20: =H20*D20 -> 1566040 | J20: =Cotización_IG!I19 -> 82250 | K20: =J20*19% -> 15627.5 | L20: =+J20+K20 -> 97877.5 | M20: =L20*D20 -> 1370285 | N20: =+I20+M20 -> 2936325 | O20: =Cotización_Energias_Naturales_S!F19 -> 21000 | P20: =O20*19% -> 3990 | Q20: =+O20+P20 -> 24990 | R20: =Q20*D20 -> 349860 | S20: =Cotización_Energias_Naturales_S!J19 -> 140000 | T20: =S20*19% -> 26600 | U20: =+S20+T20 -> 166600 | V20: =U20*D20 -> 2332400 | W20: =+R20+V20 -> 2682260 | X20: =+AVERAGE(F20,O20) -> 57500 | Y20: =X20*19% -> 10925 | Z20: =+X20+Y20 -> 68425 | AA20: =Z20*D20 -> 957950 | AB20: =+AVERAGE(J20,S20) -> 111125 | AC20: =AB20*19% -> 21113.75 | AD20: =+AB20+AC20 -> 132238.75 | AE20: =AD20*D20 -> 1851342.5 | AF20: =+AA20+AE20 -> 2809292.5
B21: 13 | C21: Nazareth | D21: 81 | F21: =Cotización_IG!F20 -> 94000 | G21: =F21*19% -> 17860 | H21: =+F21+G21 -> 111860 | I21: =H21*D21 -> 9060660 | J21: =Cotización_IG!I20 -> 82250 | K21: =J21*19% -> 15627.5 | L21: =+J21+K21 -> 97877.5 | M21: =L21*D21 -> 7928077.5 | N21: =+I21+M21 -> 16988738 | O21: =Cotización_Energias_Naturales_S!F20 -> 21000 | P21: =O21*19% -> 3990 | Q21: =+O21+P21 -> 24990 | R21: =Q21*D21 -> 2024190 | S21: =Cotización_Energias_Naturales_S!J20 -> 140000 | T21: =S21*19% -> 26600 | U21: =+S21+T21 -> 166600 | V21: =U21*D21 -> 13494600 | W21: =+R21+V21 -> 15518790 | X21: =+AVERAGE(F21,O21) -> 57500 | Y21: =X21*19% -> 10925 | Z21: =+X21+Y21 -> 68425 | AA21: =Z21*D21 -> 5542425 | AB21: =+AVERAGE(J21,S21) -> 111125 | AC21: =AB21*19% -> 21113.75 | AD21: =+AB21+AC21 -> 132238.75 | AE21: =AD21*D21 -> 10711339 | AF21: =+AA21+AE21 -> 16253764
A22: COSTO TOTAL ESTIMADO POR OFERENTE | F22: TOTAL COTIZACIÓN 1 | N22: =SUM(N9:N21) -> 111160875 | O22: TOTAL COTIZACIÓN 2 | W22: =SUM(W9:W21) -> 101542700 | X22: TOTAL PROMEDIO, VALOR ESTIMADO PROYECTO | AF22: =SUM(AF9:AF21) -> 1.0635179e+08
Y25: ítem | Z25: Costo unitario Cotización | AA25: Costo unitario + IVA Cotización | AB25: Individuos Árboreos estimados | AC25: Total costo proyectado
Y26: Inventario forestal | Z26: 57500 | AA26: =Z26*(1+19%) -> 68425 | AB26: =573-43 -> 530 | AC26: =AA26*AB26 -> 36265250
Y27: Plan de podas | Z27: 111125 | AA27: =Z27*(1+19%) -> 132238.75 | AB27: =573-43 -> 530 | AC27: =AA27*AB27 -> 70086538
D28: Elaboró | Y28: TOTAL | AC28: =SUM(AC26:AC27) -> 1.0635179e+08
E29: FABIÁN VEGA BELLO
E30: PROFESIONAL ADMINISTRATIVO
E31: Subred Integrada de Servicios de Salud Sur E.S.E

Sheet Formato_Anexo_Económico_2026
C1: SUBRED INTEGRADA DE SERVICIOS DE SALUD SUR E.S.E
C2: ANEXO TÉCNICO ECONÓMICO
A4: FECHA:
A5: PROCESO: | C5: CONTRATAR EL SERVICIO DE ELABORACIÓN DE INVENTARIO FORESTAL, PLAN DE PODAS PARA LA TOTALIDAD DE INDIVIDUOS ARBÓREOS EXISTENTES EN LA SUBRED INTEGRADA DE SERVICIOS DE SALUD E.S.E.
A6: PROPONENTE
A8: NOMBRE DESCRIPCIÓN DE SERVICIO REQUERIDO | B8: ID SEDE | C8: Unidad o Sede | D8: Censo aproximado individuos arbóreos | E8: ESPECIFICACIÓN TÉCNICA | F8: VALORES MÁXIMOS A OFERTAR | O8: VALORES PROPONENTE
F9: Costo unitario individuo inventario forestal | G9: IVA | H9: Costo unitario individuo + IVA inventario forestal | I9: Costo total inventario forestal | J9: Costo unitario individuo plan de podas | K9: IVA | L9: Costo unitario individuo + IVA plan de podas | M9: Costo total plan de podas | N9: Costo total integral | O9: Costo unitario individuo inventario forestal | P9: IVA | Q9: Costo unitario individuo + IVA inventario forestal | R9: Costo total inventario forestal | S9: Costo unitario individuo plan de podas | T9: IVA | U9: Costo unitario individuo + IVA plan de podas | V9: Costo total plan de podas | W9: Costo total integral
A10: Inventario Forestal Integral Georreferenciado y Plan de Podas | B10: 1 | C10: Hospital Tunal | D10: 40 | E10: Los documentos que debe incluir el inventario forestal: 1.Formulario de solicitud de manejo o aprovechamiento forestal por unidad de servicio en salud o sede. 2.Formulario de recolección de información silvicultural por individuo (Ficha 1), el inventario forestal al 100% de los individuos dentro del área de solicitud en formato Excel editable (independiente de su actividad silvicultural). 3. Ficha técnica de registro (Ficha 2) para cada uno de los individuos dentro del área de solicitud (independiente del tratamiento silvicultural), exceptuando especies de jardinería. Con las fotos: general y detalle del Individuo, a color y firmada por el Ingeniero Forestal. 4. Placa de identificación numérica para cada individuo arbóreo, elaborada en material resistente a la intemperie y fijada en el fuste o tallo del árbol a una altura que impida su retiro, daño o hurto. 5.Fotografías en digital en formato .jpg, marcadas 1-1.jpg para la fotografía general y 1-2.jpg para la fotografía a detalle, con un tamaño máximo de 400Kb o tamaño comprimido que conserve buena resolución y donde sean apreciables las características de los árboles a evaluar, señalando cada individuo con una flecha o línea roja. 6.Cartografía de ubicación exacta (Georreferenciada), en formato digital (shp y PDF), escala 1:500 o la requerida para apreciar la ubicación de cada uno de los árboles ubicados y enumerados en el área de intervención. El sistema de coordenadas adoptado es WGS-84, correspondiente a coordenadas geográficas en formato grados decimales con mínimo seis dígitos (Ej. Latitud: 4.577852 y Longitud: -74.167712). 7. Memoria técnica que detalle la metodología de cómo se desarrolló el inventario forestal, cronograma de ejecución y la propuesta de compensación con los criterios de un plan de aprovechamiento forestal en formato editable. 8.Medidas para garantizar la conservación y manejo de las especies de fauna silvestre en el área de intervención, de conformidad con los lineamientos técnicos en la normativa vigente. 9.Memoria técnica de las medidas propuestas para el rescate, traslado y reubicación de flora silvestre en veda de tipo vascular, En formato editable. (para los individuos objeto de intervención por actividades silviculturales solicitadas, o por intervención en las de áreas con presencia de flora silvestre en veda de tipo vascular, de habito terrestre y/o rupicola). 10. Mapa coberturas de la tierra: en formato digital (shp y PDF), mapa temático de Coberturas de la tierra indicando los atributos conforme la metodología Corine Land Cover adaptada para Colombia para el objeto de la solicitud. Interpretación a una escala no inferior a 1:500 o la requerida para evidenciar la localización de las especies en relación a los árboles objeto de intervención o según aplique, si corresponde a especies de habito rupícola y/o terrestre; debe incluirse ecosistemas, zonas de vida, unidades de cobertura terrestres a detalle de acuerdo a las condiciones actuales del sitio (para estos, cuantificar las áreas en mˆ2 y en porcentaje). 11.Fotocopia de la tarjeta profesional del Ingeniero Forestal que hizo el inventario así como el certificado de vigencia expedido por el COPNIA (Consejo Profesional Nacional de Ingeniería). 12.Plan de Podas de Individuos Arbóreos y, Cronograma, Fotografías y demás documentos anexos, definidos por la autoridad ambiental. • Formulario De Recolección De Información Silvicultural Por Individuo Plan De Podas - Ficha 3 | F10: =Consolidado_cotizaciones!X9 -> 57500 | G10: =F10*19% -> 10925 | H10: =+F10+G10 -> 68425 | I10: =H10*D10 -> 2737000 | J10: =Consolidado_cotizaciones!AB9 -> 111125 | K10: =J10*19% -> 21113.75 | L10: =+J10+K10 -> 132238.75 | M10: =L10*D10 -> 5289550 | N10: =+I10+M10 -> 8026550 | P10: =O10*19% -> 0 | Q10: =+O10+P10 -> 0 | R10: =+Q10*D10 -> 0 | T10: =+S10*19% -> 0 | U10: =+S10+T10 -> 0 | V10: =+U10*D10 -> 0 | W10: =+R10+V10 -> 0
B11: 2 | C11: Sede Administrativa Nuevo Muzu | D11: 17 | F11: =Consolidado_cotizaciones!X10 -> 57500 | G11: =F11*19% -> 10925 | H11: =+F11+G11 -> 68425 | I11: =H11*D11 -> 1163225 | J11: =Consolidado_cotizaciones!AB10 -> 111125 | K11: =J11*19% -> 21113.75 | L11: =+J11+K11 -> 132238.75 | M11: =L11*D11 -> 2248058.8 | N11: =+I11+M11 -> 3411283.8 | P11: =O11*19% -> 0 | Q11: =+O11+P11 -> 0 | R11: =+Q11*D11 -> 0 | T11: =+S11*19% -> 0 | U11: =+S11+T11 -> 0 | V11: =+U11*D11 -> 0 | W11: =+R11+V11 -> 0
B12: 3 | C12: Centro De Salud El Carmen | D12: 5 | F12: =Consolidado_cotizaciones!X11 -> 57500 | G12: =F12*19% -> 10925 | H12: =+F12+G12 -> 68425 | I12: =H12*D12 -> 342125 | J12: =Consolidado_cotizaciones!AB11 -> 111125 | K12: =J12*19% -> 21113.75 | L12: =+J12+K12 -> 132238.75 | M12: =L12*D12 -> 661193.75 | N12: =+I12+M12 -> 1003318.8 | P12: =O12*19% -> 0 | Q12: =+O12+P12 -> 0 | R12: =+Q12*D12 -> 0 | T12: =+S12*19% -> 0 | U12: =+S12+T12 -> 0 | V12: =+U12*D12 -> 0 | W12: =+R12+V12 -> 0
B13: 4 | C13: Hospital Vista Hermosa | D13: 14 | F13: =Consolidado_cotizaciones!X12 -> 57500 | G13: =F13*19% -> 10925 | H13: =+F13+G13 -> 68425 | I13: =H13*D13 -> 957950 | J13: =Consolidado_cotizaciones!AB12 -> 111125 | K13: =J13*19% -> 21113.75 | L13: =+J13+K13 -> 132238.75 | M13: =L13*D13 -> 1851342.5 | N13: =+I13+M13 -> 2809292.5 | P13: =O13*19% -> 0 | Q13: =+O13+P13 -> 0 | R13: =+Q13*D13 -> 0 | T13: =+S13*19% -> 0 | U13: =+S13+T13 -> 0 | V13: =+U13*D13 -> 0 | W13: =+R13+V13 -> 0
B14: 5 | C14: Hospital La Estrella | D14: 9 | F14: =Consolidado_cotizaciones!X13 -> 57500 | G14: =F14*19% -> 10925 | H14: =+F14+G14 -> 68425 | I14: =H14*D14 -> 615825 | J14: =Consolidado_cotizaciones!AB13 -> 111125 | K14: =J14*19% -> 21113.75 | L14: =+J14+K14 -> 132238.75 | M14: =L14*D14 -> 1190148.8 | N14: =+I14+M14 -> 1805973.8 | P14: =O14*19% -> 0 | Q14: =+O14+P14 -> 0 | R14: =+Q14*D14 -> 0 | T14: =+S14*19% -> 0 | U14: =+S14+T14 -> 0 | V14: =+U14*D14 -> 0 | W14: =+R14+V14 -> 0
B15: 6 | C15: Sede Administrativa Sierra Morena | D15: 5 | F15: =Consolidado_cotizaciones!X14 -> 57500 | G15: =F15*19% -> 10925 | H15: =+F15+G15 -> 68425 | I15: =H15*D15 -> 342125 | J15: =Consolidado_cotizaciones!AB14 -> 111125 | K15: =J15*19% -> 21113.75 | L15: =+J15+K15 -> 132238.75 | M15: =L15*D15 -> 661193.75 | N15: =+I15+M15 -> 1003318.8 | P15: =O15*19% -> 0 | Q15: =+O15+P15 -> 0 | R15: =+Q15*D15 -> 0 | T15: =+S15*19% -> 0 | U15: =+S15+T15 -> 0 | V15: =+U15*D15 -> 0 | W15: =+R15+V15 -> 0
B16: 7 | C16: Hospital De Meissen | D16: 1 | F16: =Consolidado_cotizaciones!X15 -> 57500 | G16: =F16*19% -> 10925 | H16: =+F16+G16 -> 68425 | I16: =H16*D16 -> 68425 | J16: =Consolidado_cotizaciones!AB15 -> 111125 | K16: =J16*19% -> 21113.75 | L16: =+J16+K16 -> 132238.75 | M16: =L16*D16 -> 132238.75 | N16: =+I16+M16 -> 200663.75 | P16: =O16*19% -> 0 | Q16: =+O16+P16 -> 0 | R16: =+Q16*D16 -> 0 | T16: =+S16*19% -> 0 | U16: =+S16+T16 -> 0 | V16: =+U16*D16 -> 0 | W16: =+R16+V16 -> 0
B17: 8 | C17: Centro De Salud Betania | D17: 4 | F17: =Consolidado_cotizaciones!X16 -> 57500 | G17: =F17*19% -> 10925 | H17: =+F17+G17 -> 68425 | I17: =H17*D17 -> 273700 | J17: =Consolidado_cotizaciones!AB16 -> 111125 | K17: =J17*19% -> 21113.75 | L17: =+J17+K17 -> 132238.75 | M17: =L17*D17 -> 528955 | N17: =+I17+M17 -> 802655 | P17: =O17*19% -> 0 | Q17: =+O17+P17 -> 0 | R17: =+Q17*D17 -> 0 | T17: =+S17*19% -> 0 | U17: =+S17+T17 -> 0 | V17: =+U17*D17 -> 0 | W17: =+R17+V17 -> 0
B18: 9 | C18: Centro De Salud Marichuela | D18: 8 | F18: =Consolidado_cotizaciones!X17 -> 57500 | G18: =F18*19% -> 10925 | H18: =+F18+G18 -> 68425 | I18: =H18*D18 -> 547400 | J18: =Consolidado_cotizaciones!AB17 -> 111125 | K18: =J18*19% -> 21113.75 | L18: =+J18+K18 -> 132238.75 | M18: =L18*D18 -> 1057910 | N18: =+I18+M18 -> 1605310 | P18: =O18*19% -> 0 | Q18: =+O18+P18 -> 0 | R18: =+Q18*D18 -> 0 | T18: =+S18*19% -> 0 | U18: =+S18+T18 -> 0 | V18: =+U18*D18 -> 0 | W18: =+R18+V18 -> 0
B19: 10 | C19: Centro De Salud Reforma | D19: 2 | F19: =Consolidado_cotizaciones!X18 -> 57500 | G19: =F19*19% -> 10925 | H19: =+F19+G19 -> 68425 | I19: =H19*D19 -> 136850 | J19: =Consolidado_cotizaciones!AB18 -> 111125 | K19: =J19*19% -> 21113.75 | L19: =+J19+K19 -> 132238.75 | M19: =L19*D19 -> 264477.5 | N19: =+I19+M19 -> 401327.5 | P19: =O19*19% -> 0 | Q19: =+O19+P19 -> 0 | R19: =+Q19*D19 -> 0 | T19: =+S19*19% -> 0 | U19: =+S19+T19 -> 0 | V19: =+U19*D19 -> 0 | W19: =+R19+V19 -> 0
B20: 11 | C20: Parque Chaquén | D20: 330 | F20: =Consolidado_cotizaciones!X19 -> 57500 | G20: =F20*19% -> 10925 | H20: =+F20+G20 -> 68425 | I20: =H20*D20 -> 22580250 | J20: =Consolidado_cotizaciones!AB19 -> 111125 | K20: =J20*19% -> 21113.75 | L20: =+J20+K20 -> 132238.75 | M20: =L20*D20 -> 43638788 | N20: =+I20+M20 -> 66219038 | P20: =O20*19% -> 0 | Q20: =+O20+P20 -> 0 | R20: =+Q20*D20 -> 0 | T20: =+S20*19% -> 0 | U20: =+S20+T20 -> 0 | V20: =+U20*D20 -> 0 | W20: =+R20+V20 -> 0
B21: 12 | C21: San Juan | D21: 14 | F21: =Consolidado_cotizaciones!X20 -> 57500 | G21: =F21*19% -> 10925 | H21: =+F21+G21 -> 68425 | I21: =H21*D21 -> 957950 | J21: =Consolidado_cotizaciones!AB20 -> 111125 | K21: =J21*19% -> 21113.75 | L21: =+J21+K21 -> 132238.75 | M21: =L21*D21 -> 1851342.5 | N21: =+I21+M21 -> 2809292.5 | P21: =O21*19% -> 0 | Q21: =+O21+P21 -> 0 | R21: =+Q21*D21 -> 0 | T21: =+S21*19% -> 0 | U21: =+S21+T21 -> 0 | V21: =+U21*D21 -> 0 | W21: =+R21+V21 -> 0
B22: 13 | C22: Nazareth | D22: 81 | F22: =Consolidado_cotizaciones!X21 -> 57500 | G22: =F22*19% -> 10925 | H22: =+F22+G22 -> 68425 | I22: =H22*D22 -> 5542425 | J22: =Consolidado_cotizaciones!AB21 -> 111125 | K22: =J22*19% -> 21113.75 | L22: =+J22+K22 -> 132238.75 | M22: =L22*D22 -> 10711339 | N22: =+I22+M22 -> 16253764 | P22: =O22*19% -> 0 | Q22: =+O22+P22 -> 0 | R22: =+Q22*D22 -> 0 | T22: =+S22*19% -> 0 | U22: =+S22+T22 -> 0 | V22: =+U22*D22 -> 0 | W22: =+R22+V22 -> 0
A23: COSTO TOTAL ESTIMADO PROYECTO* | N23: =SUM(N10:N22) -> 1.0635179e+08 | O23: COSTO TOTAL OFERTADO
A24: NOTA: Es pertinente aclarar que, el proponente interesado en participar en la presenta invitacion a cotizar debera ofertar en el anexo técnico económico sin superar los precios máximos a ofertar so pena de ser rechazada la oferta. NOTA: El presente proceso se manejará por cantidades fijas, es decir, se deberá ofertar el valor unitario, iva, valor unitario + iva y el valor total. NOTA: Es pertinente recordar que los valores a ofertar deben ser en números enteros según indicaciones descritas en la Invitación a Cotizar, so pena de ser rechazada la oferta.
D29: Elaboró
E30: FABIÁN VEGA BELLO
E31: PROFESIONAL ADMINISTRATIVO
E32: Subred Integrada de Servicios de Salud Sur E.S.E
