Workbook
Name contratación: 'IDENTIFICACION Y ANALISIS'!$B$30:$B$31
Name ejecución: 'IDENTIFICACION Y ANALISIS'!$B$35:$B$45
Name OPCIONES: 'ASIGNACION Y TRATAMIENTO'!$B$43:$B$45
Name planeación: 'IDENTIFICACION Y ANALISIS'!$B$19:$B$24
Name selección: 'IDENTIFICACION Y ANALISIS'!$B$26:$B$28

Sheet CONTEXTO
C2: MATRIZ DE RIESGOS EN CONTRATACIÓN | F2: Código: GCO-GCI-F164 Versión: 02 Vigencia: 01 de diciembre de 2022 Caso HOLA: 280117
B6: ESTABLECER EL CONTEXTO
B7: El punto inicial es identificar el contexto en el cual interactúa la Entidad Estatal para conocer el ambiente social, económico y político, e identificar (i) sus propios Riesgos; (ii) los Riesgos comunes a sus Procesos de Contratación; y (iii) los Riesgos del Proceso de Contratación en particular. (Aplica igual para contratos interadministrativos) En este paso la Entidad Estatal debe identificar los aspectos que se mencionan a continuación y los posibles efectos adversos que estos pueden generar.
B8: Objeto del Proceso de Contratación: SUMINISTRAR LOS BIENES, INSUMOS Y SERVICIOS LOGÍSTICOS REQUERIDOS A MONTO AGOTABLE, PARA APOYAR LA EJECUCIÓN DE LAS ACCIONES DE PREVENCIÓN DE VIOLENCIAS EN EL CONTEXTO FAMILIAR Y VIOLENCIA SEXUAL, DESARROLLADAS POR EL EQUIPO TÉCNICO DEL PROYECTO 2774 "MARTIRES AVANZA EN SU ESTRATEGIA DE CUIDADO LOCAl.
B9: Partícipes del Proceso de Contratación: Alcaldía Local de los Martires, responsables del área de planeación para la formulación del proyecto, supervisores y delegados del alcalde para el proceso de ejecución, equipo de acompañamiento jurídico del contrato, funcionarios administrativos relacionados con el proyecto, proponentes partícipes del proceso de selección, contratista adjudicatario, organismos de control y demás veedurías ciudadanas.
B10: Ciudadanía que se beneficia del Proceso de Contratación: poblacion de la localidad de los martires, especialmente mujeres jovenes, personas dedicadas a las vents .
B11: Capacidad de la Entidad Estatal entendida como la disponibilidad de recursos y conocimientos para el Proceso de Contratación: Área de planeación formulación del proyecto (Etapa de Planeación), Dirección de Contratación, Comité Evaluador (Etapa de selección), Dirección de Contratación (Etapa de contratación) y la supervisión y apoyos a la supervisión delegados por el Alcalde, referentes de Bogotaneidad.
B12: Suficiencia del presupuesto oficial del Proceso de Contratación: $49.025.000
B13: Condiciones geográficas y de acceso del lugar en el cual se debe cumplir el objeto del Proceso de Contratación: El proceso se desarrollara la localidad de los martires en sus dos UPZ de acuerdo a los documentos anexo tecnico y estudio previo que hacen parte integral del presente proceso
B14: Entorno socio ambiental: El proceso se desarrolla en el marco del proyecto 2774 "Martires avanza en su estrategia de cuidado local". Orientado a la prevencion de las violencias en el contexto familiar y/o violencia sexual en la localidad de los Martires. Las actividades contemplan acciones formativas, pedagogicas, de sensibilizacion, orientacion y acompañamiento familiar, asi como jornadas locales de promocion del buen trato y garantia de derechos.
B15: Condiciones políticas:La persistencia de barreras para la identificación temprana de casos de violencia físia y sexual en el contexto familiar, el acceso efectivo a las rutas de atención y protección y la garantía de justicia y reparación para las víctimas, presentan desafíos en la articulación institucional y en la capacidad de respuesta oportuna, especialmente frente a niños, niñas, adolescentes y mujeres. La problemática se ve agravada por patrones culturales que legitiman el control, el maltrato y el silencio frente a las violencias ocurridas en el ámbito privado, lo que hace necesario fortalecer las acciones de prevención, detección, atención integral, protección y transformación de las condiciones sociales y culturales que permiten su reproducción.
B16: Factores ambientales: La persistencia de barreras para la identificación temprana de casos de violencia físia y sexual en el contexto familiar, el acceso efectivo a las rutas de atención y protección y la garantía de justicia y reparación para las víctimas, presentan desafíos en la articulación institucional y en la capacidad de respuesta oportuna, especialmente frente a niños, niñas, adolescentes y mujeres. La problemática se ve agravada por patrones culturales que legitiman el control, el maltrato y el silencio frente a las violencias ocurridas en el ámbito privado, lo que hace necesario fortalecer las acciones de prevención, detección, atención integral, protección y transformación de las condiciones sociales y culturales que permiten su reproducción.
B17: Sector del objeto del Proceso de Contratación y su mercado:El proceso corresponde al sector de suministro de bienes, insumos y servicios logísticos requeridos para el desarrollo de actividades institucionales y comunitarias. El Fondo de Desarrollo Local de Los Mártires requiere contratar un suministro por mínima cuantía, cuyo mercado comprende proveedores con capacidad para atender las especificaciones técnicas y necesidades logísticas definidas por la Entidad. El análisis del sector aborda las condiciones económicas, legales, comerciales, financieras, organizacionales, técnicas y de riesgos relacionadas con el objeto contractual.
... B19: Experiencia propia y de otras Entidades Estatales en Procesos de Contratación del mismo tipo:En el Plan de Desarrollo Distrital "BOGOTÁ CAMINA SEGURA" como la ruta para este cuatrienio, se establece un enfoque integral para la prevención de la violencia en el contexto familiar y la violencia sexual, priorizando la protección de los derechos humanos de las mujeres y las poblaciones en situación de vulnerabilidad. Para ello, se fortalecerán estrategias como el Plan Distrital de Prevención de Violencias, que busca coordinar acciones de atención y prevención dirigidas a personas en riesgo o víctimas de violencia en el ámbito familiar y sexual. Igualmente, en línea con estos esfuerzos, el programa "Cero Tolerancia a las Violencias Contra las Mujeres y Basadas en Género" incluye el fortalecimiento de mecanismos de acceso a la justicia y el incremento de espacios interinstitucionales con servicios de atención especializada, la consolidación de políticas públicas con enfoque de género y la capacitación de agentes del Estado en atención a víctimas son fundamentales para avanzar hacia una ciudad libre de violencias y con entornos protectores para todas las mujeres y niñas de Bogotá. Así, Con el presente proceso se espera contribuir al cumplimiento a la meta " Vincular 2000 personas en procesos para la prevención de violencias en el contexto familiar y/o violencia sexual" del proyecto : 2774 “Mártires avanza en su estrategia de cuidado local ",mediante la entrega de los elementos y servicios requeridos por el equipo profesional contratado por la Alcaldía Local de Los Mártires para el desarrollo de las acciones propias del concepto de gasto "prevención y atención de violencia intrafamiliar y sexual para poblaciones en situaciones de riesgo y vulnerabilidad de derechos."

Sheet IDENTIFICACION Y ANALISIS
C2: MATRIZ DE RIESGOS DE CONTRATACIÓN | F2: Código: GCO-GCI-F164 Versión: 02 Vigencia: 01 de diciembre de 2022 Caso HOLA: 280117
B6: DEFINICIONES
B7: RIESGO: Evento que puede generar efectos adversos y de distinta magnitud en el logro de los objetivos del Proceso de Contratación o en la ejecución de un contrato RIESGOS PREVISIBLES: Son los posibles hechos o circunstancias que por la naturaleza del contrato y de la actividad a ejecutar es factible su ocurrencia. ETAPA DE PLANEACIÓN: Está comprendida desde el momento en que se identifican las necesidades que debe satisfacer la Secretaría Distrital de Gobierno y los Fondos de Desarrollo Local, a través del abastecimiento de bienes, obras o servicios, la elaboración del Plan Anual de Adquisiciones y la estructuración de los documentos y estudios previos. ETAPA DE SELECCIÓN: Está comprendida entre el acto de Apertura del Proceso de Contratación y la Adjudicación o la declaración de desierto del Proceso de Contratación ETAPA DE CONTRATACIÓN: Una vez adjudicado el contrato objeto del Proceso de Contratación, inicia la etapa para la celebración del contrato y el cumplimiento de los requisitos para de perfeccionamiento y ejecución. ETAPA DE EJECUCIÓN: Inicia una vez cumplidos los requisitos previstos para iniciar la ejecución del contrato respectivo y termina con el vencimiento del plazo del contrato o la fecha de liquidación si hay lugar a ella. RIESGO GENERAL: Es un riesgo de todos los procesos de contratación adelantados por la Entidad Estatal, por lo cual está presente en toda su actividad contractual. RIEGO ESPECIFICO: Es un riesgo propio del proceso de contratación objeto de análisis. RIESGOS ECONÓMICOS: Son los derivados del comportamiento del mercado, tales como la fluctuación de los precios de los insumos, desabastecimiento y especulación de los mismos, entre otros. RIESGOS SOCIALES O POLÍTICOS: son los derivados de los cambios de las políticas gubernamentales y de cambios en las condiciones sociales que tengan impacto en la ejecución del contrato. RIESGOS OPERACIONALES: Son los asociados a la operatividad del contrato, tales como la suficiencia del presupuesto oficial, del plazo o los derivados de procesos, procedimientos, parámetros, sistemas de información y tecnológicos, equipos humanos o técnicos inadecuados o insuficientes. RIESGOS FINANCIEROS: Son (i) el riesgo de consecución de financiación o riesgo de liquidez para obtener recursos para cumplir con el objeto del contrato, y (ii) el riesgo de las condiciones financieras establecidas para la obtención de los recursos, tales como plazos, tasas, garantías, contragarantías, y refinanciaciones, entre otros. RIESGOS REGULATORIOS: Derivados de cambios regulatorios o reglamentarios que afecten la ecuación económica del contrato. RIESGOS DE LA NATURALEZA: Son los eventos naturales previsibles en los cuales no hay intervención humana que puedan tener impacto en la ejecución del contrato, por ejemplo los temblores, inundaciones, lluvias, sequías, entre otros. RIESGOS AMBIENTALES: Son los derivados de las obligaciones legales o reglamentarias de carácter ambiental, así como de las licencias, planes de manejo o de permisos y autorizaciones ambientales, incluyendo tasas retributivas y compensatorias, obligaciones de mitigación, tareas de monitoreo y control, entre otras. RIESGOS TECNOLÓGICOS: Son los derivados de fallas en los sistemas de comunicación de voz y de datos, suspensión de servicios públicos, nuevos desarrollos tecnológicos o estándares que deben ser tenidos en cuenta para la ejecución del contrato, obsolescencia tecnológica.
B15: INSTRUCCIONES PARA LA IDENTIFICACIÓN, ANALISIS, EVALUACIÓN , ASIGNACIÓN Y TRATAMIENTO DE RIESGOS EN LA CONTRATACIÓN
B16: 1) Identifique los riesgos previsibles que le apliquen al objeto contractual que se adelante. Los relacionados a continuación se establecen de manera general y como proforma. No obstante, si del objeto contractual se identifican otros riesgos diferentes a los aquí determinados, por favor reemplace el texto de la casilla teniendo en cuenta la etapa del proceso. Así mismo, seleccione la clase, fuente y el tipo (Operacional, Económico, Sociales o Políticos, Regulatorios, Financieros, Tecnológicos, De la naturaleza, Ambientales) 2) Continúe en la hoja de "EVALUACIÓN" (SI EXISTEN DUDAS CONCEPTUALES PARA LA ELABORACIÓN DE LA MATRIZ DE RIESGO CONSULTE EL MANUAL PARA LA IDENTIFICACIÓN Y COBERTURA DEL RIESGO EN LOS PROCESOS DE CONTRATACIÓN EXPEDIDO POR COLOMBIA COMPRA EFICIENTE Y LA GUÍA DE RIESGOS PREVISIBLES CONTRACTUALES, EXPEDIDA POR LA VEEDURÍA DISTRITAL)
C17: ETAPAS | D17: CLASE | E17: FUENTE | F17: TIPO
C18: PLANEACIÓN
B20: Inadecuado análisis económico estimativo del valor del contrato | D20: General | E20: Interno | F20: Economicos
B22: Falta de profundidad en el estudio de sector no identificandose claramente aspectos de oferta y demanda | D22: General | E22: Interno | F22: Economicos
B23: Ausencia de fundamentación de la justificación y conveniencia de la contratación | D23: General | E23: Interno | F23: Operacionales
C25: SELECCIÓN
B26: Inadecuada evaluación de las ofertas y/o verificación de requisitos habilitantes | D26: General | E26: Interno | F26: Operacionales
B28: Proyección económica por parte del proponente que conlleve a pérdidas o baja utilidad en la ejecución del contrato. | D28: General | E28: Externo | F28: Operacionales
C29: CONTRATACIÓN
B30: Demora en la iniciación del contrato debido a la no entrega oportuna de las Garantías exigidas para el proceso de contratación o que las mismas no cobijen lo establecido en los Estudios Previos. | D30: General | E30: Interno | F30: Operacionales
C32: EJECUCIÓN
B33: No pago del servicio en los plazos estipulados | D33: General | E33: Interno | F33: Operacionales
B34: No liquidar los contratos en los plazos acordados en el contrato o los establecidos por la Ley. | D34: General | E34: Externo | F34: Operacionales
B35: Fallas en los elementos adquiridos para el desarrollo de las metodologías. | D35: General | E35: Externo | F35: Operacionales
B36: Incumplimiento de las características técnicas ofrecidas a través de la oferta de servicios presentada en la etapa precontractual. | D36: General | E36: Externo | F36: Operacionales
B42: Contingencias, accidentes o demás dificultades presentadas en los eventos y espacios desarrollados a la intemperie y por fuera de las instalaciones de la Alcaldía Local de Los Mártires. | D42: Especifico | E42: Externo | F42: Operacionales
B43: Incumplimiento por parte del contratista en la entrega de los bienes, insumos y servicios logísticos requeridos para el desarrollo de las actividades de los diferentes componentes. | D43: General | E43: Externo | F43: Operacionales
B50: General
B51: Estatal
B52: Especifico
B54: Interno
B55: Externo

Sheet EVALUACION
C2: MATRIZ DE RIESGOS DE CONTRATACIÓN | K2: Código: GCO-GCI-F164 Versión: 02 Vigencia: 01 de diciembre de 2022 Caso HOLA: 280117
B6: Objeto Contractual: SUMINISTRAR LOS BIENES Y SERVICIOS NECESARIOS A MONTO AGOTABLE PARA EL DESARROLLO DE LAS ACTIVIDADES RELACIONADAS CON LOS PROCESOS DE PREVENCIÓN DE VIOLENCIAS EN EL CONTEXTO FAMILIAR Y/O SEXUAL, ASÍ COMO LA MATERIALIZACIÓN DE LOS PRESUPUESTOS PARTICIPATIVOS EN EL MARCO DEL PROYECTO 2774, EN EL CUMPLIMIENTO DEL PLAN DE DESARROLLO LOCAL DEL FONDO DE DESARROLLO LOCAL DE LOS MÁRTIRES.
B7: INSTRUCCIONES PARA LA IDENTIFICACIÓN, ANALISIS, EVALUACIÓN , ASIGNACIÓN Y TRATAMIENTO DE RIESGOS EN LA CONTRATACIÓN
B8: 1) Diligencie el objeto contractual y seleccione la(s) etapas y los riesgos que aplican al objeto contractual, de acuerdo a lo definido en la hoja de "IDENTIFICACIÓN Y ANÁLISIS"
B9: 2) Describa las consecuencias de la ocurrencia del Riesgo/evento.
B10: 3) Asigne la probabilidad de ocurrencia del riesgo, de conformidad con la tabla de probabilidad y la valoración del riesgo (Cualitativa o Monetaria)
B11: 4) Asigne el impacto que generaría la materialización del riesgo, de conformidad con la tabla de impacto y la valoración del riesgo (Cualitativa o Monetaria)
B12: 5) Al realizar las anteriores actividades se obtendrá la calificación total y la valoración del riesgo (prioridad).
B13: 6) Continúe en la hoja de "EVALUACIÓN DE CONTROLES"
B15: CALIFICACIÓN | H15: Cualitativa
B16: ETAPA | C16: Descripción (Que puede pasar y, cómo puede ocurrir) | H16: Consecuencias de la ocurrencia del evento | I16: Probabilidad de Ocurrencia | J16: Impacto | K16: Calificación Total | L16: Prioridad
B18: PLANEACIÓN | C18: Inadecuado análisis económico estimativo del valor del contrato | H18: 1. Sobrecostos o ineficiencia económica del proyecto 2. Pérdidas económica para el contratista o para el FDLM 3. Necesidade de iniciar un nuevo proceso | I18: 3 | J18: 4 | K18: =+I18+J18 -> 7 | L18: =IF(K18<=4,"BAJO",IF(K18=5,"MEDIO",IF(K18=6,"ALTO",IF(K18=7,"ALTO","EXTREMO")))) -> ALTO
B20: PLANEACIÓN | C20: Falta de profundidad en el estudio de sector no identificandose claramente aspectos de oferta y demanda | H20: 1. Sobrecostos o ineficiencia económica del proyecto 2. Selección adversa 3. No se puede satisfacer la necesidad de la entidad | I20: 3 | J20: 4 | K20: =+I20+J20 -> 7 | L20: =IF(K20<=4,"BAJO",IF(K20=5,"MEDIO",IF(K20=6,"ALTO",IF(K20=7,"ALTO","EXTREMO")))) -> ALTO
B21: PLANEACIÓN | C21: Ausencia de fundamentación de la justificación y conveniencia de la contratación | H21: 1. Necesidad de iniciar un nuevo proceso. 2. Selección adversa 3. No se puede satisfacer la necesidad de la entidad | I21: 2 | J21: 4 | K21: =+I21+J21 -> 6 | L21: =IF(K21<=4,"BAJO",IF(K21=5,"MEDIO",IF(K21=6,"ALTO",IF(K21=7,"ALTO","EXTREMO")))) -> ALTO
B23: SELECCIÓN | C23: Inadecuada evaluación de las ofertas y/o verificación de requisitos habilitantes | H23: 1. Selecciónar un contratista que no esté en capacidad de cumplir con el objeto del contrato. 2. Selección adversa | I23: 3 | J23: 4 | K23: =+I23+J23 -> 7 | L23: =IF(K23<=4,"BAJO",IF(K23=5,"MEDIO",IF(K23=6,"ALTO",IF(K23=7,"ALTO","EXTREMO")))) -> ALTO
B26: SELECCIÓN | C26: Proyección económica por parte del proponente que conlleve a pérdidas o baja utilidad en la ejecución del contrato. | H26: 1. Pérdidas económicas para el contratista o propuestas artificialmente bajas. | I26: 2 | J26: 4 | K26: =+I26+J26 -> 6 | L26: =IF(K26<=4,"BAJO",IF(K26=5,"MEDIO",IF(K26=6,"ALTO",IF(K26=7,"ALTO","EXTREMO")))) -> ALTO
B28: CONTRATACIÓN | C28: Presentación de reclamos de terceros sobre la selección del oferente que retrasen el perfeccionamiento del contrato. | H28: 1. Pérdida de Tiempo por no iniciar el contrato de forma oportuna 2. Necesidad de iniciar un nuevo proceso | I28: 2 | J28: 2 | K28: =+I28+J28 -> 4 | L28: =IF(K28<=4,"BAJO",IF(K28=5,"MEDIO",IF(K28=6,"ALTO",IF(K28=7,"ALTO","EXTREMO")))) -> BAJO
B29: EJECUCIÓN | C29: No liquidar los contratos en los plazos acordados en el contrato o los establecidos por la Ley. | H29: 1. Mala ejecución del objeto contratado. 2.No se puede satisfacer la necesidad de la Entidad | I29: 4 | J29: 3 | K29: =+I29+J29 -> 7 | L29: =IF(K29<=4,"BAJO",IF(K29=5,"MEDIO",IF(K29=6,"ALTO",IF(K29=7,"ALTO","EXTREMO")))) -> ALTO
B30: EJECUCIÓN | C30: Fallas en los elementos adquiridos para el desarrollo de las metodologías. | H30: 1. Daños ocasionados al FDLM. | I30: 2 | J30: 4 | K30: =+I30+J30 -> 6 | L30: =IF(K30<=4,"BAJO",IF(K30=5,"MEDIO",IF(K30=6,"ALTO",IF(K30=7,"ALTO","EXTREMO")))) -> ALTO
B31: EJECUCIÓN | C31: Incumplimiento de las características técnicas ofrecidas a través de la oferta de servicios presentada en la etapa precontractual. | H31: 1. Incumplimiento de las metas dentro de la vigencia, y el alcance de las iniciativas participativas. | I31: 3 | J31: 4 | K31: =+I31+J31 -> 7 | L31: =IF(K31<=4,"BAJO",IF(K31=5,"MEDIO",IF(K31=6,"ALTO",IF(K31=7,"ALTO","EXTREMO")))) -> ALTO
B37: EJECUCIÓN | C37: Contingencias, accidentes o demás dificultades presentadas en los eventos y espacios desarrollados a la intemperie y por fuera de las instalaciones de la Alcaldía Local de Los Mártires. | H37: 1. Lesiones, afectaciones, enfermedades o pérdidas humanas. 2. Costos y/o sanciones para el contratista y el FDLM | I37: 2 | J37: 5 | K37: =+I37+J37 -> 7 | L37: =IF(K37<=4,"BAJO",IF(K37=5,"MEDIO",IF(K37=6,"ALTO",IF(K37=7,"ALTO","EXTREMO")))) -> ALTO
B38: EJECUCIÓN | C38: Incumplimiento por parte del contratista en la entrega de los bienes, insumos y servicios logísticos requeridos para el desarrollo de las actividades de los diferentes componentes. | H38: 1. Incumplimiento de las metas y objetivos del proyecto. 2. Afectación del cumplimiento del contrato dentro de la vigencia | I38: 3 | J38: 4 | K38: =+I38+J38 -> 7 | L38: =IF(K38<=4,"BAJO",IF(K38=5,"MEDIO",IF(K38=6,"ALTO",IF(K38=7,"ALTO","EXTREMO")))) -> ALTO
B43: Probabilidad | C43: Catagoria | E43: Valoración | G43: Impacto | H43: Categoria | I43: Valoración
C44: Raro (puede ocurrir excepcionalmente) | E44: 1 | H44: Insignificante | I44: 1
C45: Improbable (puede ocurrir ocasionalmente) | E45: 2 | H45: Menor | I45: 2
C46: Posible (puede ocurrir en cualquier momento futuro) | E46: 3 | H46: Moderado | I46: 3
C47: Probable (probablemente va a ocurrir) | E47: 4 | H47: Mayor | I47: 4
C48: Casi cierto (ocurre en la mayoria de circunstancias) | E48: 5 | H48: Catastrófico | I48: 5
C50: Valoración del Riesgo
C51: Calificación Cualitativa | F51: Obstruye la ejecución del contrato de manera intrascendente. | G51: Dificulta la ejecución del contrato de manera baja, aplicando medidas mínimas se pueden lograr el objeto contractual | H51: Afecta la ejecución del contrato sin alterar el beneficio para las partes | I51: Obstruye la ejecución del contrato sustancialmente pero aun así permite la consecución del objeto contractual | K51: Perturba la ejecución del contrato de manera grave imposibilitando la consecución del objeto contractual.
C52: Calificación Monetaria | F52: Los sobrecostos no representan más del uno por ciento (1%) del valor del contrato. | G52: Los sobrecostos no representan más del cinco por ciento (5%) del valor del contrato. | H52: Genera un impacto sobre el valor del contrato entre el cinco (5%) y el quince por ciento (15%). | I52: Incrementa el valor del contrato entre el quince (15%) y el treinta por ciento (30%). | K52: Impacto sobre el valor del contrato en más del treinta por ciento (30%).
C53: Categoría | E53: Valoración | F53: Insignificante | G53: Menor | H53: Moderado | I53: Mayor | K53: Catastrófico
F54: 1 | G54: 2 | H54: 3 | I54: 4 | K54: 5
C55: Raro (puede ocurrir excepcionalmente) | E55: 1 | F55: 2 | G55: 3 | H55: 4 | I55: 5 | K55: 6
C56: Improbable (puede ocurrir ocasionalmente) | E56: 2 | F56: 3 | G56: 4 | H56: 5 | I56: 6 | K56: 7
C57: Posible (puede ocurrir en cualquier momento futuro) | E57: 3 | F57: 4 | G57: 5 | H57: 6 | I57: 7 | K57: 8
C58: Probable (probablemente va a ocurrir) | E58: 4 | F58: 5 | G58: 6 | H58: 7 | I58: 8 | K58: 9
C59: Casi cierto (ocurre en la mayoria de circunstancias) | E59: 5 | F59: 6 | G59: 7 | H59: 8 | I59: 9 | K59: 10
G61: Categoria del Riesgo
G62: Valoración del Riesgo | H62: Categoría
...

Sheet EVALUACION CON CONTROLES
C2: MATRIZ DE RIESGOS DE CONTRATACIÓN | Q2: Código: GCO-GCI-F164 Versión: 02 Vigencia: 01 de diciembre de 2022 Caso HOLA: 280117
B6: =+EVALUACION!B6 -> Objeto Contractual: SUMINISTRAR LOS BIENES Y SERVICIOS NECESARIOS A MONTO AGOTABLE PARA EL DESARROLLO DE LAS ACTIVIDADES RELACIONADAS CON LOS PROCESOS DE PREVENCIÓN DE VIOLENCIAS EN EL CONTEXTO FAMILIAR Y/O SEXUAL, ASÍ COMO LA MATERIALIZACIÓN DE LOS PRESUPUESTOS PARTICIPATIVOS EN EL MARCO DEL PROYECTO 2774, EN EL CUMPLIMIENTO DEL PLAN DE DESARROLLO LOCAL DEL FONDO DE DESARROLLO LOCAL DE LOS MÁRTIRES.
B7: INSTRUCCIONES PARA LA IDENTIFICACIÓN, ANALISIS, EVALUACIÓN , ASIGNACIÓN Y TRATAMIENTO DE RIESGOS EN LA CONTRATACIÓN
B8: 1) Describa el tratamiento/controles a ser implementados
B9: 2) Diligencie la información de las siguientes columnas, de acuerdo con el análisis realizado a cada riesgo: Afecta el equilibrio económico, persona responsable de implementar el tratamiento, fecha estimada de inicio del tratamiento, fecha estimada en la que se completa el tratamiento, cómo se realiza el monitoreo y la periodicidad.
B10: 3) Continúe en la hoja de "ASIGNACIÓN Y TRATAMIENTO" y diligencie las siguientes casillas: A quien se le asigna y el porcentaje que asume cada una de las partes en caso de que sea compartido.
B15: ETAPA | C15: Descripción (Que puede pasar y, cómo puede ocurrir) | G15: Tratamiento/Controles a ser implementados | I15: Probabilidad de Ocurrencia | J15: Impacto | K15: Calificación Total | L15: Prioridad | M15: ¿Afecta el equilibrio económico del contrato? | N15: Persona responsable por implementar el tratamiento | O15: Fecha estimada en que se inicia el tratamiento | P15: Fecha estimada en que se completa el tratamiento | Q15: ¿Cómo se realiza el monitoreo? | R15: Periodicidad ¿Cuándo?
B17: =+EVALUACION!B18 -> PLANEACIÓN | C17: =+EVALUACION!C18 -> Inadecuado análisis económico estimativo del valor del contrato | G17: Revisión exhaustiva en el proceso de estudio de mercado siguiendo los lineamientos de Colombia Compra Eficiente | I17: =+EVALUACION!I18 -> 3 | J17: =+EVALUACION!J18 -> 4 | K17: =+I17+J17 -> 7 | L17: =IF(K17<=4,"BAJO",IF(K17=5,"MEDIO",IF(K17=6,"ALTO",IF(K17=7,"ALTO","EXTREMO")))) -> ALTO | M17: SI | N17: PROFESIONALES DEL ÁREA DE GESTIÓN DEL DESARROLLO LOCAL DE LOS MARTIRES (PLANEACIÓN) | O17: 2026 | P17: 2026 | Q17: SEGUIMIENTO AL PROCESO | R17: ETAPA DE PLANEACIÓN
B18: =+EVALUACION!B20 -> PLANEACIÓN | C18: =+EVALUACION!C20 -> Falta de profundidad en el estudio de sector no identificandose claramente aspectos de oferta y demanda | G18: Utilizar los lineamientos de Colombia Compra Eficiente y utilizar como referencia procesos similares | I18: =+EVALUACION!I20 -> 3 | J18: =+EVALUACION!J20 -> 4 | K18: =+I18+J18 -> 7 | L18: =IF(K18<=4,"BAJO",IF(K18=5,"MEDIO",IF(K18=6,"ALTO",IF(K18=7,"ALTO","EXTREMO")))) -> ALTO | M18: SI | N18: PROFESIONALES DEL ÁREA DE GESTIÓN DEL DESARROLLO LOCAL DE LOS MARTIRES (PLANEACIÓN) | O18: 2026 | P18: 2026 | Q18: SEGUIMIENTO AL PROCESO | R18: ETAPA DE PLANEACIÓN
B19: =+EVALUACION!B21 -> PLANEACIÓN | C19: =+EVALUACION!C21 -> Ausencia de fundamentación de la justificación y conveniencia de la contratación | G19: Revisiones constantes por parte del área de planeación de la entidad tomando como referencia procesos similares | I19: =+EVALUACION!I21 -> 2 | J19: =+EVALUACION!J21 -> 4 | K19: =+I19+J19 -> 6 | L19: =IF(K19<=4,"BAJO",IF(K19=5,"MEDIO",IF(K19=6,"ALTO",IF(K19=7,"ALTO","EXTREMO")))) -> ALTO | M19: NO | N19: PROFESIONALES DEL ÁREA DE GESTIÓN DEL DESARROLLO LOCAL DE LOS MARTIRES (PLANEACIÓN) | O19: 2026 | P19: 2026 | Q19: SEGUIMIENTO AL PROCESO | R19: ETAPA DE PLANEACIÓN
B20: =+EVALUACION!B23 -> SELECCIÓN | C20: =+EVALUACION!C23 -> Inadecuada evaluación de las ofertas y/o verificación de requisitos habilitantes | G20: Efectuar verificaciones a los documentos y propuestas presentadas, con el apoyo de los profesionales del área y el equipo jurídico | I20: =+EVALUACION!I23 -> 3 | J20: =+EVALUACION!J23 -> 4 | K20: =+I20+J20 -> 7 | L20: =IF(K20<=4,"BAJO",IF(K20=5,"MEDIO",IF(K20=6,"ALTO",IF(K20=7,"ALTO","EXTREMO")))) -> ALTO | M20: NO | N20: PROFESIONALES DEL ÁREA DE GESTIÓN DEL DESARROLLO LOCAL DE LOS MARTIRES (PLANEACIÓN Y CONTRATACIÓN) | O20: 2026 | P20: 2026 | Q20: SEGUIMIENTO AL PROCESO | R20: SEMANAL ETAPA DE SELECCIÓN
B21: =+EVALUACION!B26 -> SELECCIÓN | C21: =+EVALUACION!C26 -> Proyección económica por parte del proponente que conlleve a pérdidas o baja utilidad en la ejecución del contrato. | G21: Realizar aclaraciones en el proceso de selección y evaluar las propuestas con los criterios sugeridos por Colombia Compra Eficiente. | I21: =+EVALUACION!I26 -> 2 | J21: =+EVALUACION!J26 -> 4 | K21: =+I21+J21 -> 6 | L21: =IF(K21<=4,"BAJO",IF(K21=5,"MEDIO",IF(K21=6,"ALTO",IF(K21=7,"ALTO","EXTREMO")))) -> ALTO | M21: SI | N21: PROFESIONALES DEL ÁREA DE GESTIÓN DEL DESARROLLO LOCAL DE LOS MARTIRES (PLANEACIÓN Y CONTRATACIÓN) | O21: 2026 | P21: 2026 | Q21: MUESTREO ALEATORIO DE CALIDAD | R21: SEMANAL ETAPA DE SELECCIÓN
B22: =+EVALUACION!B28 -> CONTRATACIÓN | C22: =+EVALUACION!C28 -> Presentación de reclamos de terceros sobre la selección del oferente que retrasen el perfeccionamiento del contrato. | G22: Dar trámite eficiente y oportuno de las PQRS presentadas por terceros | I22: =+EVALUACION!I28 -> 2 | J22: =+EVALUACION!J28 -> 2 | K22: =+I22+J22 -> 4 | L22: =IF(K22<=4,"BAJO",IF(K22=5,"MEDIO",IF(K22=6,"ALTO",IF(K22=7,"ALTO","EXTREMO")))) -> BAJO | M22: NO | N22: PROFESIONALES DEL ÁREA DE GESTIÓN DEL DESARROLLO LOCAL DE LOS MARTIRES (PLANEACIÓN Y CONTRATACIÓN) | O22: 2026 | P22: 2026 | Q22: SEGUIMIENTO AL PROCESO | R22: ETAPA DE CONTRATACIÓN
B23: =+EVALUACION!B29 -> EJECUCIÓN | C23: =+EVALUACION!C29 -> No liquidar los contratos en los plazos acordados en el contrato o los establecidos por la Ley. | G23: Cumplimiento de las Fases del E.P. y Verificación por parte del apoyo a la supervisión de cada uno de los item solicitados e ingresados a almacén. | I23: =+EVALUACION!I29 -> 4 | J23: =+EVALUACION!J29 -> 3 | K23: =+I23+J23 -> 7 | L23: =IF(K23<=4,"BAJO",IF(K23=5,"MEDIO",IF(K23=6,"ALTO",IF(K23=7,"ALTO","EXTREMO")))) -> ALTO | M23: SI | N23: SUPERVISIÓN, APOYO A LA SUPERVISIÓN Y CONTRATISTA | O23: 2026 | P23: 2026 | Q23: SEGUIMIENTO AL PROCESO | R23: SEMANAL SEGÚN CRONOGRAMA DEL PROYECTO
B24: =+EVALUACION!B30 -> EJECUCIÓN | C24: =+EVALUACION!C30 -> Fallas en los elementos adquiridos para el desarrollo de las metodologías. | G24: Revisiones periódicas de seguimiento por parte de la supervisión y el comité respectivos. Protocolos por parte de la supervisión y el contratista para la gestión de insumos, materiales, equipos y demás recursos | I24: =+EVALUACION!I30 -> 2 | J24: =+EVALUACION!J30 -> 4 | K24: =+I24+J24 -> 6 | L24: =IF(K24<=4,"BAJO",IF(K24=5,"MEDIO",IF(K24=6,"ALTO",IF(K24=7,"ALTO","EXTREMO")))) -> ALTO | M24: SI | N24: SUPERVISIÓN, APOYO A LA SUPERVISIÓN Y CONTRATISTA | O24: 2026 | P24: 2026 | Q24: SEGUIMIENTO AL PROCESO | R24: SEMANAL SEGÚN CRONOGRAMA DEL PROYECTO
B25: =+EVALUACION!B31 -> EJECUCIÓN | C25: =+EVALUACION!C31 -> Incumplimiento de las características técnicas ofrecidas a través de la oferta de servicios presentada en la etapa precontractual. | G25: Verificación al contratista del cumplimiento de los recursos de difusión, estrategias de convocatorias, cronograma de divulgación y plan de trabajo. | I25: =+EVALUACION!I31 -> 3 | J25: =+EVALUACION!J31 -> 4 | K25: =+I25+J25 -> 7 | L25: =IF(K25<=4,"BAJO",IF(K25=5,"MEDIO",IF(K25=6,"ALTO",IF(K25=7,"ALTO","EXTREMO")))) -> ALTO | M25: NO | N25: SUPERVISIÓN, APOYO A LA SUPERVISIÓN Y CONTRATISTA | O25: 2026 | P25: 2026 | Q25: SEGUIMIENTO AL PROCESO | R25: SEMANAL SEGÚN CRONOGRAMA DEL PROYECTO
B26: =+EVALUACION!B37 -> EJECUCIÓN | C26: =+EVALUACION!C37 -> Contingencias, accidentes o demás dificultades presentadas en los eventos y espacios desarrollados a la intemperie y por fuera de las instalaciones de la Alcaldía Local de Los Mártires. | G26: Exigencia del carné de manipulación de alimentos por parte del personal contratado y verificación de las condiciones de salubridad de los alimentos | I26: =+EVALUACION!I37 -> 2 | J26: =+EVALUACION!J37 -> 5 | K26: =+I26+J26 -> 7 | L26: =IF(K26<=4,"BAJO",IF(K26=5,"MEDIO",IF(K26=6,"ALTO",IF(K26=7,"ALTO","EXTREMO")))) -> ALTO | M26: SI | N26: SUPERVISIÓN, APOYO A LA SUPERVISIÓN Y CONTRATISTA | O26: 2026 | P26: 2026 | Q26: SEGUIMIENTO AL PROCESO | R26: SEMANAL SEGÚN CRONOGRAMA DEL PROYECTO
B27: =+EVALUACION!B38 -> EJECUCIÓN | C27: =+EVALUACION!C38 -> Incumplimiento por parte del contratista en la entrega de los bienes, insumos y servicios logísticos requeridos para el desarrollo de las actividades de los diferentes componentes. | G27: Realizar supervisiones periódicas al anexo técnico, el plan de trabajo y las obligaciones contractuales entre las partes | I27: =+EVALUACION!I38 -> 3 | J27: =+EVALUACION!J38 -> 4 | K27: =+I27+J27 -> 7 | L27: =IF(K27<=4,"BAJO",IF(K27=5,"MEDIO",IF(K27=6,"ALTO",IF(K27=7,"ALTO","EXTREMO")))) -> ALTO | M27: NO | N27: SUPERVISIÓN, APOYO A LA SUPERVISIÓN Y CONTRATISTA | O27: 2026 | P27: 2026 | Q27: SEGUIMIENTO AL PROCESO | R27: SEMANAL SEGÚN CRONOGRAMA DEL PROYECTO
P28: 2026
C29: Categoria del Riesgo | H29: Impacto del Riesgo
B30: Probabilidad | C30: Catagoria | F30: Valoración | H30: Categoria | J30: Valoración | N30: Categoria del Riesgo
C31: Raro (puede ocurrir excepcionalmente) | F31: 1 | H31: Insignificante | J31: 1 | N31: Valoración del Riesgo | P31: Categoría
C32: Improbable (puede ocurrir ocasionalmente) | F32: 2 | H32: Menor | J32: 2 | N32: 8, 9 y 10 | P32: Riesgo extremo
C33: Posible (puede ocurrir en cualquier momento futuro) | F33: 3 | H33: Moderado | J33: 3 | N33: 6 y 7 | P33: Riesgo alto
C34: Probable (probablemente va a ocurrir) | F34: 4 | H34: Mayor | J34: 4 | N34: 5 | P34: Riesgo medio
C35: Casi cierto (ocurre en la mayoria de circunstancias) | F35: 5 | H35: Catastrófico | J35: 5 | N35: 2, 3 y 4 | P35: Riesgo bajo
C37: Valoración del Riesgo
C38: Calificación Cualitativa | G38: Obstruye la ejecución del contrato de manera intrascendente. | I38: Dificulta la ejecución del contrato de manera baja, aplicando medidas mínimas se pueden lograr el objeto contractual | L38: Afecta la ejecución del contrato sin alterar el beneficio para las partes | N38: Obstruye la ejecución del contrato sustancialmente pero aun así permite la consecución del objeto contractual | P38: Perturba la ejecución del contrato de manera grave imposibilitando la consecución del objeto contractual.
C39: Calificación Monetaria | G39: Los sobrecostos no representan más del uno por ciento (1%) del valor del contrato. | I39: Los sobrecostos no representan más del cinco por ciento (5%) del valor del contrato. | L39: Genera un impacto sobre el valor del contrato entre el cinco (5%) y el quince por ciento (15%). | N39: Incrementa el valor del contrato entre el quince (15%) y el treinta por ciento (30%). | P39: Impacto sobre el valor del contrato en más del treinta por ciento (30%).
C40: Catagoria | F40: Valoración | G40: Insignificante | I40: Menor | L40: Moderado | N40: Mayor | P40: Catastrófico
G41: 1 | I41: 2 | L41: 3 | N41: 4 | P41: 5
C42: Raro (puede ocurrir excepcionalmente) | F42: 1 | G42: 2 | I42: 3 | L42: 4 | N42: 5 | P42: 6
C43: Improbable (puede ocurrir ocasionalmente) | F43: 2 | G43: 3 | I43: 4 | L43: 5 | N43: 6 | P43: 7
C44: Posible (puede ocurrir en cualquier momento futuro) | F44: 3 | G44: 4 | I44: 5 | L44: 6 | N44: 7 | P44: 8
C45: Probable (probablemente va a ocurrir) | F45: 4 | G45: 5 | I45: 6 | L45: 7 | N45: 8 | P45: 9
C46: Casi cierto (ocurre en la mayoria de circunstancias) | F46: 5 | G46: 6 | I46: 7 | L46: 8 | N46: 9 | P46: 10

Sheet ASIGNACION Y TRATAMIENTO
C2: MATRIZ DE RIESGOS DE CONTRATACIÓN | W2: Código: GCO-GCI-F164 Versión: 02 Vigencia: 01 de diciembre de 2022 Caso HOLA: 280117
B6: =+EVALUACION!B6 -> Objeto Contractual: SUMINISTRAR LOS BIENES Y SERVICIOS NECESARIOS A MONTO AGOTABLE PARA EL DESARROLLO DE LAS ACTIVIDADES RELACIONADAS CON LOS PROCESOS DE PREVENCIÓN DE VIOLENCIAS EN EL CONTEXTO FAMILIAR Y/O SEXUAL, ASÍ COMO LA MATERIALIZACIÓN DE LOS PRESUPUESTOS PARTICIPATIVOS EN EL MARCO DEL PROYECTO 2774, EN EL CUMPLIMIENTO DEL PLAN DE DESARROLLO LOCAL DEL FONDO DE DESARROLLO LOCAL DE LOS MÁRTIRES.
B7: Esta matriz es un documento anexo del Estudio Previo
B10: No | C10: Descripción (Que puede pasar y, cómo puede ocurrir) | D10: Etapa | E10: Clase | F10: Fuente | G10: Consecuencias de la ocurrencia del evento | H10: Probabilidad | I10: Impacto | J10: Calificación total | K10: Prioridad | L10: ¿A quien se le asigna? | M10: % | N10: Tratamiento/Controles a ser implementados | O10: Probabilidad | P10: Impacto | Q10: Calificación total | R10: Prioridad | S10: ¿Afecta el equilibrio económico del contrato? | T10: Persona responsable por implementar el tratamiento | U10: Fecha estimada en que se inicia el tratamiento | V10: Fecha estimada en que se completa el tratamiento | W10: ¿Cómo se realiza el monitoreo | X10: Periodicidad ¿Cuándo?
B11: 1 | C11: =+'EVALUACION CON CONTROLES'!C17:F17 -> Inadecuado análisis económico estimativo del valor del contrato | D11: =+'EVALUACION CON CONTROLES'!B17 -> PLANEACIÓN | E11: =VLOOKUP(C11,'IDENTIFICACION Y ANALISIS'!$B$19:$F$45,3,FALSE) -> General | F11: =VLOOKUP(C11,'IDENTIFICACION Y ANALISIS'!$B$19:$F$45,4,FALSE) -> Interno | G11: =+EVALUACION!H18 -> 1. Sobrecostos o ineficiencia económica del proyecto 2. Pérdidas económica para el contratista o para el FDLM 3. Necesidade de iniciar un nuevo proceso | H11: =+EVALUACION!I18 -> 3 | I11: =+EVALUACION!J18 -> 4 | J11: =+EVALUACION!K18 -> 7 | K11: =+EVALUACION!L18 -> ALTO | L11: SDG | M11: 100 | N11: =+'EVALUACION CON CONTROLES'!G17 -> Revisión exhaustiva en el proceso de estudio de mercado siguiendo los lineamientos de Colombia Compra Eficiente | O11: =+'EVALUACION CON CONTROLES'!I17 -> 3 | P11: =+'EVALUACION CON CONTROLES'!J17 -> 4 | Q11: =+'EVALUACION CON CONTROLES'!K17 -> 7 | R11: =+'EVALUACION CON CONTROLES'!L17 -> ALTO | S11: =+'EVALUACION CON CONTROLES'!M17 -> SI | T11: =+'EVALUACION CON CONTROLES'!N17 -> PROFESIONALES DEL ÁREA DE GESTIÓN DEL DESARROLLO LOCAL DE LOS MARTIRES (PLANEACIÓN) | U11: =+'EVALUACION CON CONTROLES'!O17 -> 2026 | V11: =+'EVALUACION CON CONTROLES'!P17 -> 2026 | ... X11: =+'EVALUACION CON CONTROLES'!R17 -> ETAPA DE PLANEACIÓN
B12: 2 | C12: =+'EVALUACION CON CONTROLES'!C18:F18 -> Falta de profundidad en el estudio de sector no identificandose claramente aspectos de oferta y demanda | D12: =+'EVALUACION CON CONTROLES'!B18 -> PLANEACIÓN | E12: =VLOOKUP(C12,'IDENTIFICACION Y ANALISIS'!$B$19:$F$45,3,FALSE) -> General | F12: =VLOOKUP(C12,'IDENTIFICACION Y ANALISIS'!$B$19:$F$45,4,FALSE) -> Interno | G12: =+EVALUACION!H20 -> 1. Sobrecostos o ineficiencia económica del proyecto 2. Selección adversa 3. No se puede satisfacer la necesidad de la entidad | H12: =+EVALUACION!I20 -> 3 | I12: =+EVALUACION!J20 -> 4 | J12: =+EVALUACION!K20 -> 7 | K12: =+EVALUACION!L20 -> ALTO | L12: SDG | M12: 100 | N12: =+'EVALUACION CON CONTROLES'!G18 -> Utilizar los lineamientos de Colombia Compra Eficiente y utilizar como referencia procesos similares | O12: =+'EVALUACION CON CONTROLES'!I18 -> 3 | P12: =+'EVALUACION CON CONTROLES'!J18 -> 4 | Q12: =+'EVALUACION CON CONTROLES'!K18 -> 7 | R12: =+'EVALUACION CON CONTROLES'!L18 -> ALTO | S12: =+'EVALUACION CON CONTROLES'!M18 -> SI | T12: =+'EVALUACION CON CONTROLES'!N18 -> PROFESIONALES DEL ÁREA DE GESTIÓN DEL DESARROLLO LOCAL DE LOS MARTIRES (PLANEACIÓN) | U12: =+'EVALUACION CON CONTROLES'!O18 -> 2026 | V12: =+'EVALUACION CON CONTROLES'!P18 -> 2026 | ... X12: =+'EVALUACION CON CONTROLES'!R18 -> ETAPA DE PLANEACIÓN
B13: 3 | C13: =+'EVALUACION CON CONTROLES'!C19:F19 -> Ausencia de fundamentación de la justificación y conveniencia de la contratación | D13: =+'EVALUACION CON CONTROLES'!B19 -> PLANEACIÓN | E13: =VLOOKUP(C13,'IDENTIFICACION Y ANALISIS'!$B$19:$F$45,3,FALSE) -> General | F13: =VLOOKUP(C13,'IDENTIFICACION Y ANALISIS'!$B$19:$F$45,4,FALSE) -> Interno | G13: =+EVALUACION!H21 -> 1. Necesidad de iniciar un nuevo proceso. 2. Selección adversa 3. No se puede satisfacer la necesidad de la entidad | H13: =+EVALUACION!I21 -> 2 | I13: =+EVALUACION!J21 -> 4 | J13: =+EVALUACION!K21 -> 6 | K13: =+EVALUACION!L21 -> ALTO | L13: SDG | M13: 100 | N13: =+'EVALUACION CON CONTROLES'!G19 -> Revisiones constantes por parte del área de planeación de la entidad tomando como referencia procesos similares | O13: =+'EVALUACION CON CONTROLES'!I19 -> 2 | P13: =+'EVALUACION CON CONTROLES'!J19 -> 4 | Q13: =+'EVALUACION CON CONTROLES'!K19 -> 6 | R13: =+'EVALUACION CON CONTROLES'!L19 -> ALTO | S13: =+'EVALUACION CON CONTROLES'!M19 -> NO | T13: =+'EVALUACION CON CONTROLES'!N19 -> PROFESIONALES DEL ÁREA DE GESTIÓN DEL DESARROLLO LOCAL DE LOS MARTIRES (PLANEACIÓN) | U13: =+'EVALUACION CON CONTROLES'!O19 -> 2026 | V13: =+'EVALUACION CON CONTROLES'!P19 -> 2026 | ... X13: =+'EVALUACION CON CONTROLES'!R19 -> ETAPA DE PLANEACIÓN
B14: 4 | C14: =+'EVALUACION CON CONTROLES'!C20:F20 -> Inadecuada evaluación de las ofertas y/o verificación de requisitos habilitantes | D14: =+'EVALUACION CON CONTROLES'!B20 -> SELECCIÓN | E14: =VLOOKUP(C14,'IDENTIFICACION Y ANALISIS'!$B$19:$F$45,3,FALSE) -> General | F14: =VLOOKUP(C14,'IDENTIFICACION Y ANALISIS'!$B$19:$F$45,4,FALSE) -> Interno | G14: =+EVALUACION!H23 -> 1. Selecciónar un contratista que no esté en capacidad de cumplir con el objeto del contrato. 2. Selección adversa | H14: =+EVALUACION!I23 -> 3 | I14: =+EVALUACION!J23 -> 4 | J14: =+EVALUACION!K23 -> 7 | K14: =+EVALUACION!L23 -> ALTO | L14: SDG | M14: 100 | N14: =+'EVALUACION CON CONTROLES'!G20 -> Efectuar verificaciones a los documentos y propuestas presentadas, con el apoyo de los profesionales del área y el equipo jurídico | O14: =+'EVALUACION CON CONTROLES'!I20 -> 3 | P14: =+'EVALUACION CON CONTROLES'!J20 -> 4 | Q14: =+'EVALUACION CON CONTROLES'!K20 -> 7 | R14: =+'EVALUACION CON CONTROLES'!L20 -> ALTO | S14: =+'EVALUACION CON CONTROLES'!M20 -> NO | T14: =+'EVALUACION CON CONTROLES'!N20 -> PROFESIONALES DEL ÁREA DE GESTIÓN DEL DESARROLLO LOCAL DE LOS MARTIRES (PLANEACIÓN Y CONTRATACIÓN) | U14: =+'EVALUACION CON CONTROLES'!O20 -> 2026 | V14: =+'EVALUACION CON CONTROLES'!P20 -> 2026 | ... X14: =+'EVALUACION CON CONTROLES'!R20 -> SEMANAL ETAPA DE SELECCIÓN
B15: 5 | C15: =+'EVALUACION CON CONTROLES'!C21:F21 -> Proyección económica por parte del proponente que conlleve a pérdidas o baja utilidad en la ejecución del contrato. | D15: =+'EVALUACION CON CONTROLES'!B21 -> SELECCIÓN | E15: =VLOOKUP(C15,'IDENTIFICACION Y ANALISIS'!$B$19:$F$45,3,FALSE) -> General | F15: =VLOOKUP(C15,'IDENTIFICACION Y ANALISIS'!$B$19:$F$45,4,FALSE) -> Externo | G15: =+EVALUACION!H26 -> 1. Pérdidas económicas para el contratista o propuestas artificialmente bajas. | H15: =+EVALUACION!I26 -> 2 | I15: =+EVALUACION!J26 -> 4 | J15: =+EVALUACION!K26 -> 6 | K15: =+EVALUACION!L26 -> ALTO | L15: SDG | M15: 100 | N15: =+'EVALUACION CON CONTROLES'!G21 -> Realizar aclaraciones en el proceso de selección y evaluar las propuestas con los criterios sugeridos por Colombia Compra Eficiente. | O15: =+'EVALUACION CON CONTROLES'!I21 -> 2 | P15: =+'EVALUACION CON CONTROLES'!J21 -> 4 | Q15: =+'EVALUACION CON CONTROLES'!K21 -> 6 | R15: =+'EVALUACION CON CONTROLES'!L21 -> ALTO | S15: =+'EVALUACION CON CONTROLES'!M21 -> SI | T15: =+'EVALUACION CON CONTROLES'!N21 -> PROFESIONALES DEL ÁREA DE GESTIÓN DEL DESARROLLO LOCAL DE LOS MARTIRES (PLANEACIÓN Y CONTRATACIÓN) | U15: =+'EVALUACION CON CONTROLES'!O21 -> 2026 | V15: =+'EVALUACION CON CONTROLES'!P21 -> 2026 | ... X15: =+'EVALUACION CON CONTROLES'!R21 -> SEMANAL ETAPA DE SELECCIÓN
B16: 6 | C16: =+'EVALUACION CON CONTROLES'!C22:F22 -> Presentación de reclamos de terceros sobre la selección del oferente que retrasen el perfeccionamiento del contrato. | D16: =+'EVALUACION CON CONTROLES'!B22 -> CONTRATACIÓN | E16: =VLOOKUP(C16,'IDENTIFICACION Y ANALISIS'!$B$19:$F$45,3,FALSE) -> #N/A | F16: =VLOOKUP(C16,'IDENTIFICACION Y ANALISIS'!$B$19:$F$45,4,FALSE) -> #N/A | G16: =+EVALUACION!H28 -> 1. Pérdida de Tiempo por no iniciar el contrato de forma oportuna 2. Necesidad de iniciar un nuevo proceso | H16: =+EVALUACION!I28 -> 2 | I16: =+EVALUACION!J28 -> 2 | J16: =+EVALUACION!K28 -> 4 | K16: =+EVALUACION!L28 -> BAJO | L16: CONTRATISTA | M16: 100 | N16: =+'EVALUACION CON CONTROLES'!G22 -> Dar trámite eficiente y oportuno de las PQRS presentadas por terceros | O16: =+'EVALUACION CON CONTROLES'!I22 -> 2 | P16: =+'EVALUACION CON CONTROLES'!J22 -> 2 | Q16: =+'EVALUACION CON CONTROLES'!K22 -> 4 | R16: =+'EVALUACION CON CONTROLES'!L22 -> BAJO | S16: =+'EVALUACION CON CONTROLES'!M22 -> NO | T16: =+'EVALUACION CON CONTROLES'!N22 -> PROFESIONALES DEL ÁREA DE GESTIÓN DEL DESARROLLO LOCAL DE LOS MARTIRES (PLANEACIÓN Y CONTRATACIÓN) | U16: =+'EVALUACION CON CONTROLES'!O22 -> 2026 | V16: =+'EVALUACION CON CONTROLES'!P22 -> 2026 | ... X16: =+'EVALUACION CON CONTROLES'!R22 -> ETAPA DE CONTRATACIÓN
B17: 7 | C17: =+'EVALUACION CON CONTROLES'!C23:F23 -> No liquidar los contratos en los plazos acordados en el contrato o los establecidos por la Ley. | D17: =+'EVALUACION CON CONTROLES'!B23 -> EJECUCIÓN | E17: =VLOOKUP(C17,'IDENTIFICACION Y ANALISIS'!$B$19:$F$45,3,FALSE) -> General | F17: =VLOOKUP(C17,'IDENTIFICACION Y ANALISIS'!$B$19:$F$45,4,FALSE) -> Externo | G17: =+EVALUACION!H29 -> 1. Mala ejecución del objeto contratado. 2.No se puede satisfacer la necesidad de la Entidad | H17: =+EVALUACION!I29 -> 4 | I17: =+EVALUACION!J29 -> 3 | J17: =+EVALUACION!K29 -> 7 | K17: =+EVALUACION!L29 -> ALTO | L17: CONTRATISTA | M17: 50-50 | N17: =+'EVALUACION CON CONTROLES'!G23 -> Cumplimiento de las Fases del E.P. y Verificación por parte del apoyo a la supervisión de cada uno de los item solicitados e ingresados a almacén. | O17: =+'EVALUACION CON CONTROLES'!I23 -> 4 | P17: =+'EVALUACION CON CONTROLES'!J23 -> 3 | Q17: =+'EVALUACION CON CONTROLES'!K23 -> 7 | R17: =+'EVALUACION CON CONTROLES'!L23 -> ALTO | S17: =+'EVALUACION CON CONTROLES'!M23 -> SI | T17: =+'EVALUACION CON CONTROLES'!N23 -> SUPERVISIÓN, APOYO A LA SUPERVISIÓN Y CONTRATISTA | U17: =+'EVALUACION CON CONTROLES'!O23 -> 2026 | V17: =+'EVALUACION CON CONTROLES'!P23 -> 2026 | ... X17: =+'EVALUACION CON CONTROLES'!R23 -> SEMANAL SEGÚN CRONOGRAMA DEL PROYECTO
B18: 8 | C18: =+'EVALUACION CON CONTROLES'!C24:F24 -> Fallas en los elementos adquiridos para el desarrollo de las metodologías. | D18: =+'EVALUACION CON CONTROLES'!B24 -> EJECUCIÓN | E18: =VLOOKUP(C18,'IDENTIFICACION Y ANALISIS'!$B$19:$F$45,3,FALSE) -> General | F18: =VLOOKUP(C18,'IDENTIFICACION Y ANALISIS'!$B$19:$F$45,4,FALSE) -> Externo | G18: =+EVALUACION!H30 -> 1. Daños ocasionados al FDLM. | H18: =+EVALUACION!I30 -> 2 | I18: =+EVALUACION!J30 -> 4 | J18: =+EVALUACION!K30 -> 6 | K18: =+EVALUACION!L30 -> ALTO | L18: CONTRATISTA | M18: 100 | N18: =+'EVALUACION CON CONTROLES'!G24 -> Revisiones periódicas de seguimiento por parte de la supervisión y el comité respectivos. Protocolos por parte de la supervisión y el contratista para la gestión de insumos, materiales, equipos y demás recursos | O18: =+'EVALUACION CON CONTROLES'!I24 -> 2 | P18: =+'EVALUACION CON CONTROLES'!J24 -> 4 | Q18: =+'EVALUACION CON CONTROLES'!K24 -> 6 | R18: =+'EVALUACION CON CONTROLES'!L24 -> ALTO | S18: =+'EVALUACION CON CONTROLES'!M24 -> SI | T18: =+'EVALUACION CON CONTROLES'!N24 -> SUPERVISIÓN, APOYO A LA SUPERVISIÓN Y CONTRATISTA | U18: =+'EVALUACION CON CONTROLES'!O24 -> 2026 | V18: =+'EVALUACION CON CONTROLES'!P24 -> 2026 | ... X18: =+'EVALUACION CON CONTROLES'!R24 -> SEMANAL SEGÚN CRONOGRAMA DEL PROYECTO
B19: 9 | C19: =+'EVALUACION CON CONTROLES'!C25:F25 -> Incumplimiento de las características técnicas ofrecidas a través de la oferta de servicios presentada en la etapa precontractual. | D19: =+'EVALUACION CON CONTROLES'!B25 -> EJECUCIÓN | E19: =VLOOKUP(C19,'IDENTIFICACION Y ANALISIS'!$B$19:$F$45,3,FALSE) -> General | F19: =VLOOKUP(C19,'IDENTIFICACION Y ANALISIS'!$B$19:$F$45,4,FALSE) -> Externo | G19: =+EVALUACION!H31 -> 1. Incumplimiento de las metas dentro de la vigencia, y el alcance de las iniciativas participativas. | H19: =+EVALUACION!I31 -> 3 | I19: =+EVALUACION!J31 -> 4 | J19: =+EVALUACION!K31 -> 7 | K19: =+EVALUACION!L31 -> ALTO | L19: CONTRATISTA | M19: 100 | N19: =+'EVALUACION CON CONTROLES'!G25 -> Verificación al contratista del cumplimiento de los recursos de difusión, estrategias de convocatorias, cronograma de divulgación y plan de trabajo. | O19: =+'EVALUACION CON CONTROLES'!I25 -> 3 | P19: =+'EVALUACION CON CONTROLES'!J25 -> 4 | Q19: =+'EVALUACION CON CONTROLES'!K25 -> 7 | R19: =+'EVALUACION CON CONTROLES'!L25 -> ALTO | S19: =+'EVALUACION CON CONTROLES'!M25 -> NO | T19: =+'EVALUACION CON CONTROLES'!N25 -> SUPERVISIÓN, APOYO A LA SUPERVISIÓN Y CONTRATISTA | U19: =+'EVALUACION CON CONTROLES'!O25 -> 2026 | V19: =+'EVALUACION CON CONTROLES'!P25 -> 2026 | ... X19: =+'EVALUACION CON CONTROLES'!R25 -> SEMANAL SEGÚN CRONOGRAMA DEL PROYECTO
B20: 10 | C20: =+'EVALUACION CON CONTROLES'!C26:F26 -> Contingencias, accidentes o demás dificultades presentadas en los eventos y espacios desarrollados a la intemperie y por fuera de las instalaciones de la Alcaldía Local de Los Mártires. | D20: =+'EVALUACION CON CONTROLES'!B26 -> EJECUCIÓN | E20: =VLOOKUP(C20,'IDENTIFICACION Y ANALISIS'!$B$19:$F$45,3,FALSE) -> Especifico | F20: =VLOOKUP(C20,'IDENTIFICACION Y ANALISIS'!$B$19:$F$45,4,FALSE) -> Externo | G20: =+EVALUACION!H37 -> 1. Lesiones, afectaciones, enfermedades o pérdidas humanas. 2. Costos y/o sanciones para el contratista y el FDLM | H20: =+EVALUACION!I37 -> 2 | I20: =+EVALUACION!J37 -> 5 | J20: =+EVALUACION!K37 -> 7 | K20: =+EVALUACION!L37 -> ALTO | L20: CONTRATISTA Y SDG | M20: 50-50 | N20: =+'EVALUACION CON CONTROLES'!G26 -> Exigencia del carné de manipulación de alimentos por parte del personal contratado y verificación de las condiciones de salubridad de los alimentos | O20: =+'EVALUACION CON CONTROLES'!I26 -> 2 | P20: =+'EVALUACION CON CONTROLES'!J26 -> 5 | Q20: =+'EVALUACION CON CONTROLES'!K26 -> 7 | R20: =+'EVALUACION CON CONTROLES'!L26 -> ALTO | S20: =+'EVALUACION CON CONTROLES'!M26 -> SI | T20: =+'EVALUACION CON CONTROLES'!N26 -> SUPERVISIÓN, APOYO A LA SUPERVISIÓN Y CONTRATISTA | U20: =+'EVALUACION CON CONTROLES'!O26 -> 2026 | V20: =+'EVALUACION CON CONTROLES'!P26 -> 2026 | ... X20: =+'EVALUACION CON CONTROLES'!R26 -> SEMANAL SEGÚN CRONOGRAMA DEL PROYECTO
B21: 11 | C21: =+'EVALUACION CON CONTROLES'!C27:F27 -> Incumplimiento por parte del contratista en la entrega de los bienes, insumos y servicios logísticos requeridos para el desarrollo de las actividades de los diferentes componentes. | D21: =+'EVALUACION CON CONTROLES'!B27 -> EJECUCIÓN | E21: =VLOOKUP(C21,'IDENTIFICACION Y ANALISIS'!$B$19:$F$45,3,FALSE) -> General | F21: =VLOOKUP(C21,'IDENTIFICACION Y ANALISIS'!$B$19:$F$45,4,FALSE) -> Externo | G21: =+EVALUACION!H38 -> 1. Incumplimiento de las metas y objetivos del proyecto. 2. Afectación del cumplimiento del contrato dentro de la vigencia | H21: =+EVALUACION!I38 -> 3 | I21: =+EVALUACION!J38 -> 4 | J21: =+EVALUACION!K38 -> 7 | K21: =+EVALUACION!L38 -> ALTO | L21: CONTRATISTA Y SDG | M21: 50-50 | N21: =+'EVALUACION CON CONTROLES'!G27 -> Realizar supervisiones periódicas al anexo técnico, el plan de trabajo y las obligaciones contractuales entre las partes | O21: =+'EVALUACION CON CONTROLES'!I27 -> 3 | P21: =+'EVALUACION CON CONTROLES'!J27 -> 4 | Q21: =+'EVALUACION CON CONTROLES'!K27 -> 7 | R21: =+'EVALUACION CON CONTROLES'!L27 -> ALTO | S21: =+'EVALUACION CON CONTROLES'!M27 -> NO | T21: =+'EVALUACION CON CONTROLES'!N27 -> SUPERVISIÓN, APOYO A LA SUPERVISIÓN Y CONTRATISTA | U21: =+'EVALUACION CON CONTROLES'!O27 -> 2026 | V21: =+'EVALUACION CON CONTROLES'!P27 -> 2026 | ... X21: =+'EVALUACION CON CONTROLES'!R27 -> SEMANAL SEGÚN CRONOGRAMA DEL PROYECTO
F23: Categoria | J23: Impacto del Riesgo
E24: Probabilidad | F24: Catagoria | G24: Valoración | J24: Categoria | L24: Valoración
F25: Raro (puede ocurrir excepcionalmente) | G25: 1 | J25: Insignificante | L25: 1
F26: Improbable (puede ocurrir ocasionalmente) | G26: 2 | J26: Menor | L26: 2
F27: Posible (puede ocurrir en cualquier momento futuro) | G27: 3 | J27: Moderado | L27: 3
F28: Probable (probablemente va a ocurrir) | G28: 4 | J28: Mayor | L28: 4
F29: Casi cierto (ocurre en la mayoria de circunstancias) | G29: 5 | J29: Catastrófico | L29: 5
D31: Valoración del Riesgo
D32: Catagoria | E32: Valoración | F32: Insignificante | H32: Menor | J32: Moderado | K32: Mayor | L32: Catastrófico | P32: Categoria del Riesgo
F33: 1 | H33: 2 | J33: 3 | K33: 4 | L33: 5 | P33: Valoración del Riesgo | S33: Categoría
D34: Raro (puede ocurrir excepcionalmente) | E34: 1 | F34: 2 | H34: 3 | J34: 4 | K34: 5 | L34: 6 | P34: 8, 9 y 10 | S34: Riesgo extremo
D35: Improbable (puede ocurrir ocasionalmente) | E35: 2 | F35: 3 | H35: 4 | J35: 5 | K35: 6 | L35: 7 | P35: 6 y 7 | S35: Riesgo alto
D36: Posible (puede ocurrir en cualquier momento futuro) | E36: 3 | F36: 4 | H36: 5 | J36: 6 | K36: 7 | L36: 8 | P36: 5 | S36: Riesgo medio
D37: Probable (probablemente va a ocurrir) | E37: 4 | F37: 5 | H37: 6 | J37: 7 | K37: 8 | L37: 9 | P37: 2, 3 y 4 | S37: Riesgo bajo
D38: Casi cierto (ocurre en la mayoria de circunstancias) | E38: 5 | F38: 6 | H38: 7 | J38: 8 | K38: 9 | L38: 10
B43: CONTRATISTA
B44: SDG
B45: CONTRATISTA Y SDG

Sheet Hoja1
