Workbook
Name \0: #REF!
Name \0: #REF!
Name \00: #REF!
Name \a: #REF!
Name \a: #REF!
Name \AA: [1]LIQUIDACION!#REF!
Name \b: [2]STRSUMM0!#REF!
Name \bb: [2]STRSUMM0!#REF!
Name \c: #REF!
Name \E: #REF!
Name \E: #REF!
Name \EE: #REF!
Name \EE: #REF!
Name \G: #REF!
Name \G: #REF!
Name \i: #REF!
Name \k: '[3]7422CW00'!#REF!
Name \k: '[3]7422CW00'!#REF!
Name \l: [4]STRSUMM0!#REF!
Name \l: [4]STRSUMM0!#REF!
Name \M: #REF!
Name \M: #REF!
Name \ñ: '[5]7422CW00'!#REF!
Name \ñ: '[5]7422CW00'!#REF!
Name \P: #REF!
Name \P: #REF!
Name \R: #REF!
Name \R: #REF!
Name \s: #REF!
Name \s: #REF!
Name \t: #REF!
Name \V: #REF!
Name \X: AIU!ERR
Name \X: 'INDICAR CÓDIGO DEL ITEM DE PAGO'!ERR
Name \X: [0]!ERR
Name \Z: AIU!ERR
Name \Z: 'INDICAR CÓDIGO DEL ITEM DE PAGO'!ERR
Name \Z: [0]!ERR
Name _: #REF!
Name _________AFC1: [6]INV!$A$25:$D$28
Name _________AFC1: [7]INV!$A$25:$D$28
Name _________AFC3: [6]INV!$F$25:$I$28
Name _________AFC3: [7]INV!$F$25:$I$28
Name _________AFC5: [6]INV!$K$25:$N$28
Name _________AFC5: [7]INV!$K$25:$N$28
Name _________BGC1: [6]INV!$A$5:$D$8
Name _________BGC1: [7]INV!$A$5:$D$8
Name _________BGC3: [6]INV!$F$5:$I$8
Name _________BGC3: [7]INV!$F$5:$I$8
Name _________BGC5: [6]INV!$K$5:$N$8
Name _________BGC5: [7]INV!$K$5:$N$8
Name _________CAC1: [6]INV!$A$19:$D$22
Name _________CAC1: [7]INV!$A$19:$D$22
Name _________CAC3: [6]INV!$F$19:$I$22
Name _________CAC3: [7]INV!$F$19:$I$22
Name _________CAC5: [6]INV!$K$19:$N$22
Name _________CAC5: [7]INV!$K$19:$N$22
Name _________PJ50: #REF!
Name _________PJ50: #REF!
Name _________PJ50: #REF!

Sheet PRESUPUESTO OFICIAL (Entidad)
B1: Formulario 1 - Propuesta económica - Documento tipo de selección abreviada de menor cuantía - versión 1
B2: Versión: 1 del 21 de agosto de 2025
C5: FORMULARIO 1
C6: PRESUPUESTO OFICIAL
C7: [La entidad puede utilizar este formulario de detalle del presupuesto oficial para determinar las condiciones bajo las cuales los proponentes analizarán y presentarán su propuesta económica de forma detallada, sin perjuicio que la entidad pueda modificarlo o establecer la presentación de la oferta económica con un formulario distinto al indicado.]
C9: Adicionalmente, cuando el proceso de contratación es estructurado por precios unitarios, la Entidad debe aplicar las notas 1, 2 y 3 del presente formulario y las casillas de "Descripción", "Porcentaje" de la Administración, Imprevisto, Utilidad y total A.I.U. resaltadas en colo amarillo. Tratándose de otras modalidades de precio, la Entidad puede o no configurar los mismos aspectos.
C10: PALACIO DE JUSTICIA "ALEJANDRO BECERRA FRANCO" RIO SUCIO, CALDAS
C11: Nº | D11: ITEM DE PAGO | E11: DESCRIPCION | F11: UND. | G11: CANTIDAD | H11: VALOR UNITARIO | I11: VALOR TOTAL
C13: 1 | D13: DESMONTES
D14: 1.1 | E14: Desmonte Lámparas | F14: UN | G14: =77+67 -> 144 | H14: =+APU!F11 -> 9102.75 | I14: =ROUND(G14*H14,0) -> 1310796
D15: 1.2 | E15: Desmonte Cielo Raso | F15: M2 | G15: 500 | H15: =+APU!F22 -> 16599.374 | I15: =ROUND(G15*H15,0) -> 8299687
C16: Subtotal | I16: =+SUM(I14:I15) -> 9610483
C17: 2 | D17: CIELO RASOS
D18: 2.1 | E18: Suministro, transporte e instalación a todo costo de cielo raso en superboard 6 mm junta perdida, una mano de vinilo y dos manos de acriltex. incluye perfilería, anclajes, dilatacion z en perimetro, y todo lo necesario para su correcta instalación. | F18: M2 | G18: 500 | H18: =+APU!F46 -> 89343 | I18: =ROUND(G18*H18,0) -> 44671500
D19: 2.2 | E19: Suministro E Instalación Marco Para Tapa Registro De 60x60 En Cielo Raso De Sistema Liviano, Incluye Apertura De La Perforación | F19: UN | G19: 25 | H19: =+APU!F57 -> 41216 | I19: =ROUND(G19*H19,0) -> 1030400
C20: Subtotal | I20: =+SUM(I18:I19) -> 45701900
C21: 3 | D21: PINTURA
D22: 3.1 | E22: Suministro, Transporte E Instalacion Estuco Y Vinilo 3 Manos Sobre Muro Interior (Incluye Estuco, 1 Mano En Pintura Tipo 2 Y Dos Manos En Pintura Tipo 1, Filos Y Dilataciones). Color Según Diseño Por M2. | F22: M2 | G22: 100 | H22: =+APU!F74 -> 30043.146 | I22: =ROUND(G22*H22,0) -> 3004315
C23: Subtotal | I23: =+SUM(I22:I22) -> 3004315
C24: 4 | D24: INSTALACIONES ELECTRICAS - REDES INTERNAS
C25: 4.1 | D25: NIVEL 1
D26: 4.1.1 | E26: Suministro e Instalación de Tablero Trifásico de 12 Circuítos con Espacio para Totalizador | F26: UN | G26: 1 | H26: =+APU!F88 -> 366976.18 | I26: =ROUND(G26*H26,0) -> 366976
D27: 4.1.2 | E27: Suministro e Instalación de Totalizador Principal 3x40A 25kA | F27: UN | G27: 1 | H27: =+APU!F97 -> 126290.86 | I27: =ROUND(G27*H27,0) -> 126291
D28: 4.1.3 | E28: Suministro e Instalación de Breaker 1x15A 10kA | F28: UN | G28: 5 | H28: =+APU!F106 -> 19030.858 | I28: =ROUND(G28*H28,0) -> 95154
D29: 4.1.4 | E29: Suministro e Instalación de Breaker 1x20A 10kA | F29: UN | G29: 5 | H29: =+APU!F115 -> 21290.858 | I29: =ROUND(G29*H29,0) -> 106454
D30: 4.1.5 | E30: Suministro e Instalación de Salida de Punto de Iluminación Sobreponer | F30: UN | G30: 67 | H30: =+APU!F134 -> 166888.32 | I30: =ROUND(G30*H30,0) -> 11181517
D31: 4.1.6 | E31: Suministro e instalación de luminaria 600x 600 mm 32 w dimerizable 0-10 v Philips o similar 2DSRT3050LCS_2_UNV_DIM | F31: UN | G31: 30 | H31: =+APU!F147 -> 394208.43 | I31: =ROUND(G31*H31,0) -> 11826253
D32: 4.1.7 | E32: Suministro e instalación de luminaria hermética 33w o similar WT065C LED45S/840 1-10V L1200 LA | F32: UN | G32: 6 | H32: =+APU!F160 -> 264208.43 | I32: =ROUND(G32*H32,0) -> 1585251
D33: 4.1.8 | E33: Suministro e Instalación de Luminaria Rectangular Sobreponer No Dimerisable 34W RC048B LED42S/840 100-277 W30L121 LA | F33: UN | G33: 12 | H33: =+APU!F173 -> 498708.43 | I33: =ROUND(G33*H33,0) -> 5984501
D34: 4.1.9 | E34: Suministro e instalación de luminaria lineal dimerizable 1200 x 150 mm sobreponer 45w Philips o similar SP280X LED48/8CST PSR W45L120 OD WH | F34: UN | G34: 6 | H34: =+APU!F186 -> 485208.43 | I34: =ROUND(G34*H34,0) -> 2911251
D35: 4.1.10 | E35: Suministro e instalación de luminaria panel led redondo de sobreponer 13w o similar DN058B LED9/840 110-240V D150 RD | F35: UN | G35: 5 | H35: =+APU!F199 -> 101708.43 | I35: =ROUND(G35*H35,0) -> 508542
D36: 4.1.11 | E36: Suministro e Instalación de Salida de Punto de Iluminación de Emergencia | F36: UN | G36: 9 | H36: =+APU!F212 -> 199208.43 | I36: =ROUND(G36*H36,0) -> 1792876
D37: 4.1.12 | E37: Suministro e Instalación de Luminaria de Emergencia Led LEDR1W5 | F37: UN | G37: 9 | H37: =+APU!F225 -> 173208.43 | I37: =ROUND(G37*H37,0) -> 1558876
D38: 4.1.13 | E38: Suministro e Instalación de Interruptor Sencillo | F38: UN | G38: 5 | H38: =+APU!F241 -> 146950.88 | I38: =ROUND(G38*H38,0) -> 734754
D39: 4.1.14 | E39: Suministro e Instalación de Interruptor Doble | F39: UN | G39: 2 | H39: =+APU!F257 -> 169798.88 | I39: =ROUND(G39*H39,0) -> 339598
D40: 4.1.15 | E40: Suministro e Instalación de Sensor ON/OFF | F40: UN | G40: 2 | H40: =+APU!F272 -> 265022.41 | I40: =ROUND(G40*H40,0) -> 530045
D41: 4.1.16 | E41: Bridge (puente) de control de iluminación, marca Philips Advance o similar, línea Xitanium SR , modelos SRB-BS | F41: UN | G41: 11 | H41: =+APU!F284 -> 692321.02 | I41: =ROUND(G41*H41,0) -> 7615531
D42: 4.1.17 | E42: Sensor SC200B/02 SR WH/BL para montaje en techo , marca Philips o similar, | F42: UN | G42: 11 | H42: =+APU!F297 -> 267928.87 | I42: =ROUND(G42*H42,0) -> 2947218
D43: 4.1.18 | E43: Botonera inalámbrica de 2 botones, marca Philips o similar, modelo UID8470/10 ZGP Switch Dim 2B , compatible con el sistema Interact Ready | F43: UN | G43: 6 | H43: =+APU!F316 -> 910501.46 | I43: =ROUND(G43*H43,0) -> 5463009
D44: 4.1.19 | E44: Suministro e instalación Marco de sobreponer de 60x60 altura 7cm Cal 22, doble soporte y pintura electrostática blanca | F44: UND | G44: 30 | H44: =+APU!F326 -> 55380.558 | I44: =ROUND(G44*H44,0) -> 1661417
...

Sheet APU
A2: 1. DESMONTES
A4: ITEM | B4: DESMONTE LAMPARAS | F4: UN
A5: =+'PRESUPUESTO OFICIAL (Entidad)'!D14 -> 1.1 | B5: DESCRIPCION | C5: UND | D5: Rendimiento | E5: valor unitario | F5: valor parcial
B6: CUADRILLA AA TIPO 1 (1 OFICIAL + 1 AYUDANTE) (Albañileria) | C6: HR | D6: 0.15 | E6: 37863 | F6: =+D6*E6 -> 5679.45
B7: ANDAMIO METALICO CERTIFICADO, INCLUYE ESCALERILLA CON BARANDAS Y PLATAFORMAS DE TRABAJO H=2.0M | C7: Un-Dia | D7: 0.15 | E7: 17302 | F7: =+D7*E7 -> 2595.3
B8: EQUIPO BASICO (HERRAMIENTA MENOR) | C8: UND | D8: 0.15 | E8: 3623 | F8: =+D8*E8 -> 543.45
B9: ACARREO INTERNO | C9: UND | D9: 0.15 | E9: 1897 | F9: =+D9*E9 -> 284.55
B11: COSTO DIRECTO | F11: =+SUM(F6:F9) -> 9102.75
A14: ITEM | B14: DESMONTE CIELO RASO (INCLUYE RETIRO) | F14: M2
A15: =+'PRESUPUESTO OFICIAL (Entidad)'!D15 -> 1.2 | B15: Actividad | C15: UND | D15: Rendimiento | E15: valor unitario | F15: valor parcial
B16: CUADRILLA AA TIPO 1 (1 OFICIAL + 1 AYUDANTE) (Albañileria) | C16: HR | D16: 0.18 | E16: 37863 | F16: =+SUM(D16*E16) -> 6815.34
B17: ANDAMIO METALICO CERTIFICADO, INCLUYE ESCALERILLA CON BARANDAS Y PLATAFORMAS DE TRABAJO H=2.0M | C17: Un-Dia | D17: 0.16 | E17: 17302 | F17: =+SUM(D17*E17) -> 2768.32
B18: VOLQUETA 6M3 (CARGUE A MANO) - INCLUYE DISPOSICION EN BOTADERO | C18: VJE | D18: 0.018 | E18: 322400 | F18: =+SUM(D18*E18) -> 5803.2
B19: EQUIPO BASICO (HERRAMIENTA MENOR) | C19: UND | D19: 0.18 | E19: 3623 | F19: =+SUM(D19*E19) -> 652.14
B20: ACARREO INTERNO | C20: UND | D20: 0.2954 | E20: 1897 | F20: =+SUM(D20*E20) -> 560.3738
B22: COSTO DIRECTO | F22: =+SUM(F16:F20) -> 16599.374
A25: 2. CIELO RASOS
A27: ITEM | B27: SUMINISTRO, TRANSPORTE E INSTALACIÓN A TODO COSTO DE CIELO RASO EN SUPERBOARD 6 MM JUNTA PERDIDA, UNA MANO DE VINILO Y DOS MANOS DE ACRILTEX. INCLUYE PERFILERÍA, ANCLAJES, DILATACION Z EN PERIMETRO, Y TODO LO NECESARIO PARA SU CORRECTA INSTALACIÓN. | F27: M2
A28: =+'PRESUPUESTO OFICIAL (Entidad)'!D18 -> 2.1 | B28: Actividad | C28: UND | D28: Rendimiento | E28: valor unitario | F28: valor parcial
B29: CUADRILLA EE TIPO 2 (1 OFICIAL + 2 AYUDANTE) (Dry Wall) | C29: HR | D29: 0.62 | E29: 58718 | F29: 36405
B30: ANDAMIO METALICO CERTIFICADO, INCLUYE ESCALERILLA CON BARANDAS Y PLATAFORMAS DE TRABAJO H=2.0M | C30: Un-Dia | D30: 0.25 | E30: 17302 | F30: 4326
B31: EQUIPO DE TRANSPORTE | C31: DIA | D31: 0.008 | E31: 187426 | F31: 1499
B32: INTERVINILO - TIPO PINTUCO REF. 2501 SEGÚN COLOR DISEÑO O SIMILAR | C32: GAL | D32: 0.04 | E32: 62296 | F32: 2492
B33: VINILTEX ACRILTEX- TIPO PINTUCO REF. SEGÚN COLOR DISEÑO O SIMILAR. | C33: GAL | D33: 0.08 | E33: 109097 | F33: 8728
B34: ACARREO INTERNO | C34: UND | D34: 1.2 | E34: 1897 | F34: 2276
B35: CINTA MALLA DE FIBRA DE VIDRIO ( 90 M. ) | C35: ROLLO | D35: 0.011111111 | E35: 13416 | F35: 149
B36: MASILLA SUPERMASTIC USG X 28 KG | C36: CANECA | D36: 0.053571429 | E36: 64376 | F36: 3449
B37: PERFIL VIGUETA CIELO RASO x 2.4m CAL 26 | C37: UND | D37: 0.5 | E37: 3745 | F37: 1873
B38: PERFIL OMEGA CAL 26 - 2.44 M. | C38: UND | D38: 1 | E38: 3796 | F38: 3796
B39: ÁNGULO CIELO RASO 20×30 CALIBRE 26 (0.38) X 2.44MT | C39: UND | D39: 0.6 | E39: 2366 | F39: 1420
B40: SUPERBOARD ( 2.44 X 1.22 ) E= 6 MM | C40: M2 | D40: 1 | E40: 21089 | F40: 21089
... B44: DILATACION Z 8MM X3.05M | C44: UND | D44: 0.1 | E44: 6173 | F44: 617
B46: COSTO DIRECTO | F46: =+SUM(F29:F44) -> 89343
A49: ITEM | B49: SUMINISTRO E INSTALACION MARCO PARA TAPA DE REGISTRO DE 60X60 EN CIELOS DE SISTEMA LIVIANO, INCLUYE APERTURA DE LA PERFORACIÓN | F49: UN
A50: =+'PRESUPUESTO OFICIAL (Entidad)'!D19 -> 2.2 | B50: Actividad | C50: UND | D50: Rendimiento | E50: valor unitario | F50: valor parcial
B51: MARCO DE INCRUSTAR EN ALUMINIO BLANCO 60X60 | C51: UN | D51: 1 | E51: 25000 | F51: 25000
B52: CUADRILLA AA TIPO 1 (1 OFICIAL + 1 AYUDANTE) (Albañileria) | C52: HR | D52: 0.4 | E52: 37863 | F52: 15145
B53: EQUIPO BASICO (HERRAMIENTA MENOR) | C53: UND | D53: 0.1 | E53: 3623 | F53: 362
B54: ACARREO INTERNO | C54: UND | D54: 0.1 | E54: 1897 | F54: 190
B55: ANDAMIO METALICO CERTIFICADO, INCLUYE ESCALERILLA CON BARANDAS Y PLATAFORMAS DE TRABAJO H=2.0M | C55: Un-Dia | D55: 0.03 | E55: 17302 | F55: 519
...

Sheet AIU
A1: ANALISIS DEL AIU
A3: Valor estimado de la Obra (Costo Directo). | D3: Valor | E3: =+'PRESUPUESTO OFICIAL (Entidad)'!I101 -> 304058577
A4: Plazo estimado de ejecución. | D4: Meses | E4: 3
A6: CAPITULO | B6: TIPO DE GASTO | C6: UN | D6: CANTIDAD. | E6: DEDICACION | F6: VLOR UNITARIO (mes) | G6: FACTOR PRESTACIONAL O FACTOR AIU (PARA INDIRECTOS) | H6: VALOR TOTAL | I6: SUMA | J6: PORCENTAJE
A7: 1 | B7: GASTOS GENERALES. | J7: =+J8 -> 0.19347475
A8: 1.1 | B8: MANO DE OBRA Y GASTOS DE OFICINA | I8: =SUM(H9:H14) -> 58827658 | J8: =+I8/$E$3 -> 0.19347475
B9: Ingeniero Director | C9: Un | D9: 1 | E9: 0.4 | F9: 6000000 | G9: =+'[175]Analisis Factor Prestacional'!$D$26 -> 0.5483 | H9: =+D9*E9*$E$4*F9*(1+G9) -> 11147760 | J9: =+H9/$E$3 -> 0.036663199
B10: Ingeniero Residente | C10: Un | D10: 1 | E10: 1 | F10: 4000000 | G10: =+'[175]Analisis Factor Prestacional'!$D$26 -> 0.5483 | H10: =+D10*E10*$E$4*F10*(1+G10) -> 18579600 | J10: =+H10/$E$3 -> 0.061105331
B11: Residente de Salud Ocupacional | C11: Un | D11: 1 | E11: 1 | F11: 3500000 | G11: =+'[175]Analisis Factor Prestacional'!$D$26 -> 0.5483 | H11: =+D11*E11*$E$4*F11*(1+G11) -> 16257150 | J11: =+H11/$E$3 -> 0.053467165
B12: Tecnologo electrico | C12: Un | D12: 1 | E12: 1 | F12: 2000000 | G12: =+'[175]Analisis Factor Prestacional'!$D$26 -> 0.5483 | H12: =+D12*E12*$E$4*F12*(1+G12) -> 9289800 | J12: =+H12/$E$3 -> 0.030552666
B13: Secretaria con prestaciones | C13: Un | D13: 1 | E13: 0.3 | F13: 1700000 | G13: =+G11 -> 0.5483 | H13: =+D13*E13*$E$4*F13*(1+G13) -> 2368899 | J13: =+H13/$E$3 -> 0.0077909297
B14: Contador | C14: Un | D14: 1 | E14: 0.15 | F14: =+F13 -> 1700000 | G14: =+G13 -> 0.5483 | H14: =+D14*E14*$E$4*F14*(1+G14) -> 1184449.5 | J14: =+H14/$E$3 -> 0.0038954649
A15: 2 | B15: GASTOS INDIRECTOS. | J15: =++J18+J25 -> 0.099247599
B16: LEGALIZACION
B17: AU ITERACION | G17: 1.3527
A18: 2.2 | B18: POLIZAS | I18: =SUM(H19:H24) -> 5758200.5 | J18: =+I18/$E$3 -> 0.0189378
B19: Seriedad de la Propuesta. | C19: % | D19: 0.0002 | F19: =+$E$3 -> 304058577 | G19: =+G17 -> 1.3527 | H19: =+F19*D19*G19 -> 82260.007 | J19: =+H19/$E$3 -> 0.00027054
B20: Cumplimiento | C20: % | D20: 0.0009 | F20: =+$E$3 -> 304058577 | G20: =+G19 -> 1.3527 | H20: =+F20*D20*G20 -> 370170.03 | J20: =+H20/$E$3 -> 0.00121743
B21: Estabilidad y calidad | C21: % | D21: 0.0058 | F21: =+$E$3 -> 304058577 | G21: =+G20 -> 1.3527 | H21: =+F21*D21*G21 -> 2385540.2 | J21: =+H21/$E$3 -> 0.00784566
B22: Pago de Salarios y Prestaciones Sociales | C22: % | D22: 0.0024 | F22: =+$E$3 -> 304058577 | G22: =+G21 -> 1.3527 | H22: =+F22*D22*G22 -> 987120.09 | J22: =+H22/$E$3 -> 0.00324648
B23: Responsabilidad Civil | C23: % | D23: 0.002 | F23: =+$E$3 -> 304058577 | G23: =+G22 -> 1.3527 | H23: =+F23*D23*G23 -> 822600.07 | J23: =+H23/$E$3 -> 0.0027054
B24: Calidad y correcto funcionamiento de los bienes | C24: % | D24: 0.0027 | F24: =+$E$3 -> 304058577 | G24: =+G23 -> 1.3527 | H24: =+F24*D24*G24 -> 1110510.1 | J24: =+H24/$E$3 -> 0.00365229
A25: 2.3 | B25: IMPUESTOS Y CONTRIBUCIONES | I25: =SUM(H28:H31) -> 24418883 | J25: =+I25/$E$3 -> 0.080309799
B26: Retencion en la fuente | C26: % | D26: 0.02 | F26: =+$E$3 -> 304058577 | G26: =+G24 -> 1.3527 | J26: =+H26/$E$3 -> 0
B27: IMPUESTO DE TIMBRE - CATATUMBO | C27: % | D27: 0.015 | F27: =+$E$3 -> 304058577 | G27: =+G26 -> 1.3527 | J27: =+H27/$E$3 -> 0
B28: Estampillas Pro - Universidad. | C28: % | D28: 0.005 | F28: =+$E$3 -> 304058577 | G28: =+G26 -> 1.3527 | H28: =+F28*D28*G28 -> 2056500.2 | J28: =+H28/$E$3 -> 0.0067635
B29: Gasto bancarios4x1000 y retiros | C29: % | D29: 0.004 | F29: =+$E$3 -> 304058577 | G29: =+G27 -> 1.3527 | H29: =+F29*D29*G29 -> 1645200.1 | J29: =+H29/$E$3 -> 0.0054108
B30: Industria y Comercio 3,7 x 1.000 sobre valor total | C30: % | D30: 0.00037 | F30: =+$E$3 -> 304058577 | G30: =+G28 -> 1.3527 | H30: =+F30*D30*G30 -> 152181.01 | J30: =+H30/$E$3 -> 0.000500499
B31: Contribución Contrato de Obra Pública | C31: % | D31: 0.05 | F31: =+F30 -> 304058577 | G31: =+G30 -> 1.3527 | H31: =+F31*D31*G31 -> 20565002 | J31: =+H31/$E$3 -> 0.067635
B32: TOTAL GASTOS INDIRECTOS DE ADMINISTRACION. | I32: =SUM(I8:I30) -> 89004742 | J32: =ROUND(SUM(J7:J31)/3,4) -> 0.2927
B33: IMPREVISTO | J33: 0
B34: UTILIDAD: | J34: 0.06
B35: A.I.U. | J35: =SUM(J32:J34) -> 0.3527
I38: NO MOVER | J38: =1+J35 -> 1.3527
B39: ALCALDIA DE MANIZALES. | D39: Base - Tope | E39: Porcentaje | F39: Vlor x Millón o fracción.
B40: Estampilla Pro-Hospital. | E40: 0.02
B41: Estampilla Pro-Universidad. | E41: 0.01
B42: Timbre | D42: 53000000 | E42: 0.0075
B43: Retención en la Fuente. | E43: 0.01
B44: Publicación Diario Oficial. | F44: 5530
...

Sheet INDICAR CÓDIGO DEL ITEM DE PAGO
B1: Formulario 1 - Propuesta económica - Documento tipo de selección abreviada de menor cuantía
B2: Versión: 1 del 21 de agosto de 2025
C5: [La entidad podrá utilizar este formato para la presentación de los análisis de precios unitarios el contratista en la oportunidad prevista en el numeral 8.2. del Documento Base]
D8: [NOMBRE DE LA ENTIDAD]
L9: VERSIÓN
D10: [NÚMERO DEL PROCESO]
L11: PÁGINA | M11: 1 | N11: DE | O11: 1
D13: ANALISIS DE PRECIOS UNITARIOS
L15: FECHA | M15: DD | N15: MM | O15: AA
C17: ITEMS DE LA PROPUESTA ECONÓMICA | I17: ITEMS NO PREVISTOS
C21: DATOS ESPECÍFICOS
C23: ITEM | D23: DESCRIPCIÓN | M23: UNIDAD | O23: CANTIDAD
C25: I. EQUIPO
C28: DESCRIPCIÓN | H28: MARCA | J28: TIPO | L28: TARIFA/HORA | M28: RENDIMIENTO | O28: Vr. UNITARIO
C32: SUBTOTAL $
C33: II. MATERIALES
C36: DESCRIPCIÓN | K36: UNIDAD | L36: CANTIDAD | M36: PRECIO UNIT. | O36: Vr. UNITARIO
C39: SUBTOTAL $ | O39: 0
C40: III. TRANSPORTES
C43: MATERIAL | J43: VOL. o PESO | K43: DISTANCIA | L43: M3 o Ton/Km | M43: TARIFA | O43: Vr. UNITARIO
C46: SUBTOTAL $
C47: IV. MANO DE OBRA
C50: TRABAJADOR | J50: JORNAL | K50: PRESTACIONES | L50: JORNAL TOTAL | M50: RENDIMIENTO | O50: Vr. UNITARIO
C55: SUBTOTAL $
C57: TOTAL COSTO DIRECTO $
C58: V. COSTOS INDIRECTOS
C61: Descripción | L61: Porcentaje | M61: Valor Total
C62: ADMINISTRACION
C63: IMPREVISTOS
C64: UTILIDAD
C65: SUBTOTAL $
C67: Precio Unitario Total Aproximado al peso $
H71: Firma
H72: Nombre:
H73: Representante Legal del Contratista o su Apoderado
H74: Matricula No. :
C76: OBSERVACIONES INTERVENTORÍA
C80: APROBACIÓN POR INTERVENTORÍA
C81: Nota 1: Cuando se trate de Análisis de precios unitarios correspondientes a ítems de la propuesta económica aprobada, el Interventor aprueba el desglose de los componentes manteniendo el mismo precio unitario de cada ítem, cumpliendo con las especificaciones de construcción vigentes para el proyecto.
C83: Nota 2: Cuando se trate de Análisis de precios unitarios de ítems no previstos, el Interventor aprueba el desglose y precio unitario de cada ítem no previsto, exigiendo la aplicación de los costos correspondientes a insumos y tarifas de la propuesta económica inicial cuando estén contemplados, cumpliendo con las especificaciones de construcción vigente para el proyecto.
...
