Workbook

Sheet ANEXO 1 - COTIZACIONES
A1: ANEXO 1 - ANALISIS DE COTIZACIONES
C2: Prestar el servicio de caracterización de aguas residuales no domésticas (ARnD), generadas en los laboratorios del área de criminalística de las sedes de la Fiscalía General de la Nación adscritas a la Subdirección Regional de Apoyo Nororiental, específicamente en la Seccional Santander – Sede Principal Bucaramanga y la Seccional Norte de Santander – Sede Principal Cúcuta, en cumplimiento de la normatividad ambiental vigente y los lineamientos institucionales.
A3: NECESIDAD | F3: COTIZACION 1 ECOSAM | H3: COTIZACION 2 INDUANALISIS | J3: COTIZACION 3 HIDROINGENIERIA | L3: VALOR COTIZACIÓN HÁBIL MÁS BAJA | M3: PROMEDIO | N3: VALOR COTIZACIÓN HÁBIL MÁS ALTA | O3: PORCENTAJE DIFERENCIAL (BAJA/PROMEDIO) | P3: MEDIA ARITMETICA BAJA | R3: ANALISIS DE COTIZACIONES
A4: ÍTEM | B4: DESCRIPCIÓN BIEN O SERVICIO | C4: UNIDAD DE MEDIDA | D4: CANTIDAD | F4: VALOR UNITARIO SIN IVA | H4: VALOR UNITARIO SIN IVA | J4: VALOR UNITARIO SIN IVA | L4: VALOR UNITARIO SIN IVA | M4: VALOR UNITARIO SIN IVA | N4: VALOR UNITARIO SIN IVA | O4: 40% > / < | P4: VALOR UNITARIO SIN IVA | R4: VALOR UNITARIO SIN IVA | S4: VALOR IVA | T4: VALOR UNITARIO INCLUIDO IVA | U4: VALOR TOTAL INCLUIDO IVA
A5: 1 | B5: Sede Principal Bucaramanga
A6: 1.1 | B6: Servicio de caracterización de aguas residuales no domésticas (ARnD), que incluye toma de muestra, análisis de laboratorio acreditado por el IDEAM y entrega de informe técnico con resultados. | C6: UND | D6: 1 | F6: 3625507.5 | H6: =4960313 -> 4960313 | J6: 4079978 | L6: =ROUND(MIN(F6,H6,J6),2) -> 3625507.5 | M6: =ROUND(AVERAGE(F6,H6,J6),2) -> 4221932.8 | N6: =+MAX(F6,H6,J6) -> 4960313 | O6: =+(N6/L6)-1 -> 0.36817068 | P6: =+ROUND(AVERAGE(L6,M6),2) -> 3923720.1 | R6: =+ROUND(M6,0) -> 4221933 | S6: =ROUND(R6*19%,0) -> 802167 | T6: =+S6+R6 -> 5024100 | U6: =+T6*D6 -> 5024100
A7: 2 | B7: Sede Principal Cúcuta
A8: 2.1 | B8: Servicio de caracterización de aguas residuales no domésticas (ARnD), que incluye toma de muestra, análisis de laboratorio acreditado por el IDEAM y entrega de informe técnico con resultados. | C8: UND | D8: 1 | F8: =5647507.45 -> 5647507.5 | H8: =7110313 -> 7110313 | J8: 5304978 | L8: =ROUND(MIN(F8,H8,J8),2) -> 5304978 | M8: =ROUND(AVERAGE(F8,H8,J8),2) -> 6020932.8 | N8: =+MAX(F8,H8) -> 7110313 | O8: =+(N8/L8)-1 -> 0.34030961 | P8: =+ROUND(AVERAGE(L8,M8),2) -> 5662955.4 | R8: =+ROUND(M8,0) -> 6020933 | S8: =ROUND(R8*19%,0) -> 1143977 | T8: =+S8+R8 -> 7164910 | U8: =+T8*D8 -> 7164910
A9: TOTAL | U9: =SUM(U5:U8) -> 12189010
B11: NOTAS:
B12: 1) Se realizó el estudio con 3 cotizaciones de empresas del mercado.
B13: 2) Para establecer el valor del mercado; se utiliza la formula promedio
B14: 3) En el presente análisis se aplicó el procedimiento de aproximación generalmente aceptado por las reglas matemáticas denominado redondeo, que consiste en acercar los valores decimales al número entero más aproximado (esto es, si el tercer decimal es menor que 5, el segundo decimal se mantiene; si el tercer decimal es igual o mayor que 5, el segundo decimal se incrementa en uno)

Sheet ANEXO 2 - PROY COSTOS
A1: ANEXO 2 - PROYECCION COSTOS
C2: Prestar el servicio de caracterización de aguas residuales no domésticas (ARnD), generadas en los laboratorios del área de criminalística de las sedes de la Fiscalía General de la Nación adscritas a la Subdirección Regional de Apoyo Nororiental, específicamente en la Seccional Santander – Sede Principal Bucaramanga y la Seccional Norte de Santander – Sede Principal Cúcuta, en cumplimiento de la normatividad ambiental vigente y los lineamientos institucionales.
A3: NECESIDAD | F3: ANALISIS COTIZACIONES | H3: PROYECCION COSTOS 2024
A4: ÍTEM | B4: DESCRIPCIÓN BIEN O SERVICIO | C4: UNIDAD DE MEDIDA | D4: CANTIDAD | F4: VALOR UNITARIO SIN IVA | H4: VALOR UNITARIO SIN IVA | I4: VALOR IVA | J4: VALOR UNITARIO INCLUIDO IVA | K4: VALOR TOTAL INCLUIDO IVA
A5: ='ANEXO 1 - COTIZACIONES'!A5 -> 1 | B5: ='ANEXO 1 - COTIZACIONES'!B5 -> Sede Principal Bucaramanga
A6: ='ANEXO 1 - COTIZACIONES'!A6 -> 1.1 | B6: ='ANEXO 1 - COTIZACIONES'!B6 -> Servicio de caracterización de aguas residuales no domésticas (ARnD), que incluye toma de muestra, análisis de laboratorio acreditado por el IDEAM y entrega de informe técnico con resultados. | C6: ='ANEXO 1 - COTIZACIONES'!C6 -> UND | D6: ='ANEXO 1 - COTIZACIONES'!D6 -> 1 | F6: =+'ANEXO 1 - COTIZACIONES'!R6 -> 4221933 | H6: =+F6 -> 4221933 | I6: =ROUND(H6*19%,0) -> 802167 | J6: =+I6+H6 -> 5024100 | K6: =+J6*D6 -> 5024100
A7: ='ANEXO 1 - COTIZACIONES'!A7 -> 2 | B7: ='ANEXO 1 - COTIZACIONES'!B7 -> Sede Principal Cúcuta
A8: ='ANEXO 1 - COTIZACIONES'!A8 -> 2.1 | B8: ='ANEXO 1 - COTIZACIONES'!B8 -> Servicio de caracterización de aguas residuales no domésticas (ARnD), que incluye toma de muestra, análisis de laboratorio acreditado por el IDEAM y entrega de informe técnico con resultados. | C8: ='ANEXO 1 - COTIZACIONES'!C8 -> UND | D8: ='ANEXO 1 - COTIZACIONES'!D8 -> 1 | F8: =+'ANEXO 1 - COTIZACIONES'!R8 -> 6020933 | H8: =+F8 -> 6020933 | I8: =ROUND(H8*19%,0) -> 1143977 | J8: =+I8+H8 -> 7164910 | K8: =+J8*D8 -> 7164910
A9: TOTAL | K9: =SUM(K5:K8) -> 12189010
B11: NOTAS:
B12: 1) Para establecer los valores del mercado, se tomaron los valores del análisis de cotizaciones
B13: 2) En el presente análisis se aplicó el procedimiento de aproximación generalmente aceptado por las reglas matemáticas denominado redondeo, que consiste en acercar los valores decimales al número entero más aproximado (esto es, si el tercer decimal es menor que 5, el segundo decimal se mantiene; si el tercer decimal es igual o mayor que 5, el segundo decimal se incrementa en uno)

Sheet ANEXO 3 - EST SECTOR
A1: ANEXO 3 - ESTUDIO DEL SECTOR
C2: Prestar el servicio de caracterización de aguas residuales no domésticas (ARnD), generadas en los laboratorios del área de criminalística de las sedes de la Fiscalía General de la Nación adscritas a la Subdirección Regional de Apoyo Nororiental, específicamente en la Seccional Santander – Sede Principal Bucaramanga y la Seccional Norte de Santander – Sede Principal Cúcuta, en cumplimiento de la normatividad ambiental vigente y los lineamientos institucionales.
A3: NECESIDAD | F3: ESTUDIO DEL SECTOR
A4: ÍTEM | B4: DESCRIPCIÓN BIEN O SERVICIO | C4: UNIDAD DE MEDIDA | D4: CANTIDAD | F4: VALOR UNITARIO SIN IVA | G4: VALOR IVA | H4: VALOR UNITARIO INCLUIDO IVA | I4: VALOR TOTAL INCLUIDO IVA
A5: ='ANEXO 1 - COTIZACIONES'!A5 -> 1 | B5: ='ANEXO 1 - COTIZACIONES'!B5 -> Sede Principal Bucaramanga
A6: ='ANEXO 1 - COTIZACIONES'!A6 -> 1.1 | B6: ='ANEXO 1 - COTIZACIONES'!B6 -> Servicio de caracterización de aguas residuales no domésticas (ARnD), que incluye toma de muestra, análisis de laboratorio acreditado por el IDEAM y entrega de informe técnico con resultados. | C6: ='ANEXO 1 - COTIZACIONES'!C6 -> UND | D6: 1 | F6: =+'ANEXO 2 - PROY COSTOS'!H6 -> 4221933 | G6: =ROUND(F6*19%,0) -> 802167 | H6: =+G6+F6 -> 5024100 | I6: =+H6*D6 -> 5024100
A7: ='ANEXO 1 - COTIZACIONES'!A7 -> 2 | B7: ='ANEXO 1 - COTIZACIONES'!B7 -> Sede Principal Cúcuta
A8: ='ANEXO 1 - COTIZACIONES'!A8 -> 2.1 | B8: ='ANEXO 1 - COTIZACIONES'!B8 -> Servicio de caracterización de aguas residuales no domésticas (ARnD), que incluye toma de muestra, análisis de laboratorio acreditado por el IDEAM y entrega de informe técnico con resultados. | C8: ='ANEXO 1 - COTIZACIONES'!C8 -> UND | D8: 1 | F8: =+'ANEXO 2 - PROY COSTOS'!H8 -> 6020933 | G8: =ROUND(F8*19%,0) -> 1143977 | H8: =+G8+F8 -> 7164910 | I8: =+H8*D8 -> 7164910
A9: TOTAL | I9: =SUM(I5:I8) -> 12189010
B11: NOTAS:
B12: 1) Para establecer los valores del mercado, se tomaron los valores del análisis de cotizaciones
B13: 2) En el presente análisis se aplicó el procedimiento de aproximación generalmente aceptado por las reglas matemáticas denominado redondeo, que consiste en acercar los valores decimales al número entero más aproximado (esto es, si el tercer decimal es menor que 5, el segundo decimal se mantiene; si el tercer decimal es igual o mayor que 5, el segundo decimal se incrementa en uno)
