Workbook
Name \X: [0]!ERR
Name \X: [0]!ERR
Name \X: [0]!ERR
Name \X: [0]!ERR
Name \X: [0]!ERR
Name \X: [0]!ERR
Name \X: [0]!ERR
Name \X: [0]!ERR
Name \X: [0]!ERR
Name \X: [0]!ERR
Name \X: [0]!ERR
Name \X: [0]!ERR
Name \X: [0]!ERR
Name \X: [0]!ERR
Name \X: [0]!ERR
Name \X: [0]!ERR
Name \X: [0]!ERR
Name \X: [0]!ERR
Name \X: [0]!ERR
Name \X: [0]!ERR
Name \X: [0]!ERR
Name \X: [0]!ERR
Name \X: [0]!ERR
Name \X: [0]!ERR
Name \X: [0]!ERR
Name \X: [0]!ERR
Name \X: [0]!ERR
Name \X: [0]!ERR
Name \X: [0]!ERR
Name \X: [0]!ERR
Name \X: [0]!ERR
Name \X: [0]!ERR
Name \X: [0]!ERR
Name \X: [0]!ERR
Name \X: [0]!ERR
Name \X: [0]!ERR
Name \X: [0]!ERR
Name \X: [0]!ERR
Name \X: [0]!ERR
Name \X: [0]!ERR
Name \X: [0]!ERR
Name \X: [0]!ERR
Name \X: [0]!ERR
Name \X: [0]!ERR
Name \X: [0]!ERR
Name \X: [0]!ERR
Name \X: [0]!ERR
Name \X: [0]!ERR
Name \X: [0]!ERR
Name \X: [0]!ERR
Name \X: [0]!ERR
Name \X: [0]!ERR
Name \X: [0]!ERR
Name \X: [0]!ERR
Name \X: [0]!ERR
Name \X: [0]!ERR
Name \X: [0]!ERR
Name \X: [0]!ERR
Name \X: [0]!ERR
Name \X: [0]!ERR

Sheet INS
A1: CONSTRUCCION Y DOTACION REGIONAL SUR NEIVA SEGUNDA ETAPA
A2: INSUMOS | I2: ALQUILER
A3: CONCRETOS | N3: 2017
A4: CEMENTO GRIS | C4: KG | D4: 590
A5: CEMENTO BLANCO | C5: KG | D5: =ROUND((44900/40),0) -> 1123 | I5: MEZCLADORA 3BT | K5: DD | L5: 98600
A6: CONCRETO 4000 PSI GRAVA COMUN | C6: M3 | D6: =+[25]BASICOS.!H53 -> 415384 | E6: 435759 | I6: CARROTANQUE IRRIGADOR | K6: HR | L6: 35000
A7: CONCRETO 3000 PSI GRAVA COMUN | C7: M3 | D7: =+[25]BASICOS.!H17 -> 344623 | E7: 399590 | I7: COMPRESOR | K7: DD | L7: 30000
A8: CONCRETO 2500 PSI GRAVA COMUN | C8: M3 | D8: =+[25]BASICOS.!H72 -> 320023 | I8: COMPACTADOR DE LLANTA | K8: HR | L8: 75400
A9: CONCRETO 2000 PSI GRAVA COMUN | C9: M3 | D9: =+[25]BASICOS.!H92 -> 295349 | I9: VOLQUETA VIAJE 7 M3 CARGADO (RELLENO MATERIAL SELECCIONADO). | K9: VIAJE | L9: 126000
A10: CONCRETO 4000 PSI IMPERMEABLIZADO | C10: M3 | D10: =435759+30000 -> 465759 | I10: VIBROCOMPACTADOR GRANDE. | K10: HR | L10: 85000
A11: CONCRETO ASFALTICO MDC-2 | C11: M3 | D11: 278500
A12: MORTEROS
A13: MORTERO 1:3 | C13: M3 | D13: 348925 | E13: 349844 | I13: MATERIAL DE PRESTAMO TIPO SANGRE DE TORO | K13: M3 | L13: 8000
A14: MORTERO 1:4 | C14: M3 | D14: 302151 | E14: 300773 | I14: RETROEXCAVADORA | K14: HOR | L14: 87000
A15: MORTERO 1:5 | C15: M3 | D15: =+[25]BASICOS.!H148 -> 263517 | E15: 266181 | I15: VOLQUETA VIAJE 7 M3 DE RETIRO A ESCOMBRERA. | K15: VIAJE | L15: 120000 | M15: 140000
A16: MORTERO IMPERMEABILIZADO 1:3 | C16: M3 | D16: 528574
A18: AGREGADOS PETREOS | I18: VOLQUETA VIAJE 7 M3 DESDE FUENTE MATERIAL | K18: VIAJE | L18: 140000
A19: GRAVILLA | C19: M3 | D19: 98600 | I19: MOTONIVELADORA | K19: HOR | L19: 139200
A20: GRAVILLA FINA DE 1/2" | C20: M3 | D20: 78184 | I20: VOLQUETA ACARREO | K20: M3 | L20: 1250
A21: GRAVILLA TRITURADA DE 3/4" | C21: M3 | D21: =+ROUND(76038*1.16,0) -> 88204 | I21: MOTOSIERRA | K21: DIA | L21: 30392
A22: ARENA TRITURADA | C22: M3 | D22: =+ROUND(49590*1.16,0) -> 57524
A23: GRANITO MARMOL BLANCO N° 2 X 35 KG | C23: BT | D23: 31400 | E23: =98000*0.13 -> 12740
A24: ARENA FINA | C24: M3 | D24: 44080 | I24: VIBROCOMPACTADOR | K24: HR | L24: 108460
A25: ARENA DE PEÑA | C25: M3 | D25: 69600 | I25: CARROTANQUE AGUA | K25: DIA | L25: 285000
A26: ARENA DE RIO | C26: M3 | D26: 132472 | I26: VOLQUETA ACARREO | K26: M3 | L26: 1250
A27: ARENA LAVADA DE PEÑA | C27: M3 | D27: 61721 | I27: TERMINADORA | K27: HR | L27: 106000
A28: ARENA LAVADA DE RIO | C28: M3 | D28: 128000 | I28: RANA DIESEL | K28: DIA | L28: 37000
A29: BASE GRANULAR B 200 | C29: M3 | D29: 46168 | I29: FORMALETA METALICA | K29: DIA | L29: 1100
A30: BASE GRANULAR B 200 INVIAS | C30: M3 | D30: 73080 | I30: ESCALERA | K30: DIA | L30: 22000
A31: GRAVILLA DE RIO | C31: M3 | D31: 98600 | I31: MARTILLO DEMOLEDOR | K31: DIA | L31: 60000
A32: MIXTO | C32: M3 | D32: 34800 | I32: ANDAMIO TUBULAR | K32: DIA | L32: 2000 | N32: 2040 | O32: COTIZADO
A33: PIEDRA MEDIA ZONGA | C33: M3 | D33: 55680 | I33: VIBRADOR CONCRETO | K33: DIA | L33: 28000
A34: RAJON DE PIEDRA | C34: M3 | D34: 58334 | I34: BOMBA CONCRETO | K34: M3 | L34: 46400
A35: RECEBO COMUN | C35: M3 | D35: 32000 | I35: PULIDORA | K35: DIA | L35: 16000
A36: SUB BASE GRANULAR B 400 IDU | C36: M3 | D36: 15080 | I36: TALADRO | K36: DIA | L36: 10000
A37: SUB BASE GRANULAR INVIAS | C37: M3 | D37: 32500 | I37: ESTACION TOTAL | K37: DIA | L37: 55000
A38: AGUA | C38: LT | D38: 20 | I38: NIVEL DE PRECISION | K38: DIA | L38: 40000
A39: TIERRA NEGRA | C39: M3 | D39: 60000 | I39: FORMALETA EN MADERA | K39: M2 | L39: 25000
A40: MADERAS ASERRADAS | I40: CORTADORA DE LADRILLO | K40: DIA | L40: 33000
A41: TABLA BURRA 10 x 2,2 a 2,7 CM x 2,90 ORDINARIO | C41: UND | D41: 7540
...

Sheet INSUMOS
A2: EQUIPOS Y HERRAMIENTAS | F2: PERIODO
F3: 2006 | G3: 2007 | H3: 2008 | I3: 2009 | J3: 2010 | K3: 2011 | L3: 2012 | M3: 2013 | N3: 2014 | O3: 2015 | P3: 2017 | Q3: 2018 | R3: 2019 | S3: 2022
A4: CÓDIGO | B4: DESCRIPCIÓN | C4: UNIDAD | D4: VALOR $ | E4: FECHA | F4: 408000 | G4: 433700 | H4: 516500 | I4: 556218 | J4: 580400 | K4: 599200 | L4: 634500 | M4: 660000 | N4: 689090 | O4: 718304 | P4: 737717 | Q4: =ROUND(P4*1.07,0) -> 789357
A5: CAN | B5: Apisonador tipo canguro | C5: Dia | D5: =+Q5 -> 95693 | F5: 80000 | G5: 85100 | H5: 90000 | I5: 90000 | J5: 90000 | K5: 93600 | L5: 93600 | M5: 97812 | N5: 75000 | O5: =+N5*1.046 -> 78450 | P5: =+O5*1.14 -> 89433 | Q5: =ROUND(P5*1.07,0) -> 95693
A6: RANA | B6: Apisonador tipo rana | C6: Dia | D6: =+Q6 -> 63796 | F6: 34000 | G6: 37300 | H6: 40000 | I6: 40000 | J6: 40000 | K6: 41600 | L6: 41600 | M6: 43472 | N6: 50000 | O6: =+N6*1.046 -> 52300 | P6: =+O6*1.14 -> 59622 | Q6: =ROUND(P6*1.07,0) -> 63796
A7: CGR | B7: Camión grua | C7: Dia | D7: =+Q7 -> 318978 | F7: 100000 | G7: 106300 | H7: 115000 | I7: 130000 | J7: 130000 | K7: 135200 | L7: 135200 | M7: 141284 | N7: 250000 | O7: =+N7*1.046 -> 261500 | P7: =+O7*1.14 -> 298110 | Q7: =ROUND(P7*1.07,0) -> 318978
A8: CAM | B8: Camioneta transporte menor | C8: Viaje | D8: =+Q8 -> 31898 | F8: 10000 | G8: 10700 | H8: 15000 | I8: 20000 | J8: 20000 | K8: 20800 | L8: 20800 | M8: 21736 | N8: 25000 | O8: =+N8*1.046 -> 26150 | P8: =+O8*1.14 -> 29811 | Q8: =ROUND(P8*1.07,0) -> 31898
A9: COR | B9: Cortadora de disco diamante | C9: Día | D9: 65000 | F9: 14000 | G9: 16000 | H9: 20000 | I9: 20000 | J9: 3000 | K9: 20800 | L9: 3120 | M9: 3260.4 | N9: 5000 | O9: =+N9*1.046 -> 5230 | P9: 7289 | Q9: =ROUND(P9*1.07,0) -> 7799
A10: COM | B10: Equipo compresor 120 HP y martillo neumático | C10: Hora | D10: 95000 | F10: 40000 | G10: 42600 | H10: 45000 | I10: 50000 | J10: 60000 | K10: 52000 | L10: 62400 | M10: 65208 | N10: 70000 | O10: 75000 | P10: 75000 | Q10: 120000
A11: TOP | B11: Equipo de topografía. | C11: Día | D11: 160000 | F11: 40000 | G11: 53200 | H11: 70000 | I11: 80000 | J11: 80000 | K11: 83200 | L11: 83200 | M11: 86944 | N11: 90856.48 | O11: =+N11*1.046 -> 95035.878 | P11: =+O11*1.14 -> 108340.9 | Q11: =ROUND(P11*1.07,0) -> 115925
A12: DIF | B12: Equipo diferencial para 500kg | C12: Día | D12: =+Q12 -> 94189 | F12: 40000 | G12: 53200 | H12: 60000 | I12: 60000 | J12: 65000 | K12: 62400 | L12: 67600 | M12: 70642 | N12: 73820.89 | O12: =+N12*1.046 -> 77216.651 | P12: =+O12*1.14 -> 88026.982 | Q12: =ROUND(P12*1.07,0) -> 94189
A13: FORPZ | B13: Formaleta metálica para pozo | C13: Día | D13: 115000 | F13: 24000 | G13: 26600 | H13: 30000 | I13: 35000 | J13: 40000 | K13: 36400 | L13: 41600 | M13: 43472 | N13: 45428.24 | O13: =+N13*1.046 -> 47517.939 | P13: =+O13*1.14 -> 54170.451 | Q13: 80000
A14: FORPV | B14: Formaleta maestra para pavimentos | C14: Día | D14: 25000
A15: HM5 | B15: Herramienta Menor (5% de la mano de obra). | C15: % | D15: 0.05
A16: HM3 | B16: Herramienta Menor (3% de la mano de obra). | C16: % | D16: 0.03
A17: HM10 | B17: Herramienta Menor (10% de la mano de obra). | C17: % | D17: 0.1
A18: MEZ | B18: Mezcladora mecánica (1.0 bultos) | C18: Dia | D18: 80000 | F18: 40000 | G18: 42600 | H18: 45000 | I18: 50000 | J18: 60000 | K18: 52000 | L18: 62400 | M18: 65208 | N18: 68142.36 | O18: =+N18*1.046 -> 71276.909 | P18: 55000 | Q18: 55000
A19: MOT | B19: Motobomba 3" Autocebante Diesel | C19: Dia | D19: =+Q19 -> 41000 | O19: 50000 | P19: 50000 | Q19: 41000
A20: MOS | B20: Motosierra | C20: Dia | D20: =+Q20 -> 53000 | O20: 50000 | P20: 50000 | Q20: 53000
A21: RETROLL | B21: Retroexcavadora de llanta | C21: Hora | D21: 135000 | F21: 60000 | G21: 63800 | H21: 80000 | I21: 100000 | J21: 100000 | K21: 104000 | L21: 104000 | M21: 108680 | N21: 113570.6 | O21: =+N21*1.046 -> 118794.85 | P21: =+O21*1.14 -> 135426.13 | Q21: 130000
A22: RETROOR | B22: Retroexcavadora de oruga | C22: Hora | D22: 180000 | F22: 80000 | G22: 85100 | H22: 120000 | I22: 130000 | J22: 130000 | K22: 135200 | L22: 135200 | M22: 141284 | N22: 147641.78 | O22: =+N22*1.046 -> 154433.3 | P22: =+O22*1.14 -> 176053.96 | Q22: 180000
A23: VIB | B23: Vibrocompactador 10Ton | C23: Hora | D23: =+Q23 -> 110000 | F23: 40000 | G23: 53200 | H23: 60000 | I23: 70000 | J23: 70000 | K23: 72800 | L23: 72800 | M23: 76076 | N23: 79499.42 | O23: =+N23*1.046 -> 83156.393 | P23: =+O23*1.14 -> 94798.288 | Q23: 110000
A24: VOL | B24: Volqueta de 5M3 | C24: Hora | D24: =+Q24 -> 63000 | F24: 40000 | G24: 42600 | H24: 60000 | I24: 60000 | J24: 60000 | K24: 62400 | L24: 62400 | M24: 65208 | N24: 68142.36 | O24: =+N24*1.046 -> 71276.909 | P24: =+O24*1.14 -> 81255.676 | Q24: 63000
A25: MOTO | B25: Motoniveladora | C25: Hora | D25: =+Q25 -> 140000 | J25: 100000 | K25: 0 | L25: 104000 | M25: 108680 | N25: 113570.6 | O25: =+N25*1.046 -> 118794.85 | P25: =+O25*1.14 -> 135426.13 | Q25: 140000
A26: EPH | B26: Equipo Compresor para Prueba Hidrostática | C26: Día | D26: =+Q26 -> 695549 | J26: 480000 | K26: 480000 | L26: 499200 | M26: 521664 | N26: 545138.88 | O26: =+N26*1.046 -> 570215.27 | P26: =+O26*1.14 -> 650045.41 | Q26: =ROUND(P26*1.07,0) -> 695549
A27: CTI | B27: Carro tanque irrigador de emulsion asfaltica | C27: Hora | D27: 60000 | J27: 350000 | K27: 0 | L27: 364000 | M27: 380380 | N27: 397497.1 | O27: =+N27*1.046 -> 415781.97 | P27: =+O27*1.14 -> 473991.44 | Q27: =ROUND(P27*1.07,0) -> 507171
A28: TAL | B28: Taladro 1/2" Percutor Alámbrico (madera y metal) | C28: Día | D28: =+Q28 -> 28800 | Q28: =24000*1.2 -> 28800
A29: VIBRO | B29: Vibrador de mezcla | C29: Día | D29: 55000
A30: COMPP | B30: Equipo compresor (barrido y soplado) | C30: Día | D30: 80000
A31: SOL | B31: Equipo de soldadura | C31: Día | D31: 125000
A32: CTA | B32: Carrotanque de agua | C32: Viaje | D32: =+Q32 -> 362265 | J32: 250000 | K32: 0 | L32: 260000 | M32: 271700 | N32: 283926.5 | O32: =+N32*1.046 -> 296987.12 | P32: =+O32*1.14 -> 338565.32 | Q32: =ROUND(P32*1.07,0) -> 362265
A37: MATERIALES
A38: COD | B38: DESCRIPCION | C38: UNIDAD | D38: Vr. Sin IVA | E38: Vr. Con IVA | F38: TRANSPORTE
E39: 0.19 | F39: DIST/. (Km) | G39: TARIFA m3-ton/km
A40: MATERIAL DE PLAYA - PRESTAMO
A41: AGUA | B41: Agua | C41: Lt | E41: 20
A42: AF | B42: Arena fina de río. | C42: m3 | E42: 60000 | F42: 15 | G42: 1500
A43: AGR | B43: Arena triturada de planta, pasante 3/8" | C43: m3 | E43: 122570 | F43: 60.5 | G43: 1500
A44: AM | B44: Mixto (50% arena + 50% gravilla). | C44: m3 | E44: 115430 | F44: 60.5 | G44: 1500
A45: GRA1/2 | B45: Gravilla triturada de Ø1/2". | C45: m3 | E45: 138040 | F45: 60.5 | G45: 1500
...

Sheet Mem_CALCULO
BL1: MANUAL | BN1: 0 | BP1: RELL. MME | BR1: 0.7095
A2: RED DE ALCANTARILLADO SANITARIO. EMPATE DE LOS COLECTORES EN LOS POZOS POR COTA BATEA | BL2: MECANICA | BN2: 0.8 | BP2: RELL. RECEBO | BR2: 0.2905
BL3: CONGLOMERADO | BN3: 0.17 | BR3: =SUM(BR1:BR2) -> 1
BL4: ROCA | BN4: 0.03
BN5: =SUM(BN1:BN4) -> 1
C7: 42.69
A8: TRAMO | C8: Lon. (m) | D8: ABSCISA (Km + m) | F8: COEFICIENTE DE RUGOSIDAD | G8: Q. Diseño (L/s) | H8: Q. Diseño (m3/s) | I8: PENDIENTE TERRENO | J8: PENDIENTE TUBERIA | K8: DIAMETRO TEORICO | M8: DIAMETRO NOMINAL | N8: DIAMETRO REAL EXTERNO | O8: DIAMETRO REAL INTERNO | P8: Qll (m3/s) | Q8: Vll (m/s) | R8: Q/Qll | S8: V/Vll | T8: d/D | U8: R/Ro | V8: V (m/s) | W8: V2/2g | X8: R (m) | Y8: d (m) | Z8: E (m) | AA8: H/D | AB8: H (m) | AC8: FUERZA TRACTIVA τ (N/m2) | AD8: NF | AE8: TIPO DE FLUJO | AF8: PERDIDAS | AK8: COTA RASANTE | AM8: COTA CLAVE | AO8: COTA BATEA | AQ8: COTA LÁMINA | AS8: COTA ENERGÍA | AU8: PROF. A CLAVE | AW8: PROF. A BATEA | AY8: DIFERENCIA DE BATEA | AZ8: OBSERVACIONES | BH8: REDES DE COLECTORES - EJES DE VIA | CS8: DOMICILIARIAS | DU8: POZOS DE INSPECCIÓN
A9: De | B9: A | D9: INICIAL | E9: FINAL | F9: n | I9: (%) | J9: (%) | K9: m | L9: pulg. | M9: pulg. | N9: m | O9: m | AG9: h. tran. (m) | AH9: Rc/D | AI9: h. Curv. (m) | AJ9: h. Total (m) | AK9: De | AL9: A | AM9: De | AN9: A | AO9: De | AP9: A | AQ9: De | AR9: A | AS9: De | AT9: A | AU9: De | AV9: A | AW9: De | AX9: A | AZ9: MATERIAL | BA9: ANÁLISIS DE CAPACIDAD | BB9: ANÁLISIS DE VELOCIDAD | BC9: ANÁLISIS DE CAPACIDAD DE ARRASTRE | BD9: ANÁLISIS DE PROFUNDIDAD DE EXCAVACIÓN | BF9: OBSERVACIONES Y RECOMENDACIONES | BH9: DIRECCIÓN TRAMO | BI9: DE: | BJ9: A: | BK9: LONG. Eje-Eje | BL9: LONG. Borde Ext. PZ | BM9: ø Tubería | BN9: L. Tubería Borde Int.PZ | BO9: ANCHO | BP9: PROF. BATEA 1 | BQ9: PROF. BATEA 2 | BR9: PROMEDIO+0.10 | BS9: Vol. Total Excav. RED | BT9: Entibado Tipo I (0-2 m) | BU9: Entibado Tipo II (0-4 m) | BV9: Entibado Tipo III (0-5 m) | BW9: Exca. Manual | BX9: Exc. Mecánica | BY9: Exc .Conglomerado | BZ9: Exc .Roca | CA9: - Vol. TUBO | CB9: Vía intervenida | CC9: Tipo de Pavimento | CD9: Reposición Pavimento Flexible | CE9: Reposición Pavimento Rígido | CF9: Espesor Placa | CG9: Volumen placa de pavimento | CH9: Espesor Base y Sub-base | CI9: Vol. Base | CJ9: Vol. Sub-base | CK9: RELLENO EXCEDENTE TOTAL | CL9: Espesor Cama de arena | CM9: Relleno Tipo I ARENA | CN9: Relleno Tipo II RECEBO | CO9: Relleno Tipo III M.M.E. | CP9: Retiro de Material sobrante | CS9: ø. TUBO | CU9: Total Domiciliarias por tramo | CV9: Long. Unit. Domiciliarias | CW9: Long. Total Dom. D:160 mm | CX9: Ancho. Exca. Domiciliarias | CY9: Prof. Prom. Domiciliarias | CZ9: Excavación Manual Domiciliarias | DA9: Entibado Tipo I (0-2 m) | DB9: Entibado Tipo II (0-4 m) | DC9: Entibado Tipo III (0-5 m) | DD9: - Vol. TUBO | DE9: Área total vía intervenida | DF9: Tipo de Pavimento | DG9: Reposición Pavimento Flexible | DH9: Reposición Pavimento Rígido | DI9: Espesor Placa | DJ9: Volumen placa de pavimento | DK9: Espesor Base y Sub-base | DL9: Vol. Base | DM9: Vol. Sub-base | DN9: RELLENO EXCEDENTE TOTAL | DO9: Espesor Cama de arena | DP9: Relleno Tipo I ARENA | DQ9: Relleno Tipo II RECEBO | DR9: Relleno Tipo III M.M.E. | DS9: Retiro de Material Sobrante | DU9: NOMBRE PZ | DV9: Profundidad | DW9: Diámetro Interno PZ | DX9: Diámetro Externo PZ | DY9: -Vol. POZO | DZ9: Ancho Lado 1 | EA9: Ancho Lado 2 | EB9: Vol. Excavación | EC9: Vol. Neto Excavación | ED9: Vol. Relleno Recebo Compactado (55%) | EE9: Vol. Relleno M.M.E. (45%) | EF9: Retiro de Material Sobrante
A10: [1] | B10: [2] | C10: [3] | D10: [4] | E10: [5] | F10: [6] | G10: [7] | H10: [8] | I10: [8-1] | J10: [9] | K10: [10] | L10: [11] | M10: [12] | N10: [13-1] | O10: [13] | P10: [14] | Q10: [15] | R10: [16] | S10: [17] | T10: [18] | U10: [19] | V10: [20] | W10: [21] | X10: [22] | Y10: [23] | Z10: [24] | AA10: [25] | AB10: [26] | AC10: [27] | AD10: [28] | AE10: [29] | AF10: --- | AG10: [30] | AH10: [31] | AI10: [32] | AJ10: [33] | AK10: [34] | AL10: [35] | AM10: [36] | AN10: [37] | AO10: [38] | AP10: [39] | AQ10: [40] | AR10: [41] | AS10: [42] | AT10: [43] | AU10: [44] | AV10: [45] | AW10: [46] | AX10: [47] | BD10: Inicial | BE10: Final | BF10: [48] | BL10: m | BO10: m | BP10: m | BQ10: m | BR10: m | BS10: m3 | BT10: m2 | BU10: m2 | BV10: m2 | BW10: m3 | BX10: m3 | BY10: m3 | BZ10: m3 | CA10: m3 | CB10: m2 | CC10: m2 | CD10: m2 | CE10: m2 | CG10: m3 | CH10: m | CI10: m3 | CJ10: m3 | CK10: m3 | CM10: m3 | CN10: m3 | CO10: m3 | CS10: inch | CT10: mm | CU10: Und. | DD10: m3 | DE10: m2 | DF10: m2 | DG10: m2 | DH10: m2 | DJ10: m3 | DK10: m | DL10: m3 | DM10: m3 | DN10: m3 | DO10: (m) | DP10: m3 | DQ10: m3 | DR10: m3 | DS10: m3 | DU10: Und. | DV10: (m) | DX10: (m) | DY10: (m2) | DZ10: (m) | EA10: (m) | EB10: (m3) | EC10: (m3) | ED10: (m3) | EE10: (m3) | EF10: (m3)
A11: VIA PRIPNCIPAL-TRAMO 1 | BH11: =A11 -> VIA PRIPNCIPAL-TRAMO 1 | BK11: =IF(C11="","",ROUND( C11,2)) | BL11: =IF(BK11="","",ROUND((BK11-1.2),2)) | BM11: =IF(M11="","",M11) | BN11: =IF(BK11="","",ROUND((BK11),2)) | BP11: =IF(BK11="","",ROUND((AK11-AO11),2)) | BQ11: =IF(BK11="","",ROUND((AL11-AP11),2)) | BR11: =IF(BK11="","",ROUND((BP11+BQ11)/2+0.1,2)) | BS11: =IF(BK11="","",ROUND( BR11*BO11*BL11,2)) | BW11: =IF(BK11="","",ROUND( BS11*$BN$1,2)) | BX11: =IF(BK11="","",ROUND(BS11*$BN$2,2)) | BY11: =IF(BK11="","",ROUND(BS11*$BN$3,2)) | CA11: =IF(BK11="","",ROUND( (PI()*((CS11*0.0254)^2)/4)*BL11,2)) | CB11: =IF(BK11="","",ROUND(BL11*BO11,2)) | CD11: =IF(BK11="","",ROUND(IF(CC11="F",CB11,0),2)) | CE11: =IF(BK11="","",ROUND(IF(CC11="R",CB11,0),2)) | CF11: =IF(CC11="","",IF(CC11="R",0.15,IF(CC11="F",0.07,IF(CC11="D",0)))) | CG11: =IF(BK11="","",ROUND(IF(CB11="","",CB11*CF11),2)) | CI11: =IF(BK11="","",ROUND(CB11*0.2,2)) | CJ11: =IF(BK11="","",ROUND(IF(CC11="F",(CH11*CB11),IF(CC11="R",0,0)),2)) | CK11: =IF(BK11="","",ROUND(BS11-(CA11+CG11+CI11+CJ11+CM11),2)) | CL11: =IF(BK11="","",0.1) | CM11: =IF(BK11="","",ROUND((BL11*BO11)*0.1,2)) | CN11: =IF(BK11="","",ROUND(CK11*$BR$2,2)) | CO11: =IF(BK11="","",ROUND(CK11*$BR$1,2)) | CP11: =IF(BK11="","",ROUND(BS11-(CA11+CO11),2)) | CY11: =IF(BK11="","",ROUND((1+BR11)/2,2)) | CZ11: =IF(BK11="","",ROUND(CV11*CX11*CY11*CU11,2)) | DA11: =IF(BK11="","",ROUND( IF(AND(CY11>=1.5, CY11<2),(CY11*CW11),0),2)) | DB11: =IF(BK11="","",ROUND(IF(AND(CY11>=2, CY11<4),(CY11*CW11),0),2)) | DC11: =IF(BK11="","",ROUND(IF(CY11>=4,(CY11*CW11),0),2)) | DD11: =IF(BK11="","",ROUND((PI()*((6*0.0254)^2)/4)*CW11,2)) | DE11: =IF(BK11="","",ROUND(CW11*CX11,2)) | DG11: =IF(BK11="","",ROUND(IF(DF11="F",DE11,0),2)) | DH11: =IF(BK11="","",ROUND( IF(DF11="R",DE11,0),2)) | DI11: =IF(DF11="","",IF(DF11="R",0.15,IF(DF11="F",0.07,IF(DF11="D",0)))) | DJ11: =IF(BK11="","",ROUND(IF(DE11="","",DE11*DI11),2)) | DL11: =IF(BK11="","",ROUND( DE11*DK11,2)) | DM11: =IF(BK11="","",ROUND(IF(DF11="F",(DK11*DE11),IF(DF11="R",0,0)),2)) | DN11: =IF(BK11="","",ROUND(CZ11-(DD11+DJ11+DL11+DM11+DP11),2)) | DO11: =IF(BK11="","",0.1) | DQ11: =IF(BK11="","",ROUND(DN11*$BR$2,2)) | DR11: =IF(BK11="","",ROUND(DN11*$BR$1,2)) | DS11: =IF(BK11="","",ROUND(CZ11-(DD11+DR11),2))
A12: PZ-1 | B12: PZ-2 | C12: 42.69 | D12: 0 | E12: 42.69 | F12: 0.015 | G12: 1.5 | H12: 0.0015 | I12: 0.10634809 | J12: 0.1065 | K12: 0.042580558 | L12: 1.6763999 | M12: 8 | N12: 0.2 | O12: 0.182 | P12: 0.072209639 | Q12: 2.7756295 | R12: 0.02 | S12: 0.362 | T12: 0.124 | U12: 0.315 | V12: 1.0047779 | W12: 0.051456606 | X12: 0.0143325 | Y12: 0.022568 | Z12: 0.074024606 | AA12: 0.067 | AB12: 0.012194 | AC12: 14.974094 | AD12: 2.9051093 | AE12: Supercrítico | AF12: 0 | AG12: 0 | AH12: 3.2967033 | AI12: 0.0012864152 | AJ12: 0.0012864152 | AK12: 948.92 | AL12: 944.38 | AM12: 947.72 | AN12: 943.17351 | AO12: 947.52 | AP12: 942.97351 | AQ12: 947.54257 | AR12: 942.99608 | AS12: 947.59402 | AT12: 943.04754 | AU12: 1.2 | AV12: 1.206485 | AW12: 1.4 | AX12: 1.406485 | AY12: 0.02 | AZ12: PVC | BA12: Suficiente | BB12: Velocidad NORMAL | BC12: Superior al rango | BD12: Normal | BE12: Normal | BI12: =A12 -> PZ-1 | BJ12: =B12 -> PZ-2 | BK12: =IF(C12="","",ROUND( C12,2)) -> 42.69 | BL12: =IF(BK12="","",ROUND((BK12-1.6),2)) -> 41.09 | BM12: =IF(M12="","",M12) -> 8 | BN12: =IF(BK12="","",ROUND((BK12-1.2),2)) -> 41.49 | BO12: =IF(M12=6,0.5,IF(M12=8,0.6,IF(M12=10,0.65,IF(M12=12,0.7,IF(M12=14,0.75,IF(M12=16,0.8,IF(M12=18,0.85,""))))))) -> 0.6 | BP12: =IF(BK12="","",ROUND((AK12-AO12),2)) -> 1.4 | BQ12: =IF(BK12="","",ROUND((AL12-AP12),2)) -> 1.41 | BR12: =IF(BK12="","",ROUND((BP12+BQ12)/2+0.1,2)) -> 1.51 | BS12: =IF(BK12="","",ROUND( BR12*BO12*BL12,2)) -> 37.23 | BT12: =IF(AND(BR12>=1.5, BR12<2),(BR12*BL12),0) -> 62.0459 | BU12: =IF(AND(BR12>=2, BR12<4),(BR12*BL12),0)*0.78 -> 0 | BV12: =IF(BR12>=4,(BR12*BL12),0) -> 0 | BW12: =IF(BK12="","",ROUND( BS12*$BN$1,2)) -> 0 | BX12: =IF(BK12="","",ROUND(BS12*$BN$2,2)) -> 29.78 | BY12: =IF(BK12="","",ROUND(BS12*$BN$3,2)) -> 6.33 | BZ12: =IF(BL12="","",ROUND(BS12*$BN$4,2)) -> 1.12 | CA12: =IF(BK12="","",ROUND( (PI()*((BM12*0.0254)^2)/4)*BL12,2)) -> 1.33 | CB12: =IF(BK12="","",ROUND(BL12*BO12,2)) -> 24.65 | CC12: D | CD12: =IF(BK12="","",ROUND(IF(CC12="F",CB12,0),2)) -> 0 | CE12: =IF(BK12="","",ROUND(IF(CC12="R",CB12,0),2)) -> 0 | CF12: =IF(CC12="","",IF(CC12="R",0.2,IF(CC12="F",0.07,IF(CC12="D",0)))) -> 0 | CG12: =IF(BK12="","",ROUND(IF(CB12="","",CB12*CF12),2)) -> 0 | CH12: 0.3 | CI12: =ROUND(IF(BK12="","",IF(OR(CC12="R",CC12="F"),(CH12*CB12),0)),2) -> 0 | CJ12: =IF(BK12="","",ROUND(IF(CC12="F",CB12*CH12,0),2)) -> 0 | CK12: =IF(BK12="","",ROUND(BS12-(CA12+CG12+CI12+CJ12+CM12),2)) -> 33.43 | CL12: =IF(BK12="","",0.1) -> 0.1 | CM12: =IF(BK12="","",ROUND((BL12*BO12)*0.1,2)) -> 2.47 | CN12: =IF(BK12="","",ROUND(CK12*$BR$2,2)) -> 9.71 | CO12: =IF(BK12="","",ROUND(CK12*$BR$1,2)) -> 23.72 | CP12: =IF(BK12="","",ROUND(BS12-(CO12),2)) -> 13.51 | CS12: =+M12 -> 8 | CT12: =IF(M12=6,160,IF(M12=8,200,IF(M12=10,250,IF(M12=12,315,IF(M12=14,350,IF(M12=16,400,IF(M12=18,450,""))))))) -> 200 | CU12: 2 | CV12: 17.35 | CW12: =+CV12*CU12 -> 34.7 | CX12: =+IF(CY12>=2,0.8,0.6) -> 0.6 | CY12: =IF(BK12="","",ROUND((1+BR12)/2,2)) -> 1.26 | CZ12: =IF(BK12="","",ROUND(CV12*CX12*CY12*CU12,2)) -> 26.23 | DA12: =IF(BK12="","",ROUND( IF(AND(CY12>=1.5, CY12<2),(CY12*CW12),0),2)) -> 0 | DB12: =IF(BK12="","",ROUND(IF(AND(CY12>=2, CY12<4),(CY12*CW12),0),2)) -> 0 | DC12: =IF(BK12="","",ROUND(IF(CY12>=4,(CY12*CW12),0),2)) -> 0 | DD12: =IF(BK12="","",ROUND((PI()*((6*0.0254)^2)/4)*CW12,2)) -> 0.63 | DE12: =IF(BK12="","",ROUND(CW12*CX12,2)) -> 20.82 | DF12: D | DG12: =IF(BK12="","",ROUND(IF(DF12="F",DE12,0),2)) -> 0 | DH12: =IF(BK12="","",ROUND( IF(DF12="R",DE12,0),2)) -> 0 | DI12: =IF(DF12="","",IF(DF12="R",0.2,IF(DF12="F",0.07,IF(DF12="D",0)))) -> 0 | DJ12: =IF(BK12="","",ROUND(IF(DE12="","",DE12*DI12),2)) -> 0 | DK12: 0.3 | DL12: =ROUND(IF(CO12="","",IF(OR(DF12="R",DF12="F"),(DK12*DE12),0)),2) -> 0 | DM12: =IF(CO12="","",ROUND(IF(DF12="F",DE12*DK12,0),2)) -> 0 | DN12: =IF(BK12="","",ROUND(CZ12-(DD12+DJ12+DL12+DM12+DP12),2)) -> 23.52 | DO12: =IF(BK12="","",0.1) -> 0.1 | DP12: =+DE12*DO12 -> 2.082 | DQ12: =IF(BK12="","",ROUND(DN12*0.2,2)) -> 4.7 | DR12: =IF(BK12="","",ROUND(DN12*0.8,2)) -> 18.82 | DS12: =IF(BK12="","",ROUND(CZ12-(DD12+DR12),2)) -> 6.78 | DU12: =+A12 -> PZ-1 | DV12: =+BP12+0.2 -> 1.6 | DW12: 1.2 | DX12: 1.6 | DY12: =+((PI()*DX12^2)/4)*DV12*-1 -> -3.2169909 | DZ12: 1.6 | EA12: 1.6 | EB12: =+(DZ12*EA12*DV12) -> 4.096 | EC12: =+EB12+DY12 -> 0.87900912 | ED12: =+EC12*0.55 -> 0.48345502 | EE12: =+EC12*0.45 -> 0.39555411 | EF12: =+ED12 -> 0.48345502
A13: PZ-2 | B13: PZ-3 | C13: 57.882 | D13: 42.69 | E13: 100.572 | F13: 0.015 | G13: 1.5 | H13: 0.0015 | I13: 0.071352061 | J13: 0.071 | K13: 0.045943964 | L13: 1.8088175 | M13: 8 | N13: 0.2 | O13: 0.182 | P13: 0.058958923 | Q13: 2.266292 | R13: 0.03 | S13: 0.4 | T13: 0.148 | U13: 0.37 | V13: 0.90651681 | W13: 0.041884441 | X13: 0.016835 | Y13: 0.026936 | Z13: 0.068820441 | AA13: 0.086 | AB13: 0.015652 | AC13: 11.725746 | AD13: 2.3134304 | AE13: Supercrítico | AF13: -0.0095721654 | AG13: 0.0019144331 | AH13: 3.2967033 | AI13: 0.0023335262 | AJ13: 0.0042479593 | AK13: 944.38 | AL13: 940.25 | AM13: 943.15351 | AN13: 939.04389 | AO13: 942.95351 | AP13: 938.84389 | AQ13: 942.98045 | AR13: 938.87083 | AS13: 943.04625 | AT13: 938.93663 | AU13: 1.226485 | AV13: 1.206107 | AW13: 1.426485 | AX13: 1.406107 | AY13: 0.203612 | AZ13: PVC | BA13: Suficiente | BB13: Velocidad NORMAL | BC13: Superior al rango | BD13: Normal | BE13: Normal | BI13: =A13 -> PZ-2 | BJ13: =B13 -> PZ-3 | BK13: =IF(C13="","",ROUND( C13,2)) -> 57.88 | BL13: =IF(BK13="","",ROUND((BK13-1.6),2)) -> 56.28 | BM13: =IF(M13="","",M13) -> 8 | BN13: =IF(BK13="","",ROUND((BK13-1.2),2)) -> 56.68 | BO13: =IF(M13=6,0.5,IF(M13=8,0.6,IF(M13=10,0.65,IF(M13=12,0.7,IF(M13=14,0.75,IF(M13=16,0.8,IF(M13=18,0.85,""))))))) -> 0.6 | BP13: =IF(BK13="","",ROUND((AK13-AO13),2)) -> 1.43 | BQ13: =IF(BK13="","",ROUND((AL13-AP13),2)) -> 1.41 | BR13: =IF(BK13="","",ROUND((BP13+BQ13)/2+0.1,2)) -> 1.52 | BS13: =IF(BK13="","",ROUND( BR13*BO13*BL13,2)) -> 51.33 | BT13: =IF(AND(BR13>=1.5, BR13<2),(BR13*BL13),0) -> 85.5456 | BU13: =IF(AND(BR13>=2, BR13<4),(BR13*BL13),0)*0.78 -> 0 | BV13: =IF(BR13>=4,(BR13*BL13),0) -> 0 | BW13: =IF(BK13="","",ROUND( BS13*$BN$1,2)) -> 0 | BX13: =IF(BK13="","",ROUND(BS13*$BN$2,2)) -> 41.06 | BY13: =IF(BK13="","",ROUND(BS13*$BN$3,2)) -> 8.73 | BZ13: =IF(BL13="","",ROUND(BS13*$BN$4,2)) -> 1.54 | CA13: =IF(BK13="","",ROUND( (PI()*((BM13*0.0254)^2)/4)*BL13,2)) -> 1.83 | CB13: =IF(BK13="","",ROUND(BL13*BO13,2)) -> 33.77 | CC13: D | CD13: =IF(BK13="","",ROUND(IF(CC13="F",CB13,0),2)) -> 0 | CE13: =IF(BK13="","",ROUND(IF(CC13="R",CB13,0),2)) -> 0 | CF13: =IF(CC13="","",IF(CC13="R",0.2,IF(CC13="F",0.07,IF(CC13="D",0)))) -> 0 | CG13: =IF(BK13="","",ROUND(IF(CB13="","",CB13*CF13),2)) -> 0 | CH13: 0.3 | CI13: =ROUND(IF(BK13="","",IF(OR(CC13="R",CC13="F"),(CH13*CB13),0)),2) -> 0 | CJ13: =IF(BK13="","",ROUND(IF(CC13="F",CB13*CH13,0),2)) -> 0 | CK13: =IF(BK13="","",ROUND(BS13-(CA13+CG13+CI13+CJ13+CM13),2)) -> 46.12 | CL13: =IF(BK13="","",0.1) -> 0.1 | CM13: =IF(BK13="","",ROUND((BL13*BO13)*0.1,2)) -> 3.38 | CN13: =IF(BK13="","",ROUND(CK13*$BR$2,2)) -> 13.4 | CO13: =IF(BK13="","",ROUND(CK13*$BR$1,2)) -> 32.72 | CP13: =IF(BK13="","",ROUND(BS13-(CO13),2)) -> 18.61 | CS13: =+M13 -> 8 | CT13: =IF(M13=6,160,IF(M13=8,200,IF(M13=10,250,IF(M13=12,315,IF(M13=14,350,IF(M13=16,400,IF(M13=18,450,""))))))) -> 200 | CU13: 2 | CV13: 8.35 | CW13: =+CV13*CU13 -> 16.7 | CX13: =+IF(CY13>=2,0.8,0.6) -> 0.6 | CY13: =IF(BK13="","",ROUND((1+BR13)/2,2)) -> 1.26 | CZ13: =IF(BK13="","",ROUND(CV13*CX13*CY13*CU13,2)) -> 12.63 | DA13: =IF(BK13="","",ROUND( IF(AND(CY13>=1.5, CY13<2),(CY13*CW13),0),2)) -> 0 | DB13: =IF(BK13="","",ROUND(IF(AND(CY13>=2, CY13<4),(CY13*CW13),0),2)) -> 0 | DC13: =IF(BK13="","",ROUND(IF(CY13>=4,(CY13*CW13),0),2)) -> 0 | DD13: =IF(BK13="","",ROUND((PI()*((6*0.0254)^2)/4)*CW13,2)) -> 0.3 | DE13: =IF(BK13="","",ROUND(CW13*CX13,2)) -> 10.02 | DF13: =+CC13 -> D | DG13: =IF(BK13="","",ROUND(IF(DF13="F",DE13,0),2)) -> 0 | DH13: =IF(BK13="","",ROUND( IF(DF13="R",DE13,0),2)) -> 0 | DI13: =IF(DF13="","",IF(DF13="R",0.2,IF(DF13="F",0.07,IF(DF13="D",0)))) -> 0 | DJ13: =IF(BK13="","",ROUND(IF(DE13="","",DE13*DI13),2)) -> 0 | DK13: 0.3 | DL13: =ROUND(IF(CO13="","",IF(OR(DF13="R",DF13="F"),(DK13*DE13),0)),2) -> 0 | DM13: =IF(CO13="","",ROUND(IF(DF13="F",DE13*DK13,0),2)) -> 0 | DN13: =IF(BK13="","",ROUND(CZ13-(DD13+DJ13+DL13+DM13+DP13),2)) -> 11.33 | DO13: =IF(BK13="","",0.1) -> 0.1 | DP13: =+DE13*DO13 -> 1.002 | DQ13: =IF(BK13="","",ROUND(DN13*0.2,2)) -> 2.27 | DR13: =IF(BK13="","",ROUND(DN13*0.8,2)) -> 9.06 | DS13: =IF(BK13="","",ROUND(CZ13-(DD13+DR13),2)) -> 3.27 | DU13: =+A13 -> PZ-2 | DV13: =+BP13+0.2 -> 1.63 | DW13: 1.2 | DX13: 1.6 | DY13: =+((PI()*DX13^2)/4)*DV13*-1 -> -3.2773095 | DZ13: 1.6 | EA13: 1.6 | EB13: =+(DZ13*EA13*DV13) -> 4.1728 | EC13: =+EB13+DY13 -> 0.89549054 | ED13: =+EC13*0.55 -> 0.4925198 | EE13: =+EC13*0.45 -> 0.40297074 | EF13: =+ED13 -> 0.4925198
A14: PZ-3 | B14: PZ-4 | C14: 23.552 | D14: 100.572 | E14: 124.124 | F14: 0.015 | G14: 8.1 | H14: 0.0081 | I14: 0.025475543 | J14: 0.018 | K14: 0.11184677 | L14: 4.4034163 | M14: 8 | N14: 0.2 | O14: 0.182 | P14: 0.029686338 | Q14: 1.141098 | R14: 0.27 | S14: 0.706 | T14: 0.4 | U14: 0.86 | V14: 0.8056152 | W14: 0.033079299 | X14: 0.03913 | Y14: 0.0728 | Z14: 0.1058793 | AA14: 0.3 | AB14: 0.0546 | AC14: 6.9095754 | AD14: 1.1007706 | AE14: Supercrítico | AF14: -0.0088051418 | AG14: 0.0017610284 | AH14: 3.2967033 | AI14: 0.0018740935 | AJ14: 0.0036351219 | AK14: 940.25 | AL14: 939.65 | AM14: 938.84028 | AN14: 938.41635 | AO14: 938.64028 | AP14: 938.21635 | AQ14: 938.71308 | AR14: 938.28915 | AS14: 938.93238 | AT14: 938.50845 | AU14: 1.409719 | AV14: 1.233655 | AW14: 1.609719 | AX14: 1.433655 | AY14: 0.0320685 | AZ14: PVC | BA14: Suficiente | BB14: Velocidad NORMAL | BC14: Superior al rango | BD14: Normal | BE14: Normal | BF14: Se conecta el TRAMO-2 y el TRAMO-3 | BI14: =A14 -> PZ-3 | BJ14: =B14 -> PZ-4 | BK14: =IF(C14="","",ROUND( C14,2)) -> 23.55 | BL14: =IF(BK14="","",ROUND((BK14-1.6),2)) -> 21.95 | BM14: =IF(M14="","",M14) -> 8 | BN14: =IF(BK14="","",ROUND((BK14-1.2),2)) -> 22.35 | BO14: =IF(M14=6,0.5,IF(M14=8,0.6,IF(M14=10,0.65,IF(M14=12,0.7,IF(M14=14,0.75,IF(M14=16,0.8,IF(M14=18,0.85,""))))))) -> 0.6 | BP14: =IF(BK14="","",ROUND((AK14-AO14),2)) -> 1.61 | BQ14: =IF(BK14="","",ROUND((AL14-AP14),2)) -> 1.43 | BR14: =IF(BK14="","",ROUND((BP14+BQ14)/2+0.1,2)) -> 1.62 | BS14: =IF(BK14="","",ROUND( BR14*BO14*BL14,2)) -> 21.34 | BT14: =IF(AND(BR14>=1.5, BR14<2),(BR14*BL14),0) -> 35.559 | BU14: =IF(AND(BR14>=2, BR14<4),(BR14*BL14),0)*0.78 -> 0 | BV14: =IF(BR14>=4,(BR14*BL14),0) -> 0 | BW14: =IF(BK14="","",ROUND( BS14*$BN$1,2)) -> 0 | BX14: =IF(BK14="","",ROUND(BS14*$BN$2,2)) -> 17.07 | BY14: =IF(BK14="","",ROUND(BS14*$BN$3,2)) -> 3.63 | BZ14: =IF(BL14="","",ROUND(BS14*$BN$4,2)) -> 0.64 | CA14: =IF(BK14="","",ROUND( (PI()*((BM14*0.0254)^2)/4)*BL14,2)) -> 0.71 | CB14: =IF(BK14="","",ROUND(BL14*BO14,2)) -> 13.17 | CC14: D | CD14: =IF(BK14="","",ROUND(IF(CC14="F",CB14,0),2)) -> 0 | CE14: =IF(BK14="","",ROUND(IF(CC14="R",CB14,0),2)) -> 0 | CF14: =IF(CC14="","",IF(CC14="R",0.2,IF(CC14="F",0.07,IF(CC14="D",0)))) -> 0 | CG14: =IF(BK14="","",ROUND(IF(CB14="","",CB14*CF14),2)) -> 0 | CH14: 0.3 | CI14: =ROUND(IF(BK14="","",IF(OR(CC14="R",CC14="F"),(CH14*CB14),0)),2) -> 0 | CJ14: =IF(BK14="","",ROUND(IF(CC14="F",CB14*CH14,0),2)) -> 0 | CK14: =IF(BK14="","",ROUND(BS14-(CA14+CG14+CI14+CJ14+CM14),2)) -> 19.31 | CL14: =IF(BK14="","",0.1) -> 0.1 | CM14: =IF(BK14="","",ROUND((BL14*BO14)*0.1,2)) -> 1.32 | CN14: =IF(BK14="","",ROUND(CK14*$BR$2,2)) -> 5.61 | CO14: =IF(BK14="","",ROUND(CK14*$BR$1,2)) -> 13.7 | CP14: =IF(BK14="","",ROUND(BS14-(CO14),2)) -> 7.64 | CS14: =+M14 -> 8 | CT14: =IF(M14=6,160,IF(M14=8,200,IF(M14=10,250,IF(M14=12,315,IF(M14=14,350,IF(M14=16,400,IF(M14=18,450,""))))))) -> 200 | CU14: 1 | CV14: 13.5 | CW14: =+CV14*CU14 -> 13.5 | CX14: =+IF(CY14>=2,0.8,0.6) -> 0.6 | CY14: =IF(BK14="","",ROUND((1+BR14)/2,2)) -> 1.31 | CZ14: =IF(BK14="","",ROUND(CV14*CX14*CY14*CU14,2)) -> 10.61 | DA14: =IF(BK14="","",ROUND( IF(AND(CY14>=1.5, CY14<2),(CY14*CW14),0),2)) -> 0 | DB14: =IF(BK14="","",ROUND(IF(AND(CY14>=2, CY14<4),(CY14*CW14),0),2)) -> 0 | DC14: =IF(BK14="","",ROUND(IF(CY14>=4,(CY14*CW14),0),2)) -> 0 | DD14: =IF(BK14="","",ROUND((PI()*((6*0.0254)^2)/4)*CW14,2)) -> 0.25 | DE14: =IF(BK14="","",ROUND(CW14*CX14,2)) -> 8.1 | DF14: =+CC14 -> D | DG14: =IF(BK14="","",ROUND(IF(DF14="F",DE14,0),2)) -> 0 | DH14: =IF(BK14="","",ROUND( IF(DF14="R",DE14,0),2)) -> 0 | DI14: =IF(DF14="","",IF(DF14="R",0.2,IF(DF14="F",0.07,IF(DF14="D",0)))) -> 0 | DJ14: =IF(BK14="","",ROUND(IF(DE14="","",DE14*DI14),2)) -> 0 | DK14: 0.3 | DL14: =ROUND(IF(CO14="","",IF(OR(DF14="R",DF14="F"),(DK14*DE14),0)),2) -> 0 | DM14: =IF(CO14="","",ROUND(IF(DF14="F",DE14*DK14,0),2)) -> 0 | DN14: =IF(BK14="","",ROUND(CZ14-(DD14+DJ14+DL14+DM14+DP14),2)) -> 9.55 | DO14: =IF(BK14="","",0.1) -> 0.1 | DP14: =+DE14*DO14 -> 0.81 | DQ14: =IF(BK14="","",ROUND(DN14*0.2,2)) -> 1.91 | DR14: =IF(BK14="","",ROUND(DN14*0.8,2)) -> 7.64 | DS14: =IF(BK14="","",ROUND(CZ14-(DD14+DR14),2)) -> 2.72 | DU14: =+A14 -> PZ-3 | DV14: =+BP14+0.2 -> 1.81 | DW14: 1.2 | DX14: 1.6 | DY14: =+((PI()*DX14^2)/4)*DV14*-1 -> -3.6392209 | DZ14: 1.6 | EA14: 1.6 | EB14: =+(DZ14*EA14*DV14) -> 4.6336 | EC14: =+EB14+DY14 -> 0.99437907 | ED14: =+EC14*0.55 -> 0.54690849 | EE14: =+EC14*0.45 -> 0.44747058 | EF14: =+ED14 -> 0.54690849
A15: PZ-4 | B15: PZ-5 | C15: 59.786 | D15: 124.124 | E15: 183.91 | F15: 0.015 | G15: 9.87 | H15: 0.00987 | I15: 0.030776436 | J15: 0.031 | K15: 0.10877868 | L15: 4.2826253 | M15: 8 | N15: 0.2 | O15: 0.182 | P15: 0.038958409 | Q15: 1.4975025 | R15: 0.25 | S15: 0.695 | T15: 0.386 | U15: 0.836 | V15: 1.0407642 | W15: 0.055208468 | X15: 0.038038 | Y15: 0.070252 | Z15: 0.12546047 | AA15: 0.287 | AB15: 0.052234 | AC15: 11.567736 | AD15: 1.4539223 | AE15: Supercrítico | AF15: 0.022129169 | AG15: 0.0022129169 | AH15: 3.2967033 | AI15: 0.0022071942 | AJ15: 0.004420111 | AK15: 939.65 | AL15: 937.81 | AM15: 938.38428 | AN15: 936.53091 | AO15: 938.18428 | AP15: 936.33091 | AQ15: 938.25453 | AR15: 936.40116 | AS15: 938.50481 | AT15: 936.65145 | AU15: 1.2657235 | AV15: 1.2790895 | AW15: 1.4657235 | AX15: 1.4790895 | AY15: 0.02 | AZ15: PVC | BA15: Suficiente | BB15: Velocidad NORMAL | BC15: Superior al rango | BD15: Normal | BE15: Normal | BF15: Se conecta el TRAMO-4 | BI15: =A15 -> PZ-4 | BJ15: =B15 -> PZ-5 | BK15: =IF(C15="","",ROUND( C15,2)) -> 59.79 | BL15: =IF(BK15="","",ROUND((BK15-1.6),2)) -> 58.19 | BM15: =IF(M15="","",M15) -> 8 | BN15: =IF(BK15="","",ROUND((BK15-1.2),2)) -> 58.59 | BO15: =IF(M15=6,0.5,IF(M15=8,0.6,IF(M15=10,0.65,IF(M15=12,0.7,IF(M15=14,0.75,IF(M15=16,0.8,IF(M15=18,0.85,""))))))) -> 0.6 | BP15: =IF(BK15="","",ROUND((AK15-AO15),2)) -> 1.47 | BQ15: =IF(BK15="","",ROUND((AL15-AP15),2)) -> 1.48 | BR15: =IF(BK15="","",ROUND((BP15+BQ15)/2+0.1,2)) -> 1.58 | BS15: =IF(BK15="","",ROUND( BR15*BO15*BL15,2)) -> 55.16 | BT15: =IF(AND(BR15>=1.5, BR15<2),(BR15*BL15),0) -> 91.9402 | BU15: =IF(AND(BR15>=2, BR15<4),(BR15*BL15),0)*0.78 -> 0 | BV15: =IF(BR15>=4,(BR15*BL15),0) -> 0 | BW15: =IF(BK15="","",ROUND( BS15*$BN$1,2)) -> 0 | BX15: =IF(BK15="","",ROUND(BS15*$BN$2,2)) -> 44.13 | BY15: =IF(BK15="","",ROUND(BS15*$BN$3,2)) -> 9.38 | BZ15: =IF(BL15="","",ROUND(BS15*$BN$4,2)) -> 1.65 | CA15: =IF(BK15="","",ROUND( (PI()*((BM15*0.0254)^2)/4)*BL15,2)) -> 1.89 | CB15: =IF(BK15="","",ROUND(BL15*BO15,2)) -> 34.91 | CC15: D | CD15: =IF(BK15="","",ROUND(IF(CC15="F",CB15,0),2)) -> 0 | CE15: =IF(BK15="","",ROUND(IF(CC15="R",CB15,0),2)) -> 0 | CF15: =IF(CC15="","",IF(CC15="R",0.2,IF(CC15="F",0.07,IF(CC15="D",0)))) -> 0 | CG15: =IF(BK15="","",ROUND(IF(CB15="","",CB15*CF15),2)) -> 0 | CH15: 0.3 | CI15: =ROUND(IF(BK15="","",IF(OR(CC15="R",CC15="F"),(CH15*CB15),0)),2) -> 0 | CJ15: =IF(BK15="","",ROUND(IF(CC15="F",CB15*CH15,0),2)) -> 0 | CK15: =IF(BK15="","",ROUND(BS15-(CA15+CG15+CI15+CJ15+CM15),2)) -> 49.78 | CL15: =IF(BK15="","",0.1) -> 0.1 | CM15: =IF(BK15="","",ROUND((BL15*BO15)*0.1,2)) -> 3.49 | CN15: =IF(BK15="","",ROUND(CK15*$BR$2,2)) -> 14.46 | CO15: =IF(BK15="","",ROUND(CK15*$BR$1,2)) -> 35.32 | CP15: =IF(BK15="","",ROUND(BS15-(CO15),2)) -> 19.84 | CS15: =+M15 -> 8 | CT15: =IF(M15=6,160,IF(M15=8,200,IF(M15=10,250,IF(M15=12,315,IF(M15=14,350,IF(M15=16,400,IF(M15=18,450,""))))))) -> 200 | CU15: 3 | CV15: 15.3 | CW15: =+CV15*CU15 -> 45.9 | CX15: =+IF(CY15>=2,0.8,0.6) -> 0.6 | CY15: =IF(BK15="","",ROUND((1+BR15)/2,2)) -> 1.29 | CZ15: =IF(BK15="","",ROUND(CV15*CX15*CY15*CU15,2)) -> 35.53 | DA15: =IF(BK15="","",ROUND( IF(AND(CY15>=1.5, CY15<2),(CY15*CW15),0),2)) -> 0 | DB15: =IF(BK15="","",ROUND(IF(AND(CY15>=2, CY15<4),(CY15*CW15),0),2)) -> 0 | DC15: =IF(BK15="","",ROUND(IF(CY15>=4,(CY15*CW15),0),2)) -> 0 | DD15: =IF(BK15="","",ROUND((PI()*((6*0.0254)^2)/4)*CW15,2)) -> 0.84 | DE15: =IF(BK15="","",ROUND(CW15*CX15,2)) -> 27.54 | DF15: =+CC15 -> D | DG15: =IF(BK15="","",ROUND(IF(DF15="F",DE15,0),2)) -> 0 | DH15: =IF(BK15="","",ROUND( IF(DF15="R",DE15,0),2)) -> 0 | DI15: =IF(DF15="","",IF(DF15="R",0.2,IF(DF15="F",0.07,IF(DF15="D",0)))) -> 0 | DJ15: =IF(BK15="","",ROUND(IF(DE15="","",DE15*DI15),2)) -> 0 | DK15: 0.3 | DL15: =ROUND(IF(CO15="","",IF(OR(DF15="R",DF15="F"),(DK15*DE15),0)),2) -> 0 | DM15: =IF(CO15="","",ROUND(IF(DF15="F",DE15*DK15,0),2)) -> 0 | DN15: =IF(BK15="","",ROUND(CZ15-(DD15+DJ15+DL15+DM15+DP15),2)) -> 31.94 | DO15: =IF(BK15="","",0.1) -> 0.1 | DP15: =+DE15*DO15 -> 2.754 | DQ15: =IF(BK15="","",ROUND(DN15*0.2,2)) -> 6.39 | DR15: =IF(BK15="","",ROUND(DN15*0.8,2)) -> 25.55 | DS15: =IF(BK15="","",ROUND(CZ15-(DD15+DR15),2)) -> 9.14 | DU15: =+A15 -> PZ-4 | DV15: =+BP15+0.2 -> 1.67 | DW15: 1.2 | DX15: 1.6 | DY15: =+((PI()*DX15^2)/4)*DV15*-1 -> -3.3577342 | DZ15: 1.6 | EA15: 1.6 | EB15: =+(DZ15*EA15*DV15) -> 4.2752 | EC15: =+EB15+DY15 -> 0.91746577 | ED15: =+EC15*0.55 -> 0.50460617 | EE15: =+EC15*0.45 -> 0.4128596 | EF15: =+ED15 -> 0.50460617
A16: PZ-5 | B16: PZ-6 | C16: 69.86 | D16: 183.91 | E16: 253.77 | F16: 0.015 | G16: 13.32 | H16: 0.01332 | I16: 0.054394503 | J16: 0.0535 | K16: 0.10988235 | L16: 4.3260767 | M16: 8 | N16: 0.2 | O16: 0.182 | P16: 0.051179644 | Q16: 1.9672683 | R16: 0.26 | S16: 0.7 | T16: 0.393 | U16: 0.848 | V16: 1.3770878 | W16: 0.096654984 | X16: 0.038584 | Y16: 0.071526 | Z16: 0.16818098 | AA16: 0.294 | AB16: 0.053508 | AC16: 20.250234 | AD16: 1.9007183 | AE16: Supercrítico | AF16: 0.041446516 | AG16: 0.0041446516 | AH16: 3.2967033 | AI16: 0.0037965863 | AJ16: 0.0079412379 | AK16: 937.81 | AL16: 934.01 | AM16: 936.51091 | AN16: 932.7734 | AO16: 936.31091 | AP16: 932.5734 | AQ16: 936.38244 | AR16: 932.64493 | AS16: 936.64703 | AT16: 932.90952 | AU16: 1.2990895 | AV16: 1.2365995 | AW16: 1.4990895 | AX16: 1.4365995 | AY16: 0.02 | AZ16: PVC | BA16: Suficiente | BB16: Velocidad NORMAL | BC16: Superior al rango | BD16: Normal | BE16: Normal | BF16: Se conecta el TRAMO-5 | BI16: =A16 -> PZ-5 | BJ16: =B16 -> PZ-6 | BK16: =IF(C16="","",ROUND( C16,2)) -> 69.86 | BL16: =IF(BK16="","",ROUND((BK16-1.6),2)) -> 68.26 | BM16: =IF(M16="","",M16) -> 8 | BN16: =IF(BK16="","",ROUND((BK16-1.2),2)) -> 68.66 | BO16: =IF(M16=6,0.5,IF(M16=8,0.6,IF(M16=10,0.65,IF(M16=12,0.7,IF(M16=14,0.75,IF(M16=16,0.8,IF(M16=18,0.85,""))))))) -> 0.6 | BP16: =IF(BK16="","",ROUND((AK16-AO16),2)) -> 1.5 | BQ16: =IF(BK16="","",ROUND((AL16-AP16),2)) -> 1.44 | BR16: =IF(BK16="","",ROUND((BP16+BQ16)/2+0.1,2)) -> 1.57 | BS16: =IF(BK16="","",ROUND( BR16*BO16*BL16,2)) -> 64.3 | BT16: =IF(AND(BR16>=1.5, BR16<2),(BR16*BL16),0) -> 107.1682 | BU16: =IF(AND(BR16>=2, BR16<4),(BR16*BL16),0)*0.78 -> 0 | BV16: =IF(BR16>=4,(BR16*BL16),0) -> 0 | BW16: =IF(BK16="","",ROUND( BS16*$BN$1,2)) -> 0 | BX16: =IF(BK16="","",ROUND(BS16*$BN$2,2)) -> 51.44 | BY16: =IF(BK16="","",ROUND(BS16*$BN$3,2)) -> 10.93 | BZ16: =IF(BL16="","",ROUND(BS16*$BN$4,2)) -> 1.93 | CA16: =IF(BK16="","",ROUND( (PI()*((BM16*0.0254)^2)/4)*BL16,2)) -> 2.21 | CB16: =IF(BK16="","",ROUND(BL16*BO16,2)) -> 40.96 | CC16: D | CD16: =IF(BK16="","",ROUND(IF(CC16="F",CB16,0),2)) -> 0 | CE16: =IF(BK16="","",ROUND(IF(CC16="R",CB16,0),2)) -> 0 | CF16: =IF(CC16="","",IF(CC16="R",0.2,IF(CC16="F",0.07,IF(CC16="D",0)))) -> 0 | CG16: =IF(BK16="","",ROUND(IF(CB16="","",CB16*CF16),2)) -> 0 | CH16: 0.3 | CI16: =ROUND(IF(BK16="","",IF(OR(CC16="R",CC16="F"),(CH16*CB16),0)),2) -> 0 | CJ16: =IF(BK16="","",ROUND(IF(CC16="F",CB16*CH16,0),2)) -> 0 | CK16: =IF(BK16="","",ROUND(BS16-(CA16+CG16+CI16+CJ16+CM16),2)) -> 57.99 | CL16: =IF(BK16="","",0.1) -> 0.1 | CM16: =IF(BK16="","",ROUND((BL16*BO16)*0.1,2)) -> 4.1 | CN16: =IF(BK16="","",ROUND(CK16*$BR$2,2)) -> 16.85 | CO16: =IF(BK16="","",ROUND(CK16*$BR$1,2)) -> 41.14 | CP16: =IF(BK16="","",ROUND(BS16-(CO16),2)) -> 23.16 | CS16: =+M16 -> 8 | CT16: =IF(M16=6,160,IF(M16=8,200,IF(M16=10,250,IF(M16=12,315,IF(M16=14,350,IF(M16=16,400,IF(M16=18,450,""))))))) -> 200 | CU16: 3 | CV16: 20 | CW16: =+CV16*CU16 -> 60 | CX16: =+IF(CY16>=2,0.8,0.6) -> 0.6 | CY16: =IF(BK16="","",ROUND((1+BR16)/2,2)) -> 1.29 | CZ16: =IF(BK16="","",ROUND(CV16*CX16*CY16*CU16,2)) -> 46.44 | DA16: =IF(BK16="","",ROUND( IF(AND(CY16>=1.5, CY16<2),(CY16*CW16),0),2)) -> 0 | DB16: =IF(BK16="","",ROUND(IF(AND(CY16>=2, CY16<4),(CY16*CW16),0),2)) -> 0 | DC16: =IF(BK16="","",ROUND(IF(CY16>=4,(CY16*CW16),0),2)) -> 0 | DD16: =IF(BK16="","",ROUND((PI()*((6*0.0254)^2)/4)*CW16,2)) -> 1.09 | DE16: =IF(BK16="","",ROUND(CW16*CX16,2)) -> 36 | DF16: =+CC16 -> D | DG16: =IF(BK16="","",ROUND(IF(DF16="F",DE16,0),2)) -> 0 | DH16: =IF(BK16="","",ROUND( IF(DF16="R",DE16,0),2)) -> 0 | DI16: =IF(DF16="","",IF(DF16="R",0.2,IF(DF16="F",0.07,IF(DF16="D",0)))) -> 0 | DJ16: =IF(BK16="","",ROUND(IF(DE16="","",DE16*DI16),2)) -> 0 | DK16: 0.3 | DL16: =ROUND(IF(CO16="","",IF(OR(DF16="R",DF16="F"),(DK16*DE16),0)),2) -> 0 | DM16: =IF(CO16="","",ROUND(IF(DF16="F",DE16*DK16,0),2)) -> 0 | DN16: =IF(BK16="","",ROUND(CZ16-(DD16+DJ16+DL16+DM16+DP16),2)) -> 41.75 | DO16: =IF(BK16="","",0.1) -> 0.1 | DP16: =+DE16*DO16 -> 3.6 | DQ16: =IF(BK16="","",ROUND(DN16*0.2,2)) -> 8.35 | DR16: =IF(BK16="","",ROUND(DN16*0.8,2)) -> 33.4 | DS16: =IF(BK16="","",ROUND(CZ16-(DD16+DR16),2)) -> 11.95 | DU16: =+A16 -> PZ-5 | DV16: =+BP16+0.2 -> 1.7 | DW16: 1.2 | DX16: 1.6 | DY16: =+((PI()*DX16^2)/4)*DV16*-1 -> -3.4180528 | DZ16: 1.6 | EA16: 1.6 | EB16: =+(DZ16*EA16*DV16) -> 4.352 | EC16: =+EB16+DY16 -> 0.93394719 | ED16: =+EC16*0.55 -> 0.51367096 | EE16: =+EC16*0.45 -> 0.42027624 | EF16: =+ED16 -> 0.51367096
A17: PZ-6 | B17: PZ-7 | C17: 78.357 | D17: 253.77 | E17: 332.127 | F17: 0.015 | G17: 13.48 | H17: 0.01348 | I17: 0.049899818 | J17: 0.05 | K17: 0.11178461 | L17: 4.4009689 | M17: 8 | N17: 0.2 | O17: 0.182 | P17: 0.049477229 | Q17: 1.90183 | R17: 0.27 | S17: 0.706 | T17: 0.4 | U17: 0.86 | V17: 1.342692 | W17: 0.091886942 | X17: 0.03913 | Y17: 0.0728 | Z17: 0.16468694 | AA17: 0.3 | AB17: 0.0546 | AC17: 19.193265 | AD17: 1.8346177 | AE17: Supercrítico | AF17: -0.0047680422 | AG17: 0.00095360843 | AH17: 3.2967033 | AI17: 0.0047135481 | AJ17: 0.0056671566 | AK17: 934.01 | AL17: 930.1 | AM17: 932.7534 | AN17: 928.83555 | AO17: 932.5534 | AP17: 928.63555 | AQ17: 932.6262 | AR17: 928.70835 | AS17: 932.90157 | AT17: 928.98372 | AU17: 1.2565995 | AV17: 1.2644495 | AW17: 1.4565995 | AX17: 1.4644495 | AY17: 0.02 | AZ17: PVC | BA17: Suficiente | BB17: Velocidad NORMAL | BC17: Superior al rango | BD17: Normal | BE17: Normal | BI17: =A17 -> PZ-6 | BJ17: =B17 -> PZ-7 | BK17: =IF(C17="","",ROUND( C17,2)) -> 78.36 | BL17: =IF(BK17="","",ROUND((BK17-1.6),2)) -> 76.76 | BM17: =IF(M17="","",M17) -> 8 | BN17: =IF(BK17="","",ROUND((BK17-1.2),2)) -> 77.16 | BO17: =IF(M17=6,0.5,IF(M17=8,0.6,IF(M17=10,0.65,IF(M17=12,0.7,IF(M17=14,0.75,IF(M17=16,0.8,IF(M17=18,0.85,""))))))) -> 0.6 | BP17: =IF(BK17="","",ROUND((AK17-AO17),2)) -> 1.46 | BQ17: =IF(BK17="","",ROUND((AL17-AP17),2)) -> 1.46 | BR17: =IF(BK17="","",ROUND((BP17+BQ17)/2+0.1,2)) -> 1.56 | BS17: =IF(BK17="","",ROUND( BR17*BO17*BL17,2)) -> 71.85 | BT17: =IF(AND(BR17>=1.5, BR17<2),(BR17*BL17),0) -> 119.7456 | BU17: =IF(AND(BR17>=2, BR17<4),(BR17*BL17),0)*0.78 -> 0 | BV17: =IF(BR17>=4,(BR17*BL17),0) -> 0 | BW17: =IF(BK17="","",ROUND( BS17*$BN$1,2)) -> 0 | BX17: =IF(BK17="","",ROUND(BS17*$BN$2,2)) -> 57.48 | BY17: =IF(BK17="","",ROUND(BS17*$BN$3,2)) -> 12.21 | BZ17: =IF(BL17="","",ROUND(BS17*$BN$4,2)) -> 2.16 | CA17: =IF(BK17="","",ROUND( (PI()*((BM17*0.0254)^2)/4)*BL17,2)) -> 2.49 | CB17: =IF(BK17="","",ROUND(BL17*BO17,2)) -> 46.06 | CC17: D | CD17: =IF(BK17="","",ROUND(IF(CC17="F",CB17,0),2)) -> 0 | CE17: =IF(BK17="","",ROUND(IF(CC17="R",CB17,0),2)) -> 0 | CF17: =IF(CC17="","",IF(CC17="R",0.2,IF(CC17="F",0.07,IF(CC17="D",0)))) -> 0 | CG17: =IF(BK17="","",ROUND(IF(CB17="","",CB17*CF17),2)) -> 0 | CH17: 0.3 | CI17: =ROUND(IF(BK17="","",IF(OR(CC17="R",CC17="F"),(CH17*CB17),0)),2) -> 0 | CJ17: =IF(BK17="","",ROUND(IF(CC17="F",CB17*CH17,0),2)) -> 0 | CK17: =IF(BK17="","",ROUND(BS17-(CA17+CG17+CI17+CJ17+CM17),2)) -> 64.75 | CL17: =IF(BK17="","",0.1) -> 0.1 | CM17: =IF(BK17="","",ROUND((BL17*BO17)*0.1,2)) -> 4.61 | CN17: =IF(BK17="","",ROUND(CK17*$BR$2,2)) -> 18.81 | CO17: =IF(BK17="","",ROUND(CK17*$BR$1,2)) -> 45.94 | CP17: =IF(BK17="","",ROUND(BS17-(CO17),2)) -> 25.91 | CS17: =+M17 -> 8 | CT17: =IF(M17=6,160,IF(M17=8,200,IF(M17=10,250,IF(M17=12,315,IF(M17=14,350,IF(M17=16,400,IF(M17=18,450,""))))))) -> 200 | CU17: 4 | CV17: 16.75 | CW17: =+CV17*CU17 -> 67 | CX17: =+IF(CY17>=2,0.8,0.6) -> 0.6 | CY17: =IF(BK17="","",ROUND((1+BR17)/2,2)) -> 1.28 | CZ17: =IF(BK17="","",ROUND(CV17*CX17*CY17*CU17,2)) -> 51.46 | DA17: =IF(BK17="","",ROUND( IF(AND(CY17>=1.5, CY17<2),(CY17*CW17),0),2)) -> 0 | DB17: =IF(BK17="","",ROUND(IF(AND(CY17>=2, CY17<4),(CY17*CW17),0),2)) -> 0 | DC17: =IF(BK17="","",ROUND(IF(CY17>=4,(CY17*CW17),0),2)) -> 0 | DD17: =IF(BK17="","",ROUND((PI()*((6*0.0254)^2)/4)*CW17,2)) -> 1.22 | DE17: =IF(BK17="","",ROUND(CW17*CX17,2)) -> 40.2 | DF17: =+CC17 -> D | DG17: =IF(BK17="","",ROUND(IF(DF17="F",DE17,0),2)) -> 0 | DH17: =IF(BK17="","",ROUND( IF(DF17="R",DE17,0),2)) -> 0 | DI17: =IF(DF17="","",IF(DF17="R",0.2,IF(DF17="F",0.07,IF(DF17="D",0)))) -> 0 | DJ17: =IF(BK17="","",ROUND(IF(DE17="","",DE17*DI17),2)) -> 0 | DK17: 0.3 | DL17: =ROUND(IF(CO17="","",IF(OR(DF17="R",DF17="F"),(DK17*DE17),0)),2) -> 0 | DM17: =IF(CO17="","",ROUND(IF(DF17="F",DE17*DK17,0),2)) -> 0 | DN17: =IF(BK17="","",ROUND(CZ17-(DD17+DJ17+DL17+DM17+DP17),2)) -> 46.22 | DO17: =IF(BK17="","",0.1) -> 0.1 | DP17: =+DE17*DO17 -> 4.02 | DQ17: =IF(BK17="","",ROUND(DN17*0.2,2)) -> 9.24 | DR17: =IF(BK17="","",ROUND(DN17*0.8,2)) -> 36.98 | DS17: =IF(BK17="","",ROUND(CZ17-(DD17+DR17),2)) -> 13.26 | DU17: =+A17 -> PZ-6 | DV17: =+BP17+0.2 -> 1.66 | DW17: 1.2 | DX17: 1.6 | DY17: =+((PI()*DX17^2)/4)*DV17*-1 -> -3.337628 | DZ17: 1.6 | EA17: 1.6 | EB17: =+(DZ17*EA17*DV17) -> 4.2496 | EC17: =+EB17+DY17 -> 0.91197196 | ED17: =+EC17*0.55 -> 0.50158458 | EE17: =+EC17*0.45 -> 0.41038738 | EF17: =+ED17 -> 0.50158458
A18: PZ-7 | B18: PZ-8 | C18: 57.856 | D18: 332.127 | E18: 389.983 | F18: 0.015 | G18: 13.72 | H18: 0.01372 | I18: 0.051334347 | J18: 0.05 | K18: 0.11252683 | L18: 4.4301903 | M18: 8 | N18: 0.2 | O18: 0.182 | P18: 0.049477229 | Q18: 1.90183 | R18: 0.28 | S18: 0.713 | T18: 0.409 | U18: 0.874 | V18: 1.3560048 | W18: 0.093718095 | X18: 0.039767 | Y18: 0.074438 | Z18: 0.1681561 | AA18: 0.307 | AB18: 0.055874 | AC18: 19.505713 | AD18: 1.8315629 | AE18: Supercrítico | AF18: 0.0018311538 | AG18: 0.00018311538 | AH18: 3.2967033 | AI18: 0.0046401259 | AJ18: 0.0048232413 | AK18: 930.1 | AL18: 927.13 | AM18: 928.81555 | AN18: 925.92275 | AO18: 928.61555 | AP18: 925.72275 | AQ18: 928.68999 | AR18: 925.79719 | AS18: 928.97806 | AT18: 926.08526 | AU18: 1.2844495 | AV18: 1.2072495 | AW18: 1.4844495 | AX18: 1.4072495 | AY18: 0.02 | AZ18: PVC | BA18: Suficiente | BB18: Velocidad NORMAL | BC18: Superior al rango | BD18: Normal | BE18: Normal | BI18: =A18 -> PZ-7 | BJ18: =B18 -> PZ-8 | BK18: =IF(C18="","",ROUND( C18,2)) -> 57.86 | BL18: =IF(BK18="","",ROUND((BK18-1.6),2)) -> 56.26 | BM18: =IF(M18="","",M18) -> 8 | BN18: =IF(BK18="","",ROUND((BK18-1.2),2)) -> 56.66 | BO18: =IF(M18=6,0.5,IF(M18=8,0.6,IF(M18=10,0.65,IF(M18=12,0.7,IF(M18=14,0.75,IF(M18=16,0.8,IF(M18=18,0.85,""))))))) -> 0.6 | BP18: =IF(BK18="","",ROUND((AK18-AO18),2)) -> 1.48 | BQ18: =IF(BK18="","",ROUND((AL18-AP18),2)) -> 1.41 | BR18: =IF(BK18="","",ROUND((BP18+BQ18)/2+0.1,2)) -> 1.55 | BS18: =IF(BK18="","",ROUND( BR18*BO18*BL18,2)) -> 52.32 | BT18: =IF(AND(BR18>=1.5, BR18<2),(BR18*BL18),0) -> 87.203 | BU18: =IF(AND(BR18>=2, BR18<4),(BR18*BL18),0)*0.78 -> 0 | BV18: =IF(BR18>=4,(BR18*BL18),0) -> 0 | BW18: =IF(BK18="","",ROUND( BS18*$BN$1,2)) -> 0 | BX18: =IF(BK18="","",ROUND(BS18*$BN$2,2)) -> 41.86 | BY18: =IF(BK18="","",ROUND(BS18*$BN$3,2)) -> 8.89 | BZ18: =IF(BL18="","",ROUND(BS18*$BN$4,2)) -> 1.57 | CA18: =IF(BK18="","",ROUND( (PI()*((BM18*0.0254)^2)/4)*BL18,2)) -> 1.82 | CB18: =IF(BK18="","",ROUND(BL18*BO18,2)) -> 33.76 | CC18: D | CD18: =IF(BK18="","",ROUND(IF(CC18="F",CB18,0),2)) -> 0 | CE18: =IF(BK18="","",ROUND(IF(CC18="R",CB18,0),2)) -> 0 | CF18: =IF(CC18="","",IF(CC18="R",0.2,IF(CC18="F",0.07,IF(CC18="D",0)))) -> 0 | CG18: =IF(BK18="","",ROUND(IF(CB18="","",CB18*CF18),2)) -> 0 | CH18: 0.3 | CI18: =ROUND(IF(BK18="","",IF(OR(CC18="R",CC18="F"),(CH18*CB18),0)),2) -> 0 | CJ18: =IF(BK18="","",ROUND(IF(CC18="F",CB18*CH18,0),2)) -> 0 | CK18: =IF(BK18="","",ROUND(BS18-(CA18+CG18+CI18+CJ18+CM18),2)) -> 47.12 | CL18: =IF(BK18="","",0.1) -> 0.1 | CM18: =IF(BK18="","",ROUND((BL18*BO18)*0.1,2)) -> 3.38 | CN18: =IF(BK18="","",ROUND(CK18*$BR$2,2)) -> 13.69 | CO18: =IF(BK18="","",ROUND(CK18*$BR$1,2)) -> 33.43 | CP18: =IF(BK18="","",ROUND(BS18-(CO18),2)) -> 18.89 | CS18: =+M18 -> 8 | CT18: =IF(M18=6,160,IF(M18=8,200,IF(M18=10,250,IF(M18=12,315,IF(M18=14,350,IF(M18=16,400,IF(M18=18,450,""))))))) -> 200 | CU18: 4 | CV18: 23.8 | CW18: =+CV18*CU18 -> 95.2 | CX18: =+IF(CY18>=2,0.8,0.6) -> 0.6 | CY18: =IF(BK18="","",ROUND((1+BR18)/2,2)) -> 1.28 | CZ18: =IF(BK18="","",ROUND(CV18*CX18*CY18*CU18,2)) -> 73.11 | DA18: =IF(BK18="","",ROUND( IF(AND(CY18>=1.5, CY18<2),(CY18*CW18),0),2)) -> 0 | DB18: =IF(BK18="","",ROUND(IF(AND(CY18>=2, CY18<4),(CY18*CW18),0),2)) -> 0 | DC18: =IF(BK18="","",ROUND(IF(CY18>=4,(CY18*CW18),0),2)) -> 0 | DD18: =IF(BK18="","",ROUND((PI()*((6*0.0254)^2)/4)*CW18,2)) -> 1.74 | DE18: =IF(BK18="","",ROUND(CW18*CX18,2)) -> 57.12 | DF18: =+CC18 -> D | DG18: =IF(BK18="","",ROUND(IF(DF18="F",DE18,0),2)) -> 0 | DH18: =IF(BK18="","",ROUND( IF(DF18="R",DE18,0),2)) -> 0 | DI18: =IF(DF18="","",IF(DF18="R",0.2,IF(DF18="F",0.07,IF(DF18="D",0)))) -> 0 | DJ18: =IF(BK18="","",ROUND(IF(DE18="","",DE18*DI18),2)) -> 0 | DK18: 0.3 | DL18: =ROUND(IF(CO18="","",IF(OR(DF18="R",DF18="F"),(DK18*DE18),0)),2) -> 0 | DM18: =IF(CO18="","",ROUND(IF(DF18="F",DE18*DK18,0),2)) -> 0 | DN18: =IF(BK18="","",ROUND(CZ18-(DD18+DJ18+DL18+DM18+DP18),2)) -> 65.66 | DO18: =IF(BK18="","",0.1) -> 0.1 | DP18: =+DE18*DO18 -> 5.712 | DQ18: =IF(BK18="","",ROUND(DN18*0.2,2)) -> 13.13 | DR18: =IF(BK18="","",ROUND(DN18*0.8,2)) -> 52.53 | DS18: =IF(BK18="","",ROUND(CZ18-(DD18+DR18),2)) -> 18.84 | DU18: =+A18 -> PZ-7 | DV18: =+BP18+0.2 -> 1.68 | DW18: 1.2 | DX18: 1.6 | DY18: =+((PI()*DX18^2)/4)*DV18*-1 -> -3.3778404 | DZ18: 1.6 | EA18: 1.6 | EB18: =+(DZ18*EA18*DV18) -> 4.3008 | EC18: =+EB18+DY18 -> 0.92295958 | ED18: =+EC18*0.55 -> 0.50762777 | EE18: =+EC18*0.45 -> 0.41533181 | EF18: =+ED18 -> 0.50762777
A19: PZ-8 | B19: PZ-9 | C19: 79.456 | D19: 389.983 | E19: 469.439 | F19: 0.015 | G19: 13.99 | H19: 0.01399 | I19: 0.03221909 | J19: 0.032 | K19: 0.12324554 | L19: 4.8521865 | M19: 8 | N19: 0.2 | O19: 0.182 | P19: 0.039581783 | Q19: 1.521464 | R19: 0.35 | S19: 0.76 | T19: 0.46 | U19: 0.95 | V19: 1.1563127 | W19: 0.068147755 | X19: 0.043225 | Y19: 0.08372 | Z19: 0.15186775 | AA19: 0.354 | AB19: 0.064428 | AC19: 13.569192 | AD19: 1.4544656 | AE19: Supercrítico | AF19: -0.025570341 | AG19: 0.0051140681 | AH19: 3.2967033 | AI19: 0.0040466463 | AJ19: 0.0091607144 | AK19: 927.13 | AL19: 924.57 | AM19: 925.90275 | AN19: 923.36016 | AO19: 925.70275 | AP19: 923.16016 | AQ19: 925.78647 | AR19: 923.24388 | AS19: 926.08043 | AT19: 923.53784 | AU19: 1.2272495 | AV19: 1.2098415 | AW19: 1.4272495 | AX19: 1.4098415 | AY19: 0.02 | AZ19: PVC | BA19: Suficiente | BB19: Velocidad NORMAL | BC19: Superior al rango | BD19: Normal | BE19: Normal | BI19: =A19 -> PZ-8 | BJ19: =B19 -> PZ-9 | BK19: =IF(C19="","",ROUND( C19,2)) -> 79.46 | BL19: =IF(BK19="","",ROUND((BK19-1.6),2)) -> 77.86 | BM19: =IF(M19="","",M19) -> 8 | BN19: =IF(BK19="","",ROUND((BK19-1.2),2)) -> 78.26 | BO19: =IF(M19=6,0.5,IF(M19=8,0.6,IF(M19=10,0.65,IF(M19=12,0.7,IF(M19=14,0.75,IF(M19=16,0.8,IF(M19=18,0.85,""))))))) -> 0.6 | BP19: =IF(BK19="","",ROUND((AK19-AO19),2)) -> 1.43 | BQ19: =IF(BK19="","",ROUND((AL19-AP19),2)) -> 1.41 | BR19: =IF(BK19="","",ROUND((BP19+BQ19)/2+0.1,2)) -> 1.52 | BS19: =IF(BK19="","",ROUND( BR19*BO19*BL19,2)) -> 71.01 | BT19: =IF(AND(BR19>=1.5, BR19<2),(BR19*BL19),0) -> 118.3472 | BU19: =IF(AND(BR19>=2, BR19<4),(BR19*BL19),0)*0.78 -> 0 | BV19: =IF(BR19>=4,(BR19*BL19),0) -> 0 | BW19: =IF(BK19="","",ROUND( BS19*$BN$1,2)) -> 0 | BX19: =IF(BK19="","",ROUND(BS19*$BN$2,2)) -> 56.81 | BY19: =IF(BK19="","",ROUND(BS19*$BN$3,2)) -> 12.07 | BZ19: =IF(BL19="","",ROUND(BS19*$BN$4,2)) -> 2.13 | CA19: =IF(BK19="","",ROUND( (PI()*((BM19*0.0254)^2)/4)*BL19,2)) -> 2.52 | CB19: =IF(BK19="","",ROUND(BL19*BO19,2)) -> 46.72 | CC19: D | CD19: =IF(BK19="","",ROUND(IF(CC19="F",CB19,0),2)) -> 0 | CE19: =IF(BK19="","",ROUND(IF(CC19="R",CB19,0),2)) -> 0 | CF19: =IF(CC19="","",IF(CC19="R",0.2,IF(CC19="F",0.07,IF(CC19="D",0)))) -> 0 | CG19: =IF(BK19="","",ROUND(IF(CB19="","",CB19*CF19),2)) -> 0 | CH19: 0.3 | CI19: =ROUND(IF(BK19="","",IF(OR(CC19="R",CC19="F"),(CH19*CB19),0)),2) -> 0 | CJ19: =IF(BK19="","",ROUND(IF(CC19="F",CB19*CH19,0),2)) -> 0 | CK19: =IF(BK19="","",ROUND(BS19-(CA19+CG19+CI19+CJ19+CM19),2)) -> 63.82 | CL19: =IF(BK19="","",0.1) -> 0.1 | CM19: =IF(BK19="","",ROUND((BL19*BO19)*0.1,2)) -> 4.67 | CN19: =IF(BK19="","",ROUND(CK19*$BR$2,2)) -> 18.54 | CO19: =IF(BK19="","",ROUND(CK19*$BR$1,2)) -> 45.28 | CP19: =IF(BK19="","",ROUND(BS19-(CO19),2)) -> 25.73 | CS19: =+M19 -> 8 | CT19: =IF(M19=6,160,IF(M19=8,200,IF(M19=10,250,IF(M19=12,315,IF(M19=14,350,IF(M19=16,400,IF(M19=18,450,""))))))) -> 200 | CU19: 5 | CV19: 23 | CW19: =+CV19*CU19 -> 115 | CX19: =+IF(CY19>=2,0.8,0.6) -> 0.6 | CY19: =IF(BK19="","",ROUND((1+BR19)/2,2)) -> 1.26 | CZ19: =IF(BK19="","",ROUND(CV19*CX19*CY19*CU19,2)) -> 86.94 | DA19: =IF(BK19="","",ROUND( IF(AND(CY19>=1.5, CY19<2),(CY19*CW19),0),2)) -> 0 | DB19: =IF(BK19="","",ROUND(IF(AND(CY19>=2, CY19<4),(CY19*CW19),0),2)) -> 0 | DC19: =IF(BK19="","",ROUND(IF(CY19>=4,(CY19*CW19),0),2)) -> 0 | DD19: =IF(BK19="","",ROUND((PI()*((6*0.0254)^2)/4)*CW19,2)) -> 2.1 | DE19: =IF(BK19="","",ROUND(CW19*CX19,2)) -> 69 | DF19: =+CC19 -> D | DG19: =IF(BK19="","",ROUND(IF(DF19="F",DE19,0),2)) -> 0 | DH19: =IF(BK19="","",ROUND( IF(DF19="R",DE19,0),2)) -> 0 | DI19: =IF(DF19="","",IF(DF19="R",0.2,IF(DF19="F",0.07,IF(DF19="D",0)))) -> 0 | DJ19: =IF(BK19="","",ROUND(IF(DE19="","",DE19*DI19),2)) -> 0 | DK19: 0.3 | DL19: =ROUND(IF(CO19="","",IF(OR(DF19="R",DF19="F"),(DK19*DE19),0)),2) -> 0 | DM19: =IF(CO19="","",ROUND(IF(DF19="F",DE19*DK19,0),2)) -> 0 | DN19: =IF(BK19="","",ROUND(CZ19-(DD19+DJ19+DL19+DM19+DP19),2)) -> 77.94 | DO19: =IF(BK19="","",0.1) -> 0.1 | DP19: =+DE19*DO19 -> 6.9 | DQ19: =IF(BK19="","",ROUND(DN19*0.2,2)) -> 15.59 | DR19: =IF(BK19="","",ROUND(DN19*0.8,2)) -> 62.35 | DS19: =IF(BK19="","",ROUND(CZ19-(DD19+DR19),2)) -> 22.49 | DU19: =+A19 -> PZ-8 | DV19: =+BP19+0.2 -> 1.63 | DW19: 1.2 | DX19: 1.6 | DY19: =+((PI()*DX19^2)/4)*DV19*-1 -> -3.2773095 | DZ19: 1.6 | EA19: 1.6 | EB19: =+(DZ19*EA19*DV19) -> 4.1728 | EC19: =+EB19+DY19 -> 0.89549054 | ED19: =+EC19*0.55 -> 0.4925198 | EE19: =+EC19*0.45 -> 0.40297074 | EF19: =+ED19 -> 0.4925198
A20: PZ-9 | B20: PZ-10 | C20: 66.872 | D20: 469.439 | E20: 536.311 | F20: 0.015 | G20: 14.19 | H20: 0.01419 | I20: 0.04112334 | J20: 0.041 | K20: 0.11827735 | L20: 4.6565888 | M20: 8 | N20: 0.2 | O20: 0.182 | P20: 0.044803537 | Q20: 1.7221803 | R20: 0.32 | S20: 0.74 | T20: 0.439 | U20: 0.919 | V20: 1.2744134 | W20: 0.082779288 | X20: 0.0418145 | Y20: 0.079898 | Z20: 0.16267729 | AA20: 0.334 | AB20: 0.060788 | AC20: 16.81821 | AD20: 1.6503153 | AE20: Supercrítico | AF20: 0.014631533 | AG20: 0.0014631533 | AH20: 3.2967033 | AI20: 0.0037731761 | AJ20: 0.0052363294 | AK20: 924.57 | AL20: 921.82 | AM20: 923.34016 | AN20: 920.59841 | AO20: 923.14016 | AP20: 920.39841 | AQ20: 923.22006 | AR20: 920.4783 | AS20: 923.52868 | AT20: 920.78693 | AU20: 1.2298415 | AV20: 1.2215935 | AW20: 1.4298415 | AX20: 1.4215935 | AY20: 0.7594245 | AZ20: PVC | BA20: Suficiente | BB20: Velocidad NORMAL | BC20: Superior al rango | BD20: Normal | BE20: Normal | BI20: =A20 -> PZ-9 | BJ20: =B20 -> PZ-10 | BK20: =IF(C20="","",ROUND( C20,2)) -> 66.87 | BL20: =IF(BK20="","",ROUND((BK20-1.6),2)) -> 65.27 | BM20: =IF(M20="","",M20) -> 8 | BN20: =IF(BK20="","",ROUND((BK20-1.2),2)) -> 65.67 | BO20: =IF(M20=6,0.5,IF(M20=8,0.6,IF(M20=10,0.65,IF(M20=12,0.7,IF(M20=14,0.75,IF(M20=16,0.8,IF(M20=18,0.85,""))))))) -> 0.6 | BP20: =IF(BK20="","",ROUND((AK20-AO20),2)) -> 1.43 | BQ20: =IF(BK20="","",ROUND((AL20-AP20),2)) -> 1.42 | BR20: =IF(BK20="","",ROUND((BP20+BQ20)/2+0.1,2)) -> 1.53 | BS20: =IF(BK20="","",ROUND( BR20*BO20*BL20,2)) -> 59.92 | BT20: =IF(AND(BR20>=1.5, BR20<2),(BR20*BL20),0) -> 99.8631 | BU20: =IF(AND(BR20>=2, BR20<4),(BR20*BL20),0)*0.78 -> 0 | BV20: =IF(BR20>=4,(BR20*BL20),0) -> 0 | BW20: =IF(BK20="","",ROUND( BS20*$BN$1,2)) -> 0 | BX20: =IF(BK20="","",ROUND(BS20*$BN$2,2)) -> 47.94 | BY20: =IF(BK20="","",ROUND(BS20*$BN$3,2)) -> 10.19 | BZ20: =IF(BL20="","",ROUND(BS20*$BN$4,2)) -> 1.8 | CA20: =IF(BK20="","",ROUND( (PI()*((BM20*0.0254)^2)/4)*BL20,2)) -> 2.12 | CB20: =IF(BK20="","",ROUND(BL20*BO20,2)) -> 39.16 | CC20: D | CD20: =IF(BK20="","",ROUND(IF(CC20="F",CB20,0),2)) -> 0 | CE20: =IF(BK20="","",ROUND(IF(CC20="R",CB20,0),2)) -> 0 | CF20: =IF(CC20="","",IF(CC20="R",0.2,IF(CC20="F",0.07,IF(CC20="D",0)))) -> 0 | CG20: =IF(BK20="","",ROUND(IF(CB20="","",CB20*CF20),2)) -> 0 | CH20: 0.3 | CI20: =ROUND(IF(BK20="","",IF(OR(CC20="R",CC20="F"),(CH20*CB20),0)),2) -> 0 | CJ20: =IF(BK20="","",ROUND(IF(CC20="F",CB20*CH20,0),2)) -> 0 | CK20: =IF(BK20="","",ROUND(BS20-(CA20+CG20+CI20+CJ20+CM20),2)) -> 53.88 | CL20: =IF(BK20="","",0.1) -> 0.1 | CM20: =IF(BK20="","",ROUND((BL20*BO20)*0.1,2)) -> 3.92 | CN20: =IF(BK20="","",ROUND(CK20*$BR$2,2)) -> 15.65 | CO20: =IF(BK20="","",ROUND(CK20*$BR$1,2)) -> 38.23 | CP20: =IF(BK20="","",ROUND(BS20-(CO20),2)) -> 21.69 | CS20: =+M20 -> 8 | CT20: =IF(M20=6,160,IF(M20=8,200,IF(M20=10,250,IF(M20=12,315,IF(M20=14,350,IF(M20=16,400,IF(M20=18,450,""))))))) -> 200 | CU20: 2 | CV20: 16.9 | CW20: =+CV20*CU20 -> 33.8 | CX20: =+IF(CY20>=2,0.8,0.6) -> 0.6 | CY20: =IF(BK20="","",ROUND((1+BR20)/2,2)) -> 1.27 | CZ20: =IF(BK20="","",ROUND(CV20*CX20*CY20*CU20,2)) -> 25.76 | DA20: =IF(BK20="","",ROUND( IF(AND(CY20>=1.5, CY20<2),(CY20*CW20),0),2)) -> 0 | DB20: =IF(BK20="","",ROUND(IF(AND(CY20>=2, CY20<4),(CY20*CW20),0),2)) -> 0 | DC20: =IF(BK20="","",ROUND(IF(CY20>=4,(CY20*CW20),0),2)) -> 0 | DD20: =IF(BK20="","",ROUND((PI()*((6*0.0254)^2)/4)*CW20,2)) -> 0.62 | DE20: =IF(BK20="","",ROUND(CW20*CX20,2)) -> 20.28 | DF20: =+CC20 -> D | DG20: =IF(BK20="","",ROUND(IF(DF20="F",DE20,0),2)) -> 0 | DH20: =IF(BK20="","",ROUND( IF(DF20="R",DE20,0),2)) -> 0 | DI20: =IF(DF20="","",IF(DF20="R",0.2,IF(DF20="F",0.07,IF(DF20="D",0)))) -> 0 | DJ20: =IF(BK20="","",ROUND(IF(DE20="","",DE20*DI20),2)) -> 0 | DK20: 0.3 | DL20: =ROUND(IF(CO20="","",IF(OR(DF20="R",DF20="F"),(DK20*DE20),0)),2) -> 0 | DM20: =IF(CO20="","",ROUND(IF(DF20="F",DE20*DK20,0),2)) -> 0 | DN20: =IF(BK20="","",ROUND(CZ20-(DD20+DJ20+DL20+DM20+DP20),2)) -> 23.11 | DO20: =IF(BK20="","",0.1) -> 0.1 | DP20: =+DE20*DO20 -> 2.028 | DQ20: =IF(BK20="","",ROUND(DN20*0.2,2)) -> 4.62 | DR20: =IF(BK20="","",ROUND(DN20*0.8,2)) -> 18.49 | DS20: =IF(BK20="","",ROUND(CZ20-(DD20+DR20),2)) -> 6.65 | DU20: =+A20 -> PZ-9 | DV20: =+BP20+0.2 -> 1.63 | DW20: 1.2 | DX20: 1.6 | DY20: =+((PI()*DX20^2)/4)*DV20*-1 -> -3.2773095 | DZ20: 1.6 | EA20: 1.6 | EB20: =+(DZ20*EA20*DV20) -> 4.1728 | EC20: =+EB20+DY20 -> 0.89549054 | ED20: =+EC20*0.55 -> 0.4925198 | EE20: =+EC20*0.45 -> 0.40297074 | EF20: =+ED20 -> 0.4925198
