Workbook
Name contratación: 'IDENTIFICACION Y ANALISIS'!$B$24:$B$24
Name ejecución: 'IDENTIFICACION Y ANALISIS'!$B$28:$B$38
Name OPCIONES: 'ASIGNACION Y TRATAMIENTO'!$B$49:$B$51
Name planeación: 'IDENTIFICACION Y ANALISIS'!$B$19:$B$20
Name selección: 'IDENTIFICACION Y ANALISIS'!#REF!

Sheet CONTEXTO
C2: MATRIZ DE RIESGOS EN CONTRATACIÓN | F2: Código: GCO-GCI-F164 Versión: 02 Vigencia: 01 de diciembre de 2022 Caso HOLA: 280117
B6: ESTABLECER EL CONTEXTO
B7: El punto inicial es identificar el contexto en el cual interactúa la Entidad Estatal para conocer el ambiente social, económico y político, e identificar (i) sus propios Riesgos; (ii) los Riesgos comunes a sus Procesos de Contratación; y (iii) los Riesgos del Proceso de Contratación en particular. (Aplica igual para contratos interadministrativos) En este paso la Entidad Estatal debe identificar los aspectos que se mencionan a continuación y los posibles efectos adversos que estos pueden generar.
B8: Objeto del Proceso de Contratación: Aunar esfuerzos y recursos técnicos, administrativos, jurídicos, financieros y humanos entre el Fondo de Desarrollo Local de Santa Fe y la Agencia Atenea, para promover el acceso y la permanencia de los jóvenes de la localidad de Santa Fe de la ciudad de Bogotá a los Programas de Educación Posmedia.
B9: Partícipes del Proceso de Contratación: Fondo de Desarrollo Local de Santa Fe y Agencia Distrital para la Educación Superior la Ciencia y la Tecnologia
B10: Ciudadanía que se beneficia del Proceso de Contratación: Jóvenes del Distrito Capital
B11: Capacidad de la Entidad Estatal entendida como la disponibilidad de recursos y conocimientos para el Proceso de Contratación: La disponibilidad de la Entidad de sus recursos y el conocimiento de su equipo humano se refleja en los diferentes funcionarios que participarán en las diversas etapas del proceso de selección: participan las áreas que requieren los procesos de contratación (Etapa de Planeación), Dirección de Contratación, Comité Evaluador (Etapa de selección), Dirección de Contratación (Etapa de contratación) y la supervisión y apoyos a la misma (Estapa de Ejecución).
B12: Suficiencia del presupuesto oficial del Proceso de Contratación: De acuerdo al Plan Anual de Adquisiciones se deben estimar los recursos necesarios para el desarrollo del proceso de la contratación, el cual tendrá el soporte presupuestal suficiente para su desarrollo.
B13: Condiciones geográficas y de acceso del lugar en el cual se debe cumplir el objeto del Proceso de Contratación: El suministro, obra o servicio se prestará principalmente en las Sedes de la Entidad, o en el lugar indicado en los estudios previos del proceso.
B14: Entorno socio ambiental: Si aplican
B15: Condiciones políticas: Si aplican
B16: Factores ambientales.
B17: Sector del objeto del Proceso de Contratación y su mercado.
... B19: Experiencia propia y de otras Entidades Estatales en Procesos de Contratación del mismo tipo.

Sheet IDENTIFICACION Y ANALISIS
C2: MATRIZ DE RIESGOS DE CONTRATACIÓN | F2: Código: GCO-GCI-F164 Versión: 02 Vigencia: 01 de diciembre de 2022 Caso HOLA: 280117
B6: DEFINICIONES
B7: RIESGO: Evento que puede generar efectos adversos y de distinta magnitud en el logro de los objetivos del Proceso de Contratación o en la ejecución de un contrato RIESGOS PREVISIBLES: Son los posibles hechos o circunstancias que por la naturaleza del contrato y de la actividad a ejecutar es factible su ocurrencia. ETAPA DE PLANEACIÓN: Está comprendida desde el momento en que se identifican las necesidades que debe satisfacer la Secretaría Distrital de Gobierno y el Fondo de Desarrollo Local de Santa Fe, a través del abastecimiento de bienes, obras o servicios, la elaboración del Plan Anual de Adquisiciones y la estructuración de los documentos y estudios previos. ETAPA DE SELECCIÓN: Está comprendida entre el acto de Apertura del Proceso de Contratación y la Adjudicación o la declaración de desierto del Proceso de Contratación ETAPA DE CONTRATACIÓN: Una vez adjudicado el contrato objeto del Proceso de Contratación, inicia la etapa para la celebración del contrato y el cumplimiento de los requisitos para de perfeccionamiento y ejecución. ETAPA DE EJECUCIÓN: Inicia una vez cumplidos los requisitos previstos para iniciar la ejecución del contrato respectivo y termina con el vencimiento del plazo del contrato o la fecha de liquidación si hay lugar a ella. RIESGO GENERAL: Es un riesgo de todos los procesos de contratación adelantados por la Entidad Estatal, por lo cual está presente en toda su actividad contractual. RIEGO ESPECIFICO: Es un riesgo propio del proceso de contratación objeto de análisis. RIESGOS ECONÓMICOS: Son los derivados del comportamiento del mercado, tales como la fluctuación de los precios de los insumos, desabastecimiento y especulación de los mismos, entre otros. RIESGOS SOCIALES O POLÍTICOS: son los derivados de los cambios de las políticas gubernamentales y de cambios en las condiciones sociales que tengan impacto en la ejecución del contrato. RIESGOS OPERACIONALES: Son los asociados a la operatividad del contrato, tales como la suficiencia del presupuesto oficial, del plazo o los derivados de procesos, procedimientos, parámetros, sistemas de información y tecnológicos, equipos humanos o técnicos inadecuados o insuficientes. RIESGOS FINANCIEROS: Son (i) el riesgo de consecución de financiación o riesgo de liquidez para obtener recursos para cumplir con el objeto del contrato, y (ii) el riesgo de las condiciones financieras establecidas para la obtención de los recursos, tales como plazos, tasas, garantías, contragarantías, y refinanciaciones, entre otros. RIESGOS REGULATORIOS: Derivados de cambios regulatorios o reglamentarios que afecten la ecuación económica del contrato. RIESGOS DE LA NATURALEZA: Son los eventos naturales previsibles en los cuales no hay intervención humana que puedan tener impacto en la ejecución del contrato, por ejemplo los temblores, inundaciones, lluvias, sequías, entre otros. RIESGOS AMBIENTALES: Son los derivados de las obligaciones legales o reglamentarias de carácter ambiental, así como de las licencias, planes de manejo o de permisos y autorizaciones ambientales, incluyendo tasas retributivas y compensatorias, obligaciones de mitigación, tareas de monitoreo y control, entre otras. RIESGOS TECNOLÓGICOS: Son los derivados de fallas en los sistemas de comunicación de voz y de datos, suspensión de servicios públicos, nuevos desarrollos tecnológicos o estándares que deben ser tenidos en cuenta para la ejecución del contrato, obsolescencia tecnológica.
B15: INSTRUCCIONES PARA LA IDENTIFICACIÓN, ANALISIS, EVALUACIÓN , ASIGNACIÓN Y TRATAMIENTO DE RIESGOS EN LA CONTRATACIÓN
B16: 1) Identifique los riesgos previsibles que le apliquen al objeto contractual que se adelante. Los relacionados a continuación se establecen de manera general y como proforma. No obstante, si del objeto contractual se identifican otros riesgos diferentes a los aquí determinados, por favor reemplace el texto de la casilla teniendo en cuenta la etapa del proceso. Así mismo, seleccione la clase, fuente y el tipo (Operacional, Económico, Sociales o Políticos, Regulatorios, Financieros, Tecnológicos, De la naturaleza, Ambientales) 2) Continúe en la hoja de "EVALUACIÓN" (SI EXISTEN DUDAS CONCEPTUALES PARA LA ELABORACIÓN DE LA MATRIZ DE RIESGO CONSULTE EL MANUAL PARA LA IDENTIFICACIÓN Y COBERTURA DEL RIESGO EN LOS PROCESOS DE CONTRATACIÓN EXPEDIDO POR COLOMBIA COMPRA EFICIENTE Y LA GUÍA DE RIESGOS PREVISIBLES CONTRACTUALES, EXPEDIDA POR LA VEEDURÍA DISTRITAL)
C17: ETAPAS | D17: CLASE | E17: FUENTE | F17: TIPO
C18: PLANEACIÓN
B19: Fluctuación en las proyecciones e indicadores financieros respecto a los derechos pecuniarios, canastas de crédito o incremento del Salario Minimo Mensual Legal Vigente. | D19: General | E19: Externo | F19: Económico
B20: Incumplir la meta establecida correspondiente con el número de beneficiarios para la ejecucion del convenio | D20: Especifico | E20: Interno | F20: Económico
B21: Que no se puedan cumplir los compromisos del convenio en caso que alguna de las partes cambie, modifique, contrarie o manipule las condiciones del convenio en los documentos contractuales sin previo acuerdo entre las entidades. | D21: Especifico | E21: Interno | F21: Operacionales
C22: SELECCIÓN
C23: CONTRATACIÓN
B24: Que se presenten demoras en la suscripción del convenio con el FDL de Santa Fe y que la Agencia Atenea no pueda adelantar acciones legales y presupuestales con terceros para garantizar la operación del programa | D24: Especifico | E24: Externo | F24: Financieros
C25: EJECUCIÓN
B26: Que los aspirantes registren de manera erronea los datos de residencia y de contacto al momento de la inscripción a la convocatoria generando una marcación incorrecta | D26: General | E26: Externo | F26: Operacionales
B27: Que los beneficiarios abandonen el programa de formación académica | D27: General | E27: Externo | F27: Sociales o Políticos
B28: Cambios normativos en el marco del derecho a la Educación | D28: General | E28: Externo | F28: Regulatorios
B29: Vulneración de los sistemas de información como el canal seguro, para tomar y/o manipular los datos de los beneficiaros | D29: Especifico | E29: Interno | F29: Tecnológico
B30: Que los beneficiarios incumplan con las especificaciones técnicas del programa con relación a la Pasantía Social (Horas Por Bogotà) | D30: Especifico | E30: Externo | F30: Sociales o Políticos
B31: Que el beneficiario no termine su programa académico agotando todos los créditos asignados por el programa | D31: Especifico | E31: Interno | F31: Operacionales
B32: La no ejecución del programa en cuanto aspectos, operativos, logísticos o financieros por la ocurrencia de una catastrofe natural y/o pandemia | D32: General | E32: Externo | F32: De la naturaleza
B33: Que las partes no desarollen las mesas de trabajo y comites de seguimiento en los tiempos establecidos. | D33: Especifico | E33: Interno | F33: Operacionales
B34: Que la Atenea no entregue de manera aportuna los informes de supervisiòn del convenio. | D34: Especifico | E34: Interno | F34: Operacionales
B35: Que el beneficiario financiado con los recursos del FDL de Santa Fe no reciba su apoyo económico en los términos establecidos en los lineamientos internos de la Agencia, por desconocimiento del procedimiento de dispersión y/o variaciones en el incremento del Salario Minimo Legal Vigente. | D35: Especifico | E35: Interno | F35: Operacionales
B36: Baja demanda de aspirantes en las convocatorias que impidan el cumpliento de las metas contractuales | D36: Especifico | E36: Interno | F36: Sociales o Políticos
B37: Que durante la liquidación del convenio no sea posible la liberación de recursos no ejecutados | D37: Estatal | E37: Interno | F37: Operacionales
... B40: Duplicidad en pago de acceso/permanencia por marcar a un mismo joven con fuente Atenea y FDL | D40: Especifico | E40: Interno | F40: Financieros
B43: General
B44: Estatal
B45: Especifico
B47: Interno
B48: Externo

Sheet EVALUACION
C2: MATRIZ DE RIESGOS DE CONTRATACIÓN | K2: Código: GCO-GCI-F164 Versión: 02 Vigencia: 01 de diciembre de 2022 Caso HOLA: 280117
B6: =+CONTEXTO!B8 -> Objeto del Proceso de Contratación: Aunar esfuerzos y recursos técnicos, administrativos, jurídicos, financieros y humanos entre el Fondo de Desarrollo Local de Santa Fe y la Agencia Atenea, para promover el acceso y la permanencia de los jóvenes de la localidad de Santa Fe de la ciudad de Bogotá a los Programas de Educación Posmedia.
B7: INSTRUCCIONES PARA LA IDENTIFICACIÓN, ANALISIS, EVALUACIÓN , ASIGNACIÓN Y TRATAMIENTO DE RIESGOS EN LA CONTRATACIÓN
B8: 1) Diligencie el objeto contractual y seleccione la(s) etapas y los riesgos que aplican al objeto contractual, de acuerdo a lo definido en la hoja de "IDENTIFICACIÓN Y ANÁLISIS"
B9: 2) Describa las consecuencias de la ocurrencia del Riesgo/evento.
B10: 3) Asigne la probabilidad de ocurrencia del riesgo, de conformidad con la tabla de probabilidad y la valoración del riesgo (Cualitativa o Monetaria)
B11: 4) Asigne el impacto que generaría la materialización del riesgo, de conformidad con la tabla de impacto y la valoración del riesgo (Cualitativa o Monetaria)
B12: 5) Al realizar las anteriores actividades se obtendrá la calificación total y la valoración del riesgo (prioridad).
B13: 6) Continúe en la hoja de "EVALUACIÓN DE CONTROLES"
B15: CALIFICACIÓN | H15: Cualitativa
B16: ETAPA | C16: Descripción (Que puede pasar y, cómo puede ocurrir) | H16: Consecuencias de la ocurrencia del evento | I16: Probabilidad de Ocurrencia | J16: Impacto | K16: Calificación Total | L16: Prioridad
B17: PLANEACIÓN | C17: Fluctuación en las proyecciones e indicadores financieros respecto a los derechos pecuniarios, canastas de crédito o incremento del Salario Minimo Mensual Legal Vigente. | H17: Afecta la ejecución financiera exitosa del convenio | I17: 5 | J17: 4 | K17: =I17+J17 -> 9 | L17: =IF(K17<=4,"BAJO",IF(K17=5,"MEDIO",IF(K17=6,"ALTO",IF(K17=7,"ALTO","EXTREMO")))) -> EXTREMO
B18: PLANEACIÓN | C18: Incumplir la meta establecida correspondiente con el número de beneficiarios para la ejecucion del convenio | H18: Afecta la ejecución financiera y técnica del convenio | I18: 2 | J18: 4 | K18: =I18+J18 -> 6 | L18: =IF(K18<=4,"BAJO",IF(K18=5,"MEDIO",IF(K18=6,"ALTO",IF(K18=7,"ALTO","EXTREMO")))) -> ALTO
B19: PLANEACIÓN | C19: Que no se puedan cumplir los compromisos del convenio en caso que alguna de las partes cambie, modifique, contrarie o manipule las condiciones del convenio en los documentos contractuales sin previo acuerdo entre las entidades. | H19: Afecta la ejecución financiera y técnica del convenio | I19: 3 | J19: 3 | K19: =+I19+J19 -> 6 | L19: =IF(K19<=4,"BAJO",IF(K19=5,"MEDIO",IF(K19=6,"ALTO",IF(K19=7,"ALTO","EXTREMO")))) -> ALTO
B20: CONTRATACIÓN | C20: Que se presenten demoras en la suscripción del convenio con el FDL de Santa Fe y que la Agencia Atenea no pueda adelantar acciones legales y presupuestales con terceros para garantizar la operación del programa | H20: Afecta la ejecución del programa y el convenio | I20: 1 | J20: 4 | K20: =+I20+J20 -> 5 | L20: =IF(K20<=4,"BAJO",IF(K20=5,"MEDIO",IF(K20=6,"ALTO",IF(K20=7,"ALTO","EXTREMO")))) -> MEDIO
B21: EJECUCIÓN | C21: Que los aspirantes registren de manera erronea los datos de residencia y de contacto al momento de la inscripción a la convocatoria generando una marcación incorrecta | H21: Marcación errada de fuente de financiación | I21: 4 | J21: 5 | K21: =+I21+J21 -> 9 | L21: =IF(K21<=4,"BAJO",IF(K21=5,"MEDIO",IF(K21=6,"ALTO",IF(K21=7,"ALTO","EXTREMO")))) -> EXTREMO
B22: EJECUCIÓN | C22: Que los beneficiarios abandonen el programa de formación académica | H22: * Afecta la ejecución financiera exitosa del convenio. * No se cumpla la proyección académica (cohorte) del beneficiario. | I22: 5 | J22: 2 | K22: =+I22+J22 -> 7 | L22: =IF(K22<=4,"BAJO",IF(K22=5,"MEDIO",IF(K22=6,"ALTO",IF(K22=7,"ALTO","EXTREMO")))) -> ALTO
B23: EJECUCIÓN | C23: Cambios normativos en el marco del derecho a la Educación | H23: Ajustar los presupuestos o las estrategias del proyecto para cumplir con los nuevos requisitos regulatorios. Cambios en los procesos operativos, financieros y administrativos del proyecto, lo que a su vez puede afectar su eficiencia y efectividad. Lo cual tambien puede afectar e impactar en los convenios suscritos con los FDL | I23: 1 | J23: 5 | K23: =+I23+J23 -> 6 | L23: =IF(K23<=4,"BAJO",IF(K23=5,"MEDIO",IF(K23=6,"ALTO",IF(K23=7,"ALTO","EXTREMO")))) -> ALTO
B24: EJECUCIÓN | C24: Vulneración de los sistemas de información como el canal seguro, para tomar y/o manipular los datos de los beneficiaros | H24: 1. Uso indebido de la información sustraida. 2. Falta al cumplimiento legal de HABEAS DATA. 3. Alto riesgo de la comisión de ilicitos con la información sustraida. | I24: 2 | J24: 5 | K24: =+I24+J24 -> 7 | L24: =IF(K24<=4,"BAJO",IF(K24=5,"MEDIO",IF(K24=6,"ALTO",IF(K24=7,"ALTO","EXTREMO")))) -> ALTO
B25: EJECUCIÓN | C25: Que los beneficiarios incumplan con las especificaciones técnicas del programa con relación a la Pasantía Social | H25: Se incumple con la contrapestación social del programa, por parte de los beneficiarios | I25: 5 | J25: 1 | K25: =+I25+J25 -> 6 | L25: =IF(K25<=4,"BAJO",IF(K25=5,"MEDIO",IF(K25=6,"ALTO",IF(K25=7,"ALTO","EXTREMO")))) -> ALTO
B26: EJECUCIÓN | C26: Que el beneficiario no termine su programa académico agotando todos los créditos asignados por el programa | H26: El beneficiario no se gradua con las condiciones del programa. | I26: 2 | J26: 3 | K26: =+I26+J26 -> 5 | L26: =IF(K26<=4,"BAJO",IF(K26=5,"MEDIO",IF(K26=6,"ALTO",IF(K26=7,"ALTO","EXTREMO")))) -> MEDIO
B27: EJECUCIÓN | C27: La no ejecución del programa en cuanto aspectos, operativos, logisticos o financieros por la ocurrencia de una catastrofe natural y/o pandemia | H27: Ajuste aspectos de ejecución, operativos, logísticos o financieros. | I27: 1 | J27: 3 | K27: =+I27+J27 -> 4 | L27: =IF(K27<=4,"BAJO",IF(K27=5,"MEDIO",IF(K27=6,"ALTO",IF(K27=7,"ALTO","EXTREMO")))) -> BAJO
B28: EJECUCIÓN | C28: Que las partes incumplan con la periodcidad y desarrollo de las mesas de trabajo y comités de seguimiento programados | H28: Incumplimiento contractual | I28: 2 | J28: 3 | K28: =+I28+J28 -> 5 | L28: =IF(K28<=4,"BAJO",IF(K28=5,"MEDIO",IF(K28=6,"ALTO",IF(K28=7,"ALTO","EXTREMO")))) -> MEDIO
B29: EJECUCIÓN | C29: Que la Agencia Atenea incumpla la entrega de los informes pactados generando desconocimiento de la ejecución operativa del convenio | H29: Genera desconocimiento de la ejecución operativa del convenio. | I29: 1 | J29: 4 | K29: =+I29+J29 -> 5 | L29: =IF(K29<=4,"BAJO",IF(K29=5,"MEDIO",IF(K29=6,"ALTO",IF(K29=7,"ALTO","EXTREMO")))) -> MEDIO
B30: EJECUCIÓN | C30: Que el beneficiario financiado con los recursos del FDL de Santa Fe no reciba su apoyo económico en los términos establecidos en los lineamientos internos de la Agencia, por desconocimiento del procedimiento de dispersión y/o variaciones en el incremento del Salario Minimo Legal Vigente. | H30: 1. Aumento en PQR al procedimiento de dispersión. 2. Percepción negativa de la ejecución del programa. | I30: 4 | J30: 3 | K30: =+I30+J30 -> 7 | L30: =IF(K30<=4,"BAJO",IF(K30=5,"MEDIO",IF(K30=6,"ALTO",IF(K30=7,"ALTO","EXTREMO")))) -> ALTO
... B33: EJECUCIÓN | C33: Que se presenten inconsistencias en el reporte de la ejecución ante las entitades distritales competentes | H33: Dificultad para realizar conciliaciones y reportes a SHD | I33: 4 | J33: 3 | K33: =+I33+J33 -> 7 | L33: =IF(K33<=4,"BAJO",IF(K33=5,"MEDIO",IF(K33=6,"ALTO",IF(K33=7,"ALTO","EXTREMO")))) -> ALTO
B37: Probabilidad | C37: Catagoria | E37: Valoración | G37: Impacto | H37: Categoria | I37: Valoración
C38: Raro (puede ocurrir excepcionalmente) | E38: 1 | H38: Insignificante | I38: 1
C39: Improbable (puede ocurrir ocasionalmente) | E39: 2 | H39: Menor | I39: 2
C40: Posible (puede ocurrir en cualquier momento futuro) | E40: 3 | H40: Moderado | I40: 3
C41: Probable (probablemente va a ocurrir) | E41: 4 | H41: Mayor | I41: 4
C42: Casi cierto (ocurre en la mayoria de circunstancias) | E42: 5 | H42: Catastrófico | I42: 5
C44: Valoración del Riesgo
C45: Calificación Cualitativa | F45: Obstruye la ejecución del contrato de manera intrascendente. | G45: Dificulta la ejecución del contrato de manera baja, aplicando medidas mínimas se pueden lograr el objeto contractual | H45: Afecta la ejecución del contrato sin alterar el beneficio para las partes | I45: Obstruye la ejecución del contrato sustancialmente pero aun así permite la consecución del objeto contractual | K45: Perturba la ejecución del contrato de manera grave imposibilitando la consecución del objeto contractual.
C46: Calificación Monetaria | F46: Los sobrecostos no representan más del uno por ciento (1%) del valor del contrato. | G46: Los sobrecostos no representan más del cinco por ciento (5%) del valor del contrato. | H46: Genera un impacto sobre el valor del contrato entre el cinco (5%) y el quince por ciento (15%). | I46: Incrementa el valor del contrato entre el quince (15%) y el treinta por ciento (30%). | K46: Impacto sobre el valor del contrato en más del treinta por ciento (30%).
C47: Categoría | E47: Valoración | F47: Insignificante | G47: Menor | H47: Moderado | I47: Mayor | K47: Catastrófico
F48: 1 | G48: 2 | H48: 3 | I48: 4 | K48: 5
C49: Raro (puede ocurrir excepcionalmente) | E49: 1 | F49: 2 | G49: 3 | H49: 4 | I49: 5 | K49: 6
C50: Improbable (puede ocurrir ocasionalmente) | E50: 2 | F50: 3 | G50: 4 | H50: 5 | I50: 6 | K50: 7
C51: Posible (puede ocurrir en cualquier momento futuro) | E51: 3 | F51: 4 | G51: 5 | H51: 6 | I51: 7 | K51: 8
...

Sheet EVALUACION CON CONTROLES
C2: MATRIZ DE RIESGOS DE CONTRATACIÓN | Q2: Código: GCO-GCI-F164 Versión: 02 Vigencia: 01 de diciembre de 2022 Caso HOLA: 280117
B6: =+EVALUACION!B6 -> Objeto del Proceso de Contratación: Aunar esfuerzos y recursos técnicos, administrativos, jurídicos, financieros y humanos entre el Fondo de Desarrollo Local de Santa Fe y la Agencia Atenea, para promover el acceso y la permanencia de los jóvenes de la localidad de Santa Fe de la ciudad de Bogotá a los Programas de Educación Posmedia.
B7: INSTRUCCIONES PARA LA IDENTIFICACIÓN, ANALISIS, EVALUACIÓN , ASIGNACIÓN Y TRATAMIENTO DE RIESGOS EN LA CONTRATACIÓN
B8: 1) Describa el tratamiento/controles a ser implementados
B9: 2) Diligencie la información de las siguientes columnas, de acuerdo con el análisis realizado a cada riesgo: Afecta el equilibrio económico, persona responsable de implementar el tratamiento, fecha estimada de inicio del tratamiento, fecha estimada en la que se completa el tratamiento, cómo se realiza el monitoreo y la periodicidad.
B10: 3) Continúe en la hoja de "ASIGNACIÓN Y TRATAMIENTO" y diligencie las siguientes casillas: A quien se le asigna y el porcentaje que asume cada una de las partes en caso de que sea compartido.
B15: ETAPA | C15: Descripción (Que puede pasar y, cómo puede ocurrir) | G15: Tratamiento/Controles a ser implementados | I15: Probabilidad de Ocurrencia | J15: Impacto | K15: Calificación Total | L15: Prioridad | M15: ¿Afecta el equilibrio económico del contrato? | N15: Persona responsable por implementar el tratamiento | O15: Fecha estimada en que se inicia el tratamiento | P15: Fecha estimada en que se completa el tratamiento | Q15: ¿Cómo se realiza el monitoreo? | R15: Periodicidad ¿Cuándo?
B16: =+EVALUACION!B17 -> PLANEACIÓN | C16: =+EVALUACION!C17 -> Fluctuación en las proyecciones e indicadores financieros respecto a los derechos pecuniarios, canastas de crédito o incremento del Salario Minimo Mensual Legal Vigente. | G16: 1. Aplicar la cofinanciación con recursos de ATENEA. 2. Utilizar los saldos de los recursos financieros de los FDL, cuando los jóvenes abandonan la formación académica | I16: =+EVALUACION!I17 -> 5 | J16: =+EVALUACION!J17 -> 4 | K16: =+I16+J16 -> 9 | L16: =IF(K16<=4,"BAJO",IF(K16=5,"MEDIO",IF(K16=6,"ALTO",IF(K16=7,"ALTO","EXTREMO")))) -> EXTREMO | M16: SI | N16: ATENEA/FDL | O16: Cuando la Agencia Atenea conoce de la Resolución de los Derechos pecuniarios emitida por las IES y el incremento del SMMLV | P16: Finalización de la cohorte completa. | Q16: Cada vez que se realiza el comité de seguimiento a los convenios suscritos con las IES y se inicia una nueva vigencia presupuestal | R16: Semestralmente/Anualmente
B17: =+EVALUACION!B18 -> PLANEACIÓN | C17: =+EVALUACION!C18 -> Incumplir la meta establecida correspondiente con el número de beneficiarios para la ejecucion del convenio | G17: 1. La Agencia Atenea entraría a financiar los jóvenes de esta localidad. 2. Entre las partes construir estrategias para la identificación de nuevos beneficiarios. | I17: =+EVALUACION!I18 -> 2 | J17: =+EVALUACION!J18 -> 4 | K17: =+I17+J17 -> 6 | L17: =IF(K17<=4,"BAJO",IF(K17=5,"MEDIO",IF(K17=6,"ALTO",IF(K17=7,"ALTO","EXTREMO")))) -> ALTO | M17: SI | N17: ATENEA/FDL | O17: Al conocer de la presentación de los informes de gestión. | P17: Con los acuerdos de Comité de Seguimiento. | Q17: Mesas de trabajo con los FDL, informes de seguimiento y Comités de seguimiento. | R17: Cuando se presente la necesidad.
B18: =+EVALUACION!B19 -> PLANEACIÓN | C18: =+EVALUACION!C19 -> Que no se puedan cumplir los compromisos del convenio en caso que alguna de las partes cambie, modifique, contrarie o manipule las condiciones del convenio en los documentos contractuales sin previo acuerdo entre las entidades. | G18: Revisión, validación y aprobación de los documentos contractuales por las partes. | I18: =+EVALUACION!I19 -> 3 | J18: =+EVALUACION!J19 -> 3 | K18: =+I18+J18 -> 6 | L18: =IF(K18<=4,"BAJO",IF(K18=5,"MEDIO",IF(K18=6,"ALTO",IF(K18=7,"ALTO","EXTREMO")))) -> ALTO | M18: SI | N18: ATENEA/FDL | O18: Con la revisión de los documentos contractuales. | P18: Suscripción o realización de modificaciones aprobadas del convenio. | Q18: 1. Revisión de los documentos contractuales. 2. En la ejecución del Convenio. | R18: En la etapa precontractual
B19: =+EVALUACION!B20 -> CONTRATACIÓN | C19: =+EVALUACION!C20 -> Que se presenten demoras en la suscripción del convenio con el FDL de Santa Fe y que la Agencia Atenea no pueda adelantar acciones legales y presupuestales con terceros para garantizar la operación del programa | G19: Convocar a reuniones de acuerdos de negociación evidenciando la importancia de la suscripción del Convenio. | I19: =+EVALUACION!I20 -> 1 | J19: =+EVALUACION!J20 -> 4 | K19: =+I19+J19 -> 5 | L19: =IF(K19<=4,"BAJO",IF(K19=5,"MEDIO",IF(K19=6,"ALTO",IF(K19=7,"ALTO","EXTREMO")))) -> MEDIO | M19: SI | N19: ATENEA/FDL | O19: Al conocer la negativa de parte del FDL | P19: Cuando se hace el primer pago de acceso y permanencia | Q19: En las mesas de negociación con los FDL | R19: Cada vez que exista la necesidad de suscribir un convenio
B20: =+EVALUACION!B21 -> EJECUCIÓN | C20: =+EVALUACION!C21 -> Que los aspirantes registren de manera erronea los datos de residencia y de contacto al momento de la inscripción a la convocatoria generando una marcación incorrecta | G20: La Agencia realiza una validación de las bases de datos con la Base maestra de Planeación Distrital y el Fondo esta obligado a realizar la validación y confirmación del listado de jóvenes benefiarios que financiarán con sus recursos | I20: =+EVALUACION!I21 -> 4 | J20: =+EVALUACION!J21 -> 5 | K20: =+I20+J20 -> 9 | L20: =IF(K20<=4,"BAJO",IF(K20=5,"MEDIO",IF(K20=6,"ALTO",IF(K20=7,"ALTO","EXTREMO")))) -> EXTREMO | M20: SI | N20: ATENEA/FDL | O20: Al momento de la asignación de la Fuente de Financiación | P20: Cuando se hace la marcación final sobre la información verificada por el FDL | Q20: 1. La Agencia cruza bases de datos con Planeación Distrital. 2. El FDL, realiza la verificación a través de llamadas y/o visitas y/o georeferenciación y/o correo electrónico | R20: Unica vez al momento de la marcación final
B21: =+EVALUACION!B22 -> EJECUCIÓN | C21: =+EVALUACION!C22 -> Que los beneficiarios abandonen el programa de formación académica | G21: * ATENEA: Implementar la estrategia de acompañamiento institucional para las y los beneficiarios del Programa. * FDL: Generar e implementar estrategias para realizar seguimiento y acompañamiento a las y los beneficiarios que financien con sus recursos. *Fortalecer el seguimiento conjunto mediante el Sistema de Alertas Tempranas (SAT), articulando a la Agencia y al FDL para identificar oportunamente riesgos de deserción y promover acciones de acompañamiento a los beneficiarios. | I21: =+EVALUACION!I22 -> 5 | J21: =+EVALUACION!J22 -> 2 | K21: =+I21+J21 -> 7 | L21: =IF(K21<=4,"BAJO",IF(K21=5,"MEDIO",IF(K21=6,"ALTO",IF(K21=7,"ALTO","EXTREMO")))) -> ALTO | M21: SI | N21: ATENEA/FDL | O21: Al momento de la asignación de la Fuente de Financiación | P21: Finalización de la cohorte completa | Q21: * ATENEA. Soporte del acompañamiento realizado por las IES. * FDL. Soporte del acompañamiento realziado por el FDL, por ejemplo llamadas y/o correos y/o visitas domiciliarias y/o chats, entre otros. | R21: Semestralmente
B22: =+EVALUACION!B23 -> EJECUCIÓN | C22: =+EVALUACION!C23 -> Cambios normativos en el marco del derecho a la Educación | G22: Ajustar la operación del convenio interadministrativo de acuerdo con la normatividad expedida | I22: =+EVALUACION!I23 -> 1 | J22: =+EVALUACION!J23 -> 5 | K22: =+I22+J22 -> 6 | L22: =IF(K22<=4,"BAJO",IF(K22=5,"MEDIO",IF(K22=6,"ALTO",IF(K22=7,"ALTO","EXTREMO")))) -> ALTO | M22: SI | N22: ATENEA/FDL | O22: Desde la vigencia de la nueva normatividad | P22: De acuerdo con la estipulado en la norma | Q22: Mantenerse actualizado sobre cualquier cambio en las regulaciones y políticas relacionadas con la educación superior. | R22: Semestralmente
B23: =+EVALUACION!B24 -> EJECUCIÓN | C23: =+EVALUACION!C24 -> Vulneración de los sistemas de información como el canal seguro, para tomar y/o manipular los datos de los beneficiaros | G23: * La aplicación del Acuerdo de Nivel de Servicios para el intercambio de información suscrito entre las partes. | I23: =+EVALUACION!I24 -> 2 | J23: =+EVALUACION!J24 -> 5 | K23: =+I23+J23 -> 7 | L23: =IF(K23<=4,"BAJO",IF(K23=5,"MEDIO",IF(K23=6,"ALTO",IF(K23=7,"ALTO","EXTREMO")))) -> ALTO | M23: NO | N23: ATENEA/FDL | O23: Cuando se materialice el riesgo | P23: Finalización del convenio interadministrativo | Q23: Revisión continúa a los permisos de acceso al canal seguro | R23: Trimestralmente
B24: =+EVALUACION!B25 -> EJECUCIÓN | C24: =+EVALUACION!C25 -> Que los beneficiarios incumplan con las especificaciones técnicas del programa con relación a la Pasantía Social | G24: Atenea : Revisar los lineamientos que orientan las Pasantías. FDL. Generar espacios para que los beneficiarios cumplan las horas de pasantías | I24: =+EVALUACION!I25 -> 5 | J24: =+EVALUACION!J25 -> 1 | K24: =+I24+J24 -> 6 | L24: =IF(K24<=4,"BAJO",IF(K24=5,"MEDIO",IF(K24=6,"ALTO",IF(K24=7,"ALTO","EXTREMO")))) -> ALTO | M24: SI | N24: ATENEA/FDL | O24: En el informe que genera ATENEA en el que comunica el estado de las pasantías sociales, | P24: A la finalización de la Cohorte | Q24: A través de los informes de gestión | R24: Semestralmente
B25: =+EVALUACION!B26 -> EJECUCIÓN | C25: =+EVALUACION!C26 -> Que el beneficiario no termine su programa académico agotando todos los créditos asignados por el programa | G25: * ATENEA: Implementar la estrategia de acompañamiento institucional para las y los beneficiarios del Programa. | I25: =+EVALUACION!I26 -> 2 | J25: =+EVALUACION!J26 -> 3 | K25: =+I25+J25 -> 5 | L25: =IF(K25<=4,"BAJO",IF(K25=5,"MEDIO",IF(K25=6,"ALTO",IF(K25=7,"ALTO","EXTREMO")))) -> MEDIO | M25: SI | N25: ATENEA/FDL | O25: Con el informe que remiten las IES. | P25: A la finalización de la Cohorte | Q25: A través del monitoreo que realizan las IES. | R25: Semestralmente
B26: =+EVALUACION!B27 -> EJECUCIÓN | C26: =+EVALUACION!C27 -> La no ejecución del programa en cuanto aspectos, operativos, logisticos o financieros por la ocurrencia de una catastrofe natural y/o pandemia | G26: Suspensión del convenio hasta que se reestablezcan las condiciones | I26: =+EVALUACION!I27 -> 1 | J26: =+EVALUACION!J27 -> 3 | K26: =+I26+J26 -> 4 | L26: =IF(K26<=4,"BAJO",IF(K26=5,"MEDIO",IF(K26=6,"ALTO",IF(K26=7,"ALTO","EXTREMO")))) -> BAJO | M26: SI | N26: ATENEA/FDL | O26: Cuando suceda el siniestro | P26: Cuando finalice el siniestro | Q26: Seguimiento alReporte de boletines informativos por el organo competente | R26: En tiempo real
B27: =+EVALUACION!B28 -> EJECUCIÓN | C27: =+EVALUACION!C28 -> Que las partes incumplan con la periodcidad y desarrollo de las mesas de trabajo y comités de seguimiento programados | G27: Acordar un cronograma y reprogramación de mesas no desarrolladas. | I27: =+EVALUACION!I28 -> 2 | J27: =+EVALUACION!J28 -> 3 | K27: =+I27+J27 -> 5 | L27: =IF(K27<=4,"BAJO",IF(K27=5,"MEDIO",IF(K27=6,"ALTO",IF(K27=7,"ALTO","EXTREMO")))) -> MEDIO | M27: NO | N27: ATENEA/FDL | O27: Al incumplimiento de la periodicidad | P27: Cuando se realicen los mesas no llevadas a cabo. | Q27: Cronograma establecido. | R27: Bimensual (mesas técnicas y Semestral (comités de seguimiento).
... B32: =+EVALUACION!B33 -> EJECUCIÓN | C32: =+EVALUACION!C33 -> Que se presenten inconsistencias en el reporte de la ejecución ante las entitades distritales competentes | G32: Validación y conciliación previa de la información; revisión por las áreas técnicas, financieras y jurídicas; aplicación de controles de calidad de datos. | I32: =+EVALUACION!I33 -> 4 | J32: =+EVALUACION!J33 -> 3 | K32: =+I32+J32 -> 7 | L32: =IF(K32<=4,"BAJO",IF(K32=5,"MEDIO",IF(K32=6,"ALTO",IF(K32=7,"ALTO","EXTREMO")))) -> ALTO | M32: NO | N32: ATENEA/FDL | O32: Cuando se realice el reporte ante la SDH | P32: Cuando se realicen los reportes a las entidades competentes | Q32: Cronograma establecido. | R32: Trimestralmente
C37: Categoria del Riesgo | H37: Impacto del Riesgo
B38: Probabilidad | C38: Catagoria | F38: Valoración | H38: Categoria | J38: Valoración | N38: Categoria del Riesgo
C39: Raro (puede ocurrir excepcionalmente) | F39: 1 | H39: Insignificante | J39: 1 | N39: Valoración del Riesgo | P39: Categoría
C40: Improbable (puede ocurrir ocasionalmente) | F40: 2 | H40: Menor | J40: 2 | N40: 8, 9 y 10 | P40: Riesgo extremo
C41: Posible (puede ocurrir en cualquier momento futuro) | F41: 3 | H41: Moderado | J41: 3 | N41: 6 y 7 | P41: Riesgo alto
C42: Probable (probablemente va a ocurrir) | F42: 4 | H42: Mayor | J42: 4 | N42: 5 | P42: Riesgo medio
C43: Casi cierto (ocurre en la mayoria de circunstancias) | F43: 5 | H43: Catastrófico | J43: 5 | N43: 2, 3 y 4 | P43: Riesgo bajo
C45: Valoración del Riesgo
C46: Calificación Cualitativa | G46: Obstruye la ejecución del contrato de manera intrascendente. | I46: Dificulta la ejecución del contrato de manera baja, aplicando medidas mínimas se pueden lograr el objeto contractual | L46: Afecta la ejecución del contrato sin alterar el beneficio para las partes | N46: Obstruye la ejecución del contrato sustancialmente pero aun así permite la consecución del objeto contractual | P46: Perturba la ejecución del contrato de manera grave imposibilitando la consecución del objeto contractual.
C47: Calificación Monetaria | G47: Los sobrecostos no representan más del uno por ciento (1%) del valor del contrato. | I47: Los sobrecostos no representan más del cinco por ciento (5%) del valor del contrato. | L47: Genera un impacto sobre el valor del contrato entre el cinco (5%) y el quince por ciento (15%). | N47: Incrementa el valor del contrato entre el quince (15%) y el treinta por ciento (30%). | P47: Impacto sobre el valor del contrato en más del treinta por ciento (30%).
C48: Catagoria | F48: Valoración | G48: Insignificante | I48: Menor | L48: Moderado | N48: Mayor | P48: Catastrófico
G49: 1 | I49: 2 | L49: 3 | N49: 4 | P49: 5
C50: Raro (puede ocurrir excepcionalmente) | F50: 1 | G50: 2 | I50: 3 | L50: 4 | N50: 5 | P50: 6
C51: Improbable (puede ocurrir ocasionalmente) | F51: 2 | G51: 3 | I51: 4 | L51: 5 | N51: 6 | P51: 7
C52: Posible (puede ocurrir en cualquier momento futuro) | F52: 3 | G52: 4 | I52: 5 | L52: 6 | N52: 7 | P52: 8
C53: Probable (probablemente va a ocurrir) | F53: 4 | G53: 5 | I53: 6 | L53: 7 | N53: 8 | P53: 9
C54: Casi cierto (ocurre en la mayoria de circunstancias) | F54: 5 | G54: 6 | I54: 7 | L54: 8 | N54: 9 | P54: 10

Sheet ASIGNACION Y TRATAMIENTO
C2: MATRIZ DE RIESGOS DE CONTRATACIÓN | W2: Código: GCO-GCI-F164 Versión: 02 Vigencia: 01 de diciembre de 2022 Caso HOLA: 280117
B6: =+EVALUACION!B6 -> Objeto del Proceso de Contratación: Aunar esfuerzos y recursos técnicos, administrativos, jurídicos, financieros y humanos entre el Fondo de Desarrollo Local de Santa Fe y la Agencia Atenea, para promover el acceso y la permanencia de los jóvenes de la localidad de Santa Fe de la ciudad de Bogotá a los Programas de Educación Posmedia.
B7: Esta matriz es un documento anexo del Estudio Previo
B10: No | C10: Descripción (Que puede pasar y, cómo puede ocurrir) | D10: Etapa | E10: Clase | F10: Fuente | G10: Consecuencias de la ocurrencia del evento | H10: Probabilidad | I10: Impacto | J10: Calificación total | K10: Prioridad | L10: ¿A quien se le asigna? | M10: % | N10: Tratamiento/Controles a ser implementados | O10: Probabilidad | P10: Impacto | Q10: Calificación total | R10: Prioridad | S10: ¿Afecta el equilibrio económico del contrato? | T10: Persona responsable por implementar el tratamiento | U10: Fecha estimada en que se inicia el tratamiento | V10: Fecha estimada en que se completa el tratamiento | W10: ¿Cómo se realiza el monitoreo | X10: Periodicidad ¿Cuándo?
B11: 1 | C11: =+'EVALUACION CON CONTROLES'!C16:F16 -> Fluctuación en las proyecciones e indicadores financieros respecto a los derechos pecuniarios, canastas de crédito o incremento del Salario Minimo Mensual Legal Vigente. | D11: =+'EVALUACION CON CONTROLES'!B16 -> PLANEACIÓN | E11: =+'IDENTIFICACION Y ANALISIS'!D19 -> General | F11: =+'IDENTIFICACION Y ANALISIS'!E19 -> Externo | G11: =+EVALUACION!H17 -> Afecta la ejecución financiera exitosa del convenio | H11: =+EVALUACION!I17 -> 5 | I11: =+EVALUACION!J17 -> 4 | J11: =+H11+I11 -> 9 | K11: =IF(J11<=4,"BAJO",IF(J11=5,"MEDIO",IF(J11=6,"ALTO",IF(J11=7,"ALTO","EXTREMO")))) -> EXTREMO | N11: =+'EVALUACION CON CONTROLES'!G16 -> 1. Aplicar la cofinanciación con recursos de ATENEA. 2. Utilizar los saldos de los recursos financieros de los FDL, cuando los jóvenes abandonan la formación académica | O11: 3 | P11: 2 | Q11: =+O11+P11 -> 5 | R11: =IF(Q11<=4,"BAJO",IF(Q11=5,"MEDIO",IF(Q11=6,"ALTO",IF(Q11=7,"ALTO","EXTREMO")))) -> MEDIO | S11: SI | T11: =+'EVALUACION CON CONTROLES'!N16 -> ATENEA/FDL | U11: =+'EVALUACION CON CONTROLES'!O16 -> Cuando la Agencia Atenea conoce de la Resolución de los Derechos pecuniarios emitida por las IES y el incremento del SMMLV | V11: =+'EVALUACION CON CONTROLES'!P16 -> Finalización de la cohorte completa. | W11: =+'EVALUACION CON CONTROLES'!Q16 -> Cada vez que se realiza el comité de seguimiento a los convenios suscritos con las IES y se inicia una nueva vigencia presupuestal | X11: =+'EVALUACION CON CONTROLES'!R16 -> Semestralmente/Anualmente
B12: 2 | C12: =+'EVALUACION CON CONTROLES'!C17:F17 -> Incumplir la meta establecida correspondiente con el número de beneficiarios para la ejecucion del convenio | D12: =+'EVALUACION CON CONTROLES'!B17 -> PLANEACIÓN | E12: =+'IDENTIFICACION Y ANALISIS'!D20 -> Especifico | F12: =+'IDENTIFICACION Y ANALISIS'!E20 -> Interno | G12: =+EVALUACION!H18 -> Afecta la ejecución financiera y técnica del convenio | H12: =+EVALUACION!I18 -> 2 | I12: =+EVALUACION!J18 -> 4 | J12: =+H12+I12 -> 6 | K12: =IF(J12<=4,"BAJO",IF(J12=5,"MEDIO",IF(J12=6,"ALTO",IF(J12=7,"ALTO","EXTREMO")))) -> ALTO | N12: =+'EVALUACION CON CONTROLES'!G17 -> 1. La Agencia Atenea entraría a financiar los jóvenes de esta localidad. 2. Entre las partes construir estrategias para la identificación de nuevos beneficiarios. | O12: 3 | P12: 2 | Q12: =+O12+P12 -> 5 | R12: =IF(Q12<=4,"BAJO",IF(Q12=5,"MEDIO",IF(Q12=6,"ALTO",IF(Q12=7,"ALTO","EXTREMO")))) -> MEDIO | S12: SI | T12: =+'EVALUACION CON CONTROLES'!N17 -> ATENEA/FDL | U12: =+'EVALUACION CON CONTROLES'!O17 -> Al conocer de la presentación de los informes de gestión. | V12: =+'EVALUACION CON CONTROLES'!P17 -> Con los acuerdos de Comité de Seguimiento. | W12: =+'EVALUACION CON CONTROLES'!Q17 -> Mesas de trabajo con los FDL, informes de seguimiento y Comités de seguimiento. | X12: =+'EVALUACION CON CONTROLES'!R17 -> Cuando se presente la necesidad.
B13: 3 | C13: =+'EVALUACION CON CONTROLES'!C18:F18 -> Que no se puedan cumplir los compromisos del convenio en caso que alguna de las partes cambie, modifique, contrarie o manipule las condiciones del convenio en los documentos contractuales sin previo acuerdo entre las entidades. | D13: =+'EVALUACION CON CONTROLES'!B18 -> PLANEACIÓN | E13: =+'IDENTIFICACION Y ANALISIS'!D21 -> Especifico | F13: =+'IDENTIFICACION Y ANALISIS'!E21 -> Interno | G13: =+EVALUACION!H19 -> Afecta la ejecución financiera y técnica del convenio | H13: =+EVALUACION!I19 -> 3 | I13: =+EVALUACION!J19 -> 3 | J13: =+H13+I13 -> 6 | K13: =IF(J13<=4,"BAJO",IF(J13=5,"MEDIO",IF(J13=6,"ALTO",IF(J13=7,"ALTO","EXTREMO")))) -> ALTO | N13: =+'EVALUACION CON CONTROLES'!G18 -> Revisión, validación y aprobación de los documentos contractuales por las partes. | O13: 3 | P13: 3 | Q13: =+O13+P13 -> 6 | R13: =IF(Q13<=4,"BAJO",IF(Q13=5,"MEDIO",IF(Q13=6,"ALTO",IF(Q13=7,"ALTO","EXTREMO")))) -> ALTO | S13: SI | T13: =+'EVALUACION CON CONTROLES'!N18 -> ATENEA/FDL | U13: =+'EVALUACION CON CONTROLES'!O18 -> Con la revisión de los documentos contractuales. | V13: =+'EVALUACION CON CONTROLES'!P18 -> Suscripción o realización de modificaciones aprobadas del convenio. | W13: =+'EVALUACION CON CONTROLES'!Q18 -> 1. Revisión de los documentos contractuales. 2. En la ejecución del Convenio. | X13: =+'EVALUACION CON CONTROLES'!R18 -> En la etapa precontractual
B14: 4 | C14: =+'EVALUACION CON CONTROLES'!C19:F19 -> Que se presenten demoras en la suscripción del convenio con el FDL de Santa Fe y que la Agencia Atenea no pueda adelantar acciones legales y presupuestales con terceros para garantizar la operación del programa | D14: =+'EVALUACION CON CONTROLES'!B19 -> CONTRATACIÓN | E14: =+'IDENTIFICACION Y ANALISIS'!D24 -> Especifico | F14: =+'IDENTIFICACION Y ANALISIS'!E24 -> Externo | G14: =+EVALUACION!H20 -> Afecta la ejecución del programa y el convenio | H14: =+EVALUACION!I20 -> 1 | I14: =+EVALUACION!J20 -> 4 | J14: =+H14+I14 -> 5 | K14: =IF(J14<=4,"BAJO",IF(J14=5,"MEDIO",IF(J14=6,"ALTO",IF(J14=7,"ALTO","EXTREMO")))) -> MEDIO | N14: =+'EVALUACION CON CONTROLES'!G19 -> Convocar a reuniones de acuerdos de negociación evidenciando la importancia de la suscripción del Convenio. | O14: =+'EVALUACION CON CONTROLES'!I19 -> 1 | P14: 4 | Q14: =+O14+P14 -> 5 | R14: =IF(Q14<=4,"BAJO",IF(Q14=5,"MEDIO",IF(Q14=6,"ALTO",IF(Q14=7,"ALTO","EXTREMO")))) -> MEDIO | S14: SI | T14: =+'EVALUACION CON CONTROLES'!N19 -> ATENEA/FDL | U14: =+'EVALUACION CON CONTROLES'!O19 -> Al conocer la negativa de parte del FDL | V14: =+'EVALUACION CON CONTROLES'!P19 -> Cuando se hace el primer pago de acceso y permanencia | W14: =+'EVALUACION CON CONTROLES'!Q19 -> En las mesas de negociación con los FDL | X14: =+'EVALUACION CON CONTROLES'!R19 -> Cada vez que exista la necesidad de suscribir un convenio
B15: 5 | C15: =+'EVALUACION CON CONTROLES'!C20:F20 -> Que los aspirantes registren de manera erronea los datos de residencia y de contacto al momento de la inscripción a la convocatoria generando una marcación incorrecta | D15: =+'EVALUACION CON CONTROLES'!B20 -> EJECUCIÓN | E15: =+'IDENTIFICACION Y ANALISIS'!D26 -> General | F15: =+'IDENTIFICACION Y ANALISIS'!E26 -> Externo | G15: =+EVALUACION!H21 -> Marcación errada de fuente de financiación | H15: =+EVALUACION!I21 -> 4 | I15: =+EVALUACION!J21 -> 5 | J15: =+H15+I15 -> 9 | K15: =IF(J15<=4,"BAJO",IF(J15=5,"MEDIO",IF(J15=6,"ALTO",IF(J15=7,"ALTO","EXTREMO")))) -> EXTREMO | N15: =+'EVALUACION CON CONTROLES'!G20 -> La Agencia realiza una validación de las bases de datos con la Base maestra de Planeación Distrital y el Fondo esta obligado a realizar la validación y confirmación del listado de jóvenes benefiarios que financiarán con sus recursos | O15: =+'EVALUACION CON CONTROLES'!I20 -> 4 | P15: =+'EVALUACION CON CONTROLES'!J20 -> 5 | Q15: =+O15+P15 -> 9 | R15: =IF(Q15<=4,"BAJO",IF(Q15=5,"MEDIO",IF(Q15=6,"ALTO",IF(Q15=7,"ALTO","EXTREMO")))) -> EXTREMO | S15: SI | T15: =+'EVALUACION CON CONTROLES'!N20 -> ATENEA/FDL | U15: =+'EVALUACION CON CONTROLES'!O20 -> Al momento de la asignación de la Fuente de Financiación | V15: =+'EVALUACION CON CONTROLES'!P20 -> Cuando se hace la marcación final sobre la información verificada por el FDL | W15: =+'EVALUACION CON CONTROLES'!Q20 -> 1. La Agencia cruza bases de datos con Planeación Distrital. 2. El FDL, realiza la verificación a través de llamadas y/o visitas y/o georeferenciación y/o correo electrónico | X15: =+'EVALUACION CON CONTROLES'!R20 -> Unica vez al momento de la marcación final
B16: 6 | C16: =+'EVALUACION CON CONTROLES'!C21:F21 -> Que los beneficiarios abandonen el programa de formación académica | D16: =+'EVALUACION CON CONTROLES'!B21 -> EJECUCIÓN | E16: =+'IDENTIFICACION Y ANALISIS'!D27 -> General | F16: =+'IDENTIFICACION Y ANALISIS'!E27 -> Externo | G16: =+EVALUACION!H22 -> * Afecta la ejecución financiera exitosa del convenio. * No se cumpla la proyección académica (cohorte) del beneficiario. | H16: =+EVALUACION!I22 -> 5 | I16: =+EVALUACION!J22 -> 2 | J16: =+H16+I16 -> 7 | K16: =IF(J16<=4,"BAJO",IF(J16=5,"MEDIO",IF(J16=6,"ALTO",IF(J16=7,"ALTO","EXTREMO")))) -> ALTO | N16: =+'EVALUACION CON CONTROLES'!G21 -> * ATENEA: Implementar la estrategia de acompañamiento institucional para las y los beneficiarios del Programa. * FDL: Generar e implementar estrategias para realizar seguimiento y acompañamiento a las y los beneficiarios que financien con sus recursos. *Fortalecer el seguimiento conjunto mediante el Sistema de Alertas Tempranas (SAT), articulando a la Agencia y al FDL para identificar oportunamente riesgos de deserción y promover acciones de acompañamiento a los beneficiarios. | O16: =+'EVALUACION CON CONTROLES'!I21 -> 5 | P16: 1 | Q16: =+O16+P16 -> 6 | R16: =IF(Q16<=4,"BAJO",IF(Q16=5,"MEDIO",IF(Q16=6,"ALTO",IF(Q16=7,"ALTO","EXTREMO")))) -> ALTO | S16: SI | T16: =+'EVALUACION CON CONTROLES'!N21 -> ATENEA/FDL | U16: =+'EVALUACION CON CONTROLES'!O21 -> Al momento de la asignación de la Fuente de Financiación | V16: =+'EVALUACION CON CONTROLES'!P21 -> Finalización de la cohorte completa | W16: =+'EVALUACION CON CONTROLES'!Q21 -> * ATENEA. Soporte del acompañamiento realizado por las IES. * FDL. Soporte del acompañamiento realziado por el FDL, por ejemplo llamadas y/o correos y/o visitas domiciliarias y/o chats, entre otros. | X16: =+'EVALUACION CON CONTROLES'!R21 -> Semestralmente
B17: 7 | C17: =+'EVALUACION CON CONTROLES'!C22:F22 -> Cambios normativos en el marco del derecho a la Educación | D17: =+'EVALUACION CON CONTROLES'!B22 -> EJECUCIÓN | E17: =+'IDENTIFICACION Y ANALISIS'!D28 -> General | F17: =+'IDENTIFICACION Y ANALISIS'!E28 -> Externo | G17: =+EVALUACION!H23 -> Ajustar los presupuestos o las estrategias del proyecto para cumplir con los nuevos requisitos regulatorios. Cambios en los procesos operativos, financieros y administrativos del proyecto, lo que a su vez puede afectar su eficiencia y efectividad. Lo cual tambien puede afectar e impactar en los convenios suscritos con los FDL | H17: =+EVALUACION!I23 -> 1 | I17: =+EVALUACION!J23 -> 5 | J17: =+H17+I17 -> 6 | K17: =IF(J17<=4,"BAJO",IF(J17=5,"MEDIO",IF(J17=6,"ALTO",IF(J17=7,"ALTO","EXTREMO")))) -> ALTO | N17: =+'EVALUACION CON CONTROLES'!G22 -> Ajustar la operación del convenio interadministrativo de acuerdo con la normatividad expedida | O17: 2 | P17: 5 | Q17: =+O17+P17 -> 7 | R17: =IF(Q17<=4,"BAJO",IF(Q17=5,"MEDIO",IF(Q17=6,"ALTO",IF(Q17=7,"ALTO","EXTREMO")))) -> ALTO | S17: SI | T17: =+'EVALUACION CON CONTROLES'!N22 -> ATENEA/FDL | U17: =+'EVALUACION CON CONTROLES'!O22 -> Desde la vigencia de la nueva normatividad | V17: =+'EVALUACION CON CONTROLES'!P22 -> De acuerdo con la estipulado en la norma | W17: =+'EVALUACION CON CONTROLES'!Q22 -> Mantenerse actualizado sobre cualquier cambio en las regulaciones y políticas relacionadas con la educación superior. | X17: =+'EVALUACION CON CONTROLES'!R22 -> Semestralmente
B18: 8 | C18: =+'EVALUACION CON CONTROLES'!C23:F23 -> Vulneración de los sistemas de información como el canal seguro, para tomar y/o manipular los datos de los beneficiaros | D18: =+'EVALUACION CON CONTROLES'!B23 -> EJECUCIÓN | E18: =+'IDENTIFICACION Y ANALISIS'!D29 -> Especifico | F18: =+'IDENTIFICACION Y ANALISIS'!E29 -> Interno | G18: =+EVALUACION!H24 -> 1. Uso indebido de la información sustraida. 2. Falta al cumplimiento legal de HABEAS DATA. 3. Alto riesgo de la comisión de ilicitos con la información sustraida. | H18: =+EVALUACION!I24 -> 2 | I18: =+EVALUACION!J24 -> 5 | J18: =+H18+I18 -> 7 | K18: =IF(J18<=4,"BAJO",IF(J18=5,"MEDIO",IF(J18=6,"ALTO",IF(J18=7,"ALTO","EXTREMO")))) -> ALTO | N18: =+'EVALUACION CON CONTROLES'!G23 -> * La aplicación del Acuerdo de Nivel de Servicios para el intercambio de información suscrito entre las partes. | O18: 1 | P18: =+'EVALUACION CON CONTROLES'!J23 -> 5 | Q18: =+O18+P18 -> 6 | R18: =IF(Q18<=4,"BAJO",IF(Q18=5,"MEDIO",IF(Q18=6,"ALTO",IF(Q18=7,"ALTO","EXTREMO")))) -> ALTO | S18: NO | T18: =+'EVALUACION CON CONTROLES'!N23 -> ATENEA/FDL | U18: =+'EVALUACION CON CONTROLES'!O23 -> Cuando se materialice el riesgo | V18: =+'EVALUACION CON CONTROLES'!P23 -> Finalización del convenio interadministrativo | W18: =+'EVALUACION CON CONTROLES'!Q23 -> Revisión continúa a los permisos de acceso al canal seguro | X18: =+'EVALUACION CON CONTROLES'!R23 -> Trimestralmente
B19: 9 | C19: =+'EVALUACION CON CONTROLES'!C24:F24 -> Que los beneficiarios incumplan con las especificaciones técnicas del programa con relación a la Pasantía Social | D19: =+'EVALUACION CON CONTROLES'!B24 -> EJECUCIÓN | E19: =+'IDENTIFICACION Y ANALISIS'!D30 -> Especifico | F19: =+'IDENTIFICACION Y ANALISIS'!E30 -> Externo | G19: =+EVALUACION!H25 -> Se incumple con la contrapestación social del programa, por parte de los beneficiarios | H19: =+EVALUACION!I25 -> 5 | I19: =+EVALUACION!J25 -> 1 | J19: =+H19+I19 -> 6 | K19: =IF(J19<=4,"BAJO",IF(J19=5,"MEDIO",IF(J19=6,"ALTO",IF(J19=7,"ALTO","EXTREMO")))) -> ALTO | N19: =+'EVALUACION CON CONTROLES'!G24 -> Atenea : Revisar los lineamientos que orientan las Pasantías. FDL. Generar espacios para que los beneficiarios cumplan las horas de pasantías | O19: 5 | P19: =+'EVALUACION CON CONTROLES'!J24 -> 1 | Q19: =+O19+P19 -> 6 | R19: =IF(Q19<=4,"BAJO",IF(Q19=5,"MEDIO",IF(Q19=6,"ALTO",IF(Q19=7,"ALTO","EXTREMO")))) -> ALTO | S19: SI | T19: =+'EVALUACION CON CONTROLES'!N24 -> ATENEA/FDL | U19: =+'EVALUACION CON CONTROLES'!O24 -> En el informe que genera ATENEA en el que comunica el estado de las pasantías sociales, | V19: =+'EVALUACION CON CONTROLES'!P24 -> A la finalización de la Cohorte | W19: =+'EVALUACION CON CONTROLES'!Q24 -> A través de los informes de gestión | X19: =+'EVALUACION CON CONTROLES'!R24 -> Semestralmente
B20: 10 | C20: =+'EVALUACION CON CONTROLES'!C25:F25 -> Que el beneficiario no termine su programa académico agotando todos los créditos asignados por el programa | D20: =+'EVALUACION CON CONTROLES'!B25 -> EJECUCIÓN | E20: =+'IDENTIFICACION Y ANALISIS'!D31 -> Especifico | F20: =+'IDENTIFICACION Y ANALISIS'!E31 -> Interno | G20: =+EVALUACION!H26 -> El beneficiario no se gradua con las condiciones del programa. | H20: =+EVALUACION!I26 -> 2 | I20: =+EVALUACION!J26 -> 3 | J20: =+H20+I20 -> 5 | K20: =IF(J20<=4,"BAJO",IF(J20=5,"MEDIO",IF(J20=6,"ALTO",IF(J20=7,"ALTO","EXTREMO")))) -> MEDIO | N20: =+'EVALUACION CON CONTROLES'!G25 -> * ATENEA: Implementar la estrategia de acompañamiento institucional para las y los beneficiarios del Programa. | O20: 2 | P20: 2 | Q20: =+O20+P20 -> 4 | R20: =IF(Q20<=4,"BAJO",IF(Q20=5,"MEDIO",IF(Q20=6,"ALTO",IF(Q20=7,"ALTO","EXTREMO")))) -> BAJO | S20: =+'EVALUACION CON CONTROLES'!M25 -> SI | T20: =+'EVALUACION CON CONTROLES'!N25 -> ATENEA/FDL | U20: =+'EVALUACION CON CONTROLES'!O25 -> Con el informe que remiten las IES. | V20: =+'EVALUACION CON CONTROLES'!P25 -> A la finalización de la Cohorte | W20: =+'EVALUACION CON CONTROLES'!Q25 -> A través del monitoreo que realizan las IES. | X20: =+'EVALUACION CON CONTROLES'!R25 -> Semestralmente
B21: 11 | C21: =+'EVALUACION CON CONTROLES'!C26:F26 -> La no ejecución del programa en cuanto aspectos, operativos, logisticos o financieros por la ocurrencia de una catastrofe natural y/o pandemia | D21: =+'EVALUACION CON CONTROLES'!B26 -> EJECUCIÓN | E21: =+'IDENTIFICACION Y ANALISIS'!D32 -> General | F21: =+'IDENTIFICACION Y ANALISIS'!E32 -> Externo | G21: =+EVALUACION!H27 -> Ajuste aspectos de ejecución, operativos, logísticos o financieros. | H21: =+EVALUACION!I27 -> 1 | I21: =+EVALUACION!J27 -> 3 | J21: =+H21+I21 -> 4 | K21: =IF(J21<=4,"BAJO",IF(J21=5,"MEDIO",IF(J21=6,"ALTO",IF(J21=7,"ALTO","EXTREMO")))) -> BAJO | N21: =+'EVALUACION CON CONTROLES'!G26 -> Suspensión del convenio hasta que se reestablezcan las condiciones | O21: 1 | P21: 5 | Q21: =+O21+P21 -> 6 | R21: =IF(Q21<=4,"BAJO",IF(Q21=5,"MEDIO",IF(Q21=6,"ALTO",IF(Q21=7,"ALTO","EXTREMO")))) -> ALTO | S21: SI | T21: =+'EVALUACION CON CONTROLES'!N26 -> ATENEA/FDL | U21: =+'EVALUACION CON CONTROLES'!O26 -> Cuando suceda el siniestro | V21: =+'EVALUACION CON CONTROLES'!P26 -> Cuando finalice el siniestro | W21: =+'EVALUACION CON CONTROLES'!Q26 -> Seguimiento alReporte de boletines informativos por el organo competente | X21: =+'EVALUACION CON CONTROLES'!R26 -> En tiempo real
B22: 12 | C22: =+'EVALUACION CON CONTROLES'!C27:F27 -> Que las partes incumplan con la periodcidad y desarrollo de las mesas de trabajo y comités de seguimiento programados | D22: =+'EVALUACION CON CONTROLES'!B27 -> EJECUCIÓN | E22: =+'IDENTIFICACION Y ANALISIS'!D33 -> Especifico | F22: =+'IDENTIFICACION Y ANALISIS'!E33 -> Interno | G22: =+EVALUACION!H28 -> Incumplimiento contractual | H22: =+EVALUACION!I28 -> 2 | I22: =+EVALUACION!J28 -> 3 | J22: =+H22+I22 -> 5 | K22: =IF(J22<=4,"BAJO",IF(J22=5,"MEDIO",IF(J22=6,"ALTO",IF(J22=7,"ALTO","EXTREMO")))) -> MEDIO | N22: =+'EVALUACION CON CONTROLES'!G27 -> Acordar un cronograma y reprogramación de mesas no desarrolladas. | O22: 1 | P22: 2 | Q22: =+O22+P22 -> 3 | R22: =IF(Q22<=4,"BAJO",IF(Q22=5,"MEDIO",IF(Q22=6,"ALTO",IF(Q22=7,"ALTO","EXTREMO")))) -> BAJO | S22: NO | T22: =+'EVALUACION CON CONTROLES'!N27 -> ATENEA/FDL | U22: =+'EVALUACION CON CONTROLES'!O27 -> Al incumplimiento de la periodicidad | V22: =+'EVALUACION CON CONTROLES'!P27 -> Cuando se realicen los mesas no llevadas a cabo. | W22: =+'EVALUACION CON CONTROLES'!Q27 -> Cronograma establecido. | X22: =+'EVALUACION CON CONTROLES'!R27 -> Bimensual (mesas técnicas y Semestral (comités de seguimiento).
B23: 13 | C23: =+'EVALUACION CON CONTROLES'!C28:F28 -> Que la Agencia Atenea incumpla la entrega de los informes pactados generando desconocimiento de la ejecución operativa del convenio | D23: =+'EVALUACION CON CONTROLES'!B28 -> EJECUCIÓN | E23: =+'IDENTIFICACION Y ANALISIS'!D34 -> Especifico | F23: =+'IDENTIFICACION Y ANALISIS'!E34 -> Interno | G23: =+EVALUACION!H29 -> Genera desconocimiento de la ejecución operativa del convenio. | H23: =+EVALUACION!I29 -> 1 | I23: =+EVALUACION!J29 -> 4 | J23: =+H23+I23 -> 5 | K23: =IF(J23<=4,"BAJO",IF(J23=5,"MEDIO",IF(J23=6,"ALTO",IF(J23=7,"ALTO","EXTREMO")))) -> MEDIO | N23: =+'EVALUACION CON CONTROLES'!G28 -> Cumplir con los términos establecidos en los documentos contractuales. | O23: 1 | P23: 2 | Q23: =+O23+P23 -> 3 | R23: =IF(Q23<=4,"BAJO",IF(Q23=5,"MEDIO",IF(Q23=6,"ALTO",IF(Q23=7,"ALTO","EXTREMO")))) -> BAJO | S23: NO | T23: =+'EVALUACION CON CONTROLES'!N28 -> ATENEA/FDL | U23: =+'EVALUACION CON CONTROLES'!O28 -> Cuando se incurra en mora. | V23: =+'EVALUACION CON CONTROLES'!P28 -> Cuando se publiquen en SECOP II los informes de gestión. | W23: =+'EVALUACION CON CONTROLES'!Q28 -> Con la verificación de cumplimiento en SECOP II. | X23: =+'EVALUACION CON CONTROLES'!R28 -> Semestralmente
B24: 14 | C24: =+'EVALUACION CON CONTROLES'!C29:F29 -> Que el beneficiario financiado con los recursos del FDL de Santa Fe no reciba su apoyo económico en los términos establecidos en los lineamientos internos de la Agencia, por desconocimiento del procedimiento de dispersión y/o variaciones en el incremento del Salario Minimo Legal Vigente. | D24: =+'EVALUACION CON CONTROLES'!B29 -> EJECUCIÓN | E24: =+'IDENTIFICACION Y ANALISIS'!D35 -> Especifico | F24: =+'IDENTIFICACION Y ANALISIS'!E35 -> Interno | G24: =EVALUACION!H30 -> 1. Aumento en PQR al procedimiento de dispersión. 2. Percepción negativa de la ejecución del programa. | H24: =+EVALUACION!I30 -> 4 | I24: =+EVALUACION!J30 -> 3 | J24: =+H24+I24 -> 7 | K24: =IF(J24<=4,"BAJO",IF(J24=5,"MEDIO",IF(J24=6,"ALTO",IF(J24=7,"ALTO","EXTREMO")))) -> ALTO | N24: =+'EVALUACION CON CONTROLES'!G29 -> Realizar seguimiento al proceso de pago y brindar orientación a los beneficiarios sobre requisitos, tiempos y procedimiento establecido. | O24: 3 | P24: 2 | Q24: =+O24+P24 -> 5 | R24: =IF(Q24<=4,"BAJO",IF(Q24=5,"MEDIO",IF(Q24=6,"ALTO",IF(Q24=7,"ALTO","EXTREMO")))) -> MEDIO | S24: NO | T24: =+'EVALUACION CON CONTROLES'!N29 -> ATENEA/FDL | U24: =+'EVALUACION CON CONTROLES'!O29 -> Al inicio del proceso de dispersiòn | V24: =+'EVALUACION CON CONTROLES'!P29 -> Durante la ejecución del convenio | W24: =+'EVALUACION CON CONTROLES'!Q29 -> A través del monitoreo del proceso de dispersiòn | X24: =+'EVALUACION CON CONTROLES'!R29 -> Semestralmente
B25: 15 | C25: =+'EVALUACION CON CONTROLES'!C30:F30 -> Baja demanda de aspirantes en las convocatorias que impidan el cumpliento de las metas contractuales | D25: =+'EVALUACION CON CONTROLES'!B30 -> EJECUCIÓN | E25: =+'IDENTIFICACION Y ANALISIS'!D36 -> Especifico | F25: =+'IDENTIFICACION Y ANALISIS'!E36 -> Interno | G25: =EVALUACION!H31 -> Imposibilidad de cumplir con las metas presupuestadas por el FDL de Santa Fe para el cuatrenio | H25: =+EVALUACION!I31 -> 2 | I25: =+EVALUACION!J31 -> 5 | J25: =+H25+I25 -> 7 | K25: =IF(J25<=4,"BAJO",IF(J25=5,"MEDIO",IF(J25=6,"ALTO",IF(J25=7,"ALTO","EXTREMO")))) -> ALTO | N25: =+'EVALUACION CON CONTROLES'!G30 -> Fortalecer la divulgación de las convocatorias y realizar seguimiento a la participación para implementar acciones de mejora cuando se requiera. | O25: 3 | P25: 3 | Q25: =+O25+P25 -> 6 | R25: =IF(Q25<=4,"BAJO",IF(Q25=5,"MEDIO",IF(Q25=6,"ALTO",IF(Q25=7,"ALTO","EXTREMO")))) -> ALTO | S25: NO | T25: =+'EVALUACION CON CONTROLES'!N30 -> ATENEA/FDL | U25: =+'EVALUACION CON CONTROLES'!O30 -> Desde la apertura de la convocatoria | V25: =+'EVALUACION CON CONTROLES'!P30 -> Durante el desarrollo de la convocatoria | W25: =+'EVALUACION CON CONTROLES'!Q30 -> Mediante el seguimiento al número de inscritos y avance de la convocatoria | X25: =+'EVALUACION CON CONTROLES'!R30 -> Semestralmente
B26: 16 | C26: =+'EVALUACION CON CONTROLES'!C31:F31 -> Que durante la liquidación del convenio no sea posible la liberación de recursos no ejecutados | D26: =+'EVALUACION CON CONTROLES'!B31 -> EJECUCIÓN | E26: =+'IDENTIFICACION Y ANALISIS'!D37 -> Estatal | F26: =+'IDENTIFICACION Y ANALISIS'!E37 -> Interno | G26: =EVALUACION!H32 -> Imposibilidad de utilizar recursos no ejecutados para su reinversión en programas y proyectos institucionales. | H26: =+EVALUACION!I32 -> 4 | I26: =+EVALUACION!J32 -> 4 | J26: =+H26+I26 -> 8 | K26: =IF(J26<=4,"BAJO",IF(J26=5,"MEDIO",IF(J26=6,"ALTO",IF(J26=7,"ALTO","EXTREMO")))) -> EXTREMO | N26: =+'EVALUACION CON CONTROLES'!G31 -> Seguimiento financiero periódico; conciliación de saldos durante la ejecución; depuración oportuna de obligaciones y soportes para la liquidación. | O26: 3 | P26: 2 | Q26: =+O26+P26 -> 5 | R26: =IF(Q26<=4,"BAJO",IF(Q26=5,"MEDIO",IF(Q26=6,"ALTO",IF(Q26=7,"ALTO","EXTREMO")))) -> MEDIO | S26: NO | T26: =+'EVALUACION CON CONTROLES'!N31 -> ATENEA/FDL | U26: =+'EVALUACION CON CONTROLES'!O31 -> Cuando se encuentre próximo a liquidar el convenio | V26: =+'EVALUACION CON CONTROLES'!P31 -> Al finalizar el convenio | W26: =+'EVALUACION CON CONTROLES'!Q31 -> A través del monitoreo de la Agencia y el FDL | X26: =+'EVALUACION CON CONTROLES'!R31 -> Cuando se presente la necesidad.
