Workbook
Name contratación: 'IDENTIFICACION Y ANALISIS'!$B$39:$B$43
Name ejecución: 'IDENTIFICACION Y ANALISIS'!$B$45:$B$68
Name OPCIONES: 'ASIGNACION Y TRATAMIENTO'!$B$55:$B$57
Name planeación: 'IDENTIFICACION Y ANALISIS'!$B$19:$B$29
Name selección: 'IDENTIFICACION Y ANALISIS'!$B$31:$B$37

Sheet CONTEXTO
C2: MATRIZ DE RIESGOS EN CONTRATACIÓN | F2: Código: GCO-GCI-F164 Versión: 02 Vigencia: 01 de diciembre de 2022 Caso HOLA: 280117
B6: ESTABLECER EL CONTEXTO
B7: El punto inicial es identificar el contexto en el cual interactúa la Entidad Estatal para conocer el ambiente social, económico y político, e identificar (i) sus propios Riesgos; (ii) los Riesgos comunes a sus Procesos de Contratación; y (iii) los Riesgos del Proceso de Contratación en particular. (Aplica igual para contratos interadministrativos) En este paso la Entidad Estatal debe identificar los aspectos que se mencionan a continuación y los posibles efectos adversos que estos pueden generar.
B8: Objeto del Proceso de Contratación
B9: Partícipes del Proceso de Contratación: Agentes externos (Organismos de control, veedurías ciudadanas), agentes internos (supervisores, funcionarios y demás usuarios).
B10: Ciudadanía que se beneficia del Proceso de Contratación: Agentes internos (funcionarios, pasantes) y externos (contratistas, visitantes y usuarios externos en general)
B11: Capacidad de la Entidad Estatal entendida como la disponibilidad de recursos y conocimientos para el Proceso de Contratación: La disponibilidad de la Entidad de sus recursos y el conocimiento de su equipo humano se refleja en los diferentes funcionarios que participarán en las diversas etapas del proceso de selección: participan las áreas que requieren los procesos de contratación (Etapa de Planeación), Dirección de Contratación, Comité Evaluador (Etapa de selección), Dirección de Contratación (Etapa de contratación) y la supervisión y apoyos a la misma (Estapa de Ejecución).
B12: Suficiencia del presupuesto oficial del Proceso de Contratación: De acuerdo al Plan Anual de Adquisiciones se deben estimar los recursos necesarios para el desarrollo del proceso de la contratación, el cual tendrá el soporte presupuestal suficiente para su desarrollo.
B13: Condiciones geográficas y de acceso del lugar en el cual se debe cumplir el objeto del Proceso de Contratación: El suministro, obra o servicio se prestará principalmente en las Sedes de la Entidad, o en el lugar indicado en los estudios previos del proceso.
B14: Entorno socio ambiental: Si aplican
B15: Condiciones políticas: Si aplican
B16: Factores ambientales.
B17: Sector del objeto del Proceso de Contratación y su mercado.
... B19: Experiencia propia y de otras Entidades Estatales en Procesos de Contratación del mismo tipo.

Sheet IDENTIFICACION Y ANALISIS
C2: MATRIZ DE RIESGOS DE CONTRATACIÓN | F2: Código: GCO-GCI-F164 Versión: 02 Vigencia: 01 de diciembre de 2022 Caso HOLA: 280117
B6: DEFINICIONES
B7: RIESGO: Evento que puede generar efectos adversos y de distinta magnitud en el logro de los objetivos del Proceso de Contratación o en la ejecución de un contrato RIESGOS PREVISIBLES: Son los posibles hechos o circunstancias que por la naturaleza del contrato y de la actividad a ejecutar es factible su ocurrencia. ETAPA DE PLANEACIÓN: Está comprendida desde el momento en que se identifican las necesidades que debe satisfacer la Secretaría Distrital de Gobierno y los Fondos de Desarrollo Local, a través del abastecimiento de bienes, obras o servicios, la elaboración del Plan Anual de Adquisiciones y la estructuración de los documentos y estudios previos. ETAPA DE SELECCIÓN: Está comprendida entre el acto de Apertura del Proceso de Contratación y la Adjudicación o la declaración de desierto del Proceso de Contratación ETAPA DE CONTRATACIÓN: Una vez adjudicado el contrato objeto del Proceso de Contratación, inicia la etapa para la celebración del contrato y el cumplimiento de los requisitos para de perfeccionamiento y ejecución. ETAPA DE EJECUCIÓN: Inicia una vez cumplidos los requisitos previstos para iniciar la ejecución del contrato respectivo y termina con el vencimiento del plazo del contrato o la fecha de liquidación si hay lugar a ella. RIESGO GENERAL: Es un riesgo de todos los procesos de contratación adelantados por la Entidad Estatal, por lo cual está presente en toda su actividad contractual. RIEGO ESPECIFICO: Es un riesgo propio del proceso de contratación objeto de análisis. RIESGOS ECONÓMICOS: Son los derivados del comportamiento del mercado, tales como la fluctuación de los precios de los insumos, desabastecimiento y especulación de los mismos, entre otros. RIESGOS SOCIALES O POLÍTICOS: son los derivados de los cambios de las políticas gubernamentales y de cambios en las condiciones sociales que tengan impacto en la ejecución del contrato. RIESGOS OPERACIONALES: Son los asociados a la operatividad del contrato, tales como la suficiencia del presupuesto oficial, del plazo o los derivados de procesos, procedimientos, parámetros, sistemas de información y tecnológicos, equipos humanos o técnicos inadecuados o insuficientes. RIESGOS FINANCIEROS: Son (i) el riesgo de consecución de financiación o riesgo de liquidez para obtener recursos para cumplir con el objeto del contrato, y (ii) el riesgo de las condiciones financieras establecidas para la obtención de los recursos, tales como plazos, tasas, garantías, contragarantías, y refinanciaciones, entre otros. RIESGOS REGULATORIOS: Derivados de cambios regulatorios o reglamentarios que afecten la ecuación económica del contrato. RIESGOS DE LA NATURALEZA: Son los eventos naturales previsibles en los cuales no hay intervención humana que puedan tener impacto en la ejecución del contrato, por ejemplo los temblores, inundaciones, lluvias, sequías, entre otros. RIESGOS AMBIENTALES: Son los derivados de las obligaciones legales o reglamentarias de carácter ambiental, así como de las licencias, planes de manejo o de permisos y autorizaciones ambientales, incluyendo tasas retributivas y compensatorias, obligaciones de mitigación, tareas de monitoreo y control, entre otras. RIESGOS TECNOLÓGICOS: Son los derivados de fallas en los sistemas de comunicación de voz y de datos, suspensión de servicios públicos, nuevos desarrollos tecnológicos o estándares que deben ser tenidos en cuenta para la ejecución del contrato, obsolescencia tecnológica.
B15: INSTRUCCIONES PARA LA IDENTIFICACIÓN, ANALISIS, EVALUACIÓN , ASIGNACIÓN Y TRATAMIENTO DE RIESGOS EN LA CONTRATACIÓN
B16: 1) Identifique los riesgos previsibles que le apliquen al objeto contractual que se adelante. Los relacionados a continuación se establecen de manera general y como proforma. No obstante, si del objeto contractual se identifican otros riesgos diferentes a los aquí determinados, por favor reemplace el texto de la casilla teniendo en cuenta la etapa del proceso. Así mismo, seleccione la clase, fuente y el tipo (Operacional, Económico, Sociales o Políticos, Regulatorios, Financieros, Tecnológicos, De la naturaleza, Ambientales) 2) Continúe en la hoja de "EVALUACIÓN" (SI EXISTEN DUDAS CONCEPTUALES PARA LA ELABORACIÓN DE LA MATRIZ DE RIESGO CONSULTE EL MANUAL PARA LA IDENTIFICACIÓN Y COBERTURA DEL RIESGO EN LOS PROCESOS DE CONTRATACIÓN EXPEDIDO POR COLOMBIA COMPRA EFICIENTE Y LA GUÍA DE RIESGOS PREVISIBLES CONTRACTUALES, EXPEDIDA POR LA VEEDURÍA DISTRITAL)
C17: ETAPAS | D17: CLASE | E17: FUENTE | F17: TIPO
C18: PLANEACIÓN
B19: Inadecuada escogencia de la modalidad de contratación | F19: Operacionales
B20: Requisitos habilitantes inapropiados para el proceso de selección | F20: Operacionales
B21: Inadecuado análisis económico estimativo del valor del contrato | F21: Economicos
B22: Inadecuada descripción del bien o servicio requerido | F22: Operacionales
B23: Inadecuada elaboración de estudios y diseños | F23: Operacionales
B24: Requisitos habilitantes que impidan la selección objetiva | F24: Operacionales
B25: Falta de profundidad en el estudio de sector no identificandose claramente aspectos de oferta y demanda | F25: Economicos
B26: Ausencia de fundamentación de la justificación y conveniencia de la contratación | F26: Operacionales
B27: Inadecuada identificación de las condiciones contractuales | F27: Operacionales
B28: No aprobación o demoras en la expedición vigencias futuras | F28: Operacionales
B29: Apertura de procesos sin disponibilidad presupuestal | F29: Operacionales
C30: SELECCIÓN
B31: Inadecuada evaluación de las ofertas y/o verificación de requisitos habilitantes | F31: Operacionales
B32: Inadecuado manejo administrativo del proceso contractual | F32: Operacionales
B33: Falta de claridad en la elaboración de los actos administrativos | F33: Operacionales
B34: Contestación inoportuna a todas las observaciones formuladas a los documentos de la contratación | F34: Operacionales
B35: No publicación de la documentación del proceso de selección en el SECOP | F35: Operacionales
B36: Confabulacion de los proponentes (Colusión) | F36: Operacionales
B37: Selección de ofertas con precios artificialmente bajos. | F37: Operacionales
C38: CONTRATACIÓN
B39: Riesgo de que no se firme el contrato. | F39: Operacionales
B40: Falta de constitución o constitución tardía de la garantía única. Aceptación de garantías que no se ajustan a lo contemplado en el contrato | F40: Operacionales
B41: Falta de solicitud o solicitud tardía del registro presupuestal | F41: Operacionales
B42: No publicación de la documentación del proceso de selección en el SECOP | F42: Operacionales
B43: Presentación de reclamos de terceros sobre la selección del oferente que retrasen el perfeccionamiento del contrato. | F43: Operacionales
C44: EJECUCIÓN
B45: Fluctuaciones del valor de la moneda | F45: Economicos
B46: Cambio de precios en factores de producción. | F46: Economicos
B47: Variación de los precios del mercado | F47: Economicos
B48: Factores políticos o macroeconómicos. | F48: Sociales o Políticos
B49: Cancelación de pedidos. | F49: Economicos
B50: Variación en la disponibilidad o en el costo de los insumos necesarios para prestar los servicios. | F50: Economicos
B51: Incumplimiento de compromisos adquiridos por el contratista seleccionado con sus subcontratistas, suministradores de bienes y servicios. | F51: Economicos
...

Sheet EVALUACION
C2: MATRIZ DE RIESGOS DE CONTRATACIÓN | K2: Código: GCO-GCI-F164 Versión: 02 Vigencia: 01 de diciembre de 2022 Caso HOLA: 280117
B6: Objeto Contractual: “CONTRATAR LA PRESTACIÓN DEL SERVICIO DE EDUCACIÓN PARA EL TRABAJO Y EL DESARROLLO HUMANO (ETDH), MEDIANTE LA EJECUCIÓN DE PROGRAMAS DE FORMACIÓN TÉCNICO-LABORAL QUE CONTRIBUYAN AL FORTALECIMIENTO DE CAPACIDADES Y HABILIDADES PARA EL ACCESO A OPORTUNIDADES DE EMPLEO DE LA COMUNIDAD SUBANA”
B7: INSTRUCCIONES PARA LA IDENTIFICACIÓN, ANALISIS, EVALUACIÓN , ASIGNACIÓN Y TRATAMIENTO DE RIESGOS EN LA CONTRATACIÓN
B8: 1) Diligencie el objeto contractual y seleccione la(s) etapas y los riesgos que aplican al objeto contractual, de acuerdo a lo definido en la hoja de "IDENTIFICACIÓN Y ANÁLISIS"
B9: 2) Describa las consecuencias de la ocurrencia del Riesgo/evento.
B10: 3) Asigne la probabilidad de ocurrencia del riesgo, de conformidad con la tabla de probabilidad y la valoración del riesgo (Cualitativa o Monetaria)
B11: 4) Asigne el impacto que generaría la materialización del riesgo, de conformidad con la tabla de impacto y la valoración del riesgo (Cualitativa o Monetaria)
B12: 5) Al realizar las anteriores actividades se obtendrá la calificación total y la valoración del riesgo (prioridad).
B13: 6) Continúe en la hoja de "EVALUACIÓN DE CONTROLES"
B15: CALIFICACIÓN | H15: Cualitativa
B16: ETAPA | C16: Descripción (Que puede pasar y, cómo puede ocurrir) | H16: Consecuencias de la ocurrencia del evento | I16: Probabilidad de Ocurrencia | J16: Impacto | K16: Calificación Total | L16: Prioridad
B17: PLANEACIÓN | C17: Requisitos habilitantes inapropiados para el proceso de selección | H17: Riesgo de que el proceso de licitación resulte desierto por exceso de requisitos, o que se adjudique a un operador sin la idoneidad técnica y pedagógica requerida para ejecutar los programas de formación técnico-laboral. | I17: 3 | J17: 4 | K17: =I17+J17 -> 7 | L17: =IF(K17<=4,"BAJO",IF(K17=5,"MEDIO",IF(K17=6,"ALTO",IF(K17=7,"ALTO","EXTREMO")))) -> ALTO
B18: PLANEACIÓN | C18: Inadecuada descripción del bien o servicio requerido | H18: Dificultades durante la ejecución del contrato derivadas de interpretaciones divergentes entre el operador y el supervisor sobre el alcance, los entregables o los estándares de calidad esperados en los programas técnico-laborales. | I18: 2 | J18: 4 | K18: =+I18+J18 -> 6 | L18: =IF(K18<=4,"BAJO",IF(K18=5,"MEDIO",IF(K18=6,"ALTO",IF(K18=7,"ALTO","EXTREMO")))) -> ALTO
B19: SELECCIÓN | C19: Inadecuada evaluación de las ofertas y/o verificación de requisitos habilitantes | H19: Riesgo de adjudicación a un contratista que no cuente con la idoneidad técnica, pedagógica o financiera para ejecutar los programas de formación, afectando la calidad del servicio y el cumplimiento de las metas del Plan de Desarrollo Local. | I19: 2 | J19: 5 | K19: =+I19+J19 -> 7 | L19: =IF(K19<=4,"BAJO",IF(K19=5,"MEDIO",IF(K19=6,"ALTO",IF(K19=7,"ALTO","EXTREMO")))) -> ALTO
B20: SELECCIÓN | C20: Contestación inoportuna a todas las observaciones formuladas a los documentos de la contratación | H20: Retraso en la firma del contrato Limitación en la postulación de los oferentes al proceso de selección | I20: 1 | J20: 3 | K20: =+I20+J20 -> 4 | L20: =IF(K20<=4,"BAJO",IF(K20=5,"MEDIO",IF(K20=6,"ALTO",IF(K20=7,"ALTO","EXTREMO")))) -> BAJO
B21: SELECCIÓN | C21: No publicación de la documentación del proceso de selección en el SECOP | H21: Posible nulidad del proceso se selección | I21: 2 | J21: 5 | K21: =+I21+J21 -> 7 | L21: =IF(K21<=4,"BAJO",IF(K21=5,"MEDIO",IF(K21=6,"ALTO",IF(K21=7,"ALTO","EXTREMO")))) -> ALTO
B22: SELECCIÓN | C22: Confabulacion de los proponentes (Colusión) | H22: Adjudicación viciada por error. Investigaciones disciplinarias y fiscales | I22: 2 | J22: 4 | K22: =+I22+J22 -> 6 | L22: =IF(K22<=4,"BAJO",IF(K22=5,"MEDIO",IF(K22=6,"ALTO",IF(K22=7,"ALTO","EXTREMO")))) -> ALTO
B23: SELECCIÓN | C23: Selección de ofertas con precios artificialmente bajos. | H23: Desequilibrio económico del contrato, riesgo de adjudicación a un operador que ofrezca precios insuficientes para garantizar la calidad pedagógica, la idoneidad docente y la dotación requerida para los programas técnico-laborales, comprometiendo el cumplimiento de las metas de certificación. | I23: 3 | J23: 4 | K23: =+I23+J23 -> 7 | L23: =IF(K23<=4,"BAJO",IF(K23=5,"MEDIO",IF(K23=6,"ALTO",IF(K23=7,"ALTO","EXTREMO")))) -> ALTO
B24: CONTRATACIÓN | C24: Falta de constitución o constitución tardía de la garantía única. Aceptación de garantías que no se ajustan a lo contemplado en el contrato | H24: Posible nulidad del proceso de contratación o retraso en la expedición del acta de inicio de los programas de formación y reducción del tiempo efectivo de ejecución, afectando el cronograma pedagógico y el cumplimiento de las metas de certificación de la vigencia. | I24: 2 | J24: 4 | K24: =+I24+J24 -> 6 | L24: =IF(K24<=4,"BAJO",IF(K24=5,"MEDIO",IF(K24=6,"ALTO",IF(K24=7,"ALTO","EXTREMO")))) -> ALTO
B25: CONTRATACIÓN | C25: Presentación de reclamos de terceros sobre la selección del oferente que retrasen el perfeccionamiento del contrato. | H25: Retraso en el inicio del contrato | I25: 2 | J25: 3 | K25: =+I25+J25 -> 5 | L25: =IF(K25<=4,"BAJO",IF(K25=5,"MEDIO",IF(K25=6,"ALTO",IF(K25=7,"ALTO","EXTREMO")))) -> MEDIO
B26: EJECUCIÓN | C26: Cambio de precios en factores de producción. | H26: Disminución de utilidades, variación de las expectativas económicas del contratista | I26: 2 | J26: 3 | K26: =+I26+J26 -> 5 | L26: =IF(K26<=4,"BAJO",IF(K26=5,"MEDIO",IF(K26=6,"ALTO",IF(K26=7,"ALTO","EXTREMO")))) -> MEDIO
B27: EJECUCIÓN | C27: Factores políticos o macroeconómicos. | H27: Cambio en las condiciones iniciales del contrato que afecten su ejecución y equilibrio económico | I27: 1 | J27: 3 | K27: =+I27+J27 -> 4 | L27: =IF(K27<=4,"BAJO",IF(K27=5,"MEDIO",IF(K27=6,"ALTO",IF(K27=7,"ALTO","EXTREMO")))) -> BAJO
B28: EJECUCIÓN | C28: Variación en la disponibilidad o en el costo de los insumos necesarios para prestar los servicios. | H28: Retrasos en el desarrollo de las sesiones formativas por falta de insumos pedagógicos, herramientas de taller o equipos tecnológicos, con impacto en el cronograma académico y el cumplimiento de la intensidad horaria mínima requerida | I28: 2 | J28: 4 | K28: =+I28+J28 -> 6 | L28: =IF(K28<=4,"BAJO",IF(K28=5,"MEDIO",IF(K28=6,"ALTO",IF(K28=7,"ALTO","EXTREMO")))) -> ALTO
B29: EJECUCIÓN | C29: Baja participación por parte de los potenciales beneficiarios en la convocatoria | H29: Incumplimiento de las metas establecidas en la vigencia | I29: 3 | J29: 4 | K29: =+I29+J29 -> 7 | L29: =IF(K29<=4,"BAJO",IF(K29=5,"MEDIO",IF(K29=6,"ALTO",IF(K29=7,"ALTO","EXTREMO")))) -> ALTO
... B39: EJECUCIÓN | C39: Eventos naturales tales como lluvias, inundaciones y sequias entre otros | H39: Cancelación o reprogramación forzada de sesiones formativas con afectación al cronograma pedagógico, reducción de la intensidad horaria efectiva y necesidad de implementar alternativas de continuidad del servicio educativo. | I39: 2 | J39: 4 | K39: =+I39+J39 -> 6 | L39: =IF(K39<=4,"BAJO",IF(K39=5,"MEDIO",IF(K39=6,"ALTO",IF(K39=7,"ALTO","EXTREMO")))) -> ALTO
B42: Probabilidad | C42: Catagoria | E42: Valoración | G42: Impacto | H42: Categoria | I42: Valoración
C43: Raro (puede ocurrir excepcionalmente) | E43: 1 | H43: Insignificante | I43: 1
C44: Improbable (puede ocurrir ocasionalmente) | E44: 2 | H44: Menor | I44: 2
C45: Posible (puede ocurrir en cualquier momento futuro) | E45: 3 | H45: Moderado | I45: 3
C46: Probable (probablemente va a ocurrir) | E46: 4 | H46: Mayor | I46: 4
C47: Casi cierto (ocurre en la mayoria de circunstancias) | E47: 5 | H47: Catastrófico | I47: 5
C49: Valoración del Riesgo
C50: Calificación Cualitativa | F50: Obstruye la ejecución del contrato de manera intrascendente. | G50: Dificulta la ejecución del contrato de manera baja, aplicando medidas mínimas se pueden lograr el objeto contractual | H50: Afecta la ejecución del contrato sin alterar el beneficio para las partes | I50: Obstruye la ejecución del contrato sustancialmente pero aun así permite la consecución del objeto contractual | K50: Perturba la ejecución del contrato de manera grave imposibilitando la consecución del objeto contractual.
C51: Calificación Monetaria | F51: Los sobrecostos no representan más del uno por ciento (1%) del valor del contrato. | G51: Los sobrecostos no representan más del cinco por ciento (5%) del valor del contrato. | H51: Genera un impacto sobre el valor del contrato entre el cinco (5%) y el quince por ciento (15%). | I51: Incrementa el valor del contrato entre el quince (15%) y el treinta por ciento (30%). | K51: Impacto sobre el valor del contrato en más del treinta por ciento (30%).
C52: Categoría | E52: Valoración | F52: Insignificante | G52: Menor | H52: Moderado | I52: Mayor | K52: Catastrófico
F53: 1 | G53: 2 | H53: 3 | I53: 4 | K53: 5
C54: Raro (puede ocurrir excepcionalmente) | E54: 1 | F54: 2 | G54: 3 | H54: 4 | I54: 5 | K54: 6
C55: Improbable (puede ocurrir ocasionalmente) | E55: 2 | F55: 3 | G55: 4 | H55: 5 | I55: 6 | K55: 7
C56: Posible (puede ocurrir en cualquier momento futuro) | E56: 3 | F56: 4 | G56: 5 | H56: 6 | I56: 7 | K56: 8
C57: Probable (probablemente va a ocurrir) | E57: 4 | F57: 5 | G57: 6 | H57: 7 | I57: 8 | K57: 9
...

Sheet EVALUACION CON CONTROLES
C2: MATRIZ DE RIESGOS DE CONTRATACIÓN | Q2: Código: GCO-GCI-F164 Versión: 02 Vigencia: 01 de diciembre de 2022 Caso HOLA: 280117
B6: =+EVALUACION!B6 -> Objeto Contractual: “CONTRATAR LA PRESTACIÓN DEL SERVICIO DE EDUCACIÓN PARA EL TRABAJO Y EL DESARROLLO HUMANO (ETDH), MEDIANTE LA EJECUCIÓN DE PROGRAMAS DE FORMACIÓN TÉCNICO-LABORAL QUE CONTRIBUYAN AL FORTALECIMIENTO DE CAPACIDADES Y HABILIDADES PARA EL ACCESO A OPORTUNIDADES DE EMPLEO DE LA COMUNIDAD SUBANA”
B7: INSTRUCCIONES PARA LA IDENTIFICACIÓN, ANALISIS, EVALUACIÓN , ASIGNACIÓN Y TRATAMIENTO DE RIESGOS EN LA CONTRATACIÓN
B8: 1) Describa el tratamiento/controles a ser implementados
B9: 2) Diligencie la información de las siguientes columnas, de acuerdo con el análisis realizado a cada riesgo: Afecta el equilibrio económico, persona responsable de implementar el tratamiento, fecha estimada de inicio del tratamiento, fecha estimada en la que se completa el tratamiento, cómo se realiza el monitoreo y la periodicidad.
B10: 3) Continúe en la hoja de "ASIGNACIÓN Y TRATAMIENTO" y diligencie las siguientes casillas: A quien se le asigna y el porcentaje que asume cada una de las partes en caso de que sea compartido.
B15: ETAPA | C15: Descripción (Que puede pasar y, cómo puede ocurrir) | G15: Tratamiento/Controles a ser implementados | I15: Probabilidad de Ocurrencia | J15: Impacto | K15: Calificación Total | L15: Prioridad | M15: ¿Afecta el equilibrio económico del contrato? | N15: Persona responsable por implementar el tratamiento | O15: Fecha estimada en que se inicia el tratamiento | P15: Fecha estimada en que se completa el tratamiento | Q15: ¿Cómo se realiza el monitoreo? | R15: Periodicidad ¿Cuándo?
B16: =+EVALUACION!B17 -> PLANEACIÓN | C16: =+EVALUACION!C17 -> Requisitos habilitantes inapropiados para el proceso de selección | G16: El equipo de planeación y contratación de la Alcaldía Local realizará una sesión de análisis previo a la apertura del proceso, en la que se verificará la modalidad de selección conforme al valor estimado del contrato y la naturaleza del servicio educativo. | I16: 2 | J16: 2 | K16: =+I16+J16 -> 4 | L16: =IF(K16<=4,"BAJO",IF(K16=5,"MEDIO",IF(K16=6,"ALTO",IF(K16=7,"ALTO","EXTREMO")))) -> BAJO | M16: NO | N16: ENTIDAD | O16: DESDE EL INICIO DE LA FORMULACIÓN | P16: HASTA LA PUBLICACIÓN EN PLATAFORMA SECOP | Q16: COMITÉ DE CONTRATACIÓN | R16: UNA SOLA VEZ
B17: =+EVALUACION!B18 -> PLANEACIÓN | C17: =+EVALUACION!C18 -> Inadecuada descripción del bien o servicio requerido | G17: Análisis del sector adecuado para conocer oferta de bienes y servicios Ajuste de bienes y servicios, definición del alcance de los programas adecuados a la necesidad y | I17: 1 | J17: 2 | K17: =+I17+J17 -> 3 | L17: =IF(K17<=4,"BAJO",IF(K17=5,"MEDIO",IF(K17=6,"ALTO",IF(K17=7,"ALTO","EXTREMO")))) -> BAJO | M17: NO | N17: ENTIDAD | O17: DESDE EL INICIO DE LA FORMULACIÓN | P17: HASTA LA PUBLICACIÓN EN PLATAFORMA SECOP | Q17: COMITÉ DE CONTRATACIÓN | R17: MENSUAL
B18: =+EVALUACION!B19 -> SELECCIÓN | C18: =+EVALUACION!C19 -> Inadecuada evaluación de las ofertas y/o verificación de requisitos habilitantes | G18: Evaluación y verificación de los documentos habilitantes de cada proponente, incluyendo la resolución de funiconamiento y los registros de programas, la experiencia específica en contratos ETDH y la capacidad financiera. | I18: 1 | J18: 4 | K18: =+I18+J18 -> 5 | L18: =IF(K18<=4,"BAJO",IF(K18=5,"MEDIO",IF(K18=6,"ALTO",IF(K18=7,"ALTO","EXTREMO")))) -> MEDIO | M18: SI | N18: ENTIDAD | O18: DESDE EL INICIO DEL PROCESO DE EVALUACIÓN | P18: HASTA LA ADJUDICACIÓN DEL CONTRATO | Q18: COMITÉ DE EVALUACIÓN | R18: SEMANAL
B19: =+EVALUACION!B20 -> SELECCIÓN | C19: =+EVALUACION!C20 -> Contestación inoportuna a todas las observaciones formuladas a los documentos de la contratación | G19: Seguimiento y monitoreo a observaciones realizadas en plataforma para respuesta inmediata. | I19: =+EVALUACION!I20 -> 1 | J19: 2 | K19: =+I19+J19 -> 3 | L19: =IF(K19<=4,"BAJO",IF(K19=5,"MEDIO",IF(K19=6,"ALTO",IF(K19=7,"ALTO","EXTREMO")))) -> BAJO | M19: NO | N19: ENTIDAD | O19: DESDE EL INICIO DEL PROCESO DE EVALUACIÓN | P19: HASTA LA ADJUDICACIÓN DEL CONTRATO | Q19: COMITÉ DE EVALUACIÓN | R19: DIARIO
B20: =+EVALUACION!B21 -> SELECCIÓN | C20: =+EVALUACION!C21 -> No publicación de la documentación del proceso de selección en el SECOP | G20: Monitoreo del cumplimiento del conograma establecido para el cargue de los documentos del proceso | I20: 1 | J20: 2 | K20: =+I20+J20 -> 3 | L20: =IF(K20<=4,"BAJO",IF(K20=5,"MEDIO",IF(K20=6,"ALTO",IF(K20=7,"ALTO","EXTREMO")))) -> BAJO | M20: NI | N20: ENTIDAD | O20: DESDE EL CARGUE DEL PROCESO | P20: HASTA LA ADJUDICACIÓN DEL CONTRATO | Q20: COMITÉ DE EVALUACIÓN | R20: DIARIO
B21: =+EVALUACION!B22 -> SELECCIÓN | C21: =+EVALUACION!C22 -> Confabulacion de los proponentes (Colusión) | G21: Estructuración de pliegos y evaluación de ofertas con base en procesos competitivos establecidos por Colombia Compa Eficiente. | I21: 1 | J21: 2 | K21: =+I21+J21 -> 3 | L21: =IF(K21<=4,"BAJO",IF(K21=5,"MEDIO",IF(K21=6,"ALTO",IF(K21=7,"ALTO","EXTREMO")))) -> BAJO | M21: SI | N21: ENTIDAD | O21: DESDE EL INICIO DEL PROCESO DE EVALUACIÓN | P21: HASTA LA ADJUDICACIÓN DEL CONTRATO | Q21: COMITÉ DE EVALUACIÓN | R21: SEMANAL
B22: =+EVALUACION!B23 -> SELECCIÓN | C22: =+EVALUACION!C23 -> Selección de ofertas con precios artificialmente bajos. | G22: Seguimiento acorde a guía de manejo de precios artificialmente bajos de Colombia Compra Eficiente | I22: 1 | J22: 2 | K22: =+I22+J22 -> 3 | L22: =IF(K22<=4,"BAJO",IF(K22=5,"MEDIO",IF(K22=6,"ALTO",IF(K22=7,"ALTO","EXTREMO")))) -> BAJO | M22: SI | N22: ENTIDAD | O22: DESDE EL INICIO DEL PROCESO DE EVALUACIÓN | P22: HASTA LA ADJUDICACIÓN DEL CONTRATO | Q22: COMITÉ DE EVALUACIÓN | R22: SEMANAL
B23: =+EVALUACION!B24 -> CONTRATACIÓN | C23: =+EVALUACION!C24 -> Falta de constitución o constitución tardía de la garantía única. Aceptación de garantías que no se ajustan a lo contemplado en el contrato | G23: Verificación de garantias acorde a lo establecido en el pliego de condiciones y a la ley | I23: 1 | J23: 1 | K23: =+I23+J23 -> 2 | L23: =IF(K23<=4,"BAJO",IF(K23=5,"MEDIO",IF(K23=6,"ALTO",IF(K23=7,"ALTO","EXTREMO")))) -> BAJO | M23: SI | N23: ENTIDAD Y CONTRATISTA | O23: DESDE LA ADJUDICACIÓN DEL CONTRATO | P23: HASTA LA CONSTITUCIÓN DEL ACTA DE INICIO | Q23: CONTRATACIÓN | R23: DIARIO
B24: =+EVALUACION!B25 -> CONTRATACIÓN | C24: =+EVALUACION!C25 -> Presentación de reclamos de terceros sobre la selección del oferente que retrasen el perfeccionamiento del contrato. | G24: Dar respuesta a requerimientos de terceros relativos al proceso de selección | I24: =+EVALUACION!I25 -> 2 | J24: 1 | K24: =+I24+J24 -> 3 | L24: =IF(K24<=4,"BAJO",IF(K24=5,"MEDIO",IF(K24=6,"ALTO",IF(K24=7,"ALTO","EXTREMO")))) -> BAJO | M24: NO | N24: ENTIDAD | O24: DESDE EL INICIO DEL PROCESO DE EVALUACIÓN | P24: HASTA LA CONSTITUCIÓN DEL ACTA DE INICIO | Q24: COMITÉ DE EVALUACIÓN | R24: DIARIO
B25: =+EVALUACION!B26 -> EJECUCIÓN | C25: =+EVALUACION!C26 -> Cambio de precios en factores de producción. | G25: Seguimiento a fluctuaciones del mercado que afecten los precios de producción | I25: =+EVALUACION!I26 -> 2 | J25: 1 | K25: =+I25+J25 -> 3 | L25: =IF(K25<=4,"BAJO",IF(K25=5,"MEDIO",IF(K25=6,"ALTO",IF(K25=7,"ALTO","EXTREMO")))) -> BAJO | M25: SI | N25: CONTRATISTA | O25: DESDE EL INICIO DEL CONTRATO | P25: HASTA LA LIQUIDACIÓN DEL CONTRATO | Q25: COMITÉ TÉCNICO DEL PROCESO | R25: MENSUAL
B26: =+EVALUACION!B27 -> EJECUCIÓN | C26: =+EVALUACION!C27 -> Factores políticos o macroeconómicos. | G26: Seguimiento a situaciones politicas o económicas relacionadas con el contrato | I26: =+EVALUACION!I27 -> 1 | J26: =+EVALUACION!J27 -> 3 | K26: =+I26+J26 -> 4 | L26: =IF(K26<=4,"BAJO",IF(K26=5,"MEDIO",IF(K26=6,"ALTO",IF(K26=7,"ALTO","EXTREMO")))) -> BAJO | M26: SI | N26: ENTIDAD Y CONTRATISTA | O26: DESDE EL INICIO DEL CONTRATO | P26: HASTA LA LIQUIDACIÓN DEL CONTRATO | Q26: COMITÉ TÉCNICO DEL PROCESO | R26: MENSUAL
B27: =+EVALUACION!B28 -> EJECUCIÓN | C27: =+EVALUACION!C28 -> Variación en la disponibilidad o en el costo de los insumos necesarios para prestar los servicios. | G27: El contratista deberá presentar al supervisor y/o al apoyo a la supervisión un informe mensual sobre el cumplimiento del cronograma de ejecución del contrato. En caso de evidenciarse la materialización del riesgo o desviaciones que puedan afectar el desarrollo de las actividades programadas, se deberá convocar un Comité Técnico con el fin de analizar las causas, evaluar los posibles escenarios y definir las acciones correctivas y/o preventivas necesarias para mitigar sus efectos, garantizando que las medidas adoptadas no afecten la calidad del servicio, el cumplimiento de las obligaciones contractuales ni el equilibrio económico del contrato. | I27: =+EVALUACION!I28 -> 2 | J27: 2 | K27: =+I27+J27 -> 4 | L27: =IF(K27<=4,"BAJO",IF(K27=5,"MEDIO",IF(K27=6,"ALTO",IF(K27=7,"ALTO","EXTREMO")))) -> BAJO | M27: SI | N27: CONTRATISTA | O27: DESDE EL INICIO DEL CONTRATO | P27: HASTA LA LIQUIDACIÓN DEL CONTRATO | Q27: COMITÉ TÉCNICO DEL PROCESO | R27: MENSUAL
B28: =+EVALUACION!B29 -> EJECUCIÓN | C28: =+EVALUACION!C29 -> Baja participación por parte de los potenciales beneficiarios en la convocatoria | G28: El contratista presentará el plan de convocatoria antes del inicio de actividades, con estrategias diferenciadas por programa. La Alcaldía Local apoyará la difusión a través de sus canales institucionales. y se realizará el monitoreo al proceso de convocatoria para promoción del proyecto | I28: =+EVALUACION!I29 -> 3 | J28: 1 | K28: =+I28+J28 -> 4 | L28: =IF(K28<=4,"BAJO",IF(K28=5,"MEDIO",IF(K28=6,"ALTO",IF(K28=7,"ALTO","EXTREMO")))) -> BAJO | M28: NO | N28: CONTRATISTA | O28: DESDE EL INICIO DEL CONTRATO | P28: HASTA LA LIQUIDACIÓN DEL CONTRATO | Q28: COMITÉ TÉCNICO DEL PROCESO | R28: SEMANAL
B29: =+EVALUACION!B30 -> EJECUCIÓN | C29: =+EVALUACION!C30 -> Deserción del proceso formativo por parte de los beneficiarios antes de completar el programa técnico-laboral | G29: Seguimiento a la ejecución del programa El contratista implementará un sistema de seguimiento de asistencia y rendimiento académico con alertas tempranas ante señales de deserción. Ante beneficiarios en riesgo de abandono activará acciones de acompañamiento personalizado. Reportará mensualmente los indicadores de permanencia al supervisor. | I29: 2 | J29: 2 | K29: =+I29+J29 -> 4 | L29: =IF(K29<=4,"BAJO",IF(K29=5,"MEDIO",IF(K29=6,"ALTO",IF(K29=7,"ALTO","EXTREMO")))) -> BAJO | M29: NO | N29: CONTRATISTA | O29: DESDE EL INICIO DEL CONTRATO | P29: HASTA LA LIQUIDACIÓN DEL CONTRATO | Q29: COMITÉ TÉCNICO DEL PROCESO | R29: MENSUAL
B30: =+EVALUACION!B31 -> EJECUCIÓN | C30: =+EVALUACION!C31 -> Incumplimiento de metas de certificación y graduación de beneficiarios | G30: El supervisor realizará seguimiento mensual al avance en evaluaciones y al porcentaje de beneficiarios en condición de ser certificados. Ante rezagos el operador presentará un plan de recuperación académica con acciones concretas y plazos definidos. Monitoreo de la terminación del programa por parte de los beneficiarios | I30: 1 | J30: 2 | K30: =+I30+J30 -> 3 | L30: =IF(K30<=4,"BAJO",IF(K30=5,"MEDIO",IF(K30=6,"ALTO",IF(K30=7,"ALTO","EXTREMO")))) -> BAJO | M30: NO | N30: ENTIDAD Y CONTRATISTA | O30: DESDE EL INICIO DEL CONTRATO | P30: HASTA LA LIQUIDACIÓN DEL CONTRATO | Q30: COMITÉ TÉCNICO DEL PROCESO | R30: SEMANAL
B31: =+EVALUACION!B32 -> EJECUCIÓN | C31: =+EVALUACION!C32 -> Imposición de nuevos trámites o permisos | G31: El contratista realizará seguimiento permanente a las actualizaciones regulatorias del sector educativo para el trabajo. Ante la imposición de nuevas exigencias notificará al supervisor e implementará las medidas necesarias en los tiempos que defina la normativa. | I31: =+EVALUACION!I32 -> 1 | J31: =+EVALUACION!J32 -> 3 | K31: =+I31+J31 -> 4 | L31: =IF(K31<=4,"BAJO",IF(K31=5,"MEDIO",IF(K31=6,"ALTO",IF(K31=7,"ALTO","EXTREMO")))) -> BAJO | M31: NO | N31: CONTRATISTA | O31: DESDE EL INICIO DEL CONTRATO | P31: HASTA LA LIQUIDACIÓN DEL CONTRATO | Q31: COMITÉ TÉCNICO DEL PROCESO | R31: SEMANAL
B32: =+EVALUACION!B33 -> EJECUCIÓN | C32: =+EVALUACION!C33 -> Incumplimiento en los tiempos de ejecución y en la calidad de los programas de formación | G32: Realizar seguimiento periódico en los Comités Técnicos al cumplimiento de las obligaciones contractuales y a la calidad de los programas de formación. En caso de incumplimiento, requerir la implementación de acciones correctivas y, de ser necesario, aplicar los mecanismos contractuales y las garantías correspondientes. | I32: 2 | J32: 1 | K32: =+I32+J32 -> 3 | L32: =IF(K32<=4,"BAJO",IF(K32=5,"MEDIO",IF(K32=6,"ALTO",IF(K32=7,"ALTO","EXTREMO")))) -> BAJO | M32: NO | N32: ENTIDAD Y CONTRATISTA | O32: DESDE EL INICIO DEL CONTRATO | P32: HASTA LA LIQUIDACIÓN DEL CONTRATO | Q32: COMITÉ TÉCNICO DEL PROCESO | R32: MENSUAL
B33: =+EVALUACION!B37 -> EJECUCIÓN | C33: =+EVALUACION!C34 -> Retrasos en el inicio de los programas de formación técnico-laboral | G33: Verificar previamente el cumplimiento de los requisitos para el inicio de la ejecución y realizar seguimiento periódico al cronograma mediante comités técnicos e informes de supervisión, implementando oportunamente acciones correctivas ante desviaciones. | I33: 2 | J33: 1 | K33: =+I33+J33 -> 3 | L33: =IF(K33<=4,"BAJO",IF(K33=5,"MEDIO",IF(K33=6,"ALTO",IF(K33=7,"ALTO","EXTREMO")))) -> BAJO | M33: NO | N33: CONTRATISTA | O33: DESDE EL INICIO DEL CONTRATO | P33: HASTA LA LIQUIDACIÓN DEL CONTRATO | Q33: COMITÉ TÉCNICO DEL PROCESO | R33: MENSUAL
B34: =+EVALUACION!B38 -> EJECUCIÓN | C34: =+EVALUACION!C35 -> Pérdida o vencimiento de habilitaciones o registros ETDH ante la SED | G34: Verificar antes del inicio y durante la ejecución la vigencia de la licencia de funcionamiento y de los registros de los programas ETDH, exigiendo al contratista mantener permanentemente dichas autorizaciones vigentes durante toda la ejecución contractual. | I34: 2 | J34: 1 | K34: =+I34+J34 -> 3 | L34: =IF(K34<=4,"BAJO",IF(K34=5,"MEDIO",IF(K34=6,"ALTO",IF(K34=7,"ALTO","EXTREMO")))) -> BAJO | M34: NO | N34: CONTRATISTA | O34: DESDE EL INICIO DEL CONTRATO | P34: HASTA LA LIQUIDACIÓN DEL CONTRATO | Q34: COMITÉ TÉCNICO DEL PROCESO | R34: MENSUAL
B35: =+EVALUACION!B38 -> EJECUCIÓN | C35: =+EVALUACION!C36 -> Insuficiencia o deserción de docentes y personal académico | G35: Verificar que el contratista cuente con el personal mínimo requerido y un plan de reemplazo oportuno, realizando seguimiento permanente a la disponibilidad del equipo académico durante la ejecución del contrato. | I35: 2 | J35: 1 | K35: =+I35+J35 -> 3 | L35: =IF(K35<=4,"BAJO",IF(K35=5,"MEDIO",IF(K35=6,"ALTO",IF(K35=7,"ALTO","EXTREMO")))) -> BAJO | M35: NO | N35: CONTRATISTA | O35: DESDE EL INICIO DEL CONTRATO | P35: HASTA LA LIQUIDACIÓN DEL CONTRATO | Q35: COMITÉ TÉCNICO DEL PROCESO | R35: MENSUAL
B36: =+EVALUACION!B39 -> EJECUCIÓN | C36: =+EVALUACION!C37 -> Falta de disponibilidad o idoneidad de ambientes de formación | G36: Verificar previamente que los ambientes de formación cumplan con las condiciones técnicas, de seguridad, accesibilidad y capacidad requeridas, realizando visitas de seguimiento durante la ejecución para garantizar su disponibilidad e idoneidad. | I36: 2 | J36: 1 | K36: =+I36+J36 -> 3 | L36: =IF(K36<=4,"BAJO",IF(K36=5,"MEDIO",IF(K36=6,"ALTO",IF(K36=7,"ALTO","EXTREMO")))) -> BAJO | M36: NO | N36: CONTRATISTA | O36: DESDE EL INICIO DEL CONTRATO | P36: HASTA LA LIQUIDACIÓN DEL CONTRATO | Q36: COMITÉ TÉCNICO DEL PROCESO | R36: MENSUAL
B37: =+EVALUACION!B38 -> EJECUCIÓN | C37: =+EVALUACION!C38 -> Problemas de orden público en los lugares de ejecución del contrato | G37: Realizar seguimiento permanente a las condiciones de seguridad de los lugares de ejecución, coordinar con las autoridades competentes y la supervisión del contrato las medidas preventivas necesarias, y reprogramar las actividades cuando la situación de orden público pueda poner en riesgo la integridad de los participantes o afectar la adecuada ejecución del contrato. | I37: 2 | J37: 1 | K37: =+I37+J37 -> 3 | L37: =IF(K37<=4,"BAJO",IF(K37=5,"MEDIO",IF(K37=6,"ALTO",IF(K37=7,"ALTO","EXTREMO")))) -> BAJO | M37: NO | N37: CONTRATISTA | O37: DESDE EL INICIO DEL CONTRATO | P37: HASTA LA LIQUIDACIÓN DEL CONTRATO | Q37: COMITÉ TÉCNICO DEL PROCESO | R37: SEMANAL
B38: =+EVALUACION!B39 -> EJECUCIÓN | C38: =+EVALUACION!C39 -> Eventos naturales tales como lluvias, inundaciones y sequias entre otros | G38: El contratista incluirá en su plan de trabajo un protocolo de contingencia ante eventos climáticos que contemple la reprogramación de sesiones, el uso de plataformas virtuales como alternativa y la comunicación oportuna a los beneficiarios. El supervisor monitoreará el cumplimiento de la intensidad horaria acumulada. | I38: =+EVALUACION!I39 -> 2 | J38: 2 | K38: =+I38+J38 -> 4 | L38: =IF(K38<=4,"BAJO",IF(K38=5,"MEDIO",IF(K38=6,"ALTO",IF(K38=7,"ALTO","EXTREMO")))) -> BAJO | M38: NO | N38: CONTRATISTA | O38: DESDE EL INICIO DEL CONTRATO | P38: HASTA LA LIQUIDACIÓN DEL CONTRATO | Q38: COMITÉ TÉCNICO DEL PROCESO | R38: SEMANAL
C40: Categoria del Riesgo | H40: Impacto del Riesgo
B41: Probabilidad | C41: Catagoria | F41: Valoración | H41: Categoria | J41: Valoración | N41: Categoria del Riesgo
C42: Raro (puede ocurrir excepcionalmente) | F42: 1 | H42: Insignificante | J42: 1 | N42: Valoración del Riesgo | P42: Categoría
C43: Improbable (puede ocurrir ocasionalmente) | F43: 2 | H43: Menor | J43: 2 | N43: 8, 9 y 10 | P43: Riesgo extremo
C44: Posible (puede ocurrir en cualquier momento futuro) | F44: 3 | H44: Moderado | J44: 3 | N44: 6 y 7 | P44: Riesgo alto
C45: Probable (probablemente va a ocurrir) | F45: 4 | H45: Mayor | J45: 4 | N45: 5 | P45: Riesgo medio
C46: Casi cierto (ocurre en la mayoria de circunstancias) | F46: 5 | H46: Catastrófico | J46: 5 | N46: 2, 3 y 4 | P46: Riesgo bajo
C48: Valoración del Riesgo
C49: Calificación Cualitativa | G49: Obstruye la ejecución del contrato de manera intrascendente. | I49: Dificulta la ejecución del contrato de manera baja, aplicando medidas mínimas se pueden lograr el objeto contractual | L49: Afecta la ejecución del contrato sin alterar el beneficio para las partes | N49: Obstruye la ejecución del contrato sustancialmente pero aun así permite la consecución del objeto contractual | P49: Perturba la ejecución del contrato de manera grave imposibilitando la consecución del objeto contractual.
C50: Calificación Monetaria | G50: Los sobrecostos no representan más del uno por ciento (1%) del valor del contrato. | I50: Los sobrecostos no representan más del cinco por ciento (5%) del valor del contrato. | L50: Genera un impacto sobre el valor del contrato entre el cinco (5%) y el quince por ciento (15%). | N50: Incrementa el valor del contrato entre el quince (15%) y el treinta por ciento (30%). | P50: Impacto sobre el valor del contrato en más del treinta por ciento (30%).
...

Sheet ASIGNACION Y TRATAMIENTO
C2: MATRIZ DE RIESGOS DE CONTRATACIÓN | W2: Código: GCO-GCI-F164 Versión: 02 Vigencia: 01 de diciembre de 2022 Caso HOLA: 280117
B6: =+EVALUACION!B6 -> Objeto Contractual: “CONTRATAR LA PRESTACIÓN DEL SERVICIO DE EDUCACIÓN PARA EL TRABAJO Y EL DESARROLLO HUMANO (ETDH), MEDIANTE LA EJECUCIÓN DE PROGRAMAS DE FORMACIÓN TÉCNICO-LABORAL QUE CONTRIBUYAN AL FORTALECIMIENTO DE CAPACIDADES Y HABILIDADES PARA EL ACCESO A OPORTUNIDADES DE EMPLEO DE LA COMUNIDAD SUBANA”
B7: Esta matriz es un documento anexo del Estudio Previo
B10: No | C10: Descripción (Que puede pasar y, cómo puede ocurrir) | D10: Etapa | E10: Clase | F10: Fuente | G10: Consecuencias de la ocurrencia del evento | H10: Probabilidad | I10: Impacto | J10: Calificación total | K10: Prioridad | L10: ¿A quien se le asigna? | M10: % | N10: Tratamiento/Controles a ser implementados | O10: Probabilidad | P10: Impacto | Q10: Calificación total | R10: Prioridad | S10: ¿Afecta el equilibrio económico del contrato? | T10: Persona responsable por implementar el tratamiento | U10: Fecha estimada en que se inicia el tratamiento | V10: Fecha estimada en que se completa el tratamiento | W10: ¿Cómo se realiza el monitoreo | X10: Periodicidad ¿Cuándo?
B11: 1 | C11: =+'EVALUACION CON CONTROLES'!C16:F16 -> Requisitos habilitantes inapropiados para el proceso de selección | D11: =+'EVALUACION CON CONTROLES'!B16 -> PLANEACIÓN | E11: ESPECÍFICO | F11: INTERNO | G11: =+EVALUACION!H17 -> Riesgo de que el proceso de licitación resulte desierto por exceso de requisitos, o que se adjudique a un operador sin la idoneidad técnica y pedagógica requerida para ejecutar los programas de formación técnico-laboral. | H11: =+EVALUACION!I17 -> 3 | I11: =+EVALUACION!J17 -> 4 | J11: =+EVALUACION!K17 -> 7 | K11: =+EVALUACION!L17 -> ALTO | L11: ENTIDAD | M11: 100 | N11: =+'EVALUACION CON CONTROLES'!G16 -> El equipo de planeación y contratación de la Alcaldía Local realizará una sesión de análisis previo a la apertura del proceso, en la que se verificará la modalidad de selección conforme al valor estimado del contrato y la naturaleza del servicio educativo. | O11: =+'EVALUACION CON CONTROLES'!I16 -> 2 | P11: =+'EVALUACION CON CONTROLES'!J16 -> 2 | Q11: =+'EVALUACION CON CONTROLES'!K16 -> 4 | R11: =+'EVALUACION CON CONTROLES'!L16 -> BAJO | S11: =+'EVALUACION CON CONTROLES'!M16 -> NO | T11: =+'EVALUACION CON CONTROLES'!N16 -> ENTIDAD | U11: =+'EVALUACION CON CONTROLES'!O16 -> DESDE EL INICIO DE LA FORMULACIÓN | V11: =+'EVALUACION CON CONTROLES'!P16 -> HASTA LA PUBLICACIÓN EN PLATAFORMA SECOP | ... X11: =+'EVALUACION CON CONTROLES'!R16 -> UNA SOLA VEZ
B12: 2 | C12: =+'EVALUACION CON CONTROLES'!C17:F17 -> Inadecuada descripción del bien o servicio requerido | D12: =+'EVALUACION CON CONTROLES'!B17 -> PLANEACIÓN | E12: ESPECÍFICO | F12: INTERNO | G12: =+EVALUACION!H18 -> Dificultades durante la ejecución del contrato derivadas de interpretaciones divergentes entre el operador y el supervisor sobre el alcance, los entregables o los estándares de calidad esperados en los programas técnico-laborales. | H12: =+EVALUACION!I18 -> 2 | I12: =+EVALUACION!J18 -> 4 | J12: =+EVALUACION!K18 -> 6 | K12: =+EVALUACION!L18 -> ALTO | L12: ENTIDAD | M12: 100 | N12: =+'EVALUACION CON CONTROLES'!G17 -> Análisis del sector adecuado para conocer oferta de bienes y servicios Ajuste de bienes y servicios, definición del alcance de los programas adecuados a la necesidad y | O12: =+'EVALUACION CON CONTROLES'!I17 -> 1 | P12: =+'EVALUACION CON CONTROLES'!J17 -> 2 | Q12: =+'EVALUACION CON CONTROLES'!K17 -> 3 | R12: =+'EVALUACION CON CONTROLES'!L17 -> BAJO | S12: =+'EVALUACION CON CONTROLES'!M17 -> NO | T12: =+'EVALUACION CON CONTROLES'!N17 -> ENTIDAD | U12: =+'EVALUACION CON CONTROLES'!O17 -> DESDE EL INICIO DE LA FORMULACIÓN | V12: =+'EVALUACION CON CONTROLES'!P17 -> HASTA LA PUBLICACIÓN EN PLATAFORMA SECOP | ... X12: =+'EVALUACION CON CONTROLES'!R17 -> MENSUAL
B13: 3 | C13: =+'EVALUACION CON CONTROLES'!C18:F18 -> Inadecuada evaluación de las ofertas y/o verificación de requisitos habilitantes | D13: =+'EVALUACION CON CONTROLES'!B18 -> SELECCIÓN | E13: ESPECÍFICO | F13: INTERNO | G13: =+EVALUACION!H19 -> Riesgo de adjudicación a un contratista que no cuente con la idoneidad técnica, pedagógica o financiera para ejecutar los programas de formación, afectando la calidad del servicio y el cumplimiento de las metas del Plan de Desarrollo Local. | H13: =+EVALUACION!I19 -> 2 | I13: =+EVALUACION!J19 -> 5 | J13: =+EVALUACION!K19 -> 7 | K13: =+EVALUACION!L19 -> ALTO | L13: ENTIDAD | M13: 100 | N13: =+'EVALUACION CON CONTROLES'!G18 -> Evaluación y verificación de los documentos habilitantes de cada proponente, incluyendo la resolución de funiconamiento y los registros de programas, la experiencia específica en contratos ETDH y la capacidad financiera. | O13: =+'EVALUACION CON CONTROLES'!I18 -> 1 | P13: =+'EVALUACION CON CONTROLES'!J18 -> 4 | Q13: =+'EVALUACION CON CONTROLES'!K18 -> 5 | R13: =+'EVALUACION CON CONTROLES'!L18 -> MEDIO | S13: =+'EVALUACION CON CONTROLES'!M18 -> SI | T13: =+'EVALUACION CON CONTROLES'!N18 -> ENTIDAD | U13: =+'EVALUACION CON CONTROLES'!O18 -> DESDE EL INICIO DEL PROCESO DE EVALUACIÓN | V13: =+'EVALUACION CON CONTROLES'!P18 -> HASTA LA ADJUDICACIÓN DEL CONTRATO | ... X13: =+'EVALUACION CON CONTROLES'!R18 -> SEMANAL
B14: 4 | C14: =+'EVALUACION CON CONTROLES'!C19:F19 -> Contestación inoportuna a todas las observaciones formuladas a los documentos de la contratación | D14: =+'EVALUACION CON CONTROLES'!B19 -> SELECCIÓN | E14: ESPECÍFICO | F14: INTERNO | G14: =+EVALUACION!H20 -> Retraso en la firma del contrato Limitación en la postulación de los oferentes al proceso de selección | H14: =+EVALUACION!I20 -> 1 | I14: =+EVALUACION!J20 -> 3 | J14: =+EVALUACION!K20 -> 4 | K14: =+EVALUACION!L20 -> BAJO | L14: ENTIDAD | M14: 100 | N14: =+'EVALUACION CON CONTROLES'!G19 -> Seguimiento y monitoreo a observaciones realizadas en plataforma para respuesta inmediata. | O14: =+'EVALUACION CON CONTROLES'!I19 -> 1 | P14: =+'EVALUACION CON CONTROLES'!J19 -> 2 | Q14: =+'EVALUACION CON CONTROLES'!K19 -> 3 | R14: =+'EVALUACION CON CONTROLES'!L19 -> BAJO | S14: =+'EVALUACION CON CONTROLES'!M19 -> NO | T14: =+'EVALUACION CON CONTROLES'!N19 -> ENTIDAD | U14: =+'EVALUACION CON CONTROLES'!O19 -> DESDE EL INICIO DEL PROCESO DE EVALUACIÓN | V14: =+'EVALUACION CON CONTROLES'!P19 -> HASTA LA ADJUDICACIÓN DEL CONTRATO | ... X14: =+'EVALUACION CON CONTROLES'!R19 -> DIARIO
B15: 5 | C15: =+'EVALUACION CON CONTROLES'!C20:F20 -> No publicación de la documentación del proceso de selección en el SECOP | D15: =+'EVALUACION CON CONTROLES'!B20 -> SELECCIÓN | E15: ESPECÍFICO | F15: INTERNO | G15: =+EVALUACION!H21 -> Posible nulidad del proceso se selección | H15: =+EVALUACION!I21 -> 2 | I15: =+EVALUACION!J21 -> 5 | J15: =+EVALUACION!K21 -> 7 | K15: =+EVALUACION!L21 -> ALTO | L15: ENTIDAD | M15: 100 | N15: =+'EVALUACION CON CONTROLES'!G20 -> Monitoreo del cumplimiento del conograma establecido para el cargue de los documentos del proceso | O15: =+'EVALUACION CON CONTROLES'!I20 -> 1 | P15: =+'EVALUACION CON CONTROLES'!J20 -> 2 | Q15: =+'EVALUACION CON CONTROLES'!K20 -> 3 | R15: =+'EVALUACION CON CONTROLES'!L20 -> BAJO | S15: =+'EVALUACION CON CONTROLES'!M20 -> NI | T15: =+'EVALUACION CON CONTROLES'!N20 -> ENTIDAD | U15: =+'EVALUACION CON CONTROLES'!O20 -> DESDE EL CARGUE DEL PROCESO | V15: =+'EVALUACION CON CONTROLES'!P20 -> HASTA LA ADJUDICACIÓN DEL CONTRATO | ... X15: =+'EVALUACION CON CONTROLES'!R20 -> DIARIO
B16: 6 | C16: =+'EVALUACION CON CONTROLES'!C21:F21 -> Confabulacion de los proponentes (Colusión) | D16: =+'EVALUACION CON CONTROLES'!B21 -> SELECCIÓN | E16: ESPECÍFICO | F16: EXTERNO | G16: =+EVALUACION!H22 -> Adjudicación viciada por error. Investigaciones disciplinarias y fiscales | H16: =+EVALUACION!I22 -> 2 | I16: =+EVALUACION!J22 -> 4 | J16: =+EVALUACION!K22 -> 6 | K16: =+EVALUACION!L22 -> ALTO | L16: ENTIDAD | M16: 100 | N16: =+'EVALUACION CON CONTROLES'!G21 -> Estructuración de pliegos y evaluación de ofertas con base en procesos competitivos establecidos por Colombia Compa Eficiente. | O16: =+'EVALUACION CON CONTROLES'!I21 -> 1 | P16: =+'EVALUACION CON CONTROLES'!J21 -> 2 | Q16: =+'EVALUACION CON CONTROLES'!K21 -> 3 | R16: =+'EVALUACION CON CONTROLES'!L21 -> BAJO | S16: =+'EVALUACION CON CONTROLES'!M21 -> SI | T16: =+'EVALUACION CON CONTROLES'!N21 -> ENTIDAD | U16: =+'EVALUACION CON CONTROLES'!O21 -> DESDE EL INICIO DEL PROCESO DE EVALUACIÓN | V16: =+'EVALUACION CON CONTROLES'!P21 -> HASTA LA ADJUDICACIÓN DEL CONTRATO | ... X16: =+'EVALUACION CON CONTROLES'!R21 -> SEMANAL
B17: 7 | C17: =+'EVALUACION CON CONTROLES'!C22:F22 -> Selección de ofertas con precios artificialmente bajos. | D17: =+'EVALUACION CON CONTROLES'!B22 -> SELECCIÓN | E17: ESPECÍFICO | F17: EXTERNO | G17: =+EVALUACION!H23 -> Desequilibrio económico del contrato, riesgo de adjudicación a un operador que ofrezca precios insuficientes para garantizar la calidad pedagógica, la idoneidad docente y la dotación requerida para los programas técnico-laborales, comprometiendo el cumplimiento de las metas de certificación. | H17: =+EVALUACION!I23 -> 3 | I17: =+EVALUACION!J23 -> 4 | J17: =+EVALUACION!K23 -> 7 | K17: =+EVALUACION!L23 -> ALTO | L17: ENTIDAD | M17: 100 | N17: =+'EVALUACION CON CONTROLES'!G22 -> Seguimiento acorde a guía de manejo de precios artificialmente bajos de Colombia Compra Eficiente | O17: =+'EVALUACION CON CONTROLES'!I22 -> 1 | P17: =+'EVALUACION CON CONTROLES'!J22 -> 2 | Q17: =+'EVALUACION CON CONTROLES'!K22 -> 3 | R17: =+'EVALUACION CON CONTROLES'!L22 -> BAJO | S17: =+'EVALUACION CON CONTROLES'!M22 -> SI | T17: =+'EVALUACION CON CONTROLES'!N22 -> ENTIDAD | U17: =+'EVALUACION CON CONTROLES'!O22 -> DESDE EL INICIO DEL PROCESO DE EVALUACIÓN | V17: =+'EVALUACION CON CONTROLES'!P22 -> HASTA LA ADJUDICACIÓN DEL CONTRATO | ... X17: =+'EVALUACION CON CONTROLES'!R22 -> SEMANAL
B18: 8 | C18: =+'EVALUACION CON CONTROLES'!C23:F23 -> Falta de constitución o constitución tardía de la garantía única. Aceptación de garantías que no se ajustan a lo contemplado en el contrato | D18: =+'EVALUACION CON CONTROLES'!B23 -> CONTRATACIÓN | E18: ESPECÍFICO | F18: EXTERNO | G18: =+EVALUACION!H24 -> Posible nulidad del proceso de contratación o retraso en la expedición del acta de inicio de los programas de formación y reducción del tiempo efectivo de ejecución, afectando el cronograma pedagógico y el cumplimiento de las metas de certificación de la vigencia. | H18: =+EVALUACION!I24 -> 2 | I18: =+EVALUACION!J24 -> 4 | J18: =+EVALUACION!K24 -> 6 | K18: =+EVALUACION!L24 -> ALTO | L18: ENTIDAD Y CONTRATISTA | M18: 100 | N18: =+'EVALUACION CON CONTROLES'!G23 -> Verificación de garantias acorde a lo establecido en el pliego de condiciones y a la ley | O18: =+'EVALUACION CON CONTROLES'!I23 -> 1 | P18: =+'EVALUACION CON CONTROLES'!J23 -> 1 | Q18: =+'EVALUACION CON CONTROLES'!K23 -> 2 | R18: =+'EVALUACION CON CONTROLES'!L23 -> BAJO | S18: =+'EVALUACION CON CONTROLES'!M23 -> SI | T18: =+'EVALUACION CON CONTROLES'!N23 -> ENTIDAD Y CONTRATISTA | U18: =+'EVALUACION CON CONTROLES'!O23 -> DESDE LA ADJUDICACIÓN DEL CONTRATO | V18: =+'EVALUACION CON CONTROLES'!P23 -> HASTA LA CONSTITUCIÓN DEL ACTA DE INICIO | ... X18: =+'EVALUACION CON CONTROLES'!R23 -> DIARIO
B19: 9 | C19: =+'EVALUACION CON CONTROLES'!C24:F24 -> Presentación de reclamos de terceros sobre la selección del oferente que retrasen el perfeccionamiento del contrato. | D19: =+'EVALUACION CON CONTROLES'!B24 -> CONTRATACIÓN | E19: GENERAL | F19: EXTERNO | G19: =+EVALUACION!H25 -> Retraso en el inicio del contrato | H19: =+EVALUACION!I25 -> 2 | I19: =+EVALUACION!J25 -> 3 | J19: =+EVALUACION!K25 -> 5 | K19: =+EVALUACION!L25 -> MEDIO | L19: ENTIDAD | M19: 100 | N19: =+'EVALUACION CON CONTROLES'!G24 -> Dar respuesta a requerimientos de terceros relativos al proceso de selección | O19: =+'EVALUACION CON CONTROLES'!I24 -> 2 | P19: =+'EVALUACION CON CONTROLES'!J24 -> 1 | Q19: =+'EVALUACION CON CONTROLES'!K24 -> 3 | R19: =+'EVALUACION CON CONTROLES'!L24 -> BAJO | S19: =+'EVALUACION CON CONTROLES'!M24 -> NO | T19: =+'EVALUACION CON CONTROLES'!N24 -> ENTIDAD | U19: =+'EVALUACION CON CONTROLES'!O24 -> DESDE EL INICIO DEL PROCESO DE EVALUACIÓN | V19: =+'EVALUACION CON CONTROLES'!P24 -> HASTA LA CONSTITUCIÓN DEL ACTA DE INICIO | ... X19: =+'EVALUACION CON CONTROLES'!R24 -> DIARIO
B20: 10 | C20: =+'EVALUACION CON CONTROLES'!C25:F25 -> Cambio de precios en factores de producción. | D20: =+'EVALUACION CON CONTROLES'!B25 -> EJECUCIÓN | E20: GENERAL | F20: EXTERNO | G20: =+EVALUACION!H26 -> Disminución de utilidades, variación de las expectativas económicas del contratista | H20: =+EVALUACION!I26 -> 2 | I20: =+EVALUACION!J26 -> 3 | J20: =+EVALUACION!K26 -> 5 | K20: =+EVALUACION!L26 -> MEDIO | L20: CONTRATISTA | M20: 100 | N20: =+'EVALUACION CON CONTROLES'!G25 -> Seguimiento a fluctuaciones del mercado que afecten los precios de producción | O20: =+'EVALUACION CON CONTROLES'!I25 -> 2 | P20: =+'EVALUACION CON CONTROLES'!J25 -> 1 | Q20: =+'EVALUACION CON CONTROLES'!K25 -> 3 | R20: =+'EVALUACION CON CONTROLES'!L25 -> BAJO | S20: =+'EVALUACION CON CONTROLES'!M25 -> SI | T20: =+'EVALUACION CON CONTROLES'!N25 -> CONTRATISTA | U20: =+'EVALUACION CON CONTROLES'!O25 -> DESDE EL INICIO DEL CONTRATO | V20: =+'EVALUACION CON CONTROLES'!P25 -> HASTA LA LIQUIDACIÓN DEL CONTRATO | ... X20: =+'EVALUACION CON CONTROLES'!R25 -> MENSUAL
B21: 11 | C21: =+'EVALUACION CON CONTROLES'!C26:F26 -> Factores políticos o macroeconómicos. | D21: =+'EVALUACION CON CONTROLES'!B26 -> EJECUCIÓN | E21: GENERAL | F21: EXTERNO | G21: =+EVALUACION!H27 -> Cambio en las condiciones iniciales del contrato que afecten su ejecución y equilibrio económico | H21: =+EVALUACION!I27 -> 1 | I21: =+EVALUACION!J27 -> 3 | J21: =+EVALUACION!K27 -> 4 | K21: =+EVALUACION!L27 -> BAJO | L21: ENTIDAD Y CONTRATISTA | M21: 100 | N21: =+'EVALUACION CON CONTROLES'!G26 -> Seguimiento a situaciones politicas o económicas relacionadas con el contrato | O21: =+'EVALUACION CON CONTROLES'!I26 -> 1 | P21: =+'EVALUACION CON CONTROLES'!J26 -> 3 | Q21: =+'EVALUACION CON CONTROLES'!K26 -> 4 | R21: =+'EVALUACION CON CONTROLES'!L26 -> BAJO | S21: =+'EVALUACION CON CONTROLES'!M26 -> SI | T21: =+'EVALUACION CON CONTROLES'!N26 -> ENTIDAD Y CONTRATISTA | U21: =+'EVALUACION CON CONTROLES'!O26 -> DESDE EL INICIO DEL CONTRATO | V21: =+'EVALUACION CON CONTROLES'!P26 -> HASTA LA LIQUIDACIÓN DEL CONTRATO | ... X21: =+'EVALUACION CON CONTROLES'!R26 -> MENSUAL
B22: 12 | C22: =+'EVALUACION CON CONTROLES'!C27:F27 -> Variación en la disponibilidad o en el costo de los insumos necesarios para prestar los servicios. | D22: =+'EVALUACION CON CONTROLES'!B27 -> EJECUCIÓN | E22: ESPECÍFICO | F22: EXTERNO | G22: =+EVALUACION!H28 -> Retrasos en el desarrollo de las sesiones formativas por falta de insumos pedagógicos, herramientas de taller o equipos tecnológicos, con impacto en el cronograma académico y el cumplimiento de la intensidad horaria mínima requerida | H22: =+EVALUACION!I28 -> 2 | I22: =+EVALUACION!J28 -> 4 | J22: =+EVALUACION!K28 -> 6 | K22: =+EVALUACION!L28 -> ALTO | L22: CONTRATISTA | M22: 100 | N22: =+'EVALUACION CON CONTROLES'!G27 -> El contratista deberá presentar al supervisor y/o al apoyo a la supervisión un informe mensual sobre el cumplimiento del cronograma de ejecución del contrato. En caso de evidenciarse la materialización del riesgo o desviaciones que puedan afectar el desarrollo de las actividades programadas, se deberá convocar un Comité Técnico con el fin de analizar las causas, evaluar los posibles escenarios y definir las acciones correctivas y/o preventivas necesarias para mitigar sus efectos, garantizando que las medidas adoptadas no afecten la calidad del servicio, el cumplimiento de las obligaciones contractuales ni el equilibrio económico del contrato. | O22: =+'EVALUACION CON CONTROLES'!I27 -> 2 | P22: =+'EVALUACION CON CONTROLES'!J27 -> 2 | Q22: =+'EVALUACION CON CONTROLES'!K27 -> 4 | R22: =+'EVALUACION CON CONTROLES'!L27 -> BAJO | S22: =+'EVALUACION CON CONTROLES'!M27 -> SI | T22: =+'EVALUACION CON CONTROLES'!N27 -> CONTRATISTA | U22: =+'EVALUACION CON CONTROLES'!O27 -> DESDE EL INICIO DEL CONTRATO | V22: =+'EVALUACION CON CONTROLES'!P27 -> HASTA LA LIQUIDACIÓN DEL CONTRATO | ... X22: =+'EVALUACION CON CONTROLES'!R27 -> MENSUAL
... B33: 23 | C33: =+'EVALUACION CON CONTROLES'!C38:F38 -> Eventos naturales tales como lluvias, inundaciones y sequias entre otros | D33: =+'EVALUACION CON CONTROLES'!B38 -> EJECUCIÓN | E33: GENERAL | F33: EXTERNO | G33: =+EVALUACION!H39 -> Cancelación o reprogramación forzada de sesiones formativas con afectación al cronograma pedagógico, reducción de la intensidad horaria efectiva y necesidad de implementar alternativas de continuidad del servicio educativo. | H33: =+EVALUACION!I39 -> 2 | I33: =+EVALUACION!J39 -> 4 | J33: =+EVALUACION!K39 -> 6 | K33: =+EVALUACION!L39 -> ALTO | L33: CONTRATISTA | M33: 100 | N33: =+'EVALUACION CON CONTROLES'!G38 -> El contratista incluirá en su plan de trabajo un protocolo de contingencia ante eventos climáticos que contemple la reprogramación de sesiones, el uso de plataformas virtuales como alternativa y la comunicación oportuna a los beneficiarios. El supervisor monitoreará el cumplimiento de la intensidad horaria acumulada. | O33: =+'EVALUACION CON CONTROLES'!I38 -> 2 | P33: =+'EVALUACION CON CONTROLES'!J38 -> 2 | Q33: =+'EVALUACION CON CONTROLES'!K38 -> 4 | R33: =+'EVALUACION CON CONTROLES'!L38 -> BAJO | S33: =+'EVALUACION CON CONTROLES'!M38 -> NO | T33: =+'EVALUACION CON CONTROLES'!N38 -> CONTRATISTA | U33: =+'EVALUACION CON CONTROLES'!O38 -> DESDE EL INICIO DEL CONTRATO | V33: =+'EVALUACION CON CONTROLES'!P38 -> HASTA LA LIQUIDACIÓN DEL CONTRATO | ... X33: =+'EVALUACION CON CONTROLES'!R38 -> SEMANAL
F35: Categoria | J35: Impacto del Riesgo
E36: Probabilidad | F36: Catagoria | G36: Valoración | J36: Categoria | L36: Valoración
F37: Raro (puede ocurrir excepcionalmente) | G37: 1 | J37: Insignificante | L37: 1
F38: Improbable (puede ocurrir ocasionalmente) | G38: 2 | J38: Menor | L38: 2
F39: Posible (puede ocurrir en cualquier momento futuro) | G39: 3 | J39: Moderado | L39: 3
F40: Probable (probablemente va a ocurrir) | G40: 4 | J40: Mayor | L40: 4
F41: Casi cierto (ocurre en la mayoria de circunstancias) | G41: 5 | J41: Catastrófico | L41: 5
D43: Valoración del Riesgo
D44: Catagoria | E44: Valoración | F44: Insignificante | H44: Menor | J44: Moderado | K44: Mayor | L44: Catastrófico | P44: Categoria del Riesgo
F45: 1 | H45: 2 | J45: 3 | K45: 4 | L45: 5 | P45: Valoración del Riesgo | S45: Categoría
D46: Raro (puede ocurrir excepcionalmente) | E46: 1 | F46: 2 | H46: 3 | J46: 4 | K46: 5 | L46: 6 | P46: 8, 9 y 10 | S46: Riesgo extremo
D47: Improbable (puede ocurrir ocasionalmente) | E47: 2 | F47: 3 | H47: 4 | J47: 5 | K47: 6 | L47: 7 | P47: 6 y 7 | S47: Riesgo alto
D48: Posible (puede ocurrir en cualquier momento futuro) | E48: 3 | F48: 4 | H48: 5 | J48: 6 | K48: 7 | L48: 8 | P48: 5 | S48: Riesgo medio
D49: Probable (probablemente va a ocurrir) | E49: 4 | F49: 5 | H49: 6 | J49: 7 | K49: 8 | L49: 9 | P49: 2, 3 y 4 | S49: Riesgo bajo
D50: Casi cierto (ocurre en la mayoria de circunstancias) | E50: 5 | F50: 6 | H50: 7 | J50: 8 | K50: 9 | L50: 10
B54: ELABORÓ | C54: FIRMA
B55: CONTRATISTA
B56: SDG
B57: CONTRATISTA Y SDG
B58: Cristian Monroy
