Workbook
Name Acero: #REF!
Name Agregados: #REF!
Name Apar.Sanitarios: #REF!
Name Carp.Aluminio: #REF!
Name Carp.Metalica: #REF!
Name Cerrajeria: #REF!
Name Ciudades: [1]Insumos!$B$2:$B$2
Name Combustible: #REF!
Name Concretos: [1]Insumos!#REF!
Name Cuadrillas: #REF!
Name Cubierta: #REF!
Name Drywall: #REF!
Name Dsfsff: [2]INSUMOS!$A$14:$A$10101
Name Equipos: #REF!
Name EquiposEspeciales: #REF!
Name Ferreteria: #REF!
Name Formaletas: #REF!
Name Geosinteticos: #REF!
Name Impermeabilizantes: #REF!
Name Inst.Electricas: #REF!
Name Inst.Hidrosanitarias: #REF!
Name INSUMOS: #REF!
Name INSUMOS_NOM: [3]INSUMOS!$A$14:$A$490
Name INSUMOS_PRECIO: [3]INSUMOS!$E$14:$E$490
Name INSUMOS_TIPO: [3]INSUMOS!$B$14:$B$490
Name INSUMOS_UNI: [3]INSUMOS!$C$14:$C$490
Name Ladrillos: #REF!
Name Maderas: #REF!
Name Pinturas: #REF!
Name PisosEnchapes: #REF!
Name Prefabricados: #REF!
Name VariosAnalisis: #REF!

Sheet Sheet
C2: 46198 | G2: Código | I2: 1 | L2: Fecha creación del reporte | N2: 25/05/2022 | S2: Versión | T2: 1
B3: ADECUACIÓN Y MANTENIMIENTO SEDES EN COMODATO REGISTRADURÍA MUNICIPAL DE PINILLOS - BOLÍVAR
A8: Actividad | P8: UM | R8: Cantidad | U8: Vr. Unitario | AA8: Vr. Total
J9: Costos directos
A10: 1 | E10: ACTIVIDADES PRELIMINARES
A13: 1.01 | E13: ACTIVIDADES PRELIMINARES
A14: 01.01.01 | E14: REVISIÓN Y DESMONTE DE PUNTOS ELÉCTRICOS EXISTENTES. (INCLUYE TOMAS, INTERRUPTORES, PLAFONES, CABLEADO) | P14: UND | R14: {=+SUM(IF(A14="","",IF(A14=Cantidades!A:A,Cantidades!M:M," ")))} -> 11 | U14: 26404 | AA14: =ROUND((U14*R14),0) -> 290444
A15: 01.01.02 | E15: =+'APU CREADO'!A6 -> LIMPIEZA DE PAREDES PARA APLICACIÓN DE PINTURA | P15: =+'APU CREADO'!C6 -> M2 | R15: {=+SUM(IF(A15="","",IF(A15=Cantidades!A:A,Cantidades!M:M," ")))} -> 28 | U15: =+'APU CREADO'!G6 -> 5854 | AA15: =ROUND((U15*R15),0) -> 163912
A16: 01.01.03 | E16: =+'APU CREADO'!A12 -> DESMONTE CIELO RASO (INCLUYE RETIRO) ALTURA < 3 M | P16: =+'APU CREADO'!C12 -> M2 | R16: {=+SUM(IF(A16="","",IF(A16=Cantidades!A:A,Cantidades!M:M," ")))} -> 90.032928 | U16: =+'APU CREADO'!G12 -> 14706 | AA16: =ROUND((U16*R16),0) -> 1324024
A17: 01.01.04 | E17: =+'APU CREADO'!A17 -> PICADO DE PLACA PISO (INCLUYE RETIRO) | P17: =+'APU CREADO'!C17 -> M2 | R17: {=+SUM(IF(A17="","",IF(A17=Cantidades!A:A,Cantidades!M:M," ")))} -> 90.032928 | U17: =+'APU CREADO'!G17 -> 6990 | AA17: =ROUND((U17*R17),0) -> 629330
A18: 01.01.05 | E18: =+'APU CREADO'!A20 -> DESMONTE APARATOS SANITARIOS (INCLUYE RETIRO) | P18: =+'APU CREADO'!C20 -> UND | R18: {=+SUM(IF(A18="","",IF(A18=Cantidades!A:A,Cantidades!M:M," ")))} -> 1 | U18: =+'APU CREADO'!G20 -> 66328 | AA18: =ROUND((U18*R18),0) -> 66328
E21: Total ACTIVIDADES PRELIMINARES | U21: =SUM(AA14:AA18) -> 2474038
E24: Total ACTIVIDADES PRELIMINARES | U24: =U21 -> 2474038
A27: 2 | E27: PINTURAS
A30: 2.01 | E30: PINTURAS
A31: 02.01.01 | E31: =+'APU CREADO'!A25 -> SUMINISTRO, TRANSPORTE E INSTALACIÓN ESTUCO Y VINILO 3 MANOS SOBRE MURO INTERIOR (INCLUYE ESTUCO, 1 MANO EN PINTURA TIPO 2 Y DOS MANOS EN PINTURA TIPO 1, FILOS Y DILATACIONES) | P31: =+'APU CREADO'!C25 -> M2 | R31: {=+SUM(IF(A31="","",IF(A31=Cantidades!A:A,Cantidades!M:M," ")))} -> 280 | U31: =+'APU CREADO'!G25 -> 27166 | AA31: =ROUND((U31*R31),0) -> 7606480
A32: 02.01.02 | E32: =+'APU CREADO'!A35 -> SUMINISTRO, TRANSPORTE E INSTALACIÓN ESTUCO Y PINTURA TIPO KORAZA O SIMILAR 3 MANOS FACHADAS (INCLUYE ESTUCO, 1 MANO EN PINTURA TIPO 2 Y DOS MANOS EN PINTURA TIPO KORAZA O SIMILAR, FILOS Y DILATACIONES). COLOR SEGÚN DISEÑO | P32: =+'APU CREADO'!C35 -> M2 | R32: {=+SUM(IF(A32="","",IF(A32=Cantidades!A:A,Cantidades!M:M," ")))} -> 54 | U32: =+'APU CREADO'!G35 -> 31626 | AA32: =ROUND((U32*R32),0) -> 1707804
A33: 02.01.03 | E33: =+'APU CREADO'!A45 -> SUMINISTRO, TRANSPORTE E INSTALACIÓN PINTURA ESMALTE PARA PUERTAS, REJAS, VENTANAS Y DEMÁS SUPERFICIES METÁLICAS. INCLUYE FILOS, DILATACIONES Y PROTECCIÓN DE ELEMENTOS DURANTE SU EJECUCIÓN | P33: =+'APU CREADO'!C45 -> M2 | R33: {=+SUM(IF(A33="","",IF(A33=Cantidades!A:A,Cantidades!M:M," ")))} -> 6 | U33: =+'APU CREADO'!G45 -> 24049 | AA33: =ROUND((U33*R33),0) -> 144294
E36: Total PINTURAS | U36: =SUM(AA31:AA33) -> 9458578
E39: Total PINTURAS | U39: =U36 -> 9458578
A42: 3 | E42: CIELO RASOS
A45: 3.01 | E45: CIELO RASOS
A46: 03.01.01 | E46: SUMINISTRO, TRANSPORTE E INSTALACIÓN DE CIELORRASO PVC LAMINAS BLANCO MATE (POLICLORURO DE VINILO) INCLUYE ESTRUCTURA Y DEMÁS ELEMENTOS PARA SU CORRECTA EJECUCIÓN | P46: M2 | R46: {=+SUM(IF(A46="","",IF(A46=Cantidades!A:A,Cantidades!M:M," ")))} -> 90.032928 | U46: 78415 | AA46: =ROUND((U46*R46),0) -> 7059932
E49: Total CIELO RASOS | U49: =SUM(AA46:AA46) -> 7059932
E52: Total CIELO RASOS | U52: =U49 -> 7059932
A55: 4 | E55: PISOS
A58: 4.01 | E58: PISOS
A59: 04.01.01 | E59: =+'APU CREADO'!A52 -> SUMINISTRO, TRANSPORTE E INSTALACIÓN CERÁMICA PISO VANCOUVER HIELO 60X60CM O SIMILAR. COLOR CORAL O SHELL SEGÚN DISEÑO. INCLUYE MORTERO DE PEGA Y/O NIVELACIÓN | P59: =+'APU CREADO'!C52 -> M2 | R59: {=+SUM(IF(A59="","",IF(A59=Cantidades!A:A,Cantidades!M:M," ")))} -> 90.032928 | U59: =+'APU CREADO'!G52 -> 77430 | AA59: =ROUND((U59*R59),0) -> 6971250
A60: 04.01.02 | E60: =+'APU CREADO'!A61 -> SUMINISTRO, TRANSPORTE E INSTALACIÓN GUARDAESCOBA CERÁMICA PISO VANCOUVER HIELO 60X60CM O SIMILAR H = 10 CM (INCLUYE BOQUILLA, MORTERO DE PEGA) | P60: =+'APU CREADO'!C61 -> M | R60: {=+SUM(IF(A60="","",IF(A60=Cantidades!A:A,Cantidades!M:M," ")))} -> 70 | U60: =+'APU CREADO'!G61 -> 16695 | AA60: =ROUND((U60*R60),0) -> 1168650
E63: Total PISOS | U63: =SUM(AA59:AA60) -> 8139900
E66: Total PISOS | U66: =U63 -> 8139900
A69: 5 | E69: CONCRETOS, REVOQUES Y MORTEROS
A72: 5.01 | E72: CONCRETOS, REVOQUES Y MORTEROS
A73: 05.01.01 | E73: =+'APU CREADO'!A71 -> SUMINISTRO, TRANSPORTE E INSTALACIÓN REVOQUE LISO MUROS 1:3 IMPERMEABILIZADO (INCLUYE FILOS Y DILATACIONES) PARA ALTURAS MENORES A 3 METROS | P73: =+'APU CREADO'!C71 -> M2 | R73: {=+SUM(IF(A73="","",IF(A73=Cantidades!A:A,Cantidades!M:M," ")))} -> 28 | U73: =+'APU CREADO'!G71 -> 38593 | AA73: =ROUND((U73*R73),0) -> 1080604
A74: 05.01.02 | E74: =+'APU CREADO'!A77 -> SUMINISTRO, TRANSPORTE E INSTALACIÓN PLACA CONTRAPISO CONCRETO 3000 PSI E=0.07 M (SIN REFUERZO) | P74: =+'APU CREADO'!C77 -> M2 | R74: {=+SUM(IF(A74="","",IF(A74=Cantidades!A:A,Cantidades!M:M," ")))} -> 90.032928 | U74: =+'APU CREADO'!G77 -> 81938 | AA74: =ROUND((U74*R74),0) -> 7377118
E77: Total CONCRETOS, REVOQUES Y MORTEROS | U77: =SUM(AA73:AA74) -> 8457722
E80: Total CONCRETOS, REVOQUES Y MORTEROS | U80: =U77 -> 8457722
A83: 6 | E83: INSTALACIONES ELÉCTRICAS
A86: 6.01 | E86: INSTALACIONES ELÉCTRICAS
A87: 06.01.01 | E87: =+'APU CREADO'!A87 -> SUMINISTRO, TRANSPORTE E INSTALACIÓN LUMINARIA PANEL LED 18W | P87: =+'APU CREADO'!C87 -> UND | R87: {=+SUM(IF(A87="","",IF(A87=Cantidades!A:A,Cantidades!M:M," ")))} -> 9 | U87: =+'APU CREADO'!G87 -> 103120 | AA87: =ROUND((U87*R87),0) -> 928080
A88: 06.01.02 | E88: =+'APU CREADO'!A95 -> SUMINISTRO, TRANSPORTE E INSTALACIÓN SALIDA ELÉCTRICA PARA ILUMINACIÓN INTERIOR, INCLUYE EL CABLEADO ELÉCTRICO PARA SU BUEN FUNCIONAMIENTO Y ESTOS CONECTADOS AL TABLERO ELÉCTRICO | P88: =+'APU CREADO'!C95 -> UND | R88: {=+SUM(IF(A88="","",IF(A88=Cantidades!A:A,Cantidades!M:M," ")))} -> 9 | U88: =+'APU CREADO'!G95 -> 46672 | AA88: =ROUND((U88*R88),0) -> 420048
A89: 06.01.03 | E89: =+'APU CREADO'!A102 -> SUMINISTRO, TRANSPORTE E INSTALACIÓN SALIDA INTERRUPTOR SENCILLO | P89: =+'APU CREADO'!C102 -> UND | R89: {=+SUM(IF(A89="","",IF(A89=Cantidades!A:A,Cantidades!M:M," ")))} -> 2 | U89: =+'APU CREADO'!G102 -> 166467 | AA89: =ROUND((U89*R89),0) -> 332934
A90: 06.01.04 | E90: SUMINISTRO, TRANSPORTE E INSTALACIÓN DE ALAMBRE AISLADO DE RED ELÉCTRICA THHN 12 PARA RED ELÉCTRICA | P90: M | R90: {=+SUM(IF(A90="","",IF(A90=Cantidades!A:A,Cantidades!M:M," ")))} -> 60 | U90: 10506 | AA90: =ROUND((U90*R90),0) -> 630360
E93: Total INSTALACIONES ELÉCTRICAS | U93: =SUM(AA87:AA90) -> 2311422
E96: Total INSTALACIONES ELÉCTRICAS | U96: =U93 -> 2311422
A98: 7 | E98: APARATOS SANITARIOS
A101: 7.01 | E101: APARATOS SANITARIOS
A102: 07.01.01 | E102: SUMINISTRO, TRANSPORTE E INST. COMBO IGUAL O SUPERIOR TIPO HAPPY II SANITARIO, LAVAMANOS Y ACCESORIOS COLOR BLANCO | P102: UND | R102: {=+SUM(IF(A102="","",IF(A102=Cantidades!A:A,Cantidades!M:M," ")))} -> 1 | U102: 585241 | AA102: =ROUND((U102*R102),0) -> 585241
E105: Total APARATOS SANITARIOS | U105: =SUM(AA102:AA102) -> 585241
E108: Total APARATOS SANITARIOS | U108: =U105 -> 585241
D112: TOTAL Costos directos | U112: =+U24+U39+U52+U66+U80+U96+U108 -> 38486833
J115: Costos indirectos
A116: 8 | E116: OTROS
D117: 6
A119: 8.01 | E119: HONORARIOS
A121: 08.01.01 | E121: ASEO GENERAL | P121: GLB | R121: 1 | U121: 230839 | AA121: =ROUND((U121*R121),0) -> 230839
E124: Total HONORARIOS | U124: =AA121 -> 230839
E128: Total OTROS | U128: =U124 -> 230839
D131: TOTAL Costos indirectos | U131: =U128 -> 230839
H133: SUBTOTAL | O133: =ROUND((U131+U112),0) -> 38717672
H134: ADMINISTRACION | M134: 20.00% | O134: =+ROUND((0.2*O133),0) -> 7743534
H135: IMPREVISTOS | M135: 2.00% | O135: =ROUND((0.02*O133),0) -> 774353
H136: UTILIDAD | M136: 6.00% | O136: =ROUND((0.06*O133),0) -> 2323060
H137: I.V.A. / UTILIDAD | M137: 19% | O137: =ROUND((0.19*O136),0) -> 441381
H139: TOTAL OBRA | O139: =O133+O134+O135+O136+O137 -> 50000000

Sheet Cantidades
A1: =+Sheet!B3 -> ADECUACIÓN Y MANTENIMIENTO SEDES EN COMODATO REGISTRADURÍA MUNICIPAL DE PINILLOS - BOLÍVAR
A2: SEDE | C2: COMODATO
A3: DEPARTAMENTO | C3: BOLIVAR
A4: CIUDAD | C4: PINILLOS
A5: DIRECCION | C5: Carrera 6 no. 10a 68 Barrio Centro
A6: DEPENDENCIA | C6: MANTENIMIENTO Y CONSTRUCCIÓN
A7: COMPROMISO | F7: NO.
A8: CATIDADES DE OBRA
A9: ITEM | B9: ACTIVIDAD | D9: MEDICIÓN | N9: NOTAS | P9: REGISTRO FOTOGRÁFICO
D10: LARGO | E10: ANCHO | F10: ALTO | G10: M2 | H10: M3 | I10: ML | J10: M3-HM | K10: UN | L10: KG | M10: TOTAL
A12: =+Sheet!A14 -> 01.01.01 | B12: =+VLOOKUP(A12,Sheet!$A$1:$AA$128,5,FALSE) -> REVISIÓN Y DESMONTE DE PUNTOS ELÉCTRICOS EXISTENTES. (INCLUYE TOMAS, INTERRUPTORES, PLAFONES, CABLEADO) | K12: 11 | M12: =+K12 -> 11
A13: =+Sheet!A15 -> 01.01.02 | B13: =+VLOOKUP(A13,Sheet!$A$1:$AA$128,5,FALSE) -> LIMPIEZA DE PAREDES PARA APLICACIÓN DE PINTURA | D13: 70 | F13: 4 | G13: =+D13*F13*0.1 -> 28 | M13: =+G13 -> 28 | N13: 10% MUROS
A14: =+Sheet!A16 -> 01.01.03 | B14: =+VLOOKUP(A14,Sheet!$A$1:$AA$128,5,FALSE) -> DESMONTE CIELO RASO (INCLUYE RETIRO) ALTURA < 3 M | G14: 90.032928 | M14: =+G14 -> 90.032928
A15: =+Sheet!A17 -> 01.01.04 | B15: =+VLOOKUP(A15,Sheet!$A$1:$AA$128,5,FALSE) -> PICADO DE PLACA PISO (INCLUYE RETIRO) | G15: =+G14 -> 90.032928 | M15: =+G15 -> 90.032928
A16: =+Sheet!A18 -> 01.01.05 | B16: =+VLOOKUP(A16,Sheet!$A$1:$AA$128,5,FALSE) -> DESMONTE APARATOS SANITARIOS (INCLUYE RETIRO) | K16: 1 | M16: =+K16 -> 1
A18: =+Sheet!A31 -> 02.01.01 | B18: =+VLOOKUP(A18,Sheet!$A$1:$AA$128,5,FALSE) -> SUMINISTRO, TRANSPORTE E INSTALACIÓN ESTUCO Y VINILO 3 MANOS SOBRE MURO INTERIOR (INCLUYE ESTUCO, 1 MANO EN PINTURA TIPO 2 Y DOS MANOS EN PINTURA TIPO 1, FILOS Y DILATACIONES) | D18: =+D13 -> 70 | F18: =+F13 -> 4 | G18: =+D18*F18 -> 280 | M18: =+G18 -> 280
A19: =+Sheet!A32 -> 02.01.02 | B19: =+VLOOKUP(A19,Sheet!$A$1:$AA$128,5,FALSE) -> SUMINISTRO, TRANSPORTE E INSTALACIÓN ESTUCO Y PINTURA TIPO KORAZA O SIMILAR 3 MANOS FACHADAS (INCLUYE ESTUCO, 1 MANO EN PINTURA TIPO 2 Y DOS MANOS EN PINTURA TIPO KORAZA O SIMILAR, FILOS Y DILATACIONES). COLOR SEGÚN DISEÑO | D19: 15 | F19: 4 | G19: =+D19*F19-G20 -> 54 | M19: =+G19 -> 54
A20: =+Sheet!A33 -> 02.01.03 | B20: =+VLOOKUP(A20,Sheet!$A$1:$AA$128,5,FALSE) -> SUMINISTRO, TRANSPORTE E INSTALACIÓN PINTURA ESMALTE PARA PUERTAS, REJAS, VENTANAS Y DEMÁS SUPERFICIES METÁLICAS. INCLUYE FILOS, DILATACIONES Y PROTECCIÓN DE ELEMENTOS DURANTE SU EJECUCIÓN | G20: 6 | M20: =+G20 -> 6
A22: =+Sheet!A46 -> 03.01.01 | B22: =+VLOOKUP(A22,Sheet!$A$1:$AA$128,5,FALSE) -> SUMINISTRO, TRANSPORTE E INSTALACIÓN DE CIELORRASO PVC LAMINAS BLANCO MATE (POLICLORURO DE VINILO) INCLUYE ESTRUCTURA Y DEMÁS ELEMENTOS PARA SU CORRECTA EJECUCIÓN | G22: =+G14 -> 90.032928 | M22: =+G22 -> 90.032928
A24: =+Sheet!A59 -> 04.01.01 | B24: =+VLOOKUP(A24,Sheet!$A$1:$AA$128,5,FALSE) -> SUMINISTRO, TRANSPORTE E INSTALACIÓN CERÁMICA PISO VANCOUVER HIELO 60X60CM O SIMILAR. COLOR CORAL O SHELL SEGÚN DISEÑO. INCLUYE MORTERO DE PEGA Y/O NIVELACIÓN | G24: =+G15 -> 90.032928 | M24: =+G24 -> 90.032928
A25: =+Sheet!A60 -> 04.01.02 | B25: =+VLOOKUP(A25,Sheet!$A$1:$AA$128,5,FALSE) -> SUMINISTRO, TRANSPORTE E INSTALACIÓN GUARDAESCOBA CERÁMICA PISO VANCOUVER HIELO 60X60CM O SIMILAR H = 10 CM (INCLUYE BOQUILLA, MORTERO DE PEGA) | I25: =+D13 -> 70 | M25: =+I25 -> 70
A27: =+Sheet!A73 -> 05.01.01 | B27: =+VLOOKUP(A27,Sheet!$A$1:$AA$128,5,FALSE) -> SUMINISTRO, TRANSPORTE E INSTALACIÓN REVOQUE LISO MUROS 1:3 IMPERMEABILIZADO (INCLUYE FILOS Y DILATACIONES) PARA ALTURAS MENORES A 3 METROS | D27: =+D13 -> 70 | F27: =+F13 -> 4 | G27: =+D27*F27*0.1 -> 28 | M27: =+G27 -> 28
A28: =+Sheet!A74 -> 05.01.02 | B28: =+VLOOKUP(A28,Sheet!$A$1:$AA$128,5,FALSE) -> SUMINISTRO, TRANSPORTE E INSTALACIÓN PLACA CONTRAPISO CONCRETO 3000 PSI E=0.07 M (SIN REFUERZO) | G28: =+G24 -> 90.032928 | M28: =+G28 -> 90.032928
A30: =+Sheet!A87 -> 06.01.01 | B30: =+VLOOKUP(A30,Sheet!$A$1:$AA$128,5,FALSE) -> SUMINISTRO, TRANSPORTE E INSTALACIÓN LUMINARIA PANEL LED 18W | K30: 9 | M30: =+K30 -> 9
A31: =+Sheet!A88 -> 06.01.02 | B31: =+VLOOKUP(A31,Sheet!$A$1:$AA$128,5,FALSE) -> SUMINISTRO, TRANSPORTE E INSTALACIÓN SALIDA ELÉCTRICA PARA ILUMINACIÓN INTERIOR, INCLUYE EL CABLEADO ELÉCTRICO PARA SU BUEN FUNCIONAMIENTO Y ESTOS CONECTADOS AL TABLERO ELÉCTRICO | K31: =+K30 -> 9 | M31: =+K31 -> 9
A32: =+Sheet!A89 -> 06.01.03 | B32: =+VLOOKUP(A32,Sheet!$A$1:$AA$128,5,FALSE) -> SUMINISTRO, TRANSPORTE E INSTALACIÓN SALIDA INTERRUPTOR SENCILLO | K32: 2 | M32: =+K32 -> 2
A33: =+Sheet!A90 -> 06.01.04 | B33: =+VLOOKUP(A33,Sheet!$A$1:$AA$128,5,FALSE) -> SUMINISTRO, TRANSPORTE E INSTALACIÓN DE ALAMBRE AISLADO DE RED ELÉCTRICA THHN 12 PARA RED ELÉCTRICA | I33: 60 | M33: =+I33 -> 60
A35: =+Sheet!A102 -> 07.01.01 | B35: =+VLOOKUP(A35,Sheet!$A$1:$AA$128,5,FALSE) -> SUMINISTRO, TRANSPORTE E INST. COMBO IGUAL O SUPERIOR TIPO HAPPY II SANITARIO, LAVAMANOS Y ACCESORIOS COLOR BLANCO | K35: 1 | M35: =+K35 -> 1
A37: ELABORÓ
A38: OBSERVACIONES:

Sheet APU CREADO
A1: DESMONTE PUERTAS (INCLUYE RETIRO) | B1: Actividad | C1: UND | G1: =+ROUND(SUM(F2:F5)*1.02,0) -> 49571
A2: CUADRILLA AA TIPO 1 (1 OFICIAL + 1 AYUDANTE) (Albañileria) | B2: Cuadrilla | C2: HR | D2: 1 | E2: 30782 | F2: =+D2*E2 -> 30782
A3: VOLQUETA 6M3 (CARGUE A MANO) - INCLUYE DISPOSICION EN BOTADERO | B3: Equipos | C3: VJE | D3: 0.04 | E3: 310000 | F3: =+D3*E3 -> 12400
A4: EQUIPO BASICO (HERRAMIENTA MENOR) | B4: Herramienta | C4: UND | D4: 1 | E4: 3484 | F4: =+D4*E4 -> 3484
A5: ACARREO INTERNO | B5: Insumos | C5: UND | D5: 1.06 | E5: 1824 | F5: =+D5*E5 -> 1933.44
A6: LIMPIEZA DE PAREDES PARA APLICACIÓN DE PINTURA | B6: Actividad | C6: M2 | G6: =+ROUND(SUM(F7:F11)*1.02,0) -> 5854
A7: AYUDANTE AA (ALBAÑILERIA) | B7: Cuadrilla | C7: HR | D7: 0.17 | E7: 11839 | F7: =+D7*E7 -> 2012.63
A8: EQUIPO HIDROLAVADORA | B8: Equipos | C8: DIA | D8: 0.03 | E8: 89250 | F8: =+D8*E8 -> 2677.5
A9: EQUIPO DE TRANSPORTE | B9: Equipos | C9: DIA | D9: 0.001 | E9: 180217 | F9: =+D9*E9 -> 180.217
A10: EQUIPO BASICO (HERRAMIENTA MENOR) | B10: Herramienta | C10: UND | D10: 0.04 | E10: 3484 | F10: =+D10*E10 -> 139.36
A11: ACARREO INTERNO | B11: Insumos | C11: UND | D11: 0.4 | E11: 1824 | F11: =+D11*E11 -> 729.6
A12: DESMONTE CIELO RASO (INCLUYE RETIRO) ALTURA < 3 M | B12: Actividad | C12: M2 | G12: =+ROUND(SUM(F13:F16)*1.02,0) -> 14706
A13: CUADRILLA AA TIPO 2 (1 OFICIAL + 2 AYUDANTE) (Albañileria) | B13: Cuadrilla | C13: HR | D13: 0.18 | E13: 42621 | F13: =+D13*E13 -> 7671.78
A14: VOLQUETA 6M3 (CARGUE A MANO) - INCLUYE DISPOSICION EN BOTADERO | B14: Equipos | C14: VJE | D14: 0.018 | E14: 310000 | F14: =+D14*E14 -> 5580
A15: EQUIPO BASICO (HERRAMIENTA MENOR) | B15: Herramienta | C15: UND | D15: 0.18 | E15: 3484 | F15: =+D15*E15 -> 627.12
A16: ACARREO INTERNO | B16: Insumos | C16: UND | D16: 0.2954 | E16: 1824 | F16: =+D16*E16 -> 538.8096
A17: PICADO DE PLACA PISO (INCLUYE RETIRO) | B17: Actividad | C17: M2 | G17: =+ROUND(SUM(F18:F19)*1.02,0) -> 6990
A18: CUADRILLA AA TIPO 1 (1 OFICIAL + 1 AYUDANTE) (Albañileria) | B18: Cuadrilla | C18: HR | D18: 0.2 | E18: 30782 | F18: =+D18*E18 -> 6156.4
A19: EQUIPO BASICO (HERRAMIENTA MENOR) | B19: Herramienta | C19: UND | D19: 0.2 | E19: 3484 | F19: =+D19*E19 -> 696.8
A20: DESMONTE APARATOS SANITARIOS (INCLUYE RETIRO) | B20: Actividad | C20: UND | G20: =+ROUND(SUM(F21:F24)*1.02,0) -> 66328
A21: CUADRILLA AA TIPO 1 (1 OFICIAL + 1 AYUDANTE) (Albañileria) | B21: Cuadrilla | C21: HR | D21: 1.7 | E21: 30782 | F21: =+D21*E21 -> 52329.4
A22: VOLQUETA 6M3 (CARGUE A MANO) - INCLUYE DISPOSICION EN BOTADERO | B22: Equipos | C22: VJE | D22: 0.01 | E22: 310000 | F22: =+D22*E22 -> 3100
A23: EQUIPO BASICO (HERRAMIENTA MENOR) | B23: Herramienta | C23: UND | D23: 1.7 | E23: 3484 | F23: =+D23*E23 -> 5922.8
A24: ACARREO INTERNO | B24: Insumos | C24: UND | D24: 2.0147 | E24: 1824 | F24: =+D24*E24 -> 3674.8128
A25: SUMINISTRO, TRANSPORTE E INSTALACIÓN ESTUCO Y VINILO 3 MANOS SOBRE MURO INTERIOR (INCLUYE ESTUCO, 1 MANO EN PINTURA TIPO 2 Y DOS MANOS EN PINTURA TIPO 1, FILOS Y DILATACIONES) | B25: Actividad | C25: M2 | G25: =+ROUND(SUM(F26:F34)*1.02,0) -> 27166
A26: CUADRILLA CC TIPO 1 (1 OFICIAL + 1 AYUDANTE) (Pintura) | B26: Cuadrilla | C26: HR | D26: 0.37 | E26: 33335 | F26: 12334
A27: ANDAMIO METALICO CERTIFICADO, INCLUYE ESCALERILLA CON BARANDAS Y PLATAFORMAS DE TRABAJO H=2.0M | B27: Equipos | C27: Un-Dia | D27: 0.06 | E27: 16636.2 | F27: 998
A28: EQUIPO DE TRANSPORTE | B28: Equipos | C28: DIA | D28: 0.001 | E28: 180217 | F28: 180
A29: EQUIPO BASICO (HERRAMIENTA MENOR) | B29: Herramienta | C29: UND | D29: 0.05 | E29: 3484 | F29: 174
A30: ESTUCO PARA INTERIORES - TIPO PINTUCO REF. 17060 O SIMILAR. | B30: Insumos | C30: GAL | D30: 0.05 | E30: 24900 | F30: 1245
A31: INTERVINILO - TIPO PINTUCO REF. 2501 SEGÚN COLOR DISEÑO O SIMILAR | B31: Insumos | C31: GAL | D31: 0.04 | E31: 59900 | F31: 2396
A32: VINILTEX ACRILTEX- TIPO PINTUCO REF. SEGÚN COLOR DISEÑO O SIMILAR. | B32: Insumos | C32: GAL | D32: 0.08 | E32: 104901 | F32: 8392
A33: ACARREO INTERNO | B33: Insumos | C33: UND | D33: 0.45 | E33: 1824 | F33: 821
A34: PABMERIL PLIEGO 9" X 11" | B34: Insumos | C34: UND | D34: 0.02 | E34: 4660 | F34: 93
A35: SUMINISTRO, TRANSPORTE E INSTALACIÓN ESTUCO Y PINTURA TIPO KORAZA O SIMILAR 3 MANOS FACHADAS (INCLUYE ESTUCO, 1 MANO EN PINTURA TIPO 2 Y DOS MANOS EN PINTURA TIPO KORAZA O SIMILAR, FILOS Y DILATACIONES). COLOR SEGÚN DISEÑO | B35: Actividad | C35: M2 | G35: =+ROUND(SUM(F36:F44)*1.02,0) -> 31626
A36: CUADRILLA CC TIPO 1 (1 OFICIAL + 1 AYUDANTE) (Pintura) | B36: Cuadrilla | C36: HR | D36: 0.37 | E36: 33335 | F36: =+D36*E36 -> 12333.95
A37: ANDAMIO METALICO CERTIFICADO, INCLUYE ESCALERILLA CON BARANDAS Y PLATAFORMAS DE TRABAJO H=2.0M | B37: Equipos | C37: Un-Dia | D37: 0.06 | E37: 16636.2 | F37: =+D37*E37 -> 998.172
A38: EQUIPO DE TRANSPORTE | B38: Equipos | C38: DIA | D38: 0.0018 | E38: 180217 | F38: =+D38*E38 -> 324.3906
A39: EQUIPO BASICO (HERRAMIENTA MENOR) | B39: Herramienta | C39: UND | D39: 0.05 | E39: 3484 | F39: =+D39*E39 -> 174.2
A40: ESTUCO PARA EXTERIORES - TIPO PINTUCO REF. 27060 O SIMILAR. | B40: Insumos | C40: GAL | D40: 0.05 | E40: 37500 | F40: =+D40*E40 -> 1875
A41: INTERVINILO - TIPO PINTUCO REF. 2501 SEGÚN COLOR DISEÑO O SIMILAR | B41: Insumos | C41: GAL | D41: 0.04 | E41: 59900 | F41: =+D41*E41 -> 2396
A42: KORAZA SOL Y LLUVIA - TIPO PINTUCO REF. 2650 SEGÚN COLOR DISEÑO O SIMILAR | B42: Insumos | C42: GAL | D42: 0.1 | E42: 119900 | F42: =+D42*E42 -> 11990
A43: ACARREO INTERNO | B43: Insumos | C43: UND | D43: 0.45 | E43: 1824 | F43: =+D43*E43 -> 820.8
A44: PABMERIL PLIEGO 9" X 11" | B44: Insumos | C44: UND | D44: 0.02 | E44: 4660 | F44: =+D44*E44 -> 93.2
A45: SUMINISTRO, TRANSPORTE E INSTALACIÓN PINTURA ESMALTE PARA PUERTAS, REJAS, VENTANAS Y DEMÁS SUPERFICIES METÁLICAS. INCLUYE FILOS, DILATACIONES Y PROTECCIÓN DE ELEMENTOS DURANTE SU EJECUCIÓN | B45: Actividad | C45: M2 | G45: =+ROUND(SUM(F46:F51)*1.02,0) -> 24049
A46: CUADRILLA CC TIPO 2 (1 OFICIAL + 2 AYUDANTE) (Pintura) | B46: Cuadrilla | C46: HR | D46: 0.22 | E46: 46950 | F46: =+D46*E46 -> 10329
A47: EQUIPO DE PINTURA (COMPRESOR) | B47: Equipos | C47: HR | D47: 0.22 | E47: 7817 | F47: =+D47*E47 -> 1719.74
A48: EQUIPO BASICO (HERRAMIENTA MENOR) | B48: Herramienta | C48: UND | D48: 0.1 | E48: 3484 | F48: =+D48*E48 -> 348.4
A49: ESMALTE SINTETICO PINTULUX 3 EN 1 (No requiere anticorrosivo) | B49: Insumos | C49: GAL | D49: 0.083333333 | E49: 122000 | F49: =+D49*E49 -> 10166.667
A50: AJUSTADOR PINTUCO USO GENERAL (VARSOL) | B50: Insumos | C50: GLN | D50: 0.016666667 | E50: 49900 | F50: =+D50*E50 -> 831.66667
A51: ACARREO INTERNO | B51: Insumos | C51: UND | D51: 0.1 | E51: 1824 | F51: =+D51*E51 -> 182.4
A52: SUMINISTRO, TRANSPORTE E INSTALACIÓN CERÁMICA PISO VANCOUVER HIELO 60X60CM O SIMILAR. COLOR CORAL O SHELL SEGÚN DISEÑO. INCLUYE MORTERO DE PEGA Y/O NIVELACIÓN | B52: Actividad | C52: M2 | G52: =+ROUND(SUM(F53:F60)*1.02,0) -> 77430
A53: CUADRILLA AA TIPO 1 (1 OFICIAL + 1 AYUDANTE) (Albañileria) | B53: Cuadrilla | C53: HR | D53: 0.6 | E53: 30782 | F53: =+D53*E53 -> 18469.2
A54: EQUIPO DE TRANSPORTE | B54: Equipos | C54: DIA | D54: 0.0055 | E54: 180217 | F54: =+D54*E54 -> 991.1935
A55: EQUIPO BASICO (HERRAMIENTA MENOR) | B55: Herramienta | C55: UND | D55: 0.02 | E55: 3484 | F55: =+D55*E55 -> 69.68
A56: CONCOLOR JUNTA ESTRECHA 5KG | B56: Insumos | C56: KG | D56: 0.3 | E56: 6400 | F56: =+D56*E56 -> 1920
A57: PISO VANCOUVER HIELO 60X60CM CAJA POR 1.8M2 | B57: Insumos | C57: M2 | D57: 1.05 | E57: 42900 | F57: =+D57*E57 -> 45045
A58: ACARREO INTERNO | B58: Insumos | C58: UND | D58: 0.7 | E58: 1824 | F58: =+D58*E58 -> 1276.8
A59: PEGACOR ULTRA PLUS | B59: Insumos | C59: KG | D59: 4.5 | E59: 1801 | F59: =+D59*E59 -> 8104.5
A60: AGUA LITRO | B60: Insumos | C60: LT | D60: 1.08 | E60: 33 | F60: =+D60*E60 -> 35.64
A61: SUMINISTRO, TRANSPORTE E INSTALACIÓN GUARDAESCOBA CERÁMICA PISO VANCOUVER HIELO 60X60CM O SIMILAR H = 10 CM (INCLUYE BOQUILLA, MORTERO DE PEGA) | B61: Actividad | C61: M | G61: =+ROUND(SUM(F62:F70)*1.02,0) -> 16695
A62: CUADRILLA AA TIPO 1 (1 OFICIAL + 1 AYUDANTE) (Albañileria) | B62: Cuadrilla | C62: HR | D62: 0.33 | E62: 30782 | F62: =+D62*E62 -> 10158.06
A63: EQUIPO DE TRANSPORTE | B63: Equipos | C63: DIA | D63: 0.0006 | E63: 180217 | F63: =+D63*E63 -> 108.1302
A64: CORTADORA INCLUYE DISCO | B64: Equipos | C64: DIA | D64: 0.01 | E64: 66522 | F64: =+D64*E64 -> 665.22
A65: EQUIPO BASICO (HERRAMIENTA MENOR) | B65: Herramienta | C65: UND | D65: 0.01 | E65: 3484 | F65: =+D65*E65 -> 34.84
A66: CONCOLOR JUNTA ESTRECHA 5KG | B66: Insumos | C66: KG | D66: 0.026 | E66: 6400 | F66: =+D66*E66 -> 166.4
A67: PISO VANCOUVER HIELO 60X60CM CAJA POR 1.8M2 | B67: Insumos | C67: M2 | D67: 0.103 | E67: 42900 | F67: =+D67*E67 -> 4418.7
A68: ACARREO INTERNO | B68: Insumos | C68: UND | D68: 0.1 | E68: 1824 | F68: =+D68*E68 -> 182.4
A69: PEGACOR ULTRA PLUS | B69: Insumos | C69: KG | D69: 0.35 | E69: 1801 | F69: =+D69*E69 -> 630.35
A70: AGUA LITRO | B70: Insumos | C70: LT | D70: 0.11 | E70: 33 | F70: =+D70*E70 -> 3.63
A71: SUMINISTRO, TRANSPORTE E INSTALACIÓN REVOQUE LISO MUROS 1:3 IMPERMEABILIZADO (INCLUYE FILOS Y DILATACIONES) PARA ALTURAS MENORES A 3 METROS | B71: Actividad | C71: M2 | G71: =+ROUND(SUM(F72:F76)*1.02,0) -> 38593
A72: MORTERO 1:3 Impermeabilizado | B72: Analisis Basico | C72: M3 | D72: 0.03 | E72: 657135 | F72: =+D72*E72 -> 19714.05
A73: CUADRILLA AA TIPO 1 (1 OFICIAL + 1 AYUDANTE) (Albañileria) | B73: Cuadrilla | C73: HR | D73: 0.49 | E73: 30782 | F73: =+D73*E73 -> 15083.18
A74: EQUIPO DE TRANSPORTE | B74: Equipos | C74: DIA | D74: 0.0029 | E74: 180217 | F74: =+D74*E74 -> 522.6293
A75: EQUIPO BASICO (HERRAMIENTA MENOR) | B75: Herramienta | C75: UND | D75: 0.45 | E75: 3484 | F75: =+D75*E75 -> 1567.8
A76: ACARREO INTERNO | B76: Insumos | C76: UND | D76: 0.52 | E76: 1824 | F76: =+D76*E76 -> 948.48
A77: SUMINISTRO, TRANSPORTE E INSTALACIÓN PLACA CONTRAPISO CONCRETO 3000 PSI E=0.07 M (SIN REFUERZO) | B77: Actividad | C77: M2 | G77: =+ROUND(SUM(F78:F86)*1.02,0) -> 81938
A78: CONCRETO 3000 psi - 21 Mpa | B78: Analisis Basico | C78: M3 | D78: 0.072 | E78: 561725 | F78: =+D78*E78 -> 40444.2
A79: CUADRILLA AA TIPO 6 (1 OFICIAL + 6 AYUDANTE) (Albañileria) | B79: Cuadrilla | C79: HR | D79: 0.3 | E79: 89977 | F79: =+D79*E79 -> 26993.1
A80: EQUIPO DE TRANSPORTE | B80: Equipos | C80: DIA | D80: 0.0055 | E80: 180217 | F80: =+D80*E80 -> 991.1935
A81: VIBRADOR A GASOLINA | B81: Equipos | C81: DIA | D81: 0.007 | E81: 63665 | F81: =+D81*E81 -> 445.655
A82: EQUIPO BASICO (HERRAMIENTA MENOR) | B82: Herramienta | C82: UND | D82: 0.021 | E82: 3484 | F82: =+D82*E82 -> 73.164
A83: ACARREO INTERNO | B83: Insumos | C83: UND | D83: 0.7 | E83: 1824 | F83: =+D83*E83 -> 1276.8
A84: PUNTILLA CON CABEZA 2" | B84: Insumos | C84: LB | D84: 0.03 | E84: 5100 | F84: =+D84*E84 -> 153
A85: LISTON 2 X 4 | B85: Insumos | C85: M | D85: 0.84 | E85: 4456 | F85: =+D85*E85 -> 3743.04
A86: TABLA CHAPA ORDINARIO 30 CM X 2 CM X 3 M. | B86: Insumos | C86: UND | D86: 0.33 | E86: 18821 | F86: =+D86*E86 -> 6210.93
A87: SUMINISTRO, TRANSPORTE E INSTALACIÓN LUMINARIA PANEL LED 18W | B87: Actividad | C87: UND | G87: =+ROUND(SUM(F88:F94)*1.02,0) -> 103120
A88: CUADRILLA FF TIPO 2 (1 OFICIAL + 2 AYUDANTE) (Electricas) | B88: Cuadrilla | C88: HR | D88: 0.6 | E88: 61241 | F88: =+D88*E88 -> 36744.6
A89: ANDAMIO METALICO CERTIFICADO, INCLUYE ESCALERILLA CON BARANDAS Y PLATAFORMAS DE TRABAJO H=2.0M | B89: Equipos | C89: Un-Dia | D89: 0.4 | E89: 16636.2 | F89: =+D89*E89 -> 6654.48
A90: EQUIPO DE TRANSPORTE | B90: Equipos | C90: DIA | D90: 0.03 | E90: 180217 | F90: =+D90*E90 -> 5406.51
A91: EQUIPO BASICO (HERRAMIENTA MENOR) | B91: Herramienta | C91: UND | D91: 0.5 | E91: 3484 | F91: =+D91*E91 -> 1742
A92: ACCESORIOS DE FIJACION | B92: Insumos | C92: UND | D92: 4 | E92: 2463 | F92: =+D92*E92 -> 9852
A93: ACARREO INTERNO | B93: Insumos | C93: UND | D93: 1 | E93: 1824 | F93: =+D93*E93 -> 1824
A94: PANEL LED 18W | B94: Insumos | C94: UND | D94: 1 | E94: 38874 | F94: =+D94*E94 -> 38874
A95: SUMINISTRO, TRANSPORTE E INSTALACIÓN SALIDA ELÉCTRICA PARA ILUMINACIÓN INTERIOR, INCLUYE EL CABLEADO ELÉCTRICO PARA SU BUEN FUNCIONAMIENTO Y ESTOS CONECTADOS AL TABLERO ELÉCTRICO | B95: Actividad | C95: UND | G95: =+ROUND(SUM(F96:F101)*1.02,0) -> 46672
A96: hora cuadrilla aa albañilería - con prestaciones | B96: ins | C96: hc | D96: 0.25 | E96: 31473 | F96: =+ROUND(D96*E96,0) -> 7868
A97: caja octogonal 100 x 100 x 47 mm | B97: ins | C97: un | D97: 1 | E97: 2821 | F97: =+ROUND(D97*E97,0) -> 2821
A98: conector resorte rojo/amarillo 18-8awg | B98: ins | C98: un | D98: 2 | E98: 3211 | F98: =+ROUND(D98*E98,0) -> 6422
A99: alambre cobre thhn/thwn-2 90c 600v 12 awg | B99: ins | C99: m | D99: 9 | E99: 2250 | F99: =+ROUND(D99*E99,0) -> 20250
A100: herramienta menor | B100: ins | C100: % | D100: 0.3 | E100: 15737 | F100: =+ROUND(D100*E100,0) -> 4721
...
