Workbook

Sheet ANEXO 1
B1: ANEXO 1
D2: ANÁLISIS DE COTIZACIONES
D3: ADQUIRIR INSUMOS DE IMPRESIÒN CON DESTINO A LAS DEPENDENCIAS DE LA FISCALÍA GENERAL DE LA NACIÓN (GRUPO 1 y 2).
S5: ANÁLISIS DE VARIABLES
S6: VALORES SIN IVA
S7: VALOR UNITARIO SIN IVA | T7: VALOR UNITARIO SIN IVA | U7: VALOR UNITARIO SIN IVA | V7: VALOR UNITARIO SIN IVA
B8: NECESIDAD | H8: COTIZACION SUMIMAS | J8: COTIZACION ALHUM LIMITADA | L8: COTIZACION PC PRONTO SAS | N8: COTIZACION ALFA TRADING | P8: COTIZACION CENTRAL DE DOTACIONES | R8: COTIZACION INMADICA | X8: VALOR SELECCIONADO
B9: GRUPO 1 – MULTIMARCA – RICOH – KYOCERA – LEXMARK – HP (REFERENCIAS IMPRESORAS NO COMODATO)
B10: ITEM | C10: DESCRIPCIÓN DEL BIEN | D10: UNIDAD DE MEDIDA | E10: CANTIDAD | H10: VALOR UNITARIO SIN IVA | J10: VALOR UNITARIO SIN IVA | L10: VALOR UNITARIO SIN IVA | N10: VALOR UNITARIO SIN IVA | P10: VALOR UNITARIO SIN IVA | R10: VALOR UNITARIO SIN IVA | S10: COTIZACIÓN MÁS BAJA | T10: COTIZACIÓN MÁS ALTA | U10: PROMEDIO | V10: MEDIA ARITMÉTICA BAJA | X10: VALOR UNITARIO SIN IVA | Y10: IVA UNITARIO | Z10: VALOR UNITARIO INCLUIDO IVA | AA10: VALOR TOTAL INCLUIDO IVA
B11: 1 | C11: TONER RICOH IM430 418126 | D11: UNIDAD | E11: 193 | H11: 296240 | J11: 504202 | L11: =564000/1.19 -> 473949.58 | N11: 20000 | P11: 24600 | R11: 38660 | S11: =ROUND(MIN(H11,J11,L11),2) -> 296240 | T11: =ROUND(MAX(H11,J11,L11),2) -> 504202 | U11: =ROUND(AVERAGE(H11,J11,L11),2) -> 424797.19 | V11: =ROUND(AVERAGE(S11,U11),2) -> 360518.6 | X11: =+U11 -> 424797.19 | Y11: =ROUND(X11*19%,2) -> 80711.47 | Z11: =ROUND(X11+Y11,2) -> 505508.66 | AA11: =ROUND(Z11*$E11,2) -> 97563171
B12: 2 | C12: TONER RICOH IM 550 418477 | D12: UNIDAD | E12: 400 | H12: 683550 | J12: 504202 | L12: =726852/1.19 -> 610800 | S12: =ROUND(MIN(H12,J12,L12),2) -> 504202 | T12: =ROUND(MAX(H12,J12,L12),2) -> 683550 | U12: =ROUND(AVERAGE(H12,J12,L12),2) -> 599517.33 | V12: =ROUND(AVERAGE(S12,U12),2) -> 551859.67 | X12: =V12 -> 551859.67 | Y12: =ROUND(X12*19%,2) -> 104853.34 | Z12: =ROUND(X12+Y12,2) -> 656713.01 | AA12: =ROUND(Z12*$E12,2) -> 262685204
B13: 3 | C13: UNIDAD IMAGEN RICOH IM550 NUMERO PARTE M | D13: UNIDAD | E13: 5 | H13: 2103850 | J13: 2100841 | L13: =2671331/1.19 -> 2244816 | S13: =ROUND(MIN(H13,J13,L13),2) -> 2100841 | T13: =ROUND(MAX(H13,J13,L13),2) -> 2244816 | U13: =ROUND(AVERAGE(H13,J13,L13),2) -> 2149835.7 | V13: =ROUND(AVERAGE(S13,U13),2) -> 2125338.3 | X13: =V13 -> 2125338.3 | Y13: =ROUND(X13*19%,2) -> 403814.28 | Z13: =ROUND(X13+Y13,2) -> 2529152.6 | AA13: =ROUND(Z13*$E13,2) -> 12645763
B14: 4 | C14: UNIDAD FUSORA PARA RICOH IM 550 | D14: UNIDAD | E14: 57 | H14: 1374730 | J14: 210085 | L14: =2182210/1.19 -> 1833789.9 | S14: =ROUND(MIN(H14,L14),2) -> 1374730 | T14: =ROUND(MAX(H14,L14),2) -> 1833789.9 | U14: =ROUND(AVERAGE(H14,L14),2) -> 1604260 | V14: =ROUND(AVERAGE(S14,U14),2) -> 1489495 | X14: =V14 -> 1489495 | Y14: =ROUND(X14*19%,2) -> 283004.05 | Z14: =ROUND(X14+Y14,2) -> 1772499 | AA14: =ROUND(Z14*$E14,2) -> 1.0103244e+08
B15: 5 | C15: KIT DE RODILLO PARA ESCANER DE MULTIFUNCIONAL RICOH IM550 PARTE NO. D0BV1723 | D15: UNIDAD | E15: 60 | H15: 698740 | J15: 250000 | L15: =1094800/1.19 -> 920000 | S15: =ROUND(MIN(H15,L15),2) -> 698740 | T15: =ROUND(MAX(H15,L15),2) -> 920000 | U15: =ROUND(AVERAGE(H15,L15),2) -> 809370 | V15: =ROUND(AVERAGE(S15,U15),2) -> 754055 | X15: =V15 -> 754055 | Y15: =ROUND(X15*19%,2) -> 143270.45 | Z15: =ROUND(X15+Y15,2) -> 897325.45 | AA15: =ROUND(Z15*$E15,2) -> 53839527
B16: 6 | C16: FRICTION PAD PARA RICOH IM550 PARTE NO. D2555568 | D16: UNIDAD | E16: 60 | H16: 144340 | J16: 400000 | L16: =357000/1.19 -> 300000 | S16: =ROUND(MIN(J16,L16),2) -> 300000 | T16: =ROUND(MAX(J16,L16),2) -> 400000 | U16: =ROUND(AVERAGE(J16,L16),2) -> 350000 | V16: =ROUND(AVERAGE(S16,U16),2) -> 325000 | X16: =+U16 -> 350000 | Y16: =ROUND(X16*19%,2) -> 66500 | Z16: =ROUND(X16+Y16,2) -> 416500 | AA16: =ROUND(Z16*$E16,2) -> 24990000
B17: 7 | C17: FUSOR PARA IMPRESORA RICOH IM430 NUMERO | D17: UNIDAD | E17: 53 | H17: 1291150 | J17: 2300000 | L17: =1430082/1.19 -> 1201749.6 | S17: =ROUND(MIN(H17,L17),2) -> 1201749.6 | T17: =ROUND(MAX(H17,L17),2) -> 1291150 | U17: =ROUND(AVERAGE(H17,L17),2) -> 1246449.8 | V17: =ROUND(AVERAGE(S17,U17),2) -> 1224099.7 | X17: =+U17 -> 1246449.8 | Y17: =ROUND(X17*19%,2) -> 236825.46 | Z17: =ROUND(X17+Y17,2) -> 1483275.2 | AA17: =ROUND(Z17*$E17,2) -> 78613588
B18: 8 | C18: CARTUCHO TONER TK 5232K KYOCERA NEGRO | D18: UNIDAD | E18: 3 | H18: 666666.67 | J18: 1000000 | L18: =535500/1.19 -> 450000 | S18: =ROUND(MIN(H18,J18,L18),2) -> 450000 | T18: =ROUND(MAX(H18,J18,L18),2) -> 1000000 | U18: =ROUND(AVERAGE(H18,J18,L18),2) -> 705555.56 | V18: =ROUND(AVERAGE(S18,U18),2) -> 577777.78 | X18: =+U18 -> 705555.56 | Y18: =ROUND(X18*19%,2) -> 134055.56 | Z18: =ROUND(X18+Y18,2) -> 839611.12 | AA18: =ROUND(Z18*$E18,2) -> 2518833.4
B19: 9 | C19: TONER 58D4000 MX722 LEXMARK ADHE | D19: UNIDAD | E19: 30 | H19: 980000 | J19: 1900000 | L19: =1751680/1.19 -> 1472000 | S19: =ROUND(MIN(H19,J19,L19),2) -> 980000 | T19: =ROUND(MAX(H19,J19,L19),2) -> 1900000 | U19: =ROUND(AVERAGE(H19,J19,L19),2) -> 1450666.7 | V19: =ROUND(AVERAGE(S19,U19),2) -> 1215333.3 | X19: =+U19 -> 1450666.7 | Y19: =ROUND(X19*19%,2) -> 275626.67 | Z19: =ROUND(X19+Y19,2) -> 1726293.3 | AA19: =ROUND(Z19*$E19,2) -> 51788800
B20: 10 | C20: CARTUCHO NEGRO HP 600 PAGINAS C2P05AL UN | D20: UNIDAD | E20: 174 | H20: 425600 | J20: 950000 | L20: =404939/1.19 -> 340284.87 | S20: =ROUND(MIN(H20,J20,L20),2) -> 340284.87 | T20: =ROUND(MAX(H20,J20,L20),2) -> 950000 | U20: =ROUND(AVERAGE(H20,J20,L20),2) -> 571961.62 | V20: =ROUND(AVERAGE(S20,U20),2) -> 456123.25 | X20: =V20 -> 456123.25 | Y20: =ROUND(X20*19%,2) -> 86663.42 | Z20: =ROUND(X20+Y20,2) -> 542786.67 | AA20: =ROUND(Z20*$E20,2) -> 94444881
B21: 11 | C21: CARTUCHO TRICOLOR HP C2P07AL UND | D21: UNIDAD | E21: 106 | H21: 425600 | J21: 500000 | L21: =410550/1.19 -> 345000 | S21: =ROUND(MIN(H21,J21,L21),2) -> 345000 | T21: =ROUND(MAX(H21,J21,L21),2) -> 500000 | U21: =ROUND(AVERAGE(H21,J21,L21),2) -> 423533.33 | V21: =ROUND(AVERAGE(S21,U21),2) -> 384266.67 | X21: =+U21 -> 423533.33 | Y21: =ROUND(X21*19%,2) -> 80471.33 | Z21: =ROUND(X21+Y21,2) -> 504004.66 | AA21: =ROUND(Z21*$E21,2) -> 53424494
B22: 12 | C22: CARTUCHO LASERJET 59X CF258X HP LASERJET | D22: UNIDAD | E22: 6 | H22: 1825600 | J22: 2400000 | L22: =2052750/1.19 -> 1725000 | R22: 82680 | S22: =ROUND(MIN(H22,J22,L22),2) -> 1725000 | T22: =ROUND(MAX(H22,J22,L22),2) -> 2400000 | U22: =ROUND(AVERAGE(H22,J22,L22),2) -> 1983533.3 | V22: =ROUND(AVERAGE(S22,U22),2) -> 1854266.7 | X22: =V22 -> 1854266.7 | Y22: =ROUND(X22*19%,2) -> 352310.67 | Z22: =ROUND(X22+Y22,2) -> 2206577.3 | AA22: =ROUND(Z22*$E22,2) -> 13239464
B23: 13 | C23: TONER LASER JET 147A W1470X HP LASER J | D23: UNIDAD | E23: 6 | H23: 2384900 | J23: 3400000 | L23: =3010973/1.19 -> 2530229.4 | R23: 41620 | S23: =ROUND(MIN(H23,L23),2) -> 2384900 | T23: =ROUND(MAX(H23,L23),2) -> 2530229.4 | U23: =ROUND(AVERAGE(H23,L23),2) -> 2457564.7 | V23: =ROUND(AVERAGE(S23,U23),2) -> 2421232.4 | X23: =+U23 -> 2457564.7 | Y23: =ROUND(X23*19%,2) -> 466937.29 | Z23: =ROUND(X23+Y23,2) -> 2924502 | AA23: =ROUND(Z23*$E23,2) -> 17547012
B24: GRUPO 2 – HP (REFERENCIAS IMPRESORAS COMODATO)
B25: ITEM | C25: DESCRIPCIÓN DEL BIEN | D25: UNIDAD DE MEDIDA | E25: CANTIDAD | H25: VALOR UNITARIO SIN IVA | J25: VALOR UNITARIO SIN IVA | L25: VALOR UNITARIO SIN IVA | N25: VALOR UNITARIO SIN IVA | P25: VALOR UNITARIO SIN IVA | R25: VALOR UNITARIO SIN IVA | S25: COTIZACIÓN MÁS BAJA | T25: COTIZACIÓN MÁS ALTA | U25: PROMEDIO | V25: MEDIA ARITMÉTICA BAJA | X25: VALOR UNITARIO SIN IVA | Y25: IVA UNITARIO | Z25: VALOR UNITARIO INCLUIDO IVA | AA25: VALOR TOTAL INCLUIDO IVA
B26: 1 | C26: TONER HP W9024MC NEGRO LASER E42540 | D26: UNIDAD | E26: 959 | H26: 908256 | J26: 1000000 | L26: =2356200/1.19 -> 1980000 | N26: 6250 | P26: 6733 | S26: =ROUND(MIN(H26,J26,L26),2) -> 908256 | T26: =ROUND(MAX(H26,J26,L26),2) -> 1980000 | U26: =ROUND(AVERAGE(H26,J26,L26),2) -> 1296085.3 | V26: =ROUND(AVERAGE(S26,U26),2) -> 1102170.7 | X26: =V26 -> 1102170.7 | Y26: =ROUND(X26*19%,2) -> 209412.43 | Z26: =ROUND(X26+Y26,2) -> 1311583.1 | AA26: =ROUND(Z26*$E26,2) -> 1.2578082e+09
B27: 2 | C27: TONER HP W9008MC NEGRO LASER E52645 | D27: UNIDAD | E27: 1373 | H27: 822721 | J27: 900000 | L27: =2356200/1.19 -> 1980000 | S27: =ROUND(MIN(H27,J27,L27),2) -> 822721 | T27: =ROUND(MAX(H27,J27,L27),2) -> 1980000 | U27: =ROUND(AVERAGE(H27,J27,L27),2) -> 1234240.3 | V27: =ROUND(AVERAGE(S27,U27),2) -> 1028480.7 | X27: =V27 -> 1028480.7 | Y27: =ROUND(X27*19%,2) -> 195411.33 | Z27: =ROUND(X27+Y27,2) -> 1223892 | AA27: =ROUND(Z27*$E27,2) -> 1680403716
B28: 3 | C28: TONER HP W9090MC NEGRO LASER E47528 | D28: UNIDAD | E28: 50 | H28: 759900 | J28: 450000 | L28: =2380000/1.19 -> 2000000 | S28: =ROUND(MIN(H28,J28,L28),2) -> 450000 | T28: =ROUND(MAX(H28,J28,L28),2) -> 2000000 | U28: =ROUND(AVERAGE(H28,J28,L28),2) -> 1069966.7 | V28: =ROUND(AVERAGE(S28,U28),2) -> 759983.34 | X28: =V28 -> 759983.34 | Y28: =ROUND(X28*19%,2) -> 144396.83 | Z28: =ROUND(X28+Y28,2) -> 904380.17 | AA28: =ROUND(Z28*$E28,2) -> 45219008
B29: 4 | C29: TONER HP W9091MC CYAN LASER E47528 | D29: UNIDAD | E29: 10 | H29: 1037210 | J29: 450000 | L29: =2737000/1.19 -> 2300000 | R29: 1900 | S29: =ROUND(MIN(H29,J29,L29),2) -> 450000 | T29: =ROUND(MAX(H29,J29,L29),2) -> 2300000 | U29: =ROUND(AVERAGE(H29,J29,L29),2) -> 1262403.3 | V29: =ROUND(AVERAGE(S29,U29),2) -> 856201.67 | X29: =+U29 -> 1262403.3 | Y29: =ROUND(X29*19%,2) -> 239856.63 | Z29: =ROUND(X29+Y29,2) -> 1502260 | AA29: =ROUND(Z29*$E29,2) -> 15022600
B30: 5 | C30: TONER HP W9092MC AMARILLO LASER E47528 | D30: UNIDAD | E30: 10 | H30: 1037210 | J30: 2300000 | L30: =2737000/1.19 -> 2300000 | R30: 15506 | S30: =ROUND(MIN(H30,J30,L30),2) -> 1037210 | T30: =ROUND(MAX(H30,J30,L30),2) -> 2300000 | U30: =ROUND(AVERAGE(H30,J30,L30),2) -> 1879070 | V30: =ROUND(AVERAGE(S30,U30),2) -> 1458140 | X30: =+U30 -> 1879070 | Y30: =ROUND(X30*19%,2) -> 357023.3 | Z30: =ROUND(X30+Y30,2) -> 2236093.3 | AA30: =ROUND(Z30*$E30,2) -> 22360933
B31: 6 | C31: TONER HP W9093MC MAGENTA LASER E47528 | D31: UNIDAD | E31: 10 | H31: 1037210 | J31: 2300000 | L31: =2737000/1.19 -> 2300000 | R31: 49900 | S31: =ROUND(MIN(H31,J31,L31),2) -> 1037210 | T31: =ROUND(MAX(H31,J31,L31),2) -> 2300000 | U31: =ROUND(AVERAGE(H31,J31,L31),2) -> 1879070 | V31: =ROUND(AVERAGE(S31,U31),2) -> 1458140 | X31: =+U31 -> 1879070 | Y31: =ROUND(X31*19%,2) -> 357023.3 | Z31: =ROUND(X31+Y31,2) -> 2236093.3 | AA31: =ROUND(Z31*$E31,2) -> 22360933
B32: 7 | C32: UNIDAD FUSORA HP RM2-2554-000CN | D32: UNIDAD | E32: 150 | H32: 477304 | J32: 2000000 | L32: =2558500/1.19 -> 2150000 | R32: 26940 | S32: =ROUND(MIN(H32,J32,L32),2) -> 477304 | T32: =ROUND(MAX(H32,J32,L32),2) -> 2150000 | U32: =ROUND(AVERAGE(H32,J32,L32),2) -> 1542434.7 | V32: =ROUND(AVERAGE(S32,U32),2) -> 1009869.3 | X32: =+U32 -> 1542434.7 | Y32: =ROUND(X32*19%,2) -> 293062.59 | Z32: =ROUND(X32+Y32,2) -> 1835497.3 | AA32: =ROUND(Z32*$E32,2) -> 275324589
B33: 8 | C33: UNIDAD FUSORA HP RM2-2585-000CN | D33: UNIDAD | E33: 100 | H33: 674666 | J33: 2000000 | L33: =2558500/1.19 -> 2150000 | R33: 7829 | S33: =ROUND(MIN(H33,J33,L33),2) -> 674666 | T33: =ROUND(MAX(H33,J33,L33),2) -> 2150000 | U33: =ROUND(AVERAGE(H33,J33,L33),2) -> 1608222 | V33: =ROUND(AVERAGE(S33,U33),2) -> 1141444 | X33: =+U33 -> 1608222 | Y33: =ROUND(X33*19%,2) -> 305562.18 | Z33: =ROUND(X33+Y33,2) -> 1913784.2 | AA33: =ROUND(Z33*$E33,2) -> 191378418
B34: 9 | C34: UNIDAD FUSORA HP RM2-6460-000CN | D34: UNIDAD | E34: 10 | H34: 1502997 | J34: 1800000 | L34: =2558500/1.19 -> 2150000 | R34: 7173 | S34: =ROUND(MIN(H34,J34,L34),2) -> 1502997 | T34: =ROUND(MAX(H34,J34,L34),2) -> 2150000 | U34: =ROUND(AVERAGE(H34,J34,L34),2) -> 1817665.7 | V34: =ROUND(AVERAGE(S34,U34),2) -> 1660331.3 | X34: =+U34 -> 1817665.7 | Y34: =ROUND(X34*19%,2) -> 345356.48 | Z34: =ROUND(X34+Y34,2) -> 2163022.1 | AA34: =ROUND(Z34*$E34,2) -> 21630222
A39: Estudio del Sector 365
A40: Fecha de elaboración: 16/07/2026

Sheet ANEXO 2
B1: ANEXO 2
D2: ANÁLISIS GASTO HISTÓRICO
D3: ADQUIRIR INSUMOS DE IMPRESIÒN CON DESTINO A LAS DEPENDENCIAS DE LA FISCALÍA GENERAL DE LA NACIÓN (GRUPO 1 y 2).
B6: NECESIDAD
B7: GRUPO 1 – MULTIMARCA – RICOH – KYOCERA – LEXMARK – HP (REFERENCIAS IMPRESORAS NO COMODATO) | G7: ACEPTACIÓN DE OFERTA FGN-NC-0165-2025 - RICOH FGN-NC-0166-2025 - HP FGN-NC-0168-2025 - LEXMARK FGN-NC-0170-2025 - KYOCERA FGN-NC-0171-2025 - HP | I7: Agosto 2025 | J7: junio 2026 | L7: ANÁLISIS PROYECCIÓN GASTO HISTÓRICO (IPC / Indices - Serie de empalme)
B8: ITEM | C8: DESCRIPCIÓN DEL BIEN | D8: UNIDAD DE MEDIDA | E8: CANTIDAD | G8: VALOR UNITARIO SIN IVA | I8: 1.5099 | J8: 1.5953 | L8: VALOR UNITARIO SIN IVA | M8: IVA | N8: VALOR TOTAL INCLUIDO IVA
B9: 1 | C9: TONER RICOH IM430 418126 | D9: UNIDAD | E9: 193
B10: 2 | C10: TONER RICOH IM 550 418477 | D10: UNIDAD | E10: 400 | G10: 489156 | I10: =ROUND(($J$8/$I$8)*G10,2) -> 516822.68 | L10: =I10 -> 516822.68 | M10: =ROUND(L10*19%,2) -> 98196.31 | N10: =ROUND((L10+M10)*E10,2) -> 246007596
B11: 3 | C11: UNIDAD IMAGEN RICOH IM550 NUMERO PARTE M | D11: UNIDAD | E11: 5
B12: 4 | C12: UNIDAD FUSORA PARA RICOH IM 550 | D12: UNIDAD | E12: 57
B13: 5 | C13: KIT DE RODILLO PARA ESCANER DE MULTIFUNCIONAL RICOH IM550 PARTE NO. D0BV1723 | D13: UNIDAD | E13: 60
B14: 6 | C14: FRICTION PAD PARA RICOH IM550 PARTE NO. D2555568 | D14: UNIDAD | E14: 60
B15: 7 | C15: FUSOR PARA IMPRESORA RICOH IM430 NUMERO | D15: UNIDAD | E15: 53
B16: 8 | C16: CARTUCHO TONER TK 5232K KYOCERA NEGRO | D16: UNIDAD | E16: 3 | G16: 455000 | I16: =ROUND(($J$8/$I$8)*G16,2) -> 480734.82 | L16: =I16 -> 480734.82 | M16: =ROUND(L16*19%,2) -> 91339.62 | N16: =ROUND((L16+M16)*E16,2) -> 1716223.3
B17: 9 | C17: TONER 58D4000 MX722 LEXMARK ADHE | D17: UNIDAD | E17: 30 | G17: 776609 | I17: =ROUND(($J$8/$I$8)*G17,2) -> 820534.03 | L17: =I17 -> 820534.03 | M17: =ROUND(L17*19%,2) -> 155901.47 | N17: =ROUND((L17+M17)*E17,2) -> 29293065
B18: 10 | C18: CARTUCHO NEGRO HP 600 PAGINAS C2P05AL UN | D18: UNIDAD | E18: 174 | G18: 164684.48 | I18: =ROUND(($J$8/$I$8)*G18,2) -> 173999.04 | L18: =I18 -> 173999.04 | M18: =ROUND(L18*19%,2) -> 33059.82 | N18: =ROUND((L18+M18)*E18,2) -> 36028242
B19: 11 | C19: CARTUCHO TRICOLOR HP C2P07AL UND | D19: UNIDAD | E19: 106 | G19: 167130.29 | I19: =ROUND(($J$8/$I$8)*G19,2) -> 176583.18 | L19: =I19 -> 176583.18 | M19: =ROUND(L19*19%,2) -> 33550.8 | N19: =ROUND((L19+M19)*E19,2) -> 22274202
B20: 12 | C20: CARTUCHO LASERJET 59X CF258X HP LASERJET | D20: UNIDAD | E20: 6
B21: 13 | C21: TONER LASER JET 147A W1470X HP LASER J | D21: UNIDAD | E21: 6
B22: GRUPO 2 – HP (REFERENCIAS IMPRESORAS COMODATO) | G22: TOPES MAXIMOS ESTABLECIDOS COMODATO + IPC COMUNICACIÓN 13 DE MAYO 2025 | I22: Agosto 2025 | J22: junio 2026 | L22: ANÁLISIS PROYECCIÓN GASTO HISTÓRICO (IPC / Indices - Serie de empalme)
B23: ITEM | C23: DESCRIPCIÓN DEL BIEN | D23: UNIDAD DE MEDIDA | E23: CANTIDAD | G23: VALOR UNITARIO CON IVA | I23: IPC 2025 5,10% | L23: VALOR UNITARIO SIN IVA | M23: IVA | N23: VALOR TOTAL INCLUIDO IVA
B24: 1 | C24: TONER HP W9024MC NEGRO LASER E42540 | D24: UNIDAD | E24: 959 | G24: 756580 | I24: =ROUND(G24+(5.1%*G24),2) -> 795165.58 | L24: =ROUND(N24/1.19,2) -> 668206.37 | M24: =ROUND(L24*19%,2) -> 126959.21 | N24: =+I24 -> 795165.58
B25: 2 | C25: TONER HP W9008MC NEGRO LASER E52645 | D25: UNIDAD | E25: 1373 | G25: 685330 | I25: =ROUND(G25+(5.1%*G25),2) -> 720281.83 | L25: =ROUND(N25/1.19,2) -> 605278.85 | M25: =ROUND(L25*19%,2) -> 115002.98 | N25: =+I25 -> 720281.83
B26: 3 | C26: TONER HP W9090MC NEGRO LASER E47528 | D26: UNIDAD | E26: 50 | G26: 633000 | I26: =ROUND(G26+(5.1%*G26),2) -> 665283 | L26: =ROUND(N26/1.19,2) -> 559061.34 | M26: 106221.66 | N26: =+I26 -> 665283
B27: 4 | C27: TONER HP W9091MC CYAN LASER E47528 | D27: UNIDAD | E27: 10 | G27: 864000 | I27: =ROUND(G27+(5.1%*G27),2) -> 908064 | L27: =ROUND(N27/1.19,2) -> 763078.99 | M27: =ROUND(L27*19%,2) -> 144985.01 | N27: =+I27 -> 908064
B28: 5 | C28: TONER HP W9092MC AMARILLO LASER E47528 | D28: UNIDAD | E28: 10 | G28: 864000 | I28: =ROUND(G28+(5.1%*G28),2) -> 908064 | L28: =ROUND(N28/1.19,2) -> 763078.99 | M28: =ROUND(L28*19%,2) -> 144985.01 | N28: =+I28 -> 908064
B29: 6 | C29: TONER HP W9093MC MAGENTA LASER E47528 | D29: UNIDAD | E29: 10 | G29: 864000 | I29: =ROUND(G29+(5.1%*G29),2) -> 908064 | L29: =ROUND(N29/1.19,2) -> 763078.99 | M29: =ROUND(L29*19%,2) -> 144985.01 | N29: =+I29 -> 908064
B30: 7 | C30: UNIDAD FUSORA HP RM2-2554-000CN | D30: UNIDAD | E30: 150 | G30: 284000 | I30: =ROUND(G30+(5.1%*G30),2) -> 298484 | L30: =ROUND(N30/1.19,2) -> 250826.89 | M30: =ROUND(L30*19%,2) -> 47657.11 | N30: =+I30 -> 298484
B31: 8 | C31: UNIDAD FUSORA HP RM2-2585-000CN | D31: UNIDAD | E31: 100 | G31: 562000 | I31: =ROUND(G31+(5.1%*G31),2) -> 590662 | L31: =ROUND(N31/1.19,2) -> 496354.62 | M31: =ROUND(L31*19%,2) -> 94307.38 | N31: =+I31 -> 590662
B32: 9 | C32: UNIDAD FUSORA HP RM2-6460-000CN | D32: UNIDAD | E32: 10 | G32: 1252000 | I32: =ROUND(G32+(5.1%*G32),2) -> 1315852 | L32: =ROUND(N32/1.19,2) -> 1105758 | M32: =ROUND(L32*19%,2) -> 210094.02 | N32: =+I32 -> 1315852
J38: ,
B40: Estudio del Sector 365
B41: Fecha de elaboración: 16/07/2026

Sheet ANEXO 3
B1: ANEXO 3
D2: ANÁLISIS PARA ESTABLECER EL VALOR FINAL
D3: ADQUIRIR INSUMOS DE IMPRESIÒN CON DESTINO A LAS DEPENDENCIAS DE LA FISCALÍA GENERAL DE LA NACIÓN (GRUPO 1 y 2).
B5: NECESIDAD
B6: GRUPO 1 – MULTIMARCA – RICOH – KYOCERA – LEXMARK – HP (REFERENCIAS IMPRESORAS NO COMODATO) | G6: ANÁLISIS DE COTIZACIONES | I6: ANÁLISIS GASTO HISTÓRICO | K6: VALOR SELECCIONADO
B7: ITEM | C7: DESCRIPCIÓN DEL BIEN | D7: UNIDAD DE MEDIDA | E7: CANTIDAD | G7: VALOR UNITARIO SIN IVA | I7: VALOR UNITARIO SIN IVA | K7: VALOR UNITARIO SIN IVA | L7: IVA UNITARIO | M7: VALOR UNITARIO INCLUIDO IVA | N7: VALOR TOTAL INCLUIDO IVA
B8: 1 | C8: TONER RICOH IM430 418126 | D8: UNIDAD | E8: 193 | G8: ='ANEXO 1'!X11 -> 424797.19 | K8: =ROUND(AVERAGE(G8,I8),2) -> 424797.19 | L8: =ROUND((K8*19%),2) -> 80711.47 | M8: =ROUND((L8+K8),2) -> 505508.66 | N8: =ROUND((M8*E8),2) -> 97563171
B9: 2 | C9: TONER RICOH IM 550 418477 | D9: UNIDAD | E9: 400 | G9: ='ANEXO 1'!X12 -> 551859.67 | I9: ='ANEXO 2'!L10 -> 516822.68 | K9: =ROUND(AVERAGE(G9,I9),2) -> 534341.18 | L9: =ROUND((K9*19%),2) -> 101524.82 | M9: =ROUND((L9+K9),2) -> 635866 | N9: =ROUND((M9*E9),2) -> 254346400
B10: 3 | C10: UNIDAD IMAGEN RICOH IM550 NUMERO PARTE M | D10: UNIDAD | E10: 5 | G10: ='ANEXO 1'!X13 -> 2125338.3 | K10: =ROUND(AVERAGE(G10,I10),2) -> 2125338.3 | L10: =ROUND((K10*19%),2) -> 403814.28 | M10: =ROUND((L10+K10),2) -> 2529152.6 | N10: =ROUND((M10*E10),2) -> 12645763
B11: 4 | C11: UNIDAD FUSORA PARA RICOH IM 550 | D11: UNIDAD | E11: 57 | G11: ='ANEXO 1'!X14 -> 1489495 | K11: =ROUND(AVERAGE(G11,I11),2) -> 1489495 | L11: =ROUND((K11*19%),2) -> 283004.05 | M11: =ROUND((L11+K11),2) -> 1772499 | N11: =ROUND((M11*E11),2) -> 1.0103244e+08
B12: 5 | C12: KIT DE RODILLO PARA ESCANER DE MULTIFUNCIONAL RICOH IM550 PARTE NO. D0BV1723 | D12: UNIDAD | E12: 60 | G12: ='ANEXO 1'!X15 -> 754055 | K12: =ROUND(AVERAGE(G12,I12),2) -> 754055 | L12: =ROUND((K12*19%),2) -> 143270.45 | M12: =ROUND((L12+K12),2) -> 897325.45 | N12: =ROUND((M12*E12),2) -> 53839527
B13: 6 | C13: FRICTION PAD PARA RICOH IM550 PARTE NO. D2555568 | D13: UNIDAD | E13: 60 | G13: ='ANEXO 1'!X16 -> 350000 | K13: =ROUND(AVERAGE(G13,I13),2) -> 350000 | L13: =ROUND((K13*19%),2) -> 66500 | M13: =ROUND((L13+K13),2) -> 416500 | N13: =ROUND((M13*E13),2) -> 24990000
B14: 7 | C14: FUSOR PARA IMPRESORA RICOH IM430 NUMERO | D14: UNIDAD | E14: 53 | G14: ='ANEXO 1'!X17 -> 1246449.8 | K14: =ROUND(AVERAGE(G14,I14),2) -> 1246449.8 | L14: =ROUND((K14*19%),2) -> 236825.46 | M14: =ROUND((L14+K14),2) -> 1483275.2 | N14: =ROUND((M14*E14),2) -> 78613588
B15: 8 | C15: CARTUCHO TONER TK 5232K KYOCERA NEGRO | D15: UNIDAD | E15: 3 | G15: ='ANEXO 1'!X18 -> 705555.56 | I15: ='ANEXO 2'!L16 -> 480734.82 | K15: =ROUND(AVERAGE(G15,I15),2) -> 593145.19 | L15: =ROUND((K15*19%),2) -> 112697.59 | M15: =ROUND((L15+K15),2) -> 705842.78 | N15: =ROUND((M15*E15),2) -> 2117528.3
B16: 9 | C16: TONER 58D4000 MX722 LEXMARK ADHE | D16: UNIDAD | E16: 30 | G16: ='ANEXO 1'!X19 -> 1450666.7 | I16: ='ANEXO 2'!L17 -> 820534.03 | K16: =ROUND(AVERAGE(G16,I16),2) -> 1135600.4 | L16: =ROUND((K16*19%),2) -> 215764.07 | M16: =ROUND((L16+K16),2) -> 1351364.4 | N16: =ROUND((M16*E16),2) -> 40540933
B17: 10 | C17: CARTUCHO NEGRO HP 600 PAGINAS C2P05AL UN | D17: UNIDAD | E17: 174 | G17: ='ANEXO 1'!X20 -> 456123.25 | I17: ='ANEXO 2'!L18 -> 173999.04 | K17: =ROUND(AVERAGE(G17,I17),2) -> 315061.15 | L17: =ROUND((K17*19%),2) -> 59861.62 | M17: =ROUND((L17+K17),2) -> 374922.77 | N17: =ROUND((M17*E17),2) -> 65236562
B18: 11 | C18: CARTUCHO TRICOLOR HP C2P07AL UND | D18: UNIDAD | E18: 106 | G18: ='ANEXO 1'!X21 -> 423533.33 | I18: ='ANEXO 2'!L19 -> 176583.18 | K18: =ROUND(AVERAGE(G18,I18),2) -> 300058.26 | L18: =ROUND((K18*19%),2) -> 57011.07 | M18: =ROUND((L18+K18),2) -> 357069.33 | N18: =ROUND((M18*E18),2) -> 37849349
B19: 12 | C19: CARTUCHO LASERJET 59X CF258X HP LASERJET | D19: UNIDAD | E19: 6 | G19: ='ANEXO 1'!X22 -> 1854266.7 | K19: =ROUND(AVERAGE(G19,I19),2) -> 1854266.7 | L19: =ROUND((K19*19%),2) -> 352310.67 | M19: =ROUND((L19+K19),2) -> 2206577.3 | N19: =ROUND((M19*E19),2) -> 13239464
B20: 13 | C20: TONER LASER JET 147A W1470X HP LASER J | D20: UNIDAD | E20: 6 | G20: ='ANEXO 1'!X23 -> 2457564.7 | K20: =ROUND(AVERAGE(G20,I20),2) -> 2457564.7 | L20: =ROUND((K20*19%),2) -> 466937.29 | M20: =ROUND((L20+K20),2) -> 2924502 | N20: =ROUND((M20*E20),2) -> 17547012
K21: SUBTOTAL | N21: =ROUND(SUM(N8:N20),2) -> 7.9956174e+08
B22: GRUPO 2 – HP (REFERENCIAS IMPRESORAS COMODATO) | G22: ANÁLISIS DE COTIZACIONES | I22: TOPES MAXIMOS ESTABLECIDOS COMODATO + IPC COMUNICACIÓN 13 DE MAYO 2025 | K22: VALOR SELECCIONADO
B23: ITEM | C23: DESCRIPCIÓN DEL BIEN | D23: UNIDAD DE MEDIDA | E23: CANTIDAD | G23: VALOR UNITARIO SIN IVA | I23: VALOR UNITARIO SIN IVA | K23: VALOR UNITARIO SIN IVA | L23: IVA UNITARIO | M23: VALOR UNITARIO INCLUIDO IVA | N23: VALOR TOTAL INCLUIDO IVA
B24: 1 | C24: TONER HP W9024MC NEGRO LASER E42540 | D24: UNIDAD | E24: 959 | G24: ='ANEXO 1'!X26 -> 1102170.7 | I24: 668206.37 | K24: =+I24 -> 668206.37 | L24: =ROUND((K24*19%),2) -> 126959.21 | M24: =ROUND((L24+K24),2) -> 795165.58 | N24: =ROUND((M24*E24),2) -> 7.6256379e+08
B25: 2 | C25: TONER HP W9008MC NEGRO LASER E52645 | D25: UNIDAD | E25: 1373 | G25: ='ANEXO 1'!X27 -> 1028480.7 | I25: 605278.85 | K25: =+I25 -> 605278.85 | L25: =ROUND((K25*19%),2) -> 115002.98 | M25: =ROUND((L25+K25),2) -> 720281.83 | N25: =ROUND((M25*E25),2) -> 9.8894695e+08
B26: 3 | C26: TONER HP W9090MC NEGRO LASER E47528 | D26: UNIDAD | E26: 50 | G26: ='ANEXO 1'!X28 -> 759983.34 | I26: 559061.34 | K26: =+I26 -> 559061.34 | L26: 106221.66 | M26: =ROUND((L26+K26),2) -> 665283 | N26: =ROUND((M26*E26),2) -> 33264150
B27: 4 | C27: TONER HP W9091MC CYAN LASER E47528 | D27: UNIDAD | E27: 10 | G27: ='ANEXO 1'!X29 -> 1262403.3 | I27: 763078.99 | K27: =+I27 -> 763078.99 | L27: =ROUND((K27*19%),2) -> 144985.01 | M27: =ROUND((L27+K27),2) -> 908064 | N27: =ROUND((M27*E27),2) -> 9080640
B28: 5 | C28: TONER HP W9092MC AMARILLO LASER E47528 | D28: UNIDAD | E28: 10 | G28: ='ANEXO 1'!X30 -> 1879070 | I28: 763078.99 | K28: =+I28 -> 763078.99 | L28: =ROUND((K28*19%),2) -> 144985.01 | M28: =ROUND((L28+K28),2) -> 908064 | N28: =ROUND((M28*E28),2) -> 9080640
B29: 6 | C29: TONER HP W9093MC MAGENTA LASER E47528 | D29: UNIDAD | E29: 10 | G29: ='ANEXO 1'!X31 -> 1879070 | I29: 763078.99 | K29: =+I29 -> 763078.99 | L29: =ROUND((K29*19%),2) -> 144985.01 | M29: =ROUND((L29+K29),2) -> 908064 | N29: =ROUND((M29*E29),2) -> 9080640
B30: 7 | C30: UNIDAD FUSORA HP RM2-2554-000CN | D30: UNIDAD | E30: 150 | G30: ='ANEXO 1'!X32 -> 1542434.7 | I30: 250826.89 | K30: =+I30 -> 250826.89 | L30: =ROUND((K30*19%),2) -> 47657.11 | M30: =ROUND((L30+K30),2) -> 298484 | N30: =ROUND((M30*E30),2) -> 44772600
B31: 8 | C31: UNIDAD FUSORA HP RM2-2585-000CN | D31: UNIDAD | E31: 100 | G31: ='ANEXO 1'!X33 -> 1608222 | I31: 496354.62 | K31: =+I31 -> 496354.62 | L31: =ROUND((K31*19%),2) -> 94307.38 | M31: =ROUND((L31+K31),2) -> 590662 | N31: =ROUND((M31*E31),2) -> 59066200
B32: 9 | C32: UNIDAD FUSORA HP RM2-6460-000CN | D32: UNIDAD | E32: 10 | G32: ='ANEXO 1'!X34 -> 1817665.7 | I32: 1105758 | K32: =+I32 -> 1105758 | L32: =ROUND((K32*19%),2) -> 210094.02 | M32: =ROUND((L32+K32),2) -> 1315852 | N32: =ROUND((M32*E32),2) -> 13158520
K33: SUBTOTAL | N33: =ROUND(SUM(N24:N32),2) -> 1.9290141e+09
B34: TOTAL | N34: =SUM(N33,N21) -> 2.7285759e+09
B36: Estudio del Sector 365
B37: Fecha de elaboración: 16/07/2026

Sheet ANEXO 4
B1: ANEXO 4
D2: ESTUDIO DE MERCADO DEFINITIVO
D3: ADQUIRIR INSUMOS DE IMPRESIÒN CON DESTINO A LAS DEPENDENCIAS DE LA FISCALÍA GENERAL DE LA NACIÓN (GRUPO 1 y 2).
B5: NECESIDAD
B6: GRUPO 1 – MULTIMARCA – RICOH – KYOCERA – LEXMARK – HP (REFERENCIAS IMPRESORAS NO COMODATO) | G6: VALOR SELECCIONADO
B7: ITEM | C7: DESCRIPCIÓN DEL BIEN | D7: UNIDAD DE MEDIDA | E7: CANTIDAD | G7: VALOR UNITARIO SIN IVA | H7: IVA UNITARIO | I7: VALOR UNITARIO INCLUIDO IVA | J7: VALOR TOTAL INCLUIDO IVA
B8: 1 | C8: TONER RICOH IM430 418126 | D8: UNIDAD | E8: 193 | G8: ='ANEXO 3'!K8 -> 424797.19 | H8: =ROUND((G8*19%),2) -> 80711.47 | I8: =ROUND((G8+H8),2) -> 505508.66 | J8: =ROUND((I8*E8),2) -> 97563171
B9: 2 | C9: TONER RICOH IM 550 418477 | D9: UNIDAD | E9: 400 | G9: ='ANEXO 3'!K9 -> 534341.18 | H9: =ROUND((G9*19%),2) -> 101524.82 | I9: =ROUND((G9+H9),2) -> 635866 | J9: =ROUND((I9*E9),2) -> 254346400
B10: 3 | C10: UNIDAD IMAGEN RICOH IM550 NUMERO PARTE M | D10: UNIDAD | E10: 5 | G10: ='ANEXO 3'!K10 -> 2125338.3 | H10: =ROUND((G10*19%),2) -> 403814.28 | I10: =ROUND((G10+H10),2) -> 2529152.6 | J10: =ROUND((I10*E10),2) -> 12645763
B11: 4 | C11: UNIDAD FUSORA PARA RICOH IM 550 | D11: UNIDAD | E11: 57 | G11: ='ANEXO 3'!K11 -> 1489495 | H11: =ROUND((G11*19%),2) -> 283004.05 | I11: =ROUND((G11+H11),2) -> 1772499 | J11: =ROUND((I11*E11),2) -> 1.0103244e+08
B12: 5 | C12: KIT DE RODILLO PARA ESCANER DE MULTIFUNCIONAL RICOH IM550 PARTE NO. D0BV1723 | D12: UNIDAD | E12: 60 | G12: ='ANEXO 3'!K12 -> 754055 | H12: =ROUND((G12*19%),2) -> 143270.45 | I12: =ROUND((G12+H12),2) -> 897325.45 | J12: =ROUND((I12*E12),2) -> 53839527
B13: 6 | C13: FRICTION PAD PARA RICOH IM550 PARTE NO. D2555568 | D13: UNIDAD | E13: 60 | G13: ='ANEXO 3'!K13 -> 350000 | H13: =ROUND((G13*19%),2) -> 66500 | I13: =ROUND((G13+H13),2) -> 416500 | J13: =ROUND((I13*E13),2) -> 24990000
B14: 7 | C14: FUSOR PARA IMPRESORA RICOH IM430 NUMERO | D14: UNIDAD | E14: 53 | G14: ='ANEXO 3'!K14 -> 1246449.8 | H14: =ROUND((G14*19%),2) -> 236825.46 | I14: =ROUND((G14+H14),2) -> 1483275.2 | J14: =ROUND((I14*E14),2) -> 78613588
B15: 8 | C15: CARTUCHO TONER TK 5232K KYOCERA NEGRO | D15: UNIDAD | E15: 3 | G15: ='ANEXO 3'!K15 -> 593145.19 | H15: =ROUND((G15*19%),2) -> 112697.59 | I15: =ROUND((G15+H15),2) -> 705842.78 | J15: =ROUND((I15*E15),2) -> 2117528.3
B16: 9 | C16: TONER 58D4000 MX722 LEXMARK ADHE | D16: UNIDAD | E16: 30 | G16: ='ANEXO 3'!K16 -> 1135600.4 | H16: =ROUND((G16*19%),2) -> 215764.07 | I16: =ROUND((G16+H16),2) -> 1351364.4 | J16: =ROUND((I16*E16),2) -> 40540933
B17: 10 | C17: CARTUCHO NEGRO HP 600 PAGINAS C2P05AL UN | D17: UNIDAD | E17: 174 | G17: ='ANEXO 3'!K17 -> 315061.15 | H17: =ROUND((G17*19%),2) -> 59861.62 | I17: =ROUND((G17+H17),2) -> 374922.77 | J17: =ROUND((I17*E17),2) -> 65236562
B18: 11 | C18: CARTUCHO TRICOLOR HP C2P07AL UND | D18: UNIDAD | E18: 106 | G18: ='ANEXO 3'!K18 -> 300058.26 | H18: =ROUND((G18*19%),2) -> 57011.07 | I18: =ROUND((G18+H18),2) -> 357069.33 | J18: =ROUND((I18*E18),2) -> 37849349
B19: 12 | C19: CARTUCHO LASERJET 59X CF258X HP LASERJET | D19: UNIDAD | E19: 6 | G19: ='ANEXO 3'!K19 -> 1854266.7 | H19: =ROUND((G19*19%),2) -> 352310.67 | I19: =ROUND((G19+H19),2) -> 2206577.3 | J19: =ROUND((I19*E19),2) -> 13239464
B20: 13 | C20: TONER LASER JET 147A W1470X HP LASER J | D20: UNIDAD | E20: 6 | G20: ='ANEXO 3'!K20 -> 2457564.7 | H20: =ROUND((G20*19%),2) -> 466937.29 | I20: =ROUND((G20+H20),2) -> 2924502 | J20: =ROUND((I20*E20),2) -> 17547012
G21: SUBTOTAL | J21: =ROUND(SUM(J8:J20),2) -> 7.9956174e+08
B22: GRUPO 2 – HP (REFERENCIAS IMPRESORAS COMODATO) | G22: VALOR SELECCIONADO
B23: ITEM | C23: DESCRIPCIÓN DEL BIEN | D23: UNIDAD DE MEDIDA | E23: CANTIDAD | G23: VALOR UNITARIO SIN IVA | H23: IVA UNITARIO | I23: VALOR UNITARIO INCLUIDO IVA | J23: VALOR TOTAL INCLUIDO IVA
B24: 1 | C24: TONER HP W9024MC NEGRO LASER E42540 | D24: UNIDAD | E24: 960 | G24: ='ANEXO 3'!K24 -> 668206.37 | H24: =ROUND((G24*19%),2) -> 126959.21 | I24: =ROUND((G24+H24),2) -> 795165.58 | J24: =ROUND((I24*E24),2) -> 7.6335896e+08
B25: 2 | C25: TONER HP W9008MC NEGRO LASER E52645 | D25: UNIDAD | E25: 2491 | G25: ='ANEXO 3'!K25 -> 605278.85 | H25: =ROUND((G25*19%),2) -> 115002.98 | I25: =ROUND((G25+H25),2) -> 720281.83 | J25: =ROUND((I25*E25),2) -> 1.794222e+09
B26: 3 | C26: TONER HP W9090MC NEGRO LASER E47528 | D26: UNIDAD | E26: 50 | G26: ='ANEXO 3'!K26 -> 559061.34 | H26: 106221.66 | I26: =ROUND((G26+H26),2) -> 665283 | J26: =ROUND((I26*E26),2) -> 33264150
B27: 4 | C27: TONER HP W9091MC CYAN LASER E47528 | D27: UNIDAD | E27: 10 | G27: ='ANEXO 3'!K27 -> 763078.99 | H27: =ROUND((G27*19%),2) -> 144985.01 | I27: =ROUND((G27+H27),2) -> 908064 | J27: =ROUND((I27*E27),2) -> 9080640
B28: 5 | C28: TONER HP W9092MC AMARILLO LASER E47528 | D28: UNIDAD | E28: 10 | G28: ='ANEXO 3'!K28 -> 763078.99 | H28: =ROUND((G28*19%),2) -> 144985.01 | I28: =ROUND((G28+H28),2) -> 908064 | J28: =ROUND((I28*E28),2) -> 9080640
B29: 6 | C29: TONER HP W9093MC MAGENTA LASER E47528 | D29: UNIDAD | E29: 10 | G29: ='ANEXO 3'!K29 -> 763078.99 | H29: =ROUND((G29*19%),2) -> 144985.01 | I29: =ROUND((G29+H29),2) -> 908064 | J29: =ROUND((I29*E29),2) -> 9080640
B30: 7 | C30: UNIDAD FUSORA HP RM2-2554-000CN | D30: UNIDAD | E30: 150 | G30: ='ANEXO 3'!K30 -> 250826.89 | H30: =ROUND((G30*19%),2) -> 47657.11 | I30: =ROUND((G30+H30),2) -> 298484 | J30: =ROUND((I30*E30),2) -> 44772600
B31: 8 | C31: UNIDAD FUSORA HP RM2-2585-000CN | D31: UNIDAD | E31: 100 | G31: ='ANEXO 3'!K31 -> 496354.62 | H31: =ROUND((G31*19%),2) -> 94307.38 | I31: =ROUND((G31+H31),2) -> 590662 | J31: =ROUND((I31*E31),2) -> 59066200
B32: 9 | C32: UNIDAD FUSORA HP RM2-6460-000CN | D32: UNIDAD | E32: 10 | G32: ='ANEXO 3'!K32 -> 1105758 | H32: =ROUND((G32*19%),2) -> 210094.02 | I32: =ROUND((G32+H32),2) -> 1315852 | J32: =ROUND((I32*E32),2) -> 13158520
G33: SUBTOTAL | J33: =ROUND(SUM(J24:J32),2) -> 2.7350844e+09
B34: TOTAL | J34: =SUM(J33,J21) -> 3.5346461e+09
B36: Estudio del Sector 365
B37: Fecha de actualizacion
