Workbook
Name _: #REF!
Name ___________________________FSM2: [1]Salarios!$E$141
Name __________________________FSM2: [1]Salarios!$E$141
Name __________________________FSM5: [1]Salarios!$E$91
Name _________________________FSM2: [1]Salarios!$E$141
Name _________________________FSM5: [1]Salarios!$E$91
Name ________________________FSM2: [1]Salarios!$E$141
Name ________________________FSM5: [1]Salarios!$E$91
Name _______________________FSM2: [1]Salarios!$E$141
Name _______________________FSM5: [1]Salarios!$E$91
Name ______________________FSM2: [1]Salarios!$E$141
Name ______________________FSM5: [1]Salarios!$E$91
Name _____________________FSM2: [1]Salarios!$E$141
Name _____________________FSM5: [1]Salarios!$E$91
Name ____________________FSM2: [1]Salarios!$E$141
Name ____________________FSM5: [1]Salarios!$E$91
Name ___________________FSM2: [1]Salarios!$E$141
Name ___________________FSM5: [1]Salarios!$E$91
Name __________________FSM2: [1]Salarios!$E$141
Name __________________FSM5: [1]Salarios!$E$91
Name _________________FSM2: [1]Salarios!$E$141
Name _________________FSM5: [1]Salarios!$E$91
Name ________________FSM2: [1]Salarios!$E$141
Name ________________FSM5: [1]Salarios!$E$91
Name _______________FSM2: [1]Salarios!$E$141
Name _______________FSM5: [1]Salarios!$E$91
Name _______________V1: #REF!
Name ______________FSM2: [1]Salarios!$E$141
Name ______________FSM5: [1]Salarios!$E$91
Name _____________FSM2: [1]Salarios!$E$141
Name _____________FSM5: [1]Salarios!$E$91
Name ____________FSM2: [1]Salarios!$E$141
Name ____________FSM5: [1]Salarios!$E$91
Name ___________FSM2: [1]Salarios!$E$141
Name ___________FSM5: [1]Salarios!$E$91
Name __________FSM2: [1]Salarios!$E$141
Name __________FSM5: [1]Salarios!$E$91
Name _________FSM2: [1]Salarios!$E$141
Name _________FSM5: [1]Salarios!$E$91
Name _________MA2: #REF!
Name _________PJ50: #REF!
Name ________FSM2: [1]Salarios!$E$141
Name ________FSM5: [1]Salarios!$E$91
Name ________MA2: #REF!
Name ________PJ50: #REF!
Name _______FSM2: [1]Salarios!$E$141
Name _______FSM5: [1]Salarios!$E$91
Name _______MA2: #REF!
Name _______PJ50: #REF!
Name ______FSM2: [1]Salarios!$E$141
Name ______FSM5: [1]Salarios!$E$91
Name ______INF1: #REF!
Name ______MA2: #REF!
Name ______PJ50: #REF!
Name _____AFC1: [2]INV!$A$25:$D$28
Name _____AFC3: [2]INV!$F$25:$I$28
Name _____AFC5: [2]INV!$K$25:$N$28
Name _____BGC1: [2]INV!$A$5:$D$8
Name _____BGC3: [2]INV!$F$5:$I$8
Name _____BGC5: [2]INV!$K$5:$N$8

Sheet PRES GEN
C3: INSTALACIÓN E IMPLEMENTACIÓN DE 5 KITS SOLARES FOTOVOLTAICOS INDIVIDUALES EN INSTITUCIONES EDUCATIVAS DEL MUNICIPIO DE CUMBAL (RESGUARDO INDÍGENA SAN JUAN DE MAYASQUER) Y DEL MUNICIPIO DE TUMACO (ZONAS RURALES DE ALTO Y BAJO MIRA Y FRONTERA), DEPARTAMENTO DE NARIÑO.
C5: PRESUPUESTO DE OBRA
C7: ITEM No. | D7: DESCRIPCIÓN | E7: UND | F7: CANTIDAD | G7: VALOR UNITARIO | H7: VALOR TOTAL
C9: 1 | D9: ACTIVIDADES PRELIMINARES
C10: 1.1 | D10: Localización y replanteo de componente eléctrico, incluye estudio de resistividad del terreno por medio del método Wenner, entregable valor de resistividad representativo del suelo | E10: UND | F10: 5 | G10: =APUS!I30 -> 756964 | H10: =G10*F10 -> 3784820
C11: 2 | D11: SISTEMA SOLAR FOTOVOLTAICO OFF-GRID
C12: 2.1 | D12: Instalacion Panel solar monocristalino 500wp. Incluye accesorios para aterrizaje entre paneles | E12: UND | F12: =CANTIDADES!H18 -> 10 | G12: =APUS!I59 -> 299655 | H12: =F12*G12 -> 2996550
C13: 2.2 | D13: Instalacion Controlador Carga SmartSolar MPPT 100/30 24V | E13: UND | F13: =CANTIDADES!H32 -> 5 | G13: =APUS!I88 -> 214875 | H13: =F13*G13 -> 1074375
C14: 2.3 | D14: Instalacion Inversor Onda Pura 1000W 24V | E14: UND | F14: =CANTIDADES!H47 -> 5 | G14: =APUS!I117 -> 322312 | H14: =F14*G14 -> 1611560
C15: 2.4 | D15: Instalacion Estructura para montaje de paneles fotovoltaicos, incluye estructura adicional para montaje en poste metalico, perfilería de aluminio con riel de 2,5m y accesorios | E15: UND | F15: =CANTIDADES!H61 -> 5 | G15: =APUS!I146 -> 943914 | H15: =F15*G15 -> 4719570
C16: 2.5 | D16: Suministro e instalacion de poste metalico 3" x 3m posicionamiento ajustable, pintura electrostatica, incluye cimentacion en concreto 50x50x60 cm | E16: UND | F16: =CANTIDADES!H75 -> 5 | G16: =APUS!I177 -> 2122844 | H16: =F16*G16 -> 10614220
C17: 2.6 | D17: Instalacion Tablero de protecciones 8 ctos tipo riel, Paneles Solares FV, incluye protecciones 2x32A 2 Polos | E17: UND | F17: =CANTIDADES!H89 -> 5 | G17: =APUS!I207 -> 161156 | H17: =F17*G17 -> 805780
C18: 2.7 | D18: Instalacion Cableado Paneles solares - Protecciones DC - Controlador, incluye protecciones DC 2x32A, conectores MC4 y accesorios de conexión | E18: UND | F18: =CANTIDADES!H103 -> 5 | G18: =APUS!I237 -> 161156 | H18: =F18*G18 -> 805780
C19: 2.8 | D19: Suministro e instalacion Cableado Controlador - Bateria 4AWG tipo soldador, Bateria - inversor 8AWG tipo soldador | E19: UND | F19: =CANTIDADES!H117 -> 5 | G19: =APUS!I270 -> 241706 | H19: =F19*G19 -> 1208530
C20: 2.9 | D20: Suministro e instalacion Gabinete Metalico tipo Exterior 100x80x30cm, con separador soporte para baterias, incluye montaje accesorios equipos y protecciones DC. | E20: UND | F20: =CANTIDADES!H132 -> 5 | G20: =APUS!I302 -> 2308326 | H20: =F20*G20 -> 11541630
C21: 2.10 | D21: Instalacion Bateria tipo gel 12V - 150Ah | E21: UND | F21: =CANTIDADES!H146 -> 10 | G21: =APUS!I332 -> 161156 | H21: =F21*G21 -> 1611560
C22: 2.11 | D22: Suministro e instalacion Canalizaciones para cableado DC en coraza metalica 3/4", incluye accesorios. | E22: UND | F22: =CANTIDADES!H160 -> 5 | G22: =APUS!I370 -> 219978 | H22: =F22*G22 -> 1099890
C23: 2.12 | D23: Suministro e instalacion de Tablero de protecciones 8 ctos monofasico con tapa sin espacio para totalizador, incluye proteciones | E23: UND | F23: =CANTIDADES!H175 -> 5 | G23: =APUS!I404 -> 586812 | H23: =F23*G23 -> 2934060
C24: 2.13 | D24: Suministro e instalación salida de iluminación tubo metálico EMT 1/2" 2x12+12 AWG | E24: UND | F24: =CANTIDADES!H189 -> 20 | G24: =APUS!I449 -> 277641 | H24: =F24*G24 -> 5552820
C25: 2.14 | D25: Suministro e instalación salida de tomacorriente tubo metálico EMT 1/2" 2x12+12 AWG | E25: UND | F25: =CANTIDADES!H203 -> 25 | G25: =APUS!I490 -> 256766 | H25: =F25*G25 -> 6419150
C26: 2.15 | D26: Suministro e instalación salida de interruptor tubo metálico EMT 1/2" 2x12+12 AWG | E26: UND | F26: =CANTIDADES!H217 -> 10 | G26: =APUS!I528 -> 221786 | H26: =F26*G26 -> 2217860
C27: 2.16 | D27: Suministro e instalación luminaria panel LED RD 18W P24629 | E27: UND | F27: =CANTIDADES!H231 -> 20 | G27: =APUS!I562 -> 50370 | H27: =F27*G27 -> 1007400
C28: 2.17 | D28: Suministro e instalación interruptor sencillo 15A | E28: UND | F28: =CANTIDADES!H245 -> 10 | G28: =APUS!I594 -> 28037 | H28: =F28*G28 -> 280370
C29: 2.18 | D29: Suministro e instalación de tomacorriente doble 2P+T NEMA 5-15R | E29: UND | F29: =CANTIDADES!H259 -> 25 | G29: =APUS!I627 -> 41914 | H29: =F29*G29 -> 1047850
C30: 2.19 | D30: Suministro e instalación sistema de puesta a tierra para sistema fotovoltaico, incluye varilla CopperWeld 5/8"x2,4mt, accesorios para conexión, caja de inspección polimérica de 30cmx30cm, cable de cobre desnudo 1/0 AWG y componente para adecuación del terreno. | E30: UND | F30: =CANTIDADES!H273 -> 5 | G30: =APUS!I662 -> 1223048 | H30: =F30*G30 -> 6115240
E31: SUBTOTAL | H31: =SUM(H10:H30) -> 67449015
D32: VALOR TOTAL COSTO DIRECTO | H32: =SUM(H10:H30) -> 67449015
D33: ADMINISTRACION (27%) | H33: =H32*AIU!J9 -> 18461645
D34: IMPREVISTOS (2%) | H34: =AIU!I11 -> 1348980.3
D35: UTILIDAD (4%) | H35: =AIU!I10 -> 2697960.6
D36: VALOR TOTAL COSTO INDIRECTO | H36: =SUM(H33:H35) -> 22508586
D37: COSTO PROYECTO | H37: =H32+H33+H34+H35 -> 89957601
D38: VALOR TOTAL DEL PROYECTO | H38: =H37 -> 89957601
C40: Nota: Cada material presente en este presupuesto, contempla el transporte puesto en sitio de construcción del proyecto, calculado en el Analisis de Precios Unitarios, acorde a la distancia de donde se van a suministrar los insumos

Sheet APUS
C4: REPÚBLICA DE COLOMBIA
C5: DEPARTAMENTO DE NARIÑO | G5: ANÁLISIS DE PRECIOS UNITARIOS
C6: MUNICIPIO DE TUMACO
C8: ='PRES GEN'!C3 -> INSTALACIÓN E IMPLEMENTACIÓN DE 5 KITS SOLARES FOTOVOLTAICOS INDIVIDUALES EN INSTITUCIONES EDUCATIVAS DEL MUNICIPIO DE CUMBAL (RESGUARDO INDÍGENA SAN JUAN DE MAYASQUER) Y DEL MUNICIPIO DE TUMACO (ZONAS RURALES DE ALTO Y BAJO MIRA Y FRONTERA), DEPARTAMENTO DE NARIÑO.
C9: ='PRES GEN'!D9 -> ACTIVIDADES PRELIMINARES
C10: ITEM: | D10: ='PRES GEN'!D10 -> Localización y replanteo de componente eléctrico, incluye estudio de resistividad del terreno por medio del método Wenner, entregable valor de resistividad representativo del suelo | I10: =+'PRES GEN'!E10 -> UND
C11: ='PRES GEN'!C10 -> 1.1
C12: I. EQUIPO
C13: DESCRIPCION | F13: CANTIDAD | G13: TARIFA / DIA | H13: RENDIMIENTO | I13: VLR. PARCIAL
C14: ='LIST EQUIP'!D8 -> Telurometro | F14: 1 | G14: ='LIST EQUIP'!I8 -> 450000 | H14: 1 | I14: =G14/H14 -> 450000
H15: SUBTOTAL: | I15: =SUM(I14:I14) -> 450000
C16: II. MATERIALES
C17: DESCRIPCION | F17: UNIDAD | G17: CANTIDAD | H17: VLR UNITARIO | I17: VLR PARCIAL
H19: SUBTOTAL | I19: =SUM(I18) -> 0
C20: III. TRANSPORTE
C21: DESCRIPCION | D21: Vol-Pes- Cant. | F21: DISTANCIA | H21: TARIFA | I21: VLR. UNITARIO
C22: =TRANS!D7 -> TRANSPORTE VIA TERRESTRE | D22: - | F22: - | H22: - | I22: -
H23: SUBTOTAL | I23: =SUM(I22) -> 0
C24: IV. MANO DE OBRA
C25: Trabajador | D25: CANTIDAD | E25: Jornal | F25: Prestaciones | G25: Jornal Total | H25: Rendimiento | I25: Valor Unitario
C26: ='LIST M.O'!D12 -> Técnico electricista | D26: 1 | E26: =VLOOKUP(C26,'LIST M.O'!D9:I13,4,)*D26 -> 87545.25 | F26: =VLOOKUP(C26,'LIST M.O'!D9:I13,5,) -> 1.8784 | G26: =+E26*F26 -> 164445 | H26: 1 | I26: =+G26/H26 -> 164445
C27: ='LIST M.O'!D13 -> Auxiliar electricista | D27: 1 | E27: =VLOOKUP(C27,'LIST M.O'!D10:I14,4,)*D27 -> 75872.55 | F27: =VLOOKUP(C27,'LIST M.O'!D10:I14,5,) -> 1.8784 | G27: =+E27*F27 -> 142519 | H27: 1 | I27: =+G27/H27 -> 142519
H28: SUBTOTAL | I28: =SUM(I26:I27) -> 306964
C30: TOTAL COSTOS DIRECTOS | I30: =ROUND(I19+I28+I15+I23,0) -> 756964
C33: REPÚBLICA DE COLOMBIA
C34: DEPARTAMENTO DE NARIÑO | G34: ANÁLISIS DE PRECIOS UNITARIOS
C35: MUNICIPIO DE TUMACO
C37: =C8 -> INSTALACIÓN E IMPLEMENTACIÓN DE 5 KITS SOLARES FOTOVOLTAICOS INDIVIDUALES EN INSTITUCIONES EDUCATIVAS DEL MUNICIPIO DE CUMBAL (RESGUARDO INDÍGENA SAN JUAN DE MAYASQUER) Y DEL MUNICIPIO DE TUMACO (ZONAS RURALES DE ALTO Y BAJO MIRA Y FRONTERA), DEPARTAMENTO DE NARIÑO.
C38: ='PRES GEN'!D11 -> SISTEMA SOLAR FOTOVOLTAICO OFF-GRID
C39: ITEM: | D39: ='PRES GEN'!D12 -> Instalacion Panel solar monocristalino 500wp. Incluye accesorios para aterrizaje entre paneles | I39: =+'PRES GEN'!E12 -> UND
C40: ='PRES GEN'!C12 -> 2.1
C41: I. EQUIPO
C42: DESCRIPCION | F42: CANTIDAD | G42: TARIFA /DIA | H42: RENDIMIENTO | I42: VLR. PARCIAL
C43: Herramienta menor | H43: 0.05 | I43: =+I57 -> 149827.66
H44: SUBTOTAL: | I44: =SUM(I43:I43) -> 149827.66
C45: II. MATERIALES
C46: DESCRIPCION | F46: UNIDAD | G46: CANTIDAD | H46: VLR UNITARIO | I46: VLR PARCIAL
H48: SUBTOTAL | I48: =SUM(I47) -> 0
C49: III. TRANSPORTE
C50: DESCRIPCION | D50: Vol-Pes- Cant. | F50: DISTANCIA | H50: TARIFA | I50: VLR. UNITARIO
...

Sheet AIU
C3: =+'PRES GEN'!C3 -> INSTALACIÓN E IMPLEMENTACIÓN DE 5 KITS SOLARES FOTOVOLTAICOS INDIVIDUALES EN INSTITUCIONES EDUCATIVAS DEL MUNICIPIO DE CUMBAL (RESGUARDO INDÍGENA SAN JUAN DE MAYASQUER) Y DEL MUNICIPIO DE TUMACO (ZONAS RURALES DE ALTO Y BAJO MIRA Y FRONTERA), DEPARTAMENTO DE NARIÑO.
C5: DISCRIMINACION DETALLADA DEL AUI
H7: VALOR CONTRATO
C8: COSTO DIRECTO ESTIMADO DE OBRA (CD) | E8: =+'PRES GEN'!H32 -> 67449015 | H8: COSTO DIRECTO | I8: =E8 -> 67449015 | J8: =I8/I12 -> 0.74978672
C9: TERMINO ESTIMADO DE EJECUCIÓN DE OBRA | E9: 1 | G9: MESES | H9: A = | I9: =SUM(F33,I20,G44) -> 18461645 | J9: =I9/I8 -> 0.2737126 | N9: =H33+H44+J20 -> 0.2737126
H10: U = | I10: =J10*I8 -> 2697960.6 | J10: 0.04
H11: I = | I11: =J11*$I$8 -> 1348980.3 | J11: 0.02
C12: A. ADMINISTRACIÓN | H12: COSTO TOTAL | I12: =SUM(I8:I11) -> 89957601 | J12: =J9+J10+J11 -> 0.3337126 | N12: 90000000
C13: 1. COSTOS MENSUALES DE PERSONAL
C14: # | D14: CARGO | E14: MES | F14: DEDICACIÓN MES | G14: TOPE MÁXIMO SALARIO | H14: FACTOR PRESTACIONAL | I14: SALARIO MÁS PRESTACIONES | J14: SALARIO MÁS PRESTACIONES
C15: A | F15: B | G15: C | H15: D | I15: E = A * B * C * D* TIEMPO | J15: E = A * B * C * D
C16: 1.1 PERSONAL PROFESIONAL (Ingenieros y Otros)
C18: 1 | D18: Ingeniero Electricista | E18: 1 | F18: 0.5 | G18: =+SALARIOS!B11 -> 4377262.5 | H18: ='LIST M.O'!H11 -> 1.5948 | I18: =(C18*F18*G18*H18*$E$9) -> 3490429.1 | J18: =I18/$I$8 -> 0.051749149
C19: 1 | D19: ='LIST M.O'!D10 -> Profesional SST - HSEQ | E19: =+E18 -> 1 | F19: 0.5 | G19: =+SALARIOS!B11 -> 4377262.5 | H19: ='LIST M.O'!H10 -> 1.5948 | I19: =(C19*F19*G19*H19*$E$9) -> 3490429.1 | J19: =I19/$I$8 -> 0.051749149
I20: =SUM(I18:I19) -> 6980858.2 | J20: =SUM(J17:J19) -> 0.1034983
C22: 2. DOCUMENTOS DE LEGALIZACION
C23: COSTOS DE LEGALIZACION | E23: % SOBRE COSTO TOTAL | F23: VALOR SOBRE COSTO TOTAL | H23: % SOBRE COSTO DIRECTO
C25: ESTAMPILLA PRO DESARROLLO DEPARTAMENTAL | E25: 0.02 | F25: =E25*$N$12 -> 1800000 | H25: =F25/I8 -> 0.026686824
C26: ESTAMPILLA PRO CULTURA | E26: 0.02 | F26: =E26*$N$12 -> 1800000 | H26: =F26/I8 -> 0.026686824
C27: ESTAMPILLA PRO UNIVERSIDAD DE NARIÑO | E27: 0.005 | F27: =E27*$N$12 -> 450000 | H27: =F27/$I$8 -> 0.006671706
C28: IMPUESTO PRO DEPORTE Y RECREACION | E28: 0.02 | F28: =E28*$N$12 -> 1800000 | H28: =F28/$I$8 -> 0.026686824
C29: FONDO DE SEGURIDAD CIUDADANA | E29: 0.05 | F29: =E29*$N$12 -> 4500000 | H29: =F29/$I$8 -> 0.06671706
F33: =SUM(F25:G32) -> 10350000 | H33: =SUM(H25:H32) -> 0.15344924
C36: 3. OTROS | E36: CANTIDAD | F36: VALOR UNITARIO | G36: VALOR TOTAL | H36: % SOBRE COSTO DIRECTO
C37: Poliza de cumplimiento | E37: 1 | F37: =H37*I$8 -> 128153.13 | G37: =E37*F37 -> 128153.13 | H37: 0.0019
C38: Poliza de salarios y prestaciones sociales | E38: 1 | F38: =H38*I$8 -> 124919.27 | G38: =E38*F38 -> 124919.27 | H38: 0.0018520548
C39: Poliza de buen manejo del anticipo | E39: 1 | F39: =H39*I$8 -> 60704.113 | G39: =E39*F39 -> 60704.113 | H39: 0.0009
C40: Poliza de calidad de materiales | E40: 1 | F40: =H40*I$8 -> 33724.507 | G40: =E40*F40 -> 33724.507 | H40: 0.0005
C41: Poliza de Estabilidad de la Obra | E41: 1 | F41: =H41*I$8 -> 188857.24 | G41: =E41*F41 -> 188857.24 | H41: 0.0028
C42: Poliza de Responsabilidad Civil | E42: 1 | F42: =H42*I$8 -> 94428.621 | G42: =E42*F42 -> 94428.621 | H42: 0.0014
C43: Arriendo oficina/bodega | E43: =E9 -> 1 | F43: 500000 | G43: =+F43*E43 -> 500000 | H43: =+G43/I8 -> 0.0074130067
G44: =SUM(G37:G43) -> 1130786.9 | H44: =SUM(H37:H43) -> 0.016765061
C46: III. UTILIDAD
C47: UTILIDAD | H47: =J10 -> 0.04
C49: II. IMPREVISTOS
C50: IMPREVISTOS | H50: =J11 -> 0.02
G53: ADMINISTRACION | H53: =J9 -> 0.2737126
G54: UTILIDAD | H54: =H47 -> 0.04
G55: IMPREVISTOS | H55: =H50 -> 0.02
G56: TOTAL | H56: =SUM(H53:H55) -> 0.3337126

Sheet FP
C3: ='PRES GEN'!C3 -> INSTALACIÓN E IMPLEMENTACIÓN DE 5 KITS SOLARES FOTOVOLTAICOS INDIVIDUALES EN INSTITUCIONES EDUCATIVAS DEL MUNICIPIO DE CUMBAL (RESGUARDO INDÍGENA SAN JUAN DE MAYASQUER) Y DEL MUNICIPIO DE TUMACO (ZONAS RURALES DE ALTO Y BAJO MIRA Y FRONTERA), DEPARTAMENTO DE NARIÑO.
C7: FACTOR PRESTACIONAL
C9: ÍTEM | D9: DESCRIPCIÓN | F9: VALOR | G9: %
C11: 1 | D11: VALOR BASE (SUELDO)
C12: 1.01 | D12: SALARIO BASICO (NOMINA TOTAL MENSUAL) | F12: 100 | G12: %
C13: 1.02 | D13: Subsidio de Transporte | F13: 14.05 | G13: %
C14: SUBTOTAL | F14: =SUM(F12:F13) -> 114.05 | G14: %
C16: 2 | D16: PRESTACIONES SOCIALES
C17: 2.01 | D17: Cesantias | F17: 8.33 | G17: %
C18: =+C17+0.01 -> 2.02 | D18: Intereses sobre Cesantias | F18: 1 | G18: %
C19: =+C18+0.01 -> 2.03 | D19: Prima Anual | F19: 8.33 | G19: %
C20: =+C19+0.01 -> 2.04 | D20: Vacaciones | F20: 4.17 | G20: %
C21: SUBTOTAL | F21: =SUM(F17:F20) -> 21.83 | G21: %
C23: 3 | D23: SISTEMA DE SEGURIDAD INTEGRAL
C24: 3.01 | D24: Caja de Compensación | F24: 4 | G24: %
C25: =+C24+0.01 -> 3.02 | D25: SENA | F25: 2 | G25: %
C26: 3.03 | D26: Fondo I. de la construccion (3) | F26: 2.5 | G26: %
C27: 3.04 | D27: ICBF | F27: 3 | G27: %
C28: 3.05 | D28: Sistema de Seguridad Social: Salud | F28: 8.5 | G28: %
C29: =+C28+0.01 -> 3.06 | D29: Sistema de Seguridad Social: Pensión | F29: 12 | G29: %
C30: 3.07 | D30: ARL Personal en Obra | F30: 6.96 | G30: %
C31: SUBTOTAL | F31: =SUM(F24:F30) -> 38.96 | G31: %
C33: 4 | D33: GASTOS GENERALES
C34: 4.01 | D34: Dotacion | F34: 13 | G34: %
C36: SUBTOTAL | F36: =+F34 -> 13 | G36: %
C38: FACTOR PRESTACIONAL | F38: =(F14+F21+F31+F36)/100 -> 1.8784 | G38: %
C41: =+C3 -> INSTALACIÓN E IMPLEMENTACIÓN DE 5 KITS SOLARES FOTOVOLTAICOS INDIVIDUALES EN INSTITUCIONES EDUCATIVAS DEL MUNICIPIO DE CUMBAL (RESGUARDO INDÍGENA SAN JUAN DE MAYASQUER) Y DEL MUNICIPIO DE TUMACO (ZONAS RURALES DE ALTO Y BAJO MIRA Y FRONTERA), DEPARTAMENTO DE NARIÑO.
C45: FACTOR PRESTACIONAL MAYOR A 2 SALARIOS
C47: ÍTEM | D47: DESCRIPCIÓN | F47: VALOR | G47: %
C49: 1 | D49: VALOR BASE (SUELDO)
C50: 1.01 | D50: SALARIO BASICO (NOMINA TOTAL MENSUAL) | F50: 100 | G50: %
C51: SUBTOTAL | F51: =SUM(F50) -> 100 | G51: %
C53: 2 | D53: PRESTACIONES SOCIALES
C54: 2.01 | D54: Cesantias | F54: 8.33 | G54: %
C55: =+C54+0.01 -> 2.02 | D55: Intereses sobre Cesantias | F55: 1 | G55: %
C56: =+C55+0.01 -> 2.03 | D56: Prima Anual | F56: 8.33 | G56: %
C57: =+C56+0.01 -> 2.04 | D57: Vacaciones | F57: 4.17 | G57: %
C58: SUBTOTAL | F58: =SUM(F54:F57) -> 21.83 | G58: %
C60: 3 | D60: SISTEMA DE SEGURIDAD INTEGRAL
C61: 3.01 | D61: Caja de Compensación | F61: 4 | G61: %
...

Sheet CANTIDADES
C3: ='PRES GEN'!C3 -> INSTALACIÓN E IMPLEMENTACIÓN DE 5 KITS SOLARES FOTOVOLTAICOS INDIVIDUALES EN INSTITUCIONES EDUCATIVAS DEL MUNICIPIO DE CUMBAL (RESGUARDO INDÍGENA SAN JUAN DE MAYASQUER) Y DEL MUNICIPIO DE TUMACO (ZONAS RURALES DE ALTO Y BAJO MIRA Y FRONTERA), DEPARTAMENTO DE NARIÑO.
C5: CANTIDADES
C7: CAPITULO | D7: ='PRES GEN'!D11 -> SISTEMA SOLAR FOTOVOLTAICO OFF-GRID
C8: ITEM No: | D8: ='PRES GEN'!C12 -> 2.1
C9: DESCRIPCION: | D9: SUMINISTRO, TRANSPORTE E INSTALACION DE PANE SOLAR MONOCRISTALINO DE 500W INCLUYE ACCESORIOS DE CONEXIÓN Y ATERRIZAJE.
C10: UNIDAD: | D10: UND
C12: ITEM | D12: DESCRIPCION | G12: UND | H12: CANTIDAD
C13: 1 | D13: Paneles solares 500W para Institución Educativa Técnico Comercial San Juan de Mayasquer. | G13: UND | H13: 2
C14: 2 | D14: Paneles solares 500W para Institución Educativa Inmaculada Concepción de Tallambí. | G14: UND | H14: 2
C15: 3 | D15: Paneles solares 500W para Institución Educativa Caleta Viento Libre. | G15: UND | H15: 2
C16: 4 | D16: Paneles solares 500W para Institución Educativa El Cedral. | G16: UND | H16: 2
C17: 5 | D17: Paneles solares 500W para Institución Educativa Chinguito Mira. | G17: UND | H17: 2
C18: TOTAL | H18: =SUM(H13:H17) -> 10
C20: CANTIDADES
C21: CAPITULO | D21: =+'PRES GEN'!D11 -> SISTEMA SOLAR FOTOVOLTAICO OFF-GRID
C22: ITEM No: | D22: ='PRES GEN'!C13 -> 2.2
C23: DESCRIPCION: | D23: ='PRES GEN'!D13 -> Instalacion Controlador Carga SmartSolar MPPT 100/30 24V
C24: UNIDAD: | D24: UND
C26: ITEM | D26: DESCRIPCION | G26: UND | H26: CANTIDAD
C27: 1 | D27: Controlador de carga MPPT 100/30 24V para Institución Educativa Técnico Comercial San Juan de Mayasquer. | G27: UND | H27: 1
C28: 2 | D28: Controlador de carga MPPT 100/30 24V para Institución Educativa Inmaculada Concepción de Tallambí. | G28: UND | H28: 1
C29: 3 | D29: Controlador de carga MPPT 100/30 24V para Institución Educativa Caleta Viento Libre. | G29: UND | H29: 1
C30: 4 | D30: Controlador de carga MPPT 100/30 24V para Institución Educativa El Cedral. | G30: UND | H30: 1
C31: 5 | D31: Controlador de carga MPPT 100/30 24V para Institución Educativa Chinguito Mira. | G31: UND | H31: 1
C32: TOTAL | H32: =SUM(H27:H31) -> 5
C35: CANTIDADES
C36: CAPITULO | D36: ='PRES GEN'!D11 -> SISTEMA SOLAR FOTOVOLTAICO OFF-GRID
C37: ITEM No: | D37: ='PRES GEN'!C14 -> 2.3
C38: DESCRIPCION: | D38: ='PRES GEN'!D14 -> Instalacion Inversor Onda Pura 1000W 24V
C39: UNIDAD: | D39: UND
C41: ITEM | D41: DESCRIPCION | G41: UND | H41: CANTIDAD
C42: 1 | D42: Inversor Onda Pura 1000W 24V para Institución Educativa Técnico Comercial San Juan de Mayasquer. | G42: UND | H42: 1
C43: 2 | D43: Inversor Onda Pura 1000W 24V para Institución Educativa Inmaculada Concepción de Tallambí. | G43: UND | H43: 1
C44: 3 | D44: Inversor Onda Pura 1000W 24V para Institución Educativa Caleta Viento Libre. | G44: UND | H44: 1
C45: 4 | D45: Inversor Onda Pura 1000W 24V para Institución Educativa El Cedral. | G45: UND | H45: 1
C46: 5 | D46: Inversor Onda Pura 1000W 24V para Institución Educativa Chinguito Mira. | G46: UND | H46: 1
C47: TOTAL | H47: =SUM(H42:H46) -> 5
C49: CANTIDADES
C50: CAPITULO | D50: =+CANTIDADES!D21:H21 -> SISTEMA SOLAR FOTOVOLTAICO OFF-GRID
C51: ITEM No: | D51: ='PRES GEN'!C15 -> 2.4
...

Sheet EST MERCADO
C3: ='PRES GEN'!C3 -> INSTALACIÓN E IMPLEMENTACIÓN DE 5 KITS SOLARES FOTOVOLTAICOS INDIVIDUALES EN INSTITUCIONES EDUCATIVAS DEL MUNICIPIO DE CUMBAL (RESGUARDO INDÍGENA SAN JUAN DE MAYASQUER) Y DEL MUNICIPIO DE TUMACO (ZONAS RURALES DE ALTO Y BAJO MIRA Y FRONTERA), DEPARTAMENTO DE NARIÑO.
C5: ESTUDIO DE MERCADO
C6: No. | D6: Descripción | E6: UND | F6: COTIZACION 1 (CEIND INGENIERIA S.A.S) | G6: COTIZACION 2 (ECOSOLUCIONES S.A.S ) | H6: PRECIO
C7: 1 | D7: Coraza Metalica 3/4" | E7: UN | F7: 8100 | G7: 7900 | H7: =+AVERAGE(F7:G7) -> 8000
C8: 2 | D8: Terminal Recto Coraza Metalica 3/4" | E8: UN | F8: 7800 | G8: 8400 | H8: =+AVERAGE(F8:G8) -> 8100
C9: 3 | D9: Caja tipo rawelt 4x4 | E9: UN | F9: 26300 | G9: 25000 | H9: =+AVERAGE(F9:G9) -> 25650
C10: 4 | D10: Tapa Caja tipo rawelt 4x4 | E10: UN | F10: 6500 | G10: 5200 | H10: =+AVERAGE(F10:G10) -> 5850
C11: 5 | D11: Prensaestopa 1/2" | E11: UN | F11: 3220 | G11: 4100 | H11: =+AVERAGE(F11:G11) -> 3660
C12: 6 | D12: Cable tipo solar calibre 4 mm2 | E12: ML | F12: 5800 | G12: 6100 | H12: =+AVERAGE(F12:G12) -> 5950
C13: 7 | D13: Cable de CU desnudo 12AWG | E13: ML | F13: 2200 | G13: 2320 | H13: =+AVERAGE(F13:G13) -> 2260
C14: 8 | D14: Cable de cobre aislado Nº 4 AWG Tipo Soldador | E14: ML | F14: 23500 | G14: 21100 | H14: =+AVERAGE(F14:G14) -> 22300
C15: 9 | D15: Cable de cobre aislado Nº 8 AWG Tipo Soldador | E15: ML | F15: 12500 | G15: 13200 | H15: =+AVERAGE(F15:G15) -> 12850
C16: 10 | D16: Terminal tubular para cable solar fotovoltaico 4mm2 | E16: UN | F16: 1200 | G16: 1400 | H16: =+AVERAGE(F16:G16) -> 1300
C17: 11 | D17: Suministro de poste metalico 3" x 3m pintura electrostatica | E17: UN | F17: 1465000 | G17: 1612300 | H17: =+AVERAGE(F17:G17) -> 1538650
C18: 12 | D18: Bornera de conexiones aislada, 8 posiciones | E18: UN | F18: 11950 | G18: 12150 | H18: =+AVERAGE(F18:G18) -> 12050
... C57: 52 | D57: Molde Grafito Varilla A Cable 1/0 | E57: UN | F57: 164900 | G57: 164900 | H57: =+AVERAGE(F57:G57) -> 164900
H1104: #VALUE!

Sheet LIST M.O
C3: ='PRES GEN'!C3 -> INSTALACIÓN E IMPLEMENTACIÓN DE 5 KITS SOLARES FOTOVOLTAICOS INDIVIDUALES EN INSTITUCIONES EDUCATIVAS DEL MUNICIPIO DE CUMBAL (RESGUARDO INDÍGENA SAN JUAN DE MAYASQUER) Y DEL MUNICIPIO DE TUMACO (ZONAS RURALES DE ALTO Y BAJO MIRA Y FRONTERA), DEPARTAMENTO DE NARIÑO.
C5: LISTA MANO DE OBRA
D6: SMLMV (2026) | E6: 1750905
D7: SMLDV (2026) | E7: =+E6/30 -> 58363.5 | F7: 43400 | I7: 43400 | M7: =4631000/30 -> 154366.67
C8: No. | D8: Descripcion | E8: Tarifa | F8: Factor de Jornal 2026 | G8: Jornal | H8: Prestaciones | I8: Factor de Jornal 2026 | M8: =3345812/30 -> 111527.07
C9: 1 | D9: Director de obra | E9: dia | F9: 5 | G9: =F9*$E$7 -> 291817.5 | H9: =IF(I9<=2,FP!F$38,IF(I9>2,FP!$F$71,(FALSE))) -> 1.5948 | I9: =F9 -> 5 | J9: 1 | K9: =+G9*30 -> 8754525
C10: =1+C9 -> 2 | D10: Profesional SST - HSEQ | E10: dia | F10: 2.8 | G10: =F10*$E$7 -> 163417.8 | H10: =IF(I10<=2,FP!F$38,IF(I10>2,FP!$F$71,(FALSE))) -> 1.5948 | I10: =F10 -> 2.8 | J10: 1 | K10: =+G10*30 -> 4902534
C11: =1+C10 -> 3 | D11: Ingeniero electricista | E11: dia | F11: 3.515 | G11: =F11*$E$7 -> 205147.7 | H11: =IF(I11<=2,FP!F$38,IF(I11>2,FP!$F$71,(FALSE))) -> 1.5948 | I11: =F11 -> 3.515 | K11: =+G11*30 -> 6154431.1
C12: =1+C11 -> 4 | D12: Técnico electricista | E12: dia | F12: 1.5 | G12: =F12*$E$7 -> 87545.25 | H12: =IF(I12<=2,FP!F$38,IF(I12>2,FP!$F$71,(FALSE))) -> 1.8784 | I12: =F12 -> 1.5 | K12: =+G12*30 -> 2626357.5
C13: =1+C12 -> 5 | D13: Auxiliar electricista | E13: dia | F13: 1.3 | G13: =F13*$E$7 -> 75872.55 | H13: =IF(I13<=2,FP!F$38,IF(I13>2,FP!$F$71,(FALSE))) -> 1.8784 | I13: =F13 -> 1.3 | K13: =+G13*30 -> 2276176.5
C14: =1+C13 -> 6 | D14: Profesional ambiental | E14: dia | F14: 2.5 | G14: =F14*$E$7 -> 145908.75 | H14: =IF(I14<=2,FP!F$38,IF(I14>2,FP!$F$71,(FALSE))) -> 1.5948 | I14: =F14 -> 2.5 | K14: =+G14*30 -> 4377262.5

Sheet SALARIOS
A1: =+'LIST M.O'!C3 -> INSTALACIÓN E IMPLEMENTACIÓN DE 5 KITS SOLARES FOTOVOLTAICOS INDIVIDUALES EN INSTITUCIONES EDUCATIVAS DEL MUNICIPIO DE CUMBAL (RESGUARDO INDÍGENA SAN JUAN DE MAYASQUER) Y DEL MUNICIPIO DE TUMACO (ZONAS RURALES DE ALTO Y BAJO MIRA Y FRONTERA), DEPARTAMENTO DE NARIÑO.
A2: CATEGORIA | B2: SUELDO MÁXIMO | C2: EXPERIENCIA PROFESIONAL GENERAL EN AÑOS | D2: EXPERIENCIA PROFESIONAL ESPECIFICA EN AÑOS | E2: OBRA - CONSULTORIA
A3: 1 | B3: =B13*13 -> 22761765 | C3: Minimo 12 | D3: Minimo 10 | E3: (PROCESO ESPECIALIZADO)
A4: 2 | B4: =B13*11 -> 19259955 | C4: Minimo 10 | D4: Minimo 7 | E4: (PROCESO ESPECIALIZADO)
A5: 3 | B5: =B13*9 -> 15758145 | C5: Minimo 8 | D5: Minimo 5 | E5: (PROCESO ESPECIALIZADO)
A6: 4 | B6: =B13*7 -> 12256335 | C6: Minimo 6 | D6: Minimo 4 | E6: ESPECIALISTA - DIRECTOR (LICITACIÓN PUBLICA)
A7: 5 | B7: =B13*6 -> 10505430 | C7: Minimo 5 | D7: Minimo 3 | E7: PROFESIONAL DE CAMPO - RESIDENTE (LICITACIÓN PÚBLICA)
A8: 6 | B8: =B13*5 -> 8754525 | C8: Minimo 4 | D8: Minimo 1 | E8: ESPECIALISTA - DIRECTOR (SELECCIÓN ABREVIADA - CONCURSO DE MÉRITOS)
A9: 7 | B9: =B13*4 -> 7003620 | C9: Minimo 3 | D9: - | E9: PROFESIONAL DE CAMPO - RESIDENTE (SELECCIÓN ABREVIADA - CONCURSO DE MÉRITOS)
A10: 8 | B10: =B13*3 -> 5252715 | C10: Minimo 2 | D10: - | E10: ESPECIALISTA - DIRECTOR (MÍNIMA CUANTÍA)
A11: 9 | B11: =B13*2.5 -> 4377262.5 | C11: Hasta 2 | D11: - | E11: PROFESIONAL DE CAMPO - RESIDENTE (MÍNIMA CUANTÍA)
A12: 10 | B12: =B13*2 -> 3501810 | C12: - | D12: - | E12: PERSONAL TECNICO
A13: 11 | B13: 1750905 | C13: - | D13: - | E13: CADENEROS Y OTROS

Sheet Cronograma
B1: CRONOGRAMA DE ACTIVIDADES – DISCRIMINADO POR INSTITUCIÓN EDUCATIVA
B2: Instalación e Implementación de 5 Kits Solares Fotovoltaicos | Gobernación de Nariño | Plazo: 1 mes (30 días calendario)
B3: PROYECTO: Instalación de 5 kits solares fotovoltaicos en instituciones educativas del municipio de Cumbal y Distrito de Tumaco – Depto. de Nariño | H3: MES 1 – 30 DÍAS CALENDARIO
H4: SEMANA 1 (Días 1-7) | I4: SEMANA 2 (Días 8-14) | J4: SEMANA 3 (Días 15-21) | K4: SEMANA 4 (Días 22-30)
B5: No. | C5: Sede / Institución | D5: Descripción de la actividad | E5: Und. | F5: Valor C.D. ($) | G5: Valor + AIU ($) | H5: S1 | I5: S2 | J5: S3 | K5: S4
B6: PROCESO PRE-CONTRACTUAL
B7: KIT 1 – San Juan de Mayasquer – (Cumbal)
B8: 1 | D8: ACTIVIDADES PRELIMINARES
B9: 1.1 | C9: KIT 1 – San Juan de Mayasquer – (Cumbal) | D9: Localización y replanteo de componente eléctrico (incluye estudio de resistividad del terreno) | E9: UND | F9: $778.890 | G9: $989.190
B10: 2 | D10: SISTEMA SOLAR FOTOVOLTAICO OFF-GRID
B11: 2.1 | C11: KIT 1 – San Juan de Mayasquer – (Cumbal) | D11: Instalación Panel solar monocristalino 500 Wp. Incluye accesorios para aterrizaje entre paneles | E11: UND | F11: $619.550 | G11: $786.829
B12: 2.2 | C12: KIT 1 – San Juan de Mayasquer – (Cumbal) | D12: Instalación Controlador Carga SmartSolar MPPT 100/30 24V | E12: UND | F12: $215.753 | G12: $273.806
B13: 2.3 | C13: KIT 1 – San Juan de Mayasquer – (Cumbal) | D13: Instalación Inversor Onda Pura 1000W 24V | E13: UND | F13: $323.858 | G13: $411.300
B14: 2.4 | C14: KIT 1 – San Juan de Mayasquer – (Cumbal) | D14: Instalación Estructura para montaje de paneles fotovoltaicos, incluye estructura adicional para montaje en poste metálico, perfilería de aluminio con riel de 2,5m y accesorios | E14: UND | F14: $944.494 | G14: $1.199.507
B15: 2.5 | C15: KIT 1 – San Juan de Mayasquer – (Cumbal) | D15: Suministro e instalación de poste metálico 3" x 3m posicionamiento ajustable, pintura electrostática, incluye cimentación en concreto 50x50x60 cm | E15: UND | F15: $2.345.959 | G15: $2.979.368
B16: 2.6 | C16: KIT 1 – San Juan de Mayasquer – (Cumbal) | D16: Instalación Tablero de protecciones 8 ctos tipo riel, Paneles Solares FV, incluye protecciones 2x32A 2 Polos | E16: UND | F16: $161.507 | G16: $205.114
B17: 2.7 | C17: KIT 1 – San Juan de Mayasquer – (Cumbal) | D17: Instalación Cableado Paneles solares - Protecciones DC - Controlador, incluye protecciones DC 2x32A, conectores MC4 y accesorios de conexión | E17: UND | F17: $324.069 | G17: $411.568
B18: 2.8 | C18: KIT 1 – San Juan de Mayasquer – (Cumbal) | D18: Suministro e instalación Cableado Controlador - Batería 4AWG tipo soldador, Batería - inversor 8AWG tipo soldador | E18: UND | F18: $236.965 | G18: $300.945
B19: 2.9 | C19: KIT 1 – San Juan de Mayasquer – (Cumbal) | D19: Suministro e instalación Gabinete Metálico tipo Exterior 100x80x30cm, con separador soporte para baterías, incluye montaje accesorios equipos y protecciones DC. | E19: UND | F19: $2.308.279 | G19: $2.931.514
B20: 2.10 | C20: KIT 1 – San Juan de Mayasquer – (Cumbal) | D20: Instalación Batería tipo gel 12V - 150Ah | E20: UND | F20: $334.926 | G20: $425.356
B21: 2.11 | C21: KIT 1 – San Juan de Mayasquer – (Cumbal) | D21: Suministro e instalación Canalizaciones para cableado DC en coraza metálica 3/4", incluye accesorios. | E21: UND | F21: $218.802 | G21: $277.879
B22: 2.12 | C22: KIT 1 – San Juan de Mayasquer – (Cumbal) | D22: Suministro e instalación de Tablero de protecciones 8 ctos monofásico con tapa sin espacio para totalizador, incluye protecciones | E22: UND | F22: $585.636 | G22: $743.758
... B29: 2.19 | C29: KIT 1 – San Juan de Mayasquer – (Cumbal) | D29: Suministro e instalación sistema de puesta a tierra para sistema fotovoltaico, incluye varilla CopperWeld 5/8"x2,4mt, accesorios para conexión, caja de inspección polimérica de 30cmx30cm, cable de cobre desnudo 1/0 AWG y componente para adecuación del terreno. | E29: UND | F29: $1.222.791 | G29: $1.552.944
B31: KIT 2 – Inmaculada Concepción – de Tallambí (Cumbal)
B32: 1 | D32: ACTIVIDADES PRELIMINARES
B33: 1.1 | C33: KIT 2 – Inmaculada Concepción – de Tallambí (Cumbal) | D33: Localización y replanteo de componente eléctrico (incluye estudio de resistividad del terreno) | E33: UND | F33: $778.890 | G33: $989.190
B34: 2 | D34: SISTEMA SOLAR FOTOVOLTAICO OFF-GRID
B35: 2.1 | C35: KIT 2 – Inmaculada Concepción – de Tallambí (Cumbal) | D35: Instalación Panel solar monocristalino 500 Wp. Incluye accesorios para aterrizaje entre paneles | E35: UND | F35: $619.550 | G35: $786.829
B36: 2.2 | C36: KIT 2 – Inmaculada Concepción – de Tallambí (Cumbal) | D36: Instalación Controlador Carga SmartSolar MPPT 100/30 24V | E36: UND | F36: $215.753 | G36: $273.806
B37: 2.3 | C37: KIT 2 – Inmaculada Concepción – de Tallambí (Cumbal) | D37: Instalación Inversor Onda Pura 1000W 24V | E37: UND | F37: $323.858 | G37: $411.300
B38: 2.4 | C38: KIT 2 – Inmaculada Concepción – de Tallambí (Cumbal) | D38: Instalación Estructura para montaje de paneles fotovoltaicos, incluye estructura adicional para montaje en poste metálico, perfilería de aluminio con riel de 2,5m y accesorios | E38: UND | F38: $944.494 | G38: $1.199.507
B39: 2.5 | C39: KIT 2 – Inmaculada Concepción – de Tallambí (Cumbal) | D39: Suministro e instalación de poste metálico 3" x 3m posicionamiento ajustable, pintura electrostática, incluye cimentación en concreto 50x50x60 cm | E39: UND | F39: $2.345.959 | G39: $2.979.368
B40: 2.6 | C40: KIT 2 – Inmaculada Concepción – de Tallambí (Cumbal) | D40: Instalación Tablero de protecciones 8 ctos tipo riel, Paneles Solares FV, incluye protecciones 2x32A 2 Polos | E40: UND | F40: $161.507 | G40: $205.114
B41: 2.7 | C41: KIT 2 – Inmaculada Concepción – de Tallambí (Cumbal) | D41: Instalación Cableado Paneles solares - Protecciones DC - Controlador, incluye protecciones DC 2x32A, conectores MC4 y accesorios de conexión | E41: UND | F41: $324.069 | G41: $411.568
B42: 2.8 | C42: KIT 2 – Inmaculada Concepción – de Tallambí (Cumbal) | D42: Suministro e instalación Cableado Controlador - Batería 4AWG tipo soldador, Batería - inversor 8AWG tipo soldador | E42: UND | F42: $236.965 | G42: $300.945
B43: 2.9 | C43: KIT 2 – Inmaculada Concepción – de Tallambí (Cumbal) | D43: Suministro e instalación Gabinete Metálico tipo Exterior 100x80x30cm, con separador soporte para baterías, incluye montaje accesorios equipos y protecciones DC. | E43: UND | F43: $2.308.279 | G43: $2.931.514
B44: 2.10 | C44: KIT 2 – Inmaculada Concepción – de Tallambí (Cumbal) | D44: Instalación Batería tipo gel 12V - 150Ah | E44: UND | F44: $334.926 | G44: $425.356
B45: 2.11 | C45: KIT 2 – Inmaculada Concepción – de Tallambí (Cumbal) | D45: Suministro e instalación Canalizaciones para cableado DC en coraza metálica 3/4", incluye accesorios. | E45: UND | F45: $218.802 | G45: $277.879
B46: 2.12 | C46: KIT 2 – Inmaculada Concepción – de Tallambí (Cumbal) | D46: Suministro e instalación de Tablero de protecciones 8 ctos monofásico con tapa sin espacio para totalizador, incluye protecciones | E46: UND | F46: $585.636 | G46: $743.758
... B53: 2.19 | C53: KIT 2 – Inmaculada Concepción – de Tallambí (Cumbal) | D53: Suministro e instalación sistema de puesta a tierra para sistema fotovoltaico, incluye varilla CopperWeld 5/8"x2,4mt, accesorios para conexión, caja de inspección polimérica de 30cmx30cm, cable de cobre desnudo 1/0 AWG y componente para adecuación del terreno. | E53: UND | F53: $1.222.791 | G53: $1.552.944
...

Sheet TRANS
C3: =+'LIST EQUIP'!C2 -> INSTALACIÓN E IMPLEMENTACIÓN DE 5 KITS SOLARES FOTOVOLTAICOS INDIVIDUALES EN INSTITUCIONES EDUCATIVAS DEL MUNICIPIO DE CUMBAL (RESGUARDO INDÍGENA SAN JUAN DE MAYASQUER) Y DEL MUNICIPIO DE TUMACO (ZONAS RURALES DE ALTO Y BAJO MIRA Y FRONTERA), DEPARTAMENTO DE NARIÑO.
C5: DISTANCIAS DE ACARREO PROMEDIO PARA CADA MATERIAL
C6: ITEM | D6: DESCRIPCION DEL TRANSPORTE | E6: LUGAR | F6: DISTANCIA PROMEDIO DE ACARREO EN KM | H6: TARIFA $ | I6: UNIDAD
C7: 1 | D7: TRANSPORTE VIA TERRESTRE | E7: PASTO - TUMACO PASTO - IPIALES - CUMBAL | F7: 214.2 | G7: MIN TRANSPORTE 2026 | H7: 0.83 | I7: kg-km
C8: 1 | D8: TRANSPORTE ESPECIAL | E8: TUMACO - IE CALETA VIENTO LIBRE - IE EL CEDRAL - IE CHINGUIRITO MIRA CUMBAL - MAYASQUER - TALLAMBÍ | F8: 80.8 | H8: 2.4 | I8: kg-km
D10: DISTANCIA PASTO -TUMACO | F10: DISTANCIA PASTO - IPIALES - CUMBAL
D12: TUMACO - IE CALETA VIENTO LIBRE | F12: CUMBAL - MAYASQUER
D14: TUMACO - IE EL CEDRAL | F14: CUMBAL - TALLAMBÍ
D16: TUMACO - IE CHINGUIRITO MIRA
C48: JUSTIFICACIÓN DE LAS DISTANCIAS PRESUPUESTADAS (respuesta a observación)
C49: RUTA | D49: ORIGEN | E49: DESTINO (INSTITUCIÓN EDUCATIVA) | F49: TRAMO TERRESTRE (SEGÚN CAPTURA) | G49: TRAMO ESPECIAL (ACCESO FINAL)
C50: 1 | D50: Pasto | E50: IE Técnico Comercial San Juan de Mayasquer (Cumbal) | F50: Pasto - Ipiales - Cumbal: 117 km según captura Google Maps | G50: Trocha Cumbal - Mayasquer: 58 km
C51: 2 | D51: Pasto | E51: IE Inmaculada Concepción de Tallambí (Cumbal) | F51: Pasto - Ipiales - Cumbal: 117 km según captura Google Maps | G51: Trocha Cumbal - Tallambí: 38 km
C52: 3 | D52: Pasto | E52: IE Caleta Viento Libre (Tumaco) | F52: Pasto - Túquerres - Junín - Tumaco: 279 km | G52: Transporte marítimo desde Tumaco: 24 km
C53: 4 | D53: Pasto | E53: IE El Cedral (Tumaco) | F53: Pasto - Túquerres - Junín - Tumaco: 279 km | G53: Transporte fluvial por el río Patia: 46 km
C54: 5 | D54: Pasto | E54: IE Chinguirito Mira (Tumaco) | F54: Pasto - Túquerres - Junín - Tumaco: 279 km | G54: Transporte fluvial / Río Mira: 36 km
C56: Promedio transporte terrestre: (117 + 117 + 279 + 279 + 279) / 5 = 214,2 km (distancias de los corredores viales según capturas de Google Maps, origen Pasto).
C57: Promedio transporte especial: (58 + 38 + 24 + 46 + 36) / 5 = 40,4 km. Las distancias de los tramos de acceso final se obtuvieron mediante mediciones en Google Earth, con el fin de tener una idea de las posibles distancias de cada recorrido; al tratarse de mediciones en línea recta, la distancia real puede llegar a duplicarse, razón por la cual el promedio se duplicó: 40,4 km x 2 = 80,8 km.
C58: En consecuencia, el presupuesto adopta como distancias de acarreo: TRANSPORTE TERRESTRE 214,2 km y TRANSPORTE ESPECIAL 80,8 km, las mismas en todos los documentos del proceso (Estudios Previos, Anexo 1 - Estudio del Sector y Anexo 3 - Presupuesto Oficial).
C60: [ESPACIO RESERVADO: insertar capturas de los tramos de acceso final a cada institución educativa (origen y destino de cada recorrido) y actualizar la captura del corredor Pasto - Ipiales - Cumbal (117 km).]

Sheet Flujo Fondos
C3: F L U J O D E F O N D O S
C5: PROYECTO | F5: ='PRES GEN'!C3 -> INSTALACIÓN E IMPLEMENTACIÓN DE 5 KITS SOLARES FOTOVOLTAICOS INDIVIDUALES EN INSTITUCIONES EDUCATIVAS DEL MUNICIPIO DE CUMBAL (RESGUARDO INDÍGENA SAN JUAN DE MAYASQUER) Y DEL MUNICIPIO DE TUMACO (ZONAS RURALES DE ALTO Y BAJO MIRA Y FRONTERA), DEPARTAMENTO DE NARIÑO.
C8: No | D8: DESCRIPCION | E8: Unidad | F8: Gasto en $ | G8: Porcentaje | H8: MES 1 | L8: FIN DE EJECUCIÓN FISICA A 31 DE DICIEMBRE DE 2025 | P8: MES 3
H10: S1 | I10: S2 | J10: S3 | K10: S4 | P10: S9 | Q10: S10 | R10: S7 | S10: S8
D11: PROCESO PRE CONTRACTUAL
C12: ='PRES GEN'!C9 -> 1 | D12: ='PRES GEN'!D9 -> ACTIVIDADES PRELIMINARES | F12: =+F13 -> 3784820 | G12: =+G13 -> #REF!
C13: ='PRES GEN'!C10 -> 1.1 | D13: Localizacion y replanteo | E13: ='PRES GEN'!E10 -> UND | F13: ='PRES GEN'!H10 -> 3784820 | G13: =+F13/$F$29 -> #REF! | L13: =+F13 -> 3784820
C14: ='PRES GEN'!C11 -> 2 | D14: ='PRES GEN'!D11 -> SISTEMA SOLAR FOTOVOLTAICO OFF-GRID | F14: =+SUM(F15:F24) -> 36725945 | G14: =SUM(G15:G24) -> #REF!
C15: ='PRES GEN'!C12 -> 2.1 | D15: ='PRES GEN'!D12 -> Instalacion Panel solar monocristalino 500wp. Incluye accesorios para aterrizaje entre paneles | E15: ='PRES GEN'!E12 -> UND | F15: ='PRES GEN'!H12 -> 2996550 | G15: =+F15/$F$29 -> #REF! | M15: =F15/3 -> 998850 | N15: =F15/3 -> 998850 | O15: =F15/3 -> 998850
C16: ='PRES GEN'!C13 -> 2.2 | D16: ='PRES GEN'!D13 -> Instalacion Controlador Carga SmartSolar MPPT 100/30 24V | E16: ='PRES GEN'!E13 -> UND | F16: ='PRES GEN'!H13 -> 1074375 | G16: =+F16/$F$29 -> #REF! | M16: =F16/3 -> 358125 | N16: =F16/3 -> 358125 | O16: =F16/3 -> 358125
C17: ='PRES GEN'!C15 -> 2.4 | D17: ='PRES GEN'!D15 -> Instalacion Estructura para montaje de paneles fotovoltaicos, incluye estructura adicional para montaje en poste metalico, perfilería de aluminio con riel de 2,5m y accesorios | E17: ='PRES GEN'!E15 -> UND | F17: ='PRES GEN'!H15 -> 4719570 | G17: =+F17/$F$29 -> #REF! | M17: =F17/3 -> 1573190 | N17: =F17/3 -> 1573190 | O17: =F17/3 -> 1573190
C18: ='PRES GEN'!C18 -> 2.7 | D18: ='PRES GEN'!D18 -> Instalacion Cableado Paneles solares - Protecciones DC - Controlador, incluye protecciones DC 2x32A, conectores MC4 y accesorios de conexión | E18: ='PRES GEN'!E18 -> UND | F18: ='PRES GEN'!H18 -> 805780 | G18: =+F18/$F$29 -> #REF! | M18: =F18/3 -> 268593.33 | N18: =F18/3 -> 268593.33 | O18: =F18/3 -> 268593.33
C19: ='PRES GEN'!C19 -> 2.8 | D19: ='PRES GEN'!D19 -> Suministro e instalacion Cableado Controlador - Bateria 4AWG tipo soldador, Bateria - inversor 8AWG tipo soldador | E19: ='PRES GEN'!E19 -> UND | F19: ='PRES GEN'!H19 -> 1208530 | G19: =+F19/$F$29 -> #REF! | M19: =F19/3 -> 402843.33 | N19: =F19/3 -> 402843.33 | O19: =F19/3 -> 402843.33
C20: ='PRES GEN'!C20 -> 2.9 | D20: ='PRES GEN'!D20 -> Suministro e instalacion Gabinete Metalico tipo Exterior 100x80x30cm, con separador soporte para baterias, incluye montaje accesorios equipos y protecciones DC. | E20: ='PRES GEN'!E20 -> UND | F20: ='PRES GEN'!H20 -> 11541630 | G20: =+F20/$F$29 -> #REF! | O20: =F20 -> 11541630
C21: ='PRES GEN'!C21 -> 2.10 | D21: ='PRES GEN'!D21 -> Instalacion Bateria tipo gel 12V - 150Ah | E21: ='PRES GEN'!E21 -> UND | F21: ='PRES GEN'!H21 -> 1611560 | G21: =+F21/$F$29 -> #REF! | O21: =F21 -> 1611560
C22: ='PRES GEN'!C22 -> 2.11 | D22: ='PRES GEN'!D22 -> Suministro e instalacion Canalizaciones para cableado DC en coraza metalica 3/4", incluye accesorios. | E22: ='PRES GEN'!E22 -> UND | F22: ='PRES GEN'!H22 -> 1099890 | G22: =+F22/$F$29 -> #REF! | O22: =F22 -> 1099890
C23: ='PRES GEN'!C24 -> 2.13 | D23: ='PRES GEN'!D24 -> Suministro e instalación salida de iluminación tubo metálico EMT 1/2" 2x12+12 AWG | E23: ='PRES GEN'!E24 -> UND | F23: ='PRES GEN'!H24 -> 5552820 | G23: =+F23/$F$29 -> #REF! | O23: =F23 -> 5552820
C24: ='PRES GEN'!C30 -> 2.19 | D24: ='PRES GEN'!D30 -> Suministro e instalación sistema de puesta a tierra para sistema fotovoltaico, incluye varilla CopperWeld 5/8"x2,4mt, accesorios para conexión, caja de inspección polimérica de 30cmx30cm, cable de cobre desnudo 1/0 AWG y componente para adecuación del terreno. | E24: ='PRES GEN'!E30 -> UND | F24: ='PRES GEN'!H30 -> 6115240 | G24: =+F24/$F$29 -> #REF! | O24: =F24 -> 6115240
C25: ='PRES GEN'!#REF! -> #REF! | D25: ='PRES GEN'!#REF! -> #REF! | F25: =+F26 -> #REF! | G25: =+G26 -> #REF!
C26: ='PRES GEN'!#REF! -> #REF! | D26: ='PRES GEN'!#REF! -> #REF! | E26: ='PRES GEN'!#REF! -> #REF! | F26: ='PRES GEN'!#REF! -> #REF! | G26: =+F26/$F$29 -> #REF! | O26: =F26 -> #REF!
C27: ='PRES GEN'!#REF! -> #REF! | D27: ='PRES GEN'!#REF! -> #REF! | F27: =+ROUND(SUM(F28),0) -> #REF! | G27: =SUM(G28) -> #REF!
C28: ='PRES GEN'!#REF! -> #REF! | D28: ='PRES GEN'!#REF! -> #REF! | E28: ='PRES GEN'!#REF! -> #REF! | F28: ='PRES GEN'!#REF! -> #REF! | G28: =+F28/$F$29 -> #REF! | O28: =F28 -> #REF!
D29: COSTOS DIRECTOS | F29: =+F27+F25+F14+F12 -> #REF! | G29: =G12+G14+G25+G27 -> #REF!
C30: 5 | D30: PLAN DE GESTIÓN INTEGRAL | F30: =+'PRES GEN'!#REF! -> #REF! | L30: =+$F$30/4 -> #REF! | M30: =+$F$30/4 -> #REF! | N30: =+$F$30/4 -> #REF! | O30: =+$F$30/4 -> #REF!
D31: PROCESO DE LIQUIDACIÓN
C33: Porcentaje de flujo de caja mensual | L33: =L35/$F$29 -> #REF! | M33: =M35/$F$29 -> #REF! | N33: =N35/$F$29 -> #REF! | O33: =O35/$F$29 -> #REF!
C34: Porcentaje de flujo de caja mensual acumulado | L34: =+L33 -> #REF! | M34: =+M33+L34 -> #REF! | N34: =+N33+M34 -> #REF! | O34: =+O33+N34 -> #REF!
C35: Valor semanal costos directos | L35: =(SUM(L13:L28)) -> 3784820 | M35: =(SUM(M13:M28)) -> 3601601.7 | N35: =(SUM(N13:N28)) -> 3601601.7 | O35: =(SUM(O13:O28)) -> #REF!
C36: ='PRES GEN'!#REF! -> #REF! | L36: =+$F$45/4 -> #REF! | M36: =+L36 -> #REF! | N36: =+M36 -> #REF! | O36: =+N36 -> #REF!
C37: Valor en pesos del flujo de caja mensual + A.U.I | L37: =(SUM(L35:O35)*1.32) -> #REF!
C38: Valor total | L38: =+L37+F30+L36+M36+N36+O36 -> #REF!
D39: Elaboró:
D45: =C36 -> #REF! | F45: ='PRES GEN'!#REF! -> #REF!

Sheet APUS PGIO
A1: ANÁLISIS DE PRECIOS UNITARIOS PGIO
B5: Capitulo | C5: =#REF! -> #REF!
B7: Item | C7: =#REF! -> #REF!
B9: CAPITULO: | C9: =#REF! -> #REF! | D9: ITEM: | E9: =#REF! -> #REF! | G9: UNIDAD: | H9: =#REF! -> #REF!
B11: I. EQUIPO
B12: Descripción | D12: Unidad | E12: Tarifa | F12: Rendimiento | G12: Valor-Parcial | H12: Valor Total
G18: Sub-Total | H18: =SUM(G13:G17) -> 0
B20: II. MATERIALES
B21: Descripción | D21: Unidad | E21: Valor-Unit. | F21: Cantidad | G21: Valor-Parcial | H21: Valor Total
B22: ='Materiales PGIO'!C8 -> Plástico 4 X $ Claibre 6 X 100 M | D22: ML | E22: {='Materiales PGIO'!F8:F9/100} -> 5224.57 | F22: 1 | G22: =E22*F22 -> 5224.57
E23: 0
G28: Sub-Total | H28: =SUM(G22:G27) -> 5224.57
B30: III. TRANSPORTES
B31: Material | C31: Vol. Peso o cant. | D31: Distancia | F31: Tarifa | G31: Valor-Parcial | H31: Valor Total
B32: TRANSPORTE VIA TERRESTRE | C32: =0.4*100 -> 40 | D32: =TRANS!F7 -> 214.2 | F32: =TRANS!H7 -> 0.83 | G32: =C32*D32*F32 -> 7111.44
G33: =E33*F33 -> 0
G34: =E34*F34 -> 0
G35: Sub-Total | H35: =SUM(G32:G34) -> 7111.44
B37: IV. MANO DE OBRA
B38: Trabajador | C38: Jornal | D38: Prestaciones | E38: Jornal Total | F38: Rendimiento | G38: Valor-Parcial | H38: Valor Total
B39: ='LIST M.O'!D13 -> Auxiliar electricista | C39: ='LIST M.O'!H13 -> 1.8784 | D39: ='LIST M.O'!G13 -> 75872.55 | E39: =C39*D39 -> 142519 | F39: 200 | G39: =+E39/F39 -> 712.59499
G43: Sub-Total | H43: =SUM(G39:G42) -> 712.59499
E45: TOTAL COSTO DIRECTO A.P.U. | H45: =ROUND(H18+H28+H35+H43,0) -> 13049
B48: Capitulo | C48: =#REF! -> #REF!
B50: Item | C50: =#REF! -> #REF!
B52: CAPITULO: | C52: =#REF! -> #REF! | D52: ITEM: | E52: =#REF! -> #REF! | G52: UNIDAD: | H52: =#REF! -> #REF!
B54: I. EQUIPO
B55: Descripción | D55: Unidad | E55: Tarifa | F55: Rendimiento | G55: Valor-Parcial | H55: Valor Total
G61: Sub-Total | H61: =SUM(G56:G60) -> 0
B63: II. MATERIALES
B64: Descripción | D64: Unidad | E64: Valor-Unit. | F64: Cantidad | G64: Valor-Parcial | H64: Valor Total
B65: ='Materiales PGIO'!C10 -> Punto Ecologico (3 canecas de colores de 55 Litros) | D65: ='Materiales PGIO'!D10 -> UND | E65: {='Materiales PGIO'!G10:G11} -> 338900 | F65: 1 | G65: =E65*F65 -> 338900
E66: 0
G71: Sub-Total | H71: =SUM(G65:G70) -> 338900
B73: III. TRANSPORTES
B74: Material | C74: Vol. Peso o cant. | D74: Distancia | F74: Tarifa | G74: Valor-Parcial | H74: Valor Total
B75: TRANSPORTE VIA TERRESTRE | C75: 65 | D75: =TRANS!F7 -> 214.2 | F75: =TRANS!H7 -> 0.83 | G75: =C75*D75*F75 -> 11556.09
G76: =E76*F76 -> 0
G77: =E77*F77 -> 0
G78: Sub-Total | H78: =SUM(G75:G77) -> 11556.09
...

Sheet Materiales PGIO
C3: ='PRES GEN'!C3 -> INSTALACIÓN E IMPLEMENTACIÓN DE 5 KITS SOLARES FOTOVOLTAICOS INDIVIDUALES EN INSTITUCIONES EDUCATIVAS DEL MUNICIPIO DE CUMBAL (RESGUARDO INDÍGENA SAN JUAN DE MAYASQUER) Y DEL MUNICIPIO DE TUMACO (ZONAS RURALES DE ALTO Y BAJO MIRA Y FRONTERA), DEPARTAMENTO DE NARIÑO.
C5: MATERIALES Y EQUIPOS Plan de Gestión Integral en Obra (PGIO)
C7: Descripción | D7: U. M. | E7: CANTIDAD | F7: Valor Unitario | G7: Valor Total | H7: Link verificación
C8: Plástico 4 X $ Claibre 6 X 100 M | D8: UND | E8: 1 | F8: 522457 | G8: =E8*F8 -> 522457 | H8: https://www.ferragro.com/products/plastico-negro-c-6-2-a-4mt-rll-x-100mts?srsltid=AfmBOoqECXkh5yd91CYV7vXmNzImbxUl3oIRFMltoWra0gMW-6a4XdVU
H9: https://desierto.co/productos-desierto/plastico-negro-calibre-6/
C10: Punto Ecologico (3 canecas de colores de 55 Litros) | D10: UND | E10: 1 | F10: 338900 | G10: =E10*F10 -> 338900 | H10: https://www.homecenter.com.co/homecenter-co/product/739245/punto-ecologico-55-litros/739245/
H11: https://www.mercadolibre.com.co/punto-ecologico-de-55-ltrs-de-3-puestos-con-estructura/up/MCOU2416425767?pdp_filters=item_id%3AMCO1669436810&from=gshop&matt_tool=96484171&matt_word=&matt_source=google&matt_campaign_id=22126928537&matt_ad_group_id=171342869657&matt_match_type=&matt_network=g&matt_device=c&matt_creative=729836840140&matt_keyword=&matt_ad_position=&matt_ad_type=pla&matt_merchant_id=134802430&matt_product_id=MCOU2416425767&matt_product_partition_id=2417611461284&matt_target_id=aud-1944942585055:pla-2417611461284&cq_src=google_ads&cq_cmp=22126928537&cq_net=g&cq_plt=gp&cq_med=pla&gad_source=1&gad_campaignid=22126928537&gbraid=0AAAAAD1DcowgE3iJqZ7cKM-0MgbM2x9dU&gclid=CjwKCAjw0sfHBhB6EiwAQtv5qaeiUZkL3btBSmNeDOCmRTdoBv26hzN2qSTLogIiC7IaQ0c9so5CshoCztcQAvD_BwE
C12: KIT de Botiquín Tipo B con Camilla + Señal Acrilica | D12: UND | E12: 1 | F12: 850000 | G12: =E12*F12 -> 850000 | H12: https://ortopedicosdisalud.com/producto/kit-de-botiquin-tipo-b-con-camilla/
H13: https://dotacionesadomicilio.com/producto/botiquin-tipo-b-con-camilla/?srsltid=AfmBOorbxTG3Gd8wrQRURAIw6acGs75CibA-Hqc30iSSWD7csTUkFRLU
C14: Extintor 10 Libras Multiproposito + Señal acrilica | D14: UND | E14: 1 | F14: 76800 | G14: =E14*F14 -> 76800 | H14: https://articulo.mercadolibre.com.co/MCO-2683537060-extintor-abc-multiproposito-10-libras-incluye-senalygancho-_JM?matt_tool=96484171&matt_word=&matt_source=google&matt_campaign_id=22126928537&matt_ad_group_id=171342869737&matt_match_type=&matt_network=g&matt_device=c&matt_creative=729836840146&matt_keyword=&matt_ad_position=&matt_ad_type=pla&matt_merchant_id=5571221739&matt_product_id=MCO2683537060&matt_product_partition_id=2417611461484&matt_target_id=aud-1944942585055:pla-2417611461484&cq_src=google_ads&cq_cmp=22126928537&cq_net=g&cq_plt=gp&cq_med=pla&gad_source=1&gad_campaignid=22126928537&gbraid=0AAAAAD1DcowgE3iJqZ7cKM-0MgbM2x9dU&gclid=CjwKCAjw0sfHBhB6EiwAQtv5qcb3kyUs20UNHoos7EzWvaJCtTWvzCb91iFMRXwLbx9DYe0ZA2kNmBoCzi0QAvD_BwE
H15: https://www.mercadolibre.com.co/abc-multiproposito-10-libras--senal--soporte-pedestal/up/MCOU2412399591?pdp_filters=item_id%3AMCO1462312087&from=gshop&matt_tool=96484171&matt_word=&matt_source=google&matt_campaign_id=22126928537&matt_ad_group_id=171342870417&matt_match_type=&matt_network=g&matt_device=c&matt_creative=729836840290&matt_keyword=&matt_ad_position=&matt_ad_type=pla&matt_merchant_id=5388146008&matt_product_id=MCOU2412399591&matt_product_partition_id=2388008876146&matt_target_id=aud-1944942585055:pla-2388008876146&cq_src=google_ads&cq_cmp=22126928537&cq_net=g&cq_plt=gp&cq_med=pla&gad_source=1&gad_campaignid=22126928537&gbraid=0AAAAAD1DcowgE3iJqZ7cKM-0MgbM2x9dU&gclid=CjwKCAjw0sfHBhB6EiwAQtv5qekVix_wmmYawsY4NBGAW2bVIe0inDuTH8HiMaSt-3Pt7hkQ4SPhaBoCricQAvD_BwE
C16: Señal Acrilica Riesgo Eléctrico | D16: UND | E16: 1 | F16: 13900 | G16: =E16*F16 -> 13900 | H16: https://www.homecenter.com.co/homecenter-co/product/120034/senal-riesgo-electrico-22x15cm/120034/
C17: Señal Acrilica Área Restringida | D17: UND | E17: 1 | F17: 20900 | G17: =E17*F17 -> 20900 | H17: https://www.homecenter.com.co/homecenter-co/product/120013/senal-area-restringida-22x15cm/120013/
C18: Cinta Peligro Amarilla | D18: UND | E18: 1 | F18: 68900 | G18: =E18*F18 -> 68900 | H18: https://www.homecenter.com.co/homecenter-co/product/793225/cinta-peligro-amarilla-x-305m-ferrawyy/793225/
H19: https://interelectricas.com.co/97-cinta-peligro
C20: Poste Señalizador Trafico 1.4 m Base Caucho | D20: UND | E20: 4 | F20: 79900 | G20: =E20*F20 -> 319600 | H20: https://www.homecenter.com.co/homecenter-co/product/664686/senalizador-trafico-14-m-base-caucho/664686/
H21: https://dondotacion.com/senalizador-vial-base-negra/

Sheet Viaticos Personal
C3: ='PRES GEN'!C3 -> INSTALACIÓN E IMPLEMENTACIÓN DE 5 KITS SOLARES FOTOVOLTAICOS INDIVIDUALES EN INSTITUCIONES EDUCATIVAS DEL MUNICIPIO DE CUMBAL (RESGUARDO INDÍGENA SAN JUAN DE MAYASQUER) Y DEL MUNICIPIO DE TUMACO (ZONAS RURALES DE ALTO Y BAJO MIRA Y FRONTERA), DEPARTAMENTO DE NARIÑO.
C5: VIATICOS 3 PERSONAS (Director de Obra, Ingeniero Electricista y Profesional SST - HSEQ)
C7: Descripción | D7: U. M. | E7: CANTIDAD | F7: Valor Unitario | G7: Valor Total | H7: Observaciones
C8: Transporte Pasto - Tumaco | D8: UND | E8: =3*(2*2) -> 12 | F8: 80000 | G8: =E8*F8 -> 960000 | H8: Transporte de 3 personas ida y vuleta desde Pasto hasta Tumaco y Tumaco a Pasto, se realizan tres viajes en el proceso constructivo
G11: =SUM(G8:G10) -> 960000

Sheet OTROS
C3: ='PRES GEN'!C3 -> INSTALACIÓN E IMPLEMENTACIÓN DE 5 KITS SOLARES FOTOVOLTAICOS INDIVIDUALES EN INSTITUCIONES EDUCATIVAS DEL MUNICIPIO DE CUMBAL (RESGUARDO INDÍGENA SAN JUAN DE MAYASQUER) Y DEL MUNICIPIO DE TUMACO (ZONAS RURALES DE ALTO Y BAJO MIRA Y FRONTERA), DEPARTAMENTO DE NARIÑO.
C7: TRANSPORTE Y ENSAYOS
E8: COSTO (15) | F8: CANTIDAD (16) | G8: TIEMPO DE | H8: VALOR
C9: CONCEPTO | D9: UNIDAD | G9: UTILIZACIÓN | H9: PARCIAL
G10: TOTAL (17) | H10: (15) * (16) * (17) = (18)
C11: 3. TRANSPORTE Y VIÁTICOS
C12: 3.1 TRANSPORTE
C13: Otros Transportes (Vehiculos, Lancha, Mula) | D13: Dia | E13: 0 | F13: 0 | G13: 0 | H13: =E13*F13*G13 -> 0
C14: 3.2 VIATICOS
C15: Director Interventoria | D15: Dia | E15: 100000 | F15: 4 | G15: =AIU!E9 -> 1 | H15: =E15*F15*G15 -> 400000
C16: Especialistas y Otros Profesionales | D16: Dia | E16: =+E15 -> 100000 | F16: 4 | G16: =AIU!E9 -> 1 | H16: =E16*F16*G16 -> 400000
C18: SUBTOTAL COSTOS TRANSPORTE Y VIÁTICOS = SUMATORIA DE (18) = (19) | H18: =SUM(H13:H16) -> 800000
C19: PORCENTAJE COSTOS TRANSPORTE Y VIÁTICOS = ((19) / (6))X100 = (20) | H19: 0.12553509
C20: 4. LABORATORIOS PARA GEOTÉCNIA
C21: 4.1 COMISIÓN LABORATORIO DE SUELOS
C22: Comision de Laboratorio de Suelos (Incluye Laboratorista, Auxiliar, Transporte y Viáticos | D22: Dia | E22: 0 | F22: 0 | G22: 0 | H22: =E22*F22*G22 -> 0
C23: 4.2 PERFORACIONES Y APIQUES
C24: Apiques | D24: Unidad | E24: 0 | F24: 0 | G24: 0 | H24: =E24*F24*G24 -> 0
C25: 4.3 ENSAYOS DE LABORATORIO
C26: Análisis granulométrico de los agregados | D26: Unidad | E26: =AIU!F40 -> 33724.507 | F26: =AIU!E40 -> 1 | G26: 1 | H26: =E26*F26*G26 -> 33724.507
C27: Resistencia a la compresión cilindros de concreto | D27: Unidad | E27: =AIU!F38 -> 124919.27 | F27: =AIU!E38 -> 1 | G27: 1 | H27: =E27*F27*G27 -> 124919.27
C28: Ensayo de vigas | D28: Unidad | E28: =AIU!F43 -> 500000 | F28: =AIU!E43 -> 1 | G28: 1 | H28: =E28*F28*G28 -> 500000
C29: Proctor modificado | D29: Unidad | E29: =AIU!#REF! -> #REF! | F29: =AIU!#REF! -> #REF! | G29: 1 | H29: =E29*F29*G29 -> #REF!
C31: SUBTOTAL COSTOS LABORATORIOS PARA GEOTÉCNIA= SUMATORIA DE (18) = (21) | H31: =SUM(H22:H29) -> #REF!
C32: PORCENTAJE COSTOS LABORATORIOS PARA GEOTÉCNIA = ((21) / (6))X100 = (22) | H32: 0
