Workbook
Name CATEG: [1]Personal!$A$5:$A$12
Name DIRECTOS: '[1]Costos Directos (Base)'!$B$6:$B$27
Name PERSONAL: '[1]Costos Personal (Base)'!$B$6:$B$136

Sheet PPTO
B6: CANT. | C6: CARGO / OFICIO | D6: PORCENTAJE DE DEDICACIÓN | E6: COSTO MENSUAL | F6: COSTO DIARIO | G6: NÚMERO DE DÍAS | H6: FACTOR MULTIPLICADOR | I6: VALOR PARCIAL ($)
B7: COSTOS DIRECTOS DE PERSONAL
B8: PERSONAL PROFESIONAL
B9: 1 | C9: Director del Proyecto | D9: 0.5 | F9: =+E9/30 -> 0 | G9: 240 | H9: =F.M!C48 -> 2.393918 | I9: =ROUND(G9*F9*D9*H9,0) -> 0
B10: 1 | C10: Profesional Administrativo | D10: 1 | F10: =+E10/30 -> 0 | G10: 240 | H10: =F.M!C48 -> 2.393918 | I10: =ROUND(G10*F10*D10*H10,0) -> 0
B11: 1 | C11: Profesional jurídico | D11: 0.5 | F11: =+E11/30 -> 0 | G11: 240 | H11: =F.M!C48 -> 2.393918 | I11: =ROUND(G11*F11*D11*H11,0) -> 0
B12: 1 | C12: Profesional Contable | D12: 0.5 | F12: =+E12/30 -> 0 | G12: 240 | H12: =F.M!C48 -> 2.393918 | I12: =ROUND(G12*F12*D12*H12,0) -> 0
B13: 1 | C13: Profesional Financiero | D13: 0.5 | F13: =+E13/30 -> 0 | G13: 240 | H13: =F.M!C48 -> 2.393918 | I13: =ROUND(G13*F13*D13*H13,0) -> 0
B14: 1 | C14: Auxiliar Operativo | D14: 1 | F14: =+E14/30 -> 0 | G14: 240 | H14: =F.M!C48 -> 2.393918 | I14: =ROUND(G14*F14*D14*H14,0) -> 0
B15: 1 | C15: Auxiliar Administrativo | D15: 1 | F15: =+E15/30 -> 0 | G15: 240 | H15: =F.M!C48 -> 2.393918 | I15: =ROUND(G15*F15*D15*H15,0) -> 0
B16: SUBTOTAL COSTOS DE PERSONAL | I16: =SUM(I9:I14)+SUM(I15) -> 0
B17: CANT. | C17: CONCEPTO | E17: COSTO MENSUAL | F17: COSTO DIARIO | G17: NÚMERO DE DÍAS | I17: VALOR PARCIAL ($)
B18: OTROS COSTOS DIRECTOS
B19: COSTOS DIRECTOS
B20: 1 | C20: Alquiler de Vehiculo (Campero, Pick-Up, Camioneta, Camión o Similar Min 2000cc, Modelo 2018 en adelante) | D20: 0.5 | F20: =+E20/30 -> 0 | G20: 160 | I20: =ROUND(G20*F20*D20,0) -> 0
B21: 1 | C21: Costos administrativos | D21: 0.25 | F21: =+E21/30 -> 0 | G21: 160 | I21: =ROUND(G21*F21*D21,0) -> 0
B22: SUBTOTAL OTROS COSTOS DIRECTOS | I22: =SUM(I20:I21) -> 0
B23: SUBTOTAL COSTOS BASICOS | I23: =+I22+I16 -> 0
B24: IVA = 19% * | I24: =+I23*0.19 -> 0
B25: COSTO TOTAL | I25: =ROUND(I24+I23,0) -> 0

Sheet F.M
A1: No | B1: DESCRIPCION | C1: %
G2: Gastos reportados por la interventoria | H2: Diferencia
A3: 1 | B3: SALARIOS y/o ASIGNACIONES BASICAS MENSUALES | C3: 100 | D3: =C3/$C$47 -> 0.41772525 | E3: =D3*$F$3 -> 132426972 | F3: 317019312 | G3: 69240775 | H3: =E3-G3 -> 63186197
D4: =C4/$C$47 -> 0 | E4: =D4*$F$3 -> 0 | H4: =E4-G4 -> 0
A5: 2 | B5: PRESTACIONES SOCIALES | C5: =SUM(C6:C17) -> 60.3066 | D5: =C5/$C$47 -> 0.2519159 | E5: =D5*$F$3 -> 79862204 | G5: =26638708 -> 26638708 | H5: =E5-G5 -> 53223496
B6: Cesantias | C6: 8.3333 | D6: =C6/$C$47 -> 0.034810298 | E6: =D6*$F$3 -> 11035537 | G6: 6126021 | H6: =E6-G6 -> 4909515.9
B7: Intereses de cesantías | C7: 1 | D7: =C7/$C$47 -> 0.0041772525 | E7: =D7*$F$3 -> 1324269.7 | H7: =E7-G7 -> 1324269.7
B8: Prima | C8: 8.3333 | D8: =C8/$C$47 -> 0.034810298 | E8: =D8*$F$3 -> 11035537 | G8: 6041854 | H8: =E8-G8 -> 4993682.9
B9: Vacaciones | C9: 5.68 | D9: =C9/$C$47 -> 0.023726794 | E9: =D9*$F$3 -> 7521852 | H9: =E9-G9 -> 7521852
B10: Seguridad Social (Salud) | C10: 8.5 | D10: =C10/$C$47 -> 0.035506646 | E10: =D10*$F$3 -> 11256293 | H10: =E10-G10 -> 11256293
B11: Seguridad Social (Pensión) | C11: 12 | D11: =C11/$C$47 -> 0.05012703 | E11: =D11*$F$3 -> 15891237 | H11: =E11-G11 -> 15891237
B12: Aseguradoras de Riesgos Profesionales (ARL) | C12: 6.5 | D12: =C12/$C$47 -> 0.027152141 | E12: =D12*$F$3 -> 8607753.2 | H12: =E12-G12 -> 8607753.2
B13: Cajas de Compensación Familiar | C13: 4 | D13: =C13/$C$47 -> 0.01670901 | E13: =D13*$F$3 -> 5297078.9 | H13: =E13-G13 -> 5297078.9
B14: ICBF | C14: 3 | D14: =C14/$C$47 -> 0.012531758 | E14: =D14*$F$3 -> 3972809.2 | H14: =E14-G14 -> 3972809.2
B15: SENA | C15: 2 | D15: =C15/$C$47 -> 0.008354505 | E15: =D15*$F$3 -> 2648539.4 | H15: =E15-G15 -> 2648539.4
B16: Subsidio de Transporte | C16: 0.46 | D16: =C16/$C$47 -> 0.0019215362 | E16: =D16*$F$3 -> 609164.07 | G16: 567000 | H16: =E16-G16 -> 42164.071
B17: Dotación | C17: 0.5 | D17: =C17/$C$47 -> 0.0020886263 | E17: =D17*$F$3 -> 662134.86 | H17: =E17-G17 -> 662134.86
D18: =C18/$C$47 -> 0 | E18: =D18*$F$3 -> 0 | H18: =E18-G18 -> 0
A19: 3 | B19: COSTOS INDIRECTOS CONSULTORIA | C19: =SUM(C20:C32) -> 11.8 | D19: =C19/$C$47 -> 0.04929158 | E19: =D19*$F$3 -> 15626383 | H19: =E19-G19 -> 15626383
B20: Alquiler de oficinas, costos de administración y servicios públicos | C20: 3 | D20: =C20/$C$47 -> 0.012531758 | E20: =D20*$F$3 -> 3972809.2 | G20: =1700000*3 -> 5100000 | H20: =E20-G20 -> -1127190.8
B21: Papeleria oficina consultoria | C21: 0.5 | D21: =C21/$C$47 -> 0.0020886263 | E21: =D21*$F$3 -> 662134.86 | G21: 60000 | H21: =E21-G21 -> 602134.86
B22: Personal administrativo no facturado | C22: 2 | D22: =C22/$C$47 -> 0.008354505 | E22: =D22*$F$3 -> 2648539.4 | H22: =E22-G22 -> 2648539.4
B23: Personal profesional no facturado | C23: 2 | D23: =C23/$C$47 -> 0.008354505 | E23: =D23*$F$3 -> 2648539.4 | H23: =E23-G23 -> 2648539.4
B24: Asesoría legal, tributaria y médica | C24: 1 | D24: =C24/$C$47 -> 0.0041772525 | E24: =D24*$F$3 -> 1324269.7 | G24: 77000 | H24: =E24-G24 -> 1247269.7
B25: Gastos de representación | C25: 0.5 | D25: =C25/$C$47 -> 0.0020886263 | E25: =D25*$F$3 -> 662134.86 | H25: =E25-G25 -> 662134.86
B26: Gastos e intereses bancarios por financiación | C26: 0.5 | D26: =C26/$C$47 -> 0.0020886263 | E26: =D26*$F$3 -> 662134.86 | H26: =E26-G26 -> 662134.86
B27: Equipos y mantenimiento de oficina | C27: 0.5 | D27: =C27/$C$47 -> 0.0020886263 | E27: =D27*$F$3 -> 662134.86 | H27: =E27-G27 -> 662134.86
B28: Seguros oficina de consultoría | C28: 0.3 | D28: =C28/$C$47 -> 0.0012531758 | E28: =D28*$F$3 -> 397280.92 | H28: =E28-G28 -> 397280.92
B29: Correos | C29: 0.1 | D29: =C29/$C$47 -> 0.00041772525 | E29: =D29*$F$3 -> 132426.97 | H29: =E29-G29 -> 132426.97
B30: Documentación técnica | C30: 0.3 | D30: =C30/$C$47 -> 0.0012531758 | E30: =D30*$F$3 -> 397280.92 | H30: =E30-G30 -> 397280.92
B31: Costos de propuestas | C31: 1 | D31: =C31/$C$47 -> 0.0041772525 | E31: =D31*$F$3 -> 1324269.7 | H31: =E31-G31 -> 1324269.7
B32: Equipos de mitigación ambiental y social | C32: 0.1 | D32: =C32/$C$47 -> 0.00041772525 | E32: =D32*$F$3 -> 132426.97 | H32: =E32-G32 -> 132426.97
D33: =C33/$C$47 -> 0 | E33: =D33*$F$3 -> 0 | H33: =E33-G33 -> 0
A34: 4 | B34: COSTOS DE LEGALIZACION Y PERFECCIONAMIENTO (Impuestos y Pólizas) | C34: =SUM(C35:C40) -> 38.523531 | D34: =C34/$C$47 -> 0.16092252 | E34: =D34*$F$3 -> 51015545 | H34: =E34-G34 -> 51015545
B35: Timbre (0,5) | C35: 1.6193026 | D35: =C35/$C$47 -> 0.0067642357 | E35: =D35*$F$3 -> 2144393.4 | H35: =E35-G35 -> 2144393.4
B36: Retefuente (2%) | C36: 6.4772103 | D36: =C36/$C$47 -> 0.027056943 | E36: =D36*$F$3 -> 8577573.4 | H36: =E36-G36 -> 8577573.4
B37: Rete Ica | C37: 0 | D37: =C37/$C$47 -> 0 | E37: =D37*$F$3 -> 0 | H37: =E37-G37 -> 0
B38: Estampillas Departamentales (1%+2%=3%) | C38: 9.7158154 | D38: =C38/$C$47 -> 0.040585414 | E38: =D38*$F$3 -> 12866360 | H38: =E38-G38 -> 12866360
B39: Estampillas Municipales (3.5%+1.0%+0.66% = 5,16%) | C39: 16.711203 | D39: =C39/$C$47 -> 0.069806913 | E39: =D39*$F$3 -> 22130140 | H39: =E39-G39 -> 22130140
B40: Pólizas de calidad, cumplimiento, y de salarios y prestaciones | C40: 4 | D40: =C40/$C$47 -> 0.01670901 | E40: =D40*$F$3 -> 5297078.9 | H40: =E40-G40 -> 5297078.9
...
