Workbook
Name _ftn1: '1 Nápoles'!#REF!
Name _ftn1: '10 Seracis'!#REF!
Name _ftn1: '11 Acosta'!#REF!
Name _ftn1: '12 Vipcol 2 turnos'!#REF!
Name _ftn1: '12 VipcolMedios'!#REF!
Name _ftn1: '2 Visan'!#REF!
Name _ftn1: '3 Libertadora'!#REF!
Name _ftn1: '4 Del sur'!#REF!
Name _ftn1: '5 Squadra'!#REF!
Name _ftn1: '6 Nueva Era'!#REF!
Name _ftn1: '7 Pegaso'!#REF!
Name _ftn1: '8 Buho'!#REF!
Name _ftn1: '9 Azimut'!#REF!
Name _ftn1: CDC!#REF!
Name _ftn1: 'RESUMEN CIRCULAR_DEC_RESOLUCION'!#REF!
Name _ftn2: '1 Nápoles'!#REF!
Name _ftn2: '10 Seracis'!#REF!
Name _ftn2: '11 Acosta'!#REF!
Name _ftn2: '12 Vipcol 2 turnos'!#REF!
Name _ftn2: '12 VipcolMedios'!#REF!
Name _ftn2: '2 Visan'!#REF!
Name _ftn2: '3 Libertadora'!#REF!
Name _ftn2: '4 Del sur'!#REF!
Name _ftn2: '5 Squadra'!#REF!
Name _ftn2: '6 Nueva Era'!#REF!
Name _ftn2: '7 Pegaso'!#REF!
Name _ftn2: '8 Buho'!#REF!
Name _ftn2: '9 Azimut'!#REF!
Name _ftn2: CDC!#REF!
Name _ftn2: 'RESUMEN CIRCULAR_DEC_RESOLUCION'!#REF!
Name _ftn3: '1 Nápoles'!#REF!
Name _ftn3: '10 Seracis'!#REF!
Name _ftn3: '11 Acosta'!#REF!
Name _ftn3: '12 Vipcol 2 turnos'!#REF!
Name _ftn3: '12 VipcolMedios'!#REF!
Name _ftn3: '2 Visan'!#REF!
Name _ftn3: '3 Libertadora'!#REF!
Name _ftn3: '4 Del sur'!#REF!
Name _ftn3: '5 Squadra'!#REF!
Name _ftn3: '6 Nueva Era'!#REF!
Name _ftn3: '7 Pegaso'!#REF!
Name _ftn3: '8 Buho'!#REF!
Name _ftn3: '9 Azimut'!#REF!
Name _ftn3: CDC!#REF!
Name _ftn3: 'RESUMEN CIRCULAR_DEC_RESOLUCION'!#REF!
Name _ftnref1: '1 Nápoles'!#REF!
Name _ftnref1: '10 Seracis'!#REF!
Name _ftnref1: '11 Acosta'!#REF!
Name _ftnref1: '12 Vipcol 2 turnos'!#REF!
Name _ftnref1: '12 VipcolMedios'!#REF!
Name _ftnref1: '2 Visan'!#REF!
Name _ftnref1: '3 Libertadora'!#REF!
Name _ftnref1: '4 Del sur'!#REF!
Name _ftnref1: '5 Squadra'!#REF!
Name _ftnref1: '6 Nueva Era'!#REF!
Name _ftnref1: '7 Pegaso'!#REF!
Name _ftnref1: '8 Buho'!#REF!
Name _ftnref1: '9 Azimut'!#REF!
Name _ftnref1: CDC!#REF!
Name _ftnref1: 'RESUMEN CIRCULAR_DEC_RESOLUCION'!#REF!

Sheet FCT ANTERIOR
B3: TALENTO HUMANO | C3: INFO FCT | D3: FUENTE PRECIOS
B5: Supervisor Fijo | D5: Circular
B6: Otros Turnos definidos en la FCT | C6: 12 horas nocturnas pero la circular solo tiene 9 horas | D6: Circular
B7: Supervisor para verificación Móvil (Motorizado) | C7: No hay perfil "con moto" en la circular, pero lo tienen relacionado coomo TH con arma | D7: Cotizar
B8: Coordinador | C8: Hace visitias de control, visitas de verificación En el numeral 7.1.1.11 hablan de un representante, es el mismo coordinador? | D8: Cotizar
B10: MEDIOS TECNOLÓGICOS | C10: INFO FCT | D10: FUENTE PRECIOS | E10: INFORMACION GENERAL FCT | F10: NOTAS EN LA SDC
B12: Detector Manual de Metales | E12: deberá incorporar la instalación, traslado, operación, reubicaciones, mantenimiento preventivo y correctivo Reubicaciones de CCTV y cámaras: hasta un máximo de dos (2) reubicaciones por sitio 7.1.4.7. La capacidad de los CCTV instalados, deben garantizar 90 días de grabación (Almacenamiento). Pasados los tres (03) meses, debe realizarse copia de seguridad y así sucesivamente hasta finalizar la prestación del servicio. | F12: Medios tecnológicos nuevos, plazo para instalarlos.
B13: Arco detector de metales
B14: Equipos all in One | C14: Unificar nombres, papelería,
B15: Software para control de visitantes | C15: Falta aclarar si es un por All in One, cotizarlo por equipo y con el PC?
B16: Rayos X | C16: Incuye UPS y regulador de corriente
B17: CCTV | C17: Incluye descripción de 9 elementos pero cantidades de solo 3. Que es para cada CCTV y que es para la Sala de Monitoreo. Incluye reubicaciones.
B18: Celular
B19: Radio de Comunicación
B20: Marcador de Rondas y puesto
B21: Sala de Monitoreo | C21: se entiende que los CCTV deben estar conectados a la Sala de Monitoreo, pero no es claro que debe instalarse allí q hace parte de laCCTV (solo se indica que debe tener myebles y equipos: controladores PTZ, escritorios, equipos para revisión de videos , etc)
B22: Armamento: revólver calibre 38
B23: Armerillo Capacidad 3 armas
B24: Armerillo Capacidad 6 armas
B25: Tubos de descargue
B26: Espejos cóncavos con lámpara | C26: No hay imagen de referencia en la FCT ni cuadro con especificaciones
B27: Linternas
B28: Lámparas de emergencia
B29: Alarmas de pánico
B30: Puntos de marcación para marcador
B34: OTROS ELEMENTOS | C34: INFO FCT | D34: FUENTE PRECIOS
B36: Reubicaciones de medios tecnológicos
B37: Grabacioes disco duro
B38: Almacenamiento y custodia de las grabaciones | C38: 7.1.4.8. Las copias de seguridad de los CCTV, deben ser almacenados en custodia externa, que incluya transporte de medios magnéticos, bóvedas especiales, personal capacitado en la manipulación de información y estrictas medidas de seguridad, que permitan garantizar la conservación y seguridad de la información, debidamente certificados de acuerdo a la Ley General de Archivos y los acuerdos 049 y 050 de 2000 que establecen las condiciones ambientales que se deben tener en cuenta para la conservación y el almacenamiento de los medios magnéticos. 7.1.4.11. El almacenamiento de los videos de los CCTV en el tiempo real estará a cargo del Contratista. 7.1.4.12. Los discos duros utilizados para las copias de seguridad y su custodia externa estarán a cargo del Contratista. 7.1.4.13. Una vez finalizada la prestación del servicio, el Contratista debe garantizar la custodia de las grabaciones por seis (06) meses.
B39: UPS de los sistemas de CCTV
B40: Copias de seguridad de los CCTV | C40: 90 dias y luego 6 meses
B41: Sala de Monitoreo | C41: Aprovisionamiento e instalación
B42: CCTV | C42: Instalación de acometidas, derivados de internet
B43: Dotación adicional del vigilante | C43: a) Dotación de invierno: capas impermeables, paraguas y botas de caucho (dotación por cada vigilante anual y se debe cambiar por deterioro). b) Silbato. c) Bolígrafo. d) Libreta de anotaciones. e) Carné de identificación empresarial. f) Carné de la ARL. g) Tonfa y porta tonfa para la totalidad de puestos de servicio 24 horas para la Macro Región Uno (1).
B44: Dotación mínima de los puestos de servicio | C44: Equipo de comunicación, lockers individuales, directorio telefónico, puntos de control electrónico, un detector manual de metales, espejo cóncavo, armerillos, tubo de descargue
B45: Documentación mínima de los puestos de servicio | C45: Libro de minuta de puesto, control de entrada y salida de vehículos, de funcionarios y contratistas, equipos de cómputo y elementos varios. Elementos de papelería y útiles de escritorio; licencias.
B46: Archivo para cada puesto de vigilancia | C46: consignas generales y específicas del puesto de vigilancia, ordenes de entrada y salida de elementos pertenecientes a los sitios donde se preste el servicio, Ordenes de ingreso de personal en horario no laboral o de personal particular ajeno al sitio, las consignas impartidas por el supervisor que se designe para tal fin, libros, las minutas de vigilancia para cada puesto y las minutas para cada cambio de turno, el control de ingreso y salida de equipos y elementos de propiedad de la empresa de vigilancia
B47: Casetas | C47: No hay información técnica en la FCT
B48: Mantenimiento preventivo y correctivo
C49: 7.1.6.5. Conservar durante toda la ejecución de la negociación y por un término de seis (06) meses siguientes a la terminación del Contrato los archivos consignas, libros, cuadernos, minutas y demás documentación relativa a la prestación del servicio en concordancia con lo establecido en la Ley 594 de 2000, después de la finalización del mismo.

Sheet CDC
B2: CONSOLIDADO DE COTIZACIONES
G6: LIBERTADORA DE SEGURIDAD | H6: SEGURIDAD DEL SUR LTDA | I6: SEGURIDAD NAPOLES LIMITADA | J6: VIGILANCIA ACOSTA LTDA (Cotización 2024) | K6: AZIMUT CARIBABARE LTDA (Cotización 2024) | L6: BUHO SEGURIDAD LTDA (Cotización 2024) | N6: PROMEDIO | O6: MEDIA GEOMÉTRICA | P6: MEDIA ARMÓNICA | Q6: PROMEDIO 3 MÁS BAJAS | R6: MEDIA GEOMÉTRICA 3 MÁS BAJAS | S6: MEDIA ARMÓNICA 3 MÁS BAJAS | T6: SELECCIONADA
B7: 3 (Nota 1) | C7: TURNOS DE VIGILANCIA REQUERIDOS POR EL ICANH | G7: Valor de la prima del seguro de vida según servicios | H7: Valor de la prima del seguro de vida según servicios | I7: Valor de la prima del seguro de vida según servicios | J7: Valor de la prima del seguro de vida según servicios | K7: Valor de la prima del seguro de vida según servicios | L7: Valor de la prima del seguro de vida según servicios | N7: Valor de la prima del seguro de vida según servicios | O7: Valor de la prima del seguro de vida según servicios | P7: Valor de la prima del seguro de vida según servicios | Q7: Valor de la prima del seguro de vida según servicios | R7: Valor de la prima del seguro de vida según servicios | S7: Valor de la prima del seguro de vida según servicios | T7: Valor de la prima del seguro de vida según servicios
C8: Horas requeridas | D8: Días | E8: Jornada | F8: Tipo de Servicio | G8: 2026 (Julio a Diciembre) | H8: 2026 (Julio a Diciembre) | I8: 2026 (Julio a Diciembre) | J8: 2026 (Julio a Diciembre) | K8: 2026 (Julio a Diciembre) | L8: 2026 (Julio a Diciembre) | N8: 2026 (Julio a Diciembre) | O8: 2026 (Julio a Diciembre) | P8: 2026 (Julio a Diciembre) | Q8: 2026 (Julio a Diciembre) | R8: 2026 (Julio a Diciembre) | S8: 2026 (Julio a Diciembre) | T8: 2026 (Julio a Diciembre)
C9: 24 | D9: Lunes a Domingo | E9: Completa | F9: Medio Humano sin Arma | G9: 1500 | H9: 1650 | I9: 4800 | J9: 1882 | K9: 7800 | L9: 5509.35 | N9: =ROUND(AVERAGE($G9:$L9),0) -> 3857 | O9: =ROUND(GEOMEAN($G9:$L9),0) -> 3141 | P9: =ROUND(HARMEAN($G9:$L9),0) -> 2584 | Q9: {=ROUND(AVERAGE((SMALL(($G9:$L9),{1;2;3}))),0)} -> 1677 | R9: {=ROUND(GEOMEAN((SMALL(($G9:$L9),{1;2;3}))),0)} -> 1670 | S9: {=ROUND(HARMEAN((SMALL(($G9:$L9),{1;2;3}))),0)} -> 1663 | T9: =Q9 -> 1677
C10: 24 | D10: Lunes a Domingo | E10: Completa | F10: Medio Humano Con Arma | G10: 1500 | H10: 1650 | I10: 4800 | J10: 1882 | K10: 7800 | L10: 5509.35 | N10: =ROUND(AVERAGE($G10:$L10),0) -> 3857 | O10: =ROUND(GEOMEAN($G10:$L10),0) -> 3141 | P10: =ROUND(HARMEAN($G10:$L10),0) -> 2584 | Q10: {=ROUND(AVERAGE((SMALL(($G10:$L10),{1;2;3}))),0)} -> 1677 | R10: {=ROUND(GEOMEAN((SMALL(($G10:$L10),{1;2;3}))),0)} -> 1670 | S10: {=ROUND(HARMEAN((SMALL(($G10:$L10),{1;2;3}))),0)} -> 1663 | T10: =Q10 -> 1677
C11: 24 | D11: Sabados, Domingos y Festivos | E11: Completa (Nota 3) | F11: Medio Humano Con Arma | G11: 1500 | H11: 1650 | I11: 1600 | J11: 1882 | K11: 2600 | L11: 5509.35 | N11: =ROUND(AVERAGE($G11:$L11),0) -> 2457 | O11: =ROUND(GEOMEAN($G11:$L11),0) -> 2178 | P11: =ROUND(HARMEAN($G11:$L11),0) -> 2003 | Q11: {=ROUND(AVERAGE((SMALL(($G11:$L11),{1;2;3}))),0)} -> 1583 | R11: {=ROUND(GEOMEAN((SMALL(($G11:$L11),{1;2;3}))),0)} -> 1582 | S11: {=ROUND(HARMEAN((SMALL(($G11:$L11),{1;2;3}))),0)} -> 1581 | T11: =Q11 -> 1583
C12: 12 | D12: Lunes a Domingo | E12: Nocturna (Nota 4 y 5) | F12: Medio Humano sin Arma | G12: 841 | H12: 1650 | I12: 2691 | J12: 0 | K12: 0 | L12: 0 | N12: =ROUND(AVERAGE($G12:$I12),0) -> 1727 | O12: =ROUND(GEOMEAN($G12:$I12),0) -> 1551 | P12: =ROUND(HARMEAN($G12:$I12),0) -> 1385 | Q12: {=ROUND(AVERAGE((SMALL(($G12:$I12),{1;2;3}))),0)} -> 1727 | R12: {=ROUND(GEOMEAN((SMALL(($G12:$I12),{1;2;3}))),0)} -> 1551 | S12: {=ROUND(HARMEAN((SMALL(($G12:$I12),{1;2;3}))),0)} -> 1385 | T12: =Q12 -> 1727
C13: 12 | D13: Lunes a Viernes sin Festivo | E13: Nocturna (Nota 4 y 5) | F13: Medio Humano sin Arma | G13: 561 | H13: 1650 | I13: 1794 | J13: 1882 | K13: 2600 | L13: 2387.385 | N13: =ROUND(AVERAGE($G13:$L13),0) -> 1812 | O13: =ROUND(GEOMEAN($G13:$L13),0) -> 1639 | P13: =ROUND(HARMEAN($G13:$L13),0) -> 1402 | Q13: {=ROUND(AVERAGE((SMALL(($G13:$L13),{1;2;3}))),0)} -> 1335 | R13: {=ROUND(GEOMEAN((SMALL(($G13:$L13),{1;2;3}))),0)} -> 1184 | S13: {=ROUND(HARMEAN((SMALL(($G13:$L13),{1;2;3}))),0)} -> 1018 | T13: =Q13 -> 1335
B15: PLAZO ESTIMADO DE EJECUCIÓN
H17: TOTAL 1 de octubre de 2026 al 15 de diciembre de 2026 | I17: Del 1 de octubre de 2026 al 15 de diciembre de 2026
F18: Tiempo estimado de ejecución (Notas 2 y 7) | H18: =SUM(I18) -> 2.5 | I18: =75/30 -> 2.5
F19: Salario Mínimo Mensual Legal Vigente | H19: - | I19: ='[22]RESUMEN CIRCULAR_DEC_RESOLUCION'!$M$34 -> 1750905
B21: SERVICIOS DE VIGILANCIA Y MEDIOS TECNOLÓGICOS, DE MONITOREO Y DE APOYO REQUERIDOS POR EL ICANH (Nota 6, 7 y 8)
B24: 1. SERVICIOS DE VIGILANCIA REQUERIDOS POR EL ICANH
B26: SERVICIOS INCLUIDO EN LA CIRCULAR EXTERNA 20251300000115CS DEL 30 DE DICIEMBRE DE 2025 SUPERVIGILANCIA Y DECRETO 1561 DE 2022 RESOLUCIÓN Nº 20251000059517CS DEL 08 DE AGOSTO DE 2025 | F26: Servicios requeridos para Parques Arqueológicos de San Agustín, Alto de los Ídolos (Huila), Santa María de la Antigua del Darién (Chocó), Tierradentro (Cauca), Santa Marta (Magdalena), San José del Guaviare (Guaviare) y las sedes del ICANH ubicadas en la ciudad de Bogotá D.C | H26: Del 1 de octubre de 2026 al 15 de diciembre de 2026 | J26: TOTAL 1 de octubre de 2026 al 15 de diciembre de 2026
B27: Horas requeridas | C27: Días | D27: Jornada | E27: Tipo de Servicio | F27: Cantidad | G27: Valor total turno mes a partir del 1 de octubre de 2026 al 15 de diciembre de 2026 Mes Completo | H27: Valor mensual servicio | I27: Valor total | J27: Valor total (2,5 MESES)
B28: 24 | C28: Lunes a Domingo | D28: Completa | E28: Medio Humano sin Arma | F28: 10 | G28: ='RESUMEN CIRCULAR_DEC_RESOLUCION'!H43 -> 19314021 | H28: =G28*F28 -> 193140210 | I28: =ROUND(H28*$I$18,0) -> 482850525 | J28: =I28 -> 482850525
B29: 24 | C29: Lunes a Domingo | D29: Completa | E29: Medio Humano Con Arma | F29: 3 | G29: ='RESUMEN CIRCULAR_DEC_RESOLUCION'!H44 -> 19671688 | H29: =G29*F29 -> 59015064 | I29: =ROUND(H29*$I$18,0) -> 147537660 | J29: =I29 -> 147537660
B30: 24 | C30: Sabados, Domingos y Festivos | D30: Completa | E30: Medio Humano sin arma | F30: =1 -> 1 | G30: ='RESUMEN CIRCULAR_DEC_RESOLUCION'!H45 -> 6440666 | H30: =G30*F30 -> 6440666 | I30: =ROUND(H30*$I$18,0) -> 16101665 | J30: =I30 -> 16101665
B31: 12 | C31: Lunes a Viernes sin Festivo | D31: Nocturna | E31: Medio Humano sin Arma | F31: =1 -> 1 | G31: ='RESUMEN CIRCULAR_DEC_RESOLUCION'!H46 -> 10829331 | H31: =G31*F31 -> 10829331 | I31: =ROUND(H31*$I$18,0) -> 27073328 | J31: =I31 -> 27073328
B32: 12 | C32: Lunes a Domingo | D32: Nocturna | E32: Medio Humano sin Arma | F32: =1 -> 1 | G32: ='RESUMEN CIRCULAR_DEC_RESOLUCION'!H47 -> 7220176 | H32: =G32*F32 -> 7220176 | I32: =ROUND(H32*$I$18,0) -> 18050440 | J32: =I32 -> 18050440
B33: 9 | C33: Lunes a Viernes sin Festivo | D33: Diurnas De 8:00 am a 5:00 pm | E33: Medio Humano sin Arma | F33: 1 | G33: ='RESUMEN CIRCULAR_DEC_RESOLUCION'!H48 -> 4242251 | H33: =G33*F33 -> 4242251 | I33: =ROUND(H33*$I$18,0) -> 10605628 | J33: =I33 -> 10605628
B34: SUBTOTAL SERVICIOS DE VIGILANCIA | J34: =SUM(J28:J33) -> 702219246
B37: 2. Medios de comunicación, equipos, materiales y elementos necesarios para la prestación del servicio (Nota 4, 5 y 6)
F39: LIBERTADORA DE SEGURIDAD | J39: SEGURIDAD DEL SUR LTDA | M39: SEGURIDAD NAPOLES LIMITADA | Q39: PROMEDIO | T39: MEDIA GEOMÉTRICA | W39: MEDIA ARMÓNICA | Z39: PROMEDIO 2 MÁS BAJAS | AC39: MEDIA GEOMÉTRICA 2 MÁS BAJAS | AF39: MEDIA ARMÓNICA 2 MÁS BAJAS | AI39: MEDIA SELECCIONADA
B40: MEDIOS TECNOLÓGICOS, DE MONITOREO Y DE APOYO (Nota 4, 5 y 6) | F40: Equipos requeridos para Parques Arqueológicos de San Agustín, Alto de los Ídolos (Huila), Santa María de la Antigua del Darién (Chocó), Tierradentro (Cauca), Santa Marta (Magdalena), San José del Guaviare (Guaviare) y las sedes del ICANH ubicadas en la ciudad de Bogotá D.C | J40: Equipos requeridos para Parques Arqueológicos de San Agustín, Alto de los Ídolos (Huila), Santa María de la Antigua del Darién (Chocó), Tierradentro (Cauca), Santa Marta (Magdalena), San José del Guaviare (Guaviare) y las sedes del ICANH ubicadas en la ciudad de Bogotá D.C | M40: Equipos requeridos para Parques Arqueológicos de San Agustín, Alto de los Ídolos (Huila), Santa María de la Antigua del Darién (Chocó), Tierradentro (Cauca), Santa Marta (Magdalena), San José del Guaviare (Guaviare) y las sedes del ICANH ubicadas en la ciudad de Bogotá D.C | Q40: Equipos requeridos para Parques Arqueológicos de San Agustín, Alto de los Ídolos (Huila), Santa María de la Antigua del Darién (Chocó), Tierradentro (Cauca), Santa Marta (Magdalena), San José del Guaviare (Guaviare) y las sedes del ICANH ubicadas en la ciudad de Bogotá D.C | T40: Equipos requeridos para Parques Arqueológicos de San Agustín, Alto de los Ídolos (Huila), Santa María de la Antigua del Darién (Chocó), Tierradentro (Cauca), Santa Marta (Magdalena), San José del Guaviare (Guaviare) y las sedes del ICANH ubicadas en la ciudad de Bogotá D.C | W40: Equipos requeridos para Parques Arqueológicos de San Agustín, Alto de los Ídolos (Huila), Santa María de la Antigua del Darién (Chocó), Tierradentro (Cauca), Santa Marta (Magdalena), San José del Guaviare (Guaviare) y las sedes del ICANH ubicadas en la ciudad de Bogotá D.C | Z40: Equipos requeridos para Parques Arqueológicos de San Agustín, Alto de los Ídolos (Huila), Santa María de la Antigua del Darién (Chocó), Tierradentro (Cauca), Santa Marta (Magdalena), San José del Guaviare (Guaviare) y las sedes del ICANH ubicadas en la ciudad de Bogotá D.C | AC40: Equipos requeridos para Parques Arqueológicos de San Agustín, Alto de los Ídolos (Huila), Santa María de la Antigua del Darién (Chocó), Tierradentro (Cauca), Santa Marta (Magdalena), San José del Guaviare (Guaviare) y las sedes del ICANH ubicadas en la ciudad de Bogotá D.C | AF40: Equipos requeridos para Parques Arqueológicos de San Agustín, Alto de los Ídolos (Huila), Santa María de la Antigua del Darién (Chocó), Tierradentro (Cauca), Santa Marta (Magdalena), San José del Guaviare (Guaviare) y las sedes del ICANH ubicadas en la ciudad de Bogotá D.C | AI40: Equipos requeridos para Parques Arqueológicos de San Agustín, Alto de los Ídolos (Huila), Santa María de la Antigua del Darién (Chocó), Tierradentro (Cauca), Santa Marta (Magdalena), San José del Guaviare (Guaviare) y las sedes del ICANH ubicadas en la ciudad de Bogotá D.C
B41: # | C41: CATEGORÍA | D41: MEDIO | F41: Cantidad | G41: Precio Unitario Mensual Antes de IVA 2026 | H41: Valor mensual x cantidades 2026 | I41: Valor total del 1 de julio del 2026 al 31 de diciembre de 2026 | J41: Precio Unitario Mensual Antes de IVA 2026 | K41: Valor mensual x cantidades 2026 | L41: Valor total del 1 de julio del 2026 al 31 de diciembre de 2026 | M41: Precio Unitario Mensual Antes de IVA 2026 | N41: Valor mensual x cantidades 2026 | O41: Valor total del 1 de julio del 2026 al 31 de diciembre de 2026 | Q41: Precio Unitario Mensual Antes de IVA 2026 | R41: Valor mensual x cantidades 2026 | S41: Valor total del 1 de octubre del 2026 al 15 de diciembre de 2026 | T41: Precio Unitario Mensual Antes de IVA 2026 | U41: Valor mensual x cantidades 2026 | V41: Valor total del 1 de octubre del 2026 al 15 de diciembre de 2026 | W41: Precio Unitario Mensual Antes de IVA 2026 | X41: Valor mensual x cantidades 2026 | Y41: Valor total del 1 de octubre del 2026 al 15 de diciembre de 2026 | Z41: Precio Unitario Mensual Antes de IVA 2026 | AA41: Valor mensual x cantidades 2026 | AB41: Valor total del 1 de octubre del 2026 al 15 de diciembre de 2026 | AC41: Precio Unitario Mensual Antes de IVA 2026 | AD41: Valor mensual x cantidades 2026 | AE41: Valor total del 1 de octubre del 2026 al 15 de diciembre de 2026 | AF41: Precio Unitario Mensual Antes de IVA 2026 | AG41: Valor mensual x cantidades 2026 | AH41: Valor total del 1 de octubre del 2026 al 15 de diciembre de 2026 | AI41: Precio Unitario Mensual Antes de IVA 2026 | AJ41: Valor mensual x cantidades 2026 | AK41: Valor total del 1 de octubre del 2026 al 15 de diciembre de 2026
B42: 1 | C42: EQUIPOS CCTV Y TV | D42: MONITOR 32" 1080P Señalización DIGITAL Android WIFI RJ45 SD32GB Incorporada INCL. Soporte Pared | F42: =4+1+1+1+1 -> 8 | G42: 322813 | H42: =ROUND($G42*$F42,0) -> 2582504 | I42: =$H42*$I$18 -> 6456260 | J42: 148333.33 | K42: =ROUND($J42*$F42,0) -> 1186667 | L42: =$K42*$I$18 -> 2966667.5 | M42: 412315 | N42: =ROUND($M42*$F42,0) -> 3298520 | O42: =$N42*$I$18 -> 8246300 | Q42: =ROUND(AVERAGE($G42,$J42,$M42),0) -> 294487 | R42: =ROUND($Q42*$F42,0) -> 2355896 | S42: =$R42*$I$18 -> 5889740 | T42: =ROUND(GEOMEAN($G42,$J42,$M42),0) -> 270275 | U42: =ROUND($T42*$F42,0) -> 2162200 | V42: =$U42*$I$18 -> 5405500 | W42: =ROUND(HARMEAN($G42,$J42,$M42),0) -> 244605 | X42: =ROUND($W42*$F42,0) -> 1956840 | Y42: =$X42*$I$18 -> 4892100 | Z42: {=ROUND(AVERAGE((SMALL(($G42,$J42,$M42),{1;2}))),0)} -> 235573 | AA42: =ROUND($Z42*$F42,0) -> 1884584 | AB42: =$AA42*$I$18 -> 4711460 | AC42: {=ROUND(GEOMEAN((SMALL(($G42,$J42,$M42),{1;2}))),0)} -> 218824 | AD42: =ROUND($AC42*$F42,0) -> 1750592 | AE42: =$AD42*$I$18 -> 4376480 | AF42: {=ROUND(HARMEAN((SMALL(($G42,$J42,$M42),{1;2}))),0)} -> 203266 | AG42: =ROUND($AF42*$F42,0) -> 1626128 | AH42: =$AG42*$I$18 -> 4065320 | AI42: =AF42 -> 203266 | AJ42: =ROUND($AI42*$F42,0) -> 1626128 | AK42: =$AJ42*$I$18 -> 4065320
B43: 2 | C43: EQUIPOS CCTV Y TV | D43: NVR (Para grabación continua, 32 CH H. 265 4CH @4K o 16CH @1080P hasta 12MP reproducción 16CH 8 SATA 2 HDMI 4K 2 RJ 45 1000 MBPS, Grabación las 24 horas del día, con capacidad de almacenamiento de 6 Teras Bytes). | E43: NVR (Para grabación continua, 32 CH H. 265 4CH @4K o 16CH @1080P hasta 12MP reproducción 16CH 8 SATA 2 HDMI 4K 2 RJ 45 1000 MBPS, Grabación las 24 horas del día, con capacidad de almacenamiento de 6 Teras Bytes). | F43: =3+1 -> 4 | G43: 634245 | H43: =ROUND($G43*$F43,0) -> 2536980 | I43: =$H43*$I$18 -> 6342450 | J43: 331500 | K43: =ROUND($J43*$F43,0) -> 1326000 | L43: =$K43*$I$18 -> 3315000 | M43: 345830 | N43: =ROUND($M43*$F43,0) -> 1383320 | O43: =$N43*$I$18 -> 3458300 | Q43: =ROUND(AVERAGE($G43,$J43,$M43),0) -> 437192 | R43: =ROUND($Q43*$F43,0) -> 1748768 | S43: =$R43*$I$18 -> 4371920 | T43: =ROUND(GEOMEAN($G43,$J43,$M43),0) -> 417383 | U43: =ROUND($T43*$F43,0) -> 1669532 | V43: =$U43*$I$18 -> 4173830 | W43: =ROUND(HARMEAN($G43,$J43,$M43),0) -> 400809 | X43: =ROUND($W43*$F43,0) -> 1603236 | Y43: =$X43*$I$18 -> 4008090 | Z43: {=ROUND(AVERAGE((SMALL(($G43,$J43,$M43),{1;2}))),0)} -> 338665 | AA43: =ROUND($Z43*$F43,0) -> 1354660 | AB43: =$AA43*$I$18 -> 3386650 | AC43: {=ROUND(GEOMEAN((SMALL(($G43,$J43,$M43),{1;2}))),0)} -> 338589 | AD43: =ROUND($AC43*$F43,0) -> 1354356 | AE43: =$AD43*$I$18 -> 3385890 | AF43: {=ROUND(HARMEAN((SMALL(($G43,$J43,$M43),{1;2}))),0)} -> 338513 | AG43: =ROUND($AF43*$F43,0) -> 1354052 | AH43: =$AG43*$I$18 -> 3385130 | AI43: =AF43 -> 338513 | AJ43: =ROUND($AI43*$F43,0) -> 1354052 | AK43: =$AJ43*$I$18 -> 3385130
B44: 3 | C44: EQUIPOS CCTV Y TV | D44: NVR (Para grabación continua, 8 CH H. 265 4CH @4K o 16CH @1080P hasta 12MP reproducción 16CH 8 SATA 2 HDMI 4K 2 RJ 45 1000 MBPS, Grabación las 24 horas del día, con capacidad de almacenamiento de 6 Teras Bytes). | F44: =1+1+1 -> 3 | G44: 441555 | H44: =ROUND($G44*$F44,0) -> 1324665 | I44: =$H44*$I$18 -> 3311662.5 | J44: 147833.33 | K44: =ROUND($J44*$F44,0) -> 443500 | L44: =$K44*$I$18 -> 1108750 | M44: 253000 | N44: =ROUND($M44*$F44,0) -> 759000 | O44: =$N44*$I$18 -> 1897500 | Q44: =ROUND(AVERAGE($G44,$J44,$M44),0) -> 280796 | R44: =ROUND($Q44*$F44,0) -> 842388 | S44: =$R44*$I$18 -> 2105970 | T44: =ROUND(GEOMEAN($G44,$J44,$M44),0) -> 254659 | U44: =ROUND($T44*$F44,0) -> 763977 | V44: =$U44*$I$18 -> 1909942.5 | W44: =ROUND(HARMEAN($G44,$J44,$M44),0) -> 231095 | X44: =ROUND($W44*$F44,0) -> 693285 | Y44: =$X44*$I$18 -> 1733212.5 | Z44: {=ROUND(AVERAGE((SMALL(($G44,$J44,$M44),{1;2}))),0)} -> 200417 | AA44: =ROUND($Z44*$F44,0) -> 601251 | AB44: =$AA44*$I$18 -> 1503127.5 | AC44: {=ROUND(GEOMEAN((SMALL(($G44,$J44,$M44),{1;2}))),0)} -> 193396 | AD44: =ROUND($AC44*$F44,0) -> 580188 | AE44: =$AD44*$I$18 -> 1450470 | AF44: {=ROUND(HARMEAN((SMALL(($G44,$J44,$M44),{1;2}))),0)} -> 186620 | AG44: =ROUND($AF44*$F44,0) -> 559860 | AH44: =$AG44*$I$18 -> 1399650 | AI44: =AF44 -> 186620 | AJ44: =ROUND($AI44*$F44,0) -> 559860 | AK44: =$AJ44*$I$18 -> 1399650
B45: 4 | C45: EQUIPOS CCTV Y TV | D45: NVR (Grabador de Video en Red, 64 canales, H.265, hasta 12 MP, reproducción 16 canales, 8 bahías SATA, 2 HDMI 4K, 2 RJ45 1000 Mbps, capacidad instalada 24 TB, grabación continua 24/7) | F45: =2 -> 2 | G45: 5036167 | H45: =ROUND($G45*$F45,0) -> 10072334 | I45: =$H45*$I$18 -> 25180835 | J45: 496666.67 | K45: =ROUND($J45*$F45,0) -> 993333 | L45: =$K45*$I$18 -> 2483332.5 | M45: 287500 | N45: =ROUND($M45*$F45,0) -> 575000 | O45: =$N45*$I$18 -> 1437500 | Q45: =ROUND(AVERAGE($G45,$J45,$M45),0) -> 1940111 | R45: =ROUND($Q45*$F45,0) -> 3880222 | S45: =$R45*$I$18 -> 9700555 | T45: =ROUND(GEOMEAN($G45,$J45,$M45),0) -> 895917 | U45: =ROUND($T45*$F45,0) -> 1791834 | V45: =$U45*$I$18 -> 4479585 | W45: =ROUND(HARMEAN($G45,$J45,$M45),0) -> 527218 | X45: =ROUND($W45*$F45,0) -> 1054436 | Y45: =$X45*$I$18 -> 2636090 | Z45: {=ROUND(AVERAGE((SMALL(($G45,$J45,$M45),{1;2}))),0)} -> 392083 | AA45: =ROUND($Z45*$F45,0) -> 784166 | AB45: =$AA45*$I$18 -> 1960415 | AC45: {=ROUND(GEOMEAN((SMALL(($G45,$J45,$M45),{1;2}))),0)} -> 377878 | AD45: =ROUND($AC45*$F45,0) -> 755756 | AE45: =$AD45*$I$18 -> 1889390 | AF45: {=ROUND(HARMEAN((SMALL(($G45,$J45,$M45),{1;2}))),0)} -> 364187 | AG45: =ROUND($AF45*$F45,0) -> 728374 | AH45: =$AG45*$I$18 -> 1820935 | AI45: =AF45 -> 364187 | AJ45: =ROUND($AI45*$F45,0) -> 728374 | AK45: =$AJ45*$I$18 -> 1820935
B46: 5 | C46: EQUIPOS CCTV Y TV | D46: (Cámara IP tipo Bala Varifocal 2,8-12 MM 4 MP 120 dB WDR 30 MTS SD Hasta 128 Gb POE VCA).Incluye suministros e instalación (mano de obra) necesarios para el óptimo funcionamiento del circuito cerrado de televisión | E46: (Cámara IP tipo Bala Varifocal 2,8-12 MM 4 MP 120 dB WDR 30 MTS SD Hasta 128 Gb POE VCA).Incluye suministros e instalación (mano de obra) necesarios para el óptimo funcionamiento del circuito cerrado de televisión | F46: =36+5+1 -> 42 | G46: 706625 | H46: =ROUND($G46*$F46,0) -> 29678250 | I46: =$H46*$I$18 -> 74195625 | J46: 73666.667 | K46: =ROUND($J46*$F46,0) -> 3094000 | L46: =$K46*$I$18 -> 7735000 | M46: 108554 | N46: =ROUND($M46*$F46,0) -> 4559268 | O46: =$N46*$I$18 -> 11398170 | Q46: =ROUND(AVERAGE($G46,$J46,$M46),0) -> 296282 | R46: =ROUND($Q46*$F46,0) -> 12443844 | S46: =$R46*$I$18 -> 31109610 | T46: =ROUND(GEOMEAN($G46,$J46,$M46),0) -> 178116 | U46: =ROUND($T46*$F46,0) -> 7480872 | V46: =$U46*$I$18 -> 18702180 | W46: =ROUND(HARMEAN($G46,$J46,$M46),0) -> 123957 | X46: =ROUND($W46*$F46,0) -> 5206194 | Y46: =$X46*$I$18 -> 13015485 | Z46: {=ROUND(AVERAGE((SMALL(($G46,$J46,$M46),{1;2}))),0)} -> 91110 | AA46: =ROUND($Z46*$F46,0) -> 3826620 | AB46: =$AA46*$I$18 -> 9566550 | AC46: {=ROUND(GEOMEAN((SMALL(($G46,$J46,$M46),{1;2}))),0)} -> 89425 | AD46: =ROUND($AC46*$F46,0) -> 3755850 | AE46: =$AD46*$I$18 -> 9389625 | AF46: {=ROUND(HARMEAN((SMALL(($G46,$J46,$M46),{1;2}))),0)} -> 87771 | AG46: =ROUND($AF46*$F46,0) -> 3686382 | AH46: =$AG46*$I$18 -> 9215955 | AI46: =AF46 -> 87771 | AJ46: =ROUND($AI46*$F46,0) -> 3686382 | AK46: =$AJ46*$I$18 -> 9215955
B47: 6 | C47: EQUIPOS CCTV Y TV | D47: (Cámara IP tipo Domo Varifocal 2,8-12 MM 4 MP 120 dB WDR 30 MTS SD Hasta 128 Gb POE VCA).Incluye suministros e instalación (mano de obra) necesarios para el óptimo funcionamiento del circuito cerrado de televisión | E47: (Cámara IP tipo Domo Varifocal 2,8-12 MM 4 MP 120 dB WDR 30 MTS SD Hasta 128 Gb POE VCA).Incluye suministros e instalación (mano de obra) necesarios para el óptimo funcionamiento del circuito cerrado de televisión | F47: =54+5+5+3+6 -> 73 | G47: 1072385 | H47: =ROUND($G47*$F47,0) -> 78284105 | I47: =$H47*$I$18 -> 1.9571026e+08 | J47: 69500 | K47: =ROUND($J47*$F47,0) -> 5073500 | L47: =$K47*$I$18 -> 12683750 | M47: 119631 | N47: =ROUND($M47*$F47,0) -> 8733063 | O47: =$N47*$I$18 -> 21832658 | Q47: =ROUND(AVERAGE($G47,$J47,$M47),0) -> 420505 | R47: =ROUND($Q47*$F47,0) -> 30696865 | S47: =$R47*$I$18 -> 76742162 | T47: =ROUND(GEOMEAN($G47,$J47,$M47),0) -> 207361 | U47: =ROUND($T47*$F47,0) -> 15137353 | V47: =$U47*$I$18 -> 37843382 | W47: =ROUND(HARMEAN($G47,$J47,$M47),0) -> 126689 | X47: =ROUND($W47*$F47,0) -> 9248297 | Y47: =$X47*$I$18 -> 23120742 | Z47: {=ROUND(AVERAGE((SMALL(($G47,$J47,$M47),{1;2}))),0)} -> 94566 | AA47: =ROUND($Z47*$F47,0) -> 6903318 | AB47: =$AA47*$I$18 -> 17258295 | AC47: {=ROUND(GEOMEAN((SMALL(($G47,$J47,$M47),{1;2}))),0)} -> 91183 | AD47: =ROUND($AC47*$F47,0) -> 6656359 | AE47: =$AD47*$I$18 -> 16640898 | AF47: {=ROUND(HARMEAN((SMALL(($G47,$J47,$M47),{1;2}))),0)} -> 87922 | AG47: =ROUND($AF47*$F47,0) -> 6418306 | AH47: =$AG47*$I$18 -> 16045765 | AI47: =AF47 -> 87922 | AJ47: =ROUND($AI47*$F47,0) -> 6418306 | AK47: =$AJ47*$I$18 -> 16045765
B48: 7 | C48: EQUIPOS CCTV Y TV | D48: Cámara Domo PTZ Exterior IP, 4 MP, zoom óptico ≥25×, IR ≥100 m, protección IP66, WDR ≥120 dB, H.265, VCA, audio y alarmas, PoE+/Hi-PoE. Incluye suministros e instalación (mano de obra) necesarios para el óptimo funcionamiento del circuito cerrado de televisión. | F48: =1 -> 1 | G48: 469356 | H48: =ROUND($G48*$F48,0) -> 469356 | I48: =$H48*$I$18 -> 1173390 | J48: 469833.33 | K48: =ROUND($J48*$F48,0) -> 469833 | L48: =$K48*$I$18 -> 1174582.5 | M48: 747500 | N48: =ROUND($M48*$F48,0) -> 747500 | O48: =$N48*$I$18 -> 1868750 | Q48: =ROUND(AVERAGE($G48,$J48,$M48),0) -> 562230 | R48: =ROUND($Q48*$F48,0) -> 562230 | S48: =$R48*$I$18 -> 1405575 | T48: =ROUND(GEOMEAN($G48,$J48,$M48),0) -> 548301 | U48: =ROUND($T48*$F48,0) -> 548301 | V48: =$U48*$I$18 -> 1370752.5 | W48: =ROUND(HARMEAN($G48,$J48,$M48),0) -> 536022 | X48: =ROUND($W48*$F48,0) -> 536022 | Y48: =$X48*$I$18 -> 1340055 | Z48: {=ROUND(AVERAGE((SMALL(($G48,$J48,$M48),{1;2}))),0)} -> 469595 | AA48: =ROUND($Z48*$F48,0) -> 469595 | AB48: =$AA48*$I$18 -> 1173987.5 | AC48: {=ROUND(GEOMEAN((SMALL(($G48,$J48,$M48),{1;2}))),0)} -> 469595 | AD48: =ROUND($AC48*$F48,0) -> 469595 | AE48: =$AD48*$I$18 -> 1173987.5 | AF48: {=ROUND(HARMEAN((SMALL(($G48,$J48,$M48),{1;2}))),0)} -> 469595 | AG48: =ROUND($AF48*$F48,0) -> 469595 | AH48: =$AG48*$I$18 -> 1173987.5 | AI48: =AF48 -> 469595 | AJ48: =ROUND($AI48*$F48,0) -> 469595 | AK48: =$AJ48*$I$18 -> 1173987.5
B49: 8 | C49: EQUIPOS CCTV Y TV | D49: UPS online 2 KVA tipo torre monofásica con autonomía de aproximadamente 30 minutos. Incluye suministros e instalación (mano de obra) necesarios para el óptimo funcionamiento | F49: =4+1 -> 5 | G49: 226693 | H49: =ROUND($G49*$F49,0) -> 1133465 | I49: =$H49*$I$18 -> 2833662.5 | J49: 345166.67 | K49: =ROUND($J49*$F49,0) -> 1725833 | L49: =$K49*$I$18 -> 4314582.5 | M49: 642298 | N49: =ROUND($M49*$F49,0) -> 3211490 | O49: =$N49*$I$18 -> 8028725 | Q49: =ROUND(AVERAGE($G49,$J49,$M49),0) -> 404719 | R49: =ROUND($Q49*$F49,0) -> 2023595 | S49: =$R49*$I$18 -> 5058987.5 | T49: =ROUND(GEOMEAN($G49,$J49,$M49),0) -> 369035 | U49: =ROUND($T49*$F49,0) -> 1845175 | V49: =$U49*$I$18 -> 4612937.5 | W49: =ROUND(HARMEAN($G49,$J49,$M49),0) -> 338398 | X49: =ROUND($W49*$F49,0) -> 1691990 | Y49: =$X49*$I$18 -> 4229975 | Z49: {=ROUND(AVERAGE((SMALL(($G49,$J49,$M49),{1;2}))),0)} -> 285930 | AA49: =ROUND($Z49*$F49,0) -> 1429650 | AB49: =$AA49*$I$18 -> 3574125 | AC49: {=ROUND(GEOMEAN((SMALL(($G49,$J49,$M49),{1;2}))),0)} -> 279726 | AD49: =ROUND($AC49*$F49,0) -> 1398630 | AE49: =$AD49*$I$18 -> 3496575 | AF49: {=ROUND(HARMEAN((SMALL(($G49,$J49,$M49),{1;2}))),0)} -> 273658 | AG49: =ROUND($AF49*$F49,0) -> 1368290 | AH49: =$AG49*$I$18 -> 3420725 | AI49: =AF49 -> 273658 | AJ49: =ROUND($AI49*$F49,0) -> 1368290 | AK49: =$AJ49*$I$18 -> 3420725
B50: 9 | C50: EQUIPOS CCTV Y TV | D50: UPS online 3 KVA tipo torre monofásica con autonomía aproximadamente de 30 minutos. Incluye suministros e instalación (mano de obra) necesarios para el óptimo funcionamiento | F50: =1 -> 1 | G50: 426693 | H50: =ROUND($G50*$F50,0) -> 426693 | I50: =$H50*$I$18 -> 1066732.5 | J50: 410666.67 | K50: =ROUND($J50*$F50,0) -> 410667 | L50: =$K50*$I$18 -> 1026667.5 | M50: 678500 | N50: =ROUND($M50*$F50,0) -> 678500 | O50: =$N50*$I$18 -> 1696250 | Q50: =ROUND(AVERAGE($G50,$J50,$M50),0) -> 505287 | R50: =ROUND($Q50*$F50,0) -> 505287 | S50: =$R50*$I$18 -> 1263217.5 | T50: =ROUND(GEOMEAN($G50,$J50,$M50),0) -> 491720 | U50: =ROUND($T50*$F50,0) -> 491720 | V50: =$U50*$I$18 -> 1229300 | W50: =ROUND(HARMEAN($G50,$J50,$M50),0) -> 479807 | X50: =ROUND($W50*$F50,0) -> 479807 | Y50: =$X50*$I$18 -> 1199517.5 | Z50: {=ROUND(AVERAGE((SMALL(($G50,$J50,$M50),{1;2}))),0)} -> 418680 | AA50: =ROUND($Z50*$F50,0) -> 418680 | AB50: =$AA50*$I$18 -> 1046700 | AC50: {=ROUND(GEOMEAN((SMALL(($G50,$J50,$M50),{1;2}))),0)} -> 418603 | AD50: =ROUND($AC50*$F50,0) -> 418603 | AE50: =$AD50*$I$18 -> 1046507.5 | AF50: {=ROUND(HARMEAN((SMALL(($G50,$J50,$M50),{1;2}))),0)} -> 418526 | AG50: =ROUND($AF50*$F50,0) -> 418526 | AH50: =$AG50*$I$18 -> 1046315 | AI50: =AF50 -> 418526 | AJ50: =ROUND($AI50*$F50,0) -> 418526 | AK50: =$AJ50*$I$18 -> 1046315
B51: 10 | C51: EQUIPOS DE SISTEMA DE DETECCIÓN Y ALARMA | D51: Sensor humo fotoeléctrico Detectores de incendios automáticos. Incluye suministros e instalación (mano de obra) necesarios para el óptimo funcionamiento | F51: =30+2+3+1 -> 36 | G51: 52151 | H51: =ROUND($G51*$F51,0) -> 1877436 | I51: =$H51*$I$18 -> 4693590 | J51: 49666.667 | K51: =ROUND($J51*$F51,0) -> 1788000 | L51: =$K51*$I$18 -> 4470000 | M51: 60983 | N51: =ROUND($M51*$F51,0) -> 2195388 | O51: =$N51*$I$18 -> 5488470 | Q51: =ROUND(AVERAGE($G51,$J51,$M51),0) -> 54267 | R51: =ROUND($Q51*$F51,0) -> 1953612 | S51: =$R51*$I$18 -> 4884030 | T51: =ROUND(GEOMEAN($G51,$J51,$M51),0) -> 54056 | U51: =ROUND($T51*$F51,0) -> 1946016 | V51: =$U51*$I$18 -> 4865040 | W51: =ROUND(HARMEAN($G51,$J51,$M51),0) -> 53853 | X51: =ROUND($W51*$F51,0) -> 1938708 | Y51: =$X51*$I$18 -> 4846770 | Z51: {=ROUND(AVERAGE((SMALL(($G51,$J51,$M51),{1;2}))),0)} -> 50909 | AA51: =ROUND($Z51*$F51,0) -> 1832724 | AB51: =$AA51*$I$18 -> 4581810 | AC51: {=ROUND(GEOMEAN((SMALL(($G51,$J51,$M51),{1;2}))),0)} -> 50894 | AD51: =ROUND($AC51*$F51,0) -> 1832184 | AE51: =$AD51*$I$18 -> 4580460 | AF51: {=ROUND(HARMEAN((SMALL(($G51,$J51,$M51),{1;2}))),0)} -> 50879 | AG51: =ROUND($AF51*$F51,0) -> 1831644 | AH51: =$AG51*$I$18 -> 4579110 | AI51: =AF51 -> 50879 | AJ51: =ROUND($AI51*$F51,0) -> 1831644 | AK51: =$AJ51*$I$18 -> 4579110
B52: 11 | C52: EQUIPOS DE SISTEMA DE DETECCIÓN Y ALARMA | D52: Panel central de detección, Panel de control direccionales. Incluye suministros e instalación (mano de obra) necesarios para el óptimo funcionamiento | E52: CAMARAS IP - TIPO BALA | F52: =5+1+1+1+1 -> 9 | G52: 434965 | H52: =ROUND($G52*$F52,0) -> 3914685 | I52: =$H52*$I$18 -> 9786712.5 | J52: 69166.667 | K52: =ROUND($J52*$F52,0) -> 622500 | L52: =$K52*$I$18 -> 1556250 | M52: 252793 | N52: =ROUND($M52*$F52,0) -> 2275137 | O52: =$N52*$I$18 -> 5687842.5 | Q52: =ROUND(AVERAGE($G52,$J52,$M52),0) -> 252308 | R52: =ROUND($Q52*$F52,0) -> 2270772 | S52: =$R52*$I$18 -> 5676930 | T52: =ROUND(GEOMEAN($G52,$J52,$M52),0) -> 196655 | U52: =ROUND($T52*$F52,0) -> 1769895 | V52: =$U52*$I$18 -> 4424737.5 | W52: =ROUND(HARMEAN($G52,$J52,$M52),0) -> 144839 | X52: =ROUND($W52*$F52,0) -> 1303551 | Y52: =$X52*$I$18 -> 3258877.5 | Z52: {=ROUND(AVERAGE((SMALL(($G52,$J52,$M52),{1;2}))),0)} -> 160980 | AA52: =ROUND($Z52*$F52,0) -> 1448820 | AB52: =$AA52*$I$18 -> 3622050 | AC52: {=ROUND(GEOMEAN((SMALL(($G52,$J52,$M52),{1;2}))),0)} -> 132230 | AD52: =ROUND($AC52*$F52,0) -> 1190070 | AE52: =$AD52*$I$18 -> 2975175 | AF52: {=ROUND(HARMEAN((SMALL(($G52,$J52,$M52),{1;2}))),0)} -> 108615 | AG52: =ROUND($AF52*$F52,0) -> 977535 | AH52: =$AG52*$I$18 -> 2443837.5 | AI52: =AF52 -> 108615 | AJ52: =ROUND($AI52*$F52,0) -> 977535 | AK52: =$AJ52*$I$18 -> 2443837.5
B53: 12 | C53: EQUIPOS DE SISTEMA DE DETECCIÓN Y ALARMA | D53: Sirena con estrobo. Incluye suministros e instalación (mano de obra) necesarios para el óptimo funcionamiento | E53: JOISTYCK PARA CONTROL DE CÁMARAS DOMO PTZ | F53: =4+1+1 -> 6 | G53: 123678 | H53: =ROUND($G53*$F53,0) -> 742068 | I53: =$H53*$I$18 -> 1855170 | J53: 43000 | K53: =ROUND($J53*$F53,0) -> 258000 | L53: =$K53*$I$18 -> 645000 | M53: 85561 | N53: =ROUND($M53*$F53,0) -> 513366 | O53: =$N53*$I$18 -> 1283415 | Q53: =ROUND(AVERAGE($G53,$J53,$M53),0) -> 84080 | R53: =ROUND($Q53*$F53,0) -> 504480 | S53: =$R53*$I$18 -> 1261200 | T53: =ROUND(GEOMEAN($G53,$J53,$M53),0) -> 76915 | U53: =ROUND($T53*$F53,0) -> 461490 | V53: =$U53*$I$18 -> 1153725 | W53: =ROUND(HARMEAN($G53,$J53,$M53),0) -> 69721 | X53: =ROUND($W53*$F53,0) -> 418326 | Y53: =$X53*$I$18 -> 1045815 | Z53: {=ROUND(AVERAGE((SMALL(($G53,$J53,$M53),{1;2}))),0)} -> 64281 | AA53: =ROUND($Z53*$F53,0) -> 385686 | AB53: =$AA53*$I$18 -> 964215 | AC53: {=ROUND(GEOMEAN((SMALL(($G53,$J53,$M53),{1;2}))),0)} -> 60656 | AD53: =ROUND($AC53*$F53,0) -> 363936 | AE53: =$AD53*$I$18 -> 909840 | AF53: {=ROUND(HARMEAN((SMALL(($G53,$J53,$M53),{1;2}))),0)} -> 57235 | AG53: =ROUND($AF53*$F53,0) -> 343410 | AH53: =$AG53*$I$18 -> 858525 | AI53: =AF53 -> 57235 | AJ53: =ROUND($AI53*$F53,0) -> 343410 | AK53: =$AJ53*$I$18 -> 858525
...

Sheet RESUMEN CIRCULAR_DEC_RESOLUCION
B2: SOLICITUD DE COTIZACIÓN | P2: CLASIFICACIÓN DE LA INFORMACIÓN PÚBLICA
B6: CIRCULAR EXTERNA 20251300000115CS DEL 30 DE DICIEMBRE DE 2025 SUPERVIGILANCIA Y DECRETO 1561 DE 2022 RESOLUCIÓN Nº 20251000059517CS DEL 08 DE AGOSTO DE 2025
B8: 1. INFORMACIÓN PARA CALCULAR LA TARIFA DEL SERVICIO
B10: CANTIDAD DE DÍAS | G10: JORNADA LABORAL | K10: Variable de Proporcionalidad | M10: PORCENTAJE DE GASTOS DE ADMINISTRACIÓN Y SUPERVISIÓN
B11: Lunes a viernes sin festivos | E11: 20 | G11: 06:00 a.m. A 07:00 p.m. | I11: 13 | K11: 0.4759 | M11: Medio Humano sin Arma | P11: 0.08
B12: Lunes a viernes con festivos | E12: 22 | M12: Medio Humano Con Arma | P12: 0.1
B13: Lunes a sábados sin festivos | E13: 24 | G13: 07:00 p.m. A 06:00 a.m. | H13: Nocturno | I13: 11 | K13: 0.5241 | M13: Medio Humano Con Canino | P13: 0.11
B14: Lunes a sábados con festivos | E14: 26
B15: Festivos | E15: 2 | G15: Cuando la prestación del servicio de vigilancia y seguridad privada que se requiera contratar sea inferior a veinticuatro (24) horas y/o treinta (30) días, la tarifa deberá ser proporcional al tiempo contratado y para efectos de obtener el valor correspondiente se debe: a. Aplicar, según el caso, la variable de proporcionalidad sobre el valor del servicio establecido para un servicio de veinticuatro (24) horas y treinta (30) días al mes y en los términos de la jornada laboral vigente. b) Tomar el valor resultante de la aplicación de la variable de proporcionalidad anteriormente establecida, dividirlo por treinta (30) días y multiplicarlo por el número de días en que se prestará el servicio, luego dividirlo por la jornada laboral y el resultado multiplicarlo por las horas requeridas del servicio. A partir del 25 de diciembre de 2025, el horario nocturno se entiende desde las 19:00 hasta las 06:00 horas del día siguiente, por lo cual la aplicación de la variable de proporcionalidad deberá considerar este cambio de jornada conforme a la Ley 2466 de 2025.
B16: Sábados y Domingos | E16: 8
B17: Sábados, Domingos y festivos | E17: 10
B19: Fecha inicio | C19: Fecha fin | D19: Recargo festivo | E19: Horario nocturno desde | G19: La aplicación de las variables de proporcionalidad y del cálculo de la tarifa mínima debe realizarse conforme a lo dispuesto en la Resolución 20251000059517CS y la Circular Externa 20251300000115CS de la Superintendencia de Vigilancia y Seguridad Privada. A partir del 25 de diciembre de 2025, el horario nocturno se entiende desde las 19:00 hasta las 06:00 horas del día siguiente. Así mismo, el recargo por trabajo en días de descanso obligatorio o festivos será del 80% desde el 1 de julio de 2025, del 90% desde el 1 de julio de 2026 y del 100% desde el 1 de julio de 2027.
B20: 45839 | C20: 46015 | D20: 0.8 | E20: 09:00 p.m.
B21: 46016 | C21: 46203 | D21: 0.8 | E21: 07:00 p.m.
B22: 46204 | C22: 46568 | D22: 0.9 | E22: 07:00 p.m.
B23: 46569 | C23: en adelante | D23: 1 | E23: 07:00 p.m.
B25: 2. TARIFA DEL SERVICIO PARA LOS TURNOS DE VIGILANCIA REQUERIDOS POR EL ICANH
B27: TURNOS DE VIGILANCIA REQUERIDOS POR EL ICANH | F27: Variable de Proporcionalidad | G27: Días necesarios | H27: Administración y Supervisión | I27: Valor de la Prima del seguro de vida 2026 (Nota 1) | L27: PERÍODO DE TIEMPO | P27: Tarifa Mínima
B28: Horas requeridas | C28: Días | D28: Jornada | E28: Tipo de Servicio | L28: Tarifa a partir del 15 de julio del año 2026 | P28: 10.21
B29: 24 | C29: Lunes a Domingo | D29: Completa | E29: Medio Humano sin Arma | F29: 1 | G29: 30 | H29: 0.08 | I29: 6613
B30: 24 | C30: Lunes a Domingo | D30: Completa | E30: Medio Humano Con Arma | F30: 1 | G30: 30 | H30: 0.1 | I30: 6613
B31: 24 | C31: Sabados, Domingos y Festivos | D31: Completa (Nota 3) | E31: Medio Humano Con Arma | F31: 1 | G31: 10 | H31: 0.08 | I31: 4667
B32: 12 | C32: Lunes a Domingo | D32: Nocturna (Nota 4 y 5) | E32: Medio Humano sin Arma | F32: =K13 -> 0.5241 | G32: 30 | H32: 0.08 | I32: 3532
B33: 12 | C33: Lunes a Viernes sin Festivo | D33: Nocturna (Nota 4 y 5) | E33: Medio Humano sin Arma | F33: =K13 -> 0.5241 | G33: 20 | H33: 0.08 | I33: 2931
B34: 9 | C34: Lunes a Viernes sin Festivo | D34: Diurna | E34: Medio Humano sin Arma | F34: =K11 -> 0.4759 | G34: 20 | H34: 0.08 | I34: 1453 | L34: SMMLV 2026 | M34: 1750905 | N34: El salario mínimo en Colombia para 2026 fue fijado provisionalmente en $1.750.905 mensuales mediante el Decreto 0159 del 19 de febrero de 2026, tras la suspensión del decreto anterior por el Consejo de Estado
B36: Nota 3. El recargo por trabajo en días de descanso obligatorio o festivos se aplicará de manera progresiva según la normativa vigente: 80% desde el 1 de julio de 2025, 90% desde el 1 de julio de 2026 y 100% desde el 1 de julio de 2027. Nota 4. Para los cálculos de turnos de 12 horas que combinan jornada nocturna y diurna, hasta el 24 de diciembre de 2025 se tendrán en cuenta 9 horas dentro del horario nocturno (09:00 p.m. – 06:00 a.m.) y 3 horas dentro del horario diurno. Nota 5. A partir del 25 de diciembre de 2025, el horario nocturno se entiende desde las 19:00 hasta las 06:00 horas del día siguiente, por lo cual los turnos de 12 horas que crucen este rango deberán ajustarse a la nueva distribución de horas nocturnas y diurnas.
B38: Festivos | C38: 2026 (desde el 30 de junio de 2026 al 31 de diciembre de 2026) | D38: Total festivos
C39: -20 de julio de 2026 -7 y 17 de agosto de 2026 -12 de octubre de 2026 -2 y 16 de noviembre de 2026 -8 y 25 de diciembre de 2026 | D39: 8
B41: TURNOS DE VIGILANCIA REQUERIDOS POR EL ICANH | F41: A partir del 1 de octubre de 2026 al 15 de diciembre de 2026 Mes Completo
B42: Horas requeridas | C42: Días | D42: Jornada | E42: Tipo de Servicio | F42: Costo Directo Turno | G42: Administración y Supervisión (sobre Costo Directo + Prima del Seguro) | H42: Valor Total Turno (Costo Directo + prima del seguro + AyS)
B43: 24 | C43: Lunes a Domingo | D43: Completa | E43: Medio Humano sin Arma | F43: =ROUND($M$34*$P$28,0) -> 17876740 | G43: =ROUND((F43+$I$29)*$H$29,0) -> 1430668 | H43: =G43+F43+I29 -> 19314021
B44: 24 | C44: Lunes a Domingo | D44: Completa | E44: Medio Humano Con Arma | F44: =ROUND($M$34*$P$28,0) -> 17876740 | G44: =ROUND((F44+$I$30)*$H$30,0) -> 1788335 | H44: =G44+F44+I30 -> 19671688
B45: 24 | C45: Sabados, Domingos y Festivos | D45: Completa | E45: Medio Humano Con Arma | F45: =ROUND(($M$34*$P$28)/30*G31,0) -> 5958913 | G45: =ROUND((F45+$I$31)*$H$31,0) -> 477086 | H45: =G45+F45+I31 -> 6440666
B46: 12 | C46: Lunes a Domingo | D46: Nocturna (Nota 4 y 5) | E46: Medio Humano sin Arma | F46: =ROUND((($M$34*$P$28)*$F$32)+(((($M$34*$P$28)*$K$11)/$I$11)*1),0) -> 10023626 | G46: =ROUND((F46+$I$32)*$H$32,0) -> 802173 | H46: =G46+F46+I32 -> 10829331
B47: 12 | C47: Lunes a Viernes sin Festivo | D47: Nocturna (Nota 4 y 5) | E47: Medio Humano sin Arma | F47: =ROUND(((((($M$34*$P$28*$F33)/30)*$G33)))+((((($M$34*$P$28*$K11)/30)*$G33)/13)*1),0) -> 6682417 | G47: =ROUND((F47+$I$33)*$H$33,0) -> 534828 | H47: =G47+F47+I33 -> 7220176
B48: 9 | C48: Lunes a Viernes sin Festivo | D48: Diurna | E48: Medio Humano Sin Arma | F48: =ROUND((((((M34*P28)*F34)/30)*G34)/I11)*B48,0) -> 3926557 | G48: =ROUND((F48+I34)*H34,0) -> 314241 | H48: =G48+F48+I34 -> 4242251

Sheet 1 Nápoles
B2: SOLICITUD DE COTIZACIÓN | L2: CLASIFICACIÓN DE LA INFORMACIÓN PÚBLICA
B6: SOLICITUD DE COTIZACIÓN
B7: Denominación del Bien o Servicio | D7: Contratar la prestación del servicio integral de vigilancia y seguridad privada para la protección de los bienes y las sedes del ICANH ubicadas a nivel nacional.
B8: Empresa: | C8: SEGURIDAD NAPOLES LTDA | E8: Ciudad | F8: CALI | G8: Nit: | H8: 860523408-6% | I8: Nombres y apellidos persona de contacto: | K8: NILSON CASTELLANOS
B9: E-Mail: | C9: dircomercialestatal@seguridadnapolesltda.com | F9: Cargo: | G9: analista licitaciones | I9: Tel. celular: | J9: 31579390 | K9: Fecha: | L9: 45503
B13: • Por favor diligenciar solo las celdas en AMARILLO. • Revisar todos los requerimientos que se exponen en el documento "Ficha técnica de condiciones esenciales para la Prestación del Servicio y/o Entrega del Bien" (FCT) ; y formular su cotización en concordancia con este, garantizando que los bienes y/o servicios ofrecidos cumplan en su totalidad con las especificaciones técnicas descritas en la FCT. • El precio de la cotización deber ser expresado en PESOS COLOMBIANOS. • Los precios deberán aproximarse por exceso o por defecto al entero más cercano así: (i) si es igual o superior a 50 centavos, se aproxima al entero siguiente; (ii) si es inferior a 50 centavos se baja al entero anterior. • No modificar, agregar o quitar ningún ítem o sub-ítem. • Los precios cotizados deben corresponder al año 2024, 2025 y 2026
B15: Notas: SE DEBE DILIGENCIAR LA HOJA "FORMATO_COTIZACIÓN". (1) La pregunta 3 de la Hoja "FORMATO_COTIZACION" es obligatoria, debido a que los datos del valor de la prima allí solicitados se requieren para realizar la proyección del presupuesto, por favor diligenciar los valores para los años 2024, 2025 y 2026. Tener en cuenta que la Administración y Supervisión de la Prima de seguro se está calculando en la hoja "RESUMEN CIRCULAR_DECRETO". Las preguntas restantes son de carácter informativo. (2) Tener en cuenta para cotizar que el plazo de ejecución es estimado y podrá ser inferior. (3) Para el servicio de 12 horas nocturno se contemplan para los cálculos 9 horas del horario nocturno y 3 del horario diurno. (4) Las cantidades de servicios y equipos requeridos son estimadas y podrán variar en ejecución del contrato de acuerdo con las necesidades para la prestación del servicio de la Entidad y de acuerdo con el resultado del Estudio de Seguridad que se realice. (5) El detalle de los lugares para la prestación del servicio de vigilancia y la distribución de los equipos se detalla en la ficha técnica. (6) Los precios cotizados para los medios tecnológicos y de apoyo deberán incluir costos de instalación, operación, traslado y/o reubicación, mantenimiento preventivo y correctivo. (7) En el artículo 462-1 "Base gravable especial" del Estatuto Tributario, se indica que los servicios de vigilancia prestados por entidades autorizadas por la SuperVigilancia, generan IVA sobre el valor del componente AIU (Administración, imprevistos y utilidad) que se pacte en cada contrato. La misma norma indica que ese AIU no puede ser inferior al 10% del valor total del contrato. El A.I.U servirá para establecer la base gravable del cálculo del IVA. (8) Si remite su cotización mediante el módulo de Solicitud de información a proveedores de la plataforma SECOP II, en la respuesta a la pregunta 1 debe incluir el total del presupuesto, que corresponde a la Celda E93 y como respuesta a la pregunta 2 deberá subir el presente formato completamente diligenciado.
B17: PREGUNTAS (Nota 1)
B20: 1 | C20: ¿Qué tipo de Organización es? | F20: EMPRESA
B21: 2 | C21: Si es Cooperativa, indique qué descuento podría ofrecer sobre el valor de la tarifa.
B23: 3 (Nota 1) | C23: TURNOS DE VIGILANCIA REQUERIDOS POR EL ICANH | G23: Valor de la prima del seguro de vida según servicios | H23: Valor de la prima del seguro de vida según servicios | I23: Valor de la prima del seguro de vida según servicios
C24: Horas requeridas | D24: Días | E24: Jornada | F24: Tipo de Servicio | G24: 2024 | H24: 2025 | I24: 2026
C25: 24 | D25: Lunes a Domingo | E25: Completa | F25: Medio Humano sin Arma | G25: 20000 | H25: 20000 | I25: 20000
C26: 24 | D26: Lunes a Domingo | E26: Completa | F26: Medio Humano Con Arma | G26: 20000 | H26: 20000 | I26: 20000
C27: 24 | D27: Sabados, Domingos y Festivos | E27: Completa | F27: Medio Humano Con Arma | G27: 20000 | H27: 20000 | I27: 20000
C28: 12 | D28: Lunes a Viernes sin Festivo | E28: Diurnas | F28: Medio Humano con Arma | G28: 20000 | H28: 20000 | I28: 20000
C29: 12 | D29: Lunes a Viernes sin Festivo | E29: Nocturna (Nota 3) | F29: Medio Humano sin Arma | G29: 20000 | H29: 20000 | I29: 20000
C30: 12 | D30: Lunes a Domingo | E30: Diurnas | F30: Medio Humano sin Arma | G30: 20000 | H30: 20000 | I30: 20000
G31: =SUM(G25:G30) -> 120000 | H31: =SUM(H25:H30) -> 120000 | I31: =SUM(I25:I30) -> 120000
B32: PLAZO ESTIMADO DE EJECUCIÓN
H34: TOTAL 1 de diciembre de 2024 al 31 de diciembre de 2026 | I34: Del 1 de diciembre al 31 de diciembre de 2024 | J34: Del 1 de enero de 2025 al 14 de julio de 2025 | K34: Del 15 de julio de 2025 al 31 de diciembre de 2025 | L34: Del 1 de enero de 2026 al 14 de julio de 2026 | M34: Del 15 de julio de 2026 al 31 de diciembre de 2026
F35: Tiempo estimado de ejecución (Notas 2 y 7) | H35: =SUM(I35:M35) -> 25 | I35: 1 | J35: 6.5 | K35: 5.5 | L35: 6.5 | M35: 5.5
F36: Salario Mínimo Mensual Legal Vigente | H36: - | I36: =#REF! -> #REF! | J36: =#REF! -> #REF! | K36: =#REF! -> #REF! | L36: 1504157.2 | M36: 1504157.2
B38: SERVICIOS DE VIGILANCIA Y MEDIOS TECNOLÓGICOS, DE MONITOREO Y DE APOYO REQUERIDOS POR EL ICANH (Nota 4 y 5)
B41: 1. SERVICIOS DE VIGILANCIA REQUERIDOS POR EL ICANH
B43: SERVICIOS INCLUIDO EN LA CIRCULAR EXTERNA 20221300000675 DEL 29 DE DICIEMBRE DE 2022 | F43: Servicios requeridos para Parques Arqueológicos de San Agustín, Alto de los Ídolos (Huila), Santa María de la Antigua del Darién (Chocó), Tierradentro (Cauca), Santa Marta (Magdalena), San José del Guaviare (Guaviare) y las sedes del ICANH ubicadas en la ciudad de Bogotá D.C | L43: Del 1 de diciembre de 2024 al 31 de diciembre de 2024 | N43: Del 1 de enero de 2025 al 14 de julio de 2025 | P43: Del 15 de julio de 2025 al 31 de diciembre de 2025 | R43: Del 1 de enero de 2026 al 14 de julio de 2026 | T43: Del 15 de julio de 2026 al 31 de diciembre de 2026 | V43: TOTAL 1 de diciembre de 2024 al 31 de diciembre de 2026
B44: Horas requeridas | C44: Días | D44: Jornada | E44: Tipo de Servicio | F44: Cantidad | G44: Valor total turno mes a partir del 15 de julio de 2024 al 31 de diciembre de 2024 Mes Completo | H44: Valor total turno mes a partir del 1 de enero de 2025 al 14 de julio de 2025 Mes Completo | I44: Valor total turno mes a partir del 15 de Julio de 2025 al 31 de diciembre de 2025 Mes Completo | J44: Valor total turno mes a partir del 1 de enero de 2026 al 14 de julio de 2026 Mes Completo | K44: Valor total turno mes a partir del 15 de Julio de 2026 al 31 de diciembre de 2026 Mes Completo | L44: Valor mensual servicio | M44: Valor total | N44: Valor mensual servicio | O44: Valor total | P44: Valor mensual servicio | Q44: Valor total | R44: Valor mensual servicio | S44: Valor total | T44: Valor mensual servicio | U44: Valor total | V44: Valor total (25 MESES)
B45: 24 | C45: Lunes a Domingo | D45: Completa | E45: Medio Humano sin Arma | F45: 5 | G45: 12854160 | H45: 13944928 | I45: 14173429 | J45: 15113110 | K45: 15161845 | L45: =G45*F45 -> 64270800 | M45: =ROUND(L45*$I$35,0) -> 64270800 | N45: =H45*F45 -> 69724640 | O45: =ROUND(N45*$J$35,0) -> 453210160 | P45: =I45*F45 -> 70867145 | Q45: =ROUND(P45*$K$35,0) -> 389769298 | R45: =J45*F45 -> 75565550 | S45: =ROUND(R45*$L$35,0) -> 491176075 | T45: =K45*F45 -> 75809225 | U45: =ROUND(T45*$M$35,0) -> 416950738 | V45: =O45+M45+Q45+S45+U45 -> 1815377071
B46: 24 | C46: Lunes a Domingo | D46: Completa | E46: Medio Humano Con Arma | F46: 11 | G46: 13092200 | H46: 14203167 | I46: 14435900 | J46: 15392982 | K46: 15442620 | L46: =G46*F46 -> 144014200 | M46: =ROUND(L46*$I$35,0) -> 144014200 | N46: =H46*F46 -> 156234837 | O46: =ROUND(N46*$J$35,0) -> 1015526441 | P46: =I46*F46 -> 158794900 | Q46: =ROUND(P46*$K$35,0) -> 873371950 | R46: =J46*F46 -> 169322802 | S46: =ROUND(R46*$L$35,0) -> 1100598213 | T46: =K46*F46 -> 169868820 | U46: =ROUND(T46*$M$35,0) -> 934278510 | V46: =O46+M46+Q46+S46+U46 -> 4067789314
B47: 24 | C47: Sabados, Domingos y Festivos | D47: Completa | E47: Medio Humano Con Arma | F47: 1 | G47: 4378734 | H47: 4749055 | I47: 4826633 | J47: 5145660 | K47: 5162207 | L47: =G47*F47 -> 4378734 | M47: =ROUND(L47*$I$35,0) -> 4378734 | N47: =H47*F47 -> 4749055 | O47: =ROUND(N47*$J$35,0) -> 30868858 | P47: =I47*F47 -> 4826633 | Q47: =ROUND(P47*$K$35,0) -> 26546482 | R47: =J47*F47 -> 5145660 | S47: =ROUND(R47*$L$35,0) -> 33446790 | T47: =K47*F47 -> 5162207 | U47: =ROUND(T47*$M$35,0) -> 28392139 | V47: =O47+M47+Q47+S47+U47 -> 123633003
B48: 12 | C48: Lunes a Viernes sin Festivo | D48: Diurnas | E48: Medio Humano con Arma | F48: 1 | G48: 3923542 | H48: 4255173 | I48: 4324646 | J48: 4610341 | K48: 4625158 | L48: =G48*F48 -> 3923542 | M48: =ROUND(L48*$I$35,0) -> 3923542 | N48: =H48*F48 -> 4255173 | O48: =ROUND(N48*$J$35,0) -> 27658625 | P48: =I48*F48 -> 4324646 | Q48: =ROUND(P48*$K$35,0) -> 23785553 | R48: =J48*F48 -> 4610341 | S48: =ROUND(R48*$L$35,0) -> 29967217 | T48: =K48*F48 -> 4625158 | U48: =ROUND(T48*$M$35,0) -> 25438369 | V48: =O48+M48+Q48+S48+U48 -> 110773306
B49: 12 | C49: Lunes a Viernes sin Festivo | D49: Nocturna (Nota 3) | E49: Medio Humano sin Arma | F49: 1 | G49: 4746035 | H49: 5147613 | I49: 5231737 | J49: 5577690 | K49: 5595632 | L49: =G49*F49 -> 4746035 | M49: =ROUND(L49*$I$35,0) -> 4746035 | N49: =H49*F49 -> 5147613 | O49: =ROUND(N49*$J$35,0) -> 33459485 | P49: =I49*F49 -> 5231737 | Q49: =ROUND(P49*$K$35,0) -> 28774554 | R49: =J49*F49 -> 5577690 | S49: =ROUND(R49*$L$35,0) -> 36254985 | T49: =K49*F49 -> 5595632 | U49: =ROUND(T49*$M$35,0) -> 30775976 | V49: =O49+M49+Q49+S49+U49 -> 134011035
B50: 12 | C50: Lunes a Domingo | D50: Diurnas | E50: Medio Humano sin Arma | F50: 1 | G50: 5767507 | H50: 6255909 | I50: 6358222 | J50: 6778974 | K50: 6800796 | L50: =G50*F50 -> 5767507 | M50: =ROUND(L50*$I$35,0) -> 5767507 | N50: =H50*F50 -> 6255909 | O50: =ROUND(N50*$J$35,0) -> 40663409 | P50: =I50*F50 -> 6358222 | Q50: =ROUND(P50*$K$35,0) -> 34970221 | R50: =J50*F50 -> 6778974 | S50: =ROUND(R50*$L$35,0) -> 44063331 | T50: =K50*F50 -> 6800796 | U50: =ROUND(T50*$M$35,0) -> 37404378 | V50: =O50+M50+Q50+S50+U50 -> 162868846
B51: SUBTOTAL SERVICIOS DE VIGILANCIA | V51: =SUM(V45:V50) -> 6414452575
B54: 2. Medios de comunicación, equipos, materiales y elementos necesarios para la prestación del servicio (Nota 4, 5 y 6)
B56: MEDIOS TECNOLÓGICOS, DE MONITOREO Y DE APOYO (Nota 4, 5 y 6) | F56: Equipos requeridos para Parques Arqueológicos de San Agustín, Alto de los Ídolos (Huila), Santa María de la Antigua del Darién (Chocó), Tierradentro (Cauca), Santa Marta (Magdalena), San José del Guaviare (Guaviare) y las sedes del ICANH ubicadas en la ciudad de Bogotá D.C
B57: # | C57: CATEGORÍA | D57: MEDIO | F57: Cantidad | G57: Precio Unitario Mensual Antes de IVA 2024 | H57: Precio Unitario Mensual Antes de IVA 2025 | I57: Precio Unitario Mensual Antes de IVA 2026 | J57: Valor mensual x cantidades 2024 | K57: Valor total del 1 de diciembre al 31 de diciembre de 2024 | L57: Valor mensual x cantidades 2025 | M57: Valor total del 1 de enero del 2025 al 31 de diciembre de 2025 | N57: Valor mensual x cantidades 2026 | O57: Valor total del 1 de enero del 2026 al 31 de diciembre de 2026 | P57: Valor total 1 de diciembre de 2024 al 31 de diciembre de 2026
B58: 1 | C58: EQUIPOS CCTV Y TV | D58: MONITOR 32" 1080P Señalización DIGITAL Android WIFI RJ45 SD32GB Incorporada INCL. Soporte Pared | F58: 8 | G58: 6200000 | H58: 6200000 | I58: 6200000 | J58: =ROUND(G58*F58,0) -> 49600000 | K58: =J58*$I$35 -> 49600000 | L58: =ROUND(H58*F58,0) -> 49600000 | M58: =L58*(SUM($J$35:$K$35)) -> 595200000 | N58: =ROUND(I58*F58,0) -> 49600000 | O58: =N58*(SUM($L$35:$M$35)) -> 595200000 | P58: =K58+M58+O58 -> 1240000000
B59: 2 | C59: EQUIPOS CCTV Y TV | D59: NVR (Para grabación continua, 32 CH H. 265 4CH @4K o 16CH @1080P hasta 12MP reproducción 16CH 8 SATA 2 HDMI 4K 2 RJ 45 1000 MBPS, Grabación las 24 horas del día, con capacidad de almacenamiento de 6 Teras Bytes). | E59: NVR (Para grabación continua, 32 CH H. 265 4CH @4K o 16CH @1080P hasta 12MP reproducción 16CH 8 SATA 2 HDMI 4K 2 RJ 45 1000 MBPS, Grabación las 24 horas del día, con capacidad de almacenamiento de 6 Teras Bytes). | F59: 8 | G59: 4500000 | H59: 4500000 | I59: 4500000 | J59: =ROUND(G59*F59,0) -> 36000000 | K59: =J59*$I$35 -> 36000000 | L59: =ROUND(H59*F59,0) -> 36000000 | M59: =L59*(SUM($J$35:$K$35)) -> 432000000 | N59: =ROUND(I59*F59,0) -> 36000000 | O59: =N59*(SUM($L$35:$M$35)) -> 432000000 | P59: =K59+M59+O59 -> 900000000
B60: 3 | C60: EQUIPOS CCTV Y TV | D60: (Cámara IP tipo Bala Varifocal 2,8-12 MM 4 MP 120 dB WDR 30 MTS SD Hasta 128 Gb POE VCA).Incluye suministros e instalación (mano de obra) necesarios para el óptimo funcionamiento del circuito cerrado de televisión | E60: (Cámara IP tipo Bala Varifocal 2,8-12 MM 4 MP 120 dB WDR 30 MTS SD Hasta 128 Gb POE VCA).Incluye suministros e instalación (mano de obra) necesarios para el óptimo funcionamiento del circuito cerrado de televisión | F60: 41 | G60: 2500000 | H60: 2500000 | I60: 2500000 | J60: =ROUND(G60*F60,0) -> 102500000 | K60: =J60*$I$35 -> 102500000 | L60: =ROUND(H60*F60,0) -> 102500000 | M60: =L60*(SUM($J$35:$K$35)) -> 1230000000 | N60: =ROUND(I60*F60,0) -> 102500000 | O60: =N60*(SUM($L$35:$M$35)) -> 1230000000 | P60: =K60+M60+O60 -> 2562500000
...

Sheet 2 Visan
B2: SOLICITUD DE COTIZACIÓN | L2: CLASIFICACIÓN DE LA INFORMACIÓN PÚBLICA
B6: SOLICITUD DE COTIZACIÓN
B7: Denominación del Bien o Servicio | D7: Contratar la prestación del servicio integral de vigilancia y seguridad privada para la protección de los bienes y las sedes del ICANH ubicadas a nivel nacional.
B8: Empresa: | C8: VIGILANCIA SANTAFEREÑA Y CIA. LTDA. | E8: Ciudad | F8: Bogotá | G8: Nit: | H8: 800.076.719-5 | I8: Nombres y apellidos persona de contacto: | K8: Sandra Liliana Barrera Ramos
B9: E-Mail: | C9: mercadeo@visan.net.co | F9: Cargo: | G9: Jefe Comercial Público | I9: Tel. celular: | J9: 311 5251322 | K9: Fecha: | L9: 45505
B13: • Por favor diligenciar solo las celdas en AMARILLO. • Revisar todos los requerimientos que se exponen en el documento "Ficha técnica de condiciones esenciales para la Prestación del Servicio y/o Entrega del Bien" (FCT) ; y formular su cotización en concordancia con este, garantizando que los bienes y/o servicios ofrecidos cumplan en su totalidad con las especificaciones técnicas descritas en la FCT. • El precio de la cotización deber ser expresado en PESOS COLOMBIANOS. • Los precios deberán aproximarse por exceso o por defecto al entero más cercano así: (i) si es igual o superior a 50 centavos, se aproxima al entero siguiente; (ii) si es inferior a 50 centavos se baja al entero anterior. • No modificar, agregar o quitar ningún ítem o sub-ítem. • Los precios cotizados deben corresponder al año 2024, 2025 y 2026
