Workbook

Sheet INSUMOS BENEFICIARIOS
A1: Rubro | B1: Especificaciones técnicas | C1: Unidad | D1: Cantidad | E1: Cotización 1 | F1: Cotización 2 | G1: Valor Unitario | H1: Valor total
A2: Manzate | B2: Ingrediente activo: Mancozeb (producto de coordinación del ion -zinc y el etilenobisditiocarbamato de manganeso) 750 g/Kg. Ingredientes aditivos e inertes: c.s.p 1 kilo. | C2: kg | D2: 13 | E2: 25650 | F2: 28350 | G2: =+AVERAGE(E2:F2) -> 27000 | H2: =+D2*G2 -> 351000
A3: Cal hidratada | B3: Cal hidratada (cal para blanquear). Hodroxido de calcio | C3: Bulto por 10 kg | D3: 189 | E3: 19000 | F3: 21000 | G3: =+AVERAGE(E3:F3) -> 20000 | H3: =+D3*G3 -> 3780000
A4: Organico Vigor | B4: NITROGENO TOTAL (N)…. 17,0 % NITROGENO ORGANICO (N) ..... 17,0 % FOSFORO ASIMILABLE (P2O5) ...... 2,5 % POTASIO SOLUBLE EN AGUA (K2O).. 2,2 % MATERIA ORGANICA TOTAL ...... 32,6 % CARBONO ORGANICO ..... 19,0 % RELACION CARBONO / NITROGENO ..... 11,1 | C4: Bulto por 50 kg | D4: 291 | E4: 26220 | F4: 28980 | G4: =+AVERAGE(E4:F4) -> 27600 | H4: =+D4*G4 -> 8031600
A5: Fibra gruesa amarilla | B5: Fibra gruesa de amarre para cultivos en Polipropileno rollo de 1000 mt, color amarillo | C5: Rollo por 1000 m | D5: 10 | E5: 23370 | F5: 25830 | G5: =+AVERAGE(E5:F5) -> 24600 | H5: =+D5*G5 -> 246000
A6: Fibra delgada verde | B6: Rollo de fibra delgada de polopropileno de 4.500 mt | C6: Rollo por 4500 m | D6: 7 | E6: 23750 | F6: 26250 | G6: =+AVERAGE(E6:F6) -> 25000 | H6: =+D6*G6 -> 175000
A7: Fumigadora royal condor clasica | B7: Fumigadora de espalda Capacidad del Tanque : 18 L - 20 L : 4.75 - 5.28 gl Sistema de Inyección y Presión: Presión Hidráulica. Pistón y Camara Externos. | C7: Unidad | D7: 10 | E7: 503500 | F7: 556500 | G7: =+AVERAGE(E7:F7) -> 530000 | H7: =+D7*G7 -> 5300000
A8: Motosierra Still 180 | B8: Cilindrada cm³: 31,8. Potencia kW: 1,5. Potencia_ CV: 2. Relación peso potencia kg/kW: 2,6. Paso de cadena Pulgadas: 3/8"P. Cadena STIHL Oilomatic: Picco Micro 3 (PM3). Tipo cadena (estandar): PICCO MINI 61 PMN. Freno de cadena: QuickStop. Capacidad depósito aceite adhesivo cm3: 145. | C8: Unidad | D8: 3 | E8: 1567500 | F8: 1732500 | G8: =+AVERAGE(E8:F8) -> 1650000 | H8: =+D8*G8 -> 4950000
A9: 13-26-6. | B9: Fertilizante complejo NPK para aplicación al suelo, granulado uso agrícola. composicion garantizada de Nitrogeno total N 13%: nitrogeno amoniacal 10.5%, nitrogeno nitrico 2.5%, fosforo P2O5 26%, K2O 6% | C9: Bulto por 50 kg | D9: 39 | E9: 211850 | F9: 234150 | G9: =+AVERAGE(E9:F9) -> 223000 | H9: =+D9*G9 -> 8697000
A10: Fertilizante 15-15-15 | B10: Fertilizante complejo NPK para aplicación al suelo, granulado uso agrícola; composición; Nitrógeno total (N) 15%; Nitrógeno amoniacal (N) 10.3; N10.3; Nitrógeno nítrico 4.7%; Fósforo asimilable P2O5 15.0%; Potasio soluble en agua (K2O) 15.0% | C10: Bultos por 50 kg | D10: 28 | E10: 175750 | F10: 194250 | G10: =+AVERAGE(E10:F10) -> 185000 | H10: =+D10*G10 -> 5180000
A11: Caneca plastica de 120 lt con aro metalico | B11: Caneca plastica de 120 lt con tapa y aro | C11: Unidad | D11: 35 | E11: 125400 | F11: 138600 | G11: =+AVERAGE(E11:F11) -> 132000 | H11: =+D11*G11 -> 4620000
A12: Lima triangular con mango nicholson | B12: Lima triangular para amolar de 6" con mango | C12: Unidad | D12: 20 | E12: 19000 | F12: 21000 | G12: =+AVERAGE(E12:F12) -> 20000 | H12: =+D12*G12 -> 400000
A13: Machete con cubierta 18 Pulgadas | B13: Machete de 18 pulgadas mango de plástico (P) polipropileno de alto impacto, flexible, antideslizante, acabados pulido (P), remache inoxidable de cabeza plana. | C13: Unidad | D13: 8 | E13: 59850 | F13: 66150 | G13: =+AVERAGE(E13:F13) -> 63000 | H13: =+D13*G13 -> 504000
... A46: Troza de Guadua de 6 mts inmunizada | B46: Guadua rolliza x 6m preservada y secada | C46: unidad | D46: 264 | E46: 34010 | F46: 37590 | G46: =+AVERAGE(E46:F46) -> 35800 | H46: =+D46*G46 -> 9451200
A47: Varilla Roscada 3/8 | C47: unidad | D47: 106.84899 | E47: 15010 | F47: 16590 | G47: =+AVERAGE(E47:F47) -> 15800 | H47: =+D47*G47 -> 1688214
A48: Tuercas para varilla de 3/8 | C48: unidad | D48: 985.7657 | E48: 559.55 | F48: 618.45 | G48: =+AVERAGE(E48:F48) -> 589 | H48: =+D48*G48 -> 580616
A49: Arandela 3/8 | C49: unidad | D49: 495.5 | E49: 1140 | F49: 1260 | G49: =+AVERAGE(E49:F49) -> 1200 | H49: =+D49*G49 -> 594600
A50: Tijeras De Poda Ramas Altas | B50: Cortador Ramas Altas Herragro | C50: unidad | D50: 2 | E50: 114000 | F50: 126000 | G50: =+AVERAGE(E50:F50) -> 120000 | H50: =+D50*G50 -> 240000
A51: Roca Fosforica | B51: Enmienda Mineral | C51: Bulto 50 kg | D51: 10 | E51: 76950 | F51: 85050 | G51: =+AVERAGE(E51:F51) -> 81000 | H51: =+D51*G51 -> 810000
A52: Tijeras De Podar Bellota N9 | B52: Con Mango Ergonómico Para Ramas | C52: unidad | D52: 6 | E52: 61370 | F52: 67830 | G52: =+AVERAGE(E52:F52) -> 64600 | H52: =+D52*G52 -> 387600
A53: Fumigadora de 4 lts Royal condor | B53: Fumigadora manual con capacidad para 4 lts | C53: unidad | D53: 21 | E53: 180120 | F53: 199080 | G53: =+AVERAGE(E53:F53) -> 189600 | H53: =+D53*G53 -> 3981600
A54: Aminopoder 5 litros | B54: AminoPoder es un bioestimulante líquido revolucionario que revitaliza tus cultivos mediante una aplicación foliar y radicular eficiente. Diseñado para adaptarse a múltiples sistemas de cultivo, incluyendo pulverización, riego por goteo y cultivos hidropónicos | C54: 5lts | D54: 4 | E54: 279300 | F54: 308700 | G54: =+AVERAGE(E54:F54) -> 294000 | H54: =+D54*G54 -> 1176000
A55: Alambre de púa rollo | B55: Alambre de Púa Calibre 14 x 500mt 38kg | C55: Rollo | D55: 6 | E55: 413250 | F55: 456750 | G55: =+AVERAGE(E55:F55) -> 435000 | H55: =+D55*G55 -> 2610000
A56: Estacionaria Royal condor | B56: Fumigadora a Motor RoyalCondor® Estacionaria Cerámica a Gasolina | C56: Unidad | D56: 3 | E56: 2365500 | F56: 2614500 | G56: =+AVERAGE(E56:F56) -> 2490000 | H56: =+D56*G56 -> 7470000
A57: Target™ 24 SC | B57: insecticida sistémico, que se transloca en la planta a través de su xilema. Actúa tanto por acción de contacto como de ingestión | C57: LT | D57: 1 | E57: 136800 | F57: 151200 | G57: =+AVERAGE(E57:F57) -> 144000 | H57: =+D57*G57 -> 144000
A58: Ital huevo produccion | B58: BULTO X 40 KG | C58: Unidad | D58: 338 | E58: 123310 | F58: 136290 | G58: =+AVERAGE(E58:F58) -> 129800 | H58: =+D58*G58 -> 43872400
A59: Levante italcol | B59: BULTO X 40 KG | C59: Unidad | D59: 87 | E59: 129010 | F59: 142590 | G59: =+AVERAGE(E59:F59) -> 135800 | H59: =+D59*G59 -> 11814600
A60: Tornillo Autoperforante Madera / Drywall 1 1/2'' | C60: Unidad | D60: 213.67568 | E60: 351.5 | F60: 388.5 | G60: =+AVERAGE(E60:F60) -> 370 | H60: =+D60*G60 -> 79060
A61: Amarras Para Tejas De Eternit | C61: Unidad | D61: 790.66292 | E61: 845.5 | F61: 934.5 | G61: =+AVERAGE(E61:F61) -> 890 | H61: =+D61*G61 -> 703690
A62: Pasador Sueco Satinado | C62: Unidad | D62: 13 | E62: 9975 | F62: 11025 | G62: =+AVERAGE(E62:F62) -> 10500 | H62: =+D62*G62 -> 136500
A63: Bisagra Nudo Cabeza Plana | C63: Unidad | D63: 14 | E63: 11305 | F63: 12495 | G63: =+AVERAGE(E63:F63) -> 11900 | H63: =+D63*G63 -> 166600
A64: Bebedero automatico | B64: Bebedero campana automatico con brida,Material: POLIPROPILENO ALTO IMPACTO, Capacidad en volumen: 8 L Largo x Ancho x Altura: 35.5 cm x 29.3 cm x 35.5 cm Diámetro: 29.3 cm Modelo: bebedero 8 litros | C64: Unidad | D64: 25 | E64: 46550 | F64: 51450 | G64: =+AVERAGE(E64:F64) -> 49000 | H64: =+D64*G64 -> 1225000
A65: Comederos plasticos | B65: Capacidad: 12kg de alimento con pita para subir y bajar, El pollo puede acceder desde los 4 días de nacido, Huellas internas que sirven de apoyo para los pollitos puedan salir con facilidad del platón, Rejilla con 6 divisiones que distribuyen mejor a las aves | C65: Unidad | D65: 81 | E65: 27835 | F65: 30765 | G65: =+AVERAGE(E65:F65) -> 29300 | H65: =+D65*G65 -> 2373300
A66: teja de zinc ondulada | B66: Teja Zinc Ondulada 3.048x0.80mt Cal 34 0.20mm | C66: Unidad | D66: 274 | E66: 39900 | F66: 44100 | G66: =+AVERAGE(E66:F66) -> 42000 | H66: =+D66*G66 -> 11508000
A67: Hacha con mango de fibra de vidrio | B67: con un peso de cabeza de 1250 gr y una longitud de 79.5 cm | C67: Unidad | D67: 4 | E67: 132905 | F67: 146895 | G67: =+AVERAGE(E67:F67) -> 139900 | H67: =+D67*G67 -> 559600
A68: Guadaña de mochila | B68: Guadaña de espalda | C68: Unidad | D68: 1 | E68: 1615000 | F68: 1785000 | G68: =+AVERAGE(E68:F68) -> 1700000 | H68: =+D68*G68 -> 1700000
A69: Careta STIHL FUNCTION GPA 33 | B69: equipo de proteccion protección facial y auditiva te protege durante el trabajo exigente. Esta protección dispone además de una doble diadema | C69: unidad | D69: 1 | E69: 241300 | F69: 266700 | G69: =+AVERAGE(E69:F69) -> 254000 | H69: =+D69*G69 -> 254000
A70: Lamina de SuperBoard 6mm | B70: 2.44*1.22 | C70: Unidad | D70: 20 | E70: 81700 | F70: 90300 | G70: =+AVERAGE(E70:F70) -> 86000 | H70: =+D70*G70 -> 1720000
A71: Crecer 500 | B71: Crecer 500 fertilizante de aplicación foliar microfertisa 1kg | C71: Unidad | D71: 7 | E71: 23750 | F71: 26250 | G71: =+AVERAGE(E71:F71) -> 25000 | H71: =+D71*G71 -> 175000
A72: Cerca Electrica Galvanizada C14 1000M | B72: Cerca Electrica Galvanizada C14 1000M | D72: 1 | E72: 361000 | F72: 399000 | G72: =+AVERAGE(E72:F72) -> 380000 | H72: =+D72*G72 -> 380000
...

Sheet INSUMOS BPA
A1: Rubro | B1: Especificaciones técnicas | C1: Unidad | D1: Cantidad | E1: Cotización 1 | F1: Cotización 2 | G1: Valor Unitario | H1: Valor total
A2: Fertilizante DAP x 50 Kg | B2: Fertilizante DAP es un compuesto químico ampliamente utilizado en la agricultura para proporcionar una fuente de fósforo y nitrógeno a los cultivos. | C2: Bulto 50 kg | D2: 2 | E2: =+'INSUMOS BENEFICIARIOS'!E39 -> 256500 | F2: =+'INSUMOS BENEFICIARIOS'!F39 -> 283500 | G2: =+AVERAGE(E2:F2) -> 270000 | H2: =+G2*D2 -> 540000
A3: Cal Triple 30 | B3: Enmienda Triple 30 Rio x 50 Kg | C3: Bulto | D3: 3 | E3: =+'INSUMOS BENEFICIARIOS'!E75 -> 71250 | F3: =+'INSUMOS BENEFICIARIOS'!F75 -> 78750 | G3: =+AVERAGE(E3:F3) -> 75000 | H3: =+G3*D3 -> 225000
A4: Orgánico Vigor | B4: NITROGENO TOTAL (N)…. 17,0 % NITROGENO ORGANICO (N) ..... 17,0 % FOSFORO ASIMILABLE (P2O5) ...... 2,5 % POTASIO SOLUBLE EN AGUA (K2O).. 2,2 % MATERIA ORGANICA TOTAL ...... 32,6 % CARBONO ORGANICO ..... 19,0 % RELACION CARBONO / NITROGENO ..... 11,1 | C4: Bulto por 50 kg | D4: 8 | E4: =+'INSUMOS BENEFICIARIOS'!E4 -> 26220 | F4: =+'INSUMOS BENEFICIARIOS'!F4 -> 28980 | G4: =+AVERAGE(E4:F4) -> 27600 | H4: =+G4*D4 -> 220800
A5: Fertilizante Yara Remital-M 17-6-18-2 | B5: El Fertilizante Remital es granulado de alta calidad, remital está especialmente diseñado para el aporte de la mayoría de los elementos requerido | C5: Bulto 50 kg | D5: 2 | E5: =+'INSUMOS BENEFICIARIOS'!E37 -> 180120 | F5: =+'INSUMOS BENEFICIARIOS'!F37 -> 199080 | G5: =+AVERAGE(E5:F5) -> 189600 | H5: =+G5*D5 -> 379200
A6: Taladro eléctrico | B6: Taladro Rotativo 1/2” 900W 7.8A DW245 – Profesional | C6: Unidad | D6: 1 | E6: =+'INSUMOS BENEFICIARIOS'!E80 -> 617500 | F6: =+'INSUMOS BENEFICIARIOS'!F80 -> 682500 | G6: =+AVERAGE(E6:F6) -> 650000 | H6: =+G6*D6 -> 650000
A7: Estantería de Carga Liviana 40 o anaquel metálico de 200 cm de alto x 40 cm de fondo | B7: Estantería de Carga Liviana 40 o anaquel metálico de 200 cm de alto x 40 cm de fondo | C7: Unidad | D7: 1 | E7: 700000 | F7: 700000 | G7: =+AVERAGE(E7:F7) -> 700000 | H7: =+G7*D7 -> 700000
A8: Kit señalética BPA | B8: Kit señalética BPA | C8: Unidad | D8: 1 | E8: 285000 | F8: 285000 | G8: =+AVERAGE(E8:F8) -> 285000 | H8: =+G8*D8 -> 285000

Sheet INSUMOS ASOCIACIÓN
A1: Rubro | B1: Especificaciones técnicas | C1: Unidad | D1: Cantidad | E1: Cotización 1 | F1: Cotización 2 | G1: Valor Unitario | H1: Valor total
A2: Aspersor Impacto Nuogo Aonuogo101 3 4 Laton 360gr Jardin | B2: Aspersor Impacto Nuogo Aonuogo101 3 4 Laton 360gr Jardin | C2: Unidad | D2: 3 | E2: 350000 | F2: 360000 | G2: =+AVERAGE(E2:F2) -> 355000 | H2: =+D2*G2 -> 1065000
A3: Valvula Ventosa Doble Efecto 1.1/2 Pulgadas | B3: Valvula Ventosa Doble Efecto 1.1/2 Pulgadas | C3: Unidad | D3: 2 | E3: 77000 | F3: 73000 | G3: =+AVERAGE(E3:F3) -> 75000 | H3: =+D3*G3 -> 150000
A4: Cortasetos Husqvarna 122hd60 | B4: Cortasetos Husqvarna 122hd60 | C4: Unidad | D4: 1 | E4: 1890000 | F4: 1678000 | G4: =+AVERAGE(E4:F4) -> 1784000 | H4: =+D4*G4 -> 1784000
A5: Ariete Hidráulico Practiagro #6 - 2 ½ Pulgadas | B5: Ariete Hidráulico Practiagro #6 - 2 ½ Pulgadas | C5: Unidad | D5: 1 | E5: 2850000 | F5: 2650000 | G5: =+AVERAGE(E5:F5) -> 2750000 | H5: =+D5*G5 -> 2750000
A6: Ahoyador Husqvarna 541ea 1,97 Hp 41,5 Motor 2t Broca 20x80cm | B6: Ahoyador Husqvarna 541ea 1,97 Hp 41,5 Motor 2t Broca 20x80cm | C6: Unidad | D6: 1 | E6: 3400000 | F6: 3600000 | G6: =+AVERAGE(E6:F6) -> 3500000 | H6: =+D6*G6 -> 3500000
A7: Chipeadora Diesel 15 hp │Capacidad de Corte Diámetro hasta 6 Pulgadas (150 mm) | B7: Chipeadora Diesel 15 hp │Capacidad de Corte Diámetro hasta 6 Pulgadas (150 mm) | C7: Unidad | D7: 1 | E7: 9758000 | F7: 9992000 | G7: =+AVERAGE(E7:F7) -> 9875000 | H7: =+D7*G7 -> 9875000
A8: Carretilla Transportadora sobre Orugas Advance 500Kg Volco Tipo Volqueta TAG500CH | B8: Carretilla Transportadora sobre Orugas Advance 500Kg Volco Tipo Volqueta TAG500CH | C8: Unidad | D8: 1 | E8: 13589201 | F8: 14519799 | G8: =+AVERAGE(E8:F8) -> 14054500 | H8: =+D8*G8 -> 14054500
A9: Motosierra Stihl Ms250 compacta y de alta potencia 45 cc color naranja | B9: Motosierra Stihl Ms250 compacta y de alta potencia 45 cc color naranja | C9: Unidad | D9: 1 | E9: 2125000 | F9: 2125000 | G9: =+AVERAGE(E9:F9) -> 2125000 | H9: =+D9*G9 -> 2125000
A10: Cañón Aspersor Metálico de 2" pulgadas | B10: Cañón Aspersor Metálico de 2" pulgadas | C10: Unidad | D10: 1 | E10: 320000 | F10: 305000 | G10: =+AVERAGE(E10:F10) -> 312500 | H10: =+D10*G10 -> 312500
A11: Manguera Agricola Riego 2 Pulgadas Cal 60 X 100mtrs | B11: Manguera Agricola Riego 2 Pulgadas Cal 60 X 100mtrs | C11: Rollo de 100 mts | D11: 2 | E11: 590000 | F11: 560000 | G11: =+AVERAGE(E11:F11) -> 575000 | H11: =+D11*G11 -> 1150000
A12: Manguera 1Pulg Polietileno 100 M 150 Psi | B12: Manguera 1Pulg Polietileno 100 M 150 Psi | C12: Rollo de 100 mts | D12: 2 | E12: 310000 | F12: 274000 | G12: =+AVERAGE(E12:F12) -> 292000 | H12: =+D12*G12 -> 584000
A13: Tanque 1000 Lts Negro | B13: Tanque 1000 Lts Negro | C13: Unidad | D13: 1 | E13: 630000 | F13: 670000 | G13: =+AVERAGE(E13:F13) -> 650000 | H13: =+D13*G13 -> 650000

Sheet FERIAS
A1: ITEM | B1: DESCRIPCIÓN | C1: Cotización 1 | D1: Cotización 2 | E1: VALOR UNITARIO
A2: ALIMENTACIÓN | B2: Desayuno (90 gramos de proteína, 90 gramos de cereal y bebida de 200 ml), deberá hacerse entrega en cajas desechables, con cubiertos desechables y con servilleta; que sean biodegradables o amigables con el medio ambiente. | C2: 30226 | D2: 30226 | E2: =+AVERAGE(C2:D2) -> 30226
B3: Refrigerio (Bebida 200 ml. Cereal o panadería de 120 gr. a 160 gr) deberá hacerse entrega en cajas desechables, con cubiertos desechables y con servilleta; que sean biodegradables o amigables con el medio ambiente. | C3: 30226 | D3: 30226 | E3: =+AVERAGE(C3:D3) -> 30226
B4: Almuerzo (125 g de proteína, 40 g de cereal y 60 g carbohidrato, bebida de 200 ml) deberá hacerse entrega en cajas desechables, con cubiertos desechables y con servilleta; que sean biodegradables o amigables con el medio ambiente. | C4: 45339 | D4: 45339 | E4: =+AVERAGE(C4:D4) -> 45339
B5: Suministro de unidad de botella de agua | C5: 3778.25 | D5: 3778.25 | E5: =+AVERAGE(C5:D5) -> 3778.25
A6: LOGÍSTICA | B6: Sonido | C6: 2266950 | D6: 2266950 | E6: =+AVERAGE(C6:D6) -> 2266950
B7: BOLSA ECOLOGICA | C7: 45339 | D7: 45339 | E7: =+AVERAGE(C7:D7) -> 45339
B8: Suministro de delantales personalizados para adulto, elaborados en tela resistente tipo dril o lona, color verde oscuro, con pechera, tira ajustable para cuello y cintas laterales para ajuste en cintura. Cada delantal deberá contar con estampación frontal a color del diseño suministrado por la entidad, incluyendo elementos representativos del municipio, textos e ilustraciones institucionales. La estampación deberá ser de alta calidad y resistente al uso y lavado frecuente. El producto deberá entregarse nuevo, completamente terminado, con costuras reforzadas y adecuados acabados. | C8: 52895.5 | D8: 52895.5 | E8: =+AVERAGE(C8:D8) -> 52895.5
B9: Souvenirs para comité Gerencial (kit de 3 productos del conevio café, cacao, miel, cerámica, jabón artesanal, o termo o agenda personalizada) | C9: 240000 | D9: 240000 | E9: =+AVERAGE(C9:D9) -> 240000

Sheet COMITÉ GERENCIAL
A1: ITEM | B1: DESCRIPCIÓN | C1: CANTIDAD | D1: COTIZACIÓN 1 | E1: COTIZACIÓN 2 | F1: VALOR UNITARIO | G1: VALOR TOTAL
A2: 1 | B2: Atención de evento de comité gerencial que incluye Porción fruta picada con yogurt griego y cereal acompañada de pan de yuca recién horneado | C2: =9*5 -> 45 | D2: =+FERIAS!C2 -> 30226 | E2: =+FERIAS!D2 -> 30226 | F2: =+AVERAGE(D2:E2) -> 30226 | G2: =+F2*C2 -> 1360170
A3: 2 | B3: Servicio de alimentación para los asistentes al comité gerencial, compuesto por plato fuerte con proteína, acompañamiento de carbohidrato, ensalada, bebida y postre. Los alimentos deberán ser preparados bajo adecuadas condiciones de higiene y manipulación, servidos en condiciones óptimas de calidad y temperatura. | C3: 45 | D3: =+FERIAS!C4 -> 45339 | E3: =+FERIAS!D4 -> 45339 | F3: =+AVERAGE(D3:E3) -> 45339 | G3: =+F3*C3 -> 2040255
A4: 3 | B4: Estación café/aromática atendido | C4: 45 | D4: 11671 | E4: 11671 | F4: =+AVERAGE(D4:E4) -> 11671 | G4: =+F4*C4 -> 525195
A5: 4 | B5: Souvenirs para comité Gerencial (kit de 3 productos del conevio café, cacao, miel, cerámica, jabón artesanal, o termo con café o agenda personalizada) | C5: 36 | D5: 220000 | E5: 220000 | F5: =+AVERAGE(D5:E5) -> 220000 | G5: =+F5*C5 -> 7920000
A6: 5 | B6: materiales requeridos para las diferentes actividades, ayudas audiovisuales y técnicas para cada una de las actividades de la jornada | C6: 1 | D6: 1000000 | E6: 1000000 | F6: =+AVERAGE(D6:E6) -> 1000000 | G6: =+F6*C6 -> 1000000
