Workbook
Name _Hlk31791033: CONSOLIDADO!#REF!
Name _Hlk31791033: 'COTIZACION COT-201-2026-HOMIL'!#REF!
Name _Hlk31791033: HISTORICIO!#REF!
Name _Hlk31791033: 'PRECIOS TECHO'!#REF!

Sheet PRECIOS TECHO
G1: PRECIO TECHO
B2: ÍTEM | C2: BIEN O SERVICIO | D2: ESPECIFICACIONES | E2: CANTIDAD | F2: UNIDAD DE MEDIDA | G2: VALOR TOTAL UNITARIO | H2: IVA (Si Aplica) | I2: VALOR TOTAL
B3: 1 | C3: CORTINA HOSPITALARIA INCLUYE EL RETIRO DE LAS CORTINAS INSTALADAS. | D3: Especificaciones cortina: 1. Ancho 150± 3 cm 2. Peso: (masa/unidad de área) (*A): 133 ± 7g/m2 ASTM D3776- 20OPC.C. 3. Bloqueo UVA (SECO): Min 96.00 %AATCC 183. 4. Bloqueo UVB (SECO): Min 99.00% AATCC 183. 5. Factor protección UPF (HUMEDO): Min 50.00 UPF AATCC 183. 6. Factor de protección UPF (SECO): Min 50.00 UPF AATCC 183. 7. Repelencia agua (*A): Min 90.00 e AATCC 22-2017. 8. Repelencia agua (50 LAV): Min 80.00 e AATCC 22/AATCC 124. 2 9. Pasadas (*A): 30.5± 1 hilo/cm ASTM D3775-17E1DERECHO TELA. 10. Composición: 100.00% Filamento de poliéster. 11. Tecnología Cloro resistente / Norma AATCC 61. 12. Tecnología Antifluido / Norma 22 / AATCC 124 / AATCC 22-2017. 13. Peso 133 ± 7 g/m2 Tela tipo malla: 1. Ancho 300 ± 2 cm 2. Peso (masa /unidad de área) 129.5 ± 6.5 g/m2 3. 100% Filamento de poliéster Riel: 1. Material: aleación de aluminio. 2. Perfil (ancho * alto) de 18*20. 3. Color blanco. 4. Pistas doble individual: 4.1. Recubrimiento de alta tecnología con resistencia al impacto, cada pista debe estar equipada con imán de plástico y ganchos Pera Plástico. | E3: 1 | F3: M2 | G3: =ROUND(CONSOLIDADO!Y3,0) -> 180000 | H3: =+G3*0.19 -> 34200 | I3: =G3+H3 -> 214200
B4: 2 | C4: CORTINAS BLACK OUT ENROLLABLES INCLUYE EL RETIRO DE LAS CORTINAS Y/O BLACK OUT INSTALADOS. | D4: 1. Material: 25% fibra de vidrio 75% PVC. 2. Peso 522 ±5 g/m2 3. Calibre: 0.42 4. Nivel Privación: Black / Opacidad 5. Numero de colores : 4 6. Retardante al fuego : Certificación antiflama NFPA 701-2004 TM #1 (small scale) 7. Bloque de Rayos UV 100% 8. Libre de plomo 9. Tela compuesta de 4 capas, que proveen absoluta privacidad. 10. Material del tubo: Aluminio ranurado (resistente a la corrosión y a las roturas). 11. Tratamiento anti ácaros 12. Tratamiento para evitar aparición de hongos 13. Resistencia a la tracción 14. Resistencia al desgarre | E4: 1 | F4: M2 | G4: =ROUND(CONSOLIDADO!Y4,0) -> 71468 | H4: =+G4*0.19 -> 13578.92 | I4: =G4+H4 -> 85046.92
B5: 3 | C5: CORTINAS SOLAR SCREEN ENROLLABLES INLCLUYE RETIRO DE CORTINAS ENRROLARSE INSTALADAS | D5: Fibras 1. Recubiertas en PVC en su exterior 2. Resistencia: alta densidad y elasticidad. 3. Acabado de color: Debe permitir una relación visual con el exterior y evitar tanto el sobre – exposición lumínico y como reflejos al interior del espacio 4. Bloqueo de Rayos UV 95%. 5.Libre de plomo. 6. Resistencia: La tela debe estar esterilizada contra acaros, virus, hongos, y bacterias. 7. Retardante al fuego. 8. Composición: 35% PES + 65% PVC 9. Peso: 420gr/m2+- 3% 10. Espesor: 0.55mm+- 0.02mm 11. Factor de apertura: 5% 12. Bloqueo UV: 95% 13. Resistencia a la luz: Clase 4 – 5 14. Retardante al fuego: NFPA 701 15. Resistencia a la tracción 16. Resistencia al cambio de color 17. Resistencia a la abrasión 18. Resistencia al desgarre | E5: 1 | F5: M2 | G5: =ROUND(CONSOLIDADO!Y5,0) -> 119693 | H5: =+G5*0.19 -> 22741.67 | I5: =G5+H5 -> 142434.67
B6: 4 | C6: TAPETES ANTIBACTERIANO, ANTIDESLIZANTES PARA DUCHA. | D6: 1. Con ventosas y puntos de masajes. 2. Estera de caucho natural. 3. Dimensiones: 64 cm largo x 43 cm de ancho. | E6: 1 | F6: UNIDAD | G6: =ROUND(CONSOLIDADO!Y6,0) -> 69000 | H6: =+G6*0.19 -> 13110 | I6: =G6+H6 -> 82110
B7: 5 | C7: CORTINAS EN VINILO ANTIBACTERIAL TRANSPARENTE PARA BAÑO | D7: 1. Repelente al agua 2. De secado rápido. 3. Resistente al moho. 4. Debe tener el logo del Hospital Militar Central. 5. Dimensiones: Entre 1.80 y 1.90 m de alto x 1.50 m ancho. 6. Calibre: 20 | E7: 1 | F7: UNIDAD | G7: =ROUND(CONSOLIDADO!Y7,0) -> 178000 | H7: =+G7*0.19 -> 33820 | I7: =G7+H7 -> 211820
B8: 6 | C8: CORTINAS EN VINILO ANTIBACTERIAL TRANSPARENTE PARA BAÑO | D8: 1. Repelente al agua 2. De secado rápido. 3. Resistente al moho. 4. Debe tener el logo del Hospital Militar Central. 5. Dimensiones: Entre 1.80 y 2.00 de alto x 1.50 ancho. 6. Calibre: 20 | E8: 1 | F8: UNIDAD | G8: =ROUND(CONSOLIDADO!Y8,0) -> 210000 | H8: =+G8*0.19 -> 39900 | I8: =G8+H8 -> 249900
B9: 7 | C9: TUBO PARA CORTINA REDONDO FABRICADO EN ACERO INOXIDABLE | D9: Tubo: 1. Diámetro:1”(pulgada). 2. Calibre: 18. Anclajes 1. A muros, redondos de 2” (pulgadas). 2. Tres (3) anclajes, en acero inoxidable. 3. Incluye curvas, cortes y adecuaciones necesarios para su instalación. | E9: 1 | F9: ML | G9: =ROUND(CONSOLIDADO!Y9,0) -> 56364 | H9: =+G9*0.19 -> 10709.16 | I9: =G9+H9 -> 67073.16
B10: 8 | C10: CORTINAS SHEER ELEGANCE SCREEN INCLUYE EL RETIRO DE LAS CORTINAS ENRROLLABLES INSTALADAS. | D10: 1. Material: 25% poliester 75% PVC 2. Peso 295 gr/m2 ± 3 % 3. Espesor +/- 0.70mm +/- 0.02 4. Ancho 2.50m y 3.00m 5. Número de colores : 4 6. Retardante al fuego : Certificación antiflama NFPA 701-2004 7: Bloqueo de Rayos UV 81% 8. Resistencia a la luz: clase 8 9. Libre de plomo 10. Tratamiento antiacaros 11. Tratamiento para evitar aparición de hongos | E10: 1 | F10: M2 | G10: =ROUND(CONSOLIDADO!Y10,0) -> 115610 | H10: =+G10*0.19 -> 21965.9 | I10: =G10+H10 -> 137575.9
B11: 9 | C11: RIEL SUIZO FLEXIBLE INCLUYE EL RETIRO DE LAS CORTINAS ENRROLLABLES INSTALADAS. | D11: Incluye soporte riel/techo, terminales de riel. El ítem contempla: •Suministro de riel suizo flexible •Soportes de fijación a techo o estructura (riel/techo) •Terminales o topes de riel •Accesorios de instalación necesarios •Desmonte y retiro de cortinas existentes, cuando aplique •Montaje y adecuación de cortinas existentes o nuevas sobre el sistema instalado, según requerimiento de la entidad | E11: 1 | F11: ML | G11: =ROUND(CONSOLIDADO!Y11,0) -> 65000 | H11: =+G11*0.19 -> 12350 | I11: =G11+H11 -> 77350
B12: 10 | C12: RIEL SUIZO CURVO INCLUYE EL RETIRO DE LAS CORTINAS ENRROLLABLES INSTALADAS. | D12: Incluye soporte riel/techo, terminales de riel, desmonte y montaje de cortinas existentes. | E12: 1 | F12: ML | G12: =ROUND(CONSOLIDADO!Y12,0) -> 110526 | H12: =+G12*0.19 -> 20999.94 | I12: =G12+H12 -> 131525.94
B13: 11 | C13: RIEL FLEXIRIEL | D13: Suministro e instalación de RIEL FLEXIRIEL. Incluye desmonte y montaje de cortinas existentes | E13: 1 | F13: ML | G13: =ROUND(CONSOLIDADO!Y13,0) -> 85000 | H13: =+G13*0.19 -> 16150 | I13: =G13+H13 -> 101150
B14: 12 | C14: SOPORTE DE INSTALACION A TECHO PARA RIEL | D14: De alta resistencia. | E14: 1 | F14: UNIDAD | G14: =ROUND(CONSOLIDADO!Y14,0) -> 8000 | H14: =+G14*0.19 -> 1520 | I14: =G14+H14 -> 9520
... B24: 22 | C24: CORTE LATERAL CORTINA BLACK OUT | D24: Servicio de corte y ajuste de lateral de cortina tipo Black Out, consistente en la adecuación dimensional del borde lateral de la cortina para garantizar su correcta instalación, alineación y funcionamiento dentro del sistema existente. | E24: 1 | F24: UNIDAD | G24: =ROUND(CONSOLIDADO!Y24,0) -> 55000 | H24: =+G24*0.19 -> 10450 | I24: =G24+H24 -> 65450

Sheet CONSOLIDADO
G1: SIO SAS | J1: PROVEEDOR INSTITUCIONAL S.A.S | M1: CONTRATO NO. 315-2025 -SIO SAS INDEXADO IPC 2025 5,10%
B2: ÍTEM | C2: BIEN O SERVICIO | D2: ESPECIFICACIONES | E2: CANTIDAD | F2: UNIDAD DE MEDIDA | G2: VALOR TOTAL UNITARIO | H2: IVA (Si Aplica) | I2: VALOR TOTAL | J2: VALOR TOTAL UNITARIO | K2: IVA (Si Aplica) | L2: VALOR TOTAL | M2: VALOR TOTAL UNITARIO | N2: IVA (Si Aplica) | O2: VALOR TOTAL | P2: MINIMO | Q2: MAXIMO | R2: MEDIA ARMONICA | S2: PROMEDIO | T2: MEDIA GEOMETRICA | U2: MEDIANA | V2: DESVIACION | W2: DISPERSION | X2: METRICA | Y2: PRECIO TECHO ANTES DE IVA
B3: 1 | C3: CORTINA HOSPITALARIA INCLUYE EL RETIRO DE LAS CORTINAS INSTALADAS. | D3: Especificaciones cortina: 1. Ancho 150± 3 cm 2. Peso: (masa/unidad de área) (*A): 133 ± 7g/m2 ASTM D3776- 20OPC.C. 3. Bloqueo UVA (SECO): Min 96.00 %AATCC 183. 4. Bloqueo UVB (SECO): Min 99.00% AATCC 183. 5. Factor protección UPF (HUMEDO): Min 50.00 UPF AATCC 183. 6. Factor de protección UPF (SECO): Min 50.00 UPF AATCC 183. 7. Repelencia agua (*A): Min 90.00 e AATCC 22-2017. 8. Repelencia agua (50 LAV): Min 80.00 e AATCC 22/AATCC 124. 2 9. Pasadas (*A): 30.5± 1 hilo/cm ASTM D3775-17E1DERECHO TELA. 10. Composición: 100.00% Filamento de poliéster. 11. Tecnología Cloro resistente / Norma AATCC 61. 12. Tecnología Antifluido / Norma 22 / AATCC 124 / AATCC 22-2017. 13. Peso 133 ± 7 g/m2 Tela tipo malla: 1. Ancho 300 ± 2 cm 2. Peso (masa /unidad de área) 129.5 ± 6.5 g/m2 3. 100% Filamento de poliéster Riel: 1. Material: aleación de aluminio. 2. Perfil (ancho * alto) de 18*20. 3. Color blanco. 4. Pistas doble individual: 4.1. Recubrimiento de alta tecnología con resistencia al impacto, cada pista debe estar equipada con imán de plástico y ganchos Pera Plástico. | E3: 1 | F3: M2 | G3: 225000 | H3: =G3*0.19 -> 42750 | I3: =G3+H3 -> 267750 | J3: 180000 | K3: =+J3*19% -> 34200 | L3: =J3+K3 -> 214200 | M3: 0 | N3: 0 | O3: 0 | P3: =MIN(G3,J3) -> 180000 | Q3: =MAX(G3,J3) -> 225000 | R3: =HARMEAN(G3,J3) -> 200000 | S3: =AVERAGE(G3,J3) -> 202500 | T3: =GEOMEAN(G3,J3) -> 201246.12 | U3: =MEDIAN(G3,J3) -> 202500 | V3: =_xlfn.STDEV.P(G3,J3) -> 22500 | W3: =V3/U3 -> 0.11111111 | X3: MENOR VALOR | Y3: =+P3 -> 180000
B4: 2 | C4: CORTINAS BLACK OUT ENROLLABLES INCLUYE EL RETIRO DE LAS CORTINAS Y/O BLACK OUT INSTALADOS. | D4: 1. Material: 25% fibra de vidrio 75% PVC. 2. Peso 522 ±5 g/m2 3. Calibre: 0.42 4. Nivel Privación: Black / Opacidad 5. Numero de colores : 4 6. Retardante al fuego : Certificación antiflama NFPA 701-2004 TM #1 (small scale) 7. Bloque de Rayos UV 100% 8. Libre de plomo 9. Tela compuesta de 4 capas, que proveen absoluta privacidad. 10. Material del tubo: Aluminio ranurado (resistente a la corrosión y a las roturas). 11. Tratamiento anti ácaros 12. Tratamiento para evitar aparición de hongos 13. Resistencia a la tracción 14. Resistencia al desgarre | E4: 1 | F4: M2 | G4: 80000 | H4: =G4*0.19 -> 15200 | I4: =G4+H4 -> 95200 | J4: 97000 | K4: =+J4*19% -> 18430 | L4: =J4+K4 -> 115430 | M4: 71468 | N4: 13578.92 | O4: 85046.92 | P4: =MIN(G4,J4,M4) -> 71468 | Q4: =MAX(G4,J4,M4) -> 97000 | R4: =HARMEAN(G4,J4,M4) -> 81518.295 | S4: =AVERAGE(G4,J4,M4) -> 82822.667 | T4: =GEOMEAN(G4,J4,M4) -> 82159.499 | U4: =MEDIAN(G4,J4,M4) -> 80000 | V4: =_xlfn.STDEV.P(G4,J4,M4) -> 10612.77 | W4: =V4/U4 -> 0.13265963 | X4: MENOR VALOR | Y4: =+P4 -> 71468
B5: 3 | C5: CORTINAS SOLAR SCREEN ENROLLABLES INLCLUYE RETIRO DE CORTINAS ENRROLARSE INSTALADAS | D5: Fibras 1. Recubiertas en PVC en su exterior 2. Resistencia: alta densidad y elasticidad. 3. Acabado de color: Debe permitir una relación visual con el exterior y evitar tanto el sobre – exposición lumínico y como reflejos al interior del espacio 4. Bloqueo de Rayos UV 95%. 5.Libre de plomo. 6. Resistencia: La tela debe estar esterilizada contra acaros, virus, hongos, y bacterias. 7. Retardante al fuego. 8. Composición: 35% PES + 65% PVC 9. Peso: 420gr/m2+- 3% 10. Espesor: 0.55mm+- 0.02mm 11. Factor de apertura: 5% 12. Bloqueo UV: 95% 13. Resistencia a la luz: Clase 4 – 5 14. Retardante al fuego: NFPA 701 15. Resistencia a la tracción 16. Resistencia al cambio de color 17. Resistencia a la abrasión 18. Resistencia al desgarre | E5: 1 | F5: M2 | G5: 165000 | H5: =G5*0.19 -> 31350 | I5: =G5+H5 -> 196350 | J5: 110000 | K5: =+J5*19% -> 20900 | L5: =J5+K5 -> 130900 | M5: 84080 | N5: 15975.2 | O5: 100055.2 | P5: =MIN(G5,J5,M5) -> 84080 | Q5: =MAX(G5,J5,M5) -> 165000 | R5: =HARMEAN(G5,J5,M5) -> 110926.44 | S5: =AVERAGE(G5,J5,M5) -> 119693.33 | T5: =GEOMEAN(G5,J5,M5) -> 115130.34 | U5: =MEDIAN(G5,J5,M5) -> 110000 | V5: =_xlfn.STDEV.P(G5,J5,M5) -> 33739.019 | W5: =V5/U5 -> 0.30671836 | X5: PROMEDIO | Y5: =++S5 -> 119693.33
B6: 4 | C6: TAPETES ANTIBACTERIANO, ANTIDESLIZANTES PARA DUCHA. | D6: 1. Con ventosas y puntos de masajes. 2. Estera de caucho natural. 3. Dimensiones: 64 cm largo x 43 cm de ancho. | E6: 1 | F6: UNIDAD | G6: 90000 | H6: =G6*0.19 -> 17100 | I6: =G6+H6 -> 107100 | J6: 69000 | K6: =+J6*19% -> 13110 | L6: =J6+K6 -> 82110 | M6: 0 | N6: 0 | O6: 0 | P6: =MIN(G6,J6) -> 69000 | Q6: =MAX(G6,J6) -> 90000 | R6: =HARMEAN(G6) -> 90000 | S6: =AVERAGE(G6,J6) -> 79500 | T6: =GEOMEAN(G6,J6) -> 78803.553 | U6: =MEDIAN(G6,J6) -> 79500 | V6: =_xlfn.STDEV.P(G6,J6) -> 10500 | W6: =V6/U6 -> 0.13207547 | X6: MENOR VALOR | Y6: =+P6 -> 69000
B7: 5 | C7: CORTINAS EN VINILO ANTIBACTERIAL TRANSPARENTE PARA BAÑO | D7: 1. Repelente al agua 2. De secado rápido. 3. Resistente al moho. 4. Debe tener el logo del Hospital Militar Central. 5. Dimensiones: Entre 1.80 y 1.90 m de alto x 1.50 m ancho. 6. Calibre: 20 | E7: 1 | F7: UNIDAD | G7: 214000 | H7: =G7*0.19 -> 40660 | I7: =G7+H7 -> 254660 | J7: 178000 | K7: =+J7*19% -> 33820 | L7: =J7+K7 -> 211820 | M7: 0 | N7: 0 | O7: 0 | P7: =MIN(G7,J7) -> 178000 | Q7: =MAX(G7,J7) -> 214000 | R7: =HARMEAN(G7) -> 214000 | S7: =AVERAGE(G7,J7) -> 196000 | T7: =GEOMEAN(G7,J7) -> 195171.72 | U7: =MEDIAN(G7,J7) -> 196000 | V7: =_xlfn.STDEV.P(G7,J7) -> 18000 | W7: =V7/U7 -> 0.091836735 | X7: MENOR VALOR | Y7: =+P7 -> 178000
B8: 6 | C8: CORTINAS EN VINILO ANTIBACTERIAL TRANSPARENTE PARA BAÑO | D8: 1. Repelente al agua 2. De secado rápido. 3. Resistente al moho. 4. Debe tener el logo del Hospital Militar Central. 5. Dimensiones: Entre 1.80 y 2.00 de alto x 1.50 ancho. 6. Calibre: 20 | E8: 1 | F8: UNIDAD | G8: 214000 | H8: =G8*0.19 -> 40660 | I8: =G8+H8 -> 254660 | J8: 210000 | K8: =+J8*19% -> 39900 | L8: =J8+K8 -> 249900 | M8: 0 | N8: 0 | O8: 0 | P8: =MIN(G8,J8) -> 210000 | Q8: =MAX(G8,J8) -> 214000 | R8: =HARMEAN(G8) -> 214000 | S8: =AVERAGE(G8,J8) -> 212000 | T8: =GEOMEAN(G8,J8) -> 211990.57 | U8: =MEDIAN(G8,J8) -> 212000 | V8: =_xlfn.STDEV.P(G8,J8) -> 2000 | W8: =V8/U8 -> 0.0094339623 | X8: MENOR VALOR | Y8: =+P8 -> 210000
B9: 7 | C9: TUBO PARA CORTINA REDONDO FABRICADO EN ACERO INOXIDABLE | D9: Tubo: 1. Diámetro:1”(pulgada). 2. Calibre: 18. Anclajes 1. A muros, redondos de 2” (pulgadas). 2. Tres (3) anclajes, en acero inoxidable. 3. Incluye curvas, cortes y adecuaciones necesarios para su instalación. | E9: 1 | F9: ML | G9: 65000 | H9: =G9*0.19 -> 12350 | I9: =G9+H9 -> 77350 | J9: 130000 | K9: =+J9*19% -> 24700 | L9: =J9+K9 -> 154700 | M9: 33169.56 | N9: 6302.2164 | O9: 39471.776 | P9: =MIN(G9,J9,M9) -> 33169.56 | Q9: =MAX(G9,J9,M9) -> 130000 | R9: =HARMEAN(G9,J9,M9) -> 56364.441 | S9: =AVERAGE(G9,J9,M9) -> 76056.52 | T9: =GEOMEAN(G9,J9,M9) -> 65443.343 | U9: =MEDIAN(G9,J9,M9) -> 65000 | V9: =_xlfn.STDEV.P(G9,J9,M9) -> 40296.555 | W9: =V9/U9 -> 0.619947 | X9: MEDIA ARMONICA | Y9: =+R9 -> 56364.441
B10: 8 | C10: CORTINAS SHEER ELEGANCE SCREEN INCLUYE EL RETIRO DE LAS CORTINAS ENRROLLABLES INSTALADAS. | D10: 1. Material: 25% poliester 75% PVC 2. Peso 295 gr/m2 ± 3 % 3. Espesor +/- 0.70mm +/- 0.02 4. Ancho 2.50m y 3.00m 5. Número de colores : 4 6. Retardante al fuego : Certificación antiflama NFPA 701-2004 7: Bloqueo de Rayos UV 81% 8. Resistencia a la luz: clase 8 9. Libre de plomo 10. Tratamiento antiacaros 11. Tratamiento para evitar aparición de hongos | E10: 1 | F10: M2 | G10: 185000 | H10: =G10*0.19 -> 35150 | I10: =G10+H10 -> 220150 | J10: 170000 | K10: =+J10*19% -> 32300 | L10: =J10+K10 -> 202300 | M10: 115610 | N10: 21965.9 | O10: 137575.9 | P10: =MIN(G10,J10,M10) -> 115610 | Q10: =MAX(G10,J10,M10) -> 185000 | R10: =HARMEAN(G10,J10,M10) -> 150470 | S10: =AVERAGE(G10,J10,M10) -> 156870 | T10: =GEOMEAN(G10,J10,M10) -> 153770.14 | U10: =MEDIAN(G10,J10,M10) -> 170000 | V10: =_xlfn.STDEV.P(G10,J10,M10) -> 29810.968 | W10: =V10/U10 -> 0.17535863 | X10: MENOR VALOR | Y10: =+P10 -> 115610
B11: 9 | C11: RIEL SUIZO FLEXIBLE INCLUYE EL RETIRO DE LAS CORTINAS ENRROLLABLES INSTALADAS. | D11: Incluye soporte riel/techo, terminales de riel. El ítem contempla: •Suministro de riel suizo flexible •Soportes de fijación a techo o estructura (riel/techo) •Terminales o topes de riel •Accesorios de instalación necesarios •Desmonte y retiro de cortinas existentes, cuando aplique •Montaje y adecuación de cortinas existentes o nuevas sobre el sistema instalado, según requerimiento de la entidad | E11: 1 | F11: ML | G11: 65000 | H11: =G11*0.19 -> 12350 | I11: =G11+H11 -> 77350 | J11: 75000 | K11: =+J11*19% -> 14250 | L11: =J11+K11 -> 89250 | M11: 0 | N11: 0 | O11: 0 | P11: =MIN(G11,J11) -> 65000 | Q11: =MAX(G11,J11) -> 75000 | R11: =HARMEAN(G11,J11) -> 69642.857 | S11: =AVERAGE(G11,J11) -> 70000 | T11: =GEOMEAN(G11,J11) -> 69821.2 | U11: =MEDIAN(G11,J11) -> 70000 | V11: =_xlfn.STDEV.P(G11,J11) -> 5000 | W11: =V11/U11 -> 0.071428571 | X11: MENOR VALOR | Y11: =+P11 -> 65000
B12: 10 | C12: RIEL SUIZO CURVO INCLUYE EL RETIRO DE LAS CORTINAS ENRROLLABLES INSTALADAS. | D12: Incluye soporte riel/techo, terminales de riel, desmonte y montaje de cortinas existentes. | E12: 1 | F12: ML | G12: 75000 | H12: =G12*0.19 -> 14250 | I12: =G12+H12 -> 89250 | J12: 210000 | K12: =+J12*19% -> 39900 | L12: =J12+K12 -> 249900 | M12: 0 | N12: 0 | O12: 0 | P12: =MIN(G12,J12,M12) -> 0 | Q12: =MAX(G12,J12,M12) -> 210000 | R12: =HARMEAN(G12,J12) -> 110526.32 | S12: =AVERAGE(G12,J12) -> 142500 | T12: =GEOMEAN(G12,J12) -> 125499 | U12: =MEDIAN(G12,J12) -> 142500 | V12: =_xlfn.STDEV.P(G12,J12) -> 67500 | W12: =V12/U12 -> 0.47368421 | X12: PROMEDIO | Y12: =+R12 -> 110526.32
B13: 11 | C13: RIEL FLEXIRIEL | D13: Suministro e instalación de RIEL FLEXIRIEL. Incluye desmonte y montaje de cortinas existentes | E13: 1 | F13: ML | G13: 85000 | H13: =G13*0.19 -> 16150 | I13: =G13+H13 -> 101150 | J13: 95000 | K13: =+J13*19% -> 18050 | L13: =J13+K13 -> 113050 | M13: 0 | N13: 0 | O13: 0 | P13: =MIN(G13,J13) -> 85000 | Q13: =MAX(G13,J13) -> 95000 | R13: =HARMEAN(G13,J13) -> 89722.222 | S13: =AVERAGE(G13,J13) -> 90000 | T13: =GEOMEAN(G13,J13) -> 89861.004 | U13: =MEDIAN(G13,J13) -> 90000 | V13: =_xlfn.STDEV.P(G13,J13) -> 5000 | W13: =V13/U13 -> 0.055555556 | X13: MENOR VALOR | Y13: =+P13 -> 85000
B14: 12 | C14: SOPORTE DE INSTALACION A TECHO PARA RIEL | D14: De alta resistencia. | E14: 1 | F14: UNIDAD | G14: 8000 | H14: =G14*0.19 -> 1520 | I14: =G14+H14 -> 9520 | J14: 12000 | K14: =+J14*19% -> 2280 | L14: =J14+K14 -> 14280 | M14: 0 | N14: 0 | O14: 0 | P14: =MIN(G14,J14) -> 8000 | Q14: =MAX(G14,J14) -> 12000 | R14: =HARMEAN(G14,J14) -> 9600 | S14: =AVERAGE(G14,J14) -> 10000 | T14: =GEOMEAN(G14,J14) -> 9797.959 | U14: =MEDIAN(G14,J14) -> 10000 | V14: =_xlfn.STDEV.P(G14,J14) -> 2000 | W14: =V14/U14 -> 0.2 | X14: MENOR VALOR | Y14: =+P14 -> 8000
B15: 13 | C15: TAPON O TAPA LATERAL PARA RIEL | D15: De alta resistencia. | E15: 1 | F15: UNIDAD | G15: 2500 | H15: =G15*0.19 -> 475 | I15: =G15+H15 -> 2975 | J15: 6000 | K15: =+J15*19% -> 1140 | L15: =J15+K15 -> 7140 | M15: 0 | N15: 0 | O15: 0 | P15: =MIN(G15,J15) -> 2500 | Q15: =MAX(G15,J15) -> 6000 | R15: =HARMEAN(G15,J15) -> 3529.4118 | S15: =AVERAGE(G15,J15) -> 4250 | T15: =GEOMEAN(G15,J15) -> 3872.9833 | U15: =MEDIAN(G15,J15) -> 4250 | V15: =_xlfn.STDEV.P(G15,J15) -> 1750 | W15: =V15/U15 -> 0.41176471 | X15: PROMEDIO | Y15: =+S15 -> 4250
B16: 14 | C16: RODACHINES | D16: 1. Material: Plastico de alta resistencia. | E16: 1 | F16: UNIDAD | G16: 1500 | H16: =G16*0.19 -> 285 | I16: =G16+H16 -> 1785 | J16: 4500 | K16: =+J16*19% -> 855 | L16: =J16+K16 -> 5355 | M16: 3153 | N16: 599.07 | O16: 3752.07 | P16: =MIN(G16,J16,M16) -> 1500 | Q16: =MAX(G16,J16,M16) -> 4500 | R16: =HARMEAN(G16,J16,M16) -> 2487.4649 | S16: =AVERAGE(G16,J16,M16) -> 3051 | T16: =GEOMEAN(G16,J16,M16) -> 2771.2513 | U16: =MEDIAN(G16,J16,M16) -> 3153 | V16: =_xlfn.STDEV.P(G16,J16,M16) -> 1226.8667 | W16: =V16/U16 -> 0.38911092 | X16: PROMEDIO | Y16: =+S16 -> 3051
B17: 15 | C17: GANCHOS | D17: 1. Material: Plastico de alta resistencia. 2. Longitud: 8 cm | E17: 1 | F17: UNIDAD | G17: 1500 | H17: =G17*0.19 -> 285 | I17: =G17+H17 -> 1785 | J17: 4500 | K17: =+J17*19% -> 855 | L17: =J17+K17 -> 5355 | M17: 3153 | N17: 599.07 | O17: 3752.07 | P17: =MIN(G17,J17,M17) -> 1500 | Q17: =MAX(G17,J17,M17) -> 4500 | R17: =HARMEAN(G17,J17,M17) -> 2487.4649 | S17: =AVERAGE(G17,J17,M17) -> 3051 | T17: =GEOMEAN(G17,J17,M17) -> 2771.2513 | U17: =MEDIAN(G17,J17,M17) -> 3153 | V17: =_xlfn.STDEV.P(G17,J17,M17) -> 1226.8667 | W17: =V17/U17 -> 0.38911092 | X17: PROMEDIO | Y17: =+S17 -> 3051
B18: 16 | C18: CAMBIO DE CADENA Y CAMBIO DE FRENOS | D18: Mantenimiento cambio de CADENA hasta 3 cm y cambio de frenos. (Hace referencia a candados o mecanismos de bloqueo propios de cortinas convencionales.) | E18: 1 | F18: UNIDAD | G18: 15000 | H18: =G18*0.19 -> 2850 | I18: =G18+H18 -> 17850 | J18: 35000 | K18: =+J18*19% -> 6650 | L18: =J18+K18 -> 41650 | M18: 0 | N18: 0 | O18: 0 | P18: =MIN(G18,J18) -> 15000 | Q18: =MAX(G18,J18) -> 35000 | R18: =HARMEAN(G18,J18) -> 21000 | S18: =AVERAGE(G18,J18) -> 25000 | T18: =GEOMEAN(G18,J18) -> 22912.878 | U18: =MEDIAN(G18,J18) -> 25000 | V18: =_xlfn.STDEV.P(G18,J18) -> 10000 | W18: =V18/U18 -> 0.4 | X18: PROMEDIO | Y18: =+S18 -> 25000
B19: 17 | C19: CORTINA ENROLLABLE | D19: Mantenimiento pegue de CORTINA ENROLLABLE | E19: 1 | F19: UNIDAD | G19: 40000 | H19: =G19*0.19 -> 7600 | I19: =G19+H19 -> 47600 | J19: 65000 | K19: =+J19*19% -> 12350 | L19: =J19+K19 -> 77350 | M19: 0 | N19: 0 | O19: 0 | P19: =MIN(G19,J19) -> 40000 | Q19: =MAX(G19,J19) -> 65000 | R19: =HARMEAN(G19,J19) -> 49523.81 | S19: =AVERAGE(G19,J19) -> 52500 | T19: =GEOMEAN(G19,J19) -> 50990.195 | U19: =MEDIAN(G19,J19) -> 52500 | V19: =_xlfn.STDEV.P(G19,J19) -> 12500 | W19: =V19/U19 -> 0.23809524 | X19: MENOR VALOR | Y19: =+P19 -> 40000
B20: 18 | C20: LAVADO Y DESINFECCIÓN | D20: De BLACK OUT, SOLAR SCREEN Y SHEER ELEGENCE. | E20: 1 | F20: UNIDAD | G20: 90000 | H20: =G20*0.19 -> 17100 | I20: =G20+H20 -> 107100 | J20: 97000 | K20: =+J20*19% -> 18430 | L20: =J20+K20 -> 115430 | M20: 0 | N20: 0 | O20: 0 | P20: =MIN(G20,J20) -> 90000 | Q20: =MAX(G20,J20) -> 97000 | R20: =HARMEAN(G20,J20) -> 93368.984 | S20: =AVERAGE(G20,J20) -> 93500 | T20: =GEOMEAN(G20,J20) -> 93434.469 | U20: =MEDIAN(G20,J20) -> 93500 | V20: =_xlfn.STDEV.P(G20,J20) -> 3500 | W20: =V20/U20 -> 0.037433155 | X20: MENOR VALOR | Y20: =+P20 -> 90000
B21: 19 | C21: MECANISMO CORTINA ENROLLABLE | D21: 1. R-8 2. Con cadenilla incluída. | E21: 1 | F21: UNIDAD | G21: 25000 | H21: =G21*0.19 -> 4750 | I21: =G21+H21 -> 29750 | J21: 48000 | K21: =+J21*19% -> 9120 | L21: =J21+K21 -> 57120 | M21: 21020 | N21: 3993.8 | O21: 25013.8 | P21: =MIN(G21,J21,M21) -> 21020 | Q21: =MAX(G21,J21,M21) -> 48000 | R21: =HARMEAN(G21,J21,M21) -> 27673.471 | S21: =AVERAGE(G21,J21,M21) -> 31340 | T21: =GEOMEAN(G21,J21,M21) -> 29327.249 | U21: =MEDIAN(G21,J21,M21) -> 25000 | V21: =_xlfn.STDEV.P(G21,J21,M21) -> 11891.924 | W21: =V21/U21 -> 0.47567698 | X21: PROMEDIO | Y21: =+S21 -> 31340
B22: 20 | C22: MECANISMO CORTINA ENROLLABLE | D22: 1. R-16 2. Con cadenilla incluída. | E22: 1 | F22: UNIDAD | G22: 28000 | H22: =G22*0.19 -> 5320 | I22: =G22+H22 -> 33320 | J22: 53000 | K22: =+J22*19% -> 10070 | L22: =J22+K22 -> 63070 | M22: 42040 | N22: 7987.6 | O22: 50027.6 | P22: =MIN(G22,J22,M22) -> 28000 | Q22: =MAX(G22,J22,M22) -> 53000 | R22: =HARMEAN(G22,J22,M22) -> 38280.403 | S22: =AVERAGE(G22,J22,M22) -> 41013.333 | T22: =GEOMEAN(G22,J22,M22) -> 39661.171 | U22: =MEDIAN(G22,J22,M22) -> 42040 | V22: =_xlfn.STDEV.P(G22,J22,M22) -> 10231.993 | W22: =V22/U22 -> 0.24338709 | X22: MENOR VALOR | Y22: =+P22 -> 28000
B23: 21 | C23: MECANISMO CORTINA ENROLLABLE | D23: 1. R-24 2. Con cadenilla incluída. | E23: 1 | F23: UNIDAD | G23: 32000 | H23: =G23*0.19 -> 6080 | I23: =G23+H23 -> 38080 | J23: 67000 | K23: =+J23*19% -> 12730 | L23: =J23+K23 -> 79730 | M23: 47295 | N23: 8986.05 | O23: 56281.05 | P23: =MIN(G23,J23,M23) -> 32000 | Q23: =MAX(G23,J23,M23) -> 67000 | R23: =HARMEAN(G23,J23,M23) -> 44563.772 | S23: =AVERAGE(G23,J23,M23) -> 48765 | T23: =GEOMEAN(G23,J23,M23) -> 46631.566 | U23: =MEDIAN(G23,J23,M23) -> 47295 | V23: =_xlfn.STDEV.P(G23,J23,M23) -> 14326.448 | W23: =V23/U23 -> 0.30291676 | X23: PROMEDIO | Y23: =+S23 -> 48765
B24: 22 | C24: CORTE LATERAL CORTINA BLACK OUT | D24: Servicio de corte y ajuste de lateral de cortina tipo Black Out, consistente en la adecuación dimensional del borde lateral de la cortina para garantizar su correcta instalación, alineación y funcionamiento dentro del sistema existente. | E24: 1 | F24: UNIDAD | G24: 65000 | H24: =G24*0.19 -> 12350 | I24: =G24+H24 -> 77350 | J24: 55000 | K24: =+J24*19% -> 10450 | L24: =J24+K24 -> 65450 | M24: 0 | N24: 0 | O24: 0 | P24: =MIN(G24,J24) -> 55000 | Q24: =MAX(G24,J24) -> 65000 | R24: =HARMEAN(G24,J24) -> 59583.333 | S24: =AVERAGE(G24,J24) -> 60000 | T24: =GEOMEAN(G24,J24) -> 59791.304 | U24: =MEDIAN(G24,J24) -> 60000 | V24: =_xlfn.STDEV.P(G24,J24) -> 5000 | W24: =V24/U24 -> 0.083333333 | X24: MENOR VALOR | Y24: =+P24 -> 55000

Sheet COTIZACION COT-201-2026-HOMIL
G1: SIO SAS | J1: PROVEEDOR INSTITUCIONAL S.A.S
B2: ÍTEM | C2: BIEN O SERVICIO | D2: ESPECIFICACIONES | E2: CANTIDAD | F2: UNIDAD DE MEDIDA | G2: VALOR TOTAL UNITARIO | H2: IVA (Si Aplica) | I2: VALOR TOTAL | J2: VALOR TOTAL UNITARIO | K2: IVA (Si Aplica) | L2: VALOR TOTAL
B3: 1 | C3: CORTINA HOSPITALARIA | D3: Especificaciones cortina: 1. Ancho 150± 3 cm 2. Peso: (masa/unidad de área) (*A): 133 ± 7g/m2 ASTM D3776- 20OPC.C. 3. Bloqueo UVA (SECO): Min 96.00 %AATCC 183. 4. Bloqueo UVB (SECO): Min 99.00% AATCC 183. 5. Factor protección UPF (HUMEDO): Min 50.00 UPF AATCC 183. 6. Factor de protección UPF (SECO): Min 50.00 UPF AATCC 183. 7. Repelencia agua (*A): Min 90.00 e AATCC 22-2017. 8. Repelencia agua (50 LAV): Min 80.00 e AATCC 22/AATCC 124. 2 9. Pasadas (*A): 30.5± 1 hilo/cm ASTM D3775-17E1DERECHO TELA. 10. Composición: 100.00% Filamento de poliéster. 11. Tecnología Cloro resistente / Norma AATCC 61. 12. Tecnología Antifluido / Norma 22 / AATCC 124 / AATCC 22-2017. 13. Peso 133 ± 7 g/m2 Tela tipo malla: 1. Ancho 300 ± 2 cm 2. Peso (masa /unidad de área) 129.5 ± 6.5 g/m2 3. 100% Filamento de poliéster Riel: 1. Material: aleación de aluminio. 2. Perfil (ancho * alto) de 18*20. 3. Color blanco. 4. Pistas doble individual: 4.1. Recubrimiento de alta tecnología con resistencia al impacto, cada pista debe estar equipada con imán de plástico y ganchos Pera Plástico. | E3: 1 | F3: M2 | G3: 225000 | H3: =G3*0.19 -> 42750 | I3: =G3+H3 -> 267750 | J3: 180000 | K3: =+J3*19% -> 34200 | L3: =J3+K3 -> 214200
B4: 2 | C4: CORTINAS BLACK OUT ENROLLABLES | D4: 1. Material: 25% fibra de vidrio 75% PVC. 2. Peso 522 ±5 g/m2 3. Calibre: 0.42 4. Nivel Privación: Black / Opacidad 5. Numero de colores : 4 6. Retardante al fuego : Certificación antiflama NFPA 701-2004 TM #1 (small scale) 7. Bloque de Rayos UV 100% 8. Libre de plomo 9. Tela compuesta de 4 capas, que proveen absoluta privacidad. 10. Material del tubo: Aluminio ranurado (resistente a la corrosión y a las roturas). 11. Tratamiento anti ácaros 12. Tratamiento para evitar aparición de hongos 13. Resistencia a la tracción 14. Resistencia al desgarre | E4: 1 | F4: M2 | G4: 80000 | H4: =G4*0.19 -> 15200 | I4: =G4+H4 -> 95200 | J4: 97000 | K4: =+J4*19% -> 18430 | L4: =J4+K4 -> 115430
B5: 3 | C5: CORTINAS SOLAR SCREEN ENROLLABLES | D5: Fibras 1. Recubiertas en PVC en su exterior 2. Resistencia: alta densidad y elasticidad. 3. Acabado de color: Debe permitir una relación visual con el exterior y evitar tanto el sobre – exposición lumínico y como reflejos al interior del espacio 4. Bloqueo de Rayos UV 95%. 5.Libre de plomo. 6. Resistencia: La tela debe estar esterilizada contra acaros, virus, hongos, y bacterias. 7. Retardante al fuego. 8. Composición: 35% PES + 65% PVC 9. Peso: 420gr/m2+- 3% 10. Espesor: 0.55mm+- 0.02mm 11. Factor de apertura: 5% 12. Bloqueo UV: 95% 13. Resistencia a la luz: Clase 4 – 5 14. Retardante al fuego: NFPA 701 15. Resistencia a la tracción 16. Resistencia al cambio de color 17. Resistencia a la abrasión 18. Resistencia al desgarre | E5: 1 | F5: M2 | G5: 165000 | H5: =G5*0.19 -> 31350 | I5: =G5+H5 -> 196350 | J5: 110000 | K5: =+J5*19% -> 20900 | L5: =J5+K5 -> 130900
B6: 4 | C6: TAPETES ANTIBACTERIANO, ANTIDESLIZANTES PARA DUCHA. | D6: 1. Con ventosas y puntos de masajes. 2. Estera de caucho natural. 3. Dimensiones: 64 cm largo x 43 cm de ancho. | E6: 1 | F6: UNIDAD | G6: 90000 | H6: =G6*0.19 -> 17100 | I6: =G6+H6 -> 107100 | J6: 69000 | K6: =+J6*19% -> 13110 | L6: =J6+K6 -> 82110
B7: 5 | C7: CORTINAS EN VINILO ANTIBACTERIAL TRANSPARENTE PARA BAÑO | D7: 1. Repelente al agua 2. De secado rápido. 3. Resistente al moho. 4. Debe tener el logo del Hospital Militar Central. 5. Dimensiones: Entre 1.80 y 1.90 m de alto x 1.50 m ancho. 6. Calibre: 20 | E7: 1 | F7: UNIDAD | G7: 214000 | H7: =G7*0.19 -> 40660 | I7: =G7+H7 -> 254660 | J7: 178000 | K7: =+J7*19% -> 33820 | L7: =J7+K7 -> 211820
B8: 6 | C8: CORTINAS EN VINILO ANTIBACTERIAL TRANSPARENTE PARA BAÑO | D8: 1. Repelente al agua 2. De secado rápido. 3. Resistente al moho. 4. Debe tener el logo del Hospital Militar Central. 5. Dimensiones: Entre 1.80 y 2.00 de alto x 1.50 ancho. 6. Calibre: 20 | E8: 1 | F8: UNIDAD | G8: 214000 | H8: =G8*0.19 -> 40660 | I8: =G8+H8 -> 254660 | J8: 210000 | K8: =+J8*19% -> 39900 | L8: =J8+K8 -> 249900
B9: 7 | C9: TUBO PARA CORTINA REDONDO FABRICADO EN ACERO INOXIDABLE | D9: Tubo: 1. Diámetro:1”(pulgada). 2. Calibre: 18. Anclajes 1. A muros, redondos de 2” (pulgadas). 2. Tres (3) anclajes, en acero inoxidable. 3. Incluye curvas, cortes y adecuaciones necesarios para su instalación. | E9: 1 | F9: ML | G9: 65000 | H9: =G9*0.19 -> 12350 | I9: =G9+H9 -> 77350 | J9: 130000 | K9: =+J9*19% -> 24700 | L9: =J9+K9 -> 154700
B10: 8 | C10: CORTINAS SHEER ELEGANCE SCREEN (INCLUYE EL RETIRO DE LAS CORTINAS ENRROLLABLES INSTALADAS.) | D10: 1. Material: 25% poliester 75% PVC 2. Peso 295 gr/m2 ± 3 % 3. Espesor +/- 0.70mm +/- 0.02 4. Ancho 2.50m y 3.00m 5. Número de colores : 4 6. Retardante al fuego : Certificación antiflama NFPA 701-2004 7: Bloqueo de Rayos UV 81% 8. Resistencia a la luz: clase 8 9. Libre de plomo 10. Tratamiento antiacaros 11. Tratamiento para evitar aparición de hongos | E10: 1 | F10: M2 | G10: 185000 | H10: =G10*0.19 -> 35150 | I10: =G10+H10 -> 220150 | J10: 170000 | K10: =+J10*19% -> 32300 | L10: =J10+K10 -> 202300
B11: 9 | C11: RIEL SUIZO FLEXIBLE | D11: Incluye soporte riel/techo, terminales de riel. El ítem contempla: •Suministro de riel suizo flexible •Soportes de fijación a techo o estructura (riel/techo) •Terminales o topes de riel •Accesorios de instalación necesarios •Desmonte y retiro de cortinas existentes, cuando aplique •Montaje y adecuación de cortinas existentes o nuevas sobre el sistema instalado, según requerimiento de la entidad | E11: 1 | F11: ML | G11: 65000 | H11: =G11*0.19 -> 12350 | I11: =G11+H11 -> 77350 | J11: 75000 | K11: =+J11*19% -> 14250 | L11: =J11+K11 -> 89250
B12: 10 | C12: RIEL SUIZO CURVO Suministro e instalación | D12: Incluye soporte riel/techo, terminales de riel, desmonte y montaje de cortinas existentes. | E12: 1 | F12: ML | G12: 75000 | H12: =G12*0.19 -> 14250 | I12: =G12+H12 -> 89250 | J12: 210000 | K12: =+J12*19% -> 39900 | L12: =J12+K12 -> 249900
B13: 11 | C13: RIEL FLEXIRIEL Suministro e instalación | D13: Suministro e instalación de RIEL FLEXIRIEL. Incluye desmonte y montaje de cortinas existentes | E13: 1 | F13: ML | G13: 85000 | H13: =G13*0.19 -> 16150 | I13: =G13+H13 -> 101150 | J13: 95000 | K13: =+J13*19% -> 18050 | L13: =J13+K13 -> 113050
B14: 12 | C14: SOPORTE DE INSTALACION A TECHO PARA RIEL | D14: De alta resistencia. | E14: 1 | F14: UNIDAD | G14: 8000 | H14: =G14*0.19 -> 1520 | I14: =G14+H14 -> 9520 | J14: 12000 | K14: =+J14*19% -> 2280 | L14: =J14+K14 -> 14280
... B24: 22 | C24: CORTE LATERAL CORTINA BLACK OUT | D24: Servicio de corte y ajuste de lateral de cortina tipo Black Out, consistente en la adecuación dimensional del borde lateral de la cortina para garantizar su correcta instalación, alineación y funcionamiento dentro del sistema existente. | E24: 1 | F24: UNIDAD | G24: 65000 | H24: =G24*0.19 -> 12350 | I24: =G24+H24 -> 77350 | J24: 55000 | K24: =+J24*19% -> 10450 | L24: =J24+K24 -> 65450
B25: TOTAL | G25: =SUM(G3:G24) -> 1771500 | H25: =G25*0.19 -> 336585 | I25: =G25+H25 -> 2108085 | J25: =SUM(J3:J24) -> 1971000 | K25: =+J25*0.19 -> 374490 | L25: =+K25+J25 -> 2345490

Sheet HISTORICIO
G1: CONTRATO NO. 315-2025 -SIO SAS | J1: CONTRATO NO. 315-2025 -SIO SAS INDEXADO IPC 2025 5,10%
B2: ÍTEM | C2: BIEN O SERVICIO | D2: ESPECIFICACIONES | E2: CANTIDAD | F2: UNIDAD DE MEDIDA | G2: VALOR TOTAL UNITARIO | H2: IVA (Si Aplica) | I2: VALOR TOTAL | J2: VALOR TOTAL UNITARIO | K2: IVA (Si Aplica) | L2: VALOR TOTAL
B3: 1 | C3: CORTINA HOSPITALARIA INCLUYE EL RETIRO DE LAS CORTINAS INSTALADAS. | D3: Especificaciones cortina: 1. Ancho 150± 3 cm 2. Peso: (masa/unidad de área) (*A): 133 ± 7g/m2 ASTM D3776- 20OPC.C. 3. Bloqueo UVA (SECO): Min 96.00 %AATCC 183. 4. Bloqueo UVB (SECO): Min 99.00% AATCC 183. 5. Factor protección UPF (HUMEDO): Min 50.00 UPF AATCC 183. 6. Factor de protección UPF (SECO): Min 50.00 UPF AATCC 183. 7. Repelencia agua (*A): Min 90.00 e AATCC 22-2017. 8. Repelencia agua (50 LAV): Min 80.00 e AATCC 22/AATCC 124. 2 9. Pasadas (*A): 30.5± 1 hilo/cm ASTM D3775-17E1DERECHO TELA. 10. Composición: 100.00% Filamento de poliéster. 11. Tecnología Cloro resistente / Norma AATCC 61. 12. Tecnología Antifluido / Norma 22 / AATCC 124 / AATCC 22-2017. 13. Peso 133 ± 7 g/m2 Tela tipo malla: 1. Ancho 300 ± 2 cm 2. Peso (masa /unidad de área) 129.5 ± 6.5 g/m2 3. 100% Filamento de poliéster Riel: 1. Material: aleación de aluminio. 2. Perfil (ancho * alto) de 18*20. 3. Color blanco. 4. Pistas doble individual: 4.1. Recubrimiento de alta tecnología con resistencia al impacto, cada pista debe estar equipada con imán de plástico y ganchos Pera Plástico. | E3: 1 | F3: M2 | G3: 0 | H3: 0 | I3: 0 | J3: =+G3*(1+5.1%) -> 0 | K3: =+H3*(1+5.1%) -> 0 | L3: =+I3*(1+5.1%) -> 0
B4: 2 | C4: CORTINAS BLACK OUT ENROLLABLES INCLUYE EL RETIRO DE LAS CORTINAS Y/O BLACK OUT INSTALADOS. | D4: 1. Material: 25% fibra de vidrio 75% PVC. 2. Peso 522 ±5 g/m2 3. Calibre: 0.42 4. Nivel Privación: Black / Opacidad 5. Numero de colores : 4 6. Retardante al fuego : Certificación antiflama NFPA 701-2004 TM #1 (small scale) 7. Bloque de Rayos UV 100% 8. Libre de plomo 9. Tela compuesta de 4 capas, que proveen absoluta privacidad. 10. Material del tubo: Aluminio ranurado (resistente a la corrosión y a las roturas). 11. Tratamiento anti ácaros 12. Tratamiento para evitar aparición de hongos 13. Resistencia a la tracción 14. Resistencia al desgarre | E4: 1 | F4: M2 | G4: 68000 | H4: =+G4*0.19 -> 12920 | I4: =+H4+G4 -> 80920 | J4: =+G4*(1+5.1%) -> 71468 | K4: =+H4*(1+5.1%) -> 13578.92 | L4: =+I4*(1+5.1%) -> 85046.92
B5: 3 | C5: CORTINAS SOLAR SCREEN ENROLLABLES INLCLUYE RETIRO DE CORTINAS ENRROLARSE INSTALADAS | D5: Fibras 1. Recubiertas en PVC en su exterior 2. Resistencia: alta densidad y elasticidad. 3. Acabado de color: Debe permitir una relación visual con el exterior y evitar tanto el sobre – exposición lumínico y como reflejos al interior del espacio 4. Bloqueo de Rayos UV 95%. 5.Libre de plomo. 6. Resistencia: La tela debe estar esterilizada contra acaros, virus, hongos, y bacterias. 7. Retardante al fuego. 8. Composición: 35% PES + 65% PVC 9. Peso: 420gr/m2+- 3% 10. Espesor: 0.55mm+- 0.02mm 11. Factor de apertura: 5% 12. Bloqueo UV: 95% 13. Resistencia a la luz: Clase 4 – 5 14. Retardante al fuego: NFPA 701 15. Resistencia a la tracción 16. Resistencia al cambio de color 17. Resistencia a la abrasión 18. Resistencia al desgarre | E5: 1 | F5: M2 | G5: 80000 | H5: =+G5*0.19 -> 15200 | I5: =+H5+G5 -> 95200 | J5: =+G5*(1+5.1%) -> 84080 | K5: =+H5*(1+5.1%) -> 15975.2 | L5: =+I5*(1+5.1%) -> 100055.2
B6: 4 | C6: TAPETES ANTIBACTERIANO, ANTIDESLIZANTES PARA DUCHA. | D6: 1. Con ventosas y puntos de masajes. 2. Estera de caucho natural. 3. Dimensiones: 64 cm largo x 43 cm de ancho. | E6: 1 | F6: UNIDAD | G6: 0 | H6: 0 | I6: 0 | J6: =+G6*(1+5.1%) -> 0 | K6: =+H6*(1+5.1%) -> 0 | L6: =+I6*(1+5.1%) -> 0
B7: 5 | C7: CORTINAS EN VINILO ANTIBACTERIAL TRANSPARENTE PARA BAÑO | D7: 1. Repelente al agua 2. De secado rápido. 3. Resistente al moho. 4. Debe tener el logo del Hospital Militar Central. 5. Dimensiones: Entre 1.80 y 1.90 m de alto x 1.50 m ancho. 6. Calibre: 20 | E7: 1 | F7: UNIDAD | G7: 0 | H7: 0 | I7: 0 | J7: =+G7*(1+5.1%) -> 0 | K7: =+H7*(1+5.1%) -> 0 | L7: =+I7*(1+5.1%) -> 0
B8: 6 | C8: CORTINAS EN VINILO ANTIBACTERIAL TRANSPARENTE PARA BAÑO | D8: 1. Repelente al agua 2. De secado rápido. 3. Resistente al moho. 4. Debe tener el logo del Hospital Militar Central. 5. Dimensiones: Entre 1.80 y 2.00 de alto x 1.50 ancho. 6. Calibre: 20 | E8: 1 | F8: UNIDAD | G8: 0 | H8: 0 | I8: 0 | J8: =+G8*(1+5.1%) -> 0 | K8: =+H8*(1+5.1%) -> 0 | L8: =+I8*(1+5.1%) -> 0
B9: 7 | C9: TUBO PARA CORTINA REDONDO FABRICADO EN ACERO INOXIDABLE | D9: Tubo: 1. Diámetro:1”(pulgada). 2. Calibre: 18. Anclajes 1. A muros, redondos de 2” (pulgadas). 2. Tres (3) anclajes, en acero inoxidable. 3. Incluye curvas, cortes y adecuaciones necesarios para su instalación. | E9: 1 | F9: ML | G9: 31560 | H9: =+G9*0.19 -> 5996.4 | I9: =+H9+G9 -> 37556.4 | J9: =+G9*(1+5.1%) -> 33169.56 | K9: =+H9*(1+5.1%) -> 6302.2164 | L9: =+I9*(1+5.1%) -> 39471.776
B10: 8 | C10: CORTINAS SHEER ELEGANCE SCREEN INCLUYE EL RETIRO DE LAS CORTINAS ENRROLLABLES INSTALADAS. | D10: 1. Material: 25% poliester 75% PVC 2. Peso 295 gr/m2 ± 3 % 3. Espesor +/- 0.70mm +/- 0.02 4. Ancho 2.50m y 3.00m 5. Número de colores : 4 6. Retardante al fuego : Certificación antiflama NFPA 701-2004 7: Bloqueo de Rayos UV 81% 8. Resistencia a la luz: clase 8 9. Libre de plomo 10. Tratamiento antiacaros 11. Tratamiento para evitar aparición de hongos | E10: 1 | F10: M2 | G10: 110000 | H10: =+G10*0.19 -> 20900 | I10: =+H10+G10 -> 130900 | J10: =+G10*(1+5.1%) -> 115610 | K10: =+H10*(1+5.1%) -> 21965.9 | L10: =+I10*(1+5.1%) -> 137575.9
B11: 9 | C11: RIEL SUIZO FLEXIBLE INCLUYE EL RETIRO DE LAS CORTINAS ENRROLLABLES INSTALADAS. | D11: Incluye soporte riel/techo, terminales de riel. El ítem contempla: •Suministro de riel suizo flexible •Soportes de fijación a techo o estructura (riel/techo) •Terminales o topes de riel •Accesorios de instalación necesarios •Desmonte y retiro de cortinas existentes, cuando aplique •Montaje y adecuación de cortinas existentes o nuevas sobre el sistema instalado, según requerimiento de la entidad | E11: 1 | F11: ML | G11: 0 | H11: 0 | I11: 0 | J11: =+G11*(1+5.1%) -> 0 | K11: =+H11*(1+5.1%) -> 0 | L11: =+I11*(1+5.1%) -> 0
B12: 10 | C12: RIEL SUIZO CURVO INCLUYE EL RETIRO DE LAS CORTINAS ENRROLLABLES INSTALADAS. | D12: Incluye soporte riel/techo, terminales de riel, desmonte y montaje de cortinas existentes. | E12: 1 | F12: ML | G12: 0 | H12: 0 | I12: 0 | J12: =+G12*(1+5.1%) -> 0 | K12: =+H12*(1+5.1%) -> 0 | L12: =+I12*(1+5.1%) -> 0
B13: 11 | C13: RIEL FLEXIRIEL | D13: Suministro e instalación de RIEL FLEXIRIEL. Incluye desmonte y montaje de cortinas existentes | E13: 1 | F13: ML | G13: 0 | H13: 0 | I13: 0 | J13: =+G13*(1+5.1%) -> 0 | K13: =+H13*(1+5.1%) -> 0 | L13: =+I13*(1+5.1%) -> 0
B14: 12 | C14: SOPORTE DE INSTALACION A TECHO PARA RIEL | D14: De alta resistencia. | E14: 1 | F14: UNIDAD | G14: 0 | H14: 0 | I14: 0 | J14: =+G14*(1+5.1%) -> 0 | K14: =+H14*(1+5.1%) -> 0 | L14: =+I14*(1+5.1%) -> 0
B15: 13 | C15: TAPON O TAPA LATERAL PARA RIEL | D15: De alta resistencia. | E15: 1 | F15: UNIDAD | G15: 0 | H15: 0 | I15: 0 | J15: =+G15*(1+5.1%) -> 0 | K15: =+H15*(1+5.1%) -> 0 | L15: =+I15*(1+5.1%) -> 0
B16: 14 | C16: RODACHINES | D16: 1. Material: Plastico de alta resistencia. | E16: 1 | F16: UNIDAD | G16: 3000 | H16: =+G16*0.19 -> 570 | I16: =+H16+G16 -> 3570 | J16: =+G16*(1+5.1%) -> 3153 | K16: =+H16*(1+5.1%) -> 599.07 | L16: =+I16*(1+5.1%) -> 3752.07
B17: 15 | C17: GANCHOS | D17: 1. Material: Plastico de alta resistencia. 2. Longitud: 8 cm | E17: 1 | F17: UNIDAD | G17: 3000 | H17: =+G17*0.19 -> 570 | I17: =+H17+G17 -> 3570 | J17: =+G17*(1+5.1%) -> 3153 | K17: =+H17*(1+5.1%) -> 599.07 | L17: =+I17*(1+5.1%) -> 3752.07
B18: 16 | C18: CAMBIO DE CADENA Y CAMBIO DE FRENOS | D18: Mantenimiento cambio de CADENA hasta 3 cm y cambio de frenos. (Hace referencia a candados o mecanismos de bloqueo propios de cortinas convencionales.) | E18: 1 | F18: UNIDAD | G18: 0 | H18: =+G18*0.19 -> 0 | I18: =+H18+G18 -> 0 | J18: =+G18*(1+5.1%) -> 0 | K18: =+H18*(1+5.1%) -> 0 | L18: =+I18*(1+5.1%) -> 0
B19: 17 | C19: CORTINA ENROLLABLE | D19: Mantenimiento pegue de CORTINA ENROLLABLE | E19: 1 | F19: UNIDAD | G19: 0 | H19: =+G19*0.19 -> 0 | I19: =+H19+G19 -> 0 | J19: =+G19*(1+5.1%) -> 0 | K19: =+H19*(1+5.1%) -> 0 | L19: =+I19*(1+5.1%) -> 0
B20: 18 | C20: LAVADO Y DESINFECCIÓN | D20: De BLACK OUT, SOLAR SCREEN Y SHEER ELEGENCE. | E20: 1 | F20: UNIDAD | G20: 0 | H20: =+G20*0.19 -> 0 | I20: =+H20+G20 -> 0 | J20: =+G20*(1+5.1%) -> 0 | K20: =+H20*(1+5.1%) -> 0 | L20: =+I20*(1+5.1%) -> 0
B21: 19 | C21: MECANISMO CORTINA ENROLLABLE | D21: 1. R-8 2. Con cadenilla incluída. | E21: 1 | F21: UNIDAD | G21: 20000 | H21: =+G21*0.19 -> 3800 | I21: =+H21+G21 -> 23800 | J21: =+G21*(1+5.1%) -> 21020 | K21: =+H21*(1+5.1%) -> 3993.8 | L21: =+I21*(1+5.1%) -> 25013.8
B22: 20 | C22: MECANISMO CORTINA ENROLLABLE | D22: 1. R-16 2. Con cadenilla incluída. | E22: 1 | F22: UNIDAD | G22: 40000 | H22: =+G22*0.19 -> 7600 | I22: =+H22+G22 -> 47600 | J22: =+G22*(1+5.1%) -> 42040 | K22: =+H22*(1+5.1%) -> 7987.6 | L22: =+I22*(1+5.1%) -> 50027.6
B23: 21 | C23: MECANISMO CORTINA ENROLLABLE | D23: 1. R-24 2. Con cadenilla incluída. | E23: 1 | F23: UNIDAD | G23: 45000 | H23: =+G23*0.19 -> 8550 | I23: =+H23+G23 -> 53550 | J23: =+G23*(1+5.1%) -> 47295 | K23: =+H23*(1+5.1%) -> 8986.05 | L23: =+I23*(1+5.1%) -> 56281.05
B24: 22 | C24: CORTE LATERAL CORTINA BLACK OUT | D24: Servicio de corte y ajuste de lateral de cortina tipo Black Out, consistente en la adecuación dimensional del borde lateral de la cortina para garantizar su correcta instalación, alineación y funcionamiento dentro del sistema existente. | E24: 1 | F24: UNIDAD | G24: 0 | H24: 0 | I24: 0 | J24: =+G24*(1+5.1%) -> 0 | K24: 0 | L24: 0
