Workbook
Name Print_Area: '1'!$A$1:$U$51
Name Print_Area: '2'!$A$1:$U$48
Name Print_Area: '3'!$A$1:$U$48
Name Print_Area: '4'!$A$1:$U$46
Name Print_Area: '5'!$A$1:$U$48
Name Print_Area: APU!$A$18:$F$955
Name Print_Area: 'PPTO GENERAL'!$A$6:$F$38

Sheet PPTO GENERAL
B2: CENTRO DE INDUSTRIA Y CONSTRUCCIÓN - SENA REGIONAL TOLIMA
B3: LISTA DE PRECIOS REFERENCIA PARA OFERTA ECONÓMICA
B4: PROCESO DE MÍNIMA CUANTÍA No. MC-CIC-9226-409-2026
B5: OBJETO: Contratar la prestación del servicio de operador logístico que garantice la completa ejecución de las actividades programadas en el plan de bienestar al aprendiz del centro de industria y construcción 2026.
A6: MANTENIMIENTO TORRE DE ALTURAS
A7: N° | B7: DESCRIPCIÓN DETALLADA DEL BIEN | C7: UNIDAD DE MEDIDA | D7: CANTIDAD | E7: VALOR UNITARIO IVA INCLUIDO OFERTADO | F7: VALOR TOTAL IVA INCLUIDO OFERTADO
B8: PINTURA
A9: 1 | B9: Suministro e instalación de pintura base aceite sobre estructura metalica (Colores a convenir). | C9: ML | D9: =+'1'!T44 -> 852 | E9: =+APU!T41 -> 23259.05 | F9: =+D9*E9 -> 19816711
A10: 2 | B10: Suministro e instalacion sobre lamina llena de pintura base aceite. (Colores a convenir) | C10: M2 | D10: =+'2'!T41 -> 54 | E10: =+APU!T83 -> 19573.389 | F10: =+D10*E10 -> 1056963
B11: ESTRUCTURA METALICA
A12: 3 | B12: Suministro e instalacion de tubo rectangular 8 x 4 calibre 1.5 mm (Incluye anticorrosivo y pintura base aceite). | C12: KG | D12: =+'3'!T41 -> 159 | E12: =+APU!T126 -> 26883.864 | F12: =+D12*E12 -> 4274534.3
A13: 4 | B13: Suministro e instalacion de teja arquitectonica 1.01x6m Cal 31 0.25mm (Incluye pernado y anclaje a estructura metalica) | C13: M2 | D13: =+'4'!T41 -> 24 | E13: =+APU!T171 -> 58332.067 | F13: =+D13*E13 -> 1399969.6
A14: 5 | B14: Suministro e instalacion lamina de superboard (Incluye anclaje) | C14: M2 | D14: =+'5'!T41 -> 8 | E14: =+APU!T215 -> 60258.1 | F14: =+D14*E14 -> 482064.8
B15: INSTALACIONES ELECTRICAS
A16: 6 | B16: Suministro e instalacion de reflector LED 200W | C16: UND | D16: =+'6'!T41 -> 8 | E16: =+APU!T259 -> 281517.62 | F16: =+D16*E16 -> 2252141
A17: 7 | B17: Suministro e instalacion de red electrica externa de baja tension | C17: ML | D17: =+'7'!T42 -> 76 | E17: =+APU!T305 -> 57627.061 | F17: =+D17*E17 -> 4379656.6
A18: 8 | B18: Suministro e instalacion de tablero trifasico de 18 circuitos | C18: UND | D18: =+'8'!T41 -> 1 | E18: =+APU!T351 -> 1143124.5 | F18: =+D18*E18 -> 1143124.5
A19: 9 | B19: Suministro e instalacion de acometida principal | C19: ML | D19: =+'9'!T41 -> 50 | E19: =+APU!T397 -> 43607.87 | F19: =+D19*E19 -> 2180393.5
A20: 10 | B20: Suministro e instalacion de tubo rectangular 50 cm x 50 cm calibre 1.5 mm (Incluye anticorrosivo y pintura base aceite). | C20: ML | D20: =+'10'!T41 -> 15 | E20: =+APU!T441 -> 68404.5 | F20: =+D20*E20 -> 1026067.5
A21: 11 | B21: Suministro e instalacion de lamina de acero tipo IMT No. 40 Calibre 12 (Incluye anticorrosivo y pintura base aceite), | C21: M2 | D21: =+'11'!T41 -> 6 | E21: =+APU!T485 -> 122668.12 | F21: =+D21*E21 -> 736008.75
A22: VALOR COSTOS INDIRECTOS | F22: =ROUNDUP(SUM(F9:F21),0) -> 38747635
A23: ADMINISTRACION (19%) | F23: =+(F22)*0.19 -> 7362050.7
A24: IMPREVISTOS (1%) | F24: =+(F22)*0.01 -> 387476.35
A25: UTILIDAD (5%) | F25: =+(F22)*0.05 -> 1937381.8
A26: IVA SOBRE UTILIDAD | F26: =+F25*0.19 -> 368102.53
A27: VALOR TOTAL PROYECTO | F27: =+F22+F23+F25+F26+F24 -> 48802646 | H27: 211590000
H28: =+H25-F25 -> -1937381.8
H29: =+H26-F26 -> -368102.53
H30: =+H27-F27 -> 1.6278735e+08
B31: NOMBRE DE LA EMPRESA
B32: NIT
B33: REP LEGAL
B34: CC REP LEGAL

Sheet APU
E3: DIRECCIÓN ADMINISTRATIVA Y FINANCIERA GRUPO CONSTRUCCIONES | T3: GIL-F-061 V.1
E6: ANÁLISIS DE PRECIOS UNITARIOS (Hoja 2 de 2)
A8: B. DATOS ESPECIFICOS
A9: Item | C9: Descripción | R9: Unidad | T9: Cantidad
A10: =+'PPTO GENERAL'!A9 -> 1 | C10: =+'PPTO GENERAL'!B9 -> Suministro e instalación de pintura base aceite sobre estructura metalica (Colores a convenir). | R10: =+'PPTO GENERAL'!C9 -> ML
A12: 1. Equipo
A13: Descripción | H13: Marca | K13: Tipo | O13: Tarifa/Hora | R13: Rendimiento | T13: Vr. Unitario
A14: Herramienta menor | K14: % | T14: 2500
A15: Seccion de andamios | K15: DIA | O15: 66000 | R15: 0.06 | T15: =+O15*R15 -> 3960
A16: Pulidora (Grata) | K16: DIA | O16: 52000 | R16: 0.02 | T16: =+O16*R16 -> 1040
A18: SUBTOTAL | T18: =+SUM(T14:V17) -> 7500
A20: 2. Materiales
A21: Descripción | M21: Unidad | O21: Cantidad | Q21: Precio Unit. | T21: Vr Unitario
A22: PINTURA ACEITE NTC 1283 | M22: GALON | O22: 0.018 | Q22: 95000 | T22: =+O22*Q22 -> 1710
A23: THINNER | M23: LT | O23: 0.006 | Q23: 50000 | T23: =+O23*Q23 -> 300
A24: GRATA METALICA | M24: UND | O24: 0.05 | Q24: 15000 | T24: =+O24*Q24 -> 750
A25: LIJA DE AGUA 150 (PLIEGO) | M25: UND | O25: 0.63 | Q25: 2000 | T25: =+O25*Q25 -> 1260
A26: SUBTOTAL | T26: =+SUM(T22:V25) -> 4020
A28: 3. Transportes
A29: Material | K29: Vol. o Peso | M29: Distancia | O29: m2 o Ton/Km | R29: Tarifa | T29: Vr. Unitario
A33: SUBTOTAL
A35: 4. Mano de Obra
A36: Trabajador | J36: Cant. | N36: Jornal + Prestaciones | Q36: Rendimiento | T36: Vr. Unitario
A37: Oficial | J37: 1 | N37: 139345 | Q37: 20 | T37: =+(J37*N37)/Q37 -> 6967.25
A38: Ayudante | J38: 1 | N38: 95436 | Q38: =+Q37 -> 20 | T38: =+(J38*N38)/Q38 -> 4771.8
A40: SUBTOTAL | T40: =+SUM(T37:V38) -> 11739.05
A41: TOTAL COSTO DIRECTO | T41: =+T40+T33+T26+T18 -> 23259.05
A42: AIU CONTRACTUAL | E42: 0.25 | S42: TOTAL COSTO INDIRECTO | T42: =+T41*E42 -> 5814.7625
A43: VALOR TOTAL ACTIVIDAD | T43: =+T42+T41 -> 29073.812
E45: DIRECCIÓN ADMINISTRATIVA Y FINANCIERA GRUPO CONSTRUCCIONES | T45: GIL-F-061 V.1
E48: ANÁLISIS DE PRECIOS UNITARIOS (Hoja 2 de 2)
A50: B. DATOS ESPECIFICOS
A51: Item | C51: Descripción | R51: Unidad | T51: Cantidad
A52: =+'PPTO GENERAL'!A10 -> 2 | C52: =+'PPTO GENERAL'!B10 -> Suministro e instalacion sobre lamina llena de pintura base aceite. (Colores a convenir) | R52: =+'PPTO GENERAL'!C10 -> M2
A54: 1. Equipo
A55: Descripción | H55: Marca | K55: Tipo | O55: Tarifa/Hora | R55: Rendimiento | T55: Vr. Unitario
A56: Herramienta menor | K56: % | T56: 1200
A57: Seccion de andamios | K57: DIA | O57: 66000 | R57: 0.03 | T57: =+O57*R57 -> 1980
A60: SUBTOTAL | T60: =+SUM(T56:V59) -> 3180
A62: 2. Materiales
...

Sheet 1
F1: SERVICIO NACIONAL DE APRENDIZAJE SENA REGIONAL TOLIMA CENTRO DE INDUSTRIA Y CONSTRUCCION
A8: Versión: 1
A10: Contrato No. | D10: Año | P10: ACTA NUMERO: | T10: 1
A11: OBJETO | C11: MANTENIMIENTO DE TORRE DE ALTURAS
A12: CONTRATISTA
A13: SUPERVISOR | Q13: Hoja | T13: 1 | U13: 1
A14: Ítem: | B14: XXXX | C14: =+'PPTO GENERAL'!A9 -> 1 | D14: Descripción | F14: =+'PPTO GENERAL'!B9 -> Suministro e instalación de pintura base aceite sobre estructura metalica (Colores a convenir). | Q14: Unidad | T14: =+'PPTO GENERAL'!C9 -> ML
K16: DESCRIPCION | N16: Cantidad | O16: Dimensiones | R16: Valor Total (Cantidad Área Volumen) | T16: Valor acumulado | U16: UND
N17: Cantidad | O17: Ancho | P17: Longitud | Q17: Alto
K19: TORRE TIPO CONSTRUCCIONES | T19: =+P19*Q19 -> 0 | U19: =+T$14 -> ML
K20: PARALES | N20: 4 | Q20: 8 | T20: =+N20*Q20 -> 32 | U20: =+T$14 -> ML
K21: TRANSVERSALES SECCION 1 | N21: 4 | Q21: 3 | T21: =+N21*Q21 -> 12 | U21: =+T$14 -> ML
K22: TRANSVERSALES SECCION 2 | N22: 4 | Q22: 3 | T22: =+N22*Q22 -> 12 | U22: =+T$14 -> ML
K23: TRANSVERSALES SECCION 3 | N23: 8 | Q23: 3 | T23: =+N23*Q23 -> 24 | U23: =+T$14 -> ML
K24: DIAGONALES SECCIONES 1, 2, 3 Y 4 | N24: 24 | Q24: 3 | T24: =+N24*Q24 -> 72 | U24: =+T$14 -> ML
K25: BARANDAS SECCION 1,2,3 | N25: 6 | P25: =2.8+3+2.2+2.2+3+2.2+2.3 -> 17.7 | T25: =+N25*P25 -> 106.2 | U25: =+T$14 -> ML
K26: BARANDA SECCION 4 | N26: 2 | P26: =2.8+2.8+2.8+2.8 -> 11.2 | T26: =+N26*P26 -> 22.4 | U26: =+T$14 -> ML
K27: BARANDA SECCION 4 | N27: 2 | P27: =1.3+1.4+1.3+1.4 -> 5.4 | T27: =+N27*P27 -> 10.8 | U27: =+T$14 -> ML
K28: TUBERIA RECTANGULAR SECCION 4 CUBIERTA | N28: 2 | P28: 4.8 | T28: =+N28*P28 -> 9.6 | U28: =+T$14 -> ML
K29: TUBERIA RECTANGULAR SECCION 4 CUBIERTA | N29: 6 | P29: 3 | T29: =+N29*P29 -> 18 | U29: =+T$14 -> ML
K30: TUBERIA RECTANGULAR SECCION 4 CUBIERTA | N30: 1 | P30: 2.8 | T30: =+N30*P30 -> 2.8 | U30: =+T$14 -> ML
K31: PLATINAS | N31: 4 | O31: 0.4 | P31: 0.4 | T31: =+N31*P31*O31 -> 0.64
K32: TORRE TIPO TELECOMUNICACIONES | T32: =+P32*Q32 -> 0 | U32: =+T$14 -> ML
K33: PARALES | N33: 4 | Q33: 10 | T33: =+N33*Q33 -> 40
K34: TRANSVERSALES | N34: 10 | P34: 12 | T34: =+N34*P34 -> 120
K35: DIAGONALES | N35: 40 | P35: 6 | T35: =+N35*P35 -> 240
K36: ESCALERA 1 | N36: 2 | Q36: 9.2 | T36: =+N36*Q36 -> 18.4
K37: ESCALERA 1 PASOS | N37: =ROUNDUP(Q36/0.33,0) -> 28 | Q37: 0.5 | T37: =+N37*Q37 -> 14
K38: ESCALERA 2 | N38: 2 | Q38: 8 | T38: =+N38*Q38 -> 16
K39: ESCALERA 2 PASOS | N39: =ROUNDUP(Q38/0.43,0) -> 19 | Q39: 0.43 | T39: =+N39*Q39 -> 8.17
K40: REJA LONGITUDINAL | N40: =3/0.25 -> 12 | Q40: 3 | T40: =+N40*Q40 -> 36
K41: REJA TRANSVERSAL | N41: =3/0.25 -> 12 | Q41: 3 | T41: =+N41*Q41 -> 36
N42: Subtotal | T42: =ROUNDUP(SUM(T19:T41),0) -> 852 | U42: =+T14 -> ML
N43: VALOR TOTAL ACUMULADO | T43: 0 | U43: =+U42 -> ML
N44: VALOR PRESENTE ACTA | T44: =SUM(T42:T43) -> 852 | U44: =+U43 -> ML
A45: OBSERVACIONES:
A48: Firma
A49: Nombre
A50: Cargo | B50: Supervisor | P50: Contratista
A51: Fecha | B51: DD | D51: MM | F51: 2025

Sheet 2
F1: SERVICIO NACIONAL DE APRENDIZAJE SENA REGIONAL TOLIMA CENTRO DE INDUSTRIA Y CONSTRUCCION
A8: Versión: 1
A10: Contrato No. | D10: Año | P10: ACTA NUMERO: | T10: 1
A11: OBJETO | C11: MANTENIMIENTO DE TORRE DE ALTURAS
A12: CONTRATISTA
A13: SUPERVISOR | Q13: Hoja | T13: 1 | U13: 1
A14: Ítem: | B14: XXXX | C14: =+'PPTO GENERAL'!A10 -> 2 | D14: Descripción | F14: =+'PPTO GENERAL'!B10 -> Suministro e instalacion sobre lamina llena de pintura base aceite. (Colores a convenir) | Q14: Unidad | T14: =+'PPTO GENERAL'!C10 -> M2
K16: DESCRIPCION | N16: Cantidad | O16: Dimensiones | R16: Valor Total (Cantidad Área Volumen) | T16: Valor acumulado | U16: UND
N17: Cantidad | O17: Ancho | P17: Longitud | Q17: Alto
K19: ESCALERA | N19: 2 | P19: =2.8+3+2.2+2+3+2+2.2+3+2.2+1.3+3 -> 26.7 | T19: =N19*P19 -> 53.4 | U19: =+T$14 -> M2
N39: Subtotal | T39: =ROUNDUP(SUM(T19:T38),0) -> 54 | U39: =+T14 -> M2
N40: VALOR TOTAL ACUMULADO | T40: 0 | U40: =+U39 -> M2
N41: VALOR PRESENTE ACTA | T41: =SUM(T39:T40) -> 54 | U41: =+U40 -> M2
A42: OBSERVACIONES:
A45: Firma
A46: Nombre
A47: Cargo | B47: Supervisor | P47: Contratista
A48: Fecha | B48: DD | D48: MM | F48: 2025

Sheet 3
F1: SERVICIO NACIONAL DE APRENDIZAJE SENA REGIONAL TOLIMA CENTRO DE INDUSTRIA Y CONSTRUCCION
A8: Versión: 1
A10: Contrato No. | D10: Año | P10: ACTA NUMERO: | T10: 1
A11: OBJETO | C11: MANTENIMIENTO DE TORRE DE ALTURAS
A12: CONTRATISTA
A13: SUPERVISOR | Q13: Hoja | T13: 1 | U13: 1
A14: Ítem: | B14: XXXX | C14: =+'PPTO GENERAL'!A12 -> 3 | D14: Descripción | F14: =+'PPTO GENERAL'!B12 -> Suministro e instalacion de tubo rectangular 8 x 4 calibre 1.5 mm (Incluye anticorrosivo y pintura base aceite). | Q14: Unidad | T14: =+'PPTO GENERAL'!C12 -> KG
K16: DESCRIPCION | N16: Cantidad | O16: Dimensiones | R16: Kg/m (Peso) | T16: Valor acumulado | U16: UND
N17: Cantidad | O17: Ancho | P17: Longitud | Q17: Alto
K19: APOYOS | N19: 3 | Q19: 0.5 | R19: 5 | T19: =+N19*Q19*R19 -> 7.5
N20: 3 | Q20: 0.25 | R20: 5 | T20: =+N20*Q20*R20 -> 3.75
K21: LONGITUDINALES | N21: 3 | P21: 5.8 | R21: 5 | T21: =+N21*P21*R21 -> 87
K22: TRANSVERSALES | N22: 3 | P22: 4 | R22: 5 | T22: =+N22*P22*R22 -> 60
T23: =+N23*P23 -> 0
T24: =+N24*P24 -> 0
T25: =+N25*P25 -> 0
T26: =+N26*P26 -> 0
T27: =+N27*P27 -> 0
T28: =+N28*P28 -> 0
T29: =+N29*P29 -> 0
N39: Subtotal | T39: =ROUNDUP(SUM(T19:T38),0) -> 159 | U39: =+T14 -> KG
N40: VALOR TOTAL ACUMULADO | T40: 0 | U40: =+U39 -> KG
N41: VALOR PRESENTE ACTA | T41: =SUM(T39:T40) -> 159 | U41: =+U40 -> KG
A42: OBSERVACIONES:
A45: Firma
A46: Nombre
A47: Cargo | B47: Supervisor | P47: Contratista
A48: Fecha | B48: DD | D48: MM | F48: 2025

Sheet 4
F1: SERVICIO NACIONAL DE APRENDIZAJE SENA REGIONAL TOLIMA CENTRO DE INDUSTRIA Y CONSTRUCCION
A8: Versión: 1
A10: Contrato No. | D10: Año | P10: ACTA NUMERO: | T10: 1
A11: OBJETO | C11: MANTENIMIENTO DE TORRE DE ALTURAS
A12: CONTRATISTA
A13: SUPERVISOR | Q13: Hoja | T13: 1 | U13: 1
A14: Ítem: | B14: XXXX | C14: =+'PPTO GENERAL'!A13 -> 4 | D14: Descripción | F14: =+'PPTO GENERAL'!B13 -> Suministro e instalacion de teja arquitectonica 1.01x6m Cal 31 0.25mm (Incluye pernado y anclaje a estructura metalica) | Q14: Unidad | T14: =+'PPTO GENERAL'!C13 -> M2
K16: DESCRIPCION | N16: Cantidad | O16: Dimensiones | R16: Valor Total (Cantidad Área Volumen) | T16: Valor acumulado | U16: UND
N17: Cantidad | O17: Ancho | P17: Longitud | Q17: Alto
K19: CUBIERTA | N19: 1 | O19: 6 | P19: 4 | T19: =+N19*O19*P19 -> 24 | U19: =+T$14 -> M2
T20: =3.1416*Q20*P20*N20 -> 0 | U20: =+T$14 -> M2
T21: =3.1416*(Q21/2)*(Q21/2)*N21 -> 0 | U21: =+T$14 -> M2
T22: =3.1416*Q22*P22*N22 -> 0 | U22: =+T$14 -> M2
T23: =+N23*P23*Q23 -> 0 | U23: =+T$14 -> M2
T24: =+N24*P24*Q24 -> 0 | U24: =+T$14 -> M2
T25: =+N25*P25*Q25 -> 0 | U25: =+T$14 -> M2
T26: =+N26*P26*Q26 -> 0 | U26: =+T$14 -> M2
T27: =+N27*P27*Q27 -> 0 | U27: =+T$14 -> M2
T28: =3.1416*(Q28/2)*(Q28/2)*N28 -> 0
T29: =3.1416*Q29*P29*N29 -> 0
T30: =+P30*Q30 -> 0
N39: Subtotal | T39: =ROUNDUP(SUM(T19:T38),0) -> 24 | U39: =+T14 -> M2
N40: VALOR TOTAL ACUMULADO | T40: 0 | U40: =+U39 -> M2
N41: VALOR PRESENTE ACTA | T41: =SUM(T39:T40) -> 24 | U41: =+U40 -> M2
A42: OBSERVACIONES:
A45: Firma
A46: Nombre
A47: Cargo | B47: Supervisor | P47: Contratista
A48: Fecha | B48: DD | D48: MM | F48: 2025

Sheet 5
F1: SERVICIO NACIONAL DE APRENDIZAJE SENA REGIONAL TOLIMA CENTRO DE INDUSTRIA Y CONSTRUCCION
A8: Versión: 1
A10: Contrato No. | D10: Año | P10: ACTA NUMERO: | T10: 1
A11: OBJETO | C11: MANTENIMIENTO DE TORRE DE ALTURAS
A12: CONTRATISTA
A13: SUPERVISOR | Q13: Hoja | T13: 1 | U13: 1
A14: Ítem: | B14: XXXX | C14: 5 | D14: Descripción | F14: =+'PPTO GENERAL'!B14 -> Suministro e instalacion lamina de superboard (Incluye anclaje) | Q14: Unidad | T14: =+'PPTO GENERAL'!C14 -> M2
K16: DESCRIPCION | N16: Cantidad | O16: Dimensiones | R16: Valor Total (Cantidad Área Volumen) | T16: Valor acumulado | U16: UND
N17: Cantidad | O17: Ancho | P17: Longitud | Q17: Alto
K19: LAMINA | N19: 1 | O19: 2.44 | P19: 3 | T19: =+N19*O19*P19 -> 7.32 | U19: =+T$14 -> M2
N39: Subtotal | T39: =ROUNDUP(SUM(T19:T38),0) -> 8 | U39: =+T14 -> M2
N40: VALOR TOTAL ACUMULADO | T40: 0 | U40: =+U39 -> M2
N41: VALOR PRESENTE ACTA | T41: =SUM(T39:T40) -> 8 | U41: =+U40 -> M2
A42: OBSERVACIONES:
A45: Firma
A46: Nombre
A47: Cargo | B47: Supervisor | P47: Contratista
A48: Fecha | B48: DD | D48: MM | F48: 2025

Sheet 6
F1: SERVICIO NACIONAL DE APRENDIZAJE SENA REGIONAL TOLIMA CENTRO DE INDUSTRIA Y CONSTRUCCION
A8: Versión: 1
A10: Contrato No. | D10: Año | P10: ACTA NUMERO: | T10: 1
A11: OBJETO | C11: MANTENIMIENTO DE TORRE DE ALTURAS
A12: CONTRATISTA
A13: SUPERVISOR | Q13: Hoja | T13: 1 | U13: 1
A14: Ítem: | B14: XXXX | C14: 6 | D14: Descripción | F14: =+'PPTO GENERAL'!B16 -> Suministro e instalacion de reflector LED 200W | Q14: Unidad | T14: =+'PPTO GENERAL'!C16 -> UND
K16: DESCRIPCION | N16: Cantidad | O16: Dimensiones | R16: Valor Total (Cantidad Área Volumen) | T16: Valor acumulado | U16: UND
N17: Cantidad | O17: Ancho | P17: Longitud | Q17: Alto
K19: REFLECTOR 200w | N19: 8 | T19: =+N19 -> 8 | U19: =+T$14 -> UND
N39: Subtotal | T39: =ROUNDUP(SUM(T19:T38),0) -> 8 | U39: =+T14 -> UND
N40: VALOR TOTAL ACUMULADO | T40: 0 | U40: =+U39 -> UND
N41: VALOR PRESENTE ACTA | T41: =SUM(T39:T40) -> 8 | U41: =+U40 -> UND
A42: OBSERVACIONES:
A45: Firma
A46: Nombre
A47: Cargo | B47: Supervisor | P47: Contratista
A48: Fecha | B48: DD | D48: MM | F48: 2025

Sheet 7
F1: SERVICIO NACIONAL DE APRENDIZAJE SENA REGIONAL TOLIMA CENTRO DE INDUSTRIA Y CONSTRUCCION
A8: Versión: 1
A10: Contrato No. | D10: Año | P10: ACTA NUMERO: | T10: 1
A11: OBJETO | C11: MANTENIMIENTO DE TORRE DE ALTURAS
A12: CONTRATISTA
A13: SUPERVISOR | Q13: Hoja | T13: 1 | U13: 1
A14: Ítem: | B14: XXXX | C14: =+'PPTO GENERAL'!A17 -> 7 | D14: Descripción | F14: =+'PPTO GENERAL'!B17 -> Suministro e instalacion de red electrica externa de baja tension | Q14: Unidad | T14: =+'PPTO GENERAL'!C17 -> ML
K16: DESCRIPCION | N16: Cantidad | O16: Dimensiones | R16: Valor Total (Cantidad Área Volumen) | T16: Valor acumulado | U16: UND
N17: Cantidad | O17: Ancho | P17: Longitud | Q17: Alto
K19: TORRE CONSTRUCCIONES | T19: =+N19 -> 0
K20: TRAMO 1 (Tablero - Caja 2) | N20: 1 | P20: 5 | T20: =+N20*P20 -> 5 | U20: =+T$14 -> ML
K21: TRAMO 2 (Caja 2 - Torre) | N21: 1 | P21: =12+1 -> 13 | T21: =+N21*P21 -> 13 | U21: =+T$14 -> ML
K22: TRAMO 3 (Torre - Top Torre) | N22: 1 | P22: 8 | T22: =+N22*P22 -> 8 | U22: =+T$14 -> ML
K23: TRAMO 4 (Cubierta) | N23: 1 | P23: 12 | T23: =+N23*P23 -> 12 | U23: =+T$14 -> ML
K24: TORRE TELECOMUNICACIONES
K25: TRAMO 1 (Tablero - Caja 2) | N25: 1 | P25: 5 | T25: =+N25*P25 -> 5 | U25: =+T$14 -> ML
K26: TRAMO 2 (Caja 2 - Torre) | N26: 1 | P26: =8+1 -> 9 | T26: =+N26*P26 -> 9 | U26: =+T$14 -> ML
K27: TRAMO 3 (Torre - Top Torre) | N27: 1 | P27: 12 | T27: =+N27*P27 -> 12 | U27: =+T$14 -> ML
K28: TRAMO 4 (Cubierta) | N28: 1 | P28: 12 | T28: =+N28*P28 -> 12 | U28: =+T$14 -> ML
N40: Subtotal | T40: =ROUNDUP(SUM(T19:T39),0) -> 76 | U40: =+T14 -> ML
N41: VALOR TOTAL ACUMULADO | T41: 0 | U41: =+U40 -> ML
N42: VALOR PRESENTE ACTA | T42: =SUM(T40:T41) -> 76 | U42: =+U41 -> ML
A43: OBSERVACIONES:
A46: Firma
A47: Nombre
A48: Cargo | B48: Supervisor | P48: Contratista
A49: Fecha | B49: DD | D49: MM | F49: 2025

Sheet 8
F1: SERVICIO NACIONAL DE APRENDIZAJE SENA REGIONAL TOLIMA CENTRO DE INDUSTRIA Y CONSTRUCCION
A8: Versión: 1
A10: Contrato No. | D10: Año | P10: ACTA NUMERO: | T10: 1
A11: OBJETO | C11: MANTENIMIENTO DE TORRE DE ALTURAS
A12: CONTRATISTA
A13: SUPERVISOR | Q13: Hoja | T13: 1 | U13: 1
A14: Ítem: | B14: XXXX | C14: =+'PPTO GENERAL'!A18 -> 8 | D14: Descripción | F14: =+'PPTO GENERAL'!B18 -> Suministro e instalacion de tablero trifasico de 18 circuitos | Q14: Unidad | T14: =+'PPTO GENERAL'!C18 -> UND
K16: DESCRIPCION | N16: Cantidad | O16: Dimensiones | R16: Valor Total (Cantidad Área Volumen) | T16: Valor acumulado | U16: UND
N17: Cantidad | O17: Ancho | P17: Longitud | Q17: Alto
K19: TABLERO | N19: 1 | T19: =+N19 -> 1 | U19: =+T$14 -> UND
N39: Subtotal | T39: =ROUNDUP(SUM(T19:T38),0) -> 1 | U39: =+T14 -> UND
N40: VALOR TOTAL ACUMULADO | T40: 0 | U40: =+U39 -> UND
N41: VALOR PRESENTE ACTA | T41: =SUM(T39:T40) -> 1 | U41: =+U40 -> UND
A42: OBSERVACIONES:
A45: Firma
A46: Nombre
A47: Cargo | B47: Supervisor | P47: Contratista
A48: Fecha | B48: DD | D48: MM | F48: 2025

Sheet 9
F1: SERVICIO NACIONAL DE APRENDIZAJE SENA REGIONAL TOLIMA CENTRO DE INDUSTRIA Y CONSTRUCCION
A8: Versión: 1
A10: Contrato No. | D10: Año | P10: ACTA NUMERO: | T10: 1
A11: OBJETO | C11: MANTENIMIENTO DE TORRE DE ALTURAS
A12: CONTRATISTA
A13: SUPERVISOR | Q13: Hoja | T13: 1 | U13: 1
A14: Ítem: | B14: XXXX | C14: =+'PPTO GENERAL'!A19 -> 9 | D14: Descripción | F14: =+'PPTO GENERAL'!B19 -> Suministro e instalacion de acometida principal | Q14: Unidad | T14: =+'PPTO GENERAL'!C19 -> ML
K16: DESCRIPCION | N16: Cantidad | O16: Dimensiones | R16: Valor Total (Cantidad Área Volumen) | T16: Valor acumulado | U16: UND
N17: Cantidad | O17: Ancho | P17: Longitud | Q17: Alto
K19: ACOMETIDA PRINCIPAL | T19: =+N19 -> 0
K20: TRAMO 1 (Cuarto de Maquinas - Caja 1) | N20: 1 | P20: 10.7 | T20: =+N20*P20 -> 10.7 | U20: =+T$14 -> ML
K21: TRAMO 2 (Caja 1 - Caja 2) | N21: 1 | P21: 34 | T21: =+N21*P21 -> 34 | U21: =+T$14 -> ML
K22: TRAMO 3 (Caja 2 - Tablero) | N22: 1 | P22: 5 | T22: =+N22*P22 -> 5 | U22: =+T$14 -> ML
U24: =+T$14 -> ML
U25: =+T$14 -> ML
T26: =+N26*P26 -> 0 | U26: =+T$14 -> ML
N39: Subtotal | T39: =ROUNDUP(SUM(T19:T38),0) -> 50 | U39: =+T14 -> ML
N40: VALOR TOTAL ACUMULADO | T40: 0 | U40: =+U39 -> ML
N41: VALOR PRESENTE ACTA | T41: =SUM(T39:T40) -> 50 | U41: =+U40 -> ML
A42: OBSERVACIONES:
A45: Firma
A46: Nombre
A47: Cargo | B47: Supervisor | P47: Contratista
A48: Fecha | B48: DD | D48: MM | F48: 2025

Sheet 10
F1: SERVICIO NACIONAL DE APRENDIZAJE SENA REGIONAL TOLIMA CENTRO DE INDUSTRIA Y CONSTRUCCION
A8: Versión: 1
A10: Contrato No. | D10: Año | P10: ACTA NUMERO: | T10: 1
A11: OBJETO | C11: MANTENIMIENTO DE TORRE DE ALTURAS
A12: CONTRATISTA
A13: SUPERVISOR | Q13: Hoja | T13: 1 | U13: 1
A14: Ítem: | B14: XXXX | C14: =+'PPTO GENERAL'!A20 -> 10 | D14: Descripción | F14: =+'PPTO GENERAL'!B20 -> Suministro e instalacion de tubo rectangular 50 cm x 50 cm calibre 1.5 mm (Incluye anticorrosivo y pintura base aceite). | Q14: Unidad | T14: =+'PPTO GENERAL'!C20 -> ML
K16: DESCRIPCION | N16: Cantidad | O16: Dimensiones | R16: Valor Total (Cantidad Área Volumen) | T16: Valor acumulado | U16: UND
N17: Cantidad | O17: Ancho | P17: Longitud | Q17: Alto
T19: =+N19 -> 0
K20: PLATAFORMA 1 | N20: 1 | P20: =2.93+2.93+0.83+0.83 -> 7.52 | T20: =+N20*P20 -> 7.52 | U20: =+T$14 -> ML
K21: PLATAFORMA 2 | N21: 1 | P21: =2.93+2.93+0.7+0.7 -> 7.26 | T21: =+N21*P21 -> 7.26 | U21: =+T$14 -> ML
T22: =+N22*P22 -> 0 | U22: =+T$14 -> ML
U24: =+T$14 -> ML
U25: =+T$14 -> ML
T26: =+N26*P26 -> 0 | U26: =+T$14 -> ML
N39: Subtotal | T39: =ROUNDUP(SUM(T19:T38),0) -> 15 | U39: =+T14 -> ML
N40: VALOR TOTAL ACUMULADO | T40: 0 | U40: =+U39 -> ML
N41: VALOR PRESENTE ACTA | T41: =SUM(T39:T40) -> 15 | U41: =+U40 -> ML
A42: OBSERVACIONES:
A45: Firma
A46: Nombre
A47: Cargo | B47: Supervisor | P47: Contratista
A48: Fecha | B48: DD | D48: MM | F48: 2025

Sheet 11
F1: SERVICIO NACIONAL DE APRENDIZAJE SENA REGIONAL TOLIMA CENTRO DE INDUSTRIA Y CONSTRUCCION
A8: Versión: 1
A10: Contrato No. | D10: Año | P10: ACTA NUMERO: | T10: 1
A11: OBJETO | C11: MANTENIMIENTO DE TORRE DE ALTURAS
A12: CONTRATISTA
A13: SUPERVISOR | Q13: Hoja | T13: 1 | U13: 1
A14: Ítem: | B14: XXXX | C14: =+'PPTO GENERAL'!A21 -> 11 | D14: Descripción | F14: =+'PPTO GENERAL'!B21 -> Suministro e instalacion de lamina de acero tipo IMT No. 40 Calibre 12 (Incluye anticorrosivo y pintura base aceite), | Q14: Unidad | T14: =+'PPTO GENERAL'!C21 -> M2
K16: DESCRIPCION | N16: Cantidad | O16: Dimensiones | R16: Valor Total (Cantidad Área Volumen) | T16: Valor acumulado | U16: UND
N17: Cantidad | O17: Ancho | P17: Longitud | Q17: Alto
T19: =+N19 -> 0
K20: PLATAFORMA 1 | N20: 1 | O20: 0.83 | P20: 2.93 | T20: =+N20*P20*O20 -> 2.4319 | U20: =+T$14 -> M2
K21: PLATAFORMA 2 | N21: 1 | O21: 0.7 | P21: 2.93 | T21: =+N21*P21*O21 -> 2.051 | U21: =+T$14 -> M2
K22: VACIO | N22: 1 | O22: 0.16 | P22: 2.93 | T22: =+N22*P22*O22 -> 0.4688 | U22: =+T$14 -> M2
N23: 1 | O23: 0.1 | P23: 2.93 | T23: =+N23*P23*O23 -> 0.293
U24: =+T$14 -> M2
U25: =+T$14 -> M2
T26: =+N26*P26 -> 0 | U26: =+T$14 -> M2
N39: Subtotal | T39: =ROUNDUP(SUM(T19:T38),0) -> 6 | U39: =+T14 -> M2
N40: VALOR TOTAL ACUMULADO | T40: 0 | U40: =+U39 -> M2
N41: VALOR PRESENTE ACTA | T41: =SUM(T39:T40) -> 6 | U41: =+U40 -> M2
A42: OBSERVACIONES:
A45: Firma
A46: Nombre
A47: Cargo | B47: Supervisor | P47: Contratista
A48: Fecha | B48: DD | D48: MM | F48: 2025
