Workbook
Name a1_Y1: [2]CONFIGURACIÓN!$D$17
Name a1_Y2: [2]CONFIGURACIÓN!$E$17
Name a10_Y10: [2]CONFIGURACIÓN!$M$26
Name a10_Y11: [2]CONFIGURACIÓN!$N$26
Name a2_Y2: [2]CONFIGURACIÓN!$E$18
Name a2_Y3: [2]CONFIGURACIÓN!$F$18
Name a3_Y3: [2]CONFIGURACIÓN!$F$19
Name a3_Y4: [2]CONFIGURACIÓN!$G$19
Name a4_Y4: [2]CONFIGURACIÓN!$G$20
Name a4_Y5: [2]CONFIGURACIÓN!$H$20
Name a5_Y5: [2]CONFIGURACIÓN!$H$21
Name a5_Y6: [2]CONFIGURACIÓN!$I$21
Name a6_Y6: [2]CONFIGURACIÓN!$I$22
Name a6_Y7: [2]CONFIGURACIÓN!$J$22
Name a7_Y7: [2]CONFIGURACIÓN!$J$23
Name a7_Y8: [2]CONFIGURACIÓN!$K$23
Name a8_Y8: [2]CONFIGURACIÓN!$K$24
Name a8_Y9: [2]CONFIGURACIÓN!$L$24
Name a9_Y10: [2]CONFIGURACIÓN!$M$25
Name a9_Y9: [2]CONFIGURACIÓN!$L$25
Name ALMUERZO: '[3]Resumen Preparaciones'!$C$52:$C$113
Name almuerzocena: '[3]Resumen Preparaciones'!$C$52:$C$141
Name año1: [2]CONFIGURACIÓN!$F$9
Name APLICA: #REF!
Name APLICA.: #REF!
Name bbb: [4]lista!$A$11:$A$13
Name CALENDARIO: [2]CALENDARIO!$B$6:$H$161
Name Calidad: [5]PERSONAL!$P$58
Name Campamento: [5]PERSONAL!$P$122
Name Comercio: [6]OCULTAR!$F$14:$G$17
Name Decision: [4]lista!$A$6:$A$7
Name dependencia: '[7]Datos Inciales'!$B$5:$B$30
Name desayuno: '[3]Resumen Preparaciones'!$C$5:$C$50
Name DESAYUNOS: '[3]Resumen Preparaciones'!$C$5:$C$33
Name Ensayos: [5]PERSONAL!$P$100
Name Estrategia: [8]Tablas!$F$2:$F$34
Name EUR: '[2]DATOS ENTRADA'!$E$2
Name fecha_fin_servicio: [2]CONFIGURACIÓN!$C$10
Name fecha_inicio_servicio: [2]CONFIGURACIÓN!$C$9
Name Fuente: [8]Tablas!$D$2:$D$10
Name FUENTES: '[7]Datos Inciales'!$B$40:$B$49
Name GRUPO: #REF!
Name horas_jornada: [2]CONFIGURACIÓN!$C$12
Name horas_ubicacion1: [2]CONFIGURACIÓN!$C$47
Name horas_ubicacion2: [2]CONFIGURACIÓN!$C$48
Name horas_ubicacion3: [2]CONFIGURACIÓN!$C$49
Name horas_ubicacion4: [2]CONFIGURACIÓN!$C$50
Name horas_ubicacion5: [2]CONFIGURACIÓN!$C$51
Name horas_ubicacion6: [2]CONFIGURACIÓN!$C$52
Name horas_ubicacion7: [2]CONFIGURACIÓN!$C$53
Name Info_Prazo_do_contrato: [9]Seletor!$C$13
Name IVASobreUtilidad: [5]IMPUESTOS!$E$16
Name lista_hnp: '[2]COSTES NO SSPP'!$B$24:$B$33
Name lista_lineas_reparto: '[2]HW&SW'!$C$314:$C$324
Name lista_localizaciones: [2]CONFIGURACIÓN!$B$47:$B$53
Name lista_paises: '[2]DATOS MAESTROS'!$B$13:$B$39
Name lista_perfiles_esp: [2]TASAS!$D$7:$D$198
Name lista_perfiles_resto: [2]TASAS!$B$330:$B$450
Name M: [6]OCULTAR!$B$14:$B$17
Name Manufacturero: [6]OCULTAR!$B$14:$C$17

Sheet Formato_Cotización
B2: #VALUE! | D2: República de Colombia | H2: #VALUE!
D3: Instituto Colombiano de Antropología e Historia
D5: ESTUDIO DE MERCADO
I6: ESTUDIO DE MERCADO 2024 + Indexación por IPC 2024 - 2025 | L6: SAMC-ICANH-007-2024 + Indexación por IPC 2024 - 2025
B7: Ítem | C7: Bien y/o Servicio Requerido | D7: Especificación técnica | E7: Detalle | F7: Unidad de medida | G7: Cantidad | H7: Muestra 1 | I7: Muestra 2 | J7: Muestra 3 | K7: Muestra 4 | L7: Muestra 5 | M7: Muestra 6 | O7: ANALISIS DE TENDENCIA CENTRAL
H8: ='1'!D7 -> SERVCIOS SANITARIOS PORTATILES BAÑOMOVIL SAS | I8: COTIZACION COMBILTDA | J8: COTIZACION TWM | K8: COTIZACION ELITE | L8: ='5'!D7 -> MAPRECO SOLUCIONES GEOAMBIENTALES SAS | M8: ='6'!D7 -> INGENIERIA DIGITAL SERVICE S.A.S. | O8: PROMEDIO | P8: MEDIANA | Q8: MEDIA GEOMETRICA | R8: MEDIA ARMONICA
H9: Valor Unitario (Incluye Impuestos) | I9: Valor Unitario (Incluye Impuestos) | J9: Valor Unitario (Incluye Impuestos) | K9: Valor Unitario (Incluye Impuestos) | L9: Valor Unitario (Incluye Impuestos) | M9: Valor Unitario (Incluye Impuestos) | O9: Valor Unitario (Incluye Impuestos) | P9: Valor Unitario (Incluye Impuestos) | Q9: Valor Unitario (Incluye Impuestos) | R9: Valor Unitario (Incluye Impuestos)
B10: 1 | C10: Parque Alto de los Ídolos – Tanque 1 | D10: Suministro de servicio de vaciado de pozos sépticos | E10: m³ material extraído | F10: m³ | G10: 5.8 | H10: ='1'!H17 -> 960000 | I10: =('2'!$N25*(1+($D$24/100)))*(1+($D$25/100)) -> 947322.63 | J10: =('3'!$N25*(1+($D$24/100)))*(1+($D$25/100)) -> 684177.46 | K10: =('4'!$N25*(1+($D$24/100)))*(1+($D$25/100)) -> 684177.46 | L10: =('5'!$M24*(1+($D$24/100)))*(1+($D$25/100)) -> 608108.6 | M10: =('6'!$M24*(1+($D$24/100)))*(1+($D$25/100)) -> 632855.97 | O10: =ROUND(AVERAGE(H10:N10),-2) -> 752800 | P10: =ROUND(MEDIAN(H10:N10),-2) -> 684200 | Q10: =ROUND(GEOMEAN(H10:N10),-2) -> 739700 | R10: =ROUND(HARMEAN(H10:M10),-2) -> 727700
B11: 2 | D11: Suministro de servicio de lavado y desinfección de tanque y aplicación de activador bacteriano | E11: Servicio | F11: Servicio | G11: 1 | H11: ='1'!H18 -> 1200000 | I11: =('2'!$N26*(1+($D$24/100)))*(1+($D$25/100)) -> 723649.23 | J11: =('3'!$N26*(1+($D$24/100)))*(1+($D$25/100)) -> 3642188 | K11: =('4'!$N26*(1+($D$24/100)))*(1+($D$25/100)) -> 13157259 | L11: =('5'!$M25*(1+($D$24/100)))*(1+($D$25/100)) -> 726413.36 | M11: =('6'!$M25*(1+($D$24/100)))*(1+($D$25/100)) -> 773348.13 | O11: =ROUND(AVERAGE(H11:N11),-2) -> 3370500 | P11: =ROUND(MEDIAN(H11:N11),-2) -> 986700 | Q11: =ROUND(GEOMEAN(H11:N11),-2) -> 1691000 | R11: =ROUND(HARMEAN(H11:M11),-2) -> 1146000
B12: 3 | C12: Parque Alto de los Ídolos – Tanque 2 | D12: Suministro de servicio de vaciado de pozos sépticos | E12: m³ material extraído | F12: m³ | G12: 5.8 | H12: ='1'!H19 -> 960000 | I12: =('2'!$N27*(1+($D$24/100)))*(1+($D$25/100)) -> 947322.63 | J12: =('3'!$N27*(1+($D$24/100)))*(1+($D$25/100)) -> 684177.46 | K12: =('4'!$N27*(1+($D$24/100)))*(1+($D$25/100)) -> 684177.46 | L12: =('5'!$M26*(1+($D$24/100)))*(1+($D$25/100)) -> 608108.6 | M12: =('6'!$M26*(1+($D$24/100)))*(1+($D$25/100)) -> 632855.97 | O12: =ROUND(AVERAGE(H12:N12),-2) -> 752800 | P12: =ROUND(MEDIAN(H12:N12),-2) -> 684200 | Q12: =ROUND(GEOMEAN(H12:N12),-2) -> 739700 | R12: =ROUND(HARMEAN(H12:M12),-2) -> 727700
B13: 4 | D13: Suministro de servicio de lavado y desinfección de tanque y aplicación de activador bacteriano | E13: Servicio | F13: Servicio | G13: 1 | H13: ='1'!H20 -> 1200000 | I13: =('2'!$N28*(1+($D$24/100)))*(1+($D$25/100)) -> 723649.23 | J13: =('3'!$N28*(1+($D$24/100)))*(1+($D$25/100)) -> 3642188 | K13: =('4'!$N28*(1+($D$24/100)))*(1+($D$25/100)) -> 6578629.4 | L13: =('5'!$M27*(1+($D$24/100)))*(1+($D$25/100)) -> 723370.61 | M13: =('6'!$M27*(1+($D$24/100)))*(1+($D$25/100)) -> 773348.13 | O13: =ROUND(AVERAGE(H13:N13),-2) -> 2273500 | P13: =ROUND(MEDIAN(H13:N13),-2) -> 986700 | Q13: =ROUND(GEOMEAN(H13:N13),-2) -> 1505400 | R13: =ROUND(HARMEAN(H13:M13),-2) -> 1128400
B14: 5 | C14: Parque Alto de las Piedras – Tanque Cajón | D14: Suministro de servicio de vaciado de pozos sépticos | E14: m³ material extraído | F14: m³ | G14: 9.6 | H14: ='1'!H21 -> 790000 | I14: =('2'!$N29*(1+($D$24/100)))*(1+($D$25/100)) -> 894693.6 | J14: =('3'!$N29*(1+($D$25/100)))*(1+($D$25/100)) -> 468610.41 | K14: =('4'!$N29*(1+($D$24/100)))*(1+($D$25/100)) -> 460504.06 | L14: =('5'!$M28*(1+($D$24/100)))*(1+($D$25/100)) -> 442260.8 | M14: =('6'!$M28*(1+($D$24/100)))*(1+($D$25/100)) -> 489041.49 | O14: =ROUND(AVERAGE(H14:N14),-2) -> 590900 | P14: =ROUND(MEDIAN(H14:N14),-2) -> 478800 | Q14: =ROUND(GEOMEAN(H14:N14),-2) -> 566300 | R14: =ROUND(HARMEAN(H14:M14),-2) -> 545700
B15: 6 | D15: Suministro de servicio de lavado y desinfección de tanque y aplicación de activador bacteriano | E15: Servicio | F15: Servicio | G15: 1 | H15: ='1'!H22 -> 1460000 | I15: =('2'!$N30*(1+($D$24/100)))*(1+($D$25/100)) -> 684177.46 | J15: =('3'!$N30*(1+($D$24/100)))*(1+($D$25/100)) -> 3494669.7 | K15: =('4'!$N30*(1+($D$24/100)))*(1+($D$25/100)) -> 6578629.4 | L15: =('5'!$M29*(1+($D$24/100)))*(1+($D$25/100)) -> 984030.28 | M15: =('6'!$M29*(1+($D$24/100)))*(1+($D$25/100)) -> 967424.88 | O15: =ROUND(AVERAGE(H15:N15),-2) -> 2361500 | P15: =ROUND(MEDIAN(H15:N15),-2) -> 1222000 | Q15: =ROUND(GEOMEAN(H15:N15),-2) -> 1672200 | R15: =ROUND(HARMEAN(H15:M15),-2) -> 1294600
B16: 7 | C16: Parque San Agustín – Taquilla | D16: Suministro de servicio de vaciado de pozos sépticos | E16: m³ material extraído | F16: m³ | G16: 17.6 | H16: ='1'!H23 -> 810000 | I16: =('2'!$N31*(1+($D$24/100)))*(1+($D$25/100)) -> 723649.23 | J16: =('3'!$N31*(1+($D$24/100)))*(1+($D$25/100)) -> 501291.56 | K16: =('4'!$N31*(1+($D$24/100)))*(1+($D$25/100)) -> 789435.53 | L16: =('5'!$M30*(1+($D$24/100)))*(1+($D$25/100)) -> 353808.64 | M16: =('6'!$M30*(1+($D$24/100)))*(1+($D$25/100)) -> 676302.4 | O16: =ROUND(AVERAGE(H16:N16),-2) -> 642400 | P16: =ROUND(MEDIAN(H16:N16),-2) -> 700000 | Q16: =ROUND(GEOMEAN(H16:N16),-2) -> 617600 | R16: =ROUND(HARMEAN(H16:M16),-2) -> 589200
B17: 8 | D17: Suministro de servicio de lavado y desinfección de tanque y aplicación de activador bacteriano | E17: Servicio | F17: Servicio | G17: 1 | H17: ='1'!H24 -> 1860000 | I17: =('2'!$N32*(1+($D$24/100)))*(1+($D$25/100)) -> 631548.42 | J17: =('3'!$N32*(1+($D$24/100)))*(1+($D$25/100)) -> 3424275 | K17: =('4'!$N32*(1+($D$24/100)))*(1+($D$25/100)) -> 13157259 | L17: =('5'!$M31*(1+($D$24/100)))*(1+($D$25/100)) -> 1733293 | M17: =('6'!$M31*(1+($D$24/100)))*(1+($D$25/100)) -> 1727170.7 | O17: =ROUND(AVERAGE(H17:N17),-2) -> 3755600 | P17: =ROUND(MEDIAN(H17:N17),-2) -> 1796600 | Q17: =ROUND(GEOMEAN(H17:N17),-2) -> 2326200 | R17: =ROUND(HARMEAN(H17:M17),-2) -> 1646100
B18: 9 | C18: Parque San Agustín – Casa Administrativa | D18: Suministro de servicio de vaciado de pozos sépticos | E18: m³ material extraído | F18: m³ | G18: 25.6 | H18: ='1'!H25 -> 790000 | I18: =('2'!$N33*(1+($D$24/100)))*(1+($D$25/100)) -> 723649.23 | J18: =('3'!$N33*(1+($D$24/100)))*(1+($D$25/100)) -> 384191.96 | K18: =('4'!$N33*(1+($D$24/100)))*(1+($D$25/100)) -> 1052580.7 | L18: =('5'!$M32*(1+($D$24/100)))*(1+($D$25/100)) -> 541769.48 | M18: =('6'!$M32*(1+($D$24/100)))*(1+($D$25/100)) -> 622884.81 | O18: =ROUND(AVERAGE(H18:N18),-2) -> 685800 | P18: =ROUND(MEDIAN(H18:N18),-2) -> 673300 | Q18: =ROUND(GEOMEAN(H18:N18),-2) -> 653700 | R18: =ROUND(HARMEAN(H18:M18),-2) -> 621600
B19: 10 | D19: Suministro de servicio de lavado y desinfección de tanque y aplicación de activador bacteriano | E19: Servicio | F19: Servicio | G19: 1 | H19: ='1'!H26 -> 1750000 | I19: =('2'!$N34*(1+($D$24/100)))*(1+($D$25/100)) -> 631548.42 | J19: =('3'!$N34*(1+($D$24/100)))*(1+($D$25/100)) -> 3618874.2 | K19: =('4'!$N34*(1+($D$24/100)))*(1+($D$25/100)) -> 13157259 | L19: =('5'!$M33*(1+($D$24/100)))*(1+($D$25/100)) -> 984889.37 | M19: =('6'!$M33*(1+($D$24/100)))*(1+($D$25/100)) -> 1993330.1 | O19: =ROUND(AVERAGE(H19:N19),-2) -> 3689300 | P19: =ROUND(MEDIAN(H19:N19),-2) -> 1871700 | Q19: =ROUND(GEOMEAN(H19:N19),-2) -> 2166200 | R19: =ROUND(HARMEAN(H19:M19),-2) -> 1491000
B20: 11 | C20: Parque San Agustín – Fuente | D20: Suministro de servicio de vaciado de pozos sépticos | E20: m³ material extraído | F20: m³ | G20: 25.6 | H20: ='1'!H27 -> 790000 | I20: =('2'!$N37*(1+($D$24/100)))*(1+($D$25/100)) -> 723649.23 | J20: =('3'!$N37*(1+($D$24/100)))*(1+($D$25/100)) -> 384191.96 | K20: =('4'!$N37*(1+($D$24/100)))*(1+($D$25/100)) -> 1052580.7 | L20: =('5'!$M36*(1+($D$24/100)))*(1+($D$25/100)) -> 353808.64 | M20: =('6'!$M36*(1+($D$24/100)))*(1+($D$25/100)) -> 622884.81 | O20: =ROUND(AVERAGE(H20:N20),-2) -> 654500 | P20: =ROUND(MEDIAN(H20:N20),-2) -> 673300 | Q20: =ROUND(GEOMEAN(H20:N20),-2) -> 608900 | R20: =ROUND(HARMEAN(H20:M20),-2) -> 564300
B21: 12 | D21: Suministro de servicio de lavado y desinfección de tanque y aplicación de activador bacteriano | E21: Servicio | F21: Servicio | G21: 1 | H21: ='1'!H28 -> 1750000 | I21: =('2'!$N38*(1+($D$24/100)))*(1+($D$25/100)) -> 631548.42 | J21: =('3'!$N38*(1+($D$24/100)))*(1+($D$25/100)) -> 4136745 | K21: =('4'!$N38*(1+($D$24/100)))*(1+($D$25/100)) -> 13157259 | L21: =('5'!$M37*(1+($D$24/100)))*(1+($D$25/100)) -> 984889.37 | M21: =('6'!$M37*(1+($D$24/100)))*(1+($D$25/100)) -> 2084208.1 | O21: =ROUND(AVERAGE(H21:N21),-2) -> 3790800 | P21: =ROUND(MEDIAN(H21:N21),-2) -> 1917100 | Q21: =ROUND(GEOMEAN(H21:N21),-2) -> 2231500 | R21: =ROUND(HARMEAN(H21:M21),-2) -> 1512200
H22: =SUMPRODUCT(H10:H21,$G$10:$G$21) -> 82644000 | I22: =SUMPRODUCT(I10:I21,$G$10:$G$21) -> 73391190 | J22: =SUMPRODUCT(J10:J21,$G$10:$G$21) -> 62887418 | K22: =SUMPRODUCT(K10:K21,$G$10:$G$21) -> 1.4592979e+08 | L22: =SUMPRODUCT(L10:L21,$G$10:$G$21) -> 46590481 | M22: =SUMPRODUCT(M10:M21,$G$10:$G$21) -> 64149382 | O22: =SUMPRODUCT(O10:O21,$G$10:$G$21) -> 79264240 | P22: =SUMPRODUCT(P10:P21,$G$10:$G$21) -> 68106960 | Q22: =SUMPRODUCT(Q10:Q21,$G$10:$G$21) -> 68801820 | R22: =SUMPRODUCT(R10:R21,$G$10:$G$21) -> 62627300
C24: IPC - DICIEMBRE 2024 | D24: 5.2
C25: IPC - DICIEMBRE 2025 | D25: 5.1
C28: METODO | D28: VALOR ESTIMADO
C29: PROMEDIO | D29: =O22 -> 79264240
C30: MEDIANA | D30: =P22 -> 68106960
C31: MEDIA GEOMETRICA | D31: =Q22 -> 68801820
C32: MEDIA ARMONICA | D32: =R22 -> 62627300

Sheet 1
B2: #VALUE! | D2: República de Colombia | H2: #VALUE!
D3: Instituto Colombiano de Antropología e Historia
D5: Formato de cotización
B7: Nombre o Razón Social | D7: SERVCIOS SANITARIOS PORTATILES BAÑOMOVIL SAS | G7: NIT | H7: 830 008 439-7
B8: Persona de contacto | D8: Lorena Garzon Campos | G8: Teléfono celular | H8: 312 457 8307
B9: Correo electrónico | D9: Lgarzon@banomovil.com | G9: Teléfono fijo | H9: 227 3800
B11: OBJETO: Contratar el servicio de limpieza y bombeo de pozos sépticos de los Parques Arqueológicos-ICANH
B13: Instrucciones para el diligenciamiento de la cotización
B14: • Por favor diligenciar solo las celdas en AZUL. • Revisar todos los requerimientos que se exponen en los documentos técnico y formular su cotización en concordancia con este, de tal forma que cumplan con la necesidad del Instituto. • Los precios unitarios deberán ser expresado en PESOS COLOMBIANOS. • Los precios deberán aproximarse por exceso o por defecto al entero más cercano así: (i) si es igual o superior a 50 centavos, se aproxima al entero siguiente; (ii) si es inferior a 50 centavos se baja al entero anterior. • El formato contiene los bienes y/o servicios de costos estimados por el Instituto por lo tanto no se permite modificar, agregar o quitar ningún ítem o sub-ítem. • Los precios unitarios deben contemplar todos los rubros requeridos para la adecuada prestación del servicio y el cumplimiento de las obligaciones tributarias y contractuales como los son trazabilidad del servicio, equipo mínimo de trabajo, impuestos (si aplica) entre otros.
B16: Ítem | C16: Bien y/o Servicio Requerido | D16: Especificación técnica | E16: Detalle | F16: Unidad de medida | G16: Cantidad | H16: Valor Unitario (Incluye Impuestos) | I16: Valor Total (Incluye Impuestos)
B17: 1 | C17: Parque Alto de los Ídolos – Tanque 1 | D17: Suministro de servicio de vaciado de pozos sépticos | E17: m³ material extraído | F17: m³ | G17: 5.8 | H17: 960000 | I17: =ROUND(G17*H17,0) -> 5568000
B18: 2 | D18: Suministro de servicio de lavado y desinfección de tanque y aplicación de activador bacteriano | E18: Servicio | F18: Servicio | G18: 1 | H18: 1200000 | I18: =ROUND(G18*H18,0) -> 1200000
B19: 3 | C19: Parque Alto de los Ídolos – Tanque 2 | D19: Suministro de servicio de vaciado de pozos sépticos | E19: m³ material extraído | F19: m³ | G19: 5.8 | H19: =H17 -> 960000 | I19: =ROUND(G19*H19,0) -> 5568000
B20: 4 | D20: Suministro de servicio de lavado y desinfección de tanque y aplicación de activador bacteriano | E20: Servicio | F20: Servicio | G20: 1 | H20: =H18 -> 1200000 | I20: =ROUND(G20*H20,0) -> 1200000
B21: 5 | C21: Parque Alto de las Piedras – Tanque Cajón | D21: Suministro de servicio de vaciado de pozos sépticos | E21: m³ material extraído | F21: m³ | G21: 9.6 | H21: 790000 | I21: =ROUND(G21*H21,0) -> 7584000
B22: 6 | D22: Suministro de servicio de lavado y desinfección de tanque y aplicación de activador bacteriano | E22: Servicio | F22: Servicio | G22: 1 | H22: 1460000 | I22: =ROUND(G22*H22,0) -> 1460000
B23: 7 | C23: Parque San Agustín – Taquilla | D23: Suministro de servicio de vaciado de pozos sépticos | E23: m³ material extraído | F23: m³ | G23: 17.6 | H23: 810000 | I23: =ROUND(G23*H23,0) -> 14256000
B24: 8 | D24: Suministro de servicio de lavado y desinfección de tanque y aplicación de activador bacteriano | E24: Servicio | F24: Servicio | G24: 1 | H24: 1860000 | I24: =ROUND(G24*H24,0) -> 1860000
B25: 9 | C25: Parque San Agustín – Casa Administrativa | D25: Suministro de servicio de vaciado de pozos sépticos | E25: m³ material extraído | F25: m³ | G25: 25.6 | H25: 790000 | I25: =ROUND(G25*H25,0) -> 20224000
B26: 10 | D26: Suministro de servicio de lavado y desinfección de tanque y aplicación de activador bacteriano | E26: Servicio | F26: Servicio | G26: 1 | H26: 1750000 | I26: =ROUND(G26*H26,0) -> 1750000
B27: 11 | C27: Parque San Agustín – Fuente | D27: Suministro de servicio de vaciado de pozos sépticos | E27: m³ material extraído | F27: m³ | G27: 25.6 | H27: 790000 | I27: =ROUND(G27*H27,0) -> 20224000
B28: 12 | D28: Suministro de servicio de lavado y desinfección de tanque y aplicación de activador bacteriano | E28: Servicio | F28: Servicio | G28: 1 | H28: 1750000 | I28: =ROUND(G28*H28,0) -> 1750000
G30: TOTAL COTIZACIÓN | I30: =SUM(I17:I28) -> 82644000
G31: El valor total de la cotización deberá ser registrado en el cuestionario económico de Secop II, y deberá coincidir con el valor consignado en el formato de cotización adjunto.
B34: Carlos Eduardo Gomez Guerrero / R.L SERVICIOS SANITARIOS PORTATILES BAÑOMOVIL SAS
B38: FIRMA REPRESENTANTE LEGAL

Sheet 2
C2: República de Colombia
C3: Instituto Colombiano de Antropología e Historia
C4: Servicio de limpieza y bombeo de pozos sépticos
C5: Formato de cotización
B7: Nombre o Razón Social | L7: NIT
B8: Persona de contacto | L8: Teléfono celular
B9: Correo electrónico | L9: Teléfono fijo
B11: Objeto: | D11: Contratar el servicio de limpieza y bombeo de pozos sépticos de los Parques Arqueológicos Tierradentro, Ídolos, Piedras y San Agustín
B14: Instrucciones para el diligenciamiento de la cotización
B16: • Por favor diligenciar solo las celdas en AZUL. • Revisar todos los requerimientos que se exponen en la ficha técnica y formular su cotización en concordancia con este, de tal forma que cumplan con la necesidad del Instituto. • Los precios unitarios deberán ser expresado en PESOS COLOMBIANOS. • Los precios deberán aproximarse por exceso o por defecto al entero más cercano así: (i) si es igual o superior a 50 centavos, se aproxima al entero siguiente; (ii) si es inferior a 50 centavos se baja al entero anterior. • El formato contiene los insumos de costos estimados por el Instituto por lo tanto no se permite modificar, agregar o quitar ningún ítem o sub-ítem. • Los precios cotizados deben contemplar todos los rubros requeridos para la adecuada prestación del servicio y el cumplimiento de las obligaciones tributarias y contractuales como los son trazabilidad del servicio, equipo mínimo de trabajo, impuestos entre otros.
B18: Notas: (1) Tener en cuenta para cotizar que el plazo de ejecución es estimado. (2) Por favor cotizar los servicios requeridos bajo los términos establecidos en la ficha técnica. (3) Por favor diligenciar la tarifa IVA del servicio requerido. (4) Para el suministro de servicio de vaciado de los pozo las cantidades son estimadas, sin embargo se pagara por m3 de acuerdo con el retiro del lodo.
B20: Plazo estimado de ejecución (Nota 1) | D20: 45 días
B22: ITEM | C22: Detalle servicios (Nota 2) | E22: Ubicación | F22: Dimensiones | G22: Capacidad pozo en m3 | H22: Distancia parada de vehiculo al punto de extracción | I22: Tipo de material | J22: Unidad de medida | K22: Cantidad (Nota 4) | L22: TARIFA IVA (%) (Nota 3) | M22: PRECIO UNITARIO ANTES IVA | N22: PRECIO UNITARIO IVA INCLUIDO | O22: PRECIO TOTAL IVA INCLUIDO
B23: 1 | C23: Suministro de servicio de vaciado de pozos séptico en el Parque Tierradentro (Pozo séptico escuela) | E23: Vereda El Escaño bajo (El Escaño Parque) – Resguardo San Andrés de Pisimbalá, municipio de Inzá – Cauca | F23: 5,00 x 6,00 x 2,50 | G23: 75 | H23: 20 mts | I23: Grava, Piedra, Ladrillo y Cemento | J23: m3 material extraido | K23: 60 | L23: 0.19 | M23: 850000 | N23: =ROUND(L23*M23+M23,0) -> 1011500 | O23: =ROUND(N23*K23,0) -> 60690000
B24: 2 | C24: Suministro de servicio de lavado y desinfección de tanque y la aplicación del activador bacteriano. | H24: - | I24: - | J24: Servicio | K24: 1 | L24: 0.19 | M24: 620000 | N24: =ROUND(L24*M24+M24,0) -> 737800 | O24: =ROUND(N24*K24,0) -> 737800
B25: 3 | C25: Suministro de servicio de vaciado de pozos sépticos en el Parque Alto de los ídolos (pozo séptico tanque 1 - Cilindrico) | E25: Vereda Ídolos, municipio de Isnos – Huila | F25: Largo: 2,32 mts Radio: 1,00 mts | G25: 7.28 | H25: 30 mts | I25: Plástico | J25: m3 material extraido | K25: 5.8 | L25: 0.19 | M25: 720000 | N25: =ROUND(L25*M25+M25,0) -> 856800 | O25: =ROUND(N25*K25,0) -> 4969440
B26: 4 | C26: Suministro de servicio de lavado y desinfección de tanque y la aplicación del activador bacteriano. | H26: - | I26: - | J26: Servicio | K26: 1 | L26: 0.19 | M26: 550000 | N26: =ROUND(L26*M26+M26,0) -> 654500 | O26: =ROUND(N26*K26,0) -> 654500
B27: 5 | C27: Suministro de servicio de vaciado de pozos sépticos en el Parque Alto de los ídolos (pozo séptico tanque 2 - Cilindrico) | F27: Largo: 2,32 mts Radio: 1,00 mts | G27: 7.28 | H27: 30 mts | I27: Plástico | J27: m3 material extraido | K27: 5.8 | L27: 0.19 | M27: 720000 | N27: =ROUND(L27*M27+M27,0) -> 856800 | O27: =ROUND(N27*K27,0) -> 4969440
B28: 6 | C28: Suministro de servicio de lavado y desinfección de tanque y la aplicación del activador bacteriano. | H28: - | I28: - | J28: Servicio | K28: 1 | L28: 0.19 | M28: 550000 | N28: =ROUND(L28*M28+M28,0) -> 654500 | O28: =ROUND(N28*K28,0) -> 654500
B29: 7 | C29: Suministro de servicio de vaciado de pozos sépticos en el Parque Alto de las Piedras (Pozo séptico tanque -cajón) | E29: Vereda las Delicias, municipio de Isnos – Huila. | F29: 2,00 x 2,00 x 3,00 | G29: 12 | H29: 5 mts | I29: Ladrillo y cemento | J29: m3 material extraido | K29: 9.6 | L29: 0.19 | M29: 680000 | N29: =ROUND(L29*M29+M29,0) -> 809200 | O29: =ROUND(N29*K29,0) -> 7768320
B30: 8 | C30: Suministro de servicio de lavado y desinfección de tanque y la aplicación del activador bacteriano. | H30: - | I30: - | J30: Servicio | K30: 1 | L30: 0.19 | M30: 520000 | N30: =ROUND(L30*M30+M30,0) -> 618800 | O30: =ROUND(N30*K30,0) -> 618800
B31: 9 | C31: Suministro de servicio de vaciado de pozos sépticos en el Parque San Agustín (pozo séptico taquilla) | E31: Carrera 11 # 30 – 7, municipio de San Agustín – Huila | F31: Largo: 7,00 mts Radio: 1,00 mts | G31: 21.99 | H31: 15 mts | I31: Fibra de vidrio | J31: m3 material extraido | K31: 17.6 | L31: 0.19 | M31: 550000 | N31: =ROUND(L31*M31+M31,0) -> 654500 | O31: =ROUND(N31*K31,0) -> 11519200
B32: 10 | C32: Suministro de servicio de lavado y desinfección de tanque y la aplicación del activador bacteriano. | H32: - | I32: - | J32: Servicio | K32: 1 | L32: 0.19 | M32: 480000 | N32: =ROUND(L32*M32+M32,0) -> 571200 | O32: =ROUND(N32*K32,0) -> 571200
B33: 11 | C33: Suministro de servicio de vaciado de pozos sépticos en el Parque San Agustín (pozo séptico casa administrativa) | F33: 4,00 X 4,00 X 2,00 | G33: 32 | H33: 30 mts | I33: Concreto | J33: m3 material extraido | K33: 25.6 | L33: 0.19 | M33: 550000 | N33: =ROUND(L33*M33+M33,0) -> 654500 | O33: =ROUND(N33*K33,0) -> 16755200
B34: 12 | C34: Suministro de servicio de lavado y desinfección de tanque y la aplicación del activador bacteriano. | F34: 4,00 X 4,00 X 2,00 | H34: - | I34: - | J34: Servicio | K34: 1 | L34: 0.19 | M34: 480000 | N34: =ROUND(L34*M34+M34,0) -> 571200 | O34: =ROUND(N34*K34,0) -> 571200
B35: 13 | C35: Suministro del servicio de vaciado de pozos sépticos en el Parque San Agustín (pozo séptico escuela) | F35: 1,00 X 5,00 X 1,50 | G35: 7.5 | H35: 30 mts | I35: Concreto | J35: m3 material extraido | K35: 6 | L35: 0.19 | M35: 550000 | N35: =ROUND(L35*M35+M35,0) -> 654500 | O35: =ROUND(N35*K35,0) -> 3927000
B36: 14 | C36: Suministro de servicio de lavado y desinfección de tanque y la aplicación del activador bacteriano. | H36: - | I36: - | J36: Servicio | K36: 1 | L36: 0.19 | M36: 480000 | N36: =ROUND(L36*M36+M36,0) -> 571200 | O36: =ROUND(N36*K36,0) -> 571200
B37: 15 | C37: Suministro de servicio de vaciado de pozos sépticos en el Parque San Agustín (pozo séptico fuente) | F37: 4,00 X 4,00 X 2,00 | G37: 32 | H37: 160 mts | I37: Fibra | J37: m3 material extraido | K37: 25.6 | L37: 0.19 | M37: 550000 | N37: =ROUND(L37*M37+M37,0) -> 654500 | O37: =ROUND(N37*K37,0) -> 16755200
B38: 16 | C38: Suministro de servicio de lavado y desinfección de tanque y la aplicación del activador bacteriano. | H38: - | I38: - | J38: Servicio | K38: 1 | L38: 0.19 | M38: 480000 | N38: =ROUND(L38*M38+M38,0) -> 571200 | O38: =ROUND(N38*K38,0) -> 571200
B39: Precio total IVA incluido | O39: =SUM(O23:O38) -> 132304200
B41: La presente cotización:
B42: • Se remite como parte del estudio de mercado, previo a la contratación, y no implica ninguna obligación de contratar. • El Icanh no se hace responsable de ningún costo directo o indirecto en que incurra el potencial proveedor para presentar la actual cotización, dado que se recibe de buena fe, como fuente de información de precios de referencia del mercado para el estudio de sector. • Tiene una vigencia de 90 días a partir de la fecha de diligenciamiento.
B43: Inscripción en el Registro Único de Proponentes: Las personas naturales y jurídicas, nacionales o extranjeras, con domicilio en Colombia, interesadas en participar en procesos de contratación convocados por las entidades estatales, deben estar inscritas en el RUP, salvo las excepciones previstas de forma taxativa en la ley (Artículo 2.2.1.1.1.5.1 del Decreto 1082 de 2015). Se aclara que esta inscripción no se requiere para remitir cotización durante el estudio de sector.

Sheet 3
C2: República de Colombia
C3: Instituto Colombiano de Antropología e Historia
C4: Servicio de limpieza y bombeo de pozos sépticos
C5: Formato de cotización
B7: Nombre o Razón Social | D7: TWM S.A.S. | L7: NIT | O7: 813007077
B8: Persona de contacto | D8: Daniel Fernando Campos Montaña | L8: Teléfono celular | O8: 3186998973
B9: Correo electrónico | D9: comercialneiva1@twm-sa.com | L9: Teléfono fijo | O9: 5553535
B11: Objeto: | D11: Contratar el servicio de limpieza y bombeo de pozos sépticos de los Parques Arqueológicos Tierradentro, Ídolos, Piedras y San Agustín
B14: Instrucciones para el diligenciamiento de la cotización
B16: • Por favor diligenciar solo las celdas en AZUL. • Revisar todos los requerimientos que se exponen en la ficha técnica y formular su cotización en concordancia con este, de tal forma que cumplan con la necesidad del Instituto. • Los precios unitarios deberán ser expresado en PESOS COLOMBIANOS. • Los precios deberán aproximarse por exceso o por defecto al entero más cercano así: (i) si es igual o superior a 50 centavos, se aproxima al entero siguiente; (ii) si es inferior a 50 centavos se baja al entero anterior. • El formato contiene los insumos de costos estimados por el Instituto por lo tanto no se permite modificar, agregar o quitar ningún ítem o sub-ítem. • Los precios cotizados deben contemplar todos los rubros requeridos para la adecuada prestación del servicio y el cumplimiento de las obligaciones tributarias y contractuales como los son trazabilidad del servicio, equipo mínimo de trabajo, impuestos entre otros.
B18: Notas: (1) Tener en cuenta para cotizar que el plazo de ejecución es estimado. (2) Por favor cotizar los servicios requeridos bajo los términos establecidos en la ficha técnica. (3) Por favor diligenciar la tarifa IVA del servicio requerido. (4) Para el suministro de servicio de vaciado de los pozo las cantidades son estimadas, sin embargo se pagara por m3 de acuerdo con el retiro del lodo.
B20: Plazo estimado de ejecución (Nota 1) | D20: 45 días
B22: ITEM | C22: Detalle servicios (Nota 2) | E22: Ubicación | F22: Dimensiones | G22: Capacidad pozo en m3 | H22: Distancia parada de vehiculo al punto de extracción | I22: Tipo de material | J22: Unidad de medida | K22: Cantidad (Nota 4) | L22: TARIFA IVA (%) (Nota 3) | M22: PRECIO UNITARIO ANTES IVA | N22: PRECIO UNITARIO IVA INCLUIDO | O22: PRECIO TOTAL IVA INCLUIDO
B23: 1 | C23: Suministro de servicio de vaciado de pozos séptico en el Parque Tierradentro (Pozo séptico escuela) | E23: Vereda El Escaño bajo (El Escaño Parque) – Resguardo San Andrés de Pisimbalá, municipio de Inzá – Cauca | F23: 5,00 x 6,00 x 2,50 | G23: 75 | H23: 20 mts | I23: Grava, Piedra, Ladrillo y Cemento | J23: m3 material extraido | K23: 60 | L23: 0.19 | M23: 239000 | N23: =ROUND(L23*M23+M23,0) -> 284410 | O23: =ROUND(N23*K23,0) -> 17064600
B24: 2 | C24: Suministro de servicio de lavado y desinfección de tanque y la aplicación del activador bacteriano. | H24: - | I24: - | J24: Servicio | K24: 1 | L24: 0.19 | M24: 2476000 | N24: =ROUND(L24*M24+M24,0) -> 2946440 | O24: =ROUND(N24*K24,0) -> 2946440
B25: 3 | C25: Suministro de servicio de vaciado de pozos sépticos en el Parque Alto de los ídolos (pozo séptico tanque 1 - Cilindrico) | E25: Vereda Ídolos, municipio de Isnos – Huila | F25: Largo: 2,32 mts Radio: 1,00 mts | G25: 7.28 | H25: 30 mts | I25: Plástico | J25: m3 material extraido | K25: 5.8 | L25: 0.19 | M25: 520000 | N25: =ROUND(L25*M25+M25,0) -> 618800 | O25: =ROUND(N25*K25,0) -> 3589040
B26: 4 | C26: Suministro de servicio de lavado y desinfección de tanque y la aplicación del activador bacteriano. | H26: - | I26: - | J26: Servicio | K26: 1 | L26: 0.19 | M26: 2768197 | N26: =ROUND(L26*M26+M26,0) -> 3294154 | O26: =ROUND(N26*K26,0) -> 3294154
B27: 5 | C27: Suministro de servicio de vaciado de pozos sépticos en el Parque Alto de los ídolos (pozo séptico tanque 2 - Cilindrico) | F27: Largo: 2,32 mts Radio: 1,00 mts | G27: 7.28 | H27: 30 mts | I27: Plástico | J27: m3 material extraido | K27: 5.8 | L27: 0.19 | M27: 520000 | N27: =ROUND(L27*M27+M27,0) -> 618800 | O27: =ROUND(N27*K27,0) -> 3589040
B28: 6 | C28: Suministro de servicio de lavado y desinfección de tanque y la aplicación del activador bacteriano. | H28: - | I28: - | J28: Servicio | K28: 1 | L28: 0.19 | M28: 2768197 | N28: =ROUND(L28*M28+M28,0) -> 3294154 | O28: =ROUND(N28*K28,0) -> 3294154
B29: 7 | C29: Suministro de servicio de vaciado de pozos sépticos en el Parque Alto de las Piedras (Pozo séptico tanque -cajón) | E29: Vereda las Delicias, municipio de Isnos – Huila. | F29: 2,00 x 2,00 x 3,00 | G29: 12 | H29: 5 mts | I29: Ladrillo y cemento | J29: m3 material extraido | K29: 9.6 | L29: 0.19 | M29: 356500 | N29: =ROUND(L29*M29+M29,0) -> 424235 | O29: =ROUND(N29*K29,0) -> 4072656
B30: 8 | C30: Suministro de servicio de lavado y desinfección de tanque y la aplicación del activador bacteriano. | H30: - | I30: - | J30: Servicio | K30: 1 | L30: 0.19 | M30: 2656077 | N30: =ROUND(L30*M30+M30,0) -> 3160732 | O30: =ROUND(N30*K30,0) -> 3160732
B31: 9 | C31: Suministro de servicio de vaciado de pozos sépticos en el Parque San Agustín (pozo séptico taquilla) | E31: Carrera 11 # 30 – 7, municipio de San Agustín – Huila | F31: Largo: 7,00 mts Radio: 1,00 mts | G31: 21.99 | H31: 15 mts | I31: Fibra de vidrio | J31: m3 material extraido | K31: 17.6 | L31: 0.19 | M31: 381000 | N31: =ROUND(L31*M31+M31,0) -> 453390 | O31: =ROUND(N31*K31,0) -> 7979664
B32: 10 | C32: Suministro de servicio de lavado y desinfección de tanque y la aplicación del activador bacteriano. | H32: - | I32: - | J32: Servicio | K32: 1 | L32: 0.19 | M32: 2602575 | N32: =ROUND(L32*M32+M32,0) -> 3097064 | O32: =ROUND(N32*K32,0) -> 3097064
B33: 11 | C33: Suministro de servicio de vaciado de pozos sépticos en el Parque San Agustín (pozo séptico casa administrativa) | F33: 4,00 X 4,00 X 2,00 | G33: 32 | H33: 30 mts | I33: Concreto | J33: m3 material extraido | K33: 25.6 | L33: 0.19 | M33: 292000 | N33: =ROUND(L33*M33+M33,0) -> 347480 | O33: =ROUND(N33*K33,0) -> 8895488
B34: 12 | C34: Suministro de servicio de lavado y desinfección de tanque y la aplicación del activador bacteriano. | F34: 4,00 X 4,00 X 2,00 | H34: - | I34: - | J34: Servicio | K34: 1 | L34: 0.19 | M34: 2750477 | N34: =ROUND(L34*M34+M34,0) -> 3273068 | O34: =ROUND(N34*K34,0) -> 3273068
B35: 13 | C35: Suministro del servicio de vaciado de pozos sépticos en el Parque San Agustín (pozo séptico escuela) | F35: 1,00 X 5,00 X 1,50 | G35: 7.5 | H35: 30 mts | I35: Concreto | J35: m3 material extraido | K35: 6 | L35: 0.19 | M35: 512000 | N35: =ROUND(L35*M35+M35,0) -> 609280 | O35: =ROUND(N35*K35,0) -> 3655680
B36: 14 | C36: Suministro de servicio de lavado y desinfección de tanque y la aplicación del activador bacteriano. | H36: - | I36: - | J36: Servicio | K36: 1 | L36: 0.19 | M36: 2750477 | N36: =ROUND(L36*M36+M36,0) -> 3273068 | O36: =ROUND(N36*K36,0) -> 3273068
B37: 15 | C37: Suministro de servicio de vaciado de pozos sépticos en el Parque San Agustín (pozo séptico fuente) | F37: 4,00 X 4,00 X 2,00 | G37: 32 | H37: 160 mts | I37: Fibra | J37: m3 material extraido | K37: 25.6 | L37: 0.19 | M37: 292000 | N37: =ROUND(L37*M37+M37,0) -> 347480 | O37: =ROUND(N37*K37,0) -> 8895488
B38: 16 | C38: Suministro de servicio de lavado y desinfección de tanque y la aplicación del activador bacteriano. | H38: - | I38: - | J38: Servicio | K38: 1 | L38: 0.19 | M38: 3144078 | N38: =ROUND(L38*M38+M38,0) -> 3741453 | O38: =ROUND(N38*K38,0) -> 3741453
B39: Precio total IVA incluido | O39: =SUM(O23:O38) -> 83821789
B41: La presente cotización:
B42: • Se remite como parte del estudio de mercado, previo a la contratación, y no implica ninguna obligación de contratar. • El Icanh no se hace responsable de ningún costo directo o indirecto en que incurra el potencial proveedor para presentar la actual cotización, dado que se recibe de buena fe, como fuente de información de precios de referencia del mercado para el estudio de sector. • Tiene una vigencia de 90 días a partir de la fecha de diligenciamiento.
B43: Inscripción en el Registro Único de Proponentes: Las personas naturales y jurídicas, nacionales o extranjeras, con domicilio en Colombia, interesadas en participar en procesos de contratación convocados por las entidades estatales, deben estar inscritas en el RUP, salvo las excepciones previstas de forma taxativa en la ley (Artículo 2.2.1.1.1.5.1 del Decreto 1082 de 2015). Se aclara que esta inscripción no se requiere para remitir cotización durante el estudio de sector.

Sheet 4
C2: República de Colombia
C3: Instituto Colombiano de Antropología e Historia
C4: Servicio de limpieza y bombeo de pozos sépticos
C5: Formato de cotización
B7: Nombre o Razón Social | L7: NIT
B8: Persona de contacto | L8: Teléfono celular
B9: Correo electrónico | L9: Teléfono fijo
B11: Objeto: | D11: Contratar el servicio de limpieza y bombeo de pozos sépticos de los Parques Arqueológicos Tierradentro, Ídolos, Piedras y San Agustín
B14: Instrucciones para el diligenciamiento de la cotización
B16: • Por favor diligenciar solo las celdas en AZUL. • Revisar todos los requerimientos que se exponen en la ficha técnica y formular su cotización en concordancia con este, de tal forma que cumplan con la necesidad del Instituto. • Los precios unitarios deberán ser expresado en PESOS COLOMBIANOS. • Los precios deberán aproximarse por exceso o por defecto al entero más cercano así: (i) si es igual o superior a 50 centavos, se aproxima al entero siguiente; (ii) si es inferior a 50 centavos se baja al entero anterior. • El formato contiene los insumos de costos estimados por el Instituto por lo tanto no se permite modificar, agregar o quitar ningún ítem o sub-ítem. • Los precios cotizados deben contemplar todos los rubros requeridos para la adecuada prestación del servicio y el cumplimiento de las obligaciones tributarias y contractuales como los son trazabilidad del servicio, equipo mínimo de trabajo, impuestos entre otros.
B18: Notas: (1) Tener en cuenta para cotizar que el plazo de ejecución es estimado. (2) Por favor cotizar los servicios requeridos bajo los términos establecidos en la ficha técnica. (3) Por favor diligenciar la tarifa IVA del servicio requerido. (4) Para el suministro de servicio de vaciado de los pozo las cantidades son estimadas, sin embargo se pagara por m3 de acuerdo con el retiro del lodo.
B20: Plazo estimado de ejecución (Nota 1) | D20: 45 días
B22: ITEM | C22: Detalle servicios (Nota 2) | E22: Ubicación | F22: Dimensiones | G22: Capacidad pozo en m3 | H22: Distancia parada de vehiculo al punto de extracción | I22: Tipo de material | J22: Unidad de medida | K22: Cantidad (Nota 4) | L22: TARIFA IVA (%) (Nota 3) | M22: PRECIO UNITARIO ANTES IVA | N22: PRECIO UNITARIO IVA INCLUIDO | O22: PRECIO TOTAL IVA INCLUIDO
B23: 1 | C23: Suministro de servicio de vaciado de pozos séptico en el Parque Tierradentro (Pozo séptico escuela) | E23: Vereda El Escaño bajo (El Escaño Parque) – Resguardo San Andrés de Pisimbalá, municipio de Inzá – Cauca | F23: 5,00 x 6,00 x 2,50 | G23: 75 | H23: 20 mts | I23: Grava, Piedra, Ladrillo y Cemento | J23: m3 material extraido | K23: 60 | L23: 0.19 | M23: 900000 | N23: =ROUND(L23*M23+M23,0) -> 1071000 | O23: =ROUND(N23*K23,0) -> 64260000
B24: 2 | C24: Suministro de servicio de lavado y desinfección de tanque y la aplicación del activador bacteriano. | H24: - | I24: - | J24: Servicio | K24: 1 | L24: 0.19 | M24: 10000000 | N24: =ROUND(L24*M24+M24,0) -> 11900000 | O24: =ROUND(N24*K24,0) -> 11900000
B25: 3 | C25: Suministro de servicio de vaciado de pozos sépticos en el Parque Alto de los ídolos (pozo séptico tanque 1 - Cilindrico) | E25: Vereda Ídolos, municipio de Isnos – Huila | F25: Largo: 2,32 mts Radio: 1,00 mts | G25: 7.28 | H25: 30 mts | I25: Plástico | J25: m3 material extraido | K25: 5.8 | L25: 0.19 | M25: 520000 | N25: =ROUND(L25*M25+M25,0) -> 618800 | O25: =ROUND(N25*K25,0) -> 3589040
B26: 4 | C26: Suministro de servicio de lavado y desinfección de tanque y la aplicación del activador bacteriano. | H26: - | I26: - | J26: Servicio | K26: 1 | L26: 0.19 | M26: 10000000 | N26: =ROUND(L26*M26+M26,0) -> 11900000 | O26: =ROUND(N26*K26,0) -> 11900000
B27: 5 | C27: Suministro de servicio de vaciado de pozos sépticos en el Parque Alto de los ídolos (pozo séptico tanque 2 - Cilindrico) | F27: Largo: 2,32 mts Radio: 1,00 mts | G27: 7.28 | H27: 30 mts | I27: Plástico | J27: m3 material extraido | K27: 5.8 | L27: 0.19 | M27: 520000 | N27: =ROUND(L27*M27+M27,0) -> 618800 | O27: =ROUND(N27*K27,0) -> 3589040
B28: 6 | C28: Suministro de servicio de lavado y desinfección de tanque y la aplicación del activador bacteriano. | H28: - | I28: - | J28: Servicio | K28: 1 | L28: 0.19 | M28: 5000000 | N28: =ROUND(L28*M28+M28,0) -> 5950000 | O28: =ROUND(N28*K28,0) -> 5950000
B29: 7 | C29: Suministro de servicio de vaciado de pozos sépticos en el Parque Alto de las Piedras (Pozo séptico tanque -cajón) | E29: Vereda las Delicias, municipio de Isnos – Huila. | F29: 2,00 x 2,00 x 3,00 | G29: 12 | H29: 5 mts | I29: Ladrillo y cemento | J29: m3 material extraido | K29: 9.6 | L29: 0.19 | M29: 350000 | N29: =ROUND(L29*M29+M29,0) -> 416500 | O29: =ROUND(N29*K29,0) -> 3998400
B30: 8 | C30: Suministro de servicio de lavado y desinfección de tanque y la aplicación del activador bacteriano. | H30: - | I30: - | J30: Servicio | K30: 1 | L30: 0.19 | M30: 5000000 | N30: =ROUND(L30*M30+M30,0) -> 5950000 | O30: =ROUND(N30*K30,0) -> 5950000
B31: 9 | C31: Suministro de servicio de vaciado de pozos sépticos en el Parque San Agustín (pozo séptico taquilla) | E31: Carrera 11 # 30 – 7, municipio de San Agustín – Huila | F31: Largo: 7,00 mts Radio: 1,00 mts | G31: 21.99 | H31: 15 mts | I31: Fibra de vidrio | J31: m3 material extraido | K31: 17.6 | L31: 0.19 | M31: 600000 | N31: =ROUND(L31*M31+M31,0) -> 714000 | O31: =ROUND(N31*K31,0) -> 12566400
B32: 10 | C32: Suministro de servicio de lavado y desinfección de tanque y la aplicación del activador bacteriano. | H32: - | I32: - | J32: Servicio | K32: 1 | L32: 0.19 | M32: 10000000 | N32: =ROUND(L32*M32+M32,0) -> 11900000 | O32: =ROUND(N32*K32,0) -> 11900000
B33: 11 | C33: Suministro de servicio de vaciado de pozos sépticos en el Parque San Agustín (pozo séptico casa administrativa) | F33: 4,00 X 4,00 X 2,00 | G33: 32 | H33: 30 mts | I33: Concreto | J33: m3 material extraido | K33: 25.6 | L33: 0.19 | M33: 800000 | N33: =ROUND(L33*M33+M33,0) -> 952000 | O33: =ROUND(N33*K33,0) -> 24371200
B34: 12 | C34: Suministro de servicio de lavado y desinfección de tanque y la aplicación del activador bacteriano. | F34: 4,00 X 4,00 X 2,00 | H34: - | I34: - | J34: Servicio | K34: 1 | L34: 0.19 | M34: 10000000 | N34: =ROUND(L34*M34+M34,0) -> 11900000 | O34: =ROUND(N34*K34,0) -> 11900000
B35: 13 | C35: Suministro del servicio de vaciado de pozos sépticos en el Parque San Agustín (pozo séptico escuela) | F35: 1,00 X 5,00 X 1,50 | G35: 7.5 | H35: 30 mts | I35: Concreto | J35: m3 material extraido | K35: 6 | L35: 0.19 | M35: 800000 | N35: =ROUND(L35*M35+M35,0) -> 952000 | O35: =ROUND(N35*K35,0) -> 5712000
B36: 14 | C36: Suministro de servicio de lavado y desinfección de tanque y la aplicación del activador bacteriano. | H36: - | I36: - | J36: Servicio | K36: 1 | L36: 0.19 | M36: 5000000 | N36: =ROUND(L36*M36+M36,0) -> 5950000 | O36: =ROUND(N36*K36,0) -> 5950000
B37: 15 | C37: Suministro de servicio de vaciado de pozos sépticos en el Parque San Agustín (pozo séptico fuente) | F37: 4,00 X 4,00 X 2,00 | G37: 32 | H37: 160 mts | I37: Fibra | J37: m3 material extraido | K37: 25.6 | L37: 0.19 | M37: 800000 | N37: =ROUND(L37*M37+M37,0) -> 952000 | O37: =ROUND(N37*K37,0) -> 24371200
B38: 16 | C38: Suministro de servicio de lavado y desinfección de tanque y la aplicación del activador bacteriano. | H38: - | I38: - | J38: Servicio | K38: 1 | L38: 0.19 | M38: 10000000 | N38: =ROUND(L38*M38+M38,0) -> 11900000 | O38: =ROUND(N38*K38,0) -> 11900000
B39: Precio total IVA incluido | O39: =SUM(O23:O38) -> 219807280
B41: La presente cotización:
B42: • Se remite como parte del estudio de mercado, previo a la contratación, y no implica ninguna obligación de contratar. • El Icanh no se hace responsable de ningún costo directo o indirecto en que incurra el potencial proveedor para presentar la actual cotización, dado que se recibe de buena fe, como fuente de información de precios de referencia del mercado para el estudio de sector. • Tiene una vigencia de 90 días a partir de la fecha de diligenciamiento.
B43: Inscripción en el Registro Único de Proponentes: Las personas naturales y jurídicas, nacionales o extranjeras, con domicilio en Colombia, interesadas en participar en procesos de contratación convocados por las entidades estatales, deben estar inscritas en el RUP, salvo las excepciones previstas de forma taxativa en la ley (Artículo 2.2.1.1.1.5.1 del Decreto 1082 de 2015). Se aclara que esta inscripción no se requiere para remitir cotización durante el estudio de sector.

Sheet 5
D2: República de Colombia
D3: Instituto Colombiano de Antropología e Historia
D4: Formato de Oferta Económica Proceso de Selección de Menor Cuantía SAMC-ICANH-007-2024
B6: Objeto | D6: Contratar el servicio de limpieza y bombeo de pozos sépticos de los Parques Arqueológicos Tierradentro, Ídolos, Piedras y San Agustín
B7: Nombre o Razón Social | D7: MAPRECO SOLUCIONES GEOAMBIENTALES SAS | L7: NIT | M7: 901.298.871-6
B8: Persona de contacto | D8: ANDRES FELIPE ROMERO MANZUR | L8: Teléfono celular | M8: 3218924532
B9: Correo electrónico | D9: mapreco.co@gmail.com | L9: Teléfono fijo | M9: 3218924532
B11: Instrucciones para el diligenciamiento de la oferta:
B13: • Por favor diligenciar solo las celdas en AZUL. • Los precios unitarios deberán ser expresado en PESOS COLOMBIANOS y en números enteros. • El formato contiene los insumos de costos estimados por el Instituto por lo tanto no se permite modificar, agregar o quitar ningún ítem o sub-ítem. • Para la estructuración de la propuesta por favor tener en cuenta el documento anexo "Ficha técnica" • Los precios deberán aproximarse por exceso o por defecto al entero más cercano así: (i) si es igual o superior a 50 centavos, se aproxima al entero siguiente; (ii) si es inferior a 50 centavos se baja al entero anterior. • Los precios unitarios deben contemplar todos los rubros requeridos para la adecuada prestación del servicio y el cumplimiento de las obligaciones contractuales. • Los precios unitarios ofertados no pueden superar los precios techo establecidos. • Ningún ítem de la propuesta económica debe ser diligenciado con cero (0), so pena de ser rechazada.
B15: Notas: (1) Tener en cuenta en el momento de ofertar, que el plazo de ejecución es estimado y podrá ser inferior. (2) Los valores unitarios ofertados deben incluir todos los costos y gastos directos e indirectos en que incurre el contratista durante la ejecución del contrato de acuerdo con las especificaciones de la ficha técnica, las obligaciones tributarias de acuerdo con las normas aplicables para el tipo de servicio y contrato correspondiente. (3) Para el suministro de servicio de vaciado de los pozos, las cantidades son estimadas y se pagara por m3 de acuerdo con el retiro del lodo ejecutado.
B17: Plazo de ejecución estimado (Nota 1) | D17: 45 DÍAS
K20: PRECIO TECHO | M20: PRECIO OFERTADO
B21: No. Item | C21: Descripción | D21: Ubicación | E21: Dimensiones | F21: Capacidad pozo en m3 | G21: Distancia parada de vehiculo al punto de extracción | H21: Tipo de material | I21: Unidad de medida | J21: Cantidad (Nota 3) | K21: PRECIO UNITARIO IVA INCLUIDO | L21: PRECIO TOTAL IVA INCLUIDO | M21: PRECIO UNITARIO IVA INCLUIDO (Nota 2) | N21: PRECIO TOTAL IVA INCLUIDO
B22: 1 | C22: Suministro de servicio de vaciado de pozos séptico en el Parque Tierradentro (Pozo séptico escuela) | D22: Vereda El Escaño bajo (El Escaño Parque) – Resguardo San Andrés de Pisimbalá, municipio de Inzá – Cauca | E22: 5,00 x 6,00 x 2,50 | F22: 75 | G22: 20 mts | H22: Grava, Piedra, Ladrillo y Cemento | I22: m3 material extraido | J22: 60 | K22: 988829 | L22: 59329740 | M22: 390000 | N22: =ROUND(M22*J22,0) -> 23400000
B23: 2 | C23: Suministro de servicio de lavado y desinfección de tanque y la aplicación del activador bacteriano. | G23: - | H23: - | I23: Servicio | J23: 1 | K23: 3076834 | L23: 3076834 | M23: 2300000 | N23: =ROUND(M23*J23,0) -> 2300000
B24: 3 | C24: Suministro de servicio de vaciado de pozos sépticos en el Parque Alto de los ídolos (pozo séptico tanque 1 - Cilindrico) | D24: Vereda Ídolos, municipio de Isnos – Huila | E24: Largo: 2,32 mts Radio: 1,00 mts | F24: 7.28 | G24: 30 mts | H24: Plástico | I24: m3 material extraido | J24: 5.8 | K24: 602508 | L24: 3494546.4 | M24: 550000 | N24: =ROUND(M24*J24,0) -> 3190000
B25: 4 | C25: Suministro de servicio de lavado y desinfección de tanque y la aplicación del activador bacteriano. | G25: - | H25: - | I25: Servicio | J25: 1 | K25: 736263 | L25: 736263 | M25: 657000 | N25: =ROUND(M25*J25,0) -> 657000
B26: 5 | C26: Suministro de servicio de vaciado de pozos sépticos en el Parque Alto de los ídolos (pozo séptico tanque 2 - Cilindrico) | E26: Largo: 2,32 mts Radio: 1,00 mts | F26: 7.28 | G26: 30 mts | H26: Plástico | I26: m3 material extraido | J26: 5.8 | K26: 602508 | L26: 3494546.4 | M26: 550000 | N26: =ROUND(M26*J26,0) -> 3190000
B27: 6 | C27: Suministro de servicio de lavado y desinfección de tanque y la aplicación del activador bacteriano. | G27: - | H27: - | I27: Servicio | J27: 1 | K27: 736263 | L27: 736263 | M27: 654248 | N27: =ROUND(M27*J27,0) -> 654248
B28: 7 | C28: Suministro de servicio de vaciado de pozos sépticos en el Parque Alto de las Piedras (Pozo séptico tanque -cajón) | D28: Vereda las Delicias, municipio de Isnos – Huila. | E28: 2,00 x 2,00 x 3,00 | F28: 12 | G28: 5 mts | H28: Ladrillo y cemento | I28: m3 material extraido | J28: 9.6 | K28: 465590 | L28: 4469664 | M28: 400000 | N28: =ROUND(M28*J28,0) -> 3840000
B29: 8 | C29: Suministro de servicio de lavado y desinfección de tanque y la aplicación del activador bacteriano. | G29: - | H29: - | I29: Servicio | J29: 1 | K29: 921033 | L29: 921033 | M29: 890000 | N29: =ROUND(M29*J29,0) -> 890000
B30: 9 | C30: Suministro de servicio de vaciado de pozos sépticos en el Parque San Agustín (pozo séptico taquilla) | D30: Carrera 11 # 30 – 7, municipio de San Agustín – Huila | E30: Largo: 7,00 mts Radio: 1,00 mts | F30: 21.99 | G30: 15 mts | H30: Fibra de vidrio | I30: m3 material extraido | J30: 17.6 | K30: 643871 | L30: 11332130 | M30: 320000 | N30: =ROUND(M30*J30,0) -> 5632000
B31: 10 | C31: Suministro de servicio de lavado y desinfección de tanque y la aplicación del activador bacteriano. | G31: - | H31: - | I31: Servicio | J31: 1 | K31: 1644346 | L31: 1644346 | M31: 1567666 | N31: =ROUND(M31*J31,0) -> 1567666
B32: 11 | C32: Suministro de servicio de vaciado de pozos sépticos en el Parque San Agustín (pozo séptico casa administrativa) | E32: 4,00 X 4,00 X 2,00 | F32: 32 | G32: 30 mts | H32: Concreto | I32: m3 material extraido | J32: 25.6 | K32: 593015 | L32: 15181184 | M32: 490000 | N32: =ROUND(M32*J32,0) -> 12544000
B33: 12 | C33: Suministro de servicio de lavado y desinfección de tanque y la aplicación del activador bacteriano. | E33: 4,00 X 4,00 X 2,00 | G33: - | H33: - | I33: Servicio | J33: 1 | K33: 1897742 | L33: 1897742 | M33: 890777 | N33: =ROUND(M33*J33,0) -> 890777
B34: 13 | C34: Suministro del servicio de vaciado de pozos sépticos en el Parque San Agustín (pozo séptico escuela) | E34: 1,00 X 5,00 X 1,50 | F34: 7.5 | G34: 30 mts | H34: Concreto | I34: m3 material extraido | J34: 6 | K34: 610714 | L34: 3664284 | M34: 550000 | N34: =ROUND(M34*J34,0) -> 3300000
B35: 14 | C35: Suministro de servicio de lavado y desinfección de tanque y la aplicación del activador bacteriano. | G35: - | H35: - | I35: Servicio | J35: 1 | K35: 699575 | L35: 699575 | M35: 534532 | N35: =ROUND(M35*J35,0) -> 534532
B36: 15 | C36: Suministro de servicio de vaciado de pozos sépticos en el Parque San Agustín (pozo séptico fuente) | E36: 4,00 X 4,00 X 2,00 | F36: 32 | G36: 160 mts | H36: Fibra | I36: m3 material extraido | J36: 25.6 | K36: 593015 | L36: 15181184 | M36: 320000 | N36: =ROUND(M36*J36,0) -> 8192000
B37: 16 | C37: Suministro de servicio de lavado y desinfección de tanque y la aplicación del activador bacteriano. | G37: - | H37: - | I37: Servicio | J37: 1 | K37: 1984262 | L37: 1984262 | M37: 890777 | N37: =ROUND(M37*J37,0) -> 890777
B38: PRECIO TOTAL IVA INCLUIDO | L38: =SUM(L22:L37) -> 1.278436e+08 | N38: =SUM(N22:N37) -> 71673000
B49: Andres Felipe Romero Manzur
B50: FIRMA DEL REPRESENTANTE LEGAL
B51: C.C. 1.026.590.977

Sheet 6
D2: República de Colombia
D3: Instituto Colombiano de Antropología e Historia
D4: Formato de Oferta Económica Proceso de Selección de Menor Cuantía SAMC-ICANH-007-2024
B6: Objeto | D6: Contratar el servicio de limpieza y bombeo de pozos sépticos de los Parques Arqueológicos Tierradentro, Ídolos, Piedras y San Agustín
B7: Nombre o Razón Social | D7: INGENIERIA DIGITAL SERVICE S.A.S. | L7: NIT | M7: 901,004,007-8
B8: Persona de contacto | D8: NATALIA CONTRERAS RODRÍGUEZ | L8: Teléfono celular | M8: 3158091768
B9: Correo electrónico | D9: ingenieriadigitalservice@gmail.com | L9: Teléfono fijo | M9: 8054035
B11: Instrucciones para el diligenciamiento de la oferta:
B13: • Por favor diligenciar solo las celdas en AZUL. • Los precios unitarios deberán ser expresado en PESOS COLOMBIANOS y en números enteros. • El formato contiene los insumos de costos estimados por el Instituto por lo tanto no se permite modificar, agregar o quitar ningún ítem o sub-ítem. • Para la estructuración de la propuesta por favor tener en cuenta el documento anexo "Ficha técnica" • Los precios deberán aproximarse por exceso o por defecto al entero más cercano así: (i) si es igual o superior a 50 centavos, se aproxima al entero siguiente; (ii) si es inferior a 50 centavos se baja al entero anterior. • Los precios unitarios deben contemplar todos los rubros requeridos para la adecuada prestación del servicio y el cumplimiento de las obligaciones contractuales. • Los precios unitarios ofertados no pueden superar los precios techo establecidos. • Ningún ítem de la propuesta económica debe ser diligenciado con cero (0), so pena de ser rechazada.
B15: Notas: (1) Tener en cuenta en el momento de ofertar, que el plazo de ejecución es estimado y podrá ser inferior. (2) Los valores unitarios ofertados deben incluir todos los costos y gastos directos e indirectos en que incurre el contratista durante la ejecución del contrato de acuerdo con las especificaciones de la ficha técnica, las obligaciones tributarias de acuerdo con las normas aplicables para el tipo de servicio y contrato correspondiente. (3) Para el suministro de servicio de vaciado de los pozos, las cantidades son estimadas y se pagara por m3 de acuerdo con el retiro del lodo ejecutado.
B17: Plazo de ejecución estimado (Nota 1) | D17: 45 DÍAS
K20: PRECIO TECHO | M20: PRECIO OFERTADO
B21: No. Item | C21: Descripción | D21: Ubicación | E21: Dimensiones | F21: Capacidad pozo en m3 | G21: Distancia parada de vehiculo al punto de extracción | H21: Tipo de material | I21: Unidad de medida | J21: Cantidad (Nota 3) | K21: PRECIO UNITARIO IVA INCLUIDO | L21: PRECIO TOTAL IVA INCLUIDO | M21: PRECIO UNITARIO IVA INCLUIDO (Nota 2) | N21: PRECIO TOTAL IVA INCLUIDO
B22: 1 | C22: Suministro de servicio de vaciado de pozos séptico en el Parque Tierradentro (Pozo séptico escuela) | D22: Vereda El Escaño bajo (El Escaño Parque) – Resguardo San Andrés de Pisimbalá, municipio de Inzá – Cauca | E22: 5,00 x 6,00 x 2,50 | F22: 75 | G22: 20 mts | H22: Grava, Piedra, Ladrillo y Cemento | I22: m3 material extraido | J22: 60 | K22: 988829 | L22: 59329740 | M22: 939387.55 | N22: =ROUND(M22*J22,0) -> 56363253
B23: 2 | C23: Suministro de servicio de lavado y desinfección de tanque y la aplicación del activador bacteriano. | G23: - | H23: - | I23: Servicio | J23: 1 | K23: 3076834 | L23: 3076834 | M23: 2922992.3 | N23: =ROUND(M23*J23,0) -> 2922992
B24: 3 | C24: Suministro de servicio de vaciado de pozos sépticos en el Parque Alto de los ídolos (pozo séptico tanque 1 - Cilindrico) | D24: Vereda Ídolos, municipio de Isnos – Huila | E24: Largo: 2,32 mts Radio: 1,00 mts | F24: 7.28 | G24: 30 mts | H24: Plástico | I24: m3 material extraido | J24: 5.8 | K24: 602508 | L24: 3494546.4 | M24: 572382.6 | N24: =ROUND(M24*J24,0) -> 3319819
B25: 4 | C25: Suministro de servicio de lavado y desinfección de tanque y la aplicación del activador bacteriano. | G25: - | H25: - | I25: Servicio | J25: 1 | K25: 736263 | L25: 736263 | M25: 699449.85 | N25: =ROUND(M25*J25,0) -> 699450
B26: 5 | C26: Suministro de servicio de vaciado de pozos sépticos en el Parque Alto de los ídolos (pozo séptico tanque 2 - Cilindrico) | E26: Largo: 2,32 mts Radio: 1,00 mts | F26: 7.28 | G26: 30 mts | H26: Plástico | I26: m3 material extraido | J26: 5.8 | K26: 602508 | L26: 3494546.4 | M26: 572382.6 | N26: =ROUND(M26*J26,0) -> 3319819
B27: 6 | C27: Suministro de servicio de lavado y desinfección de tanque y la aplicación del activador bacteriano. | G27: - | H27: - | I27: Servicio | J27: 1 | K27: 736263 | L27: 736263 | M27: 699449.85 | N27: =ROUND(M27*J27,0) -> 699450
B28: 7 | C28: Suministro de servicio de vaciado de pozos sépticos en el Parque Alto de las Piedras (Pozo séptico tanque -cajón) | D28: Vereda las Delicias, municipio de Isnos – Huila. | E28: 2,00 x 2,00 x 3,00 | F28: 12 | G28: 5 mts | H28: Ladrillo y cemento | I28: m3 material extraido | J28: 9.6 | K28: 465590 | L28: 4469664 | M28: 442310.5 | N28: =ROUND(M28*J28,0) -> 4246181
B29: 8 | C29: Suministro de servicio de lavado y desinfección de tanque y la aplicación del activador bacteriano. | G29: - | H29: - | I29: Servicio | J29: 1 | K29: 921033 | L29: 921033 | M29: 874981.35 | N29: =ROUND(M29*J29,0) -> 874981
B30: 9 | C30: Suministro de servicio de vaciado de pozos sépticos en el Parque San Agustín (pozo séptico taquilla) | D30: Carrera 11 # 30 – 7, municipio de San Agustín – Huila | E30: Largo: 7,00 mts Radio: 1,00 mts | F30: 21.99 | G30: 15 mts | H30: Fibra de vidrio | I30: m3 material extraido | J30: 17.6 | K30: 643871 | L30: 11332130 | M30: 611677.45 | N30: =ROUND(M30*J30,0) -> 10765523
B31: 10 | C31: Suministro de servicio de lavado y desinfección de tanque y la aplicación del activador bacteriano. | G31: - | H31: - | I31: Servicio | J31: 1 | K31: 1644346 | L31: 1644346 | M31: 1562128.7 | N31: =ROUND(M31*J31,0) -> 1562129
B32: 11 | C32: Suministro de servicio de vaciado de pozos sépticos en el Parque San Agustín (pozo séptico casa administrativa) | E32: 4,00 X 4,00 X 2,00 | F32: 32 | G32: 30 mts | H32: Concreto | I32: m3 material extraido | J32: 25.6 | K32: 593015 | L32: 15181184 | M32: 563364.25 | N32: =ROUND(M32*J32,0) -> 14422125
B33: 12 | C33: Suministro de servicio de lavado y desinfección de tanque y la aplicación del activador bacteriano. | E33: 4,00 X 4,00 X 2,00 | G33: - | H33: - | I33: Servicio | J33: 1 | K33: 1897742 | L33: 1897742 | M33: 1802854.9 | N33: =ROUND(M33*J33,0) -> 1802855
B34: 13 | C34: Suministro del servicio de vaciado de pozos sépticos en el Parque San Agustín (pozo séptico escuela) | E34: 1,00 X 5,00 X 1,50 | F34: 7.5 | G34: 30 mts | H34: Concreto | I34: m3 material extraido | J34: 6 | K34: 610714 | L34: 3664284 | M34: 580178.3 | N34: =ROUND(M34*J34,0) -> 3481070
B35: 14 | C35: Suministro de servicio de lavado y desinfección de tanque y la aplicación del activador bacteriano. | G35: - | H35: - | I35: Servicio | J35: 1 | K35: 699575 | L35: 699575 | M35: 664596.25 | N35: =ROUND(M35*J35,0) -> 664596
B36: 15 | C36: Suministro de servicio de vaciado de pozos sépticos en el Parque San Agustín (pozo séptico fuente) | E36: 4,00 X 4,00 X 2,00 | F36: 32 | G36: 160 mts | H36: Fibra | I36: m3 material extraido | J36: 25.6 | K36: 593015 | L36: 15181184 | M36: 563364.25 | N36: =ROUND(M36*J36,0) -> 14422125
B37: 16 | C37: Suministro de servicio de lavado y desinfección de tanque y la aplicación del activador bacteriano. | G37: - | H37: - | I37: Servicio | J37: 1 | K37: 1984262 | L37: 1984262 | M37: 1885048.9 | N37: =ROUND(M37*J37,0) -> 1885049
B38: PRECIO TOTAL IVA INCLUIDO | L38: =SUM(L22:L37) -> 1.278436e+08 | N38: =SUM(N22:N37) -> 121451417
B50: FIRMA DEL REPRESENTANTE LEGAL
B51: C.C. 1,007,395,693

Sheet EM2024
C2: República de Colombia
C3: Instituto Colombiano de Antropología e Historia
C4: Limpieza y bombeo pozos
C5: Consolidado de cotizaciones Proceso de Selección de Menor Cuantía SAMC-ICANH-007-2024
A7: Objeto: Contratar el servicio de limpieza y bombeo de pozos sépticos de los Parques Arqueológicos Tierradentro, Ídolos, Piedras y San Agustín
A13: Plazo estimado de ejecución | E13: 45 días
A15: Descuento | E15: 0
AC16: SELECCIONADA
A18: DESCRIPCIÓN GENERAL | M18: BAÑO MOVIL | P18: COMBILTDA | S18: TWM | V18: ELITE | AC18: MEDIA GEOMÉTRICA | AF18: PROMEDIO SIMPLE | AI18: MEDIA GEOMÉTRICA | AL18: PROMEDIO DE LAS 2 MÁS BAJAS | AO18: MEDIA GEOMÉTRICA DE LAS 2 MÁS BAJAS | AR18: PROMEDIO DE LAS 2 MÁS ALTAS | AU18: MEDIA GEOMÉTRICA DE LAS 2 MÁS ALTAS
