Workbook

Sheet Intructivo Diligenciamiento
A2: Rama Judicial del Poder Público Consejo Superior de la Judicatura Dirección Seccional de Administración Judicial Riohacha – La Guajira
B9: El archivo está formulado para liquidar el reajuste de tarifas de acuerdo a la Resolución 20251000059517CS de Supervigilancia
A10: 1. | B10: Diligenciar la hoja del libro denominada "Anexo técnico 2" los campos resaltados en amarillo.
A11: 2. | B11: Diligenciar la hoja del libro denominada "Anexo técnico 4" los campos resaltados en amarillo.
A12: 3. | B12: Las demás hojas del libro permanecen sin modificar.
A13: 4. | B13: El archivo está formulado para liquidar la oferta económica "Anexo técnico 1 LP-2026".
A14: 5. | B14: Si existe alguna duda u observación con respecto al anexo técnico, el proponente u oferente deberá hacerlo dentro del término establecido.

Sheet Anexo tecnico 0 resumen
A1: Rama Judicial del Poder Público Consejo Superior de la Judicatura Dirección Ejecutivo Seccional de Administración Judicial Valledupar – Cesar
B7: Variables | J7: Tiempo
B8: Meses del año 2023 | J8: =ROUND((2+(25/30)),2) -> 2.83 | K8: desde 06 octubre 2023
B9: Meses del año 2024 | J9: 12 | K9: Hasta el 31 de diciembre de 2024 | Q9: Celdas deben ser diligenciadas por el proponente
B10: Meses del año 2025 | J10: 8 | K10: Hasta el 31 de agosto de 2025 | Q10: Celdas deben ser diligenciadas por el proponente
B11: Porcentaje Valor IVA Unitario mensual | J11: 0.19
B12: Incremento Proyectado para el año 2024 y 2025 | J12: 0.03 | K12: Incremento Proyectado por Ministerio de Hacienda Vigencia 2024 y 2025
I14: Año 2023 | P14: Año 2024 - VF | W14: Año 2025 - VF | AD14: Vigencia 2023 | AE14: Vigencia 2024 | AF14: Vigencia 2025
A15: Item | B15: Cantidad Dpto. Cesar | C15: Cantidad Dpto. La Guajira | D15: Ubicación / Función | E15: Tipo de Servicio | F15: No. de guardas | G15: No. Servicios Año 2022 y 2023 | H15: Días Base para liquidar | I15: TARIFA BASE Valor Unitario incluida prima seguro | J15: Valor Unitario AyS (10%) | K15: Base Gravable | L15: Valor IVA Unitario Mensual | M15: Valor Unitario Mensual TARIFA | N15: Valor Total Dpto. Cesar Unitario Mensual TARIFA | O15: Valor Total Dpto. La Guajira Unitario Mensual TARIFA | P15: TARIFA BASE Valor Unitario incluida prima seguro | Q15: Valor Unitario AyS (10%) | R15: Base Gravable | S15: Valor IVA Unitario Mensual | T15: Valor Unitario Mensual TARIFA | U15: Valor Total Dpto. Cesar Unitario Mensual TARIFA | V15: Valor Total Dpto. La Guajira Unitario Mensual TARIFA | W15: TARIFA BASE Valor Unitario incluida prima seguro | X15: Valor Unitario AyS (10%) | Y15: Base Gravable | Z15: Valor IVA Unitario Mensual | AA15: Valor Unitario Mensual TARIFA | AB15: Valor Total Dpto. Cesar Unitario Mensual TARIFA | AC15: Valor Total Dpto. La Guajira Unitario Mensual TARIFA | AD15: Valor total del año 2023 (2 meses y 25 días, es decir del 6 octubre a 31 de diciembre 2023) | AE15: Valor total del año 2024 (del 1 de enero al 31 de diciembre) | AF15: Valor total del año 2025 (del 1 de enero al 31 de agosto)
A16: 1 | B16: 1 | C16: 1 | D16: Arriendo de Escáner, incluido mantenimiento preventivo y correctivo | E16: Escáner rayos X Tamaño del Túnel (A) 660 mmx (Al) 510 mm Velocidad de Transporte de la Banda 0.20 m/s Altura de Banda Transportadora 702 mm | F16: NA | G16: 1 | H16: 30 | I16: ='Anexo tecnico 2'!$C$8 -> 5062075 | L16: =+I16*19% -> 961794.25 | M16: =ROUND(I16+J16+L16,0) -> 6023869 | N16: =+$M16*$B16 -> 6023869 | O16: =+$M16*$C16 -> 6023869 | P16: ='Anexo tecnico 2'!$C$8 -> 5062075 | S16: =+P16*19% -> 961794.25 | T16: =ROUND(P16+Q16+S16,0) -> 6023869 | U16: =+$T16*$B16 -> 6023869 | V16: =+$T16*$C16 -> 6023869 | W16: ='Anexo tecnico 2'!$C$8 -> 5062075 | Z16: =+W16*19% -> 961794.25 | AA16: =ROUND(W16+X16+Z16,0) -> 6023869 | AB16: =+$AA16*B16 -> 6023869 | AC16: =+$AA16*C16 -> 6023869 | AD16: =($N16+$O16)*$J$8 -> 34095099 | AE16: =($U16+$V16)*$J$9 -> 144572856 | AF16: =($AB16+$AC16)*$J$10 -> 96381904
A17: 2 | B17: 1 | C17: 2 | D17: Arriendo de Arco Detector de Metales, incluido mantenimiento preventivo y correctivo | E17: Arco detector de metales Minimo18 Zonas de detección interconectadas en diferentes áreas y alarma simultánea de múltiples zonas. Pantalla LCD 5.7” | F17: NA | G17: 1 | H17: 30 | I17: ='Anexo tecnico 2'!$C$9 -> 863449 | L17: =+I17*19% -> 164055.31 | M17: =ROUND(I17+J17+L17,0) -> 1027504 | N17: =+$M17*$B17 -> 1027504 | O17: =+$M17*$C17 -> 2055008 | P17: ='Anexo tecnico 2'!$C$9 -> 863449 | S17: =+P17*19% -> 164055.31 | T17: =ROUND(P17+Q17+S17,0) -> 1027504 | U17: =+$T17*$B17 -> 1027504 | V17: =+$T17*$C17 -> 2055008 | W17: ='Anexo tecnico 2'!$C$9 -> 863449 | Z17: =+W17*19% -> 164055.31 | AA17: =ROUND(W17+X17+Z17,0) -> 1027504 | AB17: =+$AA17*B17 -> 1027504 | AC17: =+$AA17*C17 -> 2055008 | AD17: =($N17+$O17)*$J$8 -> 8723509 | AE17: =($U17+$V17)*$J$9 -> 36990144 | AF17: =($AB17+$AC17)*$J$10 -> 24660096
A18: 3 | B18: 11 | C18: 7 | E18: Servicio 24 horas, 30 días al mes, con arma (lunes a domingo) | F18: 3 | G18: 1 | H18: 30 | I18: =#REF! -> #REF! | J18: =+I18*10% -> #REF! | K18: =+(I18+J18)*10% -> #REF! | L18: =+K18*19% -> #REF! | M18: =ROUND(I18+J18+L18,0) -> #REF! | N18: =+$M18*$B18 -> #REF! | O18: =+$M18*$C18 -> #REF! | P18: =#REF! -> #REF! | Q18: =+P18*10% -> #REF! | R18: =+(P18+Q18)*10% -> #REF! | S18: =+R18*19% -> #REF! | T18: =ROUND(P18+Q18+S18,0) -> #REF! | U18: =+$T18*$B18 -> #REF! | V18: =+$T18*$C18 -> #REF! | W18: =#REF! -> #REF! | X18: =+W18*10% -> #REF! | Y18: =+(W18+X18)*10% -> #REF! | Z18: =+Y18*19% -> #REF! | AA18: =ROUND(W18+X18+Z18,0) -> #REF! | AB18: =+$AA18*B18 -> #REF! | AC18: =+$AA18*C18 -> #REF! | AD18: =($N18+$O18)*$J$8 -> #REF! | AE18: =($U18+$V18)*$J$9 -> #REF! | AF18: =($AB18+$AC18)*$J$10 -> #REF!
A19: 4 | B19: 3 | C19: 1 | E19: Servicio 12 horas diurnas con arma (lunes a viernes sin festivo) | F19: 1 | G19: 1 | H19: 20 | I19: =#REF! -> #REF! | J19: =+I19*10% -> #REF! | K19: =+(I19+J19)*10% -> #REF! | L19: =+K19*19% -> #REF! | M19: =ROUND(I19+J19+L19,0) -> #REF! | N19: =+$M19*$B19 -> #REF! | O19: =+$M19*$C19 -> #REF! | P19: =#REF! -> #REF! | Q19: =+P19*10% -> #REF! | R19: =+(P19+Q19)*10% -> #REF! | S19: =+R19*19% -> #REF! | T19: =ROUND(P19+Q19+S19,0) -> #REF! | U19: =+$T19*$B19 -> #REF! | V19: =+$T19*$C19 -> #REF! | W19: =#REF! -> #REF! | X19: =+W19*10% -> #REF! | Y19: =+(W19+X19)*10% -> #REF! | Z19: =+Y19*19% -> #REF! | AA19: =ROUND(W19+X19+Z19,0) -> #REF! | AB19: =+$AA19*B19 -> #REF! | AC19: =+$AA19*C19 -> #REF! | AD19: =($N19+$O19)*$J$8 -> #REF! | AE19: =($U19+$V19)*$J$9 -> #REF! | AF19: =($AB19+$AC19)*$J$10 -> #REF!
M20: Sub Totales | N20: =+$T20*$F25+SUM(N16:N19) -> #REF! | O20: =+SUM(O16:O19) -> #REF! | U20: =+$T20*$F25+SUM(U16:U19) -> #REF! | V20: =+SUM(V16:V19) -> #REF! | AB20: =+$T20*$F25+SUM(AB16:AB19) -> #REF! | AC20: =+SUM(AC16:AC19) -> #REF! | AD20: =+SUM(AD16:AD19) -> #REF! | AE20: =+SUM(AE16:AE19) -> #REF! | AF20: =SUM(AF16:AF19) -> #REF!
AB22: Total Contrato 2023-2025 | AD22: =SUM(AD20,AE20,AF20) -> #REF!
E23: Resumen de los Sevicios/Equipo
E24: Descripción Servicio/Equipo | F24: Cesar | G24: Guajira | H24: Total
E25: Servicios de Vigilancia | F25: =SUM($B$16:$B$19)-$B$16-$B$17 -> 14 | G25: =SUM($C$16:$C$19)-$C$16-$C$17 -> 8 | H25: =SUM(F25:G25) -> 22
E26: Arriendo Arco Detector de Metales | F26: =+$B$17 -> 1 | G26: =+$C$17 -> 2 | H26: =SUM(F26:G26) -> 3
E27: Arriendo Escáner rayos X | F27: =+$B$16 -> 1 | G27: =+$C$16 -> 1 | H27: =SUM(F27:G27) -> 2

Sheet Anexo tecnico 1 LP-2026
A2: Rama Judicial del Poder Público Consejo Superior de la Judicatura Dirección Seccional de Administración Judicial Riohacha – La Guajira
B8: Variables | J8: Tiempo
B9: Meses del año 2026 | J9: 2 | K9: 1 OCT A 30 NOV 2026
B10: Meses del año 2027
B12: Porcentaje Valor IVA Unitario mensual | J12: 0.19
I14: 1 A 30 DE NOVIEMBRE 2026 | N14: Vigencia 2026 | O14: Sub Unidad
B15: Municipio | C15: Sede Judicial | D15: Ubicación / Función | E15: Tipo de Servicio | F15: No. de guardas | G15: No. Servicios Año 2025 y 2026 | H15: Días Base para liquidar | I15: TARIFA BASE Valor Unitario incluida prima seguro-VF | J15: Valor Unitario AyS (10%)-VF | K15: Base Gravable-VF | L15: Valor IVA Unitario Mensual-VF | M15: Valor Total Unitario Mensual TARIFA-VF | N15: Valor total del año 2026
B16: DEPARTAMENTO DE LA GUAJIRA
B17: Riohacha | C17: Palacio de Justicia de Riohacha Luís Robles Torre 1 | D17: Entrada principal y monitoreo de cámaras | E17: Servicio 24 horas, 30 días al mes, con arma (lunes a domingo) | F17: 3 | G17: 1 | H17: 30 | I17: ='Anexo tecnico 4'!$E$8 -> 17880640 | J17: =+Tabla1[[#This Row],[TARIFA BASE Valor Unitario incluida prima seguro-VF]]*10% -> 1788064 | K17: =+(Tabla1[[#This Row],[TARIFA BASE Valor Unitario incluida prima seguro-VF]]+Tabla1[[#This Row],[Valor Unitario AyS (10%)-VF]])*10% -> 1966870.4 | L17: =+Tabla1[[#This Row],[Base Gravable-VF]]*19% -> 373705.38 | M17: =ROUND(I17+J17+L17,0) -> 20042409 | N17: =ROUND(Tabla1[[#This Row],[Valor Total Unitario Mensual TARIFA-VF]]*$J$9,0) -> 40084818 | O17: Subund 813
B18: Riohacha | C18: Palacio de Justicia de Riohacha Luís Robles Torre 1 | D18: Servicio de Vigilancia Móvil | E18: Servicio 12 horas diurnas con arma (lunes a viernes sin festivo) | F18: 1 | G18: 1 | H18: 20 | I18: ='Anexo tecnico 4'!$E$9 -> 5337490.3 | J18: =+Tabla1[[#This Row],[TARIFA BASE Valor Unitario incluida prima seguro-VF]]*10% -> 533749.03 | K18: =+(Tabla1[[#This Row],[TARIFA BASE Valor Unitario incluida prima seguro-VF]]+Tabla1[[#This Row],[Valor Unitario AyS (10%)-VF]])*10% -> 587123.93 | L18: =+Tabla1[[#This Row],[Base Gravable-VF]]*19% -> 111553.55 | M18: =ROUND(I18+J18+L18,0) -> 5982793 | N18: =ROUND(Tabla1[[#This Row],[Valor Total Unitario Mensual TARIFA-VF]]*$J$9,0) -> 11965586 | O18: Subund 813
B19: Riohacha | C19: Palacio de Justicia de Riohacha Luís Robles Torre 1 | D19: Arriendo de Escáner, incluido mantenimiento preventivo y correctivo | E19: Escáner rayos X Tamaño del Túnel (A) 660 mmx (Al) 510 mm Velocidad de Transporte de la Banda 0.20 m/s Altura de Banda Transportadora 702 mm | F19: NA | G19: 1 | H19: 30 | I19: ='Anexo tecnico 2'!$C$8 -> 5062075 | L19: =+Tabla1[[#This Row],[TARIFA BASE Valor Unitario incluida prima seguro-VF]]*19% -> 961794.25 | M19: =ROUND(I19+J19+L19,0) -> 6023869 | N19: =ROUND(Tabla1[[#This Row],[Valor Total Unitario Mensual TARIFA-VF]]*$J$9,0) -> 12047738 | O19: Subund 813
B20: Riohacha | C20: Edificio Caracolí | D20: Sede Despachos judiciales: Penales para adolescentes, centro de servicios. Sala Disciplinaria y Administrativas del Consejo Seccional de la Judicatura, Laboral de pequeñas causas, Dirección Seccional de Administración Judicial de Riohacha | E20: Servicio 24 horas, 30 días al mes, con arma (lunes a domingo) | F20: 3 | G20: 1 | H20: 30 | I20: ='Anexo tecnico 4'!$E$8 -> 17880640 | J20: =+Tabla1[[#This Row],[TARIFA BASE Valor Unitario incluida prima seguro-VF]]*10% -> 1788064 | K20: =+(Tabla1[[#This Row],[TARIFA BASE Valor Unitario incluida prima seguro-VF]]+Tabla1[[#This Row],[Valor Unitario AyS (10%)-VF]])*10% -> 1966870.4 | L20: =+Tabla1[[#This Row],[Base Gravable-VF]]*19% -> 373705.38 | M20: =ROUND(I20+J20+L20,0) -> 20042409 | N20: =ROUND(Tabla1[[#This Row],[Valor Total Unitario Mensual TARIFA-VF]]*$J$9,0) -> 40084818 | O20: Subund 213
B21: Riohacha | C21: Edificio Caracolí | D21: Arriendo de Arco Detector de Metales, incluido mantenimiento preventivo y correctivo | E21: Arco detector de metales Minimo18 Zonas de detección interconectadas en diferentes áreas y alarma simultánea de múltiples zonas. Pantalla LCD 5.7” | F21: NA | G21: 1 | H21: 30 | I21: ='Anexo tecnico 2'!$C$9 -> 863449 | L21: =+Tabla1[[#This Row],[TARIFA BASE Valor Unitario incluida prima seguro-VF]]*19% -> 164055.31 | M21: =ROUND(I21+J21+L21,0) -> 1027504 | N21: =ROUND(Tabla1[[#This Row],[Valor Total Unitario Mensual TARIFA-VF]]*$J$9,0) -> 2055008 | O21: Subund 813
B22: Riohacha | C22: Palacio de Justicia de Riohacha Luís Robles Torre 2 | D22: Garita entrada parqueadero, control de acceso de vehículos | E22: Servicio 24 horas, 30 días al mes, con arma (lunes a domingo) | F22: 3 | G22: 1 | H22: 30 | I22: ='Anexo tecnico 4'!$E$8 -> 17880640 | J22: =+Tabla1[[#This Row],[TARIFA BASE Valor Unitario incluida prima seguro-VF]]*10% -> 1788064 | K22: =+(Tabla1[[#This Row],[TARIFA BASE Valor Unitario incluida prima seguro-VF]]+Tabla1[[#This Row],[Valor Unitario AyS (10%)-VF]])*10% -> 1966870.4 | L22: =+Tabla1[[#This Row],[Base Gravable-VF]]*19% -> 373705.38 | M22: =ROUND(I22+J22+L22,0) -> 20042409 | N22: =ROUND(Tabla1[[#This Row],[Valor Total Unitario Mensual TARIFA-VF]]*$J$9,0) -> 40084818 | O22: Subund 813
B23: Riohacha | C23: Palacio de Justicia de Riohacha Luís Robles Torre 2 | D23: Control de Acceso a la Edificación | E23: Servicio 24 horas, 30 días al mes, con arma (lunes a domingo) | F23: 3 | G23: 1 | H23: 30 | I23: ='Anexo tecnico 4'!$E$8 -> 17880640 | J23: =+Tabla1[[#This Row],[TARIFA BASE Valor Unitario incluida prima seguro-VF]]*10% -> 1788064 | K23: =+(Tabla1[[#This Row],[TARIFA BASE Valor Unitario incluida prima seguro-VF]]+Tabla1[[#This Row],[Valor Unitario AyS (10%)-VF]])*10% -> 1966870.4 | L23: =+Tabla1[[#This Row],[Base Gravable-VF]]*19% -> 373705.38 | M23: =ROUND(I23+J23+L23,0) -> 20042409 | N23: =ROUND(Tabla1[[#This Row],[Valor Total Unitario Mensual TARIFA-VF]]*$J$9,0) -> 40084818 | O23: Subund 813
B24: Riohacha | C24: Palacio de Justicia de Riohacha Luís Robles Torre 1 | D24: Servicio de Vigilancia para manejo, control y monitoreo del Escáner | E24: Servicio 12 horas diurnas con arma (lunes a viernes sin festivo) | F24: 1 | G24: 1 | H24: 20 | I24: ='Anexo tecnico 4'!$E$9 -> 5337490.3 | J24: =+Tabla1[[#This Row],[TARIFA BASE Valor Unitario incluida prima seguro-VF]]*10% -> 533749.03 | K24: =+(Tabla1[[#This Row],[TARIFA BASE Valor Unitario incluida prima seguro-VF]]+Tabla1[[#This Row],[Valor Unitario AyS (10%)-VF]])*10% -> 587123.93 | L24: =+Tabla1[[#This Row],[Base Gravable-VF]]*19% -> 111553.55 | M24: =ROUND(I24+J24+L24,0) -> 5982793 | N24: =ROUND(Tabla1[[#This Row],[Valor Total Unitario Mensual TARIFA-VF]]*$J$9,0) -> 11965586 | O24: Subund 813
B25: San Juan del Cesar | C25: Palacio de Justicia San Juan del Cesar | D25: Control de acceso de la puerta principal | E25: Servicio 24 horas, 30 días al mes, con arma (lunes a domingo) | F25: 3 | G25: 1 | H25: 30 | I25: ='Anexo tecnico 4'!$E$8 -> 17880640 | J25: =+Tabla1[[#This Row],[TARIFA BASE Valor Unitario incluida prima seguro-VF]]*10% -> 1788064 | K25: =+(Tabla1[[#This Row],[TARIFA BASE Valor Unitario incluida prima seguro-VF]]+Tabla1[[#This Row],[Valor Unitario AyS (10%)-VF]])*10% -> 1966870.4 | L25: =+Tabla1[[#This Row],[Base Gravable-VF]]*19% -> 373705.38 | M25: =ROUND(I25+J25+L25,0) -> 20042409 | N25: =ROUND(Tabla1[[#This Row],[Valor Total Unitario Mensual TARIFA-VF]]*$J$9,0) -> 40084818 | O25: Subund 813
B26: Villanueva | C26: Palacio de Justicia de Villanueva | D26: Control de acceso de la puerta principal | E26: Servicio 24 horas, 30 días al mes, con arma (lunes a domingo) | F26: 3 | G26: 1 | H26: 30 | I26: ='Anexo tecnico 4'!$E$8 -> 17880640 | J26: =+Tabla1[[#This Row],[TARIFA BASE Valor Unitario incluida prima seguro-VF]]*10% -> 1788064 | K26: =+(Tabla1[[#This Row],[TARIFA BASE Valor Unitario incluida prima seguro-VF]]+Tabla1[[#This Row],[Valor Unitario AyS (10%)-VF]])*10% -> 1966870.4 | L26: =+Tabla1[[#This Row],[Base Gravable-VF]]*19% -> 373705.38 | M26: =ROUND(I26+J26+L26,0) -> 20042409 | N26: =ROUND(Tabla1[[#This Row],[Valor Total Unitario Mensual TARIFA-VF]]*$J$9,0) -> 40084818 | O26: Subund 813
B27: Maicao | C27: Maicao Sede 1 | D27: Control de acceso de la puerta principal | E27: Servicio 24 horas, 30 días al mes, con arma (lunes a domingo) | F27: 3 | G27: 1 | H27: 30 | I27: ='Anexo tecnico 4'!$E$8 -> 17880640 | J27: =+Tabla1[[#This Row],[TARIFA BASE Valor Unitario incluida prima seguro-VF]]*10% -> 1788064 | K27: =+(Tabla1[[#This Row],[TARIFA BASE Valor Unitario incluida prima seguro-VF]]+Tabla1[[#This Row],[Valor Unitario AyS (10%)-VF]])*10% -> 1966870.4 | L27: =+Tabla1[[#This Row],[Base Gravable-VF]]*19% -> 373705.38 | M27: =ROUND(I27+J27+L27,0) -> 20042409 | N27: =ROUND(Tabla1[[#This Row],[Valor Total Unitario Mensual TARIFA-VF]]*$J$9,0) -> 40084818 | O27: Subund 813
B28: Maicao | C28: Maicao Sede 1 | D28: Arriendo de Arco Detector de Metales, incluido mantenimiento preventivo y correctivo | E28: Arco detector de metales Minimo18 Zonas de detección interconectadas en diferentes áreas y alarma simultánea de múltiples zonas. Pantalla LCD 5.7” | F28: NA | G28: 1 | H28: 30 | I28: ='Anexo tecnico 2'!$C$9 -> 863449 | L28: =+Tabla1[[#This Row],[TARIFA BASE Valor Unitario incluida prima seguro-VF]]*19% -> 164055.31 | M28: =ROUND(I28+J28+L28,0) -> 1027504 | N28: =ROUND(Tabla1[[#This Row],[Valor Total Unitario Mensual TARIFA-VF]]*$J$9,0) -> 2055008 | O28: Subund 813
B29: Maicao | C29: Maicao Sede 2 | D29: Control de acceso de la puerta principal | E29: Servicio 24 horas, 30 días al mes, con arma (lunes a domingo) | F29: 3 | G29: 1 | H29: 30 | I29: ='Anexo tecnico 4'!$E$8 -> 17880640 | J29: =+Tabla1[[#This Row],[TARIFA BASE Valor Unitario incluida prima seguro-VF]]*10% -> 1788064 | K29: =+(Tabla1[[#This Row],[TARIFA BASE Valor Unitario incluida prima seguro-VF]]+Tabla1[[#This Row],[Valor Unitario AyS (10%)-VF]])*10% -> 1966870.4 | L29: =+Tabla1[[#This Row],[Base Gravable-VF]]*19% -> 373705.38 | M29: =ROUND(I29+J29+L29,0) -> 20042409 | N29: =ROUND(Tabla1[[#This Row],[Valor Total Unitario Mensual TARIFA-VF]]*$J$9,0) -> 40084818 | O29: Subund 813
M30: =SUBTOTAL(109,M16:M29) -> 180383735 | N30: =SUBTOTAL(109,N16:N29) -> 360767470
B31: TOTALES | N31: VALOR TOTAL
O33: SMMLV
B35: Firma | N35: =N30-N20 -> 320682652
B36: NOMBRE REPRESENTANTE LEGAL:
B37: CC.
B38: Digite nombre de la Empresa
K43: Apropiación vigencia 2025 (de septiembre a diciembre)
D44: =#REF! -> #REF! | G44: 2 | H44: 8 | K44: Departamento | L44: TARIFAS AJUSTADAS
D45: 1462101180 | F45: ASEO | G45: 21506777 | H45: 7.2262382e+08 | I45: =G45+H45 -> 7.441306e+08 | L45: SubUnidad 213 | M45: SubUnidad 813
F46: VIGILANCIA | G46: 101465000 | H46: 820306768 | I46: =G46+H46 -> 921771768 | K46: LA GUAJIRA | L46: =#REF! -> #REF! | M46: =#REF!-#REF! -> #REF!
D47: =D44-D45 -> #REF! | F47: TOTALES | G47: =G45+G46 -> 1.2297178e+08 | H47: =H45+H46 -> 1.5429306e+09 | I47: =G47+H47 -> 1.6659024e+09 | K47: Total Unidad | L47: =SUM(L46:L46) -> #REF! | M47: =SUM(M46:M46) -> #REF!
F48: VF AUTORIZADA | G48: 132854510 | H48: 1667259701 | I48: =G48+H48 -> 1800114211
F49: SALDO VF | G49: =G48-G47 -> 9882733.1 | H49: =H48-H47 -> 1.2432911e+08 | I49: =G49+H49 -> 1.3421184e+08 | K49: Apropiación vigencia 2026 VF (del 01 enero al 15 julio)
K50: Departamento | L50: TARIFAS AJUSTADAS
D51: =#REF!+#REF! -> #REF! | E51: VIG 2025 | L51: SubUnidad 213 | M51: SubUnidad 813
D52: =#REF!+#REF! -> #REF! | E52: VIG 2026 | K52: Cesar | L52: =#REF! -> #REF! | M52: =#REF!-#REF! -> #REF!
D53: =SUM(D51:D52) -> #REF! | K53: Total Unidad | L53: =SUM(L52:L52) -> #REF! | M53: =SUM(M52:M52) -> #REF!
K56: Apropiación Contrato Vigencia 2025-2026 (del 1 sep 2025 a 15 Julio 2026)
...

Sheet Anexo tecnico 2
A1: Consejo Superior de la Judicatura Dirección Seccional de Administración Judicial Riohacha - La Guajira
A2: ANEXO TECNICO (Arriendo Equipos Tecnológicos)
A3: Objeto: | B3: Contratar en nombre de la Nación – Consejo Superior de la Judicatura - Dirección Seccional de Administración Judicial de Riohacha, el servicio de vigilancia, seguridad privada y el arrendamiento de equipos tecnológicos necesarios para las sedes judiciales y administrativas a cargo de la Dirección Seccional de Administración Judicial de Riohacha
A6: ITEM | B6: DESCRIPCIÓN / CARACTERÍSTICAS | C6: Promedio
C7: Valor unitario mensual | D7: IVA | E7: Valor IVA unitario mensual
A8: 1 | B8: Arrendamiento de Escáner rayos X Tamaño del Túnel (A) 660 mmx (Al) 510 mm Velocidad de Transporte de la Banda 0.20 m/s Altura de Banda Transportadora 702 mm. Carga Máxima ≤180 Kg Distribuido Uniformemente Resolución de Contraste 40 AWG (Alambre Metálico de 0.0787 mm) Definición de Espacio Horizontal Φ1.0 mm \Vertical Φ2.0 mm, 34 AWG (Placa de Acero) 38 mm. Monitor LED de 17 pulgadas Funciones del Sistema Alarma de Alta Densidad, Detección Auxiliar de Explosivos/Drogas, Proyección de Imágenes de Amenaza (TIP), Contador de Equipaje, contador de Tiempo en Funcionamiento, Contador de Tiempo de Emisión de Rayos-X, Mantenimiento del Sistema, Entrenamiento, Zoom de 64x. Seguridad fotografía ASA/ISO 1600 Garantizada Sistema de Rayos X. Voltaje Máximo 150 Kv Refrigeración Por Baño de Aceite Sellado Herméticamente. Dosis de Radiación por Inspección <1.0 μ Gy (μ Sv) | C8: 5062075 | D8: =+C8*19% -> 961794.25 | E8: =ROUND(C8+D8,0) -> 6023869
A9: 2 | B9: Arrendamiento de Arco detector de metales Minimo18 Zonas de detección interconectada en diferentes áreas y alarma simultánea de múltiples zonas. Pantalla LCD . Sensibilidad ajustable: Cada zona tiene 256 niveles de sensibilidad. Control remoto. Alarma de sonido y LEDs para indicar la zona del metal detectado. Conteo automático de personas y alarmas. Intensidad de alarma mostrada en el panel. Contraseña de programación. Diseñado con material de alta densidad anti-in amable. Función de autodiagnóstico al encenderse, sin necesidad de calibración inicial o periódica. Fácil instalación. Diseño modular para fácil mantenimiento y reemplazo. Batería de respaldo con duración de 4-8 horas (opcional). Inofensivo para el cuerpo humano, personas con marcapasos, colgantes magnéticos, prótesis, mujeres | C9: 863449 | D9: =+C9*19% -> 164055.31 | E9: =ROUND(C9+D9,0) -> 1027504

Sheet Anexo tecnico 4
A3: SALARIO MINIMO MENSUAL LEGAL VIGENTE | C3: 1750905
D5: Tarifa en SMMLV | E5: 10.21
C6: TARIFA BASE (10,21)
A7: ÍTEM | B7: DESCRIPCIÓN DEL SERVICIO PRESTADO DE VIGILANCIA | C7: SMLMV x TARIFA DEL SERVICIO | D7: Valor prima Seguro de Vida | E7: Tarifa mínima
A8: 1 | B8: Servicio 24 horas, 30 días al mes, con arma (lunes a domingo) | C8: =$C$3*E5 -> 17876740 | D8: 3900 | E8: =D8+C8 -> 17880640
A9: 2 | B9: Servicio 12 horas diurnas con arma (lunes a viernes sin festivos) | C9: =$C$3*E5 -> 17876740 | D9: 3900 | E9: =+((((($C9+$D9)*55.97%)/30)*20)/15)*12 -> 5337490.3
