Workbook
Name _________________________________________________i1: #REF!
Name ________________________________________________i1: #REF!
Name _______________________________________________i1: #REF!
Name ______________________________________________i1: #REF!
Name _____________________________________________i1: #REF!
Name ____________________________________________i1: #REF!
Name ___________________________________________i1: #REF!
Name __________________________________________i1: #REF!
Name _________________________________________i1: #REF!
Name ________________________________________i1: #REF!
Name _______________________________________i1: #REF!
Name ______________________________________i1: #REF!
Name _____________________________________i1: #REF!
Name ____________________________________i1: #REF!
Name ___________________________________i1: #REF!
Name __________________________________i1: #REF!
Name _________________________________i1: #REF!
Name ________________________________i1: #REF!
Name _______________________________i1: #REF!
Name ______________________________i1: #REF!
Name _____________________________i1: #REF!
Name ____________________________i1: #REF!
Name ___________________________i1: #REF!
Name __________________________i1: #REF!
Name _________________________i1: #REF!
Name ________________________i1: #REF!
Name _______________________i1: #REF!
Name ______________________i1: #REF!
Name _____________________i1: #REF!
Name ____________________i1: #REF!
Name ___________________i1: #REF!
Name __________________A17000: #REF!
Name __________________A20000: #REF!
Name __________________A30000: #REF!
Name __________________G1: #REF!
Name __________________i1: #REF!
Name __________________MA2: #REF!
Name __________________PJ50: #REF!
Name __________________v4: #REF!
Name __________________v5: #REF!
Name __________________v6: #REF!
Name __________________v8: #REF!
Name __________________w3: #REF!
Name __________________w4: #REF!
Name __________________w5: #REF!
Name __________________w7: #REF!
Name __________________X3: #REF!
Name __________________X4: #REF!
Name __________________X5: #REF!
Name __________________X7: #REF!
Name __________________y3: #REF!
Name __________________y4: #REF!
Name __________________y5: #REF!
Name __________________y7: #REF!
Name __________________z3: #REF!
Name __________________z4: #REF!
Name __________________z5: #REF!
Name __________________z7: #REF!
Name _________________i1: #REF!
Name _________________IPC2002: #REF!

Sheet INFORME SDM-PSA-SIE-40-2026
E1: PROCESO GESTIÓN FINANCIERA
E2: VERIFICACIÓN OFERTA ECONÓMICA EN SUBASTA DEL PROCESO SDM-PSA-SIE-40-2026
E3: ADQUISICION DE UNIFORMES PARA EL PERSONAL QUE DESARROLLA LABORES DE CONTROL AL TRANSITO Y TRANSPORTE DE LA SECRETARIA DISTRITAL DE MOVILIDAD
A4: PRESUPUESTO OFICIAL LOTE 1 | E4: 1566588629
A5: PRESUPUESTO OFICIAL LOTE 2 | E5: 2533100589
A6: VALOR INICIAL EN SUBASTA LOTE 1 | E6: 1565681800
A7: VALOR INICIAL EN SUBASTA LOTE 2 | E7: 2531825000
A8: MINIMO ACEPTABLE LOTE 1 | E8: =+'PRECIOS ARTIFICIALMENTE BAJOS '!B6 -> 1.2532709e+09
A9: MINIMO ACEPTABLE LOTE 2 | E9: =+'PRECIOS ARTIFICIALMENTE BAJOS '!B15 -> 2.0264805e+09
A10: LOTE 1
A11: No. | B11: PROPONENTE | C11: LOTES | D11: VALOR PROPUESTA PRESENTADA POR EL PROPONENTE. | E11: VERIFICACIÓN ARITMETICA OFERTA ECONÓMICA (REDONDEADA AL ENTERO MAS CERCANO) | F11: DIFERENCIA ENTRE PROPUESTA PRESENTADA POR EL PROPONENTE Y LA VERIFICACIÓN ARITMÉTICA DE LA OFERTA . | G11: DIFERENCIA ENTRE EL PRESUPUESTO OFICIAL Y LA OFERTA ECONÓMICA CON CORRECCIÓN ARITMÉTICA | H11: OFERTA FINAL EN SUBASTA | I11: DIFERENCIA ENTRE EL PRESUPUESTO OFICIAL DEL PROCESO Y LA OFERTA FINAL EN SUBASTA | J11: OBSERVACIONES | K11: ESTADO | L11: DEBE SUSTENTAR PRECIOS ARTIFICIALMENTE BAJOS
A12: 1 | B12: DISMOTOS PATRICIA MEJIA E U | C12: LOTE 1 | D12: =+'DISMOTOS PATRICIA MEJIA E U'!K20 -> 1565681800 | E12: 1565681800 | F12: =+D12-E12 -> 0 | G12: =+$E$4-E12 -> 906829 | H12: =+'DISMOTOS PATRICIA MEJIA E U'!L20 -> 1526540755 | I12: =+E4-H12 -> 40047874 | J12: CUMPLE. NO SUPERA PRECIOS DE REFERENCIA DE LA OFERTA , NI PRESUPUESTO OFICIAL, PRESENTO LANCES Y NO DEBE SUSTENTAR PRECIOS ARTIFICIALMENTE BAJOS | K12: HABILTADO | L12: NO
A13: 2 | B13: ALSAVA SAS | C13: LOTE 1 | D13: =+'ALSAVA SAS'!K20 -> 1566579059 | E13: 1566579059 | F13: =+D13-E13 -> 0 | G13: =+$E$4-E13 -> 9570 | H13: NO PRESENTO LANCES EN SUBASTA | I13: NO PRESENTO LANCES EN SUBASTA | J13: CUMPLE. NO SUPERA PRECIOS DE REFERENCIA DE LA OFERTA , NI PRESUPUESTO OFICIAL, SIN EMBARGO, NO PRESENTO LANCES EN SUBASTA | K13: NA | L13: N/A
A14: 3 | B14: MILITARY INDUSTRIES SAS | C14: LOTE 1 | D14: =+'MILITARY INDUSTRIES SAS'!K20 -> 1566535660 | E14: 1566535660 | F14: =+D14-E14 -> 0 | G14: =+$E$4-E14 -> 52969 | H14: NO PRESENTO LANCES EN SUBASTA | I14: NO PRESENTO LANCES EN SUBASTA | J14: CUMPLE. NO SUPERA PRECIOS DE REFERENCIA DE LA OFERTA , NI PRESUPUESTO OFICIAL, SIN EMBARGO, NO PRESENTO LANCES EN SUBASTA | K14: N/A | L14: N/A
A15: LOTE 2
A16: No. | B16: PROPONENTE | C16: LOTES | D16: VALOR PROPUESTA PRESENTADA POR EL PROPONENTE. | E16: VERIFICACIÓN ARITMETICA OFERTA ECONÓMICA (REDONDEADA AL ENTERO MAS CERCANO) | F16: DIFERENCIA ENTRE PROPUESTA PRESENTADA POR EL PROPONENTE Y LA VERIFICACIÓN ARITMÉTICA DE LA OFERTA . | G16: DIFERENCIA ENTRE EL PRESUPUESTO OFICIAL Y LA OFERTA ECONÓMICA CON CORRECCIÓN ARITMÉTICA | H16: OFERTA FINAL EN SUBASTA | I16: DIFERENCIA ENTRE EL PRESUPUESTO OFICIAL DEL PROCESO Y LA OFERTA FINAL EN SUBASTA | J16: OBSERVACIONES | K16: ESTADO | L16: DEBE SUSTENTAR PRECIOS ARTIFICIALMENTE BAJOS
A17: 1 | B17: DISMOTOS PATRICIA MEJIA E U | C17: LOTE 2 | D17: =+'DISMOTOS PATRICIA MEJIA E U'!K46 -> 2531825000 | E17: 2531825000 | F17: =+D17-E17 -> 0 | G17: =+$E$5-E17 -> 1275589 | H17: =+'DISMOTOS PATRICIA MEJIA E U'!L46 -> 2468534020 | I17: =+E5-H17 -> 64566569 | J17: CUMPLE. NO SUPERA PRECIOS DE REFERENCIA DE LA OFERTA , NI PRESUPUESTO OFICIAL, PRESENTO LANCES Y NO DEBE SUSTENTAR PRECIOS ARTIFICIALMENTE BAJOS | K17: HABILTADO | L17: NO
A18: 2 | B18: BOSTONIA SAS | C18: LOTE 2 | D18: =+'BOSTONIA S.A.S'!K35 -> 2533080494 | E18: 2533080494 | F18: =+D18-E18 -> 0 | G18: =+$E$5-E18 -> 20095 | H18: NO PRESENTO LANCES EN SUBASTA | I18: NO PRESENTO LANCES EN SUBASTA | J18: CUMPLE. NO SUPERA PRECIOS DE REFERENCIA DE LA OFERTA , NI PRESUPUESTO OFICIAL, SIN EMBARGO, NO PRESENTO LANCES EN SUBASTA | K18: NA | L18: N/A
A19: 3 | B19: DISTRIBUCION Y SERVICIO S A S | C19: LOTE 2 | D19: =+'DISTRIBUCION Y SERVICIO S A S'!K35 -> 2533049860 | E19: 2533049860 | F19: =+D19-E19 -> 0 | G19: =+$E$5-E19 -> 50729 | H19: NO PRESENTO LANCES EN SUBASTA | I19: NO PRESENTO LANCES EN SUBASTA | J19: CUMPLE. NO SUPERA PRECIOS DE REFERENCIA DE LA OFERTA , NI PRESUPUESTO OFICIAL, SIN EMBARGO, NO PRESENTO LANCES EN SUBASTA | K19: NA | L19: N/A
A20: 4 | B20: MILITARY INDUSTRIES SAS | C20: LOTE 2 | D20: =+'MILITARY INDUSTRIES SAS'!K46 -> 2533022970 | E20: 2533022970 | F20: =+D20-E20 -> 0 | G20: =+$E$5-E20 -> 77619 | H20: NO PRESENTO LANCES EN SUBASTA | I20: NO PRESENTO LANCES EN SUBASTA | J20: CUMPLE. NO SUPERA PRECIOS DE REFERENCIA DE LA OFERTA , NI PRESUPUESTO OFICIAL, SIN EMBARGO, NO PRESENTO LANCES EN SUBASTA | K20: NA | L20: N/A
A22: ELABORADO POR : | K22: REVISADO POR:
A26: Jose Antonio Castiblanco Anaya | K26: Jose David Robayo Fonseca
A27: Evaluador economico | K27: Subdirector Financiero
A31: FECHA: 03-09-2026

Sheet DISMOTOS PATRICIA MEJIA E U
A1: DISCRIMINACION DE PROPUESTA ECONOMICA OBJETO: ADQUISICION DE UNIFORMES PARA EL PERSONAL QUE DESARROLLA LABORES DE CONTROL AL TRANSITO Y TRANSPORTE DE LA SECRETARIA DISTRITAL DE MOVILIDAD
A2: DATOS DEL PROPONENTE | C2: DISMOTOS PATRICIA MEJIA E U
A3: NOMBRE O RAZÓN SOCIAL | C3: DISMOTOS PATRICIA MEJIA E U
A4: NIT | C4: 900.050.616-5
A5: DIRECCIÓN DE CORRESPONDENCIA | C5: CL 63 B NO. 26 - 33 BOGOTA D.C
A7: OFERTA DISMOTOS PATRICIA MEJIA E U
A8: LOTE 1
A9: Item | B9: DESCRIPCIÓN BIEN O SERVICIO | C9: Unidad de Medida | D9: Cantidad | E9: PRECIO OFERTADO UNITARIO INLCUIDO IVA | F9: PRECIO OFERTADO UNITARIO INLCUIDO IVA DESPUES DE SUBASTA | G9: PRECIO DE REFERENCIA UNITARIO INLCUIDO IVA | H9: PRECIO DE REFERENCIA UNITARIO INICIAL DE SUBASTA INCLUIDO IVA | I9: SUPERA PRECIO DE REFERENCIA UNITARIO INCLUIDO IVA | J9: SUPERA PRECIO DE REFERENCIA UNITARIO INICIAL EN SUBASTA INCLUIDO IVA | K9: PRECIO OFERTADO TOTAL INLCUIDO IVA | L9: PRECIO OFERTADO TOTAL INLCUIDO IVA DESPUES DE SUBASTA | M9: PRECIO DE REFERENCIA TOTAL INLCUIDO IVA | N9: PRECIO DE REFERENCIA TOTAL INICIAL DE SUBASTA INLCUIDO IVA | O9: SUPERA PRECIO DE REFERENCIA TOTAL INCLUIDO IVA | P9: SUPERA PRECIO DE REFERENCIA TOTAL INICIAL DE SUBASTA INCLUIDO IVA
A11: 1 | B11: CAMISETA TIPO POLO AMARILLO FLUORESCENTE PARA TRÁNSITO (ETPN-217) | C11: UN | D11: 2100 | E11: 150200 | F11: =+L11/D11 -> 146445 | G11: 150404 | H11: =+N11/D11 -> 150200 | I11: =IF(AND(E11>=G11),"SI","NO") -> NO | J11: =IF(AND(F11>=H11),"SI","NO") -> NO | K11: =+E11*D11 -> 315420000 | L11: 307534500 | M11: =+G11*D11 -> 315848400 | N11: 315420000 | O11: =IF(AND(K11>=M11),"SI","NO") -> NO | P11: =IF(AND(L11>=N11),"SI","NO") -> NO
A12: 2 | B12: PANTALÓN TIPO BREECHE MASCULINO (NTMD-0348) | C12: UN | D12: 1143 | E12: 220000 | F12: =+L12/D12 -> 214500 | G12: 220036 | H12: =+N12/D12 -> 220000 | I12: =IF(AND(E12>=G12),"SI","NO") -> NO | J12: =IF(AND(F12>=H12),"SI","NO") -> NO | K12: =+E12*D12 -> 251460000 | L12: 245173500 | M12: =+G12*D12 -> 251501148 | N12: 251460000 | O12: =IF(AND(K12>=M12),"SI","NO") -> NO | P12: =IF(AND(L12>=N12),"SI","NO") -> NO
A13: 3 | B13: PANTALÓN TIPO BREECHE FEMENINO (NTMD-0347) | C13: UN | D13: 957 | E13: 219400 | F13: =+L13/D13 -> 213915 | G13: 219513 | H13: =+N13/D13 -> 219400 | I13: =IF(AND(E13>=G13),"SI","NO") -> NO | J13: =IF(AND(F13>=H13),"SI","NO") -> NO | K13: =+E13*D13 -> 209965800 | L13: 204716655 | M13: =+G13*D13 -> 210073941 | N13: 209965800 | O13: =IF(AND(K13>=M13),"SI","NO") -> NO | P13: =IF(AND(L13>=N13),"SI","NO") -> NO
A14: 4 | B14: 4 CHAQUETA DE SERVICIO NTMD-0184 | C14: UN | D14: 700 | E14: 405100 | F14: =+L14/D14 -> 394973 | G14: 405157 | H14: =+N14/D14 -> 405100 | I14: =IF(AND(E14>=G14),"SI","NO") -> NO | J14: =IF(AND(F14>=H14),"SI","NO") -> NO | K14: =+E14*D14 -> 283570000 | L14: 276481100 | M14: =+G14*D14 -> 283609900 | N14: 283570000 | O14: =IF(AND(K14>=M14),"SI","NO") -> NO | P14: =IF(AND(L14>=N14),"SI","NO") -> NO
A15: 5 | B15: CAMISETA INTERNA VERDE (NTMD-0077-A9) | C15: UN | D15: 2100 | E15: 58000 | F15: =+L15/D15 -> 56550 | G15: 58099 | H15: =+N15/D15 -> 58000 | I15: =IF(AND(E15>=G15),"SI","NO") -> NO | J15: =IF(AND(F15>=H15),"SI","NO") -> NO | K15: =+E15*D15 -> 121800000 | L15: 118755000 | M15: =+G15*D15 -> 122007900 | N15: 121800000 | O15: =IF(AND(K15>=M15),"SI","NO") -> NO | P15: =IF(AND(L15>=N15),"SI","NO") -> NO
A16: 6 | B16: BRAZALETE REFLECTIVO FUERZA PÚBLICA (NTMD-0167) | C16: UN | D16: 1300 | E16: 56100 | F16: =+L16/D16 -> 54698 | G16: 56117 | H16: =+N16/D16 -> 56100 | I16: =IF(AND(E16>=G16),"SI","NO") -> NO | J16: =IF(AND(F16>=H16),"SI","NO") -> NO | K16: =+E16*D16 -> 72930000 | L16: 71107400 | M16: =+G16*D16 -> 72952100 | N16: 72930000 | O16: =IF(AND(K16>=M16),"SI","NO") -> NO | P16: =IF(AND(L16>=N16),"SI","NO") -> NO
A17: 7 | B17: IMPERMEABLE DE TRES PIEZAS EN TELA VINÍLICA | C17: UN | D17: 550 | E17: 521200 | F17: =+L17/D17 -> 508170 | G17: 521226 | H17: =+N17/D17 -> 521200 | I17: =IF(AND(E17>=G17),"SI","NO") -> NO | J17: =IF(AND(F17>=H17),"SI","NO") -> NO | K17: =+E17*D17 -> 286660000 | L17: 279493500 | M17: =+G17*D17 -> 286674300 | N17: 286660000 | O17: =IF(AND(K17>=M17),"SI","NO") -> NO | P17: =IF(AND(L17>=N17),"SI","NO") -> NO
A18: 8 | B18: BLUSA PERSONAL CRIMINALISTICA (ET-PN-112) | C18: UN | D18: 20 | E18: 129800 | F18: =+L18/D18 -> 126555 | G18: 129842 | H18: =+N18/D18 -> 129800 | I18: =IF(AND(E18>=G18),"SI","NO") -> NO | J18: =IF(AND(F18>=H18),"SI","NO") -> NO | K18: =+E18*D18 -> 2596000 | L18: 2531100 | M18: =+G18*D18 -> 2596840 | N18: 2596000 | O18: =IF(AND(K18>=M18),"SI","NO") -> NO | P18: =IF(AND(L18>=N18),"SI","NO") -> NO
A19: 9 | B19: PITO (ET-PN-102) | C19: UN | D19: 700 | E19: 30400 | F19: =+L19/D19 -> 29640 | G19: 30463 | H19: =+N19/D19 -> 30400 | I19: =IF(AND(E19>=G19),"SI","NO") -> NO | J19: =IF(AND(F19>=H19),"SI","NO") -> NO | K19: =+E19*D19 -> 21280000 | L19: 20748000 | M19: =+G19*D19 -> 21324100 | N19: 21280000 | O19: =IF(AND(K19>=M19),"SI","NO") -> NO | P19: =IF(AND(L19>=N19),"SI","NO") -> NO
A20: TOTALES | E20: =SUM(E11:E19) -> 1790200 | F20: =SUM(F11:F19) -> 1745446 | G20: =SUM(G11:G19) -> 1790857 | H20: =SUM(H11:H19) -> 1790200 | I20: =IF(AND(E20>=G20),"SI","NO") -> NO | J20: =IF(AND(F20>=H20),"SI","NO") -> NO | K20: =SUM(K11:K19) -> 1565681800 | L20: =SUM(L11:L19) -> 1526540755 | M20: =SUM(M11:M19) -> 1566588629 | N20: =SUM(N11:N19) -> 1565681800 | O20: =IF(AND(K20>=M20),"SI","NO") -> NO | P20: =IF(AND(L20>=N20),"SI","NO") -> NO
A21: LOTE 2
A22: 1 | B22: SDM-FT-010-V2 CHAQUETA CON PROTECCIONES Y BOLSILLO PARA CÁMARA | C22: UN | D22: 1200 | E22: 490300 | F22: =+L22/D22 -> 478043 | G22: 490377 | H22: =+N22/D22 -> 490300 | I22: =IF(AND(E22>=G22),"SI","NO") -> NO | J22: =IF(AND(F22>=H22),"SI","NO") -> NO | K22: =+E22*D22 -> 588360000 | L22: 573651600 | M22: =+G22*D22 -> 588452400 | N22: 588360000 | O22: =IF(AND(K22>=M22),"SI","NO") -> NO | P22: =IF(AND(L22>=N22),"SI","NO") -> NO
A23: 2 | B23: SDM-FT-020-V2 CAMISETA TIPO POLO CON BOLSILLO PARA CÁMARA | C23: UN | D23: 2400 | E23: 130600 | F23: =+L23/D23 -> 127335 | G23: 130677 | H23: =+N23/D23 -> 130600 | I23: =IF(AND(E23>=G23),"SI","NO") -> NO | J23: =IF(AND(F23>=H23),"SI","NO") -> NO | K23: =+E23*D23 -> 313440000 | L23: 305604000 | M23: =+G23*D23 -> 313624800 | N23: 313440000 | O23: =IF(AND(K23>=M23),"SI","NO") -> NO | P23: =IF(AND(L23>=N23),"SI","NO") -> NO
A24: 3 | B24: SDM-FT-030-V1 CAMISETA CUELLO REDONDO | C24: UN | D24: 2230 | E24: 34900 | F24: =+L24/D24 -> 34028 | G24: 35012 | H24: =+N24/D24 -> 34900 | I24: =IF(AND(E24>=G24),"SI","NO") -> NO | J24: =IF(AND(F24>=H24),"SI","NO") -> NO | K24: =+E24*D24 -> 77827000 | L24: 75882440 | M24: =+G24*D24 -> 78076760 | N24: 77827000 | O24: =IF(AND(K24>=M24),"SI","NO") -> NO | P24: =IF(AND(L24>=N24),"SI","NO") -> NO
A25: 4 | B25: SDM-FT-050-V1 PANTALÓN TIPO BREECHE | C25: UN | D25: 2400 | E25: 215200 | F25: =+L25/D25 -> 209820 | G25: 215232 | H25: =+N25/D25 -> 215200 | I25: =IF(AND(E25>=G25),"SI","NO") -> NO | J25: =IF(AND(F25>=H25),"SI","NO") -> NO | K25: =+E25*D25 -> 516480000 | L25: 503568000 | M25: =+G25*D25 -> 516556800 | N25: 516480000 | O25: =IF(AND(K25>=M25),"SI","NO") -> NO | P25: =IF(AND(L25>=N25),"SI","NO") -> NO
A26: 5 | B26: SDM-FT-060-V1 GORRA COMANDANTE | C26: UN | D26: 25 | E26: 69600 | F26: =+L26/D26 -> 67860 | G26: 69693 | H26: =+N26/D26 -> 69600 | I26: =IF(AND(E26>=G26),"SI","NO") -> NO | J26: =IF(AND(F26>=H26),"SI","NO") -> NO | K26: =+E26*D26 -> 1740000 | L26: 1696500 | M26: =+G26*D26 -> 1742325 | N26: 1740000 | O26: =IF(AND(K26>=M26),"SI","NO") -> NO | P26: =IF(AND(L26>=N26),"SI","NO") -> NO
A27: 6 | B27: SDM-FT-061-V1 GORRA SUBCOMANDANTE | C27: UN | D27: 30 | E27: 62800 | F27: =+L27/D27 -> 61230 | G27: 62881 | H27: =+N27/D27 -> 62800 | I27: =IF(AND(E27>=G27),"SI","NO") -> NO | J27: =IF(AND(F27>=H27),"SI","NO") -> NO | K27: =+E27*D27 -> 1884000 | L27: 1836900 | M27: =+G27*D27 -> 1886430 | N27: 1884000 | O27: =IF(AND(K27>=M27),"SI","NO") -> NO | P27: =IF(AND(L27>=N27),"SI","NO") -> NO
A28: 7 | B28: SDM-FT-062-V1 GORRA TÉCNICO OPERATIVO | C28: UN | D28: 101 | E28: 54800 | F28: =+L28/D28 -> 53430 | G28: 54866 | H28: =+N28/D28 -> 54800 | I28: =IF(AND(E28>=G28),"SI","NO") -> NO | J28: =IF(AND(F28>=H28),"SI","NO") -> NO | K28: =+E28*D28 -> 5534800 | L28: 5396430 | M28: =+G28*D28 -> 5541466 | N28: 5534800 | O28: =IF(AND(K28>=M28),"SI","NO") -> NO | P28: =IF(AND(L28>=N28),"SI","NO") -> NO
A29: 8 | B29: SDM-FT-063-V1 GORRA AGENTE CIVIL | C29: UN | D29: 1126 | E29: 48400 | F29: =+L29/D29 -> 47190 | G29: 48440 | H29: =+N29/D29 -> 48400 | I29: =IF(AND(E29>=G29),"SI","NO") -> NO | J29: =IF(AND(F29>=H29),"SI","NO") -> NO | K29: =+E29*D29 -> 54498400 | L29: 53135940 | M29: =+G29*D29 -> 54543440 | N29: 54498400 | O29: =IF(AND(K29>=M29),"SI","NO") -> NO | P29: =IF(AND(L29>=N29),"SI","NO") -> NO
A30: 9 | B30: SDM-FT-070-V1 CINTURÓN MULTIPROPÓSITO | C30: UN | D30: 600 | E30: 154450 | F30: =+L30/D30 -> 150589 | G30: 154509 | H30: =+N30/D30 -> 154450 | I30: =IF(AND(E30>=G30),"SI","NO") -> NO | J30: =IF(AND(F30>=H30),"SI","NO") -> NO | K30: =+E30*D30 -> 92670000 | L30: 90353400 | M30: =+G30*D30 -> 92705400 | N30: 92670000 | O30: =IF(AND(K30>=M30),"SI","NO") -> NO | P30: =IF(AND(L30>=N30),"SI","NO") -> NO
A31: 10 | B31: SDM-FT-090-V1 PRESILLAS | C31: UN | D31: 2400 | E31: 23800 | F31: =+L31/D31 -> 23205 | G31: 23884 | H31: =+N31/D31 -> 23800 | I31: =IF(AND(E31>=G31),"SI","NO") -> NO | J31: =IF(AND(F31>=H31),"SI","NO") -> NO | K31: =+E31*D31 -> 57120000 | L31: 55692000 | M31: =+G31*D31 -> 57321600 | N31: 57120000 | O31: =IF(AND(K31>=M31),"SI","NO") -> NO | P31: =IF(AND(L31>=N31),"SI","NO") -> NO
A32: 11 | B32: SDM-FT-080-V1 SILBATO | C32: UN | D32: 1200 | E32: 54500 | F32: =+L32/D32 -> 53138 | G32: 54513 | H32: =+N32/D32 -> 54500 | I32: =IF(AND(E32>=G32),"SI","NO") -> NO | J32: =IF(AND(F32>=H32),"SI","NO") -> NO | K32: =+E32*D32 -> 65400000 | L32: 63765600 | M32: =+G32*D32 -> 65415600 | N32: 65400000 | O32: =IF(AND(K32>=M32),"SI","NO") -> NO | P32: =IF(AND(L32>=N32),"SI","NO") -> NO
A33: 12 | B33: SDM-FT-100-V1 BRAZALETE | C33: UN | D33: 1200 | E33: 49800 | F33: =+L33/D33 -> 48555 | G33: 49821 | H33: =+N33/D33 -> 49800 | I33: =IF(AND(E33>=G33),"SI","NO") -> NO | J33: =IF(AND(F33>=H33),"SI","NO") -> NO | K33: =+E33*D33 -> 59760000 | L33: 58266000 | M33: =+G33*D33 -> 59785200 | N33: 59760000 | O33: =IF(AND(K33>=M33),"SI","NO") -> NO | P33: =IF(AND(L33>=N33),"SI","NO") -> NO
... A45: 24 | B45: SDM-FT-210-V1-BUZO POLAR | C45: UN | D45: 1200 | E45: 141500 | F45: =+L45/D45 -> 137963 | G45: 141565 | H45: =+N45/D45 -> 141500 | I45: =IF(AND(E45>=G45),"SI","NO") -> NO | J45: =IF(AND(F45>=H45),"SI","NO") -> NO | K45: =+E45*D45 -> 169800000 | L45: 165555600 | M45: =+G45*D45 -> 169878000 | N45: 169800000 | O45: =IF(AND(K45>=M45),"SI","NO") -> NO | P45: =IF(AND(L45>=N45),"SI","NO") -> NO
A46: TOTALES | E46: =SUM(E22:E45) -> 3228450 | F46: =SUM(F22:F45) -> 3147743 | G46: =SUM(G22:G45) -> 3229916 | H46: =SUM(H22:H45) -> 3228450 | I46: =IF(AND(E46>=G46),"SI","NO") -> NO | J46: =IF(AND(F46>=H46),"SI","NO") -> NO | K46: =SUM(K22:K45) -> 2531825000 | L46: =SUM(L22:L45) -> 2468534020 | M46: =SUM(M22:M45) -> 2533100589 | N46: =SUM(N22:N45) -> 2531825000 | O46: =IF(AND(K46>=M46),"SI","NO") -> NO | P46: =IF(AND(L46>=N46),"SI","NO") -> NO

Sheet ALSAVA SAS
A1: DISCRIMINACION DE PROPUESTA ECONOMICA OBJETO: ADQUISICION DE UNIFORMES PARA EL PERSONAL QUE DESARROLLA LABORES DE CONTROL AL TRANSITO Y TRANSPORTE DE LA SECRETARIA DISTRITAL DE MOVILIDAD
A2: DATOS DEL PROPONENTE | C2: ALSAVA SAS
A3: NOMBRE O RAZÓN SOCIAL | C3: ALSAVA SAS
A4: NIT | C4: 900.302.518-8
A5: DIRECCIÓN DE CORRESPONDENCIA | C5: CL 14 #43-11 BOGOTA D.C
A7: OFERTA ALSAVA SAS
A8: LOTE 1
A9: Item | B9: DESCRIPCIÓN BIEN O SERVICIO | C9: Unidad de Medida | D9: Cantidad | E9: PRECIO OFERTADO UNITARIO INLCUIDO IVA | F9: PRECIO OFERTADO UNITARIO INLCUIDO IVA DESPUES DE SUBASTA | G9: PRECIO DE REFERENCIA UNITARIO INLCUIDO IVA | H9: PRECIO DE REFERENCIA UNITARIO INICIAL DE SUBASTA INCLUIDO IVA | I9: SUPERA PRECIO DE REFERENCIA UNITARIO INCLUIDO IVA | J9: SUPERA PRECIO DE REFERENCIA UNITARIO INICIAL EN SUBASTA INCLUIDO IVA | K9: PRECIO OFERTADO TOTAL INLCUIDO IVA | L9: PRECIO OFERTADO TOTAL INLCUIDO IVA DESPUES DE SUBASTA | M9: PRECIO DE REFERENCIA TOTAL INLCUIDO IVA | N9: PRECIO DE REFERENCIA TOTAL INICIAL DE SUBASTA INLCUIDO IVA | O9: SUPERA PRECIO DE REFERENCIA TOTAL INCLUIDO IVA | P9: SUPERA PRECIO DE REFERENCIA TOTAL INICIAL DE SUBASTA INCLUIDO IVA
A11: 1 | B11: CAMISETA TIPO POLO AMARILLO FLUORESCENTE PARA TRÁNSITO (ETPN-217) | C11: UN | D11: 2100 | E11: 150403 | G11: 150404 | I11: =IF(AND(E11>=G11),"SI","NO") -> NO | K11: =+E11*D11 -> 315846300 | M11: =+G11*D11 -> 315848400 | O11: =IF(AND(K11>=M11),"SI","NO") -> NO
A12: 2 | B12: PANTALÓN TIPO BREECHE MASCULINO (NTMD-0348) | C12: UN | D12: 1143 | E12: 220035 | G12: 220036 | I12: =IF(AND(E12>=G12),"SI","NO") -> NO | K12: =+E12*D12 -> 251500005 | M12: =+G12*D12 -> 251501148 | O12: =IF(AND(K12>=M12),"SI","NO") -> NO
A13: 3 | B13: PANTALÓN TIPO BREECHE FEMENINO (NTMD-0347) | C13: UN | D13: 957 | E13: 219512 | G13: 219513 | I13: =IF(AND(E13>=G13),"SI","NO") -> NO | K13: =+E13*D13 -> 210072984 | M13: =+G13*D13 -> 210073941 | O13: =IF(AND(K13>=M13),"SI","NO") -> NO
A14: 4 | B14: 4 CHAQUETA DE SERVICIO NTMD-0184 | C14: UN | D14: 700 | E14: 405156 | G14: 405157 | I14: =IF(AND(E14>=G14),"SI","NO") -> NO | K14: =+E14*D14 -> 283609200 | M14: =+G14*D14 -> 283609900 | O14: =IF(AND(K14>=M14),"SI","NO") -> NO
A15: 5 | B15: CAMISETA INTERNA VERDE (NTMD-0077-A9) | C15: UN | D15: 2100 | E15: 58098 | G15: 58099 | I15: =IF(AND(E15>=G15),"SI","NO") -> NO | K15: =+E15*D15 -> 122005800 | M15: =+G15*D15 -> 122007900 | O15: =IF(AND(K15>=M15),"SI","NO") -> NO
A16: 6 | B16: BRAZALETE REFLECTIVO FUERZA PÚBLICA (NTMD-0167) | C16: UN | D16: 1300 | E16: 56116 | G16: 56117 | I16: =IF(AND(E16>=G16),"SI","NO") -> NO | K16: =+E16*D16 -> 72950800 | M16: =+G16*D16 -> 72952100 | O16: =IF(AND(K16>=M16),"SI","NO") -> NO
A17: 7 | B17: IMPERMEABLE DE TRES PIEZAS EN TELA VINÍLICA | C17: UN | D17: 550 | E17: 521225 | G17: 521226 | I17: =IF(AND(E17>=G17),"SI","NO") -> NO | K17: =+E17*D17 -> 286673750 | M17: =+G17*D17 -> 286674300 | O17: =IF(AND(K17>=M17),"SI","NO") -> NO
A18: 8 | B18: BLUSA PERSONAL CRIMINALISTICA (ET-PN-112) | C18: UN | D18: 20 | E18: 129841 | G18: 129842 | I18: =IF(AND(E18>=G18),"SI","NO") -> NO | K18: =+E18*D18 -> 2596820 | M18: =+G18*D18 -> 2596840 | O18: =IF(AND(K18>=M18),"SI","NO") -> NO
A19: 9 | B19: PITO (ET-PN-102) | C19: UN | D19: 700 | E19: 30462 | G19: 30463 | I19: =IF(AND(E19>=G19),"SI","NO") -> NO | K19: =+E19*D19 -> 21323400 | M19: =+G19*D19 -> 21324100 | O19: =IF(AND(K19>=M19),"SI","NO") -> NO
A20: TOTALES | E20: =SUM(E11:E19) -> 1790848 | G20: =SUM(G11:G19) -> 1790857 | I20: =IF(AND(E20>=G20),"SI","NO") -> NO | K20: =SUM(K11:K19) -> 1566579059 | M20: =SUM(M11:M19) -> 1566588629 | O20: =IF(AND(K20>=M20),"SI","NO") -> NO

Sheet BOSTONIA S.A.S
A1: DISCRIMINACION DE PROPUESTA ECONOMICA OBJETO: ADQUISICION DE UNIFORMES PARA EL PERSONAL QUE DESARROLLA LABORES DE CONTROL AL TRANSITO Y TRANSPORTE DE LA SECRETARIA DISTRITAL DE MOVILIDAD
A2: DATOS DEL PROPONENTE | C2: BOSTONIA S.A.S
A3: NOMBRE O RAZÓN SOCIAL | C3: BOSTONIA S.A.S
A4: NIT | C4: 800.119.030-6
A5: DIRECCIÓN DE CORRESPONDENCIA | C5: CALLE 17 68 B 68 OFICINA 302 BOGOTA D.C
A7: OFERTA BOSTONIA S.A.S
A8: Item | B8: DESCRIPCIÓN BIEN O SERVICIO | C8: Unidad de Medida | D8: Cantidad | E8: PRECIO OFERTADO UNITARIO INLCUIDO IVA | F8: PRECIO OFERTADO UNITARIO INLCUIDO IVA DESPUES DE SUBASTA | G8: PRECIO DE REFERENCIA UNITARIO INLCUIDO IVA | H8: PRECIO DE REFERENCIA UNITARIO INICIAL DE SUBASTA INCLUIDO IVA | I8: SUPERA PRECIO DE REFERENCIA UNITARIO INCLUIDO IVA | J8: SUPERA PRECIO DE REFERENCIA UNITARIO INICIAL EN SUBASTA INCLUIDO IVA | K8: PRECIO OFERTADO TOTAL INLCUIDO IVA | L8: PRECIO OFERTADO TOTAL INLCUIDO IVA DESPUES DE SUBASTA | M8: PRECIO DE REFERENCIA TOTAL INLCUIDO IVA | N8: PRECIO DE REFERENCIA TOTAL INICIAL DE SUBASTA INLCUIDO IVA | O8: SUPERA PRECIO DE REFERENCIA TOTAL INCLUIDO IVA | P8: SUPERA PRECIO DE REFERENCIA TOTAL INICIAL DE SUBASTA INCLUIDO IVA
A10: LOTE 2
A11: 1 | B11: SDM-FT-010-V2 CHAQUETA CON PROTECCIONES Y BOLSILLO PARA CÁMARA | C11: UN | D11: 1200 | E11: 490376 | G11: 490377 | I11: =IF(AND(E11>=G11),"SI","NO") -> NO | K11: =+E11*D11 -> 588451200 | M11: =+G11*D11 -> 588452400 | O11: =IF(AND(K11>=M11),"SI","NO") -> NO
A12: 2 | B12: SDM-FT-020-V2 CAMISETA TIPO POLO CON BOLSILLO PARA CÁMARA | C12: UN | D12: 2400 | E12: 130676 | G12: 130677 | I12: =IF(AND(E12>=G12),"SI","NO") -> NO | K12: =+E12*D12 -> 313622400 | M12: =+G12*D12 -> 313624800 | O12: =IF(AND(K12>=M12),"SI","NO") -> NO
A13: 3 | B13: SDM-FT-030-V1 CAMISETA CUELLO REDONDO | C13: UN | D13: 2230 | E13: 35011 | G13: 35012 | I13: =IF(AND(E13>=G13),"SI","NO") -> NO | K13: =+E13*D13 -> 78074530 | M13: =+G13*D13 -> 78076760 | O13: =IF(AND(K13>=M13),"SI","NO") -> NO
A14: 4 | B14: SDM-FT-050-V1 PANTALÓN TIPO BREECHE | C14: UN | D14: 2400 | E14: 215231 | G14: 215232 | I14: =IF(AND(E14>=G14),"SI","NO") -> NO | K14: =+E14*D14 -> 516554400 | M14: =+G14*D14 -> 516556800 | O14: =IF(AND(K14>=M14),"SI","NO") -> NO
A15: 5 | B15: SDM-FT-060-V1 GORRA COMANDANTE | C15: UN | D15: 25 | E15: 69692 | G15: 69693 | I15: =IF(AND(E15>=G15),"SI","NO") -> NO | K15: =+E15*D15 -> 1742300 | M15: =+G15*D15 -> 1742325 | O15: =IF(AND(K15>=M15),"SI","NO") -> NO
A16: 6 | B16: SDM-FT-061-V1 GORRA SUBCOMANDANTE | C16: UN | D16: 30 | E16: 62880 | G16: 62881 | I16: =IF(AND(E16>=G16),"SI","NO") -> NO | K16: =+E16*D16 -> 1886400 | M16: =+G16*D16 -> 1886430 | O16: =IF(AND(K16>=M16),"SI","NO") -> NO
A17: 7 | B17: SDM-FT-062-V1 GORRA TÉCNICO OPERATIVO | C17: UN | D17: 101 | E17: 54865 | G17: 54866 | I17: =IF(AND(E17>=G17),"SI","NO") -> NO | K17: =+E17*D17 -> 5541365 | M17: =+G17*D17 -> 5541466 | O17: =IF(AND(K17>=M17),"SI","NO") -> NO
A18: 8 | B18: SDM-FT-063-V1 GORRA AGENTE CIVIL | C18: UN | D18: 1126 | E18: 48439 | G18: 48440 | I18: =IF(AND(E18>=G18),"SI","NO") -> NO | K18: =+E18*D18 -> 54542314 | M18: =+G18*D18 -> 54543440 | O18: =IF(AND(K18>=M18),"SI","NO") -> NO
A19: 9 | B19: SDM-FT-070-V1 CINTURÓN MULTIPROPÓSITO | C19: UN | D19: 600 | E19: 154508 | G19: 154509 | I19: =IF(AND(E19>=G19),"SI","NO") -> NO | K19: =+E19*D19 -> 92704800 | M19: =+G19*D19 -> 92705400 | O19: =IF(AND(K19>=M19),"SI","NO") -> NO
A20: 10 | B20: SDM-FT-090-V1 PRESILLAS | C20: UN | D20: 2400 | E20: 23883 | G20: 23884 | I20: =IF(AND(E20>=G20),"SI","NO") -> NO | K20: =+E20*D20 -> 57319200 | M20: =+G20*D20 -> 57321600 | O20: =IF(AND(K20>=M20),"SI","NO") -> NO
A21: 11 | B21: SDM-FT-080-V1 SILBATO | C21: UN | D21: 1200 | E21: 54512 | G21: 54513 | I21: =IF(AND(E21>=G21),"SI","NO") -> NO | K21: =+E21*D21 -> 65414400 | M21: =+G21*D21 -> 65415600 | O21: =IF(AND(K21>=M21),"SI","NO") -> NO
A22: 12 | B22: SDM-FT-100-V1 BRAZALETE | C22: UN | D22: 1200 | E22: 49820 | G22: 49821 | I22: =IF(AND(E22>=G22),"SI","NO") -> NO | K22: =+E22*D22 -> 59784000 | M22: =+G22*D22 -> 59785200 | O22: =IF(AND(K22>=M22),"SI","NO") -> NO
... A34: 24 | B34: SDM-FT-210-V1-BUZO POLAR | C34: UN | D34: 1200 | E34: 141564 | G34: 141565 | I34: =IF(AND(E34>=G34),"SI","NO") -> NO | K34: =+E34*D34 -> 169876800 | M34: =+G34*D34 -> 169878000 | O34: =IF(AND(K34>=M34),"SI","NO") -> NO
A35: TOTALES | E35: =SUM(E11:E34) -> 3229892 | G35: =SUM(G11:G34) -> 3229916 | I35: =IF(AND(E35>=G35),"SI","NO") -> NO | K35: =SUM(K11:K34) -> 2533080494 | M35: =SUM(M11:M34) -> 2533100589 | O35: =IF(AND(K35>=M35),"SI","NO") -> NO

Sheet DISTRIBUCION Y SERVICIO S A S
A1: DISCRIMINACION DE PROPUESTA ECONOMICA OBJETO: ADQUISICION DE UNIFORMES PARA EL PERSONAL QUE DESARROLLA LABORES DE CONTROL AL TRANSITO Y TRANSPORTE DE LA SECRETARIA DISTRITAL DE MOVILIDAD
A2: DATOS DEL PROPONENTE | C2: DISTRIBUCION Y SERVICIO S A S
A3: NOMBRE O RAZÓN SOCIAL | C3: DISTRIBUCION Y SERVICIO S A S
A4: NIT | C4: 900.568.704-1
A5: DIRECCIÓN DE CORRESPONDENCIA | C5: CARRERA 29 # 78-52 BOOGOTA D.C
A7: OFERTA DISTRIBUCION Y SERVICIO S A S
A8: Item | B8: DESCRIPCIÓN BIEN O SERVICIO | C8: Unidad de Medida | D8: Cantidad | E8: PRECIO OFERTADO UNITARIO INLCUIDO IVA | F8: PRECIO OFERTADO UNITARIO INLCUIDO IVA DESPUES DE SUBASTA | G8: PRECIO DE REFERENCIA UNITARIO INLCUIDO IVA | H8: PRECIO DE REFERENCIA UNITARIO INICIAL DE SUBASTA INCLUIDO IVA | I8: SUPERA PRECIO DE REFERENCIA UNITARIO INCLUIDO IVA | J8: SUPERA PRECIO DE REFERENCIA UNITARIO INICIAL EN SUBASTA INCLUIDO IVA | K8: PRECIO OFERTADO TOTAL INLCUIDO IVA | L8: PRECIO OFERTADO TOTAL INLCUIDO IVA DESPUES DE SUBASTA | M8: PRECIO DE REFERENCIA TOTAL INLCUIDO IVA | N8: PRECIO DE REFERENCIA TOTAL INICIAL DE SUBASTA INLCUIDO IVA | O8: SUPERA PRECIO DE REFERENCIA TOTAL INCLUIDO IVA | P8: SUPERA PRECIO DE REFERENCIA TOTAL INICIAL DE SUBASTA INCLUIDO IVA
A10: LOTE 2
A11: 1 | B11: SDM-FT-010-V2 CHAQUETA CON PROTECCIONES Y BOLSILLO PARA CÁMARA | C11: UN | D11: 1200 | E11: 490375 | G11: 490377 | I11: =IF(AND(E11>=G11),"SI","NO") -> NO | K11: =+E11*D11 -> 588450000 | M11: =+G11*D11 -> 588452400 | O11: =IF(AND(K11>=M11),"SI","NO") -> NO
A12: 2 | B12: SDM-FT-020-V2 CAMISETA TIPO POLO CON BOLSILLO PARA CÁMARA | C12: UN | D12: 2400 | E12: 130675 | G12: 130677 | I12: =IF(AND(E12>=G12),"SI","NO") -> NO | K12: =+E12*D12 -> 313620000 | M12: =+G12*D12 -> 313624800 | O12: =IF(AND(K12>=M12),"SI","NO") -> NO
A13: 3 | B13: SDM-FT-030-V1 CAMISETA CUELLO REDONDO | C13: UN | D13: 2230 | E13: 35010 | G13: 35012 | I13: =IF(AND(E13>=G13),"SI","NO") -> NO | K13: =+E13*D13 -> 78072300 | M13: =+G13*D13 -> 78076760 | O13: =IF(AND(K13>=M13),"SI","NO") -> NO
A14: 4 | B14: SDM-FT-050-V1 PANTALÓN TIPO BREECHE | C14: UN | D14: 2400 | E14: 215230 | G14: 215232 | I14: =IF(AND(E14>=G14),"SI","NO") -> NO | K14: =+E14*D14 -> 516552000 | M14: =+G14*D14 -> 516556800 | O14: =IF(AND(K14>=M14),"SI","NO") -> NO
A15: 5 | B15: SDM-FT-060-V1 GORRA COMANDANTE | C15: UN | D15: 25 | E15: 69690 | G15: 69693 | I15: =IF(AND(E15>=G15),"SI","NO") -> NO | K15: =+E15*D15 -> 1742250 | M15: =+G15*D15 -> 1742325 | O15: =IF(AND(K15>=M15),"SI","NO") -> NO
A16: 6 | B16: SDM-FT-061-V1 GORRA SUBCOMANDANTE | C16: UN | D16: 30 | E16: 62880 | G16: 62881 | I16: =IF(AND(E16>=G16),"SI","NO") -> NO | K16: =+E16*D16 -> 1886400 | M16: =+G16*D16 -> 1886430 | O16: =IF(AND(K16>=M16),"SI","NO") -> NO
A17: 7 | B17: SDM-FT-062-V1 GORRA TÉCNICO OPERATIVO | C17: UN | D17: 101 | E17: 54865 | G17: 54866 | I17: =IF(AND(E17>=G17),"SI","NO") -> NO | K17: =+E17*D17 -> 5541365 | M17: =+G17*D17 -> 5541466 | O17: =IF(AND(K17>=M17),"SI","NO") -> NO
A18: 8 | B18: SDM-FT-063-V1 GORRA AGENTE CIVIL | C18: UN | D18: 1126 | E18: 48435 | G18: 48440 | I18: =IF(AND(E18>=G18),"SI","NO") -> NO | K18: =+E18*D18 -> 54537810 | M18: =+G18*D18 -> 54543440 | O18: =IF(AND(K18>=M18),"SI","NO") -> NO
A19: 9 | B19: SDM-FT-070-V1 CINTURÓN MULTIPROPÓSITO | C19: UN | D19: 600 | E19: 154505 | G19: 154509 | I19: =IF(AND(E19>=G19),"SI","NO") -> NO | K19: =+E19*D19 -> 92703000 | M19: =+G19*D19 -> 92705400 | O19: =IF(AND(K19>=M19),"SI","NO") -> NO
A20: 10 | B20: SDM-FT-090-V1 PRESILLAS | C20: UN | D20: 2400 | E20: 23880 | G20: 23884 | I20: =IF(AND(E20>=G20),"SI","NO") -> NO | K20: =+E20*D20 -> 57312000 | M20: =+G20*D20 -> 57321600 | O20: =IF(AND(K20>=M20),"SI","NO") -> NO
A21: 11 | B21: SDM-FT-080-V1 SILBATO | C21: UN | D21: 1200 | E21: 54510 | G21: 54513 | I21: =IF(AND(E21>=G21),"SI","NO") -> NO | K21: =+E21*D21 -> 65412000 | M21: =+G21*D21 -> 65415600 | O21: =IF(AND(K21>=M21),"SI","NO") -> NO
A22: 12 | B22: SDM-FT-100-V1 BRAZALETE | C22: UN | D22: 1200 | E22: 49820 | G22: 49821 | I22: =IF(AND(E22>=G22),"SI","NO") -> NO | K22: =+E22*D22 -> 59784000 | M22: =+G22*D22 -> 59785200 | O22: =IF(AND(K22>=M22),"SI","NO") -> NO
... A34: 24 | B34: SDM-FT-210-V1-BUZO POLAR | C34: UN | D34: 1200 | E34: 141564 | G34: 141565 | I34: =IF(AND(E34>=G34),"SI","NO") -> NO | K34: =+E34*D34 -> 169876800 | M34: =+G34*D34 -> 169878000 | O34: =IF(AND(K34>=M34),"SI","NO") -> NO
A35: TOTALES | E35: =SUM(E11:E34) -> 3229859 | G35: =SUM(G11:G34) -> 3229916 | I35: =IF(AND(E35>=G35),"SI","NO") -> NO | K35: =SUM(K11:K34) -> 2533049860 | M35: =SUM(M11:M34) -> 2533100589 | O35: =IF(AND(K35>=M35),"SI","NO") -> NO

Sheet MILITARY INDUSTRIES SAS
A1: DISCRIMINACION DE PROPUESTA ECONOMICA OBJETO: ADQUISICION DE UNIFORMES PARA EL PERSONAL QUE DESARROLLA LABORES DE CONTROL AL TRANSITO Y TRANSPORTE DE LA SECRETARIA DISTRITAL DE MOVILIDAD
A2: DATOS DEL PROPONENTE | C2: MILITARY INDUSTRIES SAS
A3: NOMBRE O RAZÓN SOCIAL | C3: MILITARY INDUSTRIES SAS
A4: NIT | C4: 900.975.479-2
A5: DIRECCIÓN DE CORRESPONDENCIA | C5: CR 49 A NO. 86 A 04 BOGOTA D.C
A7: OFERTA MILITARY INDUSTRIES SAS
A8: LOTE 1
A9: Item | B9: DESCRIPCIÓN BIEN O SERVICIO | C9: Unidad de Medida | D9: Cantidad | E9: PRECIO OFERTADO UNITARIO INLCUIDO IVA | F9: PRECIO OFERTADO UNITARIO INLCUIDO IVA DESPUES DE SUBASTA | G9: PRECIO DE REFERENCIA UNITARIO INLCUIDO IVA | H9: PRECIO DE REFERENCIA UNITARIO INICIAL DE SUBASTA INCLUIDO IVA | I9: SUPERA PRECIO DE REFERENCIA UNITARIO INCLUIDO IVA | J9: SUPERA PRECIO DE REFERENCIA UNITARIO INICIAL EN SUBASTA INCLUIDO IVA | K9: PRECIO OFERTADO TOTAL INLCUIDO IVA | L9: PRECIO OFERTADO TOTAL INLCUIDO IVA DESPUES DE SUBASTA | M9: PRECIO DE REFERENCIA TOTAL INLCUIDO IVA | N9: PRECIO DE REFERENCIA TOTAL INICIAL DE SUBASTA INLCUIDO IVA | O9: SUPERA PRECIO DE REFERENCIA TOTAL INCLUIDO IVA | P9: SUPERA PRECIO DE REFERENCIA TOTAL INICIAL DE SUBASTA INCLUIDO IVA
A11: 1 | B11: CAMISETA TIPO POLO AMARILLO FLUORESCENTE PARA TRÁNSITO (ETPN-217) | C11: UN | D11: 2100 | E11: 150400 | G11: 150404 | I11: =IF(AND(E11>=G11),"SI","NO") -> NO | K11: =+E11*D11 -> 315840000 | M11: =+G11*D11 -> 315848400 | O11: =IF(AND(K11>=M11),"SI","NO") -> NO
A12: 2 | B12: PANTALÓN TIPO BREECHE MASCULINO (NTMD-0348) | C12: UN | D12: 1143 | E12: 220030 | G12: 220036 | I12: =IF(AND(E12>=G12),"SI","NO") -> NO | K12: =+E12*D12 -> 251494290 | M12: =+G12*D12 -> 251501148 | O12: =IF(AND(K12>=M12),"SI","NO") -> NO
A13: 3 | B13: PANTALÓN TIPO BREECHE FEMENINO (NTMD-0347) | C13: UN | D13: 957 | E13: 219510 | G13: 219513 | I13: =IF(AND(E13>=G13),"SI","NO") -> NO | K13: =+E13*D13 -> 210071070 | M13: =+G13*D13 -> 210073941 | O13: =IF(AND(K13>=M13),"SI","NO") -> NO
A14: 4 | B14: 4 CHAQUETA DE SERVICIO NTMD-0184 | C14: UN | D14: 700 | E14: 405155 | G14: 405157 | I14: =IF(AND(E14>=G14),"SI","NO") -> NO | K14: =+E14*D14 -> 283608500 | M14: =+G14*D14 -> 283609900 | O14: =IF(AND(K14>=M14),"SI","NO") -> NO
A15: 5 | B15: CAMISETA INTERNA VERDE (NTMD-0077-A9) | C15: UN | D15: 2100 | E15: 58090 | G15: 58099 | I15: =IF(AND(E15>=G15),"SI","NO") -> NO | K15: =+E15*D15 -> 121989000 | M15: =+G15*D15 -> 122007900 | O15: =IF(AND(K15>=M15),"SI","NO") -> NO
A16: 6 | B16: BRAZALETE REFLECTIVO FUERZA PÚBLICA (NTMD-0167) | C16: UN | D16: 1300 | E16: 56110 | G16: 56117 | I16: =IF(AND(E16>=G16),"SI","NO") -> NO | K16: =+E16*D16 -> 72943000 | M16: =+G16*D16 -> 72952100 | O16: =IF(AND(K16>=M16),"SI","NO") -> NO
A17: 7 | B17: IMPERMEABLE DE TRES PIEZAS EN TELA VINÍLICA | C17: UN | D17: 550 | E17: 521220 | G17: 521226 | I17: =IF(AND(E17>=G17),"SI","NO") -> NO | K17: =+E17*D17 -> 286671000 | M17: =+G17*D17 -> 286674300 | O17: =IF(AND(K17>=M17),"SI","NO") -> NO
A18: 8 | B18: BLUSA PERSONAL CRIMINALISTICA (ET-PN-112) | C18: UN | D18: 20 | E18: 129840 | G18: 129842 | I18: =IF(AND(E18>=G18),"SI","NO") -> NO | K18: =+E18*D18 -> 2596800 | M18: =+G18*D18 -> 2596840 | O18: =IF(AND(K18>=M18),"SI","NO") -> NO
A19: 9 | B19: PITO (ET-PN-102) | C19: UN | D19: 700 | E19: 30460 | G19: 30463 | I19: =IF(AND(E19>=G19),"SI","NO") -> NO | K19: =+E19*D19 -> 21322000 | M19: =+G19*D19 -> 21324100 | O19: =IF(AND(K19>=M19),"SI","NO") -> NO
A20: TOTALES | E20: =SUM(E11:E19) -> 1790815 | G20: =SUM(G11:G19) -> 1790857 | I20: =IF(AND(E20>=G20),"SI","NO") -> NO | K20: =SUM(K11:K19) -> 1566535660 | M20: =SUM(M11:M19) -> 1566588629 | O20: =IF(AND(K20>=M20),"SI","NO") -> NO
A21: LOTE 2
A22: 1 | B22: SDM-FT-010-V2 CHAQUETA CON PROTECCIONES Y BOLSILLO PARA CÁMARA | C22: UN | D22: 1200 | E22: 490370 | G22: 490377 | I22: =IF(AND(E22>=G22),"SI","NO") -> NO | K22: =+E22*D22 -> 588444000 | M22: =+G22*D22 -> 588452400 | O22: =IF(AND(K22>=M22),"SI","NO") -> NO
A23: 2 | B23: SDM-FT-020-V2 CAMISETA TIPO POLO CON BOLSILLO PARA CÁMARA | C23: UN | D23: 2400 | E23: 130670 | G23: 130677 | I23: =IF(AND(E23>=G23),"SI","NO") -> NO | K23: =+E23*D23 -> 313608000 | M23: =+G23*D23 -> 313624800 | O23: =IF(AND(K23>=M23),"SI","NO") -> NO
A24: 3 | B24: SDM-FT-030-V1 CAMISETA CUELLO REDONDO | C24: UN | D24: 2230 | E24: 35010 | G24: 35012 | I24: =IF(AND(E24>=G24),"SI","NO") -> NO | K24: =+E24*D24 -> 78072300 | M24: =+G24*D24 -> 78076760 | O24: =IF(AND(K24>=M24),"SI","NO") -> NO
A25: 4 | B25: SDM-FT-050-V1 PANTALÓN TIPO BREECHE | C25: UN | D25: 2400 | E25: 215230 | G25: 215232 | I25: =IF(AND(E25>=G25),"SI","NO") -> NO | K25: =+E25*D25 -> 516552000 | M25: =+G25*D25 -> 516556800 | O25: =IF(AND(K25>=M25),"SI","NO") -> NO
A26: 5 | B26: SDM-FT-060-V1 GORRA COMANDANTE | C26: UN | D26: 25 | E26: 69690 | G26: 69693 | I26: =IF(AND(E26>=G26),"SI","NO") -> NO | K26: =+E26*D26 -> 1742250 | M26: =+G26*D26 -> 1742325 | O26: =IF(AND(K26>=M26),"SI","NO") -> NO
A27: 6 | B27: SDM-FT-061-V1 GORRA SUBCOMANDANTE | C27: UN | D27: 30 | E27: 62880 | G27: 62881 | I27: =IF(AND(E27>=G27),"SI","NO") -> NO | K27: =+E27*D27 -> 1886400 | M27: =+G27*D27 -> 1886430 | O27: =IF(AND(K27>=M27),"SI","NO") -> NO
A28: 7 | B28: SDM-FT-062-V1 GORRA TÉCNICO OPERATIVO | C28: UN | D28: 101 | E28: 54860 | G28: 54866 | I28: =IF(AND(E28>=G28),"SI","NO") -> NO | K28: =+E28*D28 -> 5540860 | M28: =+G28*D28 -> 5541466 | O28: =IF(AND(K28>=M28),"SI","NO") -> NO
A29: 8 | B29: SDM-FT-063-V1 GORRA AGENTE CIVIL | C29: UN | D29: 1126 | E29: 48440 | G29: 48440 | I29: NO | K29: =+E29*D29 -> 54543440 | M29: =+G29*D29 -> 54543440 | O29: NO
A30: 9 | B30: SDM-FT-070-V1 CINTURÓN MULTIPROPÓSITO | C30: UN | D30: 600 | E30: 154500 | G30: 154509 | I30: =IF(AND(E30>=G30),"SI","NO") -> NO | K30: =+E30*D30 -> 92700000 | M30: =+G30*D30 -> 92705400 | O30: =IF(AND(K30>=M30),"SI","NO") -> NO
A31: 10 | B31: SDM-FT-090-V1 PRESILLAS | C31: UN | D31: 2400 | E31: 23880 | G31: 23884 | I31: =IF(AND(E31>=G31),"SI","NO") -> NO | K31: =+E31*D31 -> 57312000 | M31: =+G31*D31 -> 57321600 | O31: =IF(AND(K31>=M31),"SI","NO") -> NO
A32: 11 | B32: SDM-FT-080-V1 SILBATO | C32: UN | D32: 1200 | E32: 54510 | G32: 54513 | I32: =IF(AND(E32>=G32),"SI","NO") -> NO | K32: =+E32*D32 -> 65412000 | M32: =+G32*D32 -> 65415600 | O32: =IF(AND(K32>=M32),"SI","NO") -> NO
A33: 12 | B33: SDM-FT-100-V1 BRAZALETE | C33: UN | D33: 1200 | E33: 49820 | G33: 49821 | I33: =IF(AND(E33>=G33),"SI","NO") -> NO | K33: =+E33*D33 -> 59784000 | M33: =+G33*D33 -> 59785200 | O33: =IF(AND(K33>=M33),"SI","NO") -> NO
A34: 13 | B34: SDM-FT-110-V1 MOÑO O REDECILLA | C34: UN | D34: 315 | E34: 26080 | G34: 26088 | I34: =IF(AND(E34>=G34),"SI","NO") -> NO | K34: =+E34*D34 -> 8215200 | M34: =+G34*D34 -> 8217720 | O34: =IF(AND(K34>=M34),"SI","NO") -> NO
A35: 14 | B35: SDM-FT-130-V1 BUFF | C35: UN | D35: 1200 | E35: 54120 | G35: 54126 | I35: =IF(AND(E35>=G35),"SI","NO") -> NO | K35: =+E35*D35 -> 64944000 | M35: =+G35*D35 -> 64951200 | O35: =IF(AND(K35>=M35),"SI","NO") -> NO
A36: 15 | B36: SDM-FT-140-V1 PLACA | C36: UN | D36: 20 | E36: 136650 | G36: 136654 | I36: =IF(AND(E36>=G36),"SI","NO") -> NO | K36: =+E36*D36 -> 2733000 | M36: =+G36*D36 -> 2733080 | O36: =IF(AND(K36>=M36),"SI","NO") -> NO
A37: 16 | B37: UNIFORME DE MATERNIDAD | C37: UN | D37: 4 | E37: 191870 | G37: 191876 | I37: =IF(AND(E37>=G37),"SI","NO") -> NO | K37: =+E37*D37 -> 767480 | M37: =+G37*D37 -> 767504 | O37: =IF(AND(K37>=M37),"SI","NO") -> NO
A38: 17 | B38: CALZADO DE MATERNIDAD (NTMD-0269-A1) | C38: UN | D38: 4 | E38: 216410 | G38: 216416 | I38: =IF(AND(E38>=G38),"SI","NO") -> NO | K38: =+E38*D38 -> 865640 | M38: =+G38*D38 -> 865664 | O38: =IF(AND(K38>=M38),"SI","NO") -> NO
A39: 18 | B39: SDM-FT-160-V1 CHAQUETILLA DE SOBREPONER | C39: UN | D39: 600 | E39: 277970 | G39: 277976 | I39: =IF(AND(E39>=G39),"SI","NO") -> NO | K39: =+E39*D39 -> 166782000 | M39: =+G39*D39 -> 166785600 | O39: =IF(AND(K39>=M39),"SI","NO") -> NO
A40: 19 | B40: SDM-FT-011-V1-ACCESORIO PARA CÁMARA | C40: UN | D40: 1200 | E40: 150000 | G40: 150000 | I40: NO | K40: =+E40*D40 -> 180000000 | M40: =+G40*D40 -> 180000000 | O40: NO
A41: 20 | B41: SDM-FT-170-V1-CAMISETA INTERNA PARA CICLISTA | C41: UN | D41: 160 | E41: 76430 | G41: 76431 | I41: =IF(AND(E41>=G41),"SI","NO") -> NO | K41: =+E41*D41 -> 12228800 | M41: =+G41*D41 -> 12228960 | O41: =IF(AND(K41>=M41),"SI","NO") -> NO
A42: 21 | B42: SDM-FT-180-V1-PANTALÓN CONVERTIBLE PARA CICLISTA | C42: UN | D42: 160 | E42: 193070 | G42: 193079 | I42: =IF(AND(E42>=G42),"SI","NO") -> NO | K42: =+E42*D42 -> 30891200 | M42: =+G42*D42 -> 30892640 | O42: =IF(AND(K42>=M42),"SI","NO") -> NO
A43: 22 | B43: SDM-FT-190-V1-CHAQUETA PARA CICLISTA | C43: UN | D43: 160 | E43: 219360 | G43: 219362 | I43: =IF(AND(E43>=G43),"SI","NO") -> NO | K43: =+E43*D43 -> 35097600 | M43: =+G43*D43 -> 35097920 | O43: =IF(AND(K43>=M43),"SI","NO") -> NO
A44: 23 | B44: SDM-FT-200-LYCRA PARA CICLISTA CON BADANA | C44: UN | D44: 160 | E44: 156430 | G44: 156438 | I44: =IF(AND(E44>=G44),"SI","NO") -> NO | K44: =+E44*D44 -> 25028800 | M44: =+G44*D44 -> 25030080 | O44: =IF(AND(K44>=M44),"SI","NO") -> NO
A45: 24 | B45: SDM-FT-210-V1-BUZO POLAR | C45: UN | D45: 1200 | E45: 141560 | G45: 141565 | I45: =IF(AND(E45>=G45),"SI","NO") -> NO | K45: =+E45*D45 -> 169872000 | M45: =+G45*D45 -> 169878000 | O45: =IF(AND(K45>=M45),"SI","NO") -> NO
A46: TOTALES | E46: =SUM(E22:E45) -> 3229810 | G46: =SUM(G22:G45) -> 3229916 | I46: =IF(AND(E46>=G46),"SI","NO") -> NO | K46: =SUM(K22:K45) -> 2533022970 | M46: =SUM(M22:M45) -> 2533100589 | O46: =IF(AND(K46>=M46),"SI","NO") -> NO

Sheet PRECIOS ARTIFICIALMENTE BAJOS 
A2: VERIFICACION PRECIOS ARTIFICIALMENTE BAJOS
A5: LOTE 1
A6: MINIMO ACEPTABLE PRESUPUESTO OFICIAL 20% | B6: =+B7-(B7*20%) -> 1.2532709e+09
A7: PRESUPUESTO OFICIAL | B7: =+'INFORME SDM-PSA-SIE-40-2026'!E4 -> 1566588629
A8: EMPRESA | B8: VALOR OFERTA EN SUBASTA
A9: DISMOTOS PATRICIA MEJIA E U | B9: 1526540755
A10: ALSAVA SAS | B10: NO PRESENTO LANCES EN SUBASTA
A11: MILITARY INDUSTRIES SAS | B11: NO PRESENTO LANCES EN SUBASTA
A14: LOTE 2
A15: MINIMO ACEPTABLE PRESUPUESTO OFICIAL 20% | B15: =+B16-(B16*20%) -> 2.0264805e+09
A16: PRESUPUESTO OFICIAL | B16: =+'INFORME SDM-PSA-SIE-40-2026'!E5 -> 2533100589
A17: EMPRESA | B17: VALOR OFERTA EN SUBASTA
A18: DISMOTOS PATRICIA MEJIA E U | B18: 2468534020
A19: BOSTONIA SAS | B19: NO PRESENTO LANCES EN SUBASTA
A20: DISTRIBUCION Y SERVICIO S A S | B20: NO PRESENTO LANCES EN SUBASTA
A21: MILITARY INDUSTRIES SAS | B21: NO PRESENTO LANCES EN SUBASTA
