Workbook

Sheet AIU
A7: DESGLOSE DEL A.I.U.
A8: Cálculo pormenorizado del factor Administración, Imprevistos y Utilidades. AIU | L8: =+L10*0.2 -> 0
A10: No | B10: DESCRIPCIÓN | G10: PORCENTAJES % Y CANTIDADES ESTIMADAS | H10: UNIDAD | I10: PORCENTAJE % Y CANTIDAD REAL | L10: =+K10/1.28 -> 0
I11: C. DIRECTO | J11: =+PTO!H18 -> 68140936
A12: VALOR ADMINISTRACIÓN DE OBRA | K12: 5826620802 | L12: 4482016002 | M12: =+L12*0.3 -> 1.3446048e+09 | N12: =+L12+M12 -> 5.8266208e+09
A13: 1 | B13: PERSONAL DE OBRA (incl. Prestaciones) | C13: DURACION | D13: CANTIDAD | E13: FACTOR PRESTACIONAL | F13: VALOR UNITARIO | G13: DEDICACION | I13: =SUM(I14:I16) -> 0.078921428 | J13: =SUM(J14:J16) -> 5377780 | L13: =SUM(L14:L16) -> 0.013010724
A14: 1.1 | B14: Director de Obra | C14: 1 | D14: 1 | E14: 1.5817 | F14: 4500000 | G14: 0 | H14: % | I14: =+J14/$J$11 -> 0 | J14: =F14*E14*G14*C14*D14 -> 0 | K14: 15152528 | L14: =+K14/$L$12 -> 0.0033807393
A15: 1.2 | B15: Residente de Obra | C15: 1 | D15: 1 | E15: =+E14 -> 1.5817 | F15: 3400000 | G15: 1 | H15: % | I15: =+J15/$J$11 -> 0.078921428 | J15: =F15*E15*G15*C15*D15 -> 5377780 | K15: 34896730 | L15: =+K15/$L$12 -> 0.007785945
A16: 1.3 | B16: Especialista Ambiental | C16: 1 | D16: 0 | E16: =+E15 -> 1.5817 | F16: 3750000 | G16: 0.3 | H16: % | I16: =+J16/$J$11 -> 0 | J16: =F16*E16*G16*C16*D16 -> 0 | K16: 8265015 | L16: =+K16/$L$12 -> 0.0018440396
A17: 2 | B17: GASTOS DE LEGALIZACION Y PERFECCIONAMIENTO | G17: =SUM(G18:G27) -> 0.1673 | I17: =SUM(I18:I27) -> 0.1673 | J17: =+SUM(J18:J27) -> 11399979 | L17: =+K17/$L$12 -> 0
A18: 2.1 | B18: Póliza de cumplimiento | G18: 0.0015 | H18: % | I18: =J18/$J$11 -> 0.0015 | J18: =G18*$J$11 -> 102211.4 | L18: =+I18*$L$12 -> 6723024
A19: 2.2 | B19: Amparo de salarios y prest. Sociales | G19: 0.0015 | H19: % | I19: =J19/$J$11 -> 0.0015 | J19: =G19*$J$11 -> 102211.4
A20: 2.3 | B20: Estabilidad de obra | G20: 0.0033 | H20: % | I20: =J20/$J$11 -> 0.0033 | J20: =G20*$J$11 -> 224865.09
A21: 2.4 | B21: Responsabilidad civil extracontractual | G21: 0.001 | H21: % | I21: =J21/$J$11 -> 0.001 | J21: =G21*$J$11 -> 68140.936
A22: 2.5 | B22: Estampilla Pro Adulto | G22: 0.04 | H22: % | I22: =J22/$J$11 -> 0.04 | J22: =G22*$J$11 -> 2725637.5
A23: 2.6 | B23: Estampilla Pro Cultura | G23: 0.02 | H23: % | I23: =J23/$J$11 -> 0.02 | J23: =G23*$J$11 -> 1362818.7 | L23: =+I23*$L$12 -> 89640320
A24: 2.7 | B24: Tasa Pro Deporte | G24: 0.02 | H24: % | I24: =J24/$J$11 -> 0.02 | J24: =G24*$J$11 -> 1362818.7
A25: 2.8 | B25: Estampilla Justicia Familiar | G25: 0.02 | H25: % | I25: =J25/$J$11 -> 0.02 | J25: =G25*$J$11 -> 1362818.7
A26: 2.9 | B26: Fondo de seguridad | G26: 0.05 | H26: % | I26: =J26/$J$11 -> 0.05 | J26: =G26*$J$11 -> 3407046.8
A27: 2.9 | B27: Estampilla de Electrificación rural | G27: 0.01 | H27: % | I27: =J27/$J$11 -> 0.01 | J27: =G27*$J$11 -> 681409.36
A28: 3 | B28: GASTOS DE LEGALIZACION Y PERFECCIONAMIENTO | I28: =SUM(I29:I31) -> 0.013778572 | J28: =+SUM(J29:J31) -> 938884.82 | L28: =+K28/$L$12 -> 0
A29: 3.1 | B29: Alquiler de oficina | C29: 1 | F29: 600000 | I29: =J29/$J$11 -> 0.0088052796 | J29: =+F29*C29 -> 600000 | L29: =+I29*$L$12 -> 39465404
A30: 3.2 | B30: Transporte | F30: 800000 | I30: =J30/$J$11 -> 0 | J30: =+F30*C30 -> 0
A31: 3.3 | B31: Informes y papeleria | C31: 1 | F31: 338884.82 | I31: =J31/$J$11 -> 0.0049732927 | J31: =+F31*C31 -> 338884.82
B32: PORCENTAJE ADMINISTRACION | I32: =I17+I13+I28 -> 0.26 | J32: =J13+J17+J28 -> 17716644 | L32: =+L12*22/100 -> 9.8604352e+08 | M32: =+J32-L32 -> -9.6832688e+08
B34: VALOR IMPREVISTOS | I34: 0.02 | J34: =+I34*J11 -> 1362818.7 | L34: =+L12*3/100 -> 1.3446048e+08
B36: VALOR UTILIDAD | I36: 0.04 | J36: =I36*J11 -> 2725637.5 | L36: =+L12*5/100 -> 2.241008e+08
B38: TOTAL A.I.U. | I38: =+I32+I34+I36 -> 0.32 | J38: =+J32+J34+J36 -> 21805100
A41: ARQ. LINA MARITZA BOCANEGRA QUINTERO | L41: =+J33+J35+J37 -> 0
A42: Secretario de Planeación e Infraestructura

Sheet LIST
A1: ID | B1: DESCRIPCIÓN | C1: UNIDAD | D1: V/UNIT
A2: P | B2: PRELIMINARES (P)
A3: P-0001 | B3: DEMOLICIÓN PLACA e= 0.10m INCLUYE TRANSPORTE | C3: M2 | D3: =+'P-0001'!H48 -> 42831 | F3: =+TEXT(LIST[[#This Row],[ID]],"XXXXXX") -> P-0001
A4: P-0002 | B4: DEMOLICIÓN MURO LADRILLO HASTA 15 CM ANCHO, INCLUYE RETIRO DE ESCOMBROS A 5 KM | C4: M2 | D4: =+'P-0002'!H48 -> 29966
A5: P-0003 | B5: DESMONTE DE MOTOBOMBAS, TABLEROS, Y ELEMENTOS ELECTRONICOS. | C5: GLOBAL | D5: =+'P-0003'!H48 -> 719688
A6: P-0004 | B6: RETIRO DE ADOQUIN DEFECTUOSO Y EN MAL ESTADO | C6: M2 | D6: =+'P-0004'!H48 -> 16553
A7: P-0005 | B7: EXCAVACIÓN MANUAL EN MATERIAL COMÚN 0-2 MTS | C7: M3 | D7: =+'P-0005'!H45 -> 41022
A8: P-0006 | B8: RELLENO EN ARENA | C8: M3 | D8: =+'P-0006'!H48 -> 388247
A9: P-0007 | B9: DESMONTE DE APARATOS SANITARIOS | C9: UND | D9: =+'P-0007'!H48 -> 93559
A10: P-0008 | B10: LOCALIZACIÓN Y REPLANTEO (AREA) | C10: M2 | D10: =+'P-0008'!H48 -> #N/A
A11: P-0009 | B11: DEMOLICIÓN DE PLACA CONCRETO e=0.15m INCLUYE TRANSPORTE | C11: M2 | D11: =+'P-0009'!H48 -> 50982
A12: P-0010 | B12: DEMOLICIÓN DE MURO EN CONCRETO REFORZADO INCLUYE TRANSPORTE | C12: M2 | D12: =+'P-0010'!H48 -> 75162
A13: P-0011 | B13: EXCAVACIÓN MECANICA EN MATERIAL COMÚN | C13: M3 | D13: =+'P-0011'!H48 -> 30161
A14: P-0012 | B14: RELLENO EN RECEBO COMPACTADO | C14: M3 | D14: =+'P-0012'!H48 -> 158481
A15: P-0013 | B15: DESCAPOTE MANUAL DE TERRENO E=0,15 CM, INCLUYE RETIRO | C15: M2 | D15: =+'P-0013'!H48 -> 12504
A16: P-0014 | B16: DESMONTE DE CUBIERTA EXISTENTE | C16: M2 | D16: =+'P-0014'!H48 -> 20830
A17: P-0015 | B17: LAVADO DE SUPERFICIE DE CANCHA CON ACIDO MURIATICO 10% | C17: M2 | D17: =+'P-0015'!H48 -> 5449
A18: P-0016 | B18: CERRAMIENTO EN LONA VERDE PROVISIONAL H:2 METROS | C18: M | D18: =+'P-0016'!H48 -> 12708
A19: P-0017 | B19: DEMOLICIÓN DE PAVIMENTO EN CONCRETO RIGIDO, INCLUYE RETIRO | C19: M3 | D19: =+'P-0017'!H48 -> 52406
A24: PTA | B24: PISOS CERAMICOS, TERMINADOS Y ACABADOS (PTA)
A25: PTA-001 | B25: ADOQUIN RECTANGULAR ADOP-A O SIMILAR COLOR GRIS (20 X10X 8) | C25: M2 | D25: =+'PTA-001'!H45 -> 210966
A26: PTA-002 | B26: ADOQUIN INDUPISO PIZARRA O SIMILAR COLOR ARENA (20X20X8) | C26: M2 | D26: =+'PTA-002'!H45 -> 199216
A27: PTA-003 | B27: PINTURA DE SILLAS REDONDAS DIAMETRO 50CM H=60CM TIPO 1 EXTERIOR COLOR BLANCO (INCLUYE RESANE) | C27: UND | D27: =+'PTA-003'!H45 -> 102188
A28: PTA-004 | B28: PINTURA DE MATERA RECTANGULAR 40X60X30 TIPO 1 EXTERIOR COLOR BLANCO (INCLUYE RESANE) | C28: UND | D28: =+'PTA-004'!H48 -> 108719
A29: PTA-005 | B29: MURO EN BLOQUE ABUJARDADO CON DOVELAS 14X19X39 PARA ALCORQUE DE ARBOL | C29: M2 | D29: =+'PTA-005'!H48 -> 143058
A30: PTA-006 | B30: ALFAGIA PREFABRICADA DE ANCHO 25CMX100CM | C30: M | D30: =+'PTA-006'!H48 -> 71941
A31: PTA-007 | B31: CIELO RASO PVC 9 MM INCLUYE ESTRUCTURA | C31: M2 | D31: =+'PTA-007'!H48 -> 71344
A32: PTA-008 | B32: ENCHAPE EN GRES ROJO | C32: M2 | D32: =+'PTA-008'!H48 -> 129294
A33: PTA-009 | B33: PINTURA TIPO 1 INTERIOR, DOS MANOS | C33: M2 | D33: =+'PTA-009'!H48 -> 16372
A34: PTA-010 | B34: RESANE EN ESTUCO ACRILICO 100% | C34: M2 | D34: =+'PTA-010'!H48 -> 16395
A35: PTA-011 | B35: PINTURA TIPO 1 EXTERIOR 100% ACRILICA, DOS MANOS | C35: M2 | D35: =+'PTA-011'!H48 -> 21848
A36: PTA-012 | B36: POLARIZADO PARA VENTANAS PELICULA PROTECCIÓN 100% UV 2 MM | C36: M2 | D36: =+'PTA-012'!H48 -> 91611
A37: PTA-013 | B37: ENCHAPE CERAMICO 20X30 CM COLOR BLANCO (PARED) | C37: M2 | D37: =+'PTA-013'!H48 -> 89850
A38: PTA-014 | B38: PINTURA ESMALTE ELEMENTOS METALICOS (AREA) | C38: M2 | D38: =+'PTA-014'!H48 -> 20161
A39: PTA-015 | B39: PINTURA ESMALTE ELEMENTOS METALICOS (LINEAL BARANDA) | C39: M | D39: =+'PTA-015'!H48 -> 14102
A40: PTA-016 | B40: MURAL DECORATIVO CON IDENTIFICACIÓN CULTURAL | C40: M2 | D40: =+'PTA-016'!H48 -> 54084
A41: PTA-017 | B41: RECUBRIMIENTO DE TRUFLEX ANTIDESLIZANTE DE 3 CAPAS (UNA BASE DE CUARZO Y DOS CAPAS DE COLOR) PARA ZONA EQUIPOS BIOSALUDABLES Y PARQUE INFANTIL. | C41: M2 | D41: =+'PTA-017'!H48 -> 118313
A42: PTA-018 | B42: PINTURA ACRILICA PARA TRAFICO PESADO TIPO CANCHA Y/O PISOS SOBRE UNA BASE EN IMPRIMANTE EPOXICO DE DOS COMPONENTES, PARA DEMARCACION DE CANCHA MULTIPLE (VOLEIBOL, MICROFUTBOL Y BALONCESTO) (2 MANOS) | C42: M2 | D42: =+'PTA-018'!H48 -> 38921
A43: PTA-019 | B43: SUMINISTRO E INSTALACIÓN DE LADRILLO TOLETE 25X12X6CM | C43: M2 | D43: =+'PTA-019'!H48 -> 86053
A44: PTA-020 | B44: PAÑETE MURO 1:4 E=0.02M | C44: M2 | D44: =+'PTA-020'!H48 -> 32597
...

Sheet REND
A1: ID | B1: DESCRIPCIÓN | C1: UND | D1: TRABAJO | E1: RENDIMIENTO (1) | F1: RENDIMIENTO (2) | G1: RENDIMIENTO (3) | H1: RENDIMIENTO (4) | I1: RENDIMIENTO (5)
A2: =+LIST!A1 -> ID | E2: 1 OFC Y 1 AYUD | F2: 1 OFC Y 2 AYUD | G2: 1 OFC Y 3 AYUD | H2: 1 OFC Y 4 AYUD | I2: 1 OFC Y 5 AYUD
A3: =+LIST!A2 -> P | B3: =+LIST!B2 -> PRELIMINARES (P)
A4: =+LIST!A3 -> P-0001 | B4: =+_xlfn.XLOOKUP($A4,LIST[ID],LIST[DESCRIPCIÓN]) -> DEMOLICIÓN PLACA e= 0.10m INCLUYE TRANSPORTE | C4: =+_xlfn.XLOOKUP($A4,LIST[ID],LIST[UNIDAD]) -> M2 | D4: HH | E4: 0.8 | F4: 0.55 | G4: 0.4 | H4: 0.35
A5: =+LIST!A4 -> P-0002 | B5: =+_xlfn.XLOOKUP($A5,LIST[ID],LIST[DESCRIPCIÓN]) -> DEMOLICIÓN MURO LADRILLO HASTA 15 CM ANCHO, INCLUYE RETIRO DE ESCOMBROS A 5 KM | C5: =+_xlfn.XLOOKUP($A5,LIST[ID],LIST[UNIDAD]) -> M2 | D5: HH | F5: 0.5
A6: =+LIST!A5 -> P-0003 | B6: =+_xlfn.XLOOKUP($A6,LIST[ID],LIST[DESCRIPCIÓN]) -> DESMONTE DE MOTOBOMBAS, TABLEROS, Y ELEMENTOS ELECTRONICOS. | C6: =+_xlfn.XLOOKUP($A6,LIST[ID],LIST[UNIDAD]) -> GLOBAL | D6: HH | G6: 10
A7: =+LIST!A6 -> P-0004 | B7: =+_xlfn.XLOOKUP($A7,LIST[ID],LIST[DESCRIPCIÓN]) -> RETIRO DE ADOQUIN DEFECTUOSO Y EN MAL ESTADO | C7: =+_xlfn.XLOOKUP($A7,LIST[ID],LIST[UNIDAD]) -> M2 | D7: HH | F7: 0.3 | G7: 0.23
A8: =+LIST!A7 -> P-0005 | B8: =+_xlfn.XLOOKUP($A8,LIST[ID],LIST[DESCRIPCIÓN]) -> EXCAVACIÓN MANUAL EN MATERIAL COMÚN 0-2 MTS | C8: =+_xlfn.XLOOKUP($A8,LIST[ID],LIST[UNIDAD]) -> M3 | D8: HH | F8: 0.7 | G8: 0.57 | H8: 0.48
A9: =+LIST!A8 -> P-0006 | B9: =+_xlfn.XLOOKUP($A9,LIST[ID],LIST[DESCRIPCIÓN]) -> RELLENO EN ARENA | C9: =+_xlfn.XLOOKUP($A9,LIST[ID],LIST[UNIDAD]) -> M3 | D9: HH | F9: 0.3 | G9: 0.25 | H9: 0.23
A10: =+LIST!A9 -> P-0007 | B10: =+_xlfn.XLOOKUP($A10,LIST[ID],LIST[DESCRIPCIÓN]) -> DESMONTE DE APARATOS SANITARIOS | C10: =+_xlfn.XLOOKUP($A10,LIST[ID],LIST[UNIDAD]) -> UND | D10: HH | E10: 2.1 | F10: 1.6 | G10: 1.3
A11: =+LIST!A10 -> P-0008 | B11: =+_xlfn.XLOOKUP($A11,LIST[ID],LIST[DESCRIPCIÓN]) -> LOCALIZACIÓN Y REPLANTEO (AREA) | C11: =+_xlfn.XLOOKUP($A11,LIST[ID],LIST[UNIDAD]) -> M2 | D11: HH | E11: 0.05 | H11: =+AVERAGE(E11:G11) -> 0.05
A12: =+LIST!A11 -> P-0009 | B12: =+_xlfn.XLOOKUP($A12,LIST[ID],LIST[DESCRIPCIÓN]) -> DEMOLICIÓN DE PLACA CONCRETO e=0.15m INCLUYE TRANSPORTE | C12: =+_xlfn.XLOOKUP($A12,LIST[ID],LIST[UNIDAD]) -> M2 | D12: HH | E12: 0.9 | F12: 0.65 | H12: =+AVERAGE(E12:G12) -> 0.775
A13: =+LIST!A12 -> P-0010 | B13: =+_xlfn.XLOOKUP($A13,LIST[ID],LIST[DESCRIPCIÓN]) -> DEMOLICIÓN DE MURO EN CONCRETO REFORZADO INCLUYE TRANSPORTE | C13: =+_xlfn.XLOOKUP($A13,LIST[ID],LIST[UNIDAD]) -> M2 | D13: HH | E13: 1.2 | F13: 1.1
A14: =+LIST!A13 -> P-0011 | B14: =+_xlfn.XLOOKUP($A14,LIST[ID],LIST[DESCRIPCIÓN]) -> EXCAVACIÓN MECANICA EN MATERIAL COMÚN | C14: =+_xlfn.XLOOKUP($A14,LIST[ID],LIST[UNIDAD]) -> M3 | D14: HH | E14: 0.12 | F14: 0.1 | H14: =+AVERAGE(E14:G14) -> 0.11
A15: =+LIST!A14 -> P-0012 | B15: =+_xlfn.XLOOKUP($A15,LIST[ID],LIST[DESCRIPCIÓN]) -> RELLENO EN RECEBO COMPACTADO | C15: =+_xlfn.XLOOKUP($A15,LIST[ID],LIST[UNIDAD]) -> M3 | D15: HH | F15: 0.2
A16: =+LIST!A15 -> P-0013 | B16: =+_xlfn.XLOOKUP($A16,LIST[ID],LIST[DESCRIPCIÓN]) -> DESCAPOTE MANUAL DE TERRENO E=0,15 CM, INCLUYE RETIRO | C16: =+_xlfn.XLOOKUP($A16,LIST[ID],LIST[UNIDAD]) -> M2 | D16: HH | E16: 0.26
A17: =+LIST!A16 -> P-0014 | B17: =+_xlfn.XLOOKUP($A17,LIST[ID],LIST[DESCRIPCIÓN]) -> DESMONTE DE CUBIERTA EXISTENTE | C17: =+_xlfn.XLOOKUP($A17,LIST[ID],LIST[UNIDAD]) -> M2 | D17: HH | F17: 0.35
A18: =+LIST!A17 -> P-0015 | B18: =+_xlfn.XLOOKUP($A18,LIST[ID],LIST[DESCRIPCIÓN]) -> LAVADO DE SUPERFICIE DE CANCHA CON ACIDO MURIATICO 10% | C18: =+_xlfn.XLOOKUP($A18,LIST[ID],LIST[UNIDAD]) -> M2 | D18: HH | E18: 0.1
A19: =+LIST!A18 -> P-0016 | B19: =+_xlfn.XLOOKUP($A19,LIST[ID],LIST[DESCRIPCIÓN]) -> CERRAMIENTO EN LONA VERDE PROVISIONAL H:2 METROS | C19: =+_xlfn.XLOOKUP($A19,LIST[ID],LIST[UNIDAD]) -> M | D19: HH | F19: 0.08
A20: =+LIST!A19 -> P-0017 | B20: =+_xlfn.XLOOKUP($A20,LIST[ID],LIST[DESCRIPCIÓN]) -> DEMOLICIÓN DE PAVIMENTO EN CONCRETO RIGIDO, INCLUYE RETIRO | C20: =+_xlfn.XLOOKUP($A20,LIST[ID],LIST[UNIDAD]) -> M3 | D20: HH | F20: 0.25
A21: =+LIST!A20 -> 0
A22: =+LIST!A21 -> 0
A23: =+LIST!A22 -> 0
A24: =+LIST!A23 -> 0
A25: =+LIST!A24 -> PTA | B25: =+LIST!B24 -> PISOS CERAMICOS, TERMINADOS Y ACABADOS (PTA)
A26: =+LIST!A25 -> PTA-001 | B26: =+_xlfn.XLOOKUP($A26,LIST[ID],LIST[DESCRIPCIÓN]) -> ADOQUIN RECTANGULAR ADOP-A O SIMILAR COLOR GRIS (20 X10X 8) | C26: =+_xlfn.XLOOKUP($A26,LIST[ID],LIST[UNIDAD]) -> M2 | D26: HH | F26: 1
A27: =+LIST!A26 -> PTA-002 | B27: =+_xlfn.XLOOKUP($A27,LIST[ID],LIST[DESCRIPCIÓN]) -> ADOQUIN INDUPISO PIZARRA O SIMILAR COLOR ARENA (20X20X8) | C27: =+_xlfn.XLOOKUP($A27,LIST[ID],LIST[UNIDAD]) -> M2 | D27: HH | F27: 1
A28: =+LIST!A27 -> PTA-003 | B28: =+_xlfn.XLOOKUP($A28,LIST[ID],LIST[DESCRIPCIÓN]) -> PINTURA DE SILLAS REDONDAS DIAMETRO 50CM H=60CM TIPO 1 EXTERIOR COLOR BLANCO (INCLUYE RESANE) | C28: =+_xlfn.XLOOKUP($A28,LIST[ID],LIST[UNIDAD]) -> UND | D28: HH | F28: 1.2
A29: =+LIST!A28 -> PTA-004 | B29: =+_xlfn.XLOOKUP($A29,LIST[ID],LIST[DESCRIPCIÓN]) -> PINTURA DE MATERA RECTANGULAR 40X60X30 TIPO 1 EXTERIOR COLOR BLANCO (INCLUYE RESANE) | C29: =+_xlfn.XLOOKUP($A29,LIST[ID],LIST[UNIDAD]) -> UND | D29: HH | F29: 1.2
A30: =+LIST!A29 -> PTA-005 | B30: =+_xlfn.XLOOKUP($A30,LIST[ID],LIST[DESCRIPCIÓN]) -> MURO EN BLOQUE ABUJARDADO CON DOVELAS 14X19X39 PARA ALCORQUE DE ARBOL | C30: =+_xlfn.XLOOKUP($A30,LIST[ID],LIST[UNIDAD]) -> M2 | D30: HH | E30: 1.1 | F30: 1
A31: =+LIST!A30 -> PTA-006 | B31: =+_xlfn.XLOOKUP($A31,LIST[ID],LIST[DESCRIPCIÓN]) -> ALFAGIA PREFABRICADA DE ANCHO 25CMX100CM | C31: =+_xlfn.XLOOKUP($A31,LIST[ID],LIST[UNIDAD]) -> M | D31: HH | E31: 0.7 | F31: 0.6 | H31: =+AVERAGE(E31:G31) -> 0.65
A32: =+LIST!A31 -> PTA-007 | B32: =+_xlfn.XLOOKUP($A32,LIST[ID],LIST[DESCRIPCIÓN]) -> CIELO RASO PVC 9 MM INCLUYE ESTRUCTURA | C32: =+_xlfn.XLOOKUP($A32,LIST[ID],LIST[UNIDAD]) -> M2 | D32: HH | E32: 1
A33: =+LIST!A32 -> PTA-008 | B33: =+_xlfn.XLOOKUP($A33,LIST[ID],LIST[DESCRIPCIÓN]) -> ENCHAPE EN GRES ROJO | C33: =+_xlfn.XLOOKUP($A33,LIST[ID],LIST[UNIDAD]) -> M2 | D33: HH | E33: 1
A34: =+LIST!A33 -> PTA-009 | B34: =+_xlfn.XLOOKUP($A34,LIST[ID],LIST[DESCRIPCIÓN]) -> PINTURA TIPO 1 INTERIOR, DOS MANOS | C34: =+_xlfn.XLOOKUP($A34,LIST[ID],LIST[UNIDAD]) -> M2 | D34: HH | E34: 0.26
A35: =+LIST!A34 -> PTA-010 | B35: =+_xlfn.XLOOKUP($A35,LIST[ID],LIST[DESCRIPCIÓN]) -> RESANE EN ESTUCO ACRILICO 100% | C35: =+_xlfn.XLOOKUP($A35,LIST[ID],LIST[UNIDAD]) -> M2 | D35: HH | E35: 0.3
A36: =+LIST!A35 -> PTA-011 | B36: =+_xlfn.XLOOKUP($A36,LIST[ID],LIST[DESCRIPCIÓN]) -> PINTURA TIPO 1 EXTERIOR 100% ACRILICA, DOS MANOS | C36: =+_xlfn.XLOOKUP($A36,LIST[ID],LIST[UNIDAD]) -> M2 | D36: HH | E36: 0.3
A37: =+LIST!A36 -> PTA-012 | B37: =+_xlfn.XLOOKUP($A37,LIST[ID],LIST[DESCRIPCIÓN]) -> POLARIZADO PARA VENTANAS PELICULA PROTECCIÓN 100% UV 2 MM | C37: =+_xlfn.XLOOKUP($A37,LIST[ID],LIST[UNIDAD]) -> M2 | D37: HH | E37: 0.65
A38: =+LIST!A37 -> PTA-013 | B38: =+_xlfn.XLOOKUP($A38,LIST[ID],LIST[DESCRIPCIÓN]) -> ENCHAPE CERAMICO 20X30 CM COLOR BLANCO (PARED) | C38: =+_xlfn.XLOOKUP($A38,LIST[ID],LIST[UNIDAD]) -> M2 | D38: HH | E38: 0.8
A39: =+LIST!A38 -> PTA-014 | B39: =+_xlfn.XLOOKUP($A39,LIST[ID],LIST[DESCRIPCIÓN]) -> PINTURA ESMALTE ELEMENTOS METALICOS (AREA) | C39: =+_xlfn.XLOOKUP($A39,LIST[ID],LIST[UNIDAD]) -> M2 | D39: HH | E39: 0.22 | H39: =+AVERAGE(E39:G39) -> 0.22
A40: =+LIST!A39 -> PTA-015 | B40: =+_xlfn.XLOOKUP($A40,LIST[ID],LIST[DESCRIPCIÓN]) -> PINTURA ESMALTE ELEMENTOS METALICOS (LINEAL BARANDA) | C40: =+_xlfn.XLOOKUP($A40,LIST[ID],LIST[UNIDAD]) -> M | D40: HH | E40: 0.18 | H40: =+AVERAGE(E40:G40) -> 0.18
...

Sheet EQUI
A1: DESCRIPCIÓN | B1: UNIDAD | C1: VALOR | D1: Columna1 | E1: RENDIMIENTO
A2: TALADRO DEMOLEDOR | B2: HORA | C2: 50000 | E2: 0.2
A3: TALADRO DEMOLEDOR ELÉCTRICO | B3: HORA | C3: 50000 | E3: 0.2
A4: MEZCLADORA DE CONCRETO 1 BLT | B4: HORA | C4: 10000 | E4: 2.5
A5: VIBRADOR DE CONCRETO | B5: HORA | C5: 7000 | E5: 2.5
A6: SONDA LIMPIADOR DE CAÑERIA 10 M | B6: HORA | C6: 5000 | E6: 2
A7: RETROEXCAVADORA DE LLANTA (ESCOMBROS) | B7: HORA | C7: 168000 | E7: 0.1
A8: ANDAMIO CON TABLON (2 CUERPOS) | B8: DIA | C8: 10000 | E8: 0.1
A9: CORTADORA PARA PISO | B9: HORA | C9: 12000 | E9: 0.2
A10: PULIDORA PARA PISO | B10: DIA | C10: 50000 | E10: 0.01
A11: RETROEXCAVADORA DE LLANTA (EXCAVACIÓN) | B11: HORA | C11: 168000 | E11: 0.15
A12: SALTARIN COMPACTADOR (CANGURO) | B12: DIA | C12: 45000 | E12: 0.15
A13: CORTADORA DE BALDOSA | B13: DIA | C13: 35000 | E13: 0.07
... A18: VIBRADOR DE CONCRETO (PAVIMENTO | B18: DIA | C18: 80000 | E18: 0.1

Sheet TRANS
A1: DESCRIPCIÓN | B1: UNIDAD | C1: DISTANCIA | D1: VALOR | E1: EXP | F1: CANT | G1: RENDIMIENTO
A2: RETIRO DE MATERIAL HASTA 5 KM (ESCOMBRO) | B2: M3/KM | C2: 5 | D2: 1800 | E2: 1.3
A3: TRANSPORTE MATERIAL DE CANTERA (ARENA) - CUCUANA | B3: M3/KM | C3: 125 | D3: 1800 | E3: 1.1
A4: TRANSPORTE (ADOQUIN) - IBAGUE | B4: UND/KM | C4: 195 | D4: 5 | E4: 1
A5: TRANSPORTE (BLOQUE-LADRILLO) - IBAGUE | B5: UND/KM | C5: 195 | D5: 5 | E5: 1
A6: TRANSPORTE (ACERO) - IBAGUE | B6: KG/KM | C6: 195 | D6: 2 | E6: 1
A7: TRANSPORTE TUBERIA DE 36" - IBAGUE | B7: M/KM | C7: 195 | D7: 1800 | E7: 1
A8: TRANSPORTE MATERIAL (RECEBO) - 10 KM | B8: M3/KM | C8: 10 | D8: 1800 | E8: 1.3
A9: TRANSPORTE ENCHAPE | B9: M2/KM | C9: 195 | D9: 70 | E9: 1 | I9: =+C9*D9 -> 13650
A10: TRANSPORTE PIEDRA | B10: M3/KM | C10: 50 | D10: 1800 | E10: 1
A11: TRANSPORTE PARQUE INFANTIL (9*6,4) | B11: UN/KM | C11: 195 | D11: 3600 | E11: 1
A12: TRANSPORTE EQUIPO BIOSALUDABLE | B12: UN/KM | C12: 195 | D12: 1700 | E12: 1 | I12: =+C12*D12 -> 331500
A13: TRANSPORTE CANECA - IBAGUE | B13: UN/KM | C13: 195 | D13: 120 | E13: 1 | I13: =+C13*D13 -> 23400
A14: TRANSPORTE GALON - IBAGUE | B14: UN/KM | C14: 195 | D14: 40 | E14: 1 | I14: =+C14*D14 -> 7800
A15: TRANSPORTE SANITARIO - IBAGUE | B15: UN/KM | C15: 195 | D15: 250 | E15: 1 | I15: =+C15*D15 -> 48750
A16: TRANSPORTE LAVAMANOS - IBAGUE | B16: UN/KM | C16: 195 | D16: 150 | E16: 1 | I16: =+C16*D16 -> 29250

Sheet INS
A1: DESCRIPCIÓN | B1: UNIDAD | C1: COTIZACION 1 (HOMECENTER) | D1: COTIZACION 2 | E1: COTIZACION 3 | F1: PROMEDIO | G1: DISTANCIA KM | H1: RENDIMIENTO
A2: ABRAZADERA TIPO GRAPA TUBO 4" METALICA | B2: UND | C2: =37900/5 -> 7580 | F2: =+ROUND(AVERAGE(C2:E2),0) -> 7580
A3: ACERO W 60 | B3: KG | D3: 5500 | F3: =+ROUND(AVERAGE(C3:E3),0) -> 5500
A4: ACIDO MURIATICO X3,7LT | B4: UND | C4: 24900 | F4: =+ROUND(AVERAGE(C4:E4),0) -> 24900
A5: ADAPTADOR MACHO DE 1/2" | B5: UND | D5: 1100 | F5: =+ROUND(AVERAGE(C5:E5),0) -> 1100
A6: ADHESIVO EPOXICO DE UNION CONCRETO FRESCO CON ANTIGUO 1 KG | B6: KG | C6: 189900 | F6: =+ROUND(AVERAGE(C6:E6),0) -> 189900 | H6: 0,5KGXM2
A7: ADOQUIN INDUPISO PIZARRA O SIMILAR COLOR ARENA (20X20X8) | B7: UND | C7: 4169 | F7: =+ROUND(AVERAGE(C7:E7),0) -> 4169 | G7: 195
A8: ADOQUIN RECTANGULAR GRIS (20X 10 X 8) | B8: UND | C8: 1832 | F8: =+ROUND(AVERAGE(C8:E8),0) -> 1832 | G8: 195
A9: AGENTE QUIMICO PARA DESTAPAR CAÑERIA | B9: UND | C9: 18900 | F9: =+ROUND(AVERAGE(C9:E9),0) -> 18900
A10: AGUA | B10: LT | E10: 35 | F10: =+ROUND(AVERAGE(C10:E10),0) -> 35
A11: ALAMBRE GALVANIZADO CAL.12 | B11: KG | C11: 11400 | F11: =+ROUND(AVERAGE(C11:E11),0) -> 11400
A12: ALAMBRE NEGRO N°18 | B12: KG | D12: 8700 | F12: =+ROUND(AVERAGE(C12:E12),0) -> 8700
A13: ALFAJIA EN CONCRETO A=25CM L=1 M | B13: UND | C13: 34500 | F13: =+ROUND(AVERAGE(C13:E13),0) -> 34500 | G13: 195 | H13: 1 UND X 1 M
A14: ANGULO 6X1-1/2"X1/8" | B14: UND | C14: 52100 | F14: =+ROUND(AVERAGE(C14:E14),0) -> 52100
A15: ARENA | B15: M3 | D15: 90000 | F15: =+ROUND(AVERAGE(C15:E15),0) -> 90000 | G15: 125
A16: ARENA PARA PAÑETE | B16: M3 | D16: 90000 | F16: =+ROUND(AVERAGE(C16:E16),0) -> 90000
A17: ARENA DE PLANTA | B17: M3 | C17: 47338 | F17: =+ROUND(AVERAGE(C17:E17),0) -> 47338
A18: ANTISOL | B18: KG | C18: 13145 | F18: =+ROUND(AVERAGE(C18:E18),0) -> 13145 | H18: 200 G/M2
A19: BARANDA METÁLICA TUBO PETROLERO 2" TRES LINEAS | B19: M | D19: 200000 | F19: =+ROUND(AVERAGE(C19:E19),0) -> 200000
A20: BARANDA EN ALUIMINIO 5 LINEAS, INCLUYE 2 POSTES L=2M | B20: UND | C20: 699900 | F20: =+ROUND(AVERAGE(C20:E20),0) -> 699900
A21: BLOQUE ABUJARDADO 14X19X39 CM | B21: UND | C21: 6000 | F21: =+ROUND(AVERAGE(C21:E21),0) -> 6000 | G21: 195 | H21: 12 UND X M2
A22: BOMBILLO LED 50W | B22: UND | C22: 44900 | D22: 25000 | F22: =+ROUND(AVERAGE(C22:E22),0) -> 34950
A23: BOQUILLA PARA CERÁMICA | B23: KG | C23: 8450 | D23: 7200 | F23: =+ROUND(AVERAGE(C23:E23),0) -> 7825
A24: BRIDA 4" PARA INSTALACIÓN SANITARIO | B24: UND | C24: 57900 | F24: =+ROUND(AVERAGE(C24:E24),0) -> 57900
A25: BROCHA 4" | B25: UND | C25: 13900 | D25: 17000 | F25: =+ROUND(AVERAGE(C25:E25),0) -> 15450
A26: CABLE DE RED CAT6 UTPX100 | B26: ROLLO | C26: 79900 | F26: =+ROUND(AVERAGE(C26:E26),0) -> 79900
A27: CABLE N°12 ENCAUCHETADOX100 | B27: ROLLO | C27: 240900 | D27: 245000 | F27: =+ROUND(AVERAGE(C27:E27),0) -> 242950
A28: CAJA 2X4 PLASTICA | B28: UND | C28: 1000 | D28: 1500 | F28: =+ROUND(AVERAGE(C28:E28),0) -> 1250
A29: CAJA OCTOGONAL PLASTICA | B29: UND | C29: 1100 | D29: 1800 | F29: =+ROUND(AVERAGE(C29:E29),0) -> 1450
A30: CANALETA ELECTRICA 12CMX20CMX2M | B30: M | C30: 12600 | D30: 18600 | F30: =+ROUND(AVERAGE(C30:E30),0) -> 15600
A31: CARCAMO METÁLICO DE 1.30 X 0.33M | B31: UND | C31: 9000 | F31: =+ROUND(AVERAGE(C31:E31),0) -> 9000
A32: CEMENTO 50 KG | B32: BLT | D32: 37000 | E32: 37000 | F32: =+ROUND(AVERAGE(C32:E32),0) -> 37000
A33: CEMENTO BLANCO | B33: KG | D33: 3800 | F33: =+ROUND(AVERAGE(C33:E33),0) -> 3800
A34: CERÁMICA PARA PISO 51X51 O SUPERIOR | B34: M2 | C34: 39900 | F34: =+ROUND(AVERAGE(C34:E34),0) -> 39900
A35: CERAMICA GRES 20X20 CALIDAD 1 | B35: M2 | C35: 68500 | F35: =+ROUND(AVERAGE(C35:E35),0) -> 68500
A36: CERÁMICA PARA PARED 20X30 O SUPERIOR | B36: M2 | C36: 27900 | D36: 32000 | F36: =+ROUND(AVERAGE(C36:E36),0) -> 29950
A37: Chazo Doble Aleta 3/8 Con Tornillo 12 x 2´ x 50 | B37: UND | C37: 458 | F37: =+ROUND(AVERAGE(C37:E37),0) -> 458
A38: CHAZO EXPANSIVO CONCRETO 1/2" | B38: UND | C38: 3500 | F38: =+ROUND(AVERAGE(C38:E38),0) -> 3500
A39: CIELO RASO PVC 9 MM CON ESTRUCTURA | B39: M2 | D39: 30000 | F39: =+ROUND(AVERAGE(C39:E39),0) -> 30000
A40: CINTA AISLANTE 20M X 19MM | B40: UND | C40: 5600 | F40: =+ROUND(AVERAGE(C40:E40),0) -> 5600
...

Sheet MO
B2: LISTADO DE MANO DE OBRA
B3: unidad | D3: Ítem | F3: VALOR ($ COP) | G3: OBSERVACIONES
B4: mes | D4: Salario mínimo legal mensual vigente - SMLMV básico 2025 | F4: 1750905
B5: mes | D5: Subsidio de transporte 2025 | F5: 249095
B6: mes | D6: Salario mínimo legal mensual vigente - SMLMV 2025 + Subsidio de transporte 2025 | F6: =+F5+F4 -> 2000000
B7: día | D7: Jornal + subsidio de transporte 2025 | F7: =+F6/30 -> 66666.667
B8: % | D8: Factor prestacional INVIAS vigente | F8: 0.75
B9: día | D9: Jornal básico con factor prestacional | F9: =+F7*(1+F8) -> 116666.67
B10: mes | D10: salario basico SMLMV 2025 con factor prestacional | F10: =+F9*30 -> 3500000
B12: # | C12: Código | D12: unidad | E12: Insumo | F12: Precio ($ COP) | G12: Factor de Jornal 2025 | H12: OBSERVACIONES
B13: 1 | C13: A0100030 | D13: día | E13: Maestro | F13: =$F$9*G13 -> 291666.67 | G13: 2.5
B14: 2 | C14: A0100150 | D14: día | E14: Ayudante | F14: =$F$9*G14 -> 116666.67 | G14: 1
B15: 3 | C15: A0100190 | D15: día | E15: Almacenista | F15: =$F$9*G15 -> 122500 | G15: 1.05
B16: 4 | C16: A0030010 | D16: día | E16: Obrero | F16: =$F$9*G16 -> 116666.67 | G16: 1
B17: 5 | C17: A0030020 | D17: día | E17: Obrero (2) | F17: =$F$9*G17 -> 233333.33 | G17: 2
B18: 6 | C18: A0030030 | D18: día | E18: Obrero (3) | F18: =$F$9*G18 -> 350000 | G18: 3
B19: 7 | C19: A0030040 | D19: día | E19: Obrero (4) | F19: =$F$9*G19 -> 466666.67 | G19: 4
B20: 8 | C20: A0030050 | D20: día | E20: Obrero (5) | F20: =$F$9*G20 -> 583333.33 | G20: 5
B21: 9 | C21: A0030060 | D21: día | E21: Obrero (6) | F21: =$F$9*G21 -> 700000 | G21: 6
B22: 10 | C22: A0030070 | D22: día | E22: Obrero (7) | F22: =$F$9*G22 -> 816666.67 | G22: 7
B23: 11 | C23: A0030080 | D23: día | E23: Obrero (8) | F23: =$F$9*G23 -> 933333.33 | G23: 8
B24: 12 | C24: A0030090 | D24: día | E24: Obrero (9) | F24: =$F$9*G24 -> 1050000 | G24: 9
... B78: 66 | C78: A0100294 | D78: día | E78: Operador de maquinaria liviana | F78: =$F$9*G78 -> 233333.33 | G78: 2

Sheet M. CANT.
B1: MEMORIA DE CANTIDADES DE OBRA
B2: PROYECTO: | D2: =+PTO!D3 -> PAVIMENTACIÓN SECTORIAL DE LA CARRERA 5 ENTRE CALLES 2 Y 3 DEL MUNICIPIO DE RIOBLANCO TOLIMA
B4: =+PTO!D5 -> PRELIMINARES (P)
B5: ITEM | C5: ACTIVIDAD: | D5: =+PTO!D6 -> CERRAMIENTO EN LONA VERDE PROVISIONAL H:2 METROS | E5: TOTAL | J5: =ROUND(SUM(J6:J9),0) -> 68
B6: =+_xlfn.XLOOKUP(TEXT(D5,0),PTO!$D$5:$D$15,PTO!$C$5:$C$15) -> 1.01 | C6: UNIDAD: | D6: =+_xlfn.XLOOKUP(TEXT(D5,0),LIST[DESCRIPCIÓN],LIST[UNIDAD]) -> M | F6: LONG | G6: ANCHO | H6: ALTURA | I6: CANTIDAD | J6: SUBTOTAL
B7: 1 | C7: LONGITUD | F7: 28 | I7: 2 | J7: =+F7*I7 -> 56
B8: 2 | C8: ANCHO | F8: 6 | I8: 2 | J8: =+F8*I8 -> 12
B10: ITEM | C10: ACTIVIDAD: | D10: =+PTO!D7 -> DEMOLICIÓN DE PAVIMENTO EN CONCRETO RIGIDO, INCLUYE RETIRO | E10: TOTAL | J10: =ROUND(SUM(J11:J14),1) -> 82.5
B11: =+_xlfn.XLOOKUP(TEXT(D10,0),PTO!$D$5:$D$15,PTO!$C$5:$C$15) -> 1.02 | C11: UNIDAD: | D11: =+_xlfn.XLOOKUP(TEXT(D10,0),LIST[DESCRIPCIÓN],LIST[UNIDAD]) -> M3 | F11: LONG | G11: ANCHO | H11: ALTURA | I11: CANTIDAD | J11: SUBTOTAL
B12: 1 | C12: CARREA 5 ENTRE CALLE 2 Y 3 (SECTOR UN CARRIL) | F12: 23.4 | G12: 2.8 | I12: 1 | J12: =+F12*G12 -> 65.52
B13: 2 | C13: CARREA 5 ENTRE CALLE 2 Y 3 (SECTOR POZO) | F13: 3 | G13: 5.65 | I13: 1 | J13: =+F13*G13 -> 16.95
B15: ITEM | C15: ACTIVIDAD: | D15: =+PTO!D8 -> EXCAVACIÓN MECANICA EN MATERIAL COMÚN | E15: TOTAL | J15: =ROUND(SUM(J16:J19),1) -> 44.2
B16: =+_xlfn.XLOOKUP(TEXT(D15,0),PTO!$D$5:$D$15,PTO!$C$5:$C$15) -> 1.03 | C16: UNIDAD: | D16: =+_xlfn.XLOOKUP(TEXT(D15,0),LIST[DESCRIPCIÓN],LIST[UNIDAD]) -> M3 | F16: LONG | G16: ANCHO | H16: ALTURA | I16: CANTIDAD | J16: SUBTOTAL
B17: 1 | C17: CARREA 5 ENTRE CALLE 2 Y 3 (SECTOR UN CARRIL) | F17: 23.4 | G17: =+(5.65+5.5)/2 -> 5.575 | H17: 0.3 | I17: 1 | J17: =+F17*G17*H17 -> 39.1365
B18: 2 | C18: CARREA 5 ENTRE CALLE 2 Y 3 (SECTOR POZO) | F18: 3 | G18: 5.65 | H18: 0.3 | I18: 1 | J18: =+F18*G18*H18 -> 5.085
B20: ITEM | C20: ACTIVIDAD: | D20: =+PTO!D9 -> RETIRO DE MATERIAL SOBRANTE HASTA 5 KM | E20: TOTAL | J20: =ROUND(SUM(J21:J24),1) -> 57.5
B21: =+_xlfn.XLOOKUP(TEXT(D20,0),PTO!$D$5:$D$15,PTO!$C$5:$C$15) -> 1.04 | C21: UNIDAD: | D21: =+_xlfn.XLOOKUP(TEXT(D20,0),LIST[DESCRIPCIÓN],LIST[UNIDAD]) -> M3 | F21: LONG | G21: ANCHO | H21: ALTURA | I21: CANTIDAD | J21: SUBTOTAL
B22: 1 | C22: CARREA 5 ENTRE CALLE 2 Y 3 (SECTOR UN CARRIL) | F22: 23.4 | G22: =+(5.65+5.5)/2 -> 5.575 | H22: =+H17 -> 0.3 | I22: 1.3 | J22: =+F22*G22*H22*I22 -> 50.87745
B23: 2 | C23: CARREA 5 ENTRE CALLE 2 Y 3 (SECTOR POZO) | F23: 3 | G23: 5.65 | H23: =+H22 -> 0.3 | I23: 1.3 | J23: =+F23*G23*H23*I23 -> 6.6105
B25: ITEM | C25: ACTIVIDAD: | D25: =+PTO!D10 -> RELLENO EN RECEBO COMPACTADO | E25: TOTAL | J25: =ROUND(SUM(J26:J29),1) -> 29.5
B26: =+_xlfn.XLOOKUP(TEXT(D25,0),PTO!$D$5:$D$15,PTO!$C$5:$C$15) -> 1.05 | C26: UNIDAD: | D26: =+_xlfn.XLOOKUP(TEXT(D25,0),LIST[DESCRIPCIÓN],LIST[UNIDAD]) -> M3 | F26: LONG | G26: ANCHO | H26: ALTURA | I26: CANTIDAD | J26: SUBTOTAL
B27: 1 | C27: CARREA 5 ENTRE CALLE 2 Y 3 (SECTOR UN CARRIL) | F27: 23.4 | G27: =+(5.65+5.5)/2 -> 5.575 | H27: 0.2 | I27: 1 | J27: =+F27*G27*H27*I27 -> 26.091
B28: 2 | C28: CARREA 5 ENTRE CALLE 2 Y 3 (SECTOR POZO) | F28: 3 | G28: 5.65 | H28: 0.2 | I28: 1 | J28: =+F28*G28*H28*I28 -> 3.39
B30: =+PTO!D11 -> PAVIMENTACION
B31: ITEM | C31: ACTIVIDAD: | D31: =+PTO!D12 -> SUMINISTRO, INSTALACION Y COMPACTACIÓN DE SUBBASE GRANULAR CLASE C | E31: TOTAL | J31: =ROUNDUP(SUM(J33:J35),1) -> 22.2
B32: =+PTO!C12 -> 2.01 | C32: UNIDAD: | D32: =+PTO!E12 -> M3 | F32: LONG | G32: ANCHO | H32: ALTO | I32: CANTIDAD | J32: SUBTOTAL
B33: 1 | C33: CARREA 5 ENTRE CALLE 2 Y 3 (SECTOR UN CARRIL) | F33: 23.4 | G33: =+(5.65+5.5)/2 -> 5.575 | H33: 0.15 | I33: 1 | J33: =+F33*G33*I33*H33 -> 19.56825
B34: 2 | C34: CARREA 5 ENTRE CALLE 2 Y 3 (SECTOR POZO) | F34: 3 | G34: 5.65 | H34: 0.15 | I34: 1 | J34: =+F34*G34*I34*H34 -> 2.5425
B36: ITEM | C36: ACTIVIDAD: | D36: =+PTO!D13 -> CONCRETO PARA PAVIMENTO RÍGIDO MR-40, INCLUYE SELLADO DE JUNTAS | E36: TOTAL | J36: =ROUND(SUM(J37:J40),1) -> 26.5
B37: =+PTO!C13 -> 2.02 | C37: UNIDAD: | D37: =+_xlfn.XLOOKUP(TEXT(D36,0),LIST[DESCRIPCIÓN],LIST[UNIDAD]) -> M3 | F37: LONG | G37: ANCHO | H37: ALTO | I37: CANT | J37: SUBTOTAL
B38: 1 | C38: CARREA 5 ENTRE CALLE 2 Y 3 (SECTOR UN CARRIL) | F38: 23.4 | G38: =+(5.65+5.5)/2 -> 5.575 | H38: 0.18 | I38: 1 | J38: =+F38*H38*I38*G38 -> 23.4819
B39: 2 | C39: CARREA 5 ENTRE CALLE 2 Y 3 (SECTOR POZO) | F39: 3 | G39: 5.65 | H39: 0.18 | I39: 1 | J39: =+F39*H39*I39*G39 -> 3.051
B41: ITEM | C41: ACTIVIDAD: | D41: =+PTO!D14 -> ACERO DE REFUERZO FIGURADO ƒ'y= 4200 GRADO 60 (PAVIMENTO) | E41: TOTAL | J41: =ROUND(SUM(J42:J46),1) -> 360.3
B42: =+_xlfn.XLOOKUP(TEXT(D41,0),PTO!$D$5:$D$15,PTO!$C$5:$C$15) -> 2.03 | C42: UNIDAD: | D42: =+_xlfn.XLOOKUP(TEXT(D41,0),LIST[DESCRIPCIÓN],LIST[UNIDAD]) -> KG | E42: LONG | F42: N° | G42: PESO | H42: CANT. LINEA | I42: REP | J42: SUBTOTAL
B43: 1 | C43: CARREA 5 ENTRE CALLE 2 Y 3 (DOVELA) | E43: 0.35 | F43: 7 | G43: 4.62 | H43: =ROUNDUP(G38/0.3,0) -> 19 | I43: 6 | J43: =+E43*H43*I43*G43 -> 184.338
B44: 2 | C44: CARREA 5 ENTRE CALLE 2 Y 3 (AMARRE) | E44: 0.85 | F44: 4 | G44: 1 | H44: 1 | I44: =ROUNDUP(23.4/1.2,0) -> 20 | J44: =+F44*H44*I44*G44 -> 80
B45: 2 | C45: LOZA DE POZO | E45: 3 | F45: 4 | G45: 1 | H45: 1 | I45: =ROUNDUP(3/0.25,0)*2 -> 24 | J45: =+F45*H45*I45*G45 -> 96
B47: ITEM | C47: ACTIVIDAD: | D47: =+PTO!D15 -> BORDILLO FUNDIDO EN SITIO DE 15X40 CM EN CONCRETO 3000 PSI | E47: TOTAL | J47: =SUM(J48:J51) -> 52.8
B48: =+_xlfn.XLOOKUP(TEXT(D47,0),PTO!$D$5:$D$15,PTO!$C$5:$C$15) -> 2.04 | C48: UNIDAD: | D48: =+_xlfn.XLOOKUP(TEXT(D47,0),LIST[DESCRIPCIÓN],LIST[UNIDAD]) -> M | F48: LONG | G48: ANCHO | H48: ALTO | I48: CANTIDAD | J48: SUBTOTAL
B49: 1 | C49: CARREA 5 ENTRE CALLE 2 Y 3 (SECTOR UN CARRIL) | F49: 23.4 | I49: 2 | J49: =+F49*I49 -> 46.8
...

Sheet PTO
E1: ALCALDÍA MUNICIPAL DE RIOBLANCO TOLIMA NIT. 890.702.040 – 7 SECRETARIA DE PLANEACION E INFRAESTRUCTURA
B2: PRESUPUESTO DE OBRA
C3: OBJETO: | D3: PAVIMENTACIÓN SECTORIAL DE LA CARRERA 5 ENTRE CALLES 2 Y 3 DEL MUNICIPIO DE RIOBLANCO TOLIMA | G3: FECHA: 1 DE JUNIO DEL 2026
B4: ID | C4: ITEM | D4: DESCRIPCION | E4: UND | F4: CANT. | G4: VR. UNIT | H4: VR.TOTAL
C5: 1 | D5: PRELIMINARES (P) | H5: =+SUM(H6:H10) -> 12977352
B6: P-0016 | C6: =C5+0.01 -> 1.01 | D6: =+_xlfn.XLOOKUP($B6,LIST[ID],LIST[DESCRIPCIÓN]) -> CERRAMIENTO EN LONA VERDE PROVISIONAL H:2 METROS | E6: =+_xlfn.XLOOKUP($B6,LIST[ID],LIST[UNIDAD]) -> M | F6: =+_xlfn.XLOOKUP(TEXT(PTO!D6,0),'M. CANT.'!$D$4:$D$51,'M. CANT.'!$J$4:$J$51) -> 68 | G6: =+_xlfn.XLOOKUP($B6,LIST[ID],LIST[V/UNIT]) -> 12708 | H6: =+F6*G6 -> 864144
B7: P-0017 | C7: =C6+0.01 -> 1.02 | D7: =+_xlfn.XLOOKUP($B7,LIST[ID],LIST[DESCRIPCIÓN]) -> DEMOLICIÓN DE PAVIMENTO EN CONCRETO RIGIDO, INCLUYE RETIRO | E7: =+_xlfn.XLOOKUP($B7,LIST[ID],LIST[UNIDAD]) -> M3 | F7: =+_xlfn.XLOOKUP(TEXT(PTO!D7,0),'M. CANT.'!$D$4:$D$51,'M. CANT.'!$J$4:$J$51) -> 82.5 | G7: =+_xlfn.XLOOKUP($B7,LIST[ID],LIST[V/UNIT]) -> 52406 | H7: =+F7*G7 -> 4323495
B8: P-0011 | C8: =C7+0.01 -> 1.03 | D8: =+_xlfn.XLOOKUP($B8,LIST[ID],LIST[DESCRIPCIÓN]) -> EXCAVACIÓN MECANICA EN MATERIAL COMÚN | E8: =+_xlfn.XLOOKUP($B8,LIST[ID],LIST[UNIDAD]) -> M3 | F8: =+_xlfn.XLOOKUP(TEXT(PTO!D8,0),'M. CANT.'!$D$4:$D$51,'M. CANT.'!$J$4:$J$51) -> 44.2 | G8: =+_xlfn.XLOOKUP($B8,LIST[ID],LIST[V/UNIT]) -> 30161 | H8: =+F8*G8 -> 1333116.2
B9: LF-001 | C9: =C8+0.01 -> 1.04 | D9: =+_xlfn.XLOOKUP($B9,LIST[ID],LIST[DESCRIPCIÓN]) -> RETIRO DE MATERIAL SOBRANTE HASTA 5 KM | E9: =+_xlfn.XLOOKUP($B9,LIST[ID],LIST[UNIDAD]) -> M3 | F9: =+_xlfn.XLOOKUP(TEXT(PTO!D9,0),'M. CANT.'!$D$4:$D$51,'M. CANT.'!$J$4:$J$51) -> 57.5 | G9: =+_xlfn.XLOOKUP($B9,LIST[ID],LIST[V/UNIT]) -> 30981 | H9: =+F9*G9 -> 1781407.5
B10: P-0012 | C10: =C9+0.01 -> 1.05 | D10: =+_xlfn.XLOOKUP($B10,LIST[ID],LIST[DESCRIPCIÓN]) -> RELLENO EN RECEBO COMPACTADO | E10: =+_xlfn.XLOOKUP($B10,LIST[ID],LIST[UNIDAD]) -> M3 | F10: =+_xlfn.XLOOKUP(TEXT(PTO!D10,0),'M. CANT.'!$D$4:$D$51,'M. CANT.'!$J$4:$J$51) -> 29.5 | G10: =+_xlfn.XLOOKUP($B10,LIST[ID],LIST[V/UNIT]) -> 158481 | H10: =+F10*G10 -> 4675189.5
C11: 2 | D11: PAVIMENTACION | H11: =+SUM(H12:H15) -> 54809296
B12: PAV-001 | C12: =C11+0.01 -> 2.01 | D12: =+_xlfn.XLOOKUP($B12,LIST[ID],LIST[DESCRIPCIÓN]) -> SUMINISTRO, INSTALACION Y COMPACTACIÓN DE SUBBASE GRANULAR CLASE C | E12: =+_xlfn.XLOOKUP($B12,LIST[ID],LIST[UNIDAD]) -> M3 | F12: =+_xlfn.XLOOKUP(TEXT(PTO!D12,0),'M. CANT.'!$D$4:$D$51,'M. CANT.'!$J$4:$J$51) -> 22.2 | G12: =+_xlfn.XLOOKUP($B12,LIST[ID],LIST[V/UNIT]) -> 493862 | H12: =ROUND(F12*G12,2) -> 10963736
B13: PAV-006 | C13: =C12+0.01 -> 2.02 | D13: =+_xlfn.XLOOKUP($B13,LIST[ID],LIST[DESCRIPCIÓN]) -> CONCRETO PARA PAVIMENTO RÍGIDO MR-40, INCLUYE SELLADO DE JUNTAS | E13: =+_xlfn.XLOOKUP($B13,LIST[ID],LIST[UNIDAD]) -> M3 | F13: =+_xlfn.XLOOKUP(TEXT(PTO!D13,0),'M. CANT.'!$D$4:$D$51,'M. CANT.'!$J$4:$J$51) -> 26.5 | G13: =+_xlfn.XLOOKUP($B13,LIST[ID],LIST[V/UNIT]) -> 1247734 | H13: =ROUND(F13*G13,2) -> 33064951
B14: PAV-003 | C14: =C13+0.01 -> 2.03 | D14: =+_xlfn.XLOOKUP($B14,LIST[ID],LIST[DESCRIPCIÓN]) -> ACERO DE REFUERZO FIGURADO ƒ'y= 4200 GRADO 60 (PAVIMENTO) | E14: =+_xlfn.XLOOKUP($B14,LIST[ID],LIST[UNIDAD]) -> KG | F14: =+_xlfn.XLOOKUP(TEXT(PTO!D14,0),'M. CANT.'!$D$4:$D$51,'M. CANT.'!$J$4:$J$51) -> 360.3 | G14: =+_xlfn.XLOOKUP($B14,LIST[ID],LIST[V/UNIT]) -> 10979 | H14: =ROUND(F14*G14,2) -> 3955733.7
B15: PAV-004 | C15: =C14+0.01 -> 2.04 | D15: =+_xlfn.XLOOKUP($B15,LIST[ID],LIST[DESCRIPCIÓN]) -> BORDILLO FUNDIDO EN SITIO DE 15X40 CM EN CONCRETO 3000 PSI | E15: =+_xlfn.XLOOKUP($B15,LIST[ID],LIST[UNIDAD]) -> M | F15: =+_xlfn.XLOOKUP(TEXT(PTO!D15,0),'M. CANT.'!$D$4:$D$51,'M. CANT.'!$J$4:$J$51) -> 52.8 | G15: =+_xlfn.XLOOKUP($B15,LIST[ID],LIST[V/UNIT]) -> 129259 | H15: =ROUND(F15*G15,2) -> 6824875.2
C16: 3 | D16: HIDRAULICA Y SANITARIA | H16: =+SUM(H17:H17) -> 354288
B17: HS-015 | C17: =C16+0.01 -> 3.01 | D17: =+_xlfn.XLOOKUP($B17,LIST[ID],LIST[DESCRIPCIÓN]) -> MANGUERA POLIURETANO DE ALTA PRESIÓN 1/2" RDE 9 | E17: =+_xlfn.XLOOKUP($B17,LIST[ID],LIST[UNIDAD]) -> M | F17: =+_xlfn.XLOOKUP(TEXT(PTO!D17,0),'M. CANT.'!$D$4:$D$60,'M. CANT.'!$J$4:$J$60) -> 24 | G17: =+_xlfn.XLOOKUP($B17,LIST[ID],LIST[V/UNIT]) -> 14762 | H17: =ROUND(F17*G17,2) -> 354288
C18: VALOR COSTO DIRECTO | H18: =+H11+H5+H16 -> 68140936
C19: ADMINISTRACION | G19: 0.26 | H19: =ROUND($H$18*G19,2) -> 17716643
C20: IMPREVISTOS | G20: 0.02 | H20: =ROUND($H$18*G20,2) -> 1362818.7
C21: UTILIDAD | G21: 0.04 | H21: =ROUND($H$18*G21,2) -> 2725637.5
C22: TOTAL AIU | G22: =SUM(G19:G21) -> 0.32 | H22: =SUM(H19:H21) -> 21805100
B23: VALOR TOTAL PRESUPUESTO DE OBRA | H23: =ROUND(H22+H18,2) -> 89946036
D29: ___________________________________________ | E29: ________________________________________
D30: VoBo ARQ. LINA MARITZA BOCANEGRA QUINTERO | E30: ING. MIGUEL ANDRES CAPERA HERNANDEZ
D31: Secretaria de Planeación e Infraestructura | E31: Proyectó y elaboró

Sheet MED-011
A1: ANALISIS DE PRECIOS UNITARIOS
A3: SECRETARIA DE PLANEACIÓN E INFRAESTRUCTURA
A4: ALCALDÍA MUNICIPAL DE RIOBLANCO - TOLIMA
A6: OBJETO: | B6: =+PTO!D3 -> PAVIMENTACIÓN SECTORIAL DE LA CARRERA 5 ENTRE CALLES 2 Y 3 DEL MUNICIPIO DE RIOBLANCO TOLIMA
A9: ITEM | D9: =+_xlfn.XLOOKUP(D10,PTO!$D$4:$D$15,PTO!$C$4:$C$15) -> #N/A | E9: UNIDAD | F9: =+_xlfn.XLOOKUP($D$10,LIST[DESCRIPCIÓN],LIST[UNIDAD]) -> M | G9: CANTIDAD | H9: 1
A10: DESCRIPCION | D10: BARANDA METÁLICA TUBO PETROLERO 2" TRES LINEAS (INCLUYE PINTURA)
A13: I. MATERIALES
A14: DESCRIPCION | E14: UND | F14: CANT | G14: V. UNITARIO | H14: V. PARCIAL
A15: BARANDA METÁLICA TUBO PETROLERO 2" TRES LINEAS | E15: =IF($A15=0,0,VLOOKUP($A15,INS!$A$2:$E$137,2,FALSE)) -> M | F15: 1 | G15: =IF($A15=0,0,_xlfn.XLOOKUP($A15,INS[DESCRIPCIÓN],INS[PROMEDIO])) -> 200000 | H15: =+F15*G15 -> 200000
A16: CHAZO EXPANSIVO CONCRETO 1/2" | E16: =IF($A16=0,0,VLOOKUP($A16,INS!$A$2:$E$137,2,FALSE)) -> UND | F16: 6 | G16: =IF($A16=0,0,VLOOKUP($A16,INS!$A$2:$G$137,6,FALSE)) -> 3500 | H16: =+F16*G16 -> 21000
A17: PINTURA ESMALTE 3 EN 1 | E17: =IF($A17=0,0,VLOOKUP($A17,INS!$A$2:$E$137,2,FALSE)) -> GLN | F17: 0.1 | G17: =IF($A17=0,0,VLOOKUP($A17,INS!$A$2:$G$137,6,FALSE)) -> 136900 | H17: =+F17*G17 -> 13690
E18: =IF($A18=0,0,VLOOKUP($A18,INS!$A$2:$E$137,2,FALSE)) -> 0 | G18: =IF($A18=0,0,VLOOKUP($A18,INS!$A$2:$G$137,6,FALSE)) -> 0 | H18: =+F18*G18 -> 0
E19: =IF($A19=0,0,VLOOKUP($A19,INS!$A$2:$E$137,2,FALSE)) -> 0 | G19: =IF($A19=0,0,VLOOKUP($A19,INS!$A$2:$G$137,6,FALSE)) -> 0 | H19: =+F19*G19 -> 0
E20: =IF($A20=0,0,VLOOKUP($A20,INS!$A$2:$E$137,2,FALSE)) -> 0 | G20: =IF($A20=0,0,VLOOKUP($A20,INS!$A$2:$G$137,6,FALSE)) -> 0 | H20: =+F20*G20 -> 0
E21: =IF($A21=0,0,VLOOKUP($A21,INS!$A$2:$E$137,2,FALSE)) -> 0 | G21: =IF($A21=0,0,VLOOKUP($A21,INS!$A$2:$G$137,6,FALSE)) -> 0 | H21: =+F21*G21 -> 0
A22: Herramienta menor | E22: %M.O | F22: 0.05 | G22: =H46 -> 53958.333 | H22: =F22*G22 -> 2697.9167
G23: SUBTOTAL | H23: =SUM(H15:H22) -> 237387.92
A25: II. EQUIPO
A26: DESCRIPCION | D26: MARCA | E26: UND | F26: TARIFA/HORA | G26: RENDIMIENTO | H26: V. PARCIAL
A27: COMPRESOR 50 LT | F27: =IF($A27=0,0,VLOOKUP($A27,EQUI!$A$2:$E$20,3,FALSE)) -> 55000 | G27: =+IF($A27=0,0,VLOOKUP($A27,EQUI!$A$2:$E$20,5,FALSE)) -> 0.01 | H27: =F27*G27 -> 550
F28: =IF($A28=0,0,VLOOKUP($A28,EQUI!$A$2:$E$6,3,FALSE)) -> 0 | G28: =+IF($A28=0,0,VLOOKUP($A28,EQUI!$A$2:$E$6,5,FALSE)) -> 0 | H28: =F28*G28 -> 0
G31: SUBTOTAL | H31: =SUM(H27:H30) -> 550
A33: III. TRANSPORTE
A34: MATERIAL | D34: VOL. O PESO (EXP) | E34: DISTANCIA (KM) | F34: CANT | G34: TARIFA | H34: V. PARCIAL
D35: =IF($A$35=0,0,VLOOKUP($A$35,TRANS!$A$2:$F$38,5,FALSE)) -> 0 | E35: =IF($A$35=0,0,VLOOKUP($A$35,TRANS!$A$2:$D$39,3,FALSE)) -> 0 | F35: =+F15 -> 1 | G35: =IF($A$35=0,0,VLOOKUP($A$35,TRANS!$A$2:$D$38,4,FALSE)) -> 0 | H35: =+E35*F35*G35*D35 -> 0
G39: SUBTOTAL | H39: =SUM(H35:H38) -> 0
A41: IV. MANO DE OBRA
A42: DESCRIPCION | D42: V. HORA +PRESTACIONES | E42: CANTIDAD | F42: JORNAL TOTAL | G42: RENDIMIENTO HH | H42: V. PARCIAL
A43: OFICIAL A. | D43: =MO!F31/8 -> 24791.667 | E43: 1 | F43: =D43*E43 -> 24791.667 | G43: =+IF(AND($E$43=1,$E$44=1),_xlfn.XLOOKUP($D$10,REND[DESCRIPCIÓN],REND[RENDIMIENTO (1)]),IF(AND($E$43=1,$E$44=2),_xlfn.XLOOKUP($D$10,REND[DESCRIPCIÓN],REND[RENDIMIENTO (2)]),IF(AND($E$43=1,$E$44=3),_xlfn.XLOOKUP($D$10,REND[DESCRIPCIÓN],REND[RENDIMIENTO (3)]),IF(AND($E$43=1,$E$44=4),_xlfn.XLOOKUP($D$10,REND[DESCRIPCIÓN],REND[RENDIMIENTO (4)]),0)))) -> 1 | H43: =F43*G43 -> 24791.667
A44: AYUDANTE A. | D44: =MO!F14/8 -> 14583.333 | E44: 2 | F44: =D44*E44 -> 29166.667 | G44: =+IF(AND($E$43=1,$E$44=1),_xlfn.XLOOKUP($D$10,REND[DESCRIPCIÓN],REND[RENDIMIENTO (1)]),IF(AND($E$43=1,$E$44=2),_xlfn.XLOOKUP($D$10,REND[DESCRIPCIÓN],REND[RENDIMIENTO (2)]),IF(AND($E$43=1,$E$44=3),_xlfn.XLOOKUP($D$10,REND[DESCRIPCIÓN],REND[RENDIMIENTO (3)]),IF(AND($E$43=1,$E$44=4),_xlfn.XLOOKUP($D$10,REND[DESCRIPCIÓN],REND[RENDIMIENTO (4)]),0)))) -> 1 | H44: =F44*G44 -> 29166.667
H45: =F45*G45 -> 0
G46: SUBTOTAL | H46: =SUM(H43:H45) -> 53958.333
A48: VALOR TOTAL | H48: =ROUND(H23+H31+H39+H46,0) -> 291896
A54: VoBo ARQ. LINA MARITZA BOCANEGRA QUINTERO | F54: ING. MIGUEL ANDRES CAPERA HERNANDEZ
A55: Secretaria de Planeación e Infraestructura | F55: Proyectó y elaboró

Sheet MED-010
A1: ANALISIS DE PRECIOS UNITARIOS
A3: SECRETARIA DE PLANEACIÓN E INFRAESTRUCTURA
A4: ALCALDÍA MUNICIPAL DE RIOBLANCO - TOLIMA
A6: OBJETO: | B6: =+PTO!D3 -> PAVIMENTACIÓN SECTORIAL DE LA CARRERA 5 ENTRE CALLES 2 Y 3 DEL MUNICIPIO DE RIOBLANCO TOLIMA
A9: ITEM | D9: =+_xlfn.XLOOKUP(D10,PTO!$D$4:$D$15,PTO!$C$4:$C$15) -> #N/A | E9: UNIDAD | F9: =+_xlfn.XLOOKUP($D$10,LIST[DESCRIPCIÓN],LIST[UNIDAD]) -> M | G9: CANTIDAD | H9: 1
A10: DESCRIPCION | D10: BARANDA EN ALUMINIO 5 TUBOS, INCLUYE POSTES Y ACCESORIOS
A13: I. MATERIALES
A14: DESCRIPCION | E14: UND | F14: CANT | G14: V. UNITARIO | H14: V. PARCIAL
A15: BARANDA EN ALUIMINIO 5 LINEAS, INCLUYE 2 POSTES L=2M | E15: =IF($A15=0,0,VLOOKUP($A15,INS!$A$2:$E$137,2,FALSE)) -> UND | F15: 1.3 | G15: =IF($A15=0,0,_xlfn.XLOOKUP($A15,INS[DESCRIPCIÓN],INS[PROMEDIO])) -> 699900 | H15: =+F15*G15 -> 909870
A16: CHAZO EXPANSIVO CONCRETO 1/2" | E16: =IF($A16=0,0,VLOOKUP($A16,INS!$A$2:$E$137,2,FALSE)) -> UND | F16: 6 | G16: =IF($A16=0,0,VLOOKUP($A16,INS!$A$2:$G$137,6,FALSE)) -> 3500 | H16: =+F16*G16 -> 21000
E17: =IF($A17=0,0,VLOOKUP($A17,INS!$A$2:$E$137,2,FALSE)) -> 0 | G17: =IF($A17=0,0,VLOOKUP($A17,INS!$A$2:$G$137,6,FALSE)) -> 0 | H17: =+F17*G17 -> 0
E18: =IF($A18=0,0,VLOOKUP($A18,INS!$A$2:$E$137,2,FALSE)) -> 0 | G18: =IF($A18=0,0,VLOOKUP($A18,INS!$A$2:$G$137,6,FALSE)) -> 0 | H18: =+F18*G18 -> 0
E19: =IF($A19=0,0,VLOOKUP($A19,INS!$A$2:$E$137,2,FALSE)) -> 0 | G19: =IF($A19=0,0,VLOOKUP($A19,INS!$A$2:$G$137,6,FALSE)) -> 0 | H19: =+F19*G19 -> 0
E20: =IF($A20=0,0,VLOOKUP($A20,INS!$A$2:$E$137,2,FALSE)) -> 0 | G20: =IF($A20=0,0,VLOOKUP($A20,INS!$A$2:$G$137,6,FALSE)) -> 0 | H20: =+F20*G20 -> 0
E21: =IF($A21=0,0,VLOOKUP($A21,INS!$A$2:$E$137,2,FALSE)) -> 0 | G21: =IF($A21=0,0,VLOOKUP($A21,INS!$A$2:$G$137,6,FALSE)) -> 0 | H21: =+F21*G21 -> 0
A22: Herramienta menor | E22: %M.O | F22: 0.05 | G22: =H46 -> 53958.333 | H22: =F22*G22 -> 2697.9167
G23: SUBTOTAL | H23: =SUM(H15:H22) -> 933567.92
A25: II. EQUIPO
A26: DESCRIPCION | D26: MARCA | E26: UND | F26: TARIFA/HORA | G26: RENDIMIENTO | H26: V. PARCIAL
F27: =IF($A27=0,0,VLOOKUP($A27,EQUI!$A$2:$E$6,3,FALSE)) -> 0 | G27: =+IF($A27=0,0,VLOOKUP($A27,EQUI!$A$2:$E$6,5,FALSE)) -> 0 | H27: =F27*G27 -> 0
F28: =IF($A28=0,0,VLOOKUP($A28,EQUI!$A$2:$E$6,3,FALSE)) -> 0 | G28: =+IF($A28=0,0,VLOOKUP($A28,EQUI!$A$2:$E$6,5,FALSE)) -> 0 | H28: =F28*G28 -> 0
G31: SUBTOTAL | H31: =SUM(H27:H30) -> 0
A33: III. TRANSPORTE
A34: MATERIAL | D34: VOL. O PESO (EXP) | E34: DISTANCIA (KM) | F34: CANT | G34: TARIFA | H34: V. PARCIAL
D35: =IF($A$35=0,0,VLOOKUP($A$35,TRANS!$A$2:$F$38,5,FALSE)) -> 0 | E35: =IF($A$35=0,0,VLOOKUP($A$35,TRANS!$A$2:$D$39,3,FALSE)) -> 0 | F35: =+F15 -> 1.3 | G35: =IF($A$35=0,0,VLOOKUP($A$35,TRANS!$A$2:$D$38,4,FALSE)) -> 0 | H35: =+E35*F35*G35*D35 -> 0
G39: SUBTOTAL | H39: =SUM(H35:H38) -> 0
A41: IV. MANO DE OBRA
A42: DESCRIPCION | D42: V. HORA +PRESTACIONES | E42: CANTIDAD | F42: JORNAL TOTAL | G42: RENDIMIENTO HH | H42: V. PARCIAL
A43: OFICIAL A. | D43: =MO!F31/8 -> 24791.667 | E43: 1 | F43: =D43*E43 -> 24791.667 | G43: =+IF(AND($E$43=1,$E$44=1),_xlfn.XLOOKUP($D$10,REND[DESCRIPCIÓN],REND[RENDIMIENTO (1)]),IF(AND($E$43=1,$E$44=2),_xlfn.XLOOKUP($D$10,REND[DESCRIPCIÓN],REND[RENDIMIENTO (2)]),IF(AND($E$43=1,$E$44=3),_xlfn.XLOOKUP($D$10,REND[DESCRIPCIÓN],REND[RENDIMIENTO (3)]),IF(AND($E$43=1,$E$44=4),_xlfn.XLOOKUP($D$10,REND[DESCRIPCIÓN],REND[RENDIMIENTO (4)]),0)))) -> 1 | H43: =F43*G43 -> 24791.667
A44: AYUDANTE A. | D44: =MO!F14/8 -> 14583.333 | E44: 2 | F44: =D44*E44 -> 29166.667 | G44: =+IF(AND($E$43=1,$E$44=1),_xlfn.XLOOKUP($D$10,REND[DESCRIPCIÓN],REND[RENDIMIENTO (1)]),IF(AND($E$43=1,$E$44=2),_xlfn.XLOOKUP($D$10,REND[DESCRIPCIÓN],REND[RENDIMIENTO (2)]),IF(AND($E$43=1,$E$44=3),_xlfn.XLOOKUP($D$10,REND[DESCRIPCIÓN],REND[RENDIMIENTO (3)]),IF(AND($E$43=1,$E$44=4),_xlfn.XLOOKUP($D$10,REND[DESCRIPCIÓN],REND[RENDIMIENTO (4)]),0)))) -> 1 | H44: =F44*G44 -> 29166.667
H45: =F45*G45 -> 0
G46: SUBTOTAL | H46: =SUM(H43:H45) -> 53958.333
A48: VALOR TOTAL | H48: =ROUND(H23+H31+H39+H46,0) -> 987526
A54: VoBo ARQ. LINA MARITZA BOCANEGRA QUINTERO | F54: ING. MIGUEL ANDRES CAPERA HERNANDEZ
A55: Secretaria de Planeación e Infraestructura | F55: Proyectó y elaboró

Sheet MED-009
A1: ANALISIS DE PRECIOS UNITARIOS
A3: SECRETARIA DE PLANEACIÓN E INFRAESTRUCTURA
A4: ALCALDÍA MUNICIPAL DE RIOBLANCO - TOLIMA
A6: OBJETO: | B6: =+PTO!D3 -> PAVIMENTACIÓN SECTORIAL DE LA CARRERA 5 ENTRE CALLES 2 Y 3 DEL MUNICIPIO DE RIOBLANCO TOLIMA
A9: ITEM | D9: =+_xlfn.XLOOKUP(D10,PTO!$D$4:$D$15,PTO!$C$4:$C$15) -> #N/A | E9: UNIDAD | F9: =+_xlfn.XLOOKUP($D$10,LIST[DESCRIPCIÓN],LIST[UNIDAD]) -> UND | G9: CANTIDAD | H9: 1
A10: DESCRIPCION | D10: SUMINISTRO E INSTALACION DE MAQUINA BIOSALUDABLE PONY DE 1X0.6X1.5 M. CON CERTIFICADO TUV GS, ISO 9000 Y DEMAS NORMAS APLICABLES - INCLUYE TODO PARA SU CORRECTO FUNCIONAMIENTO
A13: I. MATERIALES
A14: DESCRIPCION | E14: UND | F14: CANT | G14: V. UNITARIO | H14: V. PARCIAL
A15: MAQUINA BIOSALUDABLE PONY DE 1X0.6X1.5 CON CERTIFICADO TUV GS, ISO 9000 Y DEMAS NORMAS APLICABLES - INCLUYE TODO PARA SU CORRECTO FUNCIONAMIENTO. | E15: =IF($A15=0,0,VLOOKUP($A15,INS!$A$2:$E$137,2,FALSE)) -> UND | F15: 1 | G15: =IF($A15=0,0,VLOOKUP($A15,INS!$A$2:$G$137,6,FALSE)) -> 2374289 | H15: =+F15*G15 -> 2374289
A16: CONCRETO 3.000 PSI | E16: =IF($A16=0,0,VLOOKUP($A16,INS!$A$2:$E$137,2,FALSE)) -> M3 | F16: =0.6*0.6*0.8 -> 0.288 | G16: =IF($A16=0,0,VLOOKUP($A16,INS!$A$2:$G$137,6,FALSE)) -> 1111084 | H16: =+F16*G16 -> 319992.19
A17: CHAZO EXPANSIVO CONCRETO 1/2" | E17: =IF($A17=0,0,VLOOKUP($A17,INS!$A$2:$E$137,2,FALSE)) -> UND | F17: 6 | G17: =IF($A17=0,0,VLOOKUP($A17,INS!$A$2:$G$137,6,FALSE)) -> 3500 | H17: =+F17*G17 -> 21000
E18: =IF($A18=0,0,VLOOKUP($A18,INS!$A$2:$E$137,2,FALSE)) -> 0 | G18: =IF($A18=0,0,VLOOKUP($A18,INS!$A$2:$G$137,6,FALSE)) -> 0 | H18: =+F18*G18 -> 0
E19: =IF($A19=0,0,VLOOKUP($A19,INS!$A$2:$E$137,2,FALSE)) -> 0 | G19: =IF($A19=0,0,VLOOKUP($A19,INS!$A$2:$G$137,6,FALSE)) -> 0 | H19: =+F19*G19 -> 0
E20: =IF($A20=0,0,VLOOKUP($A20,INS!$A$2:$E$137,2,FALSE)) -> 0 | G20: =IF($A20=0,0,VLOOKUP($A20,INS!$A$2:$G$137,6,FALSE)) -> 0 | H20: =+F20*G20 -> 0
E21: =IF($A21=0,0,VLOOKUP($A21,INS!$A$2:$E$137,2,FALSE)) -> 0 | G21: =IF($A21=0,0,VLOOKUP($A21,INS!$A$2:$G$137,6,FALSE)) -> 0 | H21: =+F21*G21 -> 0
A22: Herramienta menor | E22: %M.O | F22: 0.05 | G22: =H46 -> 323750 | H22: =F22*G22 -> 16187.5
G23: SUBTOTAL | H23: =SUM(H15:H22) -> 2731468.7
A25: II. EQUIPO
A26: DESCRIPCION | D26: MARCA | E26: UND | F26: TARIFA/HORA | G26: RENDIMIENTO | H26: V. PARCIAL
F27: =IF($A27=0,0,VLOOKUP($A27,EQUI!$A$2:$E$6,3,FALSE)) -> 0 | G27: =+IF($A27=0,0,VLOOKUP($A27,EQUI!$A$2:$E$6,5,FALSE)) -> 0 | H27: =F27*G27 -> 0
F28: =IF($A28=0,0,VLOOKUP($A28,EQUI!$A$2:$E$6,3,FALSE)) -> 0 | G28: =+IF($A28=0,0,VLOOKUP($A28,EQUI!$A$2:$E$6,5,FALSE)) -> 0 | H28: =F28*G28 -> 0
G31: SUBTOTAL | H31: =SUM(H27:H30) -> 0
A33: III. TRANSPORTE
A34: MATERIAL | D34: VOL. O PESO (EXP) | E34: DISTANCIA (KM) | F34: CANT | G34: TARIFA | H34: V. PARCIAL
A35: TRANSPORTE EQUIPO BIOSALUDABLE | D35: =IF($A$35=0,0,VLOOKUP($A$35,TRANS!$A$2:$F$38,5,FALSE)) -> 1 | E35: =IF($A$35=0,0,VLOOKUP($A$35,TRANS!$A$2:$D$39,3,FALSE)) -> 195 | F35: =+F15 -> 1 | G35: =IF($A$35=0,0,VLOOKUP($A$35,TRANS!$A$2:$D$38,4,FALSE)) -> 1700 | H35: =+E35*F35*G35*D35 -> 331500
G39: SUBTOTAL | H39: =SUM(H35:H38) -> 331500
A41: IV. MANO DE OBRA
A42: DESCRIPCION | D42: V. HORA +PRESTACIONES | E42: CANTIDAD | F42: JORNAL TOTAL | G42: RENDIMIENTO HH | H42: V. PARCIAL
A43: OFICIAL A. | D43: =MO!F31/8 -> 24791.667 | E43: 1 | F43: =D43*E43 -> 24791.667 | G43: =+IF(AND($E$43=1,$E$44=1),_xlfn.XLOOKUP($D$10,REND[DESCRIPCIÓN],REND[RENDIMIENTO (1)]),IF(AND($E$43=1,$E$44=2),_xlfn.XLOOKUP($D$10,REND[DESCRIPCIÓN],REND[RENDIMIENTO (2)]),IF(AND($E$43=1,$E$44=3),_xlfn.XLOOKUP($D$10,REND[DESCRIPCIÓN],REND[RENDIMIENTO (3)]),IF(AND($E$43=1,$E$44=4),_xlfn.XLOOKUP($D$10,REND[DESCRIPCIÓN],REND[RENDIMIENTO (4)]),0)))) -> 6 | H43: =F43*G43 -> 148750
A44: AYUDANTE A. | D44: =MO!F14/8 -> 14583.333 | E44: 2 | F44: =D44*E44 -> 29166.667 | G44: =+IF(AND($E$43=1,$E$44=1),_xlfn.XLOOKUP($D$10,REND[DESCRIPCIÓN],REND[RENDIMIENTO (1)]),IF(AND($E$43=1,$E$44=2),_xlfn.XLOOKUP($D$10,REND[DESCRIPCIÓN],REND[RENDIMIENTO (2)]),IF(AND($E$43=1,$E$44=3),_xlfn.XLOOKUP($D$10,REND[DESCRIPCIÓN],REND[RENDIMIENTO (3)]),IF(AND($E$43=1,$E$44=4),_xlfn.XLOOKUP($D$10,REND[DESCRIPCIÓN],REND[RENDIMIENTO (4)]),0)))) -> 6 | H44: =F44*G44 -> 175000
H45: =F45*G45 -> 0
G46: SUBTOTAL | H46: =SUM(H43:H45) -> 323750
A48: VALOR TOTAL | H48: =ROUND(H23+H31+H39+H46,0) -> 3386719
A54: VoBo ARQ. LINA MARITZA BOCANEGRA QUINTERO | F54: ING. MIGUEL ANDRES CAPERA HERNANDEZ
A55: Secretaria de Planeación e Infraestructura | F55: Proyectó y elaboró

Sheet MED-008
A1: ANALISIS DE PRECIOS UNITARIOS
A3: SECRETARIA DE PLANEACIÓN E INFRAESTRUCTURA
A4: ALCALDÍA MUNICIPAL DE RIOBLANCO - TOLIMA
A6: OBJETO: | B6: =+PTO!D3 -> PAVIMENTACIÓN SECTORIAL DE LA CARRERA 5 ENTRE CALLES 2 Y 3 DEL MUNICIPIO DE RIOBLANCO TOLIMA
A9: ITEM | D9: =+_xlfn.XLOOKUP(D10,PTO!$D$4:$D$15,PTO!$C$4:$C$15) -> #N/A | E9: UNIDAD | F9: =+_xlfn.XLOOKUP($D$10,LIST[DESCRIPCIÓN],LIST[UNIDAD]) -> UND | G9: CANTIDAD | H9: 1
A10: DESCRIPCION | D10: SUMINISTRO E INSTALACION DE MAQUINA BIOSALUDABLE BICICLETA DE 0.9x0.6x1.5 M. CON CERTIFICADO TUV GS, ISO 9000 Y DEMAS NORMAS APLICABLES - INCLUYE TODO PARA SU CORRECTO FUNCIONAMIENTO
A13: I. MATERIALES
A14: DESCRIPCION | E14: UND | F14: CANT | G14: V. UNITARIO | H14: V. PARCIAL
A15: MAQUINA BIOSALUDABLE BICICLETA DE 0.9x0.6x1.5 CON CERTIFICADO TUV GS, ISO 9000 Y DEMAS NORMAS APLICABLES - INCLUYE TODO PARA SU CORRECTO FUNCIONAMIENTO. | E15: =IF($A15=0,0,VLOOKUP($A15,INS!$A$2:$E$137,2,FALSE)) -> UND | F15: 1 | G15: =IF($A15=0,0,VLOOKUP($A15,INS!$A$2:$G$137,6,FALSE)) -> 3495864 | H15: =+F15*G15 -> 3495864
A16: CONCRETO 3.000 PSI | E16: =IF($A16=0,0,VLOOKUP($A16,INS!$A$2:$E$137,2,FALSE)) -> M3 | F16: =0.6*0.6*0.8 -> 0.288 | G16: =IF($A16=0,0,VLOOKUP($A16,INS!$A$2:$G$137,6,FALSE)) -> 1111084 | H16: =+F16*G16 -> 319992.19
A17: CHAZO EXPANSIVO CONCRETO 1/2" | E17: =IF($A17=0,0,VLOOKUP($A17,INS!$A$2:$E$137,2,FALSE)) -> UND | F17: 6 | G17: =IF($A17=0,0,VLOOKUP($A17,INS!$A$2:$G$137,6,FALSE)) -> 3500 | H17: =+F17*G17 -> 21000
E18: =IF($A18=0,0,VLOOKUP($A18,INS!$A$2:$E$137,2,FALSE)) -> 0 | G18: =IF($A18=0,0,VLOOKUP($A18,INS!$A$2:$G$137,6,FALSE)) -> 0 | H18: =+F18*G18 -> 0
E19: =IF($A19=0,0,VLOOKUP($A19,INS!$A$2:$E$137,2,FALSE)) -> 0 | G19: =IF($A19=0,0,VLOOKUP($A19,INS!$A$2:$G$137,6,FALSE)) -> 0 | H19: =+F19*G19 -> 0
E20: =IF($A20=0,0,VLOOKUP($A20,INS!$A$2:$E$137,2,FALSE)) -> 0 | G20: =IF($A20=0,0,VLOOKUP($A20,INS!$A$2:$G$137,6,FALSE)) -> 0 | H20: =+F20*G20 -> 0
E21: =IF($A21=0,0,VLOOKUP($A21,INS!$A$2:$E$137,2,FALSE)) -> 0 | G21: =IF($A21=0,0,VLOOKUP($A21,INS!$A$2:$G$137,6,FALSE)) -> 0 | H21: =+F21*G21 -> 0
A22: Herramienta menor | E22: %M.O | F22: 0.05 | G22: =H46 -> 323750 | H22: =F22*G22 -> 16187.5
G23: SUBTOTAL | H23: =SUM(H15:H22) -> 3853043.7
A25: II. EQUIPO
A26: DESCRIPCION | D26: MARCA | E26: UND | F26: TARIFA/HORA | G26: RENDIMIENTO | H26: V. PARCIAL
F27: =IF($A27=0,0,VLOOKUP($A27,EQUI!$A$2:$E$6,3,FALSE)) -> 0 | G27: =+IF($A27=0,0,VLOOKUP($A27,EQUI!$A$2:$E$6,5,FALSE)) -> 0 | H27: =F27*G27 -> 0
F28: =IF($A28=0,0,VLOOKUP($A28,EQUI!$A$2:$E$6,3,FALSE)) -> 0 | G28: =+IF($A28=0,0,VLOOKUP($A28,EQUI!$A$2:$E$6,5,FALSE)) -> 0 | H28: =F28*G28 -> 0
G31: SUBTOTAL | H31: =SUM(H27:H30) -> 0
A33: III. TRANSPORTE
A34: MATERIAL | D34: VOL. O PESO (EXP) | E34: DISTANCIA (KM) | F34: CANT | G34: TARIFA | H34: V. PARCIAL
A35: TRANSPORTE EQUIPO BIOSALUDABLE | D35: =IF($A$35=0,0,VLOOKUP($A$35,TRANS!$A$2:$F$38,5,FALSE)) -> 1 | E35: =IF($A$35=0,0,VLOOKUP($A$35,TRANS!$A$2:$D$39,3,FALSE)) -> 195 | F35: =+F15 -> 1 | G35: =IF($A$35=0,0,VLOOKUP($A$35,TRANS!$A$2:$D$38,4,FALSE)) -> 1700 | H35: =+E35*F35*G35*D35 -> 331500
G39: SUBTOTAL | H39: =SUM(H35:H38) -> 331500
A41: IV. MANO DE OBRA
A42: DESCRIPCION | D42: V. HORA +PRESTACIONES | E42: CANTIDAD | F42: JORNAL TOTAL | G42: RENDIMIENTO HH | H42: V. PARCIAL
A43: OFICIAL A. | D43: =MO!F31/8 -> 24791.667 | E43: 1 | F43: =D43*E43 -> 24791.667 | G43: =+IF(AND($E$43=1,$E$44=1),_xlfn.XLOOKUP($D$10,REND[DESCRIPCIÓN],REND[RENDIMIENTO (1)]),IF(AND($E$43=1,$E$44=2),_xlfn.XLOOKUP($D$10,REND[DESCRIPCIÓN],REND[RENDIMIENTO (2)]),IF(AND($E$43=1,$E$44=3),_xlfn.XLOOKUP($D$10,REND[DESCRIPCIÓN],REND[RENDIMIENTO (3)]),IF(AND($E$43=1,$E$44=4),_xlfn.XLOOKUP($D$10,REND[DESCRIPCIÓN],REND[RENDIMIENTO (4)]),0)))) -> 6 | H43: =F43*G43 -> 148750
A44: AYUDANTE A. | D44: =MO!F14/8 -> 14583.333 | E44: 2 | F44: =D44*E44 -> 29166.667 | G44: =+IF(AND($E$43=1,$E$44=1),_xlfn.XLOOKUP($D$10,REND[DESCRIPCIÓN],REND[RENDIMIENTO (1)]),IF(AND($E$43=1,$E$44=2),_xlfn.XLOOKUP($D$10,REND[DESCRIPCIÓN],REND[RENDIMIENTO (2)]),IF(AND($E$43=1,$E$44=3),_xlfn.XLOOKUP($D$10,REND[DESCRIPCIÓN],REND[RENDIMIENTO (3)]),IF(AND($E$43=1,$E$44=4),_xlfn.XLOOKUP($D$10,REND[DESCRIPCIÓN],REND[RENDIMIENTO (4)]),0)))) -> 6 | H44: =F44*G44 -> 175000
H45: =F45*G45 -> 0
G46: SUBTOTAL | H46: =SUM(H43:H45) -> 323750
A48: VALOR TOTAL | H48: =ROUND(H23+H31+H39+H46,0) -> 4508294
A54: VoBo ARQ. LINA MARITZA BOCANEGRA QUINTERO | F54: ING. MIGUEL ANDRES CAPERA HERNANDEZ
A55: Secretaria de Planeación e Infraestructura | F55: Proyectó y elaboró

Sheet MED-007
A1: ANALISIS DE PRECIOS UNITARIOS
A3: SECRETARIA DE PLANEACIÓN E INFRAESTRUCTURA
A4: ALCALDÍA MUNICIPAL DE RIOBLANCO - TOLIMA
A6: OBJETO: | B6: =+PTO!D3 -> PAVIMENTACIÓN SECTORIAL DE LA CARRERA 5 ENTRE CALLES 2 Y 3 DEL MUNICIPIO DE RIOBLANCO TOLIMA
A9: ITEM | D9: =+_xlfn.XLOOKUP(D10,PTO!$D$4:$D$15,PTO!$C$4:$C$15) -> #N/A | E9: UNIDAD | F9: =+_xlfn.XLOOKUP($D$10,LIST[DESCRIPCIÓN],LIST[UNIDAD]) -> UND | G9: CANTIDAD | H9: 1
A10: DESCRIPCION | D10: SUMINISTRO E INSTALACION DE MAQUINA BIOSALUDABLE SURF DOBLE DE 1.1x0.9x1.3 M. CON CERTIFICADO TUV GS, ISO 9000 Y DEMAS NORMAS APLICABLES - INCLUYE TODO PARA SU CORRECTO FUNCIONAMIENTO
A13: I. MATERIALES
A14: DESCRIPCION | E14: UND | F14: CANT | G14: V. UNITARIO | H14: V. PARCIAL
A15: MAQUINA BIOSALUDABLE SURF DOBLE DE 1.1x0.9x1.3 CON CERTIFICADO TUV GS, ISO 9000 Y DEMAS NORMAS APLICABLES - INCLUYE TODO PARA SU CORRECTO FUNCIONAMIENTO. | E15: =IF($A15=0,0,VLOOKUP($A15,INS!$A$2:$E$137,2,FALSE)) -> UND | F15: 1 | G15: =IF($A15=0,0,VLOOKUP($A15,INS!$A$2:$G$137,6,FALSE)) -> 3318317 | H15: =+F15*G15 -> 3318317
A16: CONCRETO 3.000 PSI | E16: =IF($A16=0,0,VLOOKUP($A16,INS!$A$2:$E$137,2,FALSE)) -> M3 | F16: =0.6*0.6*0.8 -> 0.288 | G16: =IF($A16=0,0,VLOOKUP($A16,INS!$A$2:$G$137,6,FALSE)) -> 1111084 | H16: =+F16*G16 -> 319992.19
A17: CHAZO EXPANSIVO CONCRETO 1/2" | E17: =IF($A17=0,0,VLOOKUP($A17,INS!$A$2:$E$137,2,FALSE)) -> UND | F17: 6 | G17: =IF($A17=0,0,VLOOKUP($A17,INS!$A$2:$G$137,6,FALSE)) -> 3500 | H17: =+F17*G17 -> 21000
E18: =IF($A18=0,0,VLOOKUP($A18,INS!$A$2:$E$137,2,FALSE)) -> 0 | G18: =IF($A18=0,0,VLOOKUP($A18,INS!$A$2:$G$137,6,FALSE)) -> 0 | H18: =+F18*G18 -> 0
E19: =IF($A19=0,0,VLOOKUP($A19,INS!$A$2:$E$137,2,FALSE)) -> 0 | G19: =IF($A19=0,0,VLOOKUP($A19,INS!$A$2:$G$137,6,FALSE)) -> 0 | H19: =+F19*G19 -> 0
E20: =IF($A20=0,0,VLOOKUP($A20,INS!$A$2:$E$137,2,FALSE)) -> 0 | G20: =IF($A20=0,0,VLOOKUP($A20,INS!$A$2:$G$137,6,FALSE)) -> 0 | H20: =+F20*G20 -> 0
E21: =IF($A21=0,0,VLOOKUP($A21,INS!$A$2:$E$137,2,FALSE)) -> 0 | G21: =IF($A21=0,0,VLOOKUP($A21,INS!$A$2:$G$137,6,FALSE)) -> 0 | H21: =+F21*G21 -> 0
A22: Herramienta menor | E22: %M.O | F22: 0.05 | G22: =H46 -> 323750 | H22: =F22*G22 -> 16187.5
G23: SUBTOTAL | H23: =SUM(H15:H22) -> 3675496.7
A25: II. EQUIPO
A26: DESCRIPCION | D26: MARCA | E26: UND | F26: TARIFA/HORA | G26: RENDIMIENTO | H26: V. PARCIAL
F27: =IF($A27=0,0,VLOOKUP($A27,EQUI!$A$2:$E$6,3,FALSE)) -> 0 | G27: =+IF($A27=0,0,VLOOKUP($A27,EQUI!$A$2:$E$6,5,FALSE)) -> 0 | H27: =F27*G27 -> 0
F28: =IF($A28=0,0,VLOOKUP($A28,EQUI!$A$2:$E$6,3,FALSE)) -> 0 | G28: =+IF($A28=0,0,VLOOKUP($A28,EQUI!$A$2:$E$6,5,FALSE)) -> 0 | H28: =F28*G28 -> 0
G31: SUBTOTAL | H31: =SUM(H27:H30) -> 0
A33: III. TRANSPORTE
A34: MATERIAL | D34: VOL. O PESO (EXP) | E34: DISTANCIA (KM) | F34: CANT | G34: TARIFA | H34: V. PARCIAL
A35: TRANSPORTE EQUIPO BIOSALUDABLE | D35: =IF($A$35=0,0,VLOOKUP($A$35,TRANS!$A$2:$F$38,5,FALSE)) -> 1 | E35: =IF($A$35=0,0,VLOOKUP($A$35,TRANS!$A$2:$D$39,3,FALSE)) -> 195 | F35: =+F15 -> 1 | G35: =IF($A$35=0,0,VLOOKUP($A$35,TRANS!$A$2:$D$38,4,FALSE)) -> 1700 | H35: =+E35*F35*G35*D35 -> 331500
G39: SUBTOTAL | H39: =SUM(H35:H38) -> 331500
A41: IV. MANO DE OBRA
A42: DESCRIPCION | D42: V. HORA +PRESTACIONES | E42: CANTIDAD | F42: JORNAL TOTAL | G42: RENDIMIENTO HH | H42: V. PARCIAL
A43: OFICIAL A. | D43: =MO!F31/8 -> 24791.667 | E43: 1 | F43: =D43*E43 -> 24791.667 | G43: =+IF(AND($E$43=1,$E$44=1),_xlfn.XLOOKUP($D$10,REND[DESCRIPCIÓN],REND[RENDIMIENTO (1)]),IF(AND($E$43=1,$E$44=2),_xlfn.XLOOKUP($D$10,REND[DESCRIPCIÓN],REND[RENDIMIENTO (2)]),IF(AND($E$43=1,$E$44=3),_xlfn.XLOOKUP($D$10,REND[DESCRIPCIÓN],REND[RENDIMIENTO (3)]),IF(AND($E$43=1,$E$44=4),_xlfn.XLOOKUP($D$10,REND[DESCRIPCIÓN],REND[RENDIMIENTO (4)]),0)))) -> 6 | H43: =F43*G43 -> 148750
A44: AYUDANTE A. | D44: =MO!F14/8 -> 14583.333 | E44: 2 | F44: =D44*E44 -> 29166.667 | G44: =+IF(AND($E$43=1,$E$44=1),_xlfn.XLOOKUP($D$10,REND[DESCRIPCIÓN],REND[RENDIMIENTO (1)]),IF(AND($E$43=1,$E$44=2),_xlfn.XLOOKUP($D$10,REND[DESCRIPCIÓN],REND[RENDIMIENTO (2)]),IF(AND($E$43=1,$E$44=3),_xlfn.XLOOKUP($D$10,REND[DESCRIPCIÓN],REND[RENDIMIENTO (3)]),IF(AND($E$43=1,$E$44=4),_xlfn.XLOOKUP($D$10,REND[DESCRIPCIÓN],REND[RENDIMIENTO (4)]),0)))) -> 6 | H44: =F44*G44 -> 175000
H45: =F45*G45 -> 0
G46: SUBTOTAL | H46: =SUM(H43:H45) -> 323750
A48: VALOR TOTAL | H48: =ROUND(H23+H31+H39+H46,0) -> 4330747
A54: VoBo ARQ. LINA MARITZA BOCANEGRA QUINTERO | F54: ING. MIGUEL ANDRES CAPERA HERNANDEZ
A55: Secretaria de Planeación e Infraestructura | F55: Proyectó y elaboró

Sheet MED-006
A1: ANALISIS DE PRECIOS UNITARIOS
A3: SECRETARIA DE PLANEACIÓN E INFRAESTRUCTURA
A4: ALCALDÍA MUNICIPAL DE RIOBLANCO - TOLIMA
A6: OBJETO: | B6: =+PTO!D3 -> PAVIMENTACIÓN SECTORIAL DE LA CARRERA 5 ENTRE CALLES 2 Y 3 DEL MUNICIPIO DE RIOBLANCO TOLIMA
A9: ITEM | D9: =+_xlfn.XLOOKUP(D10,PTO!$D$4:$D$15,PTO!$C$4:$C$15) -> #N/A | E9: UNIDAD | F9: =+VLOOKUP($D$10,LIST!B3:C121,2,FALSE) -> UND | G9: CANTIDAD | H9: 1
A10: DESCRIPCION | D10: SUMINISTRO E INSTALACION DE MAQUINA BIOSALUDABLE COLUMPIO DOBLE DE 1.9x0.5x1.6 CON CERTIFICADO TUV GS, ISO 9000 Y DEMAS NORMAS APLICABLES - INCLUYE TODO PARA SU CORRECTO FUNCIONAMIENTO
A13: I. MATERIALES
A14: DESCRIPCION | E14: UND | F14: CANT | G14: V. UNITARIO | H14: V. PARCIAL
A15: MAQUINA BIOSALUDABLE COLUMPIO DOBLE DE 1.9x0.5x1.6 CON CERTIFICADO TUV GS, ISO 9000 Y DEMAS NORMAS APLICABLES - INCLUYE TODO PARA SU CORRECTO FUNCIONAMIENTO. | E15: =IF($A15=0,0,VLOOKUP($A15,INS!$A$2:$E$137,2,FALSE)) -> UND | F15: 1 | G15: =IF($A15=0,0,VLOOKUP($A15,INS!$A$2:$G$137,6,FALSE)) -> 4206652 | H15: =+F15*G15 -> 4206652
A16: CONCRETO 3.000 PSI | E16: =IF($A16=0,0,VLOOKUP($A16,INS!$A$2:$E$137,2,FALSE)) -> M3 | F16: =0.6*0.6*0.8 -> 0.288 | G16: =IF($A16=0,0,VLOOKUP($A16,INS!$A$2:$G$137,6,FALSE)) -> 1111084 | H16: =+F16*G16 -> 319992.19
A17: CHAZO EXPANSIVO CONCRETO 1/2" | E17: =IF($A17=0,0,VLOOKUP($A17,INS!$A$2:$E$137,2,FALSE)) -> UND | F17: 6 | G17: =IF($A17=0,0,VLOOKUP($A17,INS!$A$2:$G$137,6,FALSE)) -> 3500 | H17: =+F17*G17 -> 21000
E18: =IF($A18=0,0,VLOOKUP($A18,INS!$A$2:$E$137,2,FALSE)) -> 0 | G18: =IF($A18=0,0,VLOOKUP($A18,INS!$A$2:$G$137,6,FALSE)) -> 0 | H18: =+F18*G18 -> 0
E19: =IF($A19=0,0,VLOOKUP($A19,INS!$A$2:$E$137,2,FALSE)) -> 0 | G19: =IF($A19=0,0,VLOOKUP($A19,INS!$A$2:$G$137,6,FALSE)) -> 0 | H19: =+F19*G19 -> 0
E20: =IF($A20=0,0,VLOOKUP($A20,INS!$A$2:$E$137,2,FALSE)) -> 0 | G20: =IF($A20=0,0,VLOOKUP($A20,INS!$A$2:$G$137,6,FALSE)) -> 0 | H20: =+F20*G20 -> 0
E21: =IF($A21=0,0,VLOOKUP($A21,INS!$A$2:$E$137,2,FALSE)) -> 0 | G21: =IF($A21=0,0,VLOOKUP($A21,INS!$A$2:$G$137,6,FALSE)) -> 0 | H21: =+F21*G21 -> 0
A22: Herramienta menor | E22: %M.O | F22: 0.05 | G22: =H46 -> 323750 | H22: =F22*G22 -> 16187.5
G23: SUBTOTAL | H23: =SUM(H15:H22) -> 4563831.7
A25: II. EQUIPO
A26: DESCRIPCION | D26: MARCA | E26: UND | F26: TARIFA/HORA | G26: RENDIMIENTO | H26: V. PARCIAL
