Workbook

Sheet PROMEDIO 9.77
D1: PROMEDIO 9,77 | F1: COTIZACIÓN SERVICIO DE VIGILANCIA MIRO (VALOR MENSUAL DEL 25 DE DICIEMBRE DE 2025 EN ADELANTE) | L1: COTIZACIÓN SERVICIO DE VIGILANCIA ACROPOLIS (VALOR MENSUAL DEL 25 DE DICIEMBRE DE 2025 EN ADELANTE) | R1: COTIZACIÓN SERVICIO DE VIGILANCIA SEGURCOL (VALOR MENSUAL DEL 25 DE DICIEMBRE DE 2025 EN ADELANTE)
A2: ITEM | B2: DESCRIPCIÓN | C2: CANT | D2: PROMEDIO 9,77 | E2: VALOR UNITARIO AL MES | F2: TARIFA BASE | G2: VR. SEGURO VIDA | H2: VR. TARIFA BASE + SG VIDA | I2: %. GASTOS S.A | J2: VR.ANTES DE IVA | K2: VALOR TOTAL MES | L2: TARIFA BASE | M2: VR. SEGURO VIDA | N2: VR. TARIFA BASE + SG VIDA | O2: %. GASTOS S.A | P2: VR.ANTES DE IVA | Q2: VALOR TOTAL MES | R2: TARIFA BASE | S2: VR. SEGURO VIDA | T2: VR. TARIFA BASE + SG VIDA | U2: %. GASTOS S.A | V2: VR.ANTES DE IVA | W2: VALOR TOTAL MES
A3: 1 | B3: Servicio de Vigilancia PERMANENTE 24 HORAS ARMADO de lunes a domingo incluido festivos | C3: 33 | D3: =ROUND(AVERAGE(J3,P3,V3),0) -> 15299912 | E3: =+D3*C3 -> 504897096 | F3: =1423500*9.77 -> 13907595 | G3: 1500 | H3: =SUM(F3:G3) -> 13909095 | I3: =H3*10% -> 1390909.5 | J3: =SUM(H3:I3) -> 15300004 | K3: =+J3*C3 -> 5.0490015e+08 | L3: =1423500*9.77 -> 13907595 | M3: 999 | N3: =SUM(L3:M3) -> 13908594 | O3: =N3*10% -> 1390859.4 | P3: =SUM(N3:O3) -> 15299453 | Q3: =+P3*C3 -> 5.0488196e+08 | R3: =1423500*9.77 -> 13907595 | S3: 1750 | T3: =SUM(R3:S3) -> 13909345 | U3: =T3*10% -> 1390934.5 | V3: =SUM(T3:U3) -> 15300280 | W3: =+V3*C3 -> 5.0490922e+08
A4: 2 | B4: Servicio de Vigilancia PERMANENTE 24 HORAS SIN ARMA de lunes a domingo incluido festivos | C4: 3 | D4: =ROUND(AVERAGE(J4,P4,V4),0) -> 15021732 | E4: =+D4*C4 -> 45065196 | F4: =1423500*9.77 -> 13907595 | G4: 1500 | H4: =SUM(F4:G4) -> 13909095 | I4: =H4*8% -> 1112727.6 | J4: =SUM(H4:I4) -> 15021823 | K4: =+J4*C4 -> 45065468 | L4: =1423500*9.77 -> 13907595 | M4: 999 | N4: =SUM(L4:M4) -> 13908594 | O4: =N4*8% -> 1112687.5 | P4: =SUM(N4:O4) -> 15021282 | Q4: =+P4*C4 -> 45063845 | R4: =1423500*9.77 -> 13907595 | S4: 1750 | T4: =SUM(R4:S4) -> 13909345 | U4: =T4*8% -> 1112747.6 | V4: =SUM(T4:U4) -> 15022093 | W4: =+V4*C4 -> 45066278
A5: 3 | B5: Servicio de Vigilancia Ordinario DIURNO 12 HORAS ARMADO de lunes a viernes sin incluir festivos | C5: 27 | D5: =ROUND(AVERAGE(J5,P5,V5),0) -> 4567126 | E5: =+D5*C5 -> 123312402 | F5: =1423500*9.77 -> 13907595 | G5: 1500 | H5: =SUM(F5:G5)*0.5597/15*12/30*20 -> 4151957.6 | I5: =H5*10% -> 415195.76 | J5: =SUM(H5:I5) -> 4567153.3 | K5: =+J5*C5 -> 1.2331314e+08 | L5: =1423500*9.77 -> 13907595 | M5: 999 | N5: =SUM(L5:M5)*0.5597/15*12/30*20 -> 4151808 | O5: =N5*10% -> 415180.8 | P5: =SUM(N5:O5) -> 4566988.8 | Q5: =+P5*C5 -> 1.233087e+08 | R5: =1423500*9.77 -> 13907595 | S5: 1750 | T5: =SUM(R5:S5)*0.5597/15*12/30*20 -> 4152032.2 | U5: =T5*10% -> 415203.22 | V5: =SUM(T5:U5) -> 4567235.4 | W5: =+V5*C5 -> 1.2331536e+08
A6: 4 | B6: Servicio de Hombre de Protección con Canino 12 HORAS de lunes a viernes sin incluir festivos, con medio de comunicación y dotación completa | C6: 3 | D6: =ROUND(AVERAGE(J6,P6,V6),0) -> 4608618 | E6: =+D6*C6 -> 13825854 | F6: =1423500*9.77 -> 13907595 | G6: 1500 | H6: =SUM(F6:G6)*0.5597/15*12/30*20 -> 4151957.6 | I6: =H6*11% -> 456715.33 | J6: =SUM(H6:I6) -> 4608672.9 | K6: =+J6*C6 -> 13826019 | L6: =1423500*9.77 -> 13907595 | M6: 999 | N6: =SUM(L6:M6)*0.5597/15*12/30*20 -> 4151808 | O6: =N6*11% -> 456698.88 | P6: =SUM(N6:O6) -> 4608506.9 | Q6: =+P6*C6 -> 13825521 | R6: =1423500*9.77 -> 13907595 | S6: 1500 | T6: =SUM(R6:S6)*0.5597/15*12/30*20 -> 4151957.6 | U6: =T6*11% -> 456715.33 | V6: =SUM(T6:U6) -> 4608672.9 | W6: =+V6*C6 -> 13826019
A7: SUBTOTAL SERVICIOS | E7: =SUM(E3:E6) -> 687100548 | K7: =SUM(K3:K6) -> 6.8710478e+08 | Q7: =SUM(Q3:Q6) -> 6.8708003e+08 | W7: =SUM(W3:W6) -> 6.8711688e+08
A8: BASE GRAVABLE (10% AIU) SERVICIOS | E8: =ROUND(E7*10%,0) -> 68710055 | K8: =ROUND(K7*10%,0) -> 68710478 | Q8: =ROUND(Q7*10%,0) -> 68708003 | W8: =ROUND(W7*10%,0) -> 68711688
A9: IVA 19% SOBRE SERVICIOS | E9: =ROUND(E8*19%,0) -> 13054910 | K9: =ROUND(K8*19%,0) -> 13054991 | Q9: =ROUND(Q8*19%,0) -> 13054521 | W9: =ROUND(W8*19%,0) -> 13055221
A10: TOTAL | E10: =+E7+E9 -> 700155458 | K10: =+K7+K9 -> 7.0015977e+08 | Q10: =+Q7+Q9 -> 7.0013455e+08 | W10: =+W7+W9 -> 7.001721e+08
D14: PROMEDIO | F14: COTIZACION MIRO | H14: COTIZACION ACROPOLIS | J14: COTIZACIÓN SEGURCOL
A15: ITEM | B15: DESCRIPCIÓN | C15: CANT | D15: TARIFA BASE | E15: VALOR TOTAL MES | F15: TARIFA BASE | G15: VALOR TOTAL MES | H15: TARIFA BASE | I15: VALOR TOTAL MES | J15: TARIFA BASE | K15: VALOR TOTAL MES
A16: 1 | B16: CCTV en seis sedes (Edificio Edatel, Edificio Bulevar Bolivar, Sede judicial municipio de Turbo, municipio de Bello y en el Edificio José Félix de Restrepo ubicados de la siguiente manera: (1) Sótano y (1) Parqueadero. | C16: 6 | D16: =ROUND(AVERAGE(F16,H16,J16),0) -> 694075 | E16: =+D16*C16 -> 4164450 | F16: 704184 | G16: =F16*C16 -> 4225104 | H16: 928039.62 | I16: =+H16*C16 -> 5568237.7 | J16: 450000 | K16: =J16*C16 -> 2700000
A17: 2 | B17: Sistema de registro y control de ingreso y salida de público (lector de cedula) Edificio José Félix de Restrepo | C17: 4 | D17: =ROUND(AVERAGE(F17,H17,J17),0) -> 516203 | E17: =+D17*C17 -> 2064812 | F17: 402158 | G17: =F17*C17 -> 1608632 | H17: 346452.21 | I17: =+H17*C17 -> 1385808.8 | J17: 800000 | K17: =J17*C17 -> 3200000
A18: 3 | B18: Sistema de registro y control de ingreso y salida de público (lector de cedula) Edificio Edatel | C18: 2 | D18: =ROUND(AVERAGE(F18,H18,J18),0) -> 476457 | E18: =+D18*C18 -> 952914 | F18: 282919 | G18: =F18*C18 -> 565838 | H18: 346452.21 | I18: =+H18*C18 -> 692904.42 | J18: 800000 | K18: =J18*C18 -> 1600000
A19: 4 | B19: Sistema de Control de ingreso y salida empleados (torniquetes – carnet con Ship) Edificio José Félix de Restrepo. | C19: 6 | D19: =ROUND(AVERAGE(F19,H19,J19),0) -> 1051712 | E19: =+D19*C19 -> 6310272 | F19: 1152582 | G19: =F19*C19 -> 6915492 | H19: 1152554.2 | I19: =+H19*C19 -> 6915325.4 | J19: 850000 | K19: =J19*C19 -> 5100000
A20: BASE GRAVABLE (10% AIU) EQUIPOS | E20: =SUM(E16:E19) -> 13492448 | G20: =SUM(G16:G19) -> 13315066 | I20: =SUM(I16:I19) -> 14562276 | K20: =SUM(K16:K19) -> 12600000
A21: IVA 19% SOBRE EQUIPOS | E21: =E20*19% -> 2563565.1 | G21: =G20*19% -> 2529862.5 | I21: =I20*19% -> 2766832.5 | K21: =K20*19% -> 2394000
A22: TOTAL | E22: =+E20+E21 -> 16056013 | G22: =+G20+G21 -> 15844929 | I22: =+I20+I21 -> 17329109 | K22: =+K20+K21 -> 14994000
E27: PROMEDIO SERVICIOS | H27: =+E10 -> 700155458
E28: PROMEDIO EQUIPOS | H28: =+E22 -> 16056013
E29: TOTAL MES | H29: =+H27+H28 -> 7.1621147e+08
E30: VR DIA | H30: =+H29/30 -> 23873716
F33: VR DIA | H33: =+H30 -> 23873716
E34: DIAS | F34: 5 | H34: =+H33*F34 -> 1.1936858e+08
E35: MESES | F35: 6 | H35: =+H29*F35 -> 4.2972688e+09
E36: DIAS 2026 | F36: 25 | H36: =+F36*H33 -> 5.9684289e+08
E37: TOTAL CONTRATO | H37: =+H34+H35+H36 -> 5.0134803e+09

Sheet EQUIPOS
D1: COTIZACION MIRO | F1: COTIZACION ACROPOLIS | H1: COTIZACIÓN SEGURCOL | J1: PROMEDIO
A2: ITEM | B2: DESCRIPCIÓN | C2: CANT | D2: TARIFA BASE | E2: VALOR TOTAL MES | F2: TARIFA BASE | G2: VALOR TOTAL MES | H2: TARIFA BASE | I2: VALOR TOTAL MES | J2: TARIFA BASE | K2: VALOR TOTAL MES
A3: 1 | B3: CCTV en seis sedes (Edificio Edatel, Edificio Bulevar Bolivar, Sede judicial municipio de Turbo, municipio de Bello y en el Edificio José Félix de Restrepo ubicados de la siguiente manera: (1) Sótano y (1) Parqueadero. | C3: 6 | D3: 704184 | E3: =D3*C3 -> 4225104 | F3: 928039.62 | G3: =+F3*C3 -> 5568237.7 | H3: 450000 | I3: =H3*C3 -> 2700000 | J3: =ROUND(AVERAGE(D3,F3,H3),0) -> 694075 | K3: =+J3*C3 -> 4164450
A4: 2 | B4: Sistema de registro y control de ingreso y salida de público (lector de cedula) Edificio José Félix de Restrepo | C4: 4 | D4: 402158 | E4: =D4*C4 -> 1608632 | F4: 346452.21 | G4: =+F4*C4 -> 1385808.8 | H4: 800000 | I4: =H4*C4 -> 3200000 | J4: =ROUND(AVERAGE(D4,F4,),0) -> 249537 | K4: =+J4*C4 -> 998148
A5: 3 | B5: Sistema de registro y control de ingreso y salida de público (lector de cedula) Edificio Edatel | C5: 2 | D5: 282919 | E5: =D5*C5 -> 565838 | F5: 346452.21 | G5: =+F5*C5 -> 692904.42 | H5: 800000 | I5: =H5*C5 -> 1600000 | J5: =ROUND(AVERAGE(D5,F5,H5),0) -> 476457 | K5: =+J5*C5 -> 952914
A6: 4 | B6: Sistema de Control de ingreso y salida empleados (torniquetes – carnet con Ship) Edificio José Félix de Restrepo. | C6: 6 | D6: 1152582 | E6: =D6*C6 -> 6915492 | F6: 1152554.2 | G6: =+F6*C6 -> 6915325.4 | H6: 850000 | I6: =H6*C6 -> 5100000 | J6: =ROUND(AVERAGE(D6,F6,H6),0) -> 1051712 | K6: =+J6*C6 -> 6310272
A7: BASE GRAVABLE (10% AIU) EQUIPOS | E7: =SUM(E3:E6) -> 13315066 | G7: =SUM(G3:G6) -> 14562276 | I7: =SUM(I3:I6) -> 12600000 | K7: =SUM(K3:K6) -> 12425784
A8: IVA 19% SOBRE EQUIPOS | E8: =E7*19% -> 2529862.5 | G8: =G7*19% -> 2766832.5 | I8: =I7*19% -> 2394000 | K8: =K7*19% -> 2360899
A9: TOTAL | E9: =+E7+E8 -> 15844929 | G9: =+G7+G8 -> 17329109 | I9: =+I7+I8 -> 14994000 | K9: =+K7+K8 -> 14786683

Sheet SERVICIOS
D1: COTIZACIÓN SERVICIO DE VIGILANCIA MIRO (VALOR MENSUAL HASTA EL 24 DE DICIEMBRE DE 2025) | J1: COTIZACIÓN SERVICIO DE VIGILANCIA MIRO (VALOR MENSUAL DEL 25 DE DICIEMBRE DE 2025 EN ADELANTE) | P1: COTIZACIÓN SERVICIO DE VIGILANCIA ACROPOLIS (VALOR MENSUAL HASTA EL 24 DE DICIEMBRE DE 2025) | V1: COTIZACIÓN SERVICIO DE VIGILANCIA ACROPOLIS (VALOR MENSUAL DEL 25 DE DICIEMBRE DE 2025 EN ADELANTE) | AB1: COTIZACIÓN SERVICIO DE VIGILANCIA SEGURCOL (VALOR MENSUAL HASTA EL 24 DE DICIEMBRE DE 2025) | AH1: COTIZACIÓN SERVICIO DE VIGILANCIA SEGURCOL (VALOR MENSUAL DEL 25 DE DICIEMBRE DE 2025 EN ADELANTE) | AN1: PROMEDIO MENSUAL
A2: ITEM | B2: DESCRIPCIÓN | C2: CANT | D2: TARIFA BASE | E2: VR. SEGURO VIDA | F2: VR. TARIFA BASE + SG VIDA | G2: %. GASTOS S.A | H2: VR.ANTES DE IVA | I2: VALOR TOTAL MES | J2: TARIFA BASE | K2: VR. SEGURO VIDA | L2: VR. TARIFA BASE + SG VIDA | M2: %. GASTOS S.A | N2: VR.ANTES DE IVA | O2: VALOR TOTAL MES | P2: TARIFA BASE | Q2: VR. SEGURO VIDA | R2: VR. TARIFA BASE + SG VIDA | S2: %. GASTOS S.A | T2: VR.ANTES DE IVA | U2: VALOR TOTAL MES | V2: TARIFA BASE | W2: VR. SEGURO VIDA | X2: VR. TARIFA BASE + SG VIDA | Y2: %. GASTOS S.A | Z2: VR.ANTES DE IVA | AA2: VALOR TOTAL MES | AB2: TARIFA BASE | AC2: VR. SEGURO VIDA | AD2: VR. TARIFA BASE + SG VIDA | AE2: %. GASTOS S.A | AF2: VR.ANTES DE IVA | AG2: VALOR TOTAL MES | AH2: TARIFA BASE | AI2: VR. SEGURO VIDA | AJ2: VR. TARIFA BASE + SG VIDA | AK2: %. GASTOS S.A | AL2: VR.ANTES DE IVA | AM2: VALOR TOTAL MES | AN2: MIRO | AO2: ACROPOLIS | AP2: SEGURCOL | AQ2: VALOR TOTAL MES ANTES IVA | AR2: VALOR UNITARIO AL MES
A3: 1 | B3: Servicio de Vigilancia PERMANENTE 24 HORAS ARMADO de lunes a domingo incluido festivos | C3: 33 | D3: =1423500*9.53 -> 13565955 | E3: 1500 | F3: =SUM(D3:E3) -> 13567455 | G3: =F3*10% -> 1356745.5 | H3: =SUM(F3:G3) -> 14924200 | I3: =H3*C3 -> 4.9249862e+08 | J3: =1423500*9.77 -> 13907595 | K3: 1500 | L3: =SUM(J3:K3) -> 13909095 | M3: =L3*10% -> 1390909.5 | N3: =SUM(L3:M3) -> 15300004 | O3: =+N3*C3 -> 5.0490015e+08 | P3: =1423500*9.53 -> 13565955 | Q3: 999 | R3: =SUM(P3:Q3) -> 13566954 | S3: =R3*10% -> 1356695.4 | T3: =SUM(R3:S3) -> 14923649 | U3: =T3*C3 -> 4.9248043e+08 | V3: =1423500*9.77 -> 13907595 | W3: 999 | X3: =SUM(V3:W3) -> 13908594 | Y3: =X3*10% -> 1390859.4 | Z3: =SUM(X3:Y3) -> 15299453 | AA3: =+Z3*C3 -> 5.0488196e+08 | AB3: =1423500*9.53 -> 13565955 | AC3: 1500 | AD3: =SUM(AB3:AC3) -> 13567455 | AE3: =AD3*10% -> 1356745.5 | AF3: =SUM(AD3:AE3) -> 14924200 | AG3: =+AF3*C3 -> 4.9249862e+08 | AH3: =1423500*9.77 -> 13907595 | AI3: 1750 | AJ3: =SUM(AH3:AI3) -> 13909345 | AK3: =AJ3*10% -> 1390934.5 | AL3: =SUM(AJ3:AK3) -> 15300280 | AM3: =+AL3*C3 -> 5.0490922e+08 | AN3: =((H3/30)*24+(N3/30)*6) -> 14999361 | AO3: =((T3/30)*24+(Z3/30)*6) -> 14998810 | AP3: =((AF3/30)*24+(AL3/30)*6) -> 14999416 | AQ3: =ROUND(AVERAGE(AN3:AP3),0) -> 14999196 | AR3: =ROUND(AQ3*C3,0)-1 -> 494973467
A4: 2 | B4: Servicio de Vigilancia PERMANENTE 24 HORAS SIN ARMA de lunes a domingo incluido festivos | C4: 3 | D4: =1423500*9.53 -> 13565955 | E4: 1500 | F4: =SUM(D4:E4) -> 13567455 | G4: =F4*8% -> 1085396.4 | H4: =SUM(F4:G4) -> 14652851 | I4: =H4*C4 -> 43958554 | J4: =1423500*9.77 -> 13907595 | K4: 1500 | L4: =SUM(J4:K4) -> 13909095 | M4: =L4*8% -> 1112727.6 | N4: =SUM(L4:M4) -> 15021823 | O4: =+N4*C4 -> 45065468 | P4: =1423500*9.53 -> 13565955 | Q4: 999 | R4: =SUM(P4:Q4) -> 13566954 | S4: =R4*8% -> 1085356.3 | T4: =SUM(R4:S4) -> 14652310 | U4: =T4*C4 -> 43956931 | V4: =1423500*9.77 -> 13907595 | W4: 999 | X4: =SUM(V4:W4) -> 13908594 | Y4: =X4*8% -> 1112687.5 | Z4: =SUM(X4:Y4) -> 15021282 | AA4: =+Z4*C4 -> 45063845 | AB4: =1423500*9.53 -> 13565955 | AC4: 1500 | AD4: =SUM(AB4:AC4) -> 13567455 | AE4: =AD4*8% -> 1085396.4 | AF4: =SUM(AD4:AE4) -> 14652851 | AG4: =+AF4*C4 -> 43958554 | AH4: =1423500*9.77 -> 13907595 | AI4: 1750 | AJ4: =SUM(AH4:AI4) -> 13909345 | AK4: =AJ4*8% -> 1112747.6 | AL4: =SUM(AJ4:AK4) -> 15022093 | AM4: =+AL4*C4 -> 45066278 | AN4: =((H4/30)*24+(N4/30)*6) -> 14726646 | AO4: =((T4/30)*24+(Z4/30)*6) -> 14726105 | AP4: =((AF4/30)*24+(AL4/30)*6) -> 14726700 | AQ4: =ROUND(AVERAGE(AN4:AP4),0) -> 14726483 | AR4: =ROUND(AQ4*C4,0) -> 44179449
A5: 3 | B5: Servicio de Vigilancia Ordinario DIURNO 12 HORAS ARMADO de lunes a viernes sin incluir festivos | C5: 27 | D5: =1423500*9.53 -> 13565955 | E5: 1500 | F5: =SUM(D5:E5)*0.5597/15*12/30*20 -> 4049975.8 | G5: =F5*10% -> 404997.58 | H5: =SUM(F5:G5) -> 4454973.3 | I5: =H5*C5 -> 1.2028428e+08 | J5: =1423500*9.77 -> 13907595 | K5: 1500 | L5: =SUM(J5:K5)*0.5597/15*12/30*20 -> 4151957.6 | M5: =L5*10% -> 415195.76 | N5: =SUM(L5:M5) -> 4567153.3 | O5: =+N5*C5 -> 1.2331314e+08 | P5: =1423500*9.53 -> 13565955 | Q5: 999 | R5: =SUM(P5:Q5)*0.5597/15*12/30*20 -> 4049826.2 | S5: =R5*10% -> 404982.62 | T5: =SUM(R5:S5) -> 4454808.8 | U5: =T5*C5 -> 1.2027984e+08 | V5: =1423500*9.77 -> 13907595 | W5: 999 | X5: =SUM(V5:W5)*0.5597/15*12/30*20 -> 4151808 | Y5: =X5*10% -> 415180.8 | Z5: =SUM(X5:Y5) -> 4566988.8 | AA5: =+Z5*C5 -> 1.233087e+08 | AB5: =1423500*9.53 -> 13565955 | AC5: 1500 | AD5: =SUM(AB5:AC5)*0.5597/15*12/30*20 -> 4049975.8 | AE5: =AD5*10% -> 404997.58 | AF5: =SUM(AD5:AE5) -> 4454973.3 | AG5: =+AF5*C5 -> 1.2028428e+08 | AH5: =1423500*9.77 -> 13907595 | AI5: 1750 | AJ5: =SUM(AH5:AI5)*0.5597/15*12/30*20 -> 4152032.2 | AK5: =AJ5*10% -> 415203.22 | AL5: =SUM(AJ5:AK5) -> 4567235.4 | AM5: =+AL5*C5 -> 1.2331536e+08 | AN5: =((H5/30)*24+(N5/30)*6) -> 4477409.3 | AO5: =((T5/30)*24+(Z5/30)*6) -> 4477244.8 | AP5: =((AF5/30)*24+(AL5/30)*6) -> 4477425.8 | AQ5: =ROUND(AVERAGE(AN5:AP5),0) -> 4477360 | AR5: =ROUND(AQ5*C5,0) -> 120888720
A6: 4 | B6: Servicio de Hombre de Protección con Canino 12 HORAS de lunes a viernes sin incluir festivos, con medio de comunicación y dotación completa | C6: 3 | D6: =1423500*9.53 -> 13565955 | E6: 1500 | F6: =SUM(D6:E6)*0.5597/15*12/30*20 -> 4049975.8 | G6: =F6*11% -> 445497.33 | H6: =SUM(F6:G6) -> 4495473.1 | I6: =H6*C6 -> 13486419 | J6: =1423500*9.77 -> 13907595 | K6: 1500 | L6: =SUM(J6:K6)*0.5597/15*12/30*20 -> 4151957.6 | M6: =L6*11% -> 456715.33 | N6: =SUM(L6:M6) -> 4608672.9 | O6: =+N6*C6 -> 13826019 | P6: =1423500*9.53 -> 13565955 | Q6: 999 | R6: =SUM(P6:Q6)*0.5597/15*12/30*20 -> 4049826.2 | S6: =R6*11% -> 445480.88 | T6: =SUM(R6:S6) -> 4495307.1 | U6: =T6*C6 -> 13485921 | V6: =1423500*9.77 -> 13907595 | W6: 999 | X6: =SUM(V6:W6)*0.5597/15*12/30*20 -> 4151808 | Y6: =X6*11% -> 456698.88 | Z6: =SUM(X6:Y6) -> 4608506.9 | AA6: =+Z6*C6 -> 13825521 | AB6: =1423500*9.53 -> 13565955 | AC6: 1500 | AD6: =SUM(AB6:AC6)*0.5597/15*12/30*20 -> 4049975.8 | AE6: =AD6*11% -> 445497.33 | AF6: =SUM(AD6:AE6) -> 4495473.1 | AG6: =+AF6*C6 -> 13486419 | AH6: =1423500*9.77 -> 13907595 | AI6: 1500 | AJ6: =SUM(AH6:AI6)*0.5597/15*12/30*20 -> 4151957.6 | AK6: =AJ6*11% -> 456715.33 | AL6: =SUM(AJ6:AK6) -> 4608672.9 | AM6: =+AL6*C6 -> 13826019 | AN6: =((H6/30)*24+(N6/30)*6) -> 4518113.1 | AO6: =((T6/30)*24+(Z6/30)*6) -> 4517947.1 | AP6: =((AF6/30)*24+(AL6/30)*6) -> 4518113.1 | AQ6: =ROUND(AVERAGE(AN6:AP6),0) -> 4518058 | AR6: =ROUND(AQ6*C6,0)-1 -> 13554173
A7: SUBTOTAL SERVICIOS | I7: =SUM(I3:I6) -> 6.7022787e+08 | O7: =SUM(O3:O6) -> 6.8710478e+08 | U7: =SUM(U3:U6) -> 6.7020312e+08 | AA7: =SUM(AA3:AA6) -> 6.8708003e+08 | AG7: =SUM(AG3:AG6) -> 6.7022787e+08 | AM7: =SUM(AM3:AM6) -> 6.8711688e+08 | AR7: =SUM(AR3:AR6) -> 673595809 | AS7: 6.8710056e+08
A8: BASE GRAVABLE (10% AIU) SERVICIOS | I8: =SUM(I3:I6)*10% -> 67022787 | O8: =SUM(O3:O6)*10% -> 68710478 | U8: =SUM(U3:U6)*10% -> 67020312 | AA8: =SUM(AA3:AA6)*10% -> 68708003 | AG8: =SUM(AG3:AG6)*10% -> 67022787 | AM8: =SUM(AM3:AM6)*10% -> 68711688 | AR8: =ROUND(AR7*10%,0) -> 67359581 | AS8: 68710056
A9: IVA 19% SOBRE SERVICIOS | I9: =I8*19% -> 12734330 | O9: =O8*19% -> 13054991 | U9: =U8*19% -> 12733859 | AA9: =AA8*19% -> 13054520 | AG9: =AG8*19% -> 12734330 | AM9: =AM8*19% -> 13055221 | AR9: =ROUND(AR8*19%,0) -> 12798320 | AS9: 13054911
A10: TOTAL | I10: =+I7+I9 -> 6.829622e+08 | O10: =O7+O9 -> 7.0015977e+08 | U10: =U7+U9 -> 6.8293698e+08 | AA10: =AA7+AA9 -> 7.0013455e+08 | AG10: =AG7+AG9 -> 6.829622e+08 | AM10: =AM7+AM9 -> 7.001721e+08 | AR10: =+AR7+AR9 -> 686394129 | AS10: 7.0015547e+08 | AT10: =+AR10-AS10 -> -13761341
G13: VR DIA | I13: =+I10/30 -> 22765407 | O13: =+O10/30 -> 23338659 | S13: VR DIA | U13: =+U10/30 -> 22764566 | AA13: =+AA10/30 -> 23337818 | AG13: =+AG10/30 -> 22765407 | AM13: =+AM10/30 -> 23339070
G14: TASA 9,53 | H14: 24 | I14: =+I13*H14 -> 5.4636976e+08 | M14: TASA 9,77 | N14: 6 | O14: =+O13*N14 -> 1.4003195e+08 | S14: TASA 9,53 | T14: 24 | U14: =+U13*T14 -> 5.4634958e+08 | Y14: TASA 9,77 | Z14: 6 | AA14: =+AA13*Z14 -> 1.4002691e+08 | AE14: TASA 9,53 | AF14: 24 | AG14: =+AG13*AF14 -> 5.4636976e+08 | AK14: TASA 9,77 | AL14: 6 | AM14: =+AM13*AL14 -> 1.4003442e+08
I18: MIRO | J18: TOTAL MES PROMEDIO | L18: =+I14+O14 -> 6.8640171e+08 | U18: ACROPOLIS | V18: TOTAL MES PROMEDIO | X18: =+U14+AA14 -> 6.8637649e+08 | AG18: SEGURCOL | AH18: TOTAL MES PROMEDIO | AJ18: =+AG14+AM14 -> 6.8640418e+08
I20: PROMEDIO SERVICIOS | L20: =ROUND(AVERAGE(L18,X18,AJ18),0) -> 686394129 | M20: 700155470 | N20: =+L20-M20 -> -13761341
I21: PROMEDIO EQUIPOS | L21: =+EQUIPOS!K9 -> 14786683 | M21: 14786683
I22: TOTAL MES | L22: =+L20+L21 -> 7.0118081e+08 | M22: =+M20+M21 -> 714942153
I23: VR DIA | L23: =+L22/30 -> 23372694 | M23: =+M22/30 -> 23831405
I26: VR DIA | K26: =+L23 -> 23372694
H27: DIAS | I27: 13 | K27: =+K26*I27 -> 3.0384502e+08
H28: MESES | I28: 7 | K28: =+L22*I28 -> 4.9082657e+09
H29: TOTAL CONTRATO | K29: =+K27+K28 -> 5.2121107e+09
J33: TOTAL PRESUPUESTO | K33: 8086548096 | L33: =+K33-M37 -> 5485751970 | M33: =+L33-K29 -> 2.7364127e+08
J36: DIFERENCIA | K36: =+K33-K29 -> 2.8744374e+09
J37: ASEO | K37: 2766804390 | L37: 166008264 | M37: =+K37-L37 -> 2600796126
J38: QUEDA | K38: =+K36-K37 -> 1.07633e+08
K41: =+K33-K28 -> 3.1782824e+09
K42: =+K41-M37 -> 5.7748629e+08

Sheet PROMEDIO 10.21 (SIN MIRO)
D1: PROMEDIO 10,21 | F1: COTIZACIÓN SERVICIO DE VIGILANCIA ACROPOLIS (VALOR MENSUAL DEL 15 DE JULIO DE 2026 EN ADELANTE) | O1: COTIZACIÓN SERVICIO DE VIGILANCIA DOGMAN (VALOR MENSUAL DEL 15 DE JULIO DE 2026 EN ADELANTE) | U1: COTIZACIÓN SERVICIO DE VIGILANCIA LAS AMERICAS (VALOR MENSUAL DEL 15 DE JULIO DE 2026 EN ADELANTE)
A2: ITEM | B2: DESCRIPCIÓN | C2: CANT | D2: PROMEDIO 9,77 | E2: VALOR UNITARIO AL MES | F2: TARIFA BASE | G2: VR. SEGURO VIDA | H2: VR. TARIFA BASE + SG VIDA | I2: %. GASTOS S.A | J2: VR.ANTES DE IVA | K2: AIU 10% | L2: IVA DEL 19% SOBRE EL AIU | M2: VALOR UNITAIO MENSUAL CON IVA | N2: VALOR TOTAL MES | O2: TARIFA BASE | P2: VR. SEGURO VIDA | Q2: VR. TARIFA BASE + SG VIDA | R2: %. GASTOS S.A | S2: VALOR ANTES DE IVA | T2: VALOR TOTAL MES | U2: TARIFA BASE | V2: VR. SEGURO VIDA | W2: VR. TARIFA BASE + SG VIDA | X2: %. GASTOS S.A | Y2: VR.ANTES DE IVA | Z2: VALOR TOTAL MES
A3: 1 | B3: Servicio de Vigilancia PERMANENTE 24 HORAS ARMADO de lunes a domingo incluido festivos | C3: 30 | D3: =ROUND(AVERAGE(J3,S3,Y3),0) -> 19668649 | E3: =+D3*C3 -> 590059470 | F3: =1750905*10.21 -> 17876740 | G3: 6300 | H3: =SUM(F3:G3) -> 17883040 | I3: =H3*10% -> 1788304 | J3: =SUM(H3:I3) -> 19671344 | K3: =ROUND(#REF!*10%,0) -> #REF! | L3: =ROUND(K3*19%,0) -> #REF! | M3: =+#REF!+L3 -> #REF! | N3: =+J3*C3 -> 5.9014032e+08 | O3: =1750905*10.21 -> 17876740 | P3: 1500 | Q3: =SUM(O3:P3) -> 17878240 | R3: =Q3*10% -> 1787824 | S3: =SUM(Q3:R3) -> 19666064 | T3: =+S3*C3 -> 5.8998192e+08 | U3: =1750905*10.21 -> 17876740 | V3: 3750 | W3: =SUM(U3:V3) -> 17880490 | X3: =W3*10% -> 1788049 | Y3: =SUM(W3:X3) -> 19668539 | Z3: =+Y3*C3 -> 5.9005617e+08
A4: 2 | B4: Servicio de Vigilancia PERMANENTE 24 HORAS SIN ARMA de lunes a domingo incluido festivos | C4: 3 | D4: =ROUND(AVERAGE(J4,S4,Y4),0) -> 19311037 | E4: =+D4*C4 -> 57933111 | F4: =1750905*10.21 -> 17876740 | G4: 6300 | H4: =SUM(F4:G4) -> 17883040 | I4: =H4*8% -> 1430643.2 | J4: =SUM(H4:I4) -> 19313683 | K4: =ROUND(#REF!*10%,0) -> #REF! | L4: =ROUND(K4*19%,0) -> #REF! | M4: =+#REF!+L4 -> #REF! | N4: =+J4*C4 -> 57941050 | O4: =1750905*10.21 -> 17876740 | P4: 1500 | Q4: =SUM(O4:P4) -> 17878240 | R4: =Q4*8% -> 1430259.2 | S4: =SUM(Q4:R4) -> 19308499 | T4: =+S4*C4 -> 57925498 | U4: =1750905*10.21 -> 17876740 | V4: 3750 | W4: =SUM(U4:V4) -> 17880490 | X4: =W4*8% -> 1430439.2 | Y4: =SUM(W4:X4) -> 19310929 | Z4: =+Y4*C4 -> 57932788
A5: 3 | B5: Servicio de Vigilancia Ordinario DIURNO 12 HORAS ARMADO de lunes a viernes sin incluir festivos | C5: 25 | D5: =ROUND(AVERAGE(J5,S5,Y5),0) -> 5759922 | E5: =+D5*C5 -> 143998050 | F5: =1750905*10.21 -> 17876740 | G5: 6300 | H5: =SUM(F5:G5)*47.59%/30*20/13*12 -> 5237254.6 | I5: =H5*10% -> 523725.46 | J5: =SUM(H5:I5) -> 5760980.1 | K5: =ROUND(#REF!*10%,0) -> #REF! | L5: =ROUND(K5*19%,0) -> #REF! | M5: =+#REF!+L5 -> #REF! | N5: =+J5*C5 -> 1.440245e+08 | O5: =1750905*10.21 -> 17876740 | P5: 1500 | Q5: =SUM(O5:P5)*47.59%/30*20/13*12 -> 5235848.9 | R5: =Q5*10% -> 523584.89 | S5: =SUM(Q5:R5) -> 5759433.8 | T5: =+S5*C5 -> 1.4398584e+08 | U5: =1750905*10.21 -> 17876740 | V5: 1250 | W5: =SUM(U5:V5)*47.59%/30*20/13*12 -> 5235775.7 | X5: =W5*10% -> 523577.57 | Y5: =SUM(W5:X5) -> 5759353.2 | Z5: =+Y5*C5 -> 1.4398383e+08
A6: 4 | B6: Servicio de Hombre de Protección con Canino 12 HORAS de lunes a viernes sin incluir festivos, con medio de comunicación y dotación completa | C6: 3 | D6: =ROUND(AVERAGE(J6,S6,Y6),0) -> 5812285 | E6: =+D6*C6 -> 17436855 | F6: =1750905*10.21 -> 17876740 | G6: 6300 | H6: =SUM(F6:G6)*47.59%/30*20/13*12 -> 5237254.6 | I6: =H6*11% -> 576098.01 | J6: =SUM(H6:I6) -> 5813352.6 | K6: =ROUND(#REF!*10%,0) -> #REF! | L6: =ROUND(K6*19%,0) -> #REF! | M6: =+#REF!+L6 -> #REF! | N6: =+J6*C6 -> 17440058 | O6: =1750905*10.21 -> 17876740 | P6: 1500 | Q6: =SUM(O6:P6)*47.59%/30*20/13*12 -> 5235848.9 | R6: =Q6*11% -> 575943.38 | S6: =SUM(Q6:R6) -> 5811792.3 | T6: =+S6*C6 -> 17435377 | U6: =1750905*10.21 -> 17876740 | V6: 1250 | W6: =SUM(U6:V6)*47.59%/30*20/13*12 -> 5235775.7 | X6: =W6*11% -> 575935.32 | Y6: =SUM(W6:X6) -> 5811711 | Z6: =+Y6*C6 -> 17435133
A7: SUBTOTAL SERVICIOS | E7: =SUM(E3:E6) -> 809427486 | N7: =SUM(N3:N6) -> 8.0954593e+08 | T7: =SUM(T3:T6) -> 8.0932864e+08 | Z7: =SUM(Z3:Z6) -> 8.0940792e+08
A8: BASE GRAVABLE (10% AIU) SERVICIOS | E8: =ROUND(E7*10%,0) -> 80942749 | N8: =ROUND(N7*10%,0) -> 80954593 | T8: =ROUND(T7*10%,0) -> 80932864 | Z8: =ROUND(Z7*10%,0) -> 80940792
A9: IVA 19% SOBRE SERVICIOS | E9: =ROUND(E8*19%,0) -> 15379122 | N9: =ROUND(N8*19%,0) -> 15381373 | T9: =ROUND(T8*19%,0) -> 15377244 | Z9: =ROUND(Z8*19%,0) -> 15378750
A10: TOTAL | E10: =+E7+E9 -> 824806608 | F10: =+E10+E19 -> 8.3508538e+08 | N10: =+N7+N9 -> 8.249273e+08 | T10: =+T7+T9 -> 8.2470588e+08 | Z10: =+Z7+Z9 -> 8.2478667e+08
D12: PROMEDIO | F12: COTIZACION ACROPOLIS | H12: COTIZACION DOGMAN | J12: COTIZACIÓN LAS AMERICAS
A13: ITEM | B13: DESCRIPCIÓN | C13: CANT | D13: TARIFA BASE | E13: VALOR TOTAL MES | F13: TARIFA BASE | G13: VALOR TOTAL MES | H13: TARIFA BASE | I13: VALOR TOTAL MES | J13: TARIFA BASE | K13: VALOR TOTAL MES | N13: VALOR TOTAL MES
A14: 1 | B14: CCTV en seis sedes (Edificio Edatel, Edificio Bulevar Bolivar, Sede judicial municipio de Turbo, municipio de Bello y en el Edificio José Félix de Restrepo ubicados de la siguiente manera: (1) Sótano y (1) Parqueadero. | C14: 6 | D14: =ROUND(AVERAGE(F14,H14,J14),0) -> 814164 | E14: =+D14*C14 -> 4884984 | F14: 951944 | G14: =F14*C14 -> 5711664 | H14: 940000 | I14: =+H14*C14 -> 5640000 | J14: 550547 | K14: =J14*C14 -> 3303282 | N14: =+J14*C14 -> 3303282
A15: 2 | B15: Sistema de registro y control de ingreso y salida de público (lector de cedula) Edificio José Félix de Restrepo | C15: 4 | D15: =ROUND(AVERAGE(F15,H15,J15),0) -> 638196 | E15: =+D15*C15 -> 2552784 | F15: 525131 | G15: =F15*C15 -> 2100524 | H15: 980000 | I15: =+H15*C15 -> 3920000 | J15: 409457 | K15: =J15*C15 -> 1637828 | N15: =+J15*C15 -> 1637828
A16: 3 | B16: Sistema de registro y control de ingreso y salida de público (lector de cedula) Edificio Edatel | C16: 2 | D16: =ROUND(AVERAGE(F16,H16,J16),0) -> 599926 | E16: =+D16*C16 -> 1199852 | F16: 441848 | G16: =F16*C16 -> 883696 | H16: 980000 | I16: =+H16*C16 -> 1960000 | J16: 377930 | K16: =J16*C16 -> 755860 | N16: =+J16*C16 -> 755860
A17: BASE GRAVABLE (10% AIU) EQUIPOS | E17: =SUM(E14:E16) -> 8637620 | G17: =SUM(G14:G16) -> 8695884 | I17: =SUM(I14:I16) -> 11520000 | K17: =SUM(K14:K16) -> 5696970 | N17: =SUM(N14:N16) -> 5696970
A18: IVA 19% SOBRE EQUIPOS | E18: =E17*19% -> 1641147.8 | G18: =G17*19% -> 1652218 | I18: =I17*19% -> 2188800 | K18: =K17*19% -> 1082424.3 | N18: =N17*19% -> 1082424.3
A19: TOTAL | E19: =+E17+E18 -> 10278768 | G19: =+G17+G18 -> 10348102 | I19: =+I17+I18 -> 13708800 | K19: =+K17+K18 -> 6779394.3 | N19: =+N17+N18 -> 6779394.3

Sheet PROMEDIO 10.21 (SERVICIOS)
D1: PROMEDIO 10,21 | F1: COTIZACIÓN SERVICIO DE VIGILANCIA ACROPOLIS (VALOR MENSUAL DEL 15 DE JULIO DE 2026 EN ADELANTE) | O1: COTIZACIÓN SERVICIO DE VIGILANCIA DOGMAN (VALOR MENSUAL DEL 15 DE JULIO DE 2026 EN ADELANTE) | U1: COTIZACIÓN SERVICIO DE VIGILANCIA LAS AMERICAS (VALOR MENSUAL DEL 15 DE JULIO DE 2026 EN ADELANTE) | AA1: COTIZACIÓN SERVICIO DE VIGILANCIA MIRO (VALOR MENSUAL DEL 15 DE JULIO DE 2026 EN ADELANTE)
A2: ITEM | B2: DESCRIPCIÓN | C2: CANT | D2: PROMEDIO 9,77 | E2: VALOR UNITARIO AL MES | F2: TARIFA BASE | G2: VR. SEGURO VIDA | H2: VR. TARIFA BASE + SG VIDA | I2: %. GASTOS S.A | J2: VR.ANTES DE IVA | K2: AIU 10% | L2: IVA DEL 19% SOBRE EL AIU | M2: VALOR UNITAIO MENSUAL CON IVA | N2: VALOR TOTAL MES | O2: TARIFA BASE | P2: VR. SEGURO VIDA | Q2: VR. TARIFA BASE + SG VIDA | R2: %. GASTOS S.A | S2: VALOR ANTES DE IVA | T2: VALOR TOTAL MES | U2: TARIFA BASE | V2: VR. SEGURO VIDA | W2: VR. TARIFA BASE + SG VIDA | X2: %. GASTOS S.A | Y2: VR.ANTES DE IVA | Z2: VALOR TOTAL MES | AA2: TARIFA BASE | AB2: VR. SEGURO VIDA | AC2: VR. TARIFA BASE + SG VIDA | AD2: %. GASTOS S.A | AE2: VR.ANTES DE IVA | AF2: VALOR TOTAL MES
A3: 1 | B3: Servicio de Vigilancia PERMANENTE 24 HORAS ARMADO de lunes a domingo incluido festivos | C3: 30 | D3: =ROUND(AVERAGE(J3,S3,Y3,AE3),0) -> 19668003 | E3: =+D3*C3 -> 590040090 | F3: =1750905*10.21 -> 17876740 | G3: 6300 | H3: =SUM(F3:G3) -> 17883040 | I3: =H3*10% -> 1788304 | J3: =SUM(H3:I3) -> 19671344 | K3: =ROUND(#REF!*10%,0) -> #REF! | L3: =ROUND(K3*19%,0) -> #REF! | M3: =+#REF!+L3 -> #REF! | N3: =+J3*C3 -> 5.9014032e+08 | O3: =1750905*10.21 -> 17876740 | P3: 1500 | Q3: =SUM(O3:P3) -> 17878240 | R3: =Q3*10% -> 1787824 | S3: =SUM(Q3:R3) -> 19666064 | T3: =+S3*C3 -> 5.8998192e+08 | U3: =1750905*10.21 -> 17876740 | V3: 3750 | W3: =SUM(U3:V3) -> 17880490 | X3: =W3*10% -> 1788049 | Y3: =SUM(W3:X3) -> 19668539 | Z3: =+Y3*C3 -> 5.9005617e+08 | AA3: =1750905*10.21 -> 17876740 | AB3: 1500 | AC3: =SUM(AA3:AB3) -> 17878240 | AD3: =AC3*10% -> 1787824 | AE3: =SUM(AC3:AD3) -> 19666064 | AF3: =+AE3*C3 -> 5.8998192e+08
A4: 2 | B4: Servicio de Vigilancia PERMANENTE 24 HORAS SIN ARMA de lunes a domingo incluido festivos | C4: 3 | D4: =ROUND(AVERAGE(J4,S4,Y4,AE4),0) -> 19310403 | E4: =+D4*C4 -> 57931209 | F4: =1750905*10.21 -> 17876740 | G4: 6300 | H4: =SUM(F4:G4) -> 17883040 | I4: =H4*8% -> 1430643.2 | J4: =SUM(H4:I4) -> 19313683 | K4: =ROUND(#REF!*10%,0) -> #REF! | L4: =ROUND(K4*19%,0) -> #REF! | M4: =+#REF!+L4 -> #REF! | N4: =+J4*C4 -> 57941050 | O4: =1750905*10.21 -> 17876740 | P4: 1500 | Q4: =SUM(O4:P4) -> 17878240 | R4: =Q4*8% -> 1430259.2 | S4: =SUM(Q4:R4) -> 19308499 | T4: =+S4*C4 -> 57925498 | U4: =1750905*10.21 -> 17876740 | V4: 3750 | W4: =SUM(U4:V4) -> 17880490 | X4: =W4*8% -> 1430439.2 | Y4: =SUM(W4:X4) -> 19310929 | Z4: =+Y4*C4 -> 57932788 | AA4: =1750905*10.21 -> 17876740 | AB4: 1500 | AC4: =SUM(AA4:AB4) -> 17878240 | AD4: =AC4*8% -> 1430259.2 | AE4: =SUM(AC4:AD4) -> 19308499 | AF4: =+AE4*C4 -> 57925498
A5: 3 | B5: Servicio de Vigilancia Ordinario DIURNO 12 HORAS ARMADO de lunes a viernes sin incluir festivos | C5: 25 | D5: =ROUND(AVERAGE(J5,S5,Y5,AE5),0) -> 5759800 | E5: =+D5*C5 -> 143995000 | F5: =1750905*10.21 -> 17876740 | G5: 6300 | H5: =SUM(F5:G5)*47.59%/30*20/13*12 -> 5237254.6 | I5: =H5*10% -> 523725.46 | J5: =SUM(H5:I5) -> 5760980.1 | K5: =ROUND(#REF!*10%,0) -> #REF! | L5: =ROUND(K5*19%,0) -> #REF! | M5: =+#REF!+L5 -> #REF! | N5: =+J5*C5 -> 1.440245e+08 | O5: =1750905*10.21 -> 17876740 | P5: 1500 | Q5: =SUM(O5:P5)*47.59%/30*20/13*12 -> 5235848.9 | R5: =Q5*10% -> 523584.89 | S5: =SUM(Q5:R5) -> 5759433.8 | T5: =+S5*C5 -> 1.4398584e+08 | U5: =1750905*10.21 -> 17876740 | V5: 1250 | W5: =SUM(U5:V5)*47.59%/30*20/13*12 -> 5235775.7 | X5: =W5*10% -> 523577.57 | Y5: =SUM(W5:X5) -> 5759353.2 | Z5: =+Y5*C5 -> 1.4398383e+08 | AA5: =1750905*10.21 -> 17876740 | AB5: 1500 | AC5: =SUM(AA5:AB5)*47.59%/30*20/13*12 -> 5235848.9 | AD5: =AC5*10% -> 523584.89 | AE5: =SUM(AC5:AD5) -> 5759433.8 | AF5: =+AE5*C5 -> 1.4398584e+08
A6: 4 | B6: Servicio de Hombre de Protección con Canino 12 HORAS de lunes a viernes sin incluir festivos, con medio de comunicación y dotación completa | C6: 3 | D6: =ROUND(AVERAGE(J6,S6,Y6,AE6),0) -> 5812162 | E6: =+D6*C6 -> 17436486 | F6: =1750905*10.21 -> 17876740 | G6: 6300 | H6: =SUM(F6:G6)*47.59%/30*20/13*12 -> 5237254.6 | I6: =H6*11% -> 576098.01 | J6: =SUM(H6:I6) -> 5813352.6 | K6: =ROUND(#REF!*10%,0) -> #REF! | L6: =ROUND(K6*19%,0) -> #REF! | M6: =+#REF!+L6 -> #REF! | N6: =+J6*C6 -> 17440058 | O6: =1750905*10.21 -> 17876740 | P6: 1500 | Q6: =SUM(O6:P6)*47.59%/30*20/13*12 -> 5235848.9 | R6: =Q6*11% -> 575943.38 | S6: =SUM(Q6:R6) -> 5811792.3 | T6: =+S6*C6 -> 17435377 | U6: =1750905*10.21 -> 17876740 | V6: 1250 | W6: =SUM(U6:V6)*47.59%/30*20/13*12 -> 5235775.7 | X6: =W6*11% -> 575935.32 | Y6: =SUM(W6:X6) -> 5811711 | Z6: =+Y6*C6 -> 17435133 | AA6: =1750905*10.21 -> 17876740 | AB6: 1500 | AC6: =SUM(AA6:AB6)*47.59%/30*20/13*12 -> 5235848.9 | AD6: =AC6*11% -> 575943.38 | AE6: =SUM(AC6:AD6) -> 5811792.3 | AF6: =+AE6*C6 -> 17435377
A7: SUBTOTAL SERVICIOS | E7: =SUM(E3:E6) -> 809402785 | N7: =SUM(N3:N6) -> 8.0954593e+08 | T7: =SUM(T3:T6) -> 8.0932864e+08 | Z7: =SUM(Z3:Z6) -> 8.0940792e+08 | AF7: =SUM(AF3:AF6) -> 8.0932864e+08
A8: BASE GRAVABLE (10% AIU) SERVICIOS | E8: =ROUND(E7*10%,0) -> 80940279 | N8: =ROUND(N7*10%,0) -> 80954593 | T8: =ROUND(T7*10%,0) -> 80932864 | Z8: =ROUND(Z7*10%,0) -> 80940792 | AF8: =ROUND(AF7*10%,0) -> 80932864
A9: IVA 19% SOBRE SERVICIOS | E9: =ROUND(E8*19%,0) -> 15378653 | N9: =ROUND(N8*19%,0) -> 15381373 | T9: =ROUND(T8*19%,0) -> 15377244 | Z9: =ROUND(Z8*19%,0) -> 15378750 | AF9: =ROUND(AF8*19%,0) -> 15377244
A10: TOTAL | E10: =+E7+E9 -> 824781438 | N10: =+N7+N9 -> 8.249273e+08 | T10: =+T7+T9 -> 8.2470588e+08 | Z10: =+Z7+Z9 -> 8.2478667e+08 | AF10: =+AF7+AF9 -> 8.2470588e+08

Sheet PROMEDIO 10.21 (SERVICIOS) (aj)
D1: PROMEDIO 10,21 | F1: COTIZACIÓN SERVICIO DE VIGILANCIA ACROPOLIS (VALOR MENSUAL DEL 15 DE JULIO DE 2026 EN ADELANTE) | N1: COTIZACIÓN SERVICIO DE VIGILANCIA DOGMAN (VALOR MENSUAL DEL 15 DE JULIO DE 2026 EN ADELANTE) | S1: COTIZACIÓN SERVICIO DE VIGILANCIA LAS AMERICAS (VALOR MENSUAL DEL 15 DE JULIO DE 2026 EN ADELANTE) | X1: COTIZACIÓN SERVICIO DE VIGILANCIA MIRO (VALOR MENSUAL DEL 15 DE JULIO DE 2026 EN ADELANTE)
A2: ITEM | B2: DESCRIPCIÓN | C2: CANT | D2: PROMEDIO 9,77 | E2: VALOR UNITARIO AL MES | F2: TARIFA BASE | G2: VR. SEGURO VIDA | H2: VR. TARIFA BASE + SG VIDA | I2: %. GASTOS S.A | J2: VR.ANTES DE IVA | K2: AIU 10% | L2: IVA DEL 19% SOBRE EL AIU | M2: VALOR UNITAIO MENSUAL CON IVA | N2: TARIFA BASE | O2: VR. SEGURO VIDA | P2: VR. TARIFA BASE + SG VIDA | Q2: %. GASTOS S.A | R2: VALOR ANTES DE IVA | S2: TARIFA BASE | T2: VR. SEGURO VIDA | U2: VR. TARIFA BASE + SG VIDA | V2: %. GASTOS S.A | W2: VR.ANTES DE IVA | X2: TARIFA BASE | Y2: VR. SEGURO VIDA | Z2: VR. TARIFA BASE + SG VIDA | AA2: %. GASTOS S.A | AB2: VR.ANTES DE IVA
A3: 1 | B3: Servicio de Vigilancia PERMANENTE 24 HORAS ARMADO de lunes a domingo incluido festivos | C3: 30 | D3: =ROUND(AVERAGE(J3,R3,W3,AB3),0) -> 19668003 | E3: =+D3*C3 -> 590040090 | F3: =1750905*10.21 -> 17876740 | G3: 6300 | H3: =SUM(F3:G3) -> 17883040 | I3: =H3*10% -> 1788304 | J3: =SUM(H3:I3) -> 19671344 | K3: =ROUND(#REF!*10%,0) -> #REF! | L3: =ROUND(K3*19%,0) -> #REF! | M3: =+#REF!+L3 -> #REF! | N3: =1750905*10.21 -> 17876740 | O3: 1500 | P3: =SUM(N3:O3) -> 17878240 | Q3: =P3*10% -> 1787824 | R3: =SUM(P3:Q3) -> 19666064 | S3: =1750905*10.21 -> 17876740 | T3: 3750 | U3: =SUM(S3:T3) -> 17880490 | V3: =U3*10% -> 1788049 | W3: =SUM(U3:V3) -> 19668539 | X3: =1750905*10.21 -> 17876740 | Y3: 1500 | Z3: =SUM(X3:Y3) -> 17878240 | AA3: =Z3*10% -> 1787824 | AB3: =SUM(Z3:AA3) -> 19666064
A4: 2 | B4: Servicio de Vigilancia PERMANENTE 24 HORAS SIN ARMA de lunes a domingo incluido festivos | C4: 3 | D4: =ROUND(AVERAGE(J4,R4,W4,AB4),0) -> 19310403 | E4: =+D4*C4 -> 57931209 | F4: =1750905*10.21 -> 17876740 | G4: 6300 | H4: =SUM(F4:G4) -> 17883040 | I4: =H4*8% -> 1430643.2 | J4: =SUM(H4:I4) -> 19313683 | K4: =ROUND(#REF!*10%,0) -> #REF! | L4: =ROUND(K4*19%,0) -> #REF! | M4: =+#REF!+L4 -> #REF! | N4: =1750905*10.21 -> 17876740 | O4: 1500 | P4: =SUM(N4:O4) -> 17878240 | Q4: =P4*8% -> 1430259.2 | R4: =SUM(P4:Q4) -> 19308499 | S4: =1750905*10.21 -> 17876740 | T4: 3750 | U4: =SUM(S4:T4) -> 17880490 | V4: =U4*8% -> 1430439.2 | W4: =SUM(U4:V4) -> 19310929 | X4: =1750905*10.21 -> 17876740 | Y4: 1500 | Z4: =SUM(X4:Y4) -> 17878240 | AA4: =Z4*8% -> 1430259.2 | AB4: =SUM(Z4:AA4) -> 19308499
A5: 3 | B5: Servicio de Vigilancia Ordinario DIURNO 12 HORAS ARMADO de lunes a viernes sin incluir festivos | C5: 25 | D5: =ROUND(AVERAGE(J5,R5,W5,AB5),0) -> 5759800 | E5: =+D5*C5 -> 143995000 | F5: =1750905*10.21 -> 17876740 | G5: 6300 | H5: =SUM(F5:G5)*47.59%/30*20/13*12 -> 5237254.6 | I5: =H5*10% -> 523725.46 | J5: =SUM(H5:I5) -> 5760980.1 | K5: =ROUND(#REF!*10%,0) -> #REF! | L5: =ROUND(K5*19%,0) -> #REF! | M5: =+#REF!+L5 -> #REF! | N5: =1750905*10.21 -> 17876740 | O5: 1500 | P5: =SUM(N5:O5)*47.59%/30*20/13*12 -> 5235848.9 | Q5: =P5*10% -> 523584.89 | R5: =SUM(P5:Q5) -> 5759433.8 | S5: =1750905*10.21 -> 17876740 | T5: 1250 | U5: =SUM(S5:T5)*47.59%/30*20/13*12 -> 5235775.7 | V5: =U5*10% -> 523577.57 | W5: =SUM(U5:V5) -> 5759353.2 | X5: =1750905*10.21 -> 17876740 | Y5: 1500 | Z5: =SUM(X5:Y5)*47.59%/30*20/13*12 -> 5235848.9 | AA5: =Z5*10% -> 523584.89 | AB5: =SUM(Z5:AA5) -> 5759433.8
A6: 4 | B6: Servicio de Hombre de Protección con Canino 12 HORAS de lunes a viernes sin incluir festivos, con medio de comunicación y dotación completa | C6: 3 | D6: =ROUND(AVERAGE(J6,R6,W6,AB6),0) -> 5812162 | E6: =+D6*C6 -> 17436486 | F6: =1750905*10.21 -> 17876740 | G6: 6300 | H6: =SUM(F6:G6)*47.59%/30*20/13*12 -> 5237254.6 | I6: =H6*11% -> 576098.01 | J6: =SUM(H6:I6) -> 5813352.6 | K6: =ROUND(#REF!*10%,0) -> #REF! | L6: =ROUND(K6*19%,0) -> #REF! | M6: =+#REF!+L6 -> #REF! | N6: =1750905*10.21 -> 17876740 | O6: 1500 | P6: =SUM(N6:O6)*47.59%/30*20/13*12 -> 5235848.9 | Q6: =P6*11% -> 575943.38 | R6: =SUM(P6:Q6) -> 5811792.3 | S6: =1750905*10.21 -> 17876740 | T6: 1250 | U6: =SUM(S6:T6)*47.59%/30*20/13*12 -> 5235775.7 | V6: =U6*11% -> 575935.32 | W6: =SUM(U6:V6) -> 5811711 | X6: =1750905*10.21 -> 17876740 | Y6: 1500 | Z6: =SUM(X6:Y6)*47.59%/30*20/13*12 -> 5235848.9 | AA6: =Z6*11% -> 575943.38 | AB6: =SUM(Z6:AA6) -> 5811792.3
A7: SUBTOTAL SERVICIOS | E7: =SUM(E3:E6) -> 809402785
A8: BASE GRAVABLE (10% AIU) SERVICIOS | E8: =ROUND(E7*10%,0) -> 80940279
A9: IVA 19% SOBRE SERVICIOS | E9: =ROUND(E8*19%,0) -> 15378653
A10: TOTAL | E10: =+E7+E9 -> 824781438

Sheet PROMEDIO 10.21 (EQUIPOS) (ajus)
D2: PROMEDIO | F2: COTIZACION ACROPOLIS | G2: COTIZACION DOGMAN | H2: COTIZACIÓN LAS AMERICAS | I2: COTIZACION MIRO
A3: ITEM | B3: DESCRIPCIÓN | C3: CANT | D3: TARIFA BASE | E3: VALOR TOTAL MES | F3: TARIFA BASE | G3: TARIFA BASE | H3: TARIFA BASE | I3: TARIFA BASE
A4: 1 | B4: CCTV en seis sedes (Edificio Edatel, Edificio Bulevar Bolivar, Sede judicial municipio de Turbo, municipio de Bello y en el Edificio José Félix de Restrepo ubicados de la siguiente manera: (1) Sótano y (1) Parqueadero. | C4: 6 | D4: =ROUND(AVERAGE(F4,G4,H4,I4),0) -> 810169 | E4: =+D4*C4 -> 4861014 | F4: 951944 | G4: 940000 | H4: 550547 | I4: 798186
A5: 2 | B5: Sistema de registro y control de ingreso y salida de público (lector de cedula) Edificio José Félix de Restrepo | C5: 4 | D5: =ROUND(AVERAGE(F5,G5,H5,I5),0) -> 627055 | E5: =+D5*C5 -> 2508220 | F5: 525131 | G5: 980000 | H5: 409457 | I5: 593633
A6: 3 | B6: Sistema de registro y control de ingreso y salida de público (lector de cedula) Edificio Edatel | C6: 2 | D6: =ROUND(AVERAGE(F6,G6,H6,I6),0) -> 586926 | E6: =+D6*C6 -> 1173852 | F6: 441848 | G6: 980000 | H6: 377930 | I6: 547926
A7: BASE GRAVABLE (10% AIU) EQUIPOS | E7: =SUM(E4:E6) -> 8543086
A8: IVA 19% SOBRE EQUIPOS | E8: =E7*19% -> 1623186.3
A9: TOTAL | E9: =+E7+E8 -> 10166272

Sheet RESUMEN PROMEDIO OFERTA
A1: SAMC008-202
A2: PRESTACIÓN DE SERVICIOS DE VIGILANCIA, CON PERSONAL UNIFORMADO, ARMADO, CARNETIZADO, CON RADIOS DE COMUNICACIÓN, INCLUIDA LA SUPERVISIÓN Y EL SERVICIO DE CANINO, PARA LOS DESPACHOS JUDICIALES Y/O SEDES ADMINISTRATIVAS A CARGO DE LA DIRECCIÓN SECCIONAL DE ADMINISTRACIÓN JUDICIAL DE MEDELLÍN
A3: ITEM | B3: DESCRIPCIÓN | C3: CANT | D3: PROMEDIO 10,21 | E3: VALOR UNITARIO AL MES
A4: EQUIPOS
A5: 1 | B5: CCTV en seis sedes (Edificio Edatel, Edificio Bulevar Bolivar, Sede judicial municipio de Turbo, municipio de Bello y en el Edificio José Félix de Restrepo ubicados de la siguiente manera: (1) Sótano y (1) Parqueadero. | C5: 6 | D5: 810169 | E5: =ROUNDUP(D5*C5,0) -> 4861014
A6: 2 | B6: Sistema de registro y control de ingreso y salida de público (lector de cedula) Edificio José Félix de Restrepo | C6: 4 | D6: 627055 | E6: =ROUNDUP(D6*C6,0) -> 2508220
A7: 3 | B7: Sistema de registro y control de ingreso y salida de público (lector de cedula) Edificio Edatel | C7: 2 | D7: 586926 | E7: =ROUNDUP(D7*C7,0) -> 1173852
A8: BASE GRAVABLE EQUIPOS | E8: =SUM(E5:E7) -> 8543086
A9: IVA 19% SOBRE EQUIPOS | D9: 0.19 | E9: =ROUNDUP(E8*D9,0) -> 1623187
A10: TOTAL EQUIPOS | E10: =+E8+E9 -> 10166273
A11: SERVICIOS
A12: 1 | B12: Servicio de Vigilancia PERMANENTE 24 HORAS ARMADO de lunes a domingo incluido festivos | C12: 30 | D12: 19668003 | E12: =ROUNDUP(D12*C12,0) -> 590040090
A13: 2 | B13: Servicio de Vigilancia PERMANENTE 24 HORAS SIN ARMA de lunes a domingo incluido festivos | C13: 3 | D13: 19310403 | E13: =ROUNDUP(D13*C13,0) -> 57931209
A14: 3 | B14: Servicio de Vigilancia Ordinario DIURNO 12 HORAS ARMADO de lunes a viernes sin incluir festivos | C14: 25 | D14: 5759800 | E14: =ROUNDUP(D14*C14,0) -> 143995000
A15: 4 | B15: Servicio de Hombre de Protección con Canino 12 HORAS de lunes a viernes sin incluir festivos, con medio de comunicación y dotación completa | C15: 3 | D15: 5812162 | E15: =ROUNDUP(D15*C15,0) -> 17436486
A16: SUBTOTAL SERVICIOS | E16: =SUM(E12:E15) -> 809402785
A17: BASE GRAVABLE (10% AIU) SERVICIOS | D17: 0.1 | E17: =ROUNDUP(E16*D17,0) -> 80940279
A18: IVA 19% SOBRE SERVICIOS | D18: 0.19 | E18: =ROUNDUP(E17*D18,0) -> 15378654
A19: TOTAL SERVICIOS | E19: =+E16+E18 -> 824781439
A20: TOTAL EQUIPOS + SERVICIOS | E20: =+E10+E19 -> 834947712

Sheet PROMEDIO 10.21 (EQUIPOS)
D2: PROMEDIO | F2: COTIZACION ACROPOLIS | H2: COTIZACION DOGMAN | J2: COTIZACIÓN LAS AMERICAS | O2: COTIZACION MIRO
A3: ITEM | B3: DESCRIPCIÓN | C3: CANT | D3: TARIFA BASE | E3: VALOR TOTAL MES | F3: TARIFA BASE | G3: VALOR TOTAL MES | H3: TARIFA BASE | I3: VALOR TOTAL MES | J3: TARIFA BASE | K3: VALOR TOTAL MES | N3: VALOR TOTAL MES | O3: TARIFA BASE | P3: VALOR TOTAL MES
A4: 1 | B4: CCTV en seis sedes (Edificio Edatel, Edificio Bulevar Bolivar, Sede judicial municipio de Turbo, municipio de Bello y en el Edificio José Félix de Restrepo ubicados de la siguiente manera: (1) Sótano y (1) Parqueadero. | C4: 6 | D4: =ROUND(AVERAGE(F4,H4,J4,O4),0) -> 810169 | E4: =+D4*C4 -> 4861014 | F4: 951944 | G4: =F4*C4 -> 5711664 | H4: 940000 | I4: =+H4*C4 -> 5640000 | J4: 550547 | K4: =J4*C4 -> 3303282 | N4: =+J4*C4 -> 3303282 | O4: 798186 | P4: =+O4*C4 -> 4789116
A5: 2 | B5: Sistema de registro y control de ingreso y salida de público (lector de cedula) Edificio José Félix de Restrepo | C5: 4 | D5: =ROUND(AVERAGE(F5,H5,J5,O5),0) -> 627055 | E5: =+D5*C5 -> 2508220 | F5: 525131 | G5: =F5*C5 -> 2100524 | H5: 980000 | I5: =+H5*C5 -> 3920000 | J5: 409457 | K5: =J5*C5 -> 1637828 | N5: =+J5*C5 -> 1637828 | O5: 593633 | P5: =+O5*C5 -> 2374532
A6: 3 | B6: Sistema de registro y control de ingreso y salida de público (lector de cedula) Edificio Edatel | C6: 2 | D6: =ROUND(AVERAGE(F6,H6,J6,O6),0) -> 586926 | E6: =+D6*C6 -> 1173852 | F6: 441848 | G6: =F6*C6 -> 883696 | H6: 980000 | I6: =+H6*C6 -> 1960000 | J6: 377930 | K6: =J6*C6 -> 755860 | N6: =+J6*C6 -> 755860 | O6: 547926 | P6: =+O6*C6 -> 1095852
A7: BASE GRAVABLE (10% AIU) EQUIPOS | E7: =SUM(E4:E6) -> 8543086 | G7: =SUM(G4:G6) -> 8695884 | I7: =SUM(I4:I6) -> 11520000 | K7: =SUM(K4:K6) -> 5696970 | N7: =SUM(N4:N6) -> 5696970 | P7: =SUM(P4:P6) -> 8259500
A8: IVA 19% SOBRE EQUIPOS | E8: =E7*19% -> 1623186.3 | G8: =G7*19% -> 1652218 | I8: =I7*19% -> 2188800 | K8: =K7*19% -> 1082424.3 | N8: =N7*19% -> 1082424.3 | P8: =P7*19% -> 1569305
A9: TOTAL | E9: =+E7+E8 -> 10166272 | G9: =+G7+G8 -> 10348102 | I9: =+I7+I8 -> 13708800 | K9: =+K7+K8 -> 6779394.3 | N9: =+N7+N8 -> 6779394.3 | P9: =+P7+P8 -> 9828805

Sheet PROMEDIO SERVICIOS Y EQUIPOS
D1: PROMEDIO 10,21 | F1: COTIZACIÓN SERVICIO DE VIGILANCIA ACROPOLIS (VALOR MENSUAL DEL 15 DE JULIO DE 2026 EN ADELANTE) | O1: COTIZACIÓN SERVICIO DE VIGILANCIA DOGMAN (VALOR MENSUAL DEL 15 DE JULIO DE 2026 EN ADELANTE) | U1: COTIZACIÓN SERVICIO DE VIGILANCIA LAS AMERICAS (VALOR MENSUAL DEL 15 DE JULIO DE 2026 EN ADELANTE) | AA1: COTIZACIÓN SERVICIO DE VIGILANCIA MIRO (VALOR MENSUAL DEL 15 DE JULIO DE 2026 EN ADELANTE)
A2: ITEM | B2: DESCRIPCIÓN | C2: CANT | D2: PROMEDIO 9,77 | E2: VALOR UNITARIO AL MES | F2: TARIFA BASE | G2: VR. SEGURO VIDA | H2: VR. TARIFA BASE + SG VIDA | I2: %. GASTOS S.A | J2: VR.ANTES DE IVA | K2: AIU 10% | L2: IVA DEL 19% SOBRE EL AIU | M2: VALOR UNITAIO MENSUAL CON IVA | N2: VALOR TOTAL MES | O2: TARIFA BASE | P2: VR. SEGURO VIDA | Q2: VR. TARIFA BASE + SG VIDA | R2: %. GASTOS S.A | S2: VALOR ANTES DE IVA | T2: VALOR TOTAL MES | U2: TARIFA BASE | V2: VR. SEGURO VIDA | W2: VR. TARIFA BASE + SG VIDA | X2: %. GASTOS S.A | Y2: VR.ANTES DE IVA | Z2: VALOR TOTAL MES | AA2: TARIFA BASE | AB2: VR. SEGURO VIDA | AC2: VR. TARIFA BASE + SG VIDA | AD2: %. GASTOS S.A | AE2: VR.ANTES DE IVA | AF2: VALOR TOTAL MES
A3: 1 | B3: Servicio de Vigilancia PERMANENTE 24 HORAS ARMADO de lunes a domingo incluido festivos | C3: 30 | D3: =ROUND(AVERAGE(J3,S3,Y3,AE3),0) -> 19668003 | E3: =+D3*C3 -> 590040090 | F3: =1750905*10.21 -> 17876740 | G3: 6300 | H3: =SUM(F3:G3) -> 17883040 | I3: =H3*10% -> 1788304 | J3: =SUM(H3:I3) -> 19671344 | K3: =ROUND(#REF!*10%,0) -> #REF! | L3: =ROUND(K3*19%,0) -> #REF! | M3: =+#REF!+L3 -> #REF! | N3: =+J3*C3 -> 5.9014032e+08 | O3: =1750905*10.21 -> 17876740 | P3: 1500 | Q3: =SUM(O3:P3) -> 17878240 | R3: =Q3*10% -> 1787824 | S3: =SUM(Q3:R3) -> 19666064 | T3: =+S3*C3 -> 5.8998192e+08 | U3: =1750905*10.21 -> 17876740 | V3: 3750 | W3: =SUM(U3:V3) -> 17880490 | X3: =W3*10% -> 1788049 | Y3: =SUM(W3:X3) -> 19668539 | Z3: =+Y3*C3 -> 5.9005617e+08 | AA3: =1750905*10.21 -> 17876740 | AB3: 1500 | AC3: =SUM(AA3:AB3) -> 17878240 | AD3: =AC3*10% -> 1787824 | AE3: =SUM(AC3:AD3) -> 19666064 | AF3: =+AE3*C3 -> 5.8998192e+08
A4: 2 | B4: Servicio de Vigilancia PERMANENTE 24 HORAS SIN ARMA de lunes a domingo incluido festivos | C4: 3 | D4: =ROUND(AVERAGE(J4,S4,Y4,AE4),0) -> 19310403 | E4: =+D4*C4 -> 57931209 | F4: =1750905*10.21 -> 17876740 | G4: 6300 | H4: =SUM(F4:G4) -> 17883040 | I4: =H4*8% -> 1430643.2 | J4: =SUM(H4:I4) -> 19313683 | K4: =ROUND(#REF!*10%,0) -> #REF! | L4: =ROUND(K4*19%,0) -> #REF! | M4: =+#REF!+L4 -> #REF! | N4: =+J4*C4 -> 57941050 | O4: =1750905*10.21 -> 17876740 | P4: 1500 | Q4: =SUM(O4:P4) -> 17878240 | R4: =Q4*8% -> 1430259.2 | S4: =SUM(Q4:R4) -> 19308499 | T4: =+S4*C4 -> 57925498 | U4: =1750905*10.21 -> 17876740 | V4: 3750 | W4: =SUM(U4:V4) -> 17880490 | X4: =W4*8% -> 1430439.2 | Y4: =SUM(W4:X4) -> 19310929 | Z4: =+Y4*C4 -> 57932788 | AA4: =1750905*10.21 -> 17876740 | AB4: 1500 | AC4: =SUM(AA4:AB4) -> 17878240 | AD4: =AC4*8% -> 1430259.2 | AE4: =SUM(AC4:AD4) -> 19308499 | AF4: =+AE4*C4 -> 57925498
A5: 3 | B5: Servicio de Vigilancia Ordinario DIURNO 12 HORAS ARMADO de lunes a viernes sin incluir festivos | C5: 25 | D5: =ROUND(AVERAGE(J5,S5,Y5,AE5),0) -> 5759800 | E5: =+D5*C5 -> 143995000 | F5: =1750905*10.21 -> 17876740 | G5: 6300 | H5: =SUM(F5:G5)*47.59%/30*20/13*12 -> 5237254.6 | I5: =H5*10% -> 523725.46 | J5: =SUM(H5:I5) -> 5760980.1 | K5: =ROUND(#REF!*10%,0) -> #REF! | L5: =ROUND(K5*19%,0) -> #REF! | M5: =+#REF!+L5 -> #REF! | N5: =+J5*C5 -> 1.440245e+08 | O5: =1750905*10.21 -> 17876740 | P5: 1500 | Q5: =SUM(O5:P5)*47.59%/30*20/13*12 -> 5235848.9 | R5: =Q5*10% -> 523584.89 | S5: =SUM(Q5:R5) -> 5759433.8 | T5: =+S5*C5 -> 1.4398584e+08 | U5: =1750905*10.21 -> 17876740 | V5: 1250 | W5: =SUM(U5:V5)*47.59%/30*20/13*12 -> 5235775.7 | X5: =W5*10% -> 523577.57 | Y5: =SUM(W5:X5) -> 5759353.2 | Z5: =+Y5*C5 -> 1.4398383e+08 | AA5: =1750905*10.21 -> 17876740 | AB5: 1500 | AC5: =SUM(AA5:AB5)*47.59%/30*20/13*12 -> 5235848.9 | AD5: =AC5*10% -> 523584.89 | AE5: =SUM(AC5:AD5) -> 5759433.8 | AF5: =+AE5*C5 -> 1.4398584e+08
A6: 4 | B6: Servicio de Hombre de Protección con Canino 12 HORAS de lunes a viernes sin incluir festivos, con medio de comunicación y dotación completa | C6: 3 | D6: =ROUND(AVERAGE(J6,S6,Y6,AE6),0) -> 5812162 | E6: =+D6*C6 -> 17436486 | F6: =1750905*10.21 -> 17876740 | G6: 6300 | H6: =SUM(F6:G6)*47.59%/30*20/13*12 -> 5237254.6 | I6: =H6*11% -> 576098.01 | J6: =SUM(H6:I6) -> 5813352.6 | K6: =ROUND(#REF!*10%,0) -> #REF! | L6: =ROUND(K6*19%,0) -> #REF! | M6: =+#REF!+L6 -> #REF! | N6: =+J6*C6 -> 17440058 | O6: =1750905*10.21 -> 17876740 | P6: 1500 | Q6: =SUM(O6:P6)*47.59%/30*20/13*12 -> 5235848.9 | R6: =Q6*11% -> 575943.38 | S6: =SUM(Q6:R6) -> 5811792.3 | T6: =+S6*C6 -> 17435377 | U6: =1750905*10.21 -> 17876740 | V6: 1250 | W6: =SUM(U6:V6)*47.59%/30*20/13*12 -> 5235775.7 | X6: =W6*11% -> 575935.32 | Y6: =SUM(W6:X6) -> 5811711 | Z6: =+Y6*C6 -> 17435133 | AA6: =1750905*10.21 -> 17876740 | AB6: 1500 | AC6: =SUM(AA6:AB6)*47.59%/30*20/13*12 -> 5235848.9 | AD6: =AC6*11% -> 575943.38 | AE6: =SUM(AC6:AD6) -> 5811792.3 | AF6: =+AE6*C6 -> 17435377
A7: SUBTOTAL SERVICIOS | E7: =SUM(E3:E6) -> 809402785 | N7: =SUM(N3:N6) -> 8.0954593e+08 | T7: =SUM(T3:T6) -> 8.0932864e+08 | Z7: =SUM(Z3:Z6) -> 8.0940792e+08 | AF7: =SUM(AF3:AF6) -> 8.0932864e+08
A8: BASE GRAVABLE (10% AIU) SERVICIOS | E8: =ROUND(E7*10%,0) -> 80940279 | N8: =ROUND(N7*10%,0) -> 80954593 | T8: =ROUND(T7*10%,0) -> 80932864 | Z8: =ROUND(Z7*10%,0) -> 80940792 | AF8: =ROUND(AF7*10%,0) -> 80932864
A9: IVA 19% SOBRE SERVICIOS | E9: =ROUND(E8*19%,0) -> 15378653 | F9: VALOR MENSUAL (TARIFA + EQUIPOS) | G9: VALOR POR DOS MESES (TARIFA + EQUIPOS) | N9: =ROUND(N8*19%,0) -> 15381373 | T9: =ROUND(T8*19%,0) -> 15377244 | Z9: =ROUND(Z8*19%,0) -> 15378750 | AF9: =ROUND(AF8*19%,0) -> 15377244
A10: TOTAL | E10: =+E7+E9 -> 824781438 | F10: =+E10+E19 -> 8.3494771e+08 | G10: =+F10*2 -> 1.6698954e+09 | N10: =+N7+N9 -> 8.249273e+08 | T10: =+T7+T9 -> 8.2470588e+08 | Z10: =+Z7+Z9 -> 8.2478667e+08 | AF10: =+AF7+AF9 -> 8.2470588e+08
D12: PROMEDIO | F12: COTIZACION ACROPOLIS | H12: COTIZACION DOGMAN | J12: COTIZACIÓN LAS AMERICAS | O12: COTIZACION MIRO
A13: ITEM | B13: DESCRIPCIÓN | C13: CANT | D13: TARIFA BASE | E13: VALOR TOTAL MES | F13: TARIFA BASE | G13: VALOR TOTAL MES | H13: TARIFA BASE | I13: VALOR TOTAL MES | J13: TARIFA BASE | K13: VALOR TOTAL MES | N13: VALOR TOTAL MES | O13: TARIFA BASE | P13: VALOR TOTAL MES
A14: 1 | B14: CCTV en seis sedes (Edificio Edatel, Edificio Bulevar Bolivar, Sede judicial municipio de Turbo, municipio de Bello y en el Edificio José Félix de Restrepo ubicados de la siguiente manera: (1) Sótano y (1) Parqueadero. | C14: 6 | D14: =ROUND(AVERAGE(F14,H14,J14,O14),0) -> 810169 | E14: =+D14*C14 -> 4861014 | F14: 951944 | G14: =F14*C14 -> 5711664 | H14: 940000 | I14: =+H14*C14 -> 5640000 | J14: 550547 | K14: =J14*C14 -> 3303282 | N14: =+J14*C14 -> 3303282 | O14: 798186 | P14: =+O14*C14 -> 4789116
A15: 2 | B15: Sistema de registro y control de ingreso y salida de público (lector de cedula) Edificio José Félix de Restrepo | C15: 4 | D15: =ROUND(AVERAGE(F15,H15,J15,O15),0) -> 627055 | E15: =+D15*C15 -> 2508220 | F15: 525131 | G15: =F15*C15 -> 2100524 | H15: 980000 | I15: =+H15*C15 -> 3920000 | J15: 409457 | K15: =J15*C15 -> 1637828 | N15: =+J15*C15 -> 1637828 | O15: 593633 | P15: =+O15*C15 -> 2374532
A16: 3 | B16: Sistema de registro y control de ingreso y salida de público (lector de cedula) Edificio Edatel | C16: 2 | D16: =ROUND(AVERAGE(F16,H16,J16,O16),0) -> 586926 | E16: =+D16*C16 -> 1173852 | F16: 441848 | G16: =F16*C16 -> 883696 | H16: 980000 | I16: =+H16*C16 -> 1960000 | J16: 377930 | K16: =J16*C16 -> 755860 | N16: =+J16*C16 -> 755860 | O16: 547926 | P16: =+O16*C16 -> 1095852
A17: BASE GRAVABLE (10% AIU) EQUIPOS | E17: =SUM(E14:E16) -> 8543086 | G17: =SUM(G14:G16) -> 8695884 | I17: =SUM(I14:I16) -> 11520000 | K17: =SUM(K14:K16) -> 5696970 | N17: =SUM(N14:N16) -> 5696970 | P17: =SUM(P14:P16) -> 8259500
A18: IVA 19% SOBRE EQUIPOS | E18: =E17*19% -> 1623186.3 | G18: =G17*19% -> 1652218 | I18: =I17*19% -> 2188800 | K18: =K17*19% -> 1082424.3 | N18: =N17*19% -> 1082424.3 | P18: =P17*19% -> 1569305
A19: TOTAL | E19: =+E17+E18 -> 10166272 | G19: =+G17+G18 -> 10348102 | I19: =+I17+I18 -> 13708800 | K19: =+K17+K18 -> 6779394.3 | N19: =+N17+N18 -> 6779394.3 | P19: =+P17+P18 -> 9828805

Sheet FACTOR 9,77
A1: COTIZACIÓN SERVICIO DE VIGILANCIA (VALOR MENSUAL DEL 25 DE DICIEMBRE DE 2025 EN ADELANTE)
A2: ITEM | B2: DESCRIPCIÓN | C2: CANT | D2: TARIFA BASE | E2: VR. SEGURO VIDA | F2: VR. TARIFA BASE + SG VIDA | G2: %. GASTOS S.A | H2: VR.ANTES DE IVA | I2: VALOR TOTAL MES
A3: 1 | B3: Servicio de Vigilancia PERMANENTE 24 HORAS ARMADO de lunes a domingo incluido festivos | C3: 33 | D3: =1423500*9.77 -> 13907595 | E3: 999 | F3: =SUM(D3:E3) -> 13908594 | G3: =F3*10% -> 1390859.4 | H3: =SUM(F3:G3) -> 15299453 | I3: =H3*C3 -> 5.0488196e+08
A4: 2 | B4: Servicio de Vigilancia PERMANENTE 24 HORAS SIN ARMA de lunes a domingo incluido festivos | C4: 3 | D4: =1423500*9.77 -> 13907595 | E4: 999 | F4: =SUM(D4:E4) -> 13908594 | G4: =F4*8% -> 1112687.5 | H4: =SUM(F4:G4) -> 15021282 | I4: =H4*C4 -> 45063845
A5: 3 | B5: Servicio de Vigilancia Ordinario DIURNO 12 HORAS ARMADO de lunes a viernes sin incluir festivos | C5: 27 | D5: =1423500*9.77 -> 13907595 | E5: 999 | F5: =SUM(D5:E5)*0.5597/15*12/30*20 -> 4151808 | G5: =F5*10% -> 415180.8 | H5: =SUM(F5:G5) -> 4566988.8 | I5: =H5*C5 -> 1.233087e+08
A6: 4 | B6: Servicio de Hombre de Protección con Canino 12 HORAS de lunes a viernes sin incluir festivos, con medio de comunicación y dotación completa | C6: 3 | D6: =1423500*9.77 -> 13907595 | E6: 999 | F6: =SUM(D6:E6)*0.5597/15*12/30*20 -> 4151808 | G6: =F6*11% -> 456698.88 | H6: =SUM(F6:G6) -> 4608506.9 | I6: =H6*C6 -> 13825521
A7: 5 | B7: CCTV en seis sedes (Edificio Edatel, Edificio Bulevar Bolivar, Sede judicial municipio de Turbo, municipio de Bello y en el Edificio José Félix de Restrepo ubicados de la siguiente manera: (1) Sótano y (1) Parqueadero. | C7: 6 | D7: 928039.62 | E7: 0 | F7: 0 | G7: 0 | H7: 0 | I7: =D7*C7 -> 5568237.7
A8: 6 | B8: Sistema de registro y control de ingreso y salida de público (lector de cedula) Edificio José Félix de Restrepo | C8: 4 | D8: 346452.21 | E8: 0 | F8: 0 | G8: 0 | H8: 0 | I8: =D8*C8 -> 1385808.8
A9: 7 | B9: Sistema de registro y control de ingreso y salida de público (lector de cedula) Edificio Edatel | C9: 2 | D9: 346452.21 | E9: 0 | F9: 0 | G9: 0 | H9: 0 | I9: =D9*C9 -> 692904.42
A10: 8 | B10: Sistema de Control de ingreso y salida empleados (torniquetes – carnet con Ship) Edificio José Félix de Restrepo. | C10: 6 | D10: 1152554.2 | E10: 0 | F10: 0 | G10: 0 | H10: 0 | I10: =D10*C10 -> 6915325.4
A11: SUBTOTAL SERVICIOS | I11: =SUM(I3:I10) -> 7.016423e+08
A12: BASE GRAVABLE (10% AIU) SERVICIOS | I12: =SUM(I3:I6)*10% -> 68708003
A13: IVA 19% SOBRE SERVICIOS | I13: =I12*19% -> 13054520
A14: BASE GRAVABLE (10% AIU) EQUIPOS | I14: =SUM(I7:I10) -> 14562276
A15: IVA 19% SOBRE EQUIPOS | I15: =I14*19% -> 2766832.5
A16: TOTAL | I16: =I11+I13+I15 -> 7.1746366e+08

Sheet COMPARATIVO
A1: VALORES HASTA 24 DE DICIEMBRE | F1: DIFERENCIA | K1: VALORES 25 DE DICIEMBRE EN ADELANTE
A2: SUBTOTAL SERVICIOS | D2: =ACROPOLIS!I11 -> 6.847654e+08 | F2: SUBTOTAL SERVICIOS | I2: =N2-D2 -> 16876905 | K2: SUBTOTAL SERVICIOS | N2: ='FACTOR 9,77'!I11 -> 7.016423e+08
A3: BASE GRAVABLE (10% AIU) SERVICIOS | D3: =ACROPOLIS!I12 -> 67020312 | F3: BASE GRAVABLE (10% AIU) SERVICIOS | I3: =N3-D3 -> 1687690.5 | K3: BASE GRAVABLE (10% AIU) SERVICIOS | N3: ='FACTOR 9,77'!I12 -> 68708003
A4: IVA 19% SOBRE SERVICIOS | D4: =ACROPOLIS!I13 -> 12733859 | F4: IVA 19% SOBRE SERVICIOS | I4: =N4-D4 -> 320661.2 | K4: IVA 19% SOBRE SERVICIOS | N4: ='FACTOR 9,77'!I13 -> 13054520
A5: BASE GRAVABLE (10% AIU) EQUIPOS | D5: =ACROPOLIS!I14 -> 14562276 | F5: BASE GRAVABLE (10% AIU) EQUIPOS | I5: =N5-D5 -> 0 | K5: BASE GRAVABLE (10% AIU) EQUIPOS | N5: ='FACTOR 9,77'!I14 -> 14562276
A6: IVA 19% SOBRE EQUIPOS | D6: =ACROPOLIS!I15 -> 2766832.5 | F6: IVA 19% SOBRE EQUIPOS | I6: =N6-D6 -> 0 | K6: IVA 19% SOBRE EQUIPOS | N6: ='FACTOR 9,77'!I15 -> 2766832.5
A7: TOTAL | D7: =ACROPOLIS!I16 -> 7.0026609e+08 | F7: TOTAL | I7: =N7-D7 -> 17197566 | K7: TOTAL | N7: ='FACTOR 9,77'!I16 -> 7.1746366e+08

Sheet SEGURCOL
A1: VALOR HASTA EL 24 DE DICIEMBRE | H1: VALOR DESDE EL 25 DE DICIEMBRE
A3: ITEM | B3: DESCRIPCION | C3: CANT | D3: PRECIO UNITARIO ANTES IVA | E3: VALOR TOTAL ANTES DE IVA | H3: ITEM | I3: DESCRIPCION | J3: CANT | K3: PRECIO UNITARIO ANTES IVA | L3: VALOR TOTAL ANTES DE IVA
A4: 1 | B4: Servicio de Vigilancia PERMANENTE 24 HORAS ARMADO de lunes a domingo incluido festivos | C4: 28 | D4: 14924201 | E4: =S_A_44[[#This Row],[PRECIO UNITARIO ANTES IVA]]*S_A_44[[#This Row],[CANT]] -> 417877628 | H4: 1 | I4: Servicio de Vigilancia PERMANENTE 24 HORAS ARMADO de lunes a domingo incluido festivos | J4: 28 | K4: =+(1423500*9.77+1750)*1.1 -> 15300280 | L4: =S_A_442[[#This Row],[PRECIO UNITARIO ANTES IVA]]*S_A_442[[#This Row],[CANT]] -> 4.2840783e+08
A5: 2 | B5: Servicio de Vigilancia PERMANENTE 24 HORAS SIN ARMA de lunes a domingo incluido festivos | C5: 3 | D5: 14652851 | E5: =S_A_44[[#This Row],[PRECIO UNITARIO ANTES IVA]]*S_A_44[[#This Row],[CANT]] -> 43958553 | H5: 2 | I5: Servicio de Vigilancia PERMANENTE 24 HORAS SIN ARMA de lunes a domingo incluido festivos | J5: 3 | K5: =+(1423500*9.77+1750)*1.08 -> 15022093 | L5: =S_A_442[[#This Row],[PRECIO UNITARIO ANTES IVA]]*S_A_442[[#This Row],[CANT]] -> 45066278
A6: 3 | B6: Servicio de Vigilancia Ordinario DIURNO 12 HORAS ARMADO de lunes a viernes sin incluir festivos | C6: 30 | D6: 4454973 | E6: =S_A_44[[#This Row],[PRECIO UNITARIO ANTES IVA]]*S_A_44[[#This Row],[CANT]] -> 133649190 | H6: 3 | I6: Servicio de Vigilancia Ordinario DIURNO 12 HORAS ARMADO de lunes a viernes sin incluir festivos | J6: 30 | K6: =+K4*0.5597/15*0.4*20 -> 4567235.4 | L6: =S_A_442[[#This Row],[PRECIO UNITARIO ANTES IVA]]*S_A_442[[#This Row],[CANT]] -> 1.3701706e+08
A7: 4 | B7: Servicio de Hombre de Protección con Canino 12 HORAS de lunes a viernes sin incluir festivos, con medio de comunicación y dotación completa | C7: 3 | D7: 4495473 | E7: =S_A_44[[#This Row],[PRECIO UNITARIO ANTES IVA]]*S_A_44[[#This Row],[CANT]] -> 13486419 | H7: 4 | I7: Servicio de Hombre de Protección con Canino 12 HORAS de lunes a viernes sin incluir festivos, con medio de comunicación y dotación completa | J7: 3 | K7: =+((1423500*9.77+1500)*1.11)*0.5597/1.25/30*20 -> 4608672.9 | L7: =S_A_442[[#This Row],[PRECIO UNITARIO ANTES IVA]]*S_A_442[[#This Row],[CANT]] -> 13826019
A8: 5 | B8: CCTV en seis sedes (Edificio Edatel, Edificio Bulevar Bolivar, Sede judicial municipio de Turbo, municipio de Bello y en el Edificio José Félix de Restrepo ubicados de la siguiente manera: (1) Sótano y (1) Parqueadero. | C8: 6 | D8: 450000 | E8: =S_A_44[[#This Row],[PRECIO UNITARIO ANTES IVA]]*S_A_44[[#This Row],[CANT]] -> 2700000 | H8: 5 | I8: CCTV en seis sedes (Edificio Edatel, Edificio Bulevar Bolivar, Sede judicial municipio de Turbo, municipio de Bello y en el Edificio José Félix de Restrepo ubicados de la siguiente manera: (1) Sótano y (1) Parqueadero. | J8: 6 | K8: 450000 | L8: =S_A_442[[#This Row],[PRECIO UNITARIO ANTES IVA]]*S_A_442[[#This Row],[CANT]] -> 2700000
A9: 6 | B9: Sistema de registro y control de ingreso y salida de público (lector de cedula) Edificio José Félix de Restrepo | C9: 4 | D9: 800000 | E9: =S_A_44[[#This Row],[PRECIO UNITARIO ANTES IVA]]*S_A_44[[#This Row],[CANT]] -> 3200000 | H9: 6 | I9: Sistema de registro y control de ingreso y salida de público (lector de cedula) Edificio José Félix de Restrepo | J9: 4 | K9: 800000 | L9: =S_A_442[[#This Row],[PRECIO UNITARIO ANTES IVA]]*S_A_442[[#This Row],[CANT]] -> 3200000
A10: 7 | B10: Sistema de registro y control de ingreso y salida de público (lector de cedula) Edificio Edatel | C10: 2 | D10: 800000 | E10: =S_A_44[[#This Row],[PRECIO UNITARIO ANTES IVA]]*S_A_44[[#This Row],[CANT]] -> 1600000 | H10: 7 | I10: Sistema de registro y control de ingreso y salida de público (lector de cedula) Edificio Edatel | J10: 2 | K10: 800000 | L10: =S_A_442[[#This Row],[PRECIO UNITARIO ANTES IVA]]*S_A_442[[#This Row],[CANT]] -> 1600000
A11: 8 | B11: Sistema de Control de ingreso y salida empleados (torniquetes – carnet con Ship) Edificio José Félix de Restrepo. | C11: 6 | D11: 850000 | E11: =S_A_44[[#This Row],[PRECIO UNITARIO ANTES IVA]]*S_A_44[[#This Row],[CANT]] -> 5100000 | H11: 8 | I11: Sistema de Control de ingreso y salida empleados (torniquetes – carnet con Ship) Edificio José Félix de Restrepo. | J11: 6 | K11: 850000 | L11: =S_A_442[[#This Row],[PRECIO UNITARIO ANTES IVA]]*S_A_442[[#This Row],[CANT]] -> 5100000
A12: 9 | B12: Sistema de Control de ingreso y salida empleados, funcionarios y público en general (torniquetes – carnet con chip) Edificio Horacio Montoya Gil. | C12: 2 | D12: 850000 | E12: =S_A_44[[#This Row],[PRECIO UNITARIO ANTES IVA]]*S_A_44[[#This Row],[CANT]] -> 1700000 | H12: 9 | I12: Sistema de Control de ingreso y salida empleados, funcionarios y público en general (torniquetes – carnet con chip) Edificio Horacio Montoya Gil. | J12: 2 | K12: 850000 | L12: =S_A_442[[#This Row],[PRECIO UNITARIO ANTES IVA]]*S_A_442[[#This Row],[CANT]] -> 1700000
A13: COSTO DIRECTO | D13: =SUBTOTAL(109,S_A_44[VALOR TOTAL ANTES DE IVA]) -> 623271790 | H13: COSTO DIRECTO | K13: =SUBTOTAL(109,S_A_442[VALOR TOTAL ANTES DE IVA]) -> 6.3861719e+08
A14: BASE GRAVABLE (% AIU) SERVICIOS | D14: 0.1 | E14: =+D13*10% -> 62327179 | H14: BASE GRAVABLE (% AIU) SERVICIOS | K14: 0.1 | L14: =+K13*10% -> 63861719
A15: IVA SOBRE SERVICIOS | D15: 0.19 | E15: =E14*D15 -> 11842164 | H15: IVA SOBRE SERVICIOS | K15: 0.19 | L15: =L14*K15 -> 12133727
