Workbook
Name \0: #REF!
Name \00: #REF!
Name \a: #REF!
Name \a: #REF!
Name \a: #REF!
Name \a: #REF!
Name \a: #REF!
Name \a: #REF!
Name \a: #REF!
Name \a: #REF!
Name \a: #REF!
Name \a: #REF!
Name \AA: [1]LIQUIDACION!#REF!
Name \b: [2]STRSUMM0!#REF!
Name \bb: [2]STRSUMM0!#REF!
Name \E: #REF!
Name \EE: #REF!
Name \G: #REF!
Name \k: '[3]7422CW00'!#REF!
Name \l: [4]STRSUMM0!#REF!
Name \M: #REF!
Name \ñ: '[5]7422CW00'!#REF!
Name \P: #REF!
Name \R: #REF!
Name \s: #REF!
Name \s: #REF!
Name \s: #REF!
Name \s: #REF!
Name \s: #REF!
Name \s: #REF!
Name \s: #REF!
Name \s: #REF!
Name \s: #REF!
Name \s: #REF!
Name \V: #REF!
Name \X: 'APU 2.1'!ERR
Name \X: 'APU 2.3'!ERR
Name \X: 'APU 3.1'!ERR
Name \X: 'APU 6.0'!ERR
Name \X: 'APU 6.1'!ERR
Name \X: 'APU 6.2'!ERR
Name \X: 'APU 6.3'!ERR
Name \X: 'APU 6.4'!ERR
Name \X: 'INDICAR CÓDIGO DEL ITEM DE PAGO'!ERR
Name \X: [0]!ERR
Name \Z: 'APU 2.1'!ERR
Name \Z: 'APU 2.3'!ERR
Name \Z: 'APU 3.1'!ERR
Name \Z: 'APU 6.0'!ERR
Name \Z: 'APU 6.1'!ERR
Name \Z: 'APU 6.2'!ERR
Name \Z: 'APU 6.3'!ERR
Name \Z: 'APU 6.4'!ERR
Name \Z: 'INDICAR CÓDIGO DEL ITEM DE PAGO'!ERR
Name \Z: [0]!ERR
Name _________AFC1: [6]INV!$A$25:$D$28
Name _________AFC3: [6]INV!$F$25:$I$28
Name _________AFC5: [6]INV!$K$25:$N$28
Name _________BGC1: [6]INV!$A$5:$D$8
Name _________BGC3: [6]INV!$F$5:$I$8

Sheet PRESUPUESTO OFICIAL Espacio
B1: Formulario 1 - Propuesta económica - Documento tipo de selección abreviada de menor cuantía - versión 1
B2: Versión: 1 del 21 de agosto de 2025
C5: FORMULARIO 1
C6: PRESUPUESTO OFICIAL
C7: [La entidad puede utilizar este formulario de detalle del presupuesto oficial para determinar las condiciones bajo las cuales los proponentes analizarán y presentarán su propuesta económica de forma detallada, sin perjuicio que la entidad pueda modificarlo o establecer la presentación de la oferta económica con un formulario distinto al indicado.]
C9: Adicionalmente, cuando el proceso de contratación es estructurado por precios unitarios, la Entidad debe aplicar las notas 1, 2 y 3 del presente formulario y las casillas de "Descripción", "Porcentaje" de la Administración, Imprevisto, Utilidad y total A.I.U. resaltadas en colo amarillo. Tratándose de otras modalidades de precio, la Entidad puede o no configurar los mismos aspectos.
C10: “CONTRATAR LA EJECUCION DE OBRAS DE MANTENIMIENTO, REPARACION Y ADECUACION DE BIENES DE USO PÚBLICO Y EQUIPAMIENTOS MUNICIPALES, CORRESPONDIENTES A LA PLAZA DE MERCADO Y LA CASA DE LA CULTURA DEL MUNICIPIO DE SUESCA, CUNDINAMARCA.”
G11: ITEM CORRESPONDIENTE A PLAZA DE MERCADO
C12: Nº | D12: ITEM DE PAGO | E12: ESPECIFICACIONES | G12: DESCRIPCION | H12: UND. | I12: CANTIDAD | J12: VALOR UNITARIO | K12: VALOR TOTAL
E13: GENERAL | F13: PARTICULAR
G14: 1. PRELIMINARES
C15: 1.1 | D15: 1.33 | E15: X | G15: DESMONTE DE CUBIERTAS (TEJA DE BARRO), INCLUYE RETIRO | H15: M2 | I15: 110 | J15: 23044 | K15: =+I15*J15 -> 2534840
C16: 1.2 | D16: 1.1 | E16: X | G16: DEMOLICIÓN BALDOSA DE PISO H=0,02 M, INCLUYE RETIRO | H16: M2 | I16: 4 | J16: 13166 | K16: =+I16*J16 -> 52664
C17: 1.3 | D17: 1.12 | E17: X | G17: DEMOLICIÓN ENCHAPE MURO, INC RETIRO | H17: M2 | I17: 0.96 | J17: 14116 | K17: =+I17*J17 -> 13551.36
C18: 1.4 | D18: 1.13 | E18: X | G18: DEMOLICIÓN PAÑETE MURO, INC RETIRO | H18: M2 | I18: 0.96 | J18: 14955 | K18: =+I18*J18 -> 14356.8
C19: 1.5 | D19: 1.16 | E19: X | G19: DEMOLICIÓN MURO EN MAMPOSTERIA 0,15 M | H19: M2 | I19: 0.96 | J19: 26178 | K19: =+I19*J19 -> 25130.88
C20: 1.6 | D20: 1.27 | E20: X | G20: DEMOLICIÓN PLACA PISO 0,15 M, INC RETIRO | H20: M2 | I20: 4 | J20: 42423 | K20: =+I20*J20 -> 169692
C21: Subtotal | K21: =+SUM(K15:K20) -> 2810235.1
G22: 2. CUBIERTAS
C23: 2.1 | D23: APU2.1 | F23: X | G23: TEJA CARTABON LISA | H23: M2 | I23: 110 | J23: 67076 | K23: =I23*J23 -> 7378360.1
C24: 2.2 | D24: 7.23 | E24: X | G24: TEJA FIBROCEMENTO N°6 | H24: M2 | I24: 110 | J24: 53281 | K24: =I24*J24 -> 5860910.1
C25: 2.3 | D25: APU2.3 | F25: X | G25: CAMBIO VIGA CUBIERTA | H25: ML | I25: 5.5 | J25: 34124 | K25: =I25*J25 -> 187682
C26: Subtotal | K26: =SUM(K23:K25) -> 13426952
G27: 3. CIELO RASO
C28: 3.1 | D28: APU3.1 | F28: X | G28: CIELO RASO EN MACHIMBRE | H28: M2 | I28: 104 | J28: 90202 | K28: =I28*J28 -> 9381008
C29: Subtotal | K29: =SUM(K28) -> 9381008
G30: 4. INSTALACIONES SANITARIAS-RED CONTRA INCENDIO
C31: 4.1 | D31: 11.19 | E31: X | G31: SALIDA SANITARIA PVC-S/PARAL 2" | H31: UN | I31: 4 | J31: 118337 | K31: =I31*J31 -> 473348
C32: 4.2 | D32: 11.31 | E32: X | G32: RED SANITARIA PVC-S 2". INC ACCESORIOS | H32: ML | I32: 19.995 | J32: 40719 | K32: =I32*J32 -> 814176.41
C33: Subtotal | K33: =SUM(K31:K32) -> 1287524.4
G34: 5. INSTALACIONES HIDRAULICAS Y SANITARIAS
C35: 5.1 | D35: 5.1 | E35: X | G35: CAJA DE INSPECCIÓN 60X60 | H35: UN | I35: 2 | J35: 369406 | K35: =I35*J35 -> 738812
C36: Subtotal | K36: =SUM(K35) -> 738812
C37: SUBTOTAL OBRAS | K37: =+K21+K26+K29+K33+K36 -> 27644532
G38: ITEMS CORRESPONDIENTES A CASA DE LA CULTURA
G39: 6. INSTALACIONES SANITARIAS-RED CONTRA INCENDIO
C40: 6.1 | D40: APU6.1 | F40: X | G40: REVISION GOTERAS TEJADO | H40: GB | I40: 1 | J40: 1137378 | K40: =+J40*I40 -> 1137378
C41: 6.2 | D41: APU6.2 | F41: X | G41: FACHADA EN VIDRIO TEMPLADO 8MM INCLUYE ESTRUCTURA METALICA | H41: M2 | I41: 48 | J41: 632462 | K41: =+I41*J41 -> 30358176
C42: 6.3 | D42: APU6.3 | F42: X | G42: PUERTA DE CORREDERA EN VIDRIO TEMPLADO 10MM INCLUYE CHAPA Y MANIJAS PARA ABRIR Y CERRAR | H42: M2 | I42: 6.55 | J42: 918745 | K42: =+I42*J42 -> 6017779.8
C43: 6.4 | D43: APU6.4 | F43: X | G43: ARREGLO CANALES CUBIERTA CENTRAL | H43: ML | I43: 8.0060753 | J43: 84487 | K43: =+I43*J43 -> 676409.29
...

Sheet APU 2.1
B1: Formulario 1 - Propuesta económica - Documento tipo de selección abreviada de menor cuantía
B2: Versión: 1 del 21 de agosto de 2025
C5: [La entidad podrá utilizar este formato para la presentación de los análisis de precios unitarios el contratista en la oportunidad prevista en el numeral 8.2. del Documento Base]
D8: [NOMBRE DE LA ENTIDAD]
L9: VERSIÓN
D10: [NÚMERO DEL PROCESO]
L11: PÁGINA | M11: 1 | N11: DE | O11: 1
D13: ANALISIS DE PRECIOS UNITARIOS
L15: FECHA | M15: DD | N15: MM | O15: AA
M16: 28 | N16: 7 | O16: 2026
C17: ITEMS DE LA PROPUESTA ECONÓMICA | I17: ITEMS NO PREVISTOS
C21: DATOS ESPECÍFICOS
C23: ITEM | D23: DESCRIPCIÓN | M23: UNIDAD | O23: CANTIDAD
C24: ='PRESUPUESTO OFICIAL Espacio'!D23 -> APU2.1 | D24: ='PRESUPUESTO OFICIAL Espacio'!G23 -> TEJA CARTABON LISA | M24: ='PRESUPUESTO OFICIAL Espacio'!H23 -> M2 | O24: ='PRESUPUESTO OFICIAL Espacio'!I23 -> 110
C25: I. EQUIPO
C28: DESCRIPCIÓN | H28: MARCA | J28: TIPO | L28: TARIFA/HORA | M28: RENDIMIENTO | O28: Vr. UNITARIO
C29: HERRAMIENTA MENOR | L29: 1902.65 | M29: 1 | O29: =+L29*M29 -> 1902.65
C30: SECCION DE 1,4 POR 1,4 H=2,0 ANDAMIO | L30: 30402 | M30: 0.05 | O30: =+L30*M30 -> 1520.1
C32: SUBTOTAL $ | O32: =+O29+O30 -> 3422.75
C33: II. MATERIALES
C36: DESCRIPCIÓN | K36: UNIDAD | L36: CANTIDAD | M36: PRECIO UNIT. | O36: Vr. UNITARIO
C37: TEJA CARTABON 39 X 15 CM | K37: UNIDAD | L37: 1600 | M37: 16 | O37: =+L37*M37 -> 25600
C39: SUBTOTAL $ | O39: =+O37 -> 25600
C40: III. TRANSPORTES
C43: MATERIAL | J43: VOL. o PESO | K43: DISTANCIA | L43: M3 o Ton/Km | M43: TARIFA | O43: Vr. UNITARIO
C46: SUBTOTAL $
C47: IV. MANO DE OBRA
C50: TRABAJADOR | J50: JORNAL | K50: PRESTACIONES | L50: JORNAL TOTAL | M50: RENDIMIENTO | O50: Vr. UNITARIO
C51: MANO DE OBRA AA | J51: 190265 | K51: 200 | L51: =+J51*K51 -> 38053000 | M51: 10 | O51: 38053
C55: SUBTOTAL $ | O55: =+O51 -> 38053
C57: TOTAL COSTO DIRECTO $ | O57: =ROUND(O32+O39+O55,0) -> 67076
C58: V. COSTOS INDIRECTOS
C61: Descripción | L61: Porcentaje | M61: Valor Total
C62: ADMINISTRACION | L62: 0.2 | M62: =$O$57*L62 -> 13415.2 | O62: =M62 -> 13415.2
C63: IMPREVISTOS | L63: 0.06 | M63: =$O$57*L63 -> 4024.56 | O63: =M63 -> 4024.56
C64: UTILIDAD | L64: 0.04 | M64: =$O$57*L64 -> 2683.04 | O64: =M64 -> 2683.04
C65: SUBTOTAL $ | O65: =SUM(O62:O64) -> 20122.8
C67: Precio Unitario Total Aproximado al peso $ | O67: =O57+O65 -> 87198.8
H71: Firma
H72: Nombre: | I72: ING. HERMAN DANIEL ROJAS GARZON
...

Sheet APU 2.3
B1: Formulario 1 - Propuesta económica - Documento tipo de selección abreviada de menor cuantía
B2: Versión: 1 del 21 de agosto de 2025
C5: [La entidad podrá utilizar este formato para la presentación de los análisis de precios unitarios el contratista en la oportunidad prevista en el numeral 8.2. del Documento Base]
D8: [NOMBRE DE LA ENTIDAD]
L9: VERSIÓN
D10: [NÚMERO DEL PROCESO]
L11: PÁGINA | M11: 1 | N11: DE | O11: 1
D13: ANALISIS DE PRECIOS UNITARIOS
L15: FECHA | M15: DD | N15: MM | O15: AA
M16: 28 | N16: 7 | O16: 2026
C17: ITEMS DE LA PROPUESTA ECONÓMICA | I17: ITEMS NO PREVISTOS
C21: DATOS ESPECÍFICOS
C23: ITEM | D23: DESCRIPCIÓN | M23: UNIDAD | O23: CANTIDAD
C24: ='PRESUPUESTO OFICIAL Espacio'!D25 -> APU2.3 | D24: ='PRESUPUESTO OFICIAL Espacio'!G25 -> CAMBIO VIGA CUBIERTA | M24: ='PRESUPUESTO OFICIAL Espacio'!H25 -> ML | O24: ='PRESUPUESTO OFICIAL Espacio'!I25 -> 5.5
C25: I. EQUIPO
C28: DESCRIPCIÓN | H28: MARCA | J28: UNIDAD | L28: TARIFA/HORA | M28: RENDIMIENTO | O28: Vr. UNITARIO
C29: HERRAMIENTA MENOR | J29: GL | L29: 1517.45 | M29: 1 | O29: =+L29*M29 -> 1517.45
C30: SECCION DE 1,4 POR 1,4 H=2,0 ANDAMIO | J30: D | L30: 30402 | M30: 0.05 | O30: =+L30*M30 -> 1520.1
C31: PARAL TELESCOPICO 2,2 M | J31: MS | L31: 9263 | M31: 1 | O31: 9263
C32: SUBTOTAL $ | O32: =+O29+O30+O31 -> 12300.55
C33: II. MATERIALES
C36: DESCRIPCIÓN | K36: UNIDAD | L36: CANTIDAD | M36: PRECIO UNIT. | O36: Vr. UNITARIO
C37: PUNTILLA CON CABEZA 2" | K37: LB | L37: 6649 | M37: 1 | O37: =+L37*M37 -> 6649
C39: SUBTOTAL $ | O39: =+O37 -> 6649
C40: III. TRANSPORTES
C43: MATERIAL | J43: VOL. o PESO | K43: DISTANCIA | L43: M3 o Ton/Km | M43: TARIFA | O43: Vr. UNITARIO
C46: SUBTOTAL $
C47: IV. MANO DE OBRA
C50: TRABAJADOR | J50: JORNAL | K50: PRESTACIONES | L50: JORNAL TOTAL | M50: RENDIMIENTO | O50: Vr. UNITARIO
C51: AYUDANTE (2) | J51: 151745 | K51: 200 | L51: 303490 | M51: 20 | O51: 15174.5
C55: SUBTOTAL $ | O55: =+O51 -> 15174.5
C57: TOTAL COSTO DIRECTO $ | O57: =+O32+O39+O46+O55 -> 34124.05
C58: V. COSTOS INDIRECTOS
C61: Descripción | L61: Porcentaje | M61: Valor Total
C62: ADMINISTRACION | L62: 0.2 | M62: =$O$57*L62 -> 6824.81 | O62: =M62 -> 6824.81
C63: IMPREVISTOS | L63: 0.06 | M63: =$O$57*L63 -> 2047.443 | O63: =M63 -> 2047.443
C64: UTILIDAD | L64: 0.04 | M64: =$O$57*L64 -> 1364.962 | O64: =M64 -> 1364.962
C65: SUBTOTAL $ | O65: =+O62+O63+O64 -> 10237.215
C67: Precio Unitario Total Aproximado al peso $ | O67: =+O57+O65 -> 44361.265
H71: Firma
...

Sheet APU 3.1
B1: Formulario 1 - Propuesta económica - Documento tipo de selección abreviada de menor cuantía
B2: Versión: 1 del 21 de agosto de 2025
C5: [La entidad podrá utilizar este formato para la presentación de los análisis de precios unitarios el contratista en la oportunidad prevista en el numeral 8.2. del Documento Base]
D8: [NOMBRE DE LA ENTIDAD]
L9: VERSIÓN
D10: [NÚMERO DEL PROCESO]
L11: PÁGINA | M11: 1 | N11: DE | O11: 1
D13: ANALISIS DE PRECIOS UNITARIOS
L15: FECHA | M15: DD | N15: MM | O15: AA
M16: 28 | N16: 7 | O16: 2026
C17: ITEMS DE LA PROPUESTA ECONÓMICA | I17: ITEMS NO PREVISTOS
C21: DATOS ESPECÍFICOS
C23: ITEM | D23: DESCRIPCIÓN | M23: UNIDAD | O23: CANTIDAD
C24: ='PRESUPUESTO OFICIAL Espacio'!D28 -> APU3.1 | D24: ='PRESUPUESTO OFICIAL Espacio'!G28 -> CIELO RASO EN MACHIMBRE | M24: ='PRESUPUESTO OFICIAL Espacio'!H28 -> M2 | O24: ='PRESUPUESTO OFICIAL Espacio'!I28 -> 104
C25: I. EQUIPO
C28: DESCRIPCIÓN | H28: MARCA | J28: UNIDAD | L28: TARIFA/HORA | M28: RENDIMIENTO | O28: Vr. UNITARIO
C29: HERRAMIENTA MENOR | J29: GL | L29: 1902.65 | M29: 1 | O29: =+L29*M29 -> 1902.65
C30: SECCION DE 1,4 POR 1,4 H=2,0 ANDAMIO | J30: D | L30: 30402 | M30: 0.1 | O30: =+L30*M30 -> 3040.2
C32: SUBTOTAL $ | O32: =+O29+O30+O31 -> 4942.85
C33: II. MATERIALES
C36: DESCRIPCIÓN | K36: UNIDAD | L36: CANTIDAD | M36: PRECIO UNIT. | O36: Vr. UNITARIO
C37: PUNTILLA CON CABEZA 2" | K37: LB | L37: 6649 | M37: 0.04 | O37: =+L37*M37 -> 265.96
C38: REPISA EN ORDINARIO | K38: ML | L38: 4076 | M38: 2.16 | O38: =+L38*M38 -> 8804.16
C39: MACHIMBRE 1M2 1X8 CM PATULA | K39: M2 | L39: 36320 | M39: 1.05 | O39: =+L39*M39 -> 38136
C40: SUBTOTAL $ | O40: =+O37+O38+O39 -> 47206.12
C41: III. TRANSPORTES
C44: MATERIAL | J44: VOL. o PESO | K44: DISTANCIA | L44: M3 o Ton/Km | M44: TARIFA | O44: Vr. UNITARIO
C47: SUBTOTAL $
C48: IV. MANO DE OBRA
C51: TRABAJADOR | J51: JORNAL | K51: PRESTACIONES | L51: JORNAL TOTAL | M51: RENDIMIENTO | O51: Vr. UNITARIO
C52: MANO DE OBRA AA | J52: 190265 | K52: 200 | L52: 380530 | M52: 10 | O52: =+L52/M52 -> 38053
C56: SUBTOTAL $ | O56: =+O52 -> 38053
C58: TOTAL COSTO DIRECTO $ | O58: =+O32+O40+O47+O56 -> 90201.97
C59: V. COSTOS INDIRECTOS
C62: Descripción | L62: Porcentaje | M62: Valor Total
C63: ADMINISTRACION | L63: 0.2 | M63: =$O$58*L63 -> 18040.394 | O63: =M63 -> 18040.394
C64: IMPREVISTOS | L64: 0.06 | M64: =$O$58*L64 -> 5412.1182 | O64: =M64 -> 5412.1182
C65: UTILIDAD | L65: 0.04 | M65: =$O$58*L65 -> 3608.0788 | O65: =M65 -> 3608.0788
C66: SUBTOTAL $ | O66: =O63+O64+O65 -> 27060.591
C68: Precio Unitario Total Aproximado al peso $ | O68: =O58+O66 -> 117262.56
...

Sheet APU 6.0
B1: Formulario 1 - Propuesta económica - Documento tipo de selección abreviada de menor cuantía
B2: Versión: 1 del 21 de agosto de 2025
C5: [La entidad podrá utilizar este formato para la presentación de los análisis de precios unitarios el contratista en la oportunidad prevista en el numeral 8.2. del Documento Base]
D8: [NOMBRE DE LA ENTIDAD]
L9: VERSIÓN
D10: [NÚMERO DEL PROCESO]
L11: PÁGINA | M11: 1 | N11: DE | O11: 1
D13: ANALISIS DE PRECIOS UNITARIOS
L15: FECHA | M15: DD | N15: MM | O15: AA
M16: 28 | N16: 7 | O16: 2026
C17: ITEMS DE LA PROPUESTA ECONÓMICA | I17: ITEMS NO PREVISTOS
C21: DATOS ESPECÍFICOS
C23: ITEM | D23: DESCRIPCIÓN | M23: UNIDAD | O23: CANTIDAD
C24: 6.2 | D24: TEJA CARTABON | M24: M2 | O24: =#REF! -> #REF!
C25: I. EQUIPO
C28: DESCRIPCIÓN | H28: MARCA | J28: UNIDAD | L28: TARIFA/HORA | M28: RENDIMIENTO | O28: Vr. UNITARIO
C29: HERRAMIENTA MENOR | J29: GL | L29: 1902.65 | M29: 1 | O29: =+L29*M29 -> 1902.65
C30: SECCION DE 1,4 POR 1,4 H=2,0 ANDAMIO | J30: D | L30: 30402 | M30: 0.05 | O30: =+L30*M30 -> 1520.1
C32: SUBTOTAL $ | O32: =+O29+O30+O31 -> 3422.75
C33: II. MATERIALES
C36: DESCRIPCIÓN | K36: UNIDAD | L36: CANTIDAD | M36: PRECIO UNIT. | O36: Vr. UNITARIO
C37: TEJA CARTABON 39 X 15 CM | K37: UNIDAD | L37: 1600 | M37: 16 | O37: =+L37*M37 -> 25600
O38: =+L38*M38 -> 0
O39: =+L39*M39 -> 0
C40: SUBTOTAL $ | O40: =+O37+O38+O39 -> 25600
C41: III. TRANSPORTES
C44: MATERIAL | J44: VOL. o PESO | K44: DISTANCIA | L44: M3 o Ton/Km | M44: TARIFA | O44: Vr. UNITARIO
C47: SUBTOTAL $
C48: IV. MANO DE OBRA
C51: TRABAJADOR | J51: JORNAL | K51: PRESTACIONES | L51: JORNAL TOTAL | M51: RENDIMIENTO | O51: Vr. UNITARIO
C52: MANO DE OBRA AA | J52: 190265 | K52: 200 | L52: 380530 | M52: 10 | O52: =+L52/M52 -> 38053
C56: SUBTOTAL $ | O56: =+O52 -> 38053
C58: TOTAL COSTO DIRECTO $ | O58: =+O32+O40+O47+O56 -> 67075.75
C59: V. COSTOS INDIRECTOS
C62: Descripción | L62: Porcentaje | M62: Valor Total
C63: ADMINISTRACION | L63: 0.2 | M63: =$O$58*L63 -> 13415.15 | O63: =M63 -> 13415.15
C64: IMPREVISTOS | L64: 0.06 | M64: =$O$58*L64 -> 4024.545 | O64: =M64 -> 4024.545
C65: UTILIDAD | L65: 0.04 | M65: =$O$58*L65 -> 2683.03 | O65: =M65 -> 2683.03
C66: SUBTOTAL $ | O66: =O63+O64+O65 -> 20122.725
C68: Precio Unitario Total Aproximado al peso $ | O68: =O58+O66 -> 87198.475
...

Sheet APU 6.1
B1: Formulario 1 - Propuesta económica - Documento tipo de selección abreviada de menor cuantía
B2: Versión: 1 del 21 de agosto de 2025
C5: [La entidad podrá utilizar este formato para la presentación de los análisis de precios unitarios el contratista en la oportunidad prevista en el numeral 8.2. del Documento Base]
D8: [NOMBRE DE LA ENTIDAD]
L9: VERSIÓN
D10: [NÚMERO DEL PROCESO]
L11: PÁGINA | M11: 1 | N11: DE | O11: 1
D13: ANALISIS DE PRECIOS UNITARIOS
L15: FECHA | M15: DD | N15: MM | O15: AA
M16: 28 | N16: 7 | O16: 2026
C17: ITEMS DE LA PROPUESTA ECONÓMICA | I17: ITEMS NO PREVISTOS
C21: DATOS ESPECÍFICOS
C23: ITEM | D23: DESCRIPCIÓN | M23: UNIDAD | O23: CANTIDAD
C24: ='PRESUPUESTO OFICIAL Espacio'!C40 -> 6.1 | D24: ='PRESUPUESTO OFICIAL Espacio'!G40 -> REVISION GOTERAS TEJADO | M24: ='PRESUPUESTO OFICIAL Espacio'!H40 -> GB | O24: ='PRESUPUESTO OFICIAL Espacio'!I40 -> 1
C25: I. EQUIPO
C28: DESCRIPCIÓN | H28: MARCA | J28: UNIDAD | L28: TARIFA/HORA | M28: RENDIMIENTO | O28: Vr. UNITARIO
C29: HERRAMIENTA MENOR | J29: GL | L29: 1902.65 | M29: 1 | O29: =+L29*M29 -> 1902.65
C30: SECCION DE 1,4 POR 1,4 H=2,0 ANDAMIO | J30: D | L30: 30402 | M30: 2 | O30: =+L30*M30 -> 60804
C32: SUBTOTAL $ | O32: =+O29+O30+O31 -> 62706.65
C33: II. MATERIALES
C36: DESCRIPCIÓN | K36: UNIDAD | L36: CANTIDAD | M36: PRECIO UNIT. | O36: Vr. UNITARIO
C37: MORTERO IMPERMEABILIZADO 1:3 ARENA LAVADA DE PEÑA | K37: M3 | L37: 855727 | M37: 0.7 | O37: =+L37*M37 -> 599008.9
C40: SUBTOTAL $ | O40: =+O37+O38+O39 -> 599008.9
C41: III. TRANSPORTES
C44: MATERIAL | J44: VOL. o PESO | K44: DISTANCIA | L44: M3 o Ton/Km | M44: TARIFA | O44: Vr. UNITARIO
C47: SUBTOTAL $
C48: IV. MANO DE OBRA
C51: TRABAJADOR | J51: JORNAL | K51: PRESTACIONES | L51: JORNAL TOTAL | M51: RENDIMIENTO | O51: Vr. UNITARIO
C52: MANO DE OBRA 44 | J52: 190265 | K52: 200 | L52: 380530 | M52: 0.8 | O52: =+L52/M52 -> 475662.5
C56: SUBTOTAL $ | O56: =+O52 -> 475662.5
C58: TOTAL COSTO DIRECTO $ | O58: =O32+O40+O47+O56 -> 1137378
C59: V. COSTOS INDIRECTOS
C62: Descripción | L62: Porcentaje | M62: Valor Total
C63: ADMINISTRACION | L63: 0.2 | M63: =$O$58*L63 -> 227475.61 | O63: =M63 -> 227475.61
C64: IMPREVISTOS | L64: 0.06 | M64: =$O$58*L64 -> 68242.683 | O64: =M64 -> 68242.683
C65: UTILIDAD | L65: 0.04 | M65: =$O$58*L65 -> 45495.122 | O65: =M65 -> 45495.122
C66: SUBTOTAL $ | O66: =O63+O64+O65 -> 341213.41
C68: Precio Unitario Total Aproximado al peso $ | O68: =O58+O66 -> 1478591.5
H72: Firma
H73: Nombre: | I73: ING. HERMAN DANIEL ROJAS GARZON
...

Sheet APU 6.2
B1: Formulario 1 - Propuesta económica - Documento tipo de selección abreviada de menor cuantía
B2: Versión: 1 del 21 de agosto de 2025
C5: [La entidad podrá utilizar este formato para la presentación de los análisis de precios unitarios el contratista en la oportunidad prevista en el numeral 8.2. del Documento Base]
D8: [NOMBRE DE LA ENTIDAD]
L9: VERSIÓN
D10: [NÚMERO DEL PROCESO]
L11: PÁGINA | M11: 1 | N11: DE | O11: 1
D13: ANALISIS DE PRECIOS UNITARIOS
L15: FECHA | M15: DD | N15: MM | O15: AA
M16: 28 | N16: 7 | O16: 2026
C17: ITEMS DE LA PROPUESTA ECONÓMICA | I17: ITEMS NO PREVISTOS
C21: DATOS ESPECÍFICOS
C23: ITEM | D23: DESCRIPCIÓN | M23: UNIDAD | O23: CANTIDAD
C24: ='PRESUPUESTO OFICIAL Espacio'!C41 -> 6.2 | D24: ='PRESUPUESTO OFICIAL Espacio'!G41 -> FACHADA EN VIDRIO TEMPLADO 8MM INCLUYE ESTRUCTURA METALICA | M24: ='PRESUPUESTO OFICIAL Espacio'!H41 -> M2 | O24: ='PRESUPUESTO OFICIAL Espacio'!I41 -> 48
C25: I. EQUIPO
C28: DESCRIPCIÓN | H28: MARCA | J28: UNIDAD | L28: TARIFA/HORA | M28: RENDIMIENTO | O28: Vr. UNITARIO
C29: HERRAMIENTA MENOR | J29: GL | L29: 5073.76 | M29: 1 | O29: =+L29*M29 -> 5073.76
C30: SECCION DE 1,4 POR 1,4 H=2,0 ANDAMIO | J30: D | L30: 30402 | M30: 0.2 | O30: =+L30*M30 -> 6080.4
C32: SUBTOTAL $ | O32: =+O29+O30+O31 -> 11154.16
C33: II. MATERIALES
C36: DESCRIPCIÓN | K36: UNIDAD | L36: CANTIDAD | M36: PRECIO UNIT. | O36: Vr. UNITARIO
C37: VIDRIO TEMPLADO 8MM CON SISTEMA DE FIJACION FACHADA | K37: M2 | L37: 543400 | M37: 1.05 | O37: =+L37*M37 -> 570570
C40: SUBTOTAL $ | O40: =+O37+O38+O39 -> 570570
C41: III. TRANSPORTES
C44: MATERIAL | J44: VOL. o PESO | K44: DISTANCIA | L44: M3 o Ton/Km | M44: TARIFA | O44: Vr. UNITARIO
C47: SUBTOTAL $
C48: IV. MANO DE OBRA
C51: TRABAJADOR | J51: JORNAL | K51: PRESTACIONES | L51: JORNAL TOTAL | M51: RENDIMIENTO | O51: Vr. UNITARIO
C52: MANO DE OBRA DD | J52: 228319 | K52: 200 | L52: 456638 | M52: 9 | O52: =+L52/M52 -> 50737.556
C56: SUBTOTAL $ | O56: =+O52 -> 50737.556
C58: TOTAL COSTO DIRECTO $ | O58: =O32+O40+O47+O56 -> 632461.72
C59: V. COSTOS INDIRECTOS
C62: Descripción | L62: Porcentaje | M62: Valor Total
C63: ADMINISTRACION | L63: 0.2 | M63: =$O$58*L63 -> 126492.34 | O63: =M63 -> 126492.34
C64: IMPREVISTOS | L64: 0.06 | M64: =$O$58*L64 -> 37947.703 | O64: =M64 -> 37947.703
C65: UTILIDAD | L65: 0.04 | M65: =$O$58*L65 -> 25298.469 | O65: =M65 -> 25298.469
C66: SUBTOTAL $ | O66: =O63+O64+O65 -> 189738.51
C68: Precio Unitario Total Aproximado al peso $ | O68: =O58+O66 -> 822200.23
H72: Firma
H73: Nombre: | I73: ING. HERMAN DANIEL ROJAS GARZON
...

Sheet APU 6.3
B1: Formulario 1 - Propuesta económica - Documento tipo de selección abreviada de menor cuantía
B2: Versión: 1 del 21 de agosto de 2025
C5: [La entidad podrá utilizar este formato para la presentación de los análisis de precios unitarios el contratista en la oportunidad prevista en el numeral 8.2. del Documento Base]
D8: [NOMBRE DE LA ENTIDAD]
L9: VERSIÓN
D10: [NÚMERO DEL PROCESO]
L11: PÁGINA | M11: 1 | N11: DE | O11: 1
D13: ANALISIS DE PRECIOS UNITARIOS
L15: FECHA | M15: DD | N15: MM | O15: AA
M16: 28 | N16: 7 | O16: 2026
C17: ITEMS DE LA PROPUESTA ECONÓMICA | I17: ITEMS NO PREVISTOS
C21: DATOS ESPECÍFICOS
C23: ITEM | D23: DESCRIPCIÓN | M23: UNIDAD | O23: CANTIDAD
C24: ='PRESUPUESTO OFICIAL Espacio'!C42 -> 6.3 | D24: ='PRESUPUESTO OFICIAL Espacio'!G42 -> PUERTA DE CORREDERA EN VIDRIO TEMPLADO 10MM INCLUYE CHAPA Y MANIJAS PARA ABRIR Y CERRAR | M24: ='PRESUPUESTO OFICIAL Espacio'!H42 -> M2 | O24: ='PRESUPUESTO OFICIAL Espacio'!I42 -> 6.55
C25: I. EQUIPO
C28: DESCRIPCIÓN | H28: MARCA | J28: UNIDAD | L28: TARIFA/HORA | M28: RENDIMIENTO | O28: Vr. UNITARIO
C29: HERRAMIENTA MENOR | J29: GL | L29: 9132.76 | M29: 1 | O29: =+L29*M29 -> 9132.76
C30: SECCION DE 1,4 POR 1,4 H=2,0 ANDAMIO | J30: D | L30: 30402 | M30: 0.2 | O30: =+L30*M30 -> 6080.4
C32: SUBTOTAL $ | O32: =+O29+O30+O31 -> 15213.16
C33: II. MATERIALES
C36: DESCRIPCIÓN | K36: UNIDAD | L36: CANTIDAD | M36: PRECIO UNIT. | O36: Vr. UNITARIO
C37: VIDRIO TEMPLADO 8MM | K37: M2 | L37: 314928 | M37: 1.05 | O37: =+L37*M37 -> 330674.4
C38: MANIJA PUERTA VIDRIO ACERO INOX | K38: UNIDAD | L38: 250000 | M38: 0.35 | O38: =+L38*M38 -> 87500
C39: CERRADURA CENTRAL | K39: UNIDAD | L39: 315800 | M39: 0.35 | O39: =+L39*M39 -> 110530
C40: CERRADURA DE PISO | K40: UNIDAD | L40: 275000 | M40: 0.35 | O40: =+L40*M40 -> 96250
C41: DECORACION PUERTA | K41: GB | L41: 185000 | M41: 0.35 | O41: =+L41*M41 -> 64750
C42: SISTEMA DE FIJACION Y CORREDERA | K42: GB | L42: 350000 | M42: 0.35 | O42: =+L42*M42 -> 122500
C44: SUBTOTAL $ | O44: =SUM(O37+O38+O39+O40+O41+O42) -> 812204.4
C45: III. TRANSPORTES
C48: MATERIAL | J48: VOL. o PESO | K48: DISTANCIA | L48: M3 o Ton/Km | M48: TARIFA | O48: Vr. UNITARIO
C51: SUBTOTAL $
C52: IV. MANO DE OBRA
C55: TRABAJADOR | J55: JORNAL | K55: PRESTACIONES | L55: JORNAL TOTAL | M55: RENDIMIENTO | O55: Vr. UNITARIO
C56: MANO DE OBRA DD | J56: 228319 | K56: 200 | L56: 456638 | M56: 5 | O56: =+L56/M56 -> 91327.6
C60: SUBTOTAL $ | O60: =+O56 -> 91327.6
C62: TOTAL COSTO DIRECTO $ | O62: =+O32+O44+O51+O60 -> 918745.16
C63: V. COSTOS INDIRECTOS
C66: Descripción | L66: Porcentaje | M66: Valor Total
C67: ADMINISTRACION | L67: 0.2 | M67: =$O$62*L67 -> 183749.03 | O67: =M67 -> 183749.03
C68: IMPREVISTOS | L68: 0.06 | M68: =$O$62*L68 -> 55124.71 | O68: =M68 -> 55124.71
...

Sheet APU 6.4
B1: Formulario 1 - Propuesta económica - Documento tipo de selección abreviada de menor cuantía
B2: Versión: 1 del 21 de agosto de 2025
C5: [La entidad podrá utilizar este formato para la presentación de los análisis de precios unitarios el contratista en la oportunidad prevista en el numeral 8.2. del Documento Base]
D8: [NOMBRE DE LA ENTIDAD]
L9: VERSIÓN
D10: [NÚMERO DEL PROCESO]
L11: PÁGINA | M11: 1 | N11: DE | O11: 1
D13: ANALISIS DE PRECIOS UNITARIOS
L15: FECHA | M15: DD | N15: MM | O15: AA
M16: 28 | N16: 7 | O16: 2026
C17: ITEMS DE LA PROPUESTA ECONÓMICA | I17: ITEMS NO PREVISTOS
C21: DATOS ESPECÍFICOS
C23: ITEM | D23: DESCRIPCIÓN | M23: UNIDAD | O23: CANTIDAD
C24: ='PRESUPUESTO OFICIAL Espacio'!C43 -> 6.4 | D24: ='PRESUPUESTO OFICIAL Espacio'!G43 -> ARREGLO CANALES CUBIERTA CENTRAL | M24: ='PRESUPUESTO OFICIAL Espacio'!H43 -> ML | O24: ='PRESUPUESTO OFICIAL Espacio'!I43 -> 8.0060753
C25: I. EQUIPO
C28: DESCRIPCIÓN | H28: MARCA | J28: UNIDAD | L28: TARIFA/HORA | M28: RENDIMIENTO | O28: Vr. UNITARIO
C29: HERRAMIENTA MENOR | J29: GL | L29: 1189.16 | M29: 1 | O29: =+L29*M29 -> 1189.16
C30: SECCION DE 1,4 POR 1,4 H=2,0 ANDAMIO | J30: D | L30: 30402 | M30: 0.1 | O30: =+L30*M30 -> 3040.2
C32: SUBTOTAL $ | O32: =+O29+O30+O31 -> 4229.36
C33: II. MATERIALES
C36: DESCRIPCIÓN | K36: UNIDAD | L36: CANTIDAD | M36: PRECIO UNIT. | O36: Vr. UNITARIO
C37: LIMATESA FIBROCEMENTO | K37: UNIDAD | L37: 35000 | M37: 1.05 | O37: =+L37*M37 -> 36750
C38: SIKAFLEX | K38: UNIDAD | L38: 54900 | M38: 0.25 | O38: =+L38*M38 -> 13725
C39: TORNILLO FIJACIÓN | K39: UNIDAD | L39: 3000 | M39: 2 | O39: =+L39*M39 -> 6000
C41: SUBTOTAL $ | O41: =+O37+O38+O39 -> 56475
C42: III. TRANSPORTES
C45: MATERIAL | J45: VOL. o PESO | K45: DISTANCIA | L45: M3 o Ton/Km | M45: TARIFA | O45: Vr. UNITARIO
C48: SUBTOTAL $
C49: IV. MANO DE OBRA
C52: TRABAJADOR | J52: JORNAL | K52: PRESTACIONES | L52: JORNAL TOTAL | M52: RENDIMIENTO | O52: Vr. UNITARIO
C53: MANO DE OBRA AA | J53: 190265 | K53: 200 | L53: 380530 | M53: 16 | O53: =+L53/M53 -> 23783.125
C57: SUBTOTAL $ | O57: =+O53 -> 23783.125
C59: TOTAL COSTO DIRECTO $ | O59: =O32+O41+O48+O57 -> 84487.485
C60: V. COSTOS INDIRECTOS
C63: Descripción | L63: Porcentaje | M63: Valor Total
C64: ADMINISTRACION | L64: 0.2 | M64: =$O$59*L64 -> 16897.497 | O64: =M64 -> 16897.497
C65: IMPREVISTOS | L65: 0.06 | M65: =$O$59*L65 -> 5069.2491 | O65: =M65 -> 5069.2491
C66: UTILIDAD | L66: 0.04 | M66: =$O$59*L66 -> 3379.4994 | O66: =M66 -> 3379.4994
C67: SUBTOTAL $ | O67: =+O64+O65+O66 -> 25346.246
C69: Precio Unitario Total Aproximado al peso $ | O69: =O59+O67 -> 109833.73
...

Sheet PROPUESTA ECONOMICA(Proponente)
B1: Formulario 1 - Propuesta económica - Documento tipo de selección abreviada de menor cuantía - versión 1
B2: Versión: 1 del 21 de agosto de 2025
C5: FORMULARIO 1
C6: PROPUESTA ECONOMICA
C7: [La entidad puede utilizar este formulario de presentación de propuesta económica de forma detallada, sin perjuicio que la entidad pueda modificarlo o establecer la presentación de la oferta económica con un formulario distinto al indicado.] [Los proponentes emplearán el formulario establecido por la entidad para determinar su propuesta económica conforme al Formulario 1 - Presupuesto Oficial publicado por la Entidad] [En caso de modificar el formulario, es importante tener en cuenta que no se deben incluir causales de rechazo, reglas o parámetros contrarios a los definidos en el documento base. Los términos del proceso solo se encuentran en el Documento Base, por lo que la Entidad no deberá incluir ningún tipo de notas que se configuren en reglas contrarias a las definidas en dicho documento, las notas únicamente pueden ser aclaratorias para efectos del diligenciamiento del formato]
C9: Cuando el proceso de contratación es estructurado por precios unitarios, la Entidad debe aplicar las notas 1, 2 y 3 del presente formato y las casillas de "Descripción", "Porcentaje" de la Administración, Imprevisto, Utilidad y total A.I.U. resaltadas en color amarillo.
C11: Nº | D11: ITEM DE PAGO | E11: ESPECIFICACIONES | G11: DESCRIPCION | H11: UND. | I11: CANTIDAD | J11: VALOR UNITARIO | K11: VALOR TOTAL
E12: GENERAL | F12: PARTICULAR
C15: Subtotal
C21: Subtotal
C31: Subtotal
C36: Subtotal
C39: Subtotal
C40: SUBTOTAL OBRAS
G45: SUBTOTAL OBRAS (INCLUYE IVA)
G49: VALOR TOTAL
C52: NOTA 1: Se debe tener en cuenta que el PRECIO UNITARIO incluye el valor de A.I.U. | H52: DESCRIPCION | K52: PORCENTAJE
C53: NOTA 2: Cuando la fracción decimal del peso sea igual o superior a 5 se aproximara por exceso al número entero siguiente del peso y cuando la fracción decimal del peso sea inferior a 5 se aproximará por defecto al número entero del peso. | H53: ADMINISTRACION | J53: A= | K53: [Ofrecimiento del Proponente]
C54: NOTA 3: El A.I.U y su discriminación deben estar en porcentaje (%). | H54: IMPREVISTO | J54: I= | K54: [Ofrecimiento del Proponente]
H55: UTILIDAD | J55: U= | K55: [Ofrecimiento del Proponente]
H56: TOTAL A.I.U | J56: A.I.U.= | K56: [Ofrecimiento del Proponente]
G59: Firma del Proponente o de su Representante Legal

Sheet INDICAR CÓDIGO DEL ITEM DE PAGO
B1: Formulario 1 - Propuesta económica - Documento tipo de selección abreviada de menor cuantía
B2: Versión: 1 del 21 de agosto de 2025
C5: [La entidad podrá utilizar este formato para la presentación de los análisis de precios unitarios el contratista en la oportunidad prevista en el numeral 8.2. del Documento Base]
D8: [NOMBRE DE LA ENTIDAD]
L9: VERSIÓN
D10: [NÚMERO DEL PROCESO]
L11: PÁGINA | M11: 1 | N11: DE | O11: 1
D13: ANALISIS DE PRECIOS UNITARIOS
L15: FECHA | M15: DD | N15: MM | O15: AA
C17: ITEMS DE LA PROPUESTA ECONÓMICA | I17: ITEMS NO PREVISTOS
C21: DATOS ESPECÍFICOS
C23: ITEM | D23: DESCRIPCIÓN | M23: UNIDAD | O23: CANTIDAD
C25: I. EQUIPO
C28: DESCRIPCIÓN | H28: MARCA | J28: TIPO | L28: TARIFA/HORA | M28: RENDIMIENTO | O28: Vr. UNITARIO
C32: SUBTOTAL $
C33: II. MATERIALES
C36: DESCRIPCIÓN | K36: UNIDAD | L36: CANTIDAD | M36: PRECIO UNIT. | O36: Vr. UNITARIO
C39: SUBTOTAL $ | O39: 0
C40: III. TRANSPORTES
C43: MATERIAL | J43: VOL. o PESO | K43: DISTANCIA | L43: M3 o Ton/Km | M43: TARIFA | O43: Vr. UNITARIO
C46: SUBTOTAL $
C47: IV. MANO DE OBRA
C50: TRABAJADOR | J50: JORNAL | K50: PRESTACIONES | L50: JORNAL TOTAL | M50: RENDIMIENTO | O50: Vr. UNITARIO
C55: SUBTOTAL $
C57: TOTAL COSTO DIRECTO $
C58: V. COSTOS INDIRECTOS
C61: Descripción | L61: Porcentaje | M61: Valor Total
C62: ADMINISTRACION
C63: IMPREVISTOS
C64: UTILIDAD
C65: SUBTOTAL $
C67: Precio Unitario Total Aproximado al peso $
H71: Firma
H72: Nombre:
H73: Representante Legal del Contratista o su Apoderado
H74: Matricula No. :
C76: OBSERVACIONES INTERVENTORÍA
C80: APROBACIÓN POR INTERVENTORÍA
C81: Nota 1: Cuando se trate de Análisis de precios unitarios correspondientes a ítems de la propuesta económica aprobada, el Interventor aprueba el desglose de los componentes manteniendo el mismo precio unitario de cada ítem, cumpliendo con las especificaciones de construcción vigentes para el proyecto.
C83: Nota 2: Cuando se trate de Análisis de precios unitarios de ítems no previstos, el Interventor aprueba el desglose y precio unitario de cada ítem no previsto, exigiendo la aplicación de los costos correspondientes a insumos y tarifas de la propuesta económica inicial cuando estén contemplados, cumpliendo con las especificaciones de construcción vigente para el proyecto.
...
