Workbook

Sheet Plan de Trabajo
A1: Plan de Trabajo (8 semanas) — Cierre Módulo Tablero de Control, Validación Módulo Migrado e Implementación de Reportes
A2: Celdas en azul son editables: fecha de inicio del proyecto, % Avance y Estado de cada actividad. Las fechas se calculan SOLO con días hábiles para Colombia (excluye sábados, domingos y festivos oficiales 2026-2027, hoja "Festivos Colombia"). Cada "semana" (S1-S8) equivale a 5 días hábiles.
B3: Fecha de inicio del proyecto:
A5: ID | B5: Módulo / Bloque | C5: Actividad | D5: Responsable (rol) | E5: Sem. Ini. | F5: Sem. Fin | G5: Fecha Inicio | H5: Fecha Fin | I5: Dur. (sem) | J5: % Avance | K5: Estado | L5: Notas | N5: S1 | O5: S2 | P5: S3 | Q5: S4 | R5: S5 | S5: S6 | T5: S7 | U5: S8
G6: Inicio sem. hábil -> | N6: =IF($C$3="","",WORKDAY($C$3-1,1,'Festivos Colombia'!$A$5:$A$42)) | O6: =IF($C$3="","",WORKDAY($C$3-1,6,'Festivos Colombia'!$A$5:$A$42)) | P6: =IF($C$3="","",WORKDAY($C$3-1,11,'Festivos Colombia'!$A$5:$A$42)) | Q6: =IF($C$3="","",WORKDAY($C$3-1,16,'Festivos Colombia'!$A$5:$A$42)) | R6: =IF($C$3="","",WORKDAY($C$3-1,21,'Festivos Colombia'!$A$5:$A$42)) | S6: =IF($C$3="","",WORKDAY($C$3-1,26,'Festivos Colombia'!$A$5:$A$42)) | T6: =IF($C$3="","",WORKDAY($C$3-1,31,'Festivos Colombia'!$A$5:$A$42)) | U6: =IF($C$3="","",WORKDAY($C$3-1,36,'Festivos Colombia'!$A$5:$A$42))
A7: 1 | B7: Módulo ER+ - Tablero de Control | C7: Revisar diferencias entre los cálculos actuales del tablero de control/reportes y el análisis manual | D7: Ing. Oscar Rodriguez / Oscar Niño | E7: 1 | F7: 1 | G7: =IF($C$3="","",WORKDAY($C$3-1,(E7-1)*5+1,'Festivos Colombia'!$A$5:$A$42)) | H7: =IF($C$3="","",WORKDAY($C$3-1,F7*5,'Festivos Colombia'!$A$5:$A$42)) | I7: =F7-E7+1 -> 1 | J7: 0 | K7: No iniciado | N7: =IF(AND(1>=$E7,1<=$F7),1,0) -> 1 | O7: =IF(AND(2>=$E7,2<=$F7),1,0) -> 0 | P7: =IF(AND(3>=$E7,3<=$F7),1,0) -> 0 | Q7: =IF(AND(4>=$E7,4<=$F7),1,0) -> 0 | R7: =IF(AND(5>=$E7,5<=$F7),1,0) -> 0 | S7: =IF(AND(6>=$E7,6<=$F7),1,0) -> 0 | T7: =IF(AND(7>=$E7,7<=$F7),1,0) -> 0 | U7: =IF(AND(8>=$E7,8<=$F7),1,0) -> 0
A8: 2 | B8: Módulo ER+ - Tablero de Control | C8: Corregir y ajustar fórmulas y lógica de cálculo del tablero y los reportes | D8: Ing. Oscar Rodriguez | E8: 1 | F8: 2 | G8: =IF($C$3="","",WORKDAY($C$3-1,(E8-1)*5+1,'Festivos Colombia'!$A$5:$A$42)) | H8: =IF($C$3="","",WORKDAY($C$3-1,F8*5,'Festivos Colombia'!$A$5:$A$42)) | I8: =F8-E8+1 -> 2 | J8: 0 | K8: No iniciado | N8: =IF(AND(1>=$E8,1<=$F8),1,0) -> 1 | O8: =IF(AND(2>=$E8,2<=$F8),1,0) -> 1 | P8: =IF(AND(3>=$E8,3<=$F8),1,0) -> 0 | Q8: =IF(AND(4>=$E8,4<=$F8),1,0) -> 0 | R8: =IF(AND(5>=$E8,5<=$F8),1,0) -> 0 | S8: =IF(AND(6>=$E8,6<=$F8),1,0) -> 0 | T8: =IF(AND(7>=$E8,7<=$F8),1,0) -> 0 | U8: =IF(AND(8>=$E8,8<=$F8),1,0) -> 0
A9: 3 | B9: Módulo ER+ - Tablero de Control | C9: Validar coincidencia total con el análisis manual y dar cierre formal al módulo | D9: Oscar Niño | E9: 2 | F9: 2 | G9: =IF($C$3="","",WORKDAY($C$3-1,(E9-1)*5+1,'Festivos Colombia'!$A$5:$A$42)) | H9: =IF($C$3="","",WORKDAY($C$3-1,F9*5,'Festivos Colombia'!$A$5:$A$42)) | I9: =F9-E9+1 -> 1 | J9: 0 | K9: No iniciado | N9: =IF(AND(1>=$E9,1<=$F9),1,0) -> 0 | O9: =IF(AND(2>=$E9,2<=$F9),1,0) -> 1 | P9: =IF(AND(3>=$E9,3<=$F9),1,0) -> 0 | Q9: =IF(AND(4>=$E9,4<=$F9),1,0) -> 0 | R9: =IF(AND(5>=$E9,5<=$F9),1,0) -> 0 | S9: =IF(AND(6>=$E9,6<=$F9),1,0) -> 0 | T9: =IF(AND(7>=$E9,7<=$F9),1,0) -> 0 | U9: =IF(AND(8>=$E9,8<=$F9),1,0) -> 0
A10: 4 | B10: Módulo RF - Migración de Datos | C10: Verificar integridad y consistencia de los datos migrados | D10: Ing. Oscar Rodriguez / GIT de Apoyo Informático / GIT de Servicios Generales, Administrativos y Financieros | E10: 3 | F10: 3 | G10: =IF($C$3="","",WORKDAY($C$3-1,(E10-1)*5+1,'Festivos Colombia'!$A$5:$A$42)) | H10: =IF($C$3="","",WORKDAY($C$3-1,F10*5,'Festivos Colombia'!$A$5:$A$42)) | I10: =F10-E10+1 -> 1 | J10: 0 | K10: No iniciado | N10: =IF(AND(1>=$E10,1<=$F10),1,0) -> 0 | O10: =IF(AND(2>=$E10,2<=$F10),1,0) -> 0 | P10: =IF(AND(3>=$E10,3<=$F10),1,0) -> 1 | Q10: =IF(AND(4>=$E10,4<=$F10),1,0) -> 0 | R10: =IF(AND(5>=$E10,5<=$F10),1,0) -> 0 | S10: =IF(AND(6>=$E10,6<=$F10),1,0) -> 0 | T10: =IF(AND(7>=$E10,7<=$F10),1,0) -> 0 | U10: =IF(AND(8>=$E10,8<=$F10),1,0) -> 0
A11: 5 | B11: Módulo RF - Migración de Datos | C11: Validar los procesos de cálculo del módulo migrado | D11: Ing. Oscar Rodriguez / GIT de Apoyo Informático / GIT de Servicios Generales, Administrativos y Financieros | E11: 3 | F11: 3 | G11: =IF($C$3="","",WORKDAY($C$3-1,(E11-1)*5+1,'Festivos Colombia'!$A$5:$A$42)) | H11: =IF($C$3="","",WORKDAY($C$3-1,F11*5,'Festivos Colombia'!$A$5:$A$42)) | I11: =F11-E11+1 -> 1 | J11: 0 | K11: No iniciado | N11: =IF(AND(1>=$E11,1<=$F11),1,0) -> 0 | O11: =IF(AND(2>=$E11,2<=$F11),1,0) -> 0 | P11: =IF(AND(3>=$E11,3<=$F11),1,0) -> 1 | Q11: =IF(AND(4>=$E11,4<=$F11),1,0) -> 0 | R11: =IF(AND(5>=$E11,5<=$F11),1,0) -> 0 | S11: =IF(AND(6>=$E11,6<=$F11),1,0) -> 0 | T11: =IF(AND(7>=$E11,7<=$F11),1,0) -> 0 | U11: =IF(AND(8>=$E11,8<=$F11),1,0) -> 0
A12: 6 | B12: Módulo RF - Migración de Datos | C12: Emitir visto bueno formal de la información migrada | D12: Ing. Oscar Rodriguez / GIT de Apoyo Informático / GIT de Servicios Generales, Administrativos y Financieros | E12: 3 | F12: 3 | G12: =IF($C$3="","",WORKDAY($C$3-1,(E12-1)*5+1,'Festivos Colombia'!$A$5:$A$42)) | H12: =IF($C$3="","",WORKDAY($C$3-1,F12*5,'Festivos Colombia'!$A$5:$A$42)) | I12: =F12-E12+1 -> 1 | J12: 0 | K12: No iniciado | N12: =IF(AND(1>=$E12,1<=$F12),1,0) -> 0 | O12: =IF(AND(2>=$E12,2<=$F12),1,0) -> 0 | P12: =IF(AND(3>=$E12,3<=$F12),1,0) -> 1 | Q12: =IF(AND(4>=$E12,4<=$F12),1,0) -> 0 | R12: =IF(AND(5>=$E12,5<=$F12),1,0) -> 0 | S12: =IF(AND(6>=$E12,6<=$F12),1,0) -> 0 | T12: =IF(AND(7>=$E12,7<=$F12),1,0) -> 0 | U12: =IF(AND(8>=$E12,8<=$F12),1,0) -> 0
A13: 7 | B13: Módulo RF - Pruebas Generales | C13: Diseñar casos de prueba de las funcionalidades de la herramienta | D13: GIT de Servicios Generales, Administrativos y Financieros | E13: 4 | F13: 4 | G13: =IF($C$3="","",WORKDAY($C$3-1,(E13-1)*5+1,'Festivos Colombia'!$A$5:$A$42)) | H13: =IF($C$3="","",WORKDAY($C$3-1,F13*5,'Festivos Colombia'!$A$5:$A$42)) | I13: =F13-E13+1 -> 1 | J13: 0 | K13: No iniciado | N13: =IF(AND(1>=$E13,1<=$F13),1,0) -> 0 | O13: =IF(AND(2>=$E13,2<=$F13),1,0) -> 0 | P13: =IF(AND(3>=$E13,3<=$F13),1,0) -> 0 | Q13: =IF(AND(4>=$E13,4<=$F13),1,0) -> 1 | R13: =IF(AND(5>=$E13,5<=$F13),1,0) -> 0 | S13: =IF(AND(6>=$E13,6<=$F13),1,0) -> 0 | T13: =IF(AND(7>=$E13,7<=$F13),1,0) -> 0 | U13: =IF(AND(8>=$E13,8<=$F13),1,0) -> 0
A14: 8 | B14: Módulo RF - Pruebas Generales | C14: Ejecutar pruebas funcionales y comparar contra la simulación manual | D14: GIT de Servicios Generales, Administrativos y Financieros | E14: 4 | F14: 5 | G14: =IF($C$3="","",WORKDAY($C$3-1,(E14-1)*5+1,'Festivos Colombia'!$A$5:$A$42)) | H14: =IF($C$3="","",WORKDAY($C$3-1,F14*5,'Festivos Colombia'!$A$5:$A$42)) | I14: =F14-E14+1 -> 2 | J14: 0 | K14: No iniciado | N14: =IF(AND(1>=$E14,1<=$F14),1,0) -> 0 | O14: =IF(AND(2>=$E14,2<=$F14),1,0) -> 0 | P14: =IF(AND(3>=$E14,3<=$F14),1,0) -> 0 | Q14: =IF(AND(4>=$E14,4<=$F14),1,0) -> 1 | R14: =IF(AND(5>=$E14,5<=$F14),1,0) -> 1 | S14: =IF(AND(6>=$E14,6<=$F14),1,0) -> 0 | T14: =IF(AND(7>=$E14,7<=$F14),1,0) -> 0 | U14: =IF(AND(8>=$E14,8<=$F14),1,0) -> 0
A15: 9 | B15: Módulo RF - Pruebas Generales | C15: Validar consistencia de procesos y datos con base en resultados de pruebas | D15: GIT de Servicios Generales, Administrativos y Financieros | E15: 5 | F15: 5 | G15: =IF($C$3="","",WORKDAY($C$3-1,(E15-1)*5+1,'Festivos Colombia'!$A$5:$A$42)) | H15: =IF($C$3="","",WORKDAY($C$3-1,F15*5,'Festivos Colombia'!$A$5:$A$42)) | I15: =F15-E15+1 -> 1 | J15: 0 | K15: No iniciado | N15: =IF(AND(1>=$E15,1<=$F15),1,0) -> 0 | O15: =IF(AND(2>=$E15,2<=$F15),1,0) -> 0 | P15: =IF(AND(3>=$E15,3<=$F15),1,0) -> 0 | Q15: =IF(AND(4>=$E15,4<=$F15),1,0) -> 0 | R15: =IF(AND(5>=$E15,5<=$F15),1,0) -> 1 | S15: =IF(AND(6>=$E15,6<=$F15),1,0) -> 0 | T15: =IF(AND(7>=$E15,7<=$F15),1,0) -> 0 | U15: =IF(AND(8>=$E15,8<=$F15),1,0) -> 0
A16: 10 | B16: Módulo RF - Pruebas Generales | C16: Realizar despliegue a producción con acompañamiento en proceso de migración de movimientos pendientes. | D16: Ing. Oscar Rodriguez / GIT de Apoyo Informático / GIT de Servicios Generales, Administrativos y Financieros | E16: 6 | F16: 7 | I16: =F16-E16+1 -> 2 | J16: 0 | K16: No iniciado | N16: =IF(AND(1>=$E16,1<=$F16),1,0) -> 0 | O16: =IF(AND(2>=$E16,2<=$F16),1,0) -> 0 | P16: =IF(AND(3>=$E16,3<=$F16),1,0) -> 0 | Q16: =IF(AND(4>=$E16,4<=$F16),1,0) -> 0 | R16: =IF(AND(5>=$E16,5<=$F16),1,0) -> 0 | S16: =IF(AND(6>=$E16,6<=$F16),1,0) -> 1 | T16: =IF(AND(7>=$E16,7<=$F16),1,0) -> 1 | U16: =IF(AND(8>=$E16,8<=$F16),1,0) -> 0
A17: 11 | B17: Módulo RF - Pruebas Generales | C17: Realizar pruebas de generación de códigos OTP para firma digital de movimientos en ambiente productivo. | D17: Ing. Oscar Rodriguez / GIT de Apoyo Informático / GIT de Servicios Generales, Administrativos y Financieros | E17: 6 | F17: 7 | I17: =F17-E17+1 -> 2 | J17: 0 | K17: No iniciado | N17: =IF(AND(1>=$E17,1<=$F17),1,0) -> 0 | O17: =IF(AND(2>=$E17,2<=$F17),1,0) -> 0 | P17: =IF(AND(3>=$E17,3<=$F17),1,0) -> 0 | Q17: =IF(AND(4>=$E17,4<=$F17),1,0) -> 0 | R17: =IF(AND(5>=$E17,5<=$F17),1,0) -> 0 | S17: =IF(AND(6>=$E17,6<=$F17),1,0) -> 1 | T17: =IF(AND(7>=$E17,7<=$F17),1,0) -> 1 | U17: =IF(AND(8>=$E17,8<=$F17),1,0) -> 0
A18: 12 | B18: Módulo RF - Informes y Reportes | C18: Levantamiento de requerimientos de informes/reportes (en paralelo con pruebas) | D18: GIT de Servicios Generales, Administrativos y Financieros | E18: 5 | F18: 5 | G18: =IF($C$3="","",WORKDAY($C$3-1,(E18-1)*5+1,'Festivos Colombia'!$A$5:$A$42)) | H18: =IF($C$3="","",WORKDAY($C$3-1,F18*5,'Festivos Colombia'!$A$5:$A$42)) | I18: =F18-E18+1 -> 1 | J18: 0 | K18: No iniciado | N18: =IF(AND(1>=$E18,1<=$F18),1,0) -> 0 | O18: =IF(AND(2>=$E18,2<=$F18),1,0) -> 0 | P18: =IF(AND(3>=$E18,3<=$F18),1,0) -> 0 | Q18: =IF(AND(4>=$E18,4<=$F18),1,0) -> 0 | R18: =IF(AND(5>=$E18,5<=$F18),1,0) -> 1 | S18: =IF(AND(6>=$E18,6<=$F18),1,0) -> 0 | T18: =IF(AND(7>=$E18,7<=$F18),1,0) -> 0 | U18: =IF(AND(8>=$E18,8<=$F18),1,0) -> 0
A19: 13 | B19: Módulo RF - Informes y Reportes | C19: Construcción y validación de la matriz de requerimientos de informes/reportes | D19: GIT de Servicios Generales, Administrativos y Financieros | E19: 5 | F19: 6 | G19: =IF($C$3="","",WORKDAY($C$3-1,(E19-1)*5+1,'Festivos Colombia'!$A$5:$A$42)) | H19: =IF($C$3="","",WORKDAY($C$3-1,F19*5,'Festivos Colombia'!$A$5:$A$42)) | I19: =F19-E19+1 -> 2 | J19: 0 | K19: No iniciado | N19: =IF(AND(1>=$E19,1<=$F19),1,0) -> 0 | O19: =IF(AND(2>=$E19,2<=$F19),1,0) -> 0 | P19: =IF(AND(3>=$E19,3<=$F19),1,0) -> 0 | Q19: =IF(AND(4>=$E19,4<=$F19),1,0) -> 0 | R19: =IF(AND(5>=$E19,5<=$F19),1,0) -> 1 | S19: =IF(AND(6>=$E19,6<=$F19),1,0) -> 1 | T19: =IF(AND(7>=$E19,7<=$F19),1,0) -> 0 | U19: =IF(AND(8>=$E19,8<=$F19),1,0) -> 0
A20: 14 | B20: Módulo RF - Informes y Reportes | C20: Desarrollo de los informes/reportes según la matriz de requerimientos | D20: Ing. Oscar Rodriguez / GIT de Apoyo Informático | E20: 6 | F20: 7 | G20: =IF($C$3="","",WORKDAY($C$3-1,(E20-1)*5+1,'Festivos Colombia'!$A$5:$A$42)) | H20: =IF($C$3="","",WORKDAY($C$3-1,F20*5,'Festivos Colombia'!$A$5:$A$42)) | I20: =F20-E20+1 -> 2 | J20: 0 | K20: No iniciado | N20: =IF(AND(1>=$E20,1<=$F20),1,0) -> 0 | O20: =IF(AND(2>=$E20,2<=$F20),1,0) -> 0 | P20: =IF(AND(3>=$E20,3<=$F20),1,0) -> 0 | Q20: =IF(AND(4>=$E20,4<=$F20),1,0) -> 0 | R20: =IF(AND(5>=$E20,5<=$F20),1,0) -> 0 | S20: =IF(AND(6>=$E20,6<=$F20),1,0) -> 1 | T20: =IF(AND(7>=$E20,7<=$F20),1,0) -> 1 | U20: =IF(AND(8>=$E20,8<=$F20),1,0) -> 0
A21: 15 | B21: Módulo RF - Informes y Reportes | C21: Pruebas funcionales y de datos de los informes/reportes | D21: Ing. Oscar Rodriguez / GIT de Apoyo Informático / GIT de Servicios Generales, Administrativos y Financieros | E21: 7 | F21: 7 | G21: =IF($C$3="","",WORKDAY($C$3-1,(E21-1)*5+1,'Festivos Colombia'!$A$5:$A$42)) | H21: =IF($C$3="","",WORKDAY($C$3-1,F21*5,'Festivos Colombia'!$A$5:$A$42)) | I21: =F21-E21+1 -> 1 | J21: 0 | K21: No iniciado | N21: =IF(AND(1>=$E21,1<=$F21),1,0) -> 0 | O21: =IF(AND(2>=$E21,2<=$F21),1,0) -> 0 | P21: =IF(AND(3>=$E21,3<=$F21),1,0) -> 0 | Q21: =IF(AND(4>=$E21,4<=$F21),1,0) -> 0 | R21: =IF(AND(5>=$E21,5<=$F21),1,0) -> 0 | S21: =IF(AND(6>=$E21,6<=$F21),1,0) -> 0 | T21: =IF(AND(7>=$E21,7<=$F21),1,0) -> 1 | U21: =IF(AND(8>=$E21,8<=$F21),1,0) -> 0
A22: 16 | B22: Módulo RF - Informes y Reportes | C22: Ajustes y correcciones posteriores a pruebas | D22: Ing. Oscar Rodriguez / GIT de Apoyo Informático | E22: 7 | F22: 8 | G22: =IF($C$3="","",WORKDAY($C$3-1,(E22-1)*5+1,'Festivos Colombia'!$A$5:$A$42)) | H22: =IF($C$3="","",WORKDAY($C$3-1,F22*5,'Festivos Colombia'!$A$5:$A$42)) | I22: =F22-E22+1 -> 2 | J22: 0 | K22: No iniciado | N22: =IF(AND(1>=$E22,1<=$F22),1,0) -> 0 | O22: =IF(AND(2>=$E22,2<=$F22),1,0) -> 0 | P22: =IF(AND(3>=$E22,3<=$F22),1,0) -> 0 | Q22: =IF(AND(4>=$E22,4<=$F22),1,0) -> 0 | R22: =IF(AND(5>=$E22,5<=$F22),1,0) -> 0 | S22: =IF(AND(6>=$E22,6<=$F22),1,0) -> 0 | T22: =IF(AND(7>=$E22,7<=$F22),1,0) -> 1 | U22: =IF(AND(8>=$E22,8<=$F22),1,0) -> 1
A23: 17 | B23: Módulo RF - Informes y Reportes | C23: Implementación de los informes/reportes en ambiente productivo | D23: Ing. Oscar Rodriguez / GIT de Apoyo Informático | E23: 8 | F23: 8 | G23: =IF($C$3="","",WORKDAY($C$3-1,(E23-1)*5+1,'Festivos Colombia'!$A$5:$A$42)) | H23: =IF($C$3="","",WORKDAY($C$3-1,F23*5,'Festivos Colombia'!$A$5:$A$42)) | I23: =F23-E23+1 -> 1 | J23: 0 | K23: No iniciado | N23: =IF(AND(1>=$E23,1<=$F23),1,0) -> 0 | O23: =IF(AND(2>=$E23,2<=$F23),1,0) -> 0 | P23: =IF(AND(3>=$E23,3<=$F23),1,0) -> 0 | Q23: =IF(AND(4>=$E23,4<=$F23),1,0) -> 0 | R23: =IF(AND(5>=$E23,5<=$F23),1,0) -> 0 | S23: =IF(AND(6>=$E23,6<=$F23),1,0) -> 0 | T23: =IF(AND(7>=$E23,7<=$F23),1,0) -> 0 | U23: =IF(AND(8>=$E23,8<=$F23),1,0) -> 1
A24: 18 | B24: Módulo RF - Informes y Reportes | C24: Validación post-implementación y cierre del entregable | D24: Ing. Oscar Rodriguez / GIT de Apoyo Informático / GIT de Servicios Generales, Administrativos y Financieros | E24: 8 | F24: 8 | G24: =IF($C$3="","",WORKDAY($C$3-1,(E24-1)*5+1,'Festivos Colombia'!$A$5:$A$42)) | H24: =IF($C$3="","",WORKDAY($C$3-1,F24*5,'Festivos Colombia'!$A$5:$A$42)) | I24: =F24-E24+1 -> 1 | J24: 0 | K24: No iniciado | N24: =IF(AND(1>=$E24,1<=$F24),1,0) -> 0 | O24: =IF(AND(2>=$E24,2<=$F24),1,0) -> 0 | P24: =IF(AND(3>=$E24,3<=$F24),1,0) -> 0 | Q24: =IF(AND(4>=$E24,4<=$F24),1,0) -> 0 | R24: =IF(AND(5>=$E24,5<=$F24),1,0) -> 0 | S24: =IF(AND(6>=$E24,6<=$F24),1,0) -> 0 | T24: =IF(AND(7>=$E24,7<=$F24),1,0) -> 0 | U24: =IF(AND(8>=$E24,8<=$F24),1,0) -> 1

Sheet Resumen
B2: Resumen del Plan de Trabajo (8 semanas)
B4: Total actividades | C4: Completadas | D4: En curso | E4: No iniciadas
B5: =COUNT('Plan de Trabajo'!$A$7:$A$24) -> 18 | C5: =COUNTIF('Plan de Trabajo'!$K$7:$K$24,"Completado") -> 0 | D5: =COUNTIF('Plan de Trabajo'!$K$7:$K$24,"En curso") -> 0 | E5: =COUNTIF('Plan de Trabajo'!$K$7:$K$24,"No iniciado") -> 18
B7: Avance general (ponderado por duración) | D7: =SUMPRODUCT('Plan de Trabajo'!$J$7:$J$24,'Plan de Trabajo'!$I$7:$I$24)/SUM('Plan de Trabajo'!$I$7:$I$24) -> 0
B10: Avance por Módulo / Bloque
B11: Módulo / Bloque | C11: Actividades | D11: Completadas | E11: Avance (ponderado) | F11: Fecha Inicio | G11: Fecha Fin
B12: Módulo ER+ - Tablero de Control | C12: =COUNTIF('Plan de Trabajo'!$B$7:$B$24,$B12) -> 3 | D12: =COUNTIFS('Plan de Trabajo'!$B$7:$B$24,$B12,'Plan de Trabajo'!$K$7:$K$24,"Completado") -> 0 | E12: =SUMPRODUCT(('Plan de Trabajo'!$B$7:$B$24=$B12)*'Plan de Trabajo'!$J$7:$J$24*'Plan de Trabajo'!$I$7:$I$24)/SUMPRODUCT(('Plan de Trabajo'!$B$7:$B$24=$B12)*'Plan de Trabajo'!$I$7:$I$24) -> 0 | F12: =_xlfn.MINIFS('Plan de Trabajo'!$G$7:$G$24,'Plan de Trabajo'!$B$7:$B$24,$B12) -> 0 | G12: =_xlfn.MAXIFS('Plan de Trabajo'!$H$7:$H$24,'Plan de Trabajo'!$B$7:$B$24,$B12) -> 0
B13: Módulo RF - Migración de Datos | C13: =COUNTIF('Plan de Trabajo'!$B$7:$B$24,$B13) -> 3 | D13: =COUNTIFS('Plan de Trabajo'!$B$7:$B$24,$B13,'Plan de Trabajo'!$K$7:$K$24,"Completado") -> 0 | E13: =SUMPRODUCT(('Plan de Trabajo'!$B$7:$B$24=$B13)*'Plan de Trabajo'!$J$7:$J$24*'Plan de Trabajo'!$I$7:$I$24)/SUMPRODUCT(('Plan de Trabajo'!$B$7:$B$24=$B13)*'Plan de Trabajo'!$I$7:$I$24) -> 0 | F13: =_xlfn.MINIFS('Plan de Trabajo'!$G$7:$G$24,'Plan de Trabajo'!$B$7:$B$24,$B13) -> 0 | G13: =_xlfn.MAXIFS('Plan de Trabajo'!$H$7:$H$24,'Plan de Trabajo'!$B$7:$B$24,$B13) -> 0
B14: Módulo RF - Pruebas Generales | C14: =COUNTIF('Plan de Trabajo'!$B$7:$B$24,$B14) -> 5 | D14: =COUNTIFS('Plan de Trabajo'!$B$7:$B$24,$B14,'Plan de Trabajo'!$K$7:$K$24,"Completado") -> 0 | E14: =SUMPRODUCT(('Plan de Trabajo'!$B$7:$B$24=$B14)*'Plan de Trabajo'!$J$7:$J$24*'Plan de Trabajo'!$I$7:$I$24)/SUMPRODUCT(('Plan de Trabajo'!$B$7:$B$24=$B14)*'Plan de Trabajo'!$I$7:$I$24) -> 0 | F14: =_xlfn.MINIFS('Plan de Trabajo'!$G$7:$G$24,'Plan de Trabajo'!$B$7:$B$24,$B14) -> 0 | G14: =_xlfn.MAXIFS('Plan de Trabajo'!$H$7:$H$24,'Plan de Trabajo'!$B$7:$B$24,$B14) -> 0
B15: Módulo RF - Informes y Reportes | C15: =COUNTIF('Plan de Trabajo'!$B$7:$B$24,$B15) -> 7 | D15: =COUNTIFS('Plan de Trabajo'!$B$7:$B$24,$B15,'Plan de Trabajo'!$K$7:$K$24,"Completado") -> 0 | E15: =SUMPRODUCT(('Plan de Trabajo'!$B$7:$B$24=$B15)*'Plan de Trabajo'!$J$7:$J$24*'Plan de Trabajo'!$I$7:$I$24)/SUMPRODUCT(('Plan de Trabajo'!$B$7:$B$24=$B15)*'Plan de Trabajo'!$I$7:$I$24) -> 0 | F15: =_xlfn.MINIFS('Plan de Trabajo'!$G$7:$G$24,'Plan de Trabajo'!$B$7:$B$24,$B15) -> 0 | G15: =_xlfn.MAXIFS('Plan de Trabajo'!$H$7:$H$24,'Plan de Trabajo'!$B$7:$B$24,$B15) -> 0

Sheet Festivos Colombia
A1: Festivos oficiales de Colombia (2026-2027)
A2: Fuente de referencia: calendario oficial con Ley 51 de 1983 (Ley Emiliani). Esta lista alimenta las fórmulas DIA.LAB / WORKDAY del plan para calcular solo días hábiles.
A4: Fecha | B4: Festivo
A5: 46023 | B5: Año Nuevo
A6: 46034 | B6: Día de los Reyes Magos
A7: 46104 | B7: Día de San José
A8: 46114 | B8: Jueves Santo
A9: 46115 | B9: Viernes Santo
A10: 46143 | B10: Día del Trabajo
A11: 46160 | B11: Día de la Ascensión
A12: 46181 | B12: Corpus Christi
A13: 46188 | B13: Sagrado Corazón de Jesús
A14: 46202 | B14: San Pedro y San Pablo
A15: 46216 | B15: Virgen de Chiquinquirá
A16: 46223 | B16: Día de la Independencia
... A42: 46746 | B42: Navidad
