Workbook
Name \a: #REF!
Name \L: #REF!
Name \P: #REF!
Name \s: #REF!
Name \X: FM!err
Name \X: 'FM DETALLADO'!err
Name \X: 'PRESUPUESTO OFICIAL'!err
Name \X: [0]!err
Name \Z: FM!err
Name \Z: 'FM DETALLADO'!err
Name \Z: 'PRESUPUESTO OFICIAL'!err
Name \Z: [0]!err
Name _________________________________________________i1: #REF!
Name ________________________________________________i1: #REF!
Name _______________________________________________i1: #REF!
Name ______________________________________________i1: #REF!
Name _____________________________________________i1: #REF!
Name ____________________________________________i1: #REF!
Name ___________________________________________i1: #REF!
Name __________________________________________i1: #REF!
Name _________________________________________i1: #REF!
Name ________________________________________i1: #REF!
Name _______________________________________i1: #REF!
Name ______________________________________i1: #REF!
Name _____________________________________i1: #REF!
Name ____________________________________i1: #REF!
Name ___________________________________i1: #REF!
Name __________________________________i1: #REF!
Name _________________________________i1: #REF!
Name ________________________________i1: #REF!
Name _______________________________i1: #REF!
Name ______________________________i1: #REF!
Name _____________________________i1: #REF!
Name ____________________________i1: #REF!
Name ___________________________i1: #REF!
Name __________________________i1: #REF!
Name _________________________i1: #REF!
Name ________________________i1: #REF!
Name _______________________i1: #REF!
Name ______________________i1: #REF!
Name _____________________i1: #REF!
Name ____________________i1: #REF!
Name ___________________i1: #REF!
Name __________________A1: IF(FM!Values_Entered,[0]!Header_Row+FM!Number_of_Payments,[0]!Header_Row)
Name __________________A1: IF('FM DETALLADO'!Values_Entered,[0]!Header_Row+'FM DETALLADO'!Number_of_Payments,[0]!Header_Row)
Name __________________A1: IF('PRESUPUESTO OFICIAL'!Values_Entered,[0]!Header_Row+'PRESUPUESTO OFICIAL'!Number_of_Payments,[0]!Header_Row)
Name __________________A1: IF([0]!Values_Entered,[0]!Header_Row+[0]!Number_of_Payments,[0]!Header_Row)
Name __________________A17000: #REF!
Name __________________A20000: #REF!
Name __________________A30000: #REF!
Name __________________AFC1: #REF!
Name __________________AFC1: #REF!
Name __________________AFC1: #REF!
Name __________________AFC1: [1]INV!$A$25:$D$28
Name __________________AFC3: #REF!
Name __________________AFC3: #REF!
Name __________________AFC3: #REF!
Name __________________AFC3: [1]INV!$F$25:$I$28
Name __________________AFC5: #REF!
Name __________________AFC5: #REF!

Sheet PRESUPUESTO OFICIAL
A1: Formulario 1 - Formulario propuesta económica - Interventoría de infraestructura social
A2: Versión: 2 del 15 de diciembre de 2025
A5: FORMULARIO 1 - PRESUPUESTO OFICIAL
A6: La Entidad detallará, en el Formulario o Formato que considere pertinente, el detalle del PRESUPUESTO OFICIAL del Proceso de Contratación.
A7: CONTRATAR LA INTERVENTORA TÉCNICA, ADMINISTRATIVA, FINANCIERA Y CONTABLE AL CONTRATO CUYO OBJETO ES CONSTRUCCION DE LA CASA SOCIAL DE LA MUJER EN EL MUNICIPIO DE SUBACHOQUE CUNDINAMARCA, EN EL MARCO DEL CONVENIO ICC-909-2025
A10: Ítem | B10: Descripción | C10: Cant. | D10: Valor mensual | E10: F.M. | F10: Dedicación | G10: Total valor mensual | H10: # meses | I10: Total
A11: 1 | B11: Costos de presonal
A12: =A11+0.1 -> 1.1 | B12: Director de Interventoria | C12: 1 | D12: 4300000 | E12: =FM!H69 -> 2.05678 | F12: 0.5 | G12: =D12*E12*F12 -> 4422077 | H12: 4 | I12: =ROUND(C12*G12*H12,) -> 17688308
A13: =A12+0.1 -> 1.2 | B13: Residente de Interventoria | C13: 1 | D13: 3350000 | E13: =FM!G69 -> 2.20678 | F13: 1 | G13: =D13*E13*F13 -> 7392713 | H13: 4 | I13: =ROUND(C13*G13*H13,) -> 29570852
A14: =A13+0.1 -> 1.3 | B14: SISO | C14: 1 | D14: 2800000 | E14: =FM!G69 -> 2.20678 | F14: 0.5 | G14: =D14*E14*F14 -> 3089492 | H14: 4 | I14: =ROUND(C14*G14*H14,) -> 12357968
A15: Valor costos de personal | I15: =SUM(I12:I14) -> 59617128
A18: Ítem | B18: Descripción | C18: Unidad | E18: Cantidad | G18: Valor mensual | I18: Total
A19: 2 | B19: Otros costos directos
A20: 2.1 | B20: Arriendo de oficina | C20: mes | E20: =+[98]AIU!$D$7 -> 4 | G20: 600000 | I20: =ROUND(E20*G20,) -> 2400000
A21: 2.2 | B21: Servicios públicos y operacionales | C21: mes | E21: =+[98]AIU!$D$7 -> 4 | G21: 250000 | I21: =ROUND(E21*G21,) -> 1000000
A22: 2.3 | B22: Elaboracion y presentacion de informes (incluye edicion, registro Fotografico, fotocopias, papeleria y documentación técnica) Original y copia. | C22: mes | E22: =+[98]AIU!$D$7 -> 4 | G22: 250000 | I22: =ROUND(E22*G22,) -> 1000000
A23: 2.4 | B23: Alquiler de mobiliario y equipos de computo | C23: mes | E23: =+[98]AIU!$D$7 -> 4 | G23: 350000 | H23: 2556580 | I23: =ROUND(E23*G23,) -> 1400000
A24: 2.5 | B24: Ensayos de control de calidad
A25: 2.5.1 | B25: Ensayos control de calidad (resistencia a la compresion de cilindros de concreto INV E - 410 -13) | C25: und | E25: 10 | G25: 75000 | H25: 2556580 | I25: =ROUND(E25*G25,) -> 750000
A26: 2.5.2 | B26: Relaciones de humedad - peso unitario seco en los suelos (ensayo normal de compactación INV E 141-13) | C26: und | E26: 5 | G26: 80000 | H26: 2556581 | I26: =ROUND(E26*G26,) -> 400000
A27: 2.5.3 | B27: Densidad o masa unitaria del suelo en el terreno método del cono de arena (INV E 161 -13) | C27: und | E27: 3 | G27: 50000 | H27: 2556582 | I27: =ROUND(E27*G27,) -> 150000
A28: 2.6 | B28: Planos definitivos de obra físicos y Magnéticos (incluye digitalizaciòn, ploteos original y copia) | C28: und | E28: 4 | G28: 150000 | H28: 2556580 | I28: =ROUND(E28*G28,) -> 600000
A29: 2.7 | B29: Transporte - Alquiler de vehículo | C29: und | E29: 4 | G29: 3831915.3 | I29: =ROUND(E29*G29,) -> 15327661
A30: Valor otras inversiones | I30: =SUM(I20:I29) -> 23027661
A32: Costo directo total interventoría | I32: =+I30+I15 -> 82644789
A34: Valor costo directo | I34: =+I32 -> 82644789
A35: IVA | H35: 0.19 | I35: =+ROUND(I34*H35,0) -> 15702510
A36: Valor total interventoría Iva incluido | I36: =+I34+I35 -> 98347299

Sheet FM
B2: FACTOR MULTIPLICADOR INTERVENTORIA
B3: =+[99]PPTO!B$2 -> Construcción de casa de la mujer, municipio de Subachoque, Cundinamarca
B4: Municipio de Subachoque - Cundinamarca
B6: Modelo utilizado para calculo del factor Multiplicador Benchamarking de Salarios, Tarifas de Consultoría y Cálculo Factor Multiplicador del Sector • RESULTADOS FACTOR MULTIPLICADOR
C21: CONCEPTO | G21: <= 2SMMLV | H21: > 2SMMLV
B22: 1. | C22: Salarios y Prestaciones Sociales de Personal Facturable
B23: 1.01 | C23: Salarios | G23: 1 | H23: 1
B24: 1.02 | C24: Auxilio de transporte | G24: 0.1172 | H24: -
B25: 1.03 | C25: Vacaciones | G25: 0.0417 | H25: =+G25 -> 0.0417
B26: 1.04 | C26: Salud | G26: 0.085 | H26: =+G26 -> 0.085
B27: 1.05 | C27: Pensión | G27: 0.12 | H27: =+G27 -> 0.12
B28: 1.06 | C28: Riesgos laborales | G28: 0.0696 | H28: =+G28 -> 0.0696
B29: 1.07 | C29: ICBF | G29: 0.03 | H29: =+G29 -> 0.03
B30: 1.08 | C30: Caja de compensación familiar | G30: 0.04 | H30: =+G30 -> 0.04
B31: 1.09 | C31: SENA | G31: 0.02 | H31: =+G31 -> 0.02
B32: 1.1 | C32: Prima de servicios | G32: 0.0833 | H32: =+G32 -> 0.0833
B33: 1.11 | C33: Cesantías anuales | G33: 0.0833 | H33: =+G33 -> 0.0833
B34: 1.12 | C34: Intereses a las cesantías | G34: 0.01 | H34: =+G34 -> 0.01
B35: 1.13 | C35: Dotación | G35: 0.1499 | H35: -
B36: 1.14 | C36: Otros | G36: 0 | H36: 0.1171
B37: Sub-total | G37: =SUM(G23:G36) -> 1.85 | H37: =SUM(H23:H36) -> 1.7
B39: 2 | C39: Gastos Generales
B40: 2.01 | C40: Asesoria Contable tributaria y juridica | G40: 0.02 | H40: 0.02
B41: 2.02 | C41: Mantenimiento Oficina (Aseo) | G41: 0.005 | H41: 0.005
B42: 2.03 | C42: Seguros de robo e incendio | G42: 0.005 | H42: 0.005
B43: 2.04 | C43: Personal Administrativo no facturado | G43: 0.005 | H43: 0.005
B44: 2.05 | C44: Personal Profesional no facturado | G44: 0.005 | H44: 0.005
B45: 2.06 | C45: Correo y otros | G45: 0.005 | H45: 0.005
F46: Sub-total | G46: =SUM(G40:G45) -> 0.045 | H46: =SUM(H40:H45) -> 0.045
B48: 3 | C48: Costos Directos no Reembolsables
B50: 3.1 | C50: Poliza de Calidad | G50: 0.0053 | H50: 0.0053
B51: 3.2 | C51: Póliza Cumplimiento | G51: 0.0099 | H51: 0.0099
B52: 3.3 | C52: Póliza Salarios y prestaciones Sociales | G52: 0.0265 | H52: 0.0265
F53: Sub-total | G53: =SUM(G50:G52) -> 0.0417 | H53: =SUM(H50:H52) -> 0.0417
B55: 4 | C55: Impuestos
B57: 4.1 | C57: ICA servicios generales | G57: 8e-05 | H57: =+G57 -> 8e-05
B58: 4.2 | C58: Sobretasa bomberil (base impuesto calculado ICA) | G58: 0.02 | H58: =+G58 -> 0.02
B59: 4.3 | C59: Estampilla adulto mayor | G59: 0.04 | H59: =+G59 -> 0.04
B60: 4.4 | C60: Estampilla procultura | G60: 0.015 | H60: =+G60 -> 0.015
B61: 4.5 | C61: Estampilla justicia familiar | G61: 0.02 | H61: =+G61 -> 0.02
...

Sheet FORMULARIO 1 - DETALLADO
A1: Formulario 1 - Formulario propuesta económica - Interventoría de infraestructura social
A2: Versión: 2 del 15 de diciembre de 2025
A4: FORMULARIO 1 - PRESUPUESTO OFICIAL
A5: La Entidad detallará, en el Formulario o Formato que considere pertinente, el detalle del PRESUPUESTO OFICIAL del Proceso de Contratación.
A6: CONTRATAR LA INTERVENTORA TÉCNICA, ADMINISTRATIVA, FINANCIERA Y CONTABLE AL CONTRATO CUYO OBJETO ES CONSTRUCCION DE LA CASA SOCIAL DE LA MUJER EN EL MUNICIPIO DE SUBACHOQUE CUNDINAMARCA, EN EL MARCO DEL CONVENIO ICC-909-2025
A8: Ítem | B8: Descripción | C8: Cant. | D8: Valor mensual | E8: F.M. | F8: Dedicación | G8: Total valor mensual | H8: # meses | I8: Total
A9: 1 | B9: Costos de presonal
A10: =A9+0.1 -> 1.1 | B10: Director de Interventoria | C10: 1 | D10: 4300000 | E10: ='FM DETALLADO'!H69 -> 0 | F10: 0.5 | H10: 4
A11: =A10+0.1 -> 1.2 | B11: Residente de Interventoria | C11: 1 | D11: 3350000 | E11: ='FM DETALLADO'!G69 -> 0 | F11: 1 | H11: 4
A12: =A11+0.1 -> 1.3 | B12: SISO | C12: 1 | D12: 2800000 | E12: ='FM DETALLADO'!G69 -> 0 | F12: 0.5 | H12: 4
A13: Valor costos de personal | I13: =SUM(I10:I12) -> 0
A16: Ítem | B16: Descripción | C16: Unidad | E16: Cantidad | G16: Valor mensual | I16: Total
A17: 2 | B17: Otros costos directos
A18: 2.1 | B18: Arriendo de oficina | C18: mes | E18: =+[98]AIU!$D$7 -> 4 | I18: =ROUND(E18*G18,) -> 0
A19: 2.2 | B19: Servicios públicos y operacionales | C19: mes | E19: =+[98]AIU!$D$7 -> 4 | I19: =ROUND(E19*G19,) -> 0
A20: 2.3 | B20: Elaboracion y presentacion de informes (incluye edicion, registro Fotografico, fotocopias, papeleria y documentación técnica) Original y copia. | C20: mes | E20: =+[98]AIU!$D$7 -> 4 | I20: =ROUND(E20*G20,) -> 0
A21: 2.4 | B21: Alquiler de mobiliario y equipos de computo | C21: mes | E21: =+[98]AIU!$D$7 -> 4 | H21: 2556580 | I21: =ROUND(E21*G21,) -> 0
A22: 2.5 | B22: Ensayos de control de calidad
A23: 2.5.1 | B23: Ensayos control de calidad (resistencia a la compresion de cilindros de concreto INV E - 410 -13) | C23: und | E23: 10 | H23: 2556580 | I23: =ROUND(E23*G23,) -> 0
A24: 2.5.2 | B24: Relaciones de humedad - peso unitario seco en los suelos (ensayo normal de compactación INV E 141-13) | C24: und | E24: 5 | H24: 2556581 | I24: =ROUND(E24*G24,) -> 0
A25: 2.5.3 | B25: Densidad o masa unitaria del suelo en el terreno método del cono de arena (INV E 161 -13) | C25: und | E25: 3 | H25: 2556582 | I25: =ROUND(E25*G25,) -> 0
A26: 2.6 | B26: Planos definitivos de obra físicos y Magnéticos (incluye digitalizaciòn, ploteos original y copia) | C26: und | E26: 4 | H26: 2556580 | I26: =ROUND(E26*G26,) -> 0
A27: 2.7 | B27: Transporte - Alquiler de vehículo | C27: und | E27: 4 | I27: =ROUND(E27*G27,) -> 0
A28: Valor otras inversiones | I28: =SUM(I18:I27) -> 0
A30: Costo directo total interventoría | I30: =+I28+I13 -> 0
A32: Valor costo directo | I32: =+I30 -> 0
A33: IVA | H33: 0.19 | I33: =+ROUND(I32*H33,0) -> 0
A34: Valor total interventoría Iva incluido | I34: =+I32+I33 -> 0

Sheet FM DETALLADO
B2: FACTOR MULTIPLICADOR INTERVENTORIA
B3: =+[99]PPTO!B$2 -> Construcción de casa de la mujer, municipio de Subachoque, Cundinamarca
B4: Municipio de Subachoque - Cundinamarca
B6: Modelo utilizado para calculo del factor Multiplicador Benchamarking de Salarios, Tarifas de Consultoría y Cálculo Factor Multiplicador del Sector • RESULTADOS FACTOR MULTIPLICADOR
C21: CONCEPTO | G21: <= 2SMMLV | H21: > 2SMMLV
B22: 1. | C22: Salarios y Prestaciones Sociales de Personal Facturable
B23: 1.01 | C23: Salarios
B24: 1.02 | C24: Auxilio de transporte
B25: 1.03 | C25: Vacaciones
B26: 1.04 | C26: Salud
B27: 1.05 | C27: Pensión
B28: 1.06 | C28: Riesgos laborales
B29: 1.07 | C29: ICBF
B30: 1.08 | C30: Caja de compensación familiar
B31: 1.09 | C31: SENA
B32: 1.1 | C32: Prima de servicios
B33: 1.11 | C33: Cesantías anuales
B34: 1.12 | C34: Intereses a las cesantías
... B36: 1.14 | C36: Otros
B37: Sub-total | G37: =SUM(G23:G36) -> 0 | H37: =SUM(H23:H36) -> 0
B39: 2 | C39: Gastos Generales
B40: 2.01 | C40: Asesoria Contable tributaria y juridica
B41: 2.02 | C41: Mantenimiento Oficina (Aseo)
B42: 2.03 | C42: Seguros de robo e incendio
B43: 2.04 | C43: Personal Administrativo no facturado
B44: 2.05 | C44: Personal Profesional no facturado
B45: 2.06 | C45: Correo y otros
F46: Sub-total | G46: =SUM(G40:G45) -> 0 | H46: =SUM(H40:H45) -> 0
B48: 3 | C48: Costos Directos no Reembolsables
B50: 3.1 | C50: Poliza de Calidad
B51: 3.2 | C51: Póliza Cumplimiento
B52: 3.3 | C52: Póliza Salarios y prestaciones Sociales
F53: Sub-total | G53: =SUM(G50:G52) -> 0 | H53: =SUM(H50:H52) -> 0
B55: 4 | C55: Impuestos
B57: 4.1 | C57: ICA servicios generales
B58: 4.2 | C58: Sobretasa bomberil (base impuesto calculado ICA)
B59: 4.3 | C59: Estampilla adulto mayor
B60: 4.4 | C60: Estampilla procultura
B61: 4.5 | C61: Estampilla justicia familiar
B62: 4.6 | C62: Tasa pro-deporte
...

Sheet FORMULARIO1 - GLOBAL
B2: Formulario 1 - Formulario de presupuesto oficial -INTERVENTORÍA DE OBRA PÚBLICA DE INFRAESTRUCTURA SOCIAL
C3: Versión: 2 del 15 de diciembre de 2025
C8: FORMULARIO 1 - GLOBAL
C9: [La Entidad puede utilizar este Formulario para determinar las condiciones bajo las cuales los Proponentes presentarán su propuesta económica de forma global, sin perjuicio que puedan modificarlo o alleguen la oferta económica con un Formulario distinto. Es presentado a modo ilustrativo y como una sugerencia] [En caso de modificar el formulario, es importante tener en cuenta que no se deben incluir causales de rechazo, reglas o parámetros. Los términos el proceso solo se encuentran en el Documento Base, por lo que la Entidad no deberá incluir ningún tipo de notas que se configuren en reglas contrarias a las definidas en dicho documento, las notas únicamente pueden ser aclaratorias para efectos del diligenciamiento del formato]
C10: VALOR GLOBAL DE LA INTERVENTORÍA
C11: ÍTEM | D11: DESCRIPCIÓN | F11: VALOR OFERTA
C13: 1 | D13: Valor de su propuesta sin IVA
C14: 2 | D14: Valor del IVA
C15: 3 | D15: Valor total de la propuesta | F15: =SUM(F13:G14) -> 0
C17: VALORES OFICIALES PARA LOS ITEMS A PAGAR POR PRECIOS UNITARIOS PARA LOS ENSAYOS DE LABORATORIO (en caso de aplicar)
C18: ÍTEM | D18: DESCRIPCIÓN | E18: UNIDAD | F18: VALOR BÁSICO UNITARIO OFICIAL (sin IVA) | G18: VALOR BÁSICO UNITARIO PROPUESTO (sin IVA)
C32: FIRMAS:
C36: Nombre y firma del representante legal del Proponente | G36: Nombre y firma del Proponente
