Workbook
Name _Hlk123652945: 'FICHA TÉCNICA - CÓDIGOS UNSPSC'!$A$2

Sheet FICHA TÉCNICA - CÓDIGOS UNSPSC
A1: Clasificación UNSPSC | B1: DESCRIPCIÓN
A2: 50131600 | B2: Huevos y sustitutos
A3: 50111500 | B3: Carne y aves de corral
A4: 50121500 | B4: pescado
A5: 50151500 | B5: Grasas y aceites vegetales comestibles
A6: 50131700 | B6: Productos de leche y mantequilla
A7: 50161500 | B7: Chocolate azucares, edulcorates productos
A8: 50171500 | B8: Hierbas y especias y extractos
A9: 50112000 | B9: Carnes procesadas y preparadas
A10: 50171800 | B10: Salsas y condimentos y productos para untar
A11: 50192100 | B11: Pasabocas y snacks
A12: 50201700 | B12: Café y te
A13: 50202300 | B13: Bebidas no alcohólicas
... A38: 14111700 | B38: Productos de papel para uso personal

Sheet PROVEEDOR 1 CONRADO
A2: ÍTEM | B2: PRODUCTO | C2: CANT | D2: VALOR SIN IVA | E2: PORCENTAJE IVA % | F2: VALOR CON IVA
A3: GRANOS Y ABARROTES
A4: 1 | B4: Leche entera en polvo x 1000 gr | C4: 1 | D4: 48300 | E4: 0 | F4: =D4+(D4*E4)/100 -> 48300 | H4: 48300
A5: 2 | B5: Leche entera en polvo x 380 gr | C5: 1 | D5: 20475 | E5: 0 | F5: =D5+(D5*E5)/100 -> 20475 | H5: 20475
A6: 3 | B6: Queso blanco o campesino x 1000 gr | C6: 1 | D6: 36225 | E6: 0 | F6: =D6+(D6*E6)/100 -> 36225 | H6: 36225
A7: 4 | B7: Cuajada x 500gr | C7: 1 | D7: 20580 | E7: 0 | F7: =D7+(D7*E7)/100 -> 20580 | H7: 20580
A8: 5 | B8: Quesito x 400gr | C8: 1 | D8: 15120 | E8: 0 | F8: =D8+(D8*E8)/100 -> 15120 | H8: 15120
A9: 6 | B9: Galleta con sabor a mantequilla o queso x 450 gr | C9: 1 | D9: 13437.9 | E9: 19 | F9: =D9+(D9*E9)/100 -> 15991.101 | H9: 13437.9
A10: 7 | B10: Tostadas x 20unidades | C10: 1 | D10: 11550 | E10: 0 | F10: =D10+(D10*E10)/100 -> 11550 | H10: 11550
A11: 8 | B11: Avena en hojuelas x 200 gr | C11: 1 | D11: 4289.25 | E11: 5 | F11: =D11+(D11*E11)/100 -> 4503.7125 | H11: 4289.25
A12: 9 | B12: Avena en polvo x 200gr | C12: 1 | D12: 4788 | E12: 5 | F12: =D12+(D12*E12)/100 -> 5027.4 | H12: 4788
A13: 10 | B13: Pan tajado x 420 gr | C13: 1 | D13: 9660 | E13: 0 | F13: =D13+(D13*E13)/100 -> 9660 | H13: 9660
A14: 11 | B14: Pan redondo x 500 gr | C14: 1 | D14: 8295 | E14: 0 | F14: =D14+(D14*E14)/100 -> 8295 | H14: 8295
A15: 12 | B15: Chocolate en pasta x 250 gr | C15: 1 | D15: 14763 | E15: 5 | F15: =D15+(D15*E15)/100 -> 15501.15 | H15: 14763
... A77: 74 | B77: aromatica tisanas caja x 25 tisanas | C77: 1 | D77: 6804 | E77: 19 | F77: =D77+(D77*E77)/100 -> 8096.76 | H77: 6804
A78: 75 | B78: aromatica de panela caja x 25 sobres | C78: 1 | D78: 9610.65 | E78: 19 | F78: =D78+(D78*E78)/100 -> 11436.673
A79: 76 | B79: panceroti x unidad | C79: 1 | D79: 3500 | E79: 0 | F79: =D79+(D79*E79)/100 -> 3500
A80: 77 | B80: palito de queso por unidad | C80: 1 | D80: 2500 | E80: 0 | F80: =D80+(D80*E80)/100 -> 2500
A81: 78 | B81: croissant | C81: 1 | D81: 3500 | E81: 0 | F81: =D81+(D81*E81)/100 -> 3500
A82: 79 | B82: coco rayado x 500 gr | C82: 1 | D82: 22610 | E82: 19 | F82: =D82+(D82*E82)/100 -> 26905.9
A83: 80 | B83: leche condensada | C83: 1 | D83: 26600 | E83: 19 | F83: =D83+(D83*E83)/100 -> 31654
A84: 81 | B84: leche líquida x 200 ml | C84: 1 | D84: 2000 | E84: 0 | F84: =D84+(D84*E84)/100 -> 2000
A85: 82 | B85: jugo en caja pequeña x 200 ml | C85: 1 | D85: 2300 | E85: 19 | F85: =D85+(D85*E85)/100 -> 2737
A86: 83 | B86: escencia de vainilla x 90 ml | C86: 1 | D86: 4200 | E86: 19 | F86: =D86+(D86*E86)/100 -> 4998
A87: 84 | B87: queso mozzarella x 400 gr | C87: 1 | D87: 18200 | E87: 0 | F87: =D87+(D87*E87)/100 -> 18200
A88: 85 | B88: bocadillo caja x 24 unidades | C88: 1 | D88: 10300 | E88: 0 | F88: =D88+(D88*E88)/100 -> 10300 | H88: 9610.65
A89: CARNES | H89: 0
A90: 86 | B90: tocino de cerdo x libra | C90: 1 | D90: 18375 | E90: 0 | F90: =D90+(D90*E90)/100 -> 18375 | H90: 18375
A91: 87 | B91: hueso de cerdo x libra | C91: 1 | D91: 8925 | E91: 0 | F91: =D91+(D91*E91)/100 -> 8925 | H91: 8925
A92: 88 | B92: pierna de cerdo x libra | C92: 1 | D92: 18375 | E92: 0 | F92: =D92+(D92*E92)/100 -> 18375 | H92: 18375
A93: 89 | B93: carne de res molida x libra | C93: 1 | D93: 16800 | E93: 0 | F93: =D93+(D93*E93)/100 -> 16800 | H93: 16800
A94: 90 | B94: carne de res tres telas x libra | C94: 1 | D94: 18375 | E94: 0 | F94: =D94+(D94*E94)/100 -> 18375 | H94: 18375
A95: 91 | B95: carne de res morrillo x libra | C95: 1 | D95: 18900 | E95: 0 | F95: =D95+(D95*E95)/100 -> 18900 | H95: 18900
A96: 92 | B96: carne de res posta x libra | C96: 1 | D96: 20475 | E96: 0 | F96: =D96+(D96*E96)/100 -> 20475 | H96: 20475
A97: 93 | B97: carne huevo de aldana x libra | C97: 1 | D97: 20475 | E97: 0 | F97: =D97+(D97*E97)/100 -> 20475 | H97: 20475
A98: 94 | B98: hueso de res x libra | C98: 1 | D98: 8925 | E98: 0 | F98: =D98+(D98*E98)/100 -> 8925 | H98: 8925
A99: 95 | B99: lengua de res X libra | C99: 1 | D99: 17850 | E99: 0 | F99: =D99+(D99*E99)/100 -> 17850 | H99: 17850
A100: 96 | B100: asadura de res x libra | C100: 1 | D100: 10500 | E100: 0 | F100: =D100+(D100*E100)/100 -> 10500 | H100: 10500
A101: 97 | B101: Muslos de pollo x 1kg | C101: 1 | D101: 22575 | E101: 0 | F101: =D101+(D101*E101)/100 -> 22575 | H101: 22575
... A111: 107 | B111: bandeja de pescado en rodajas | C111: 1 | D111: 17325 | E111: 0 | F111: =D111+(D111*E111)/100 -> 17325 | H111: 17325
...

Sheet PROVEEDOR 2
A2: ÍTEM | B2: PRODUCTO | C2: CANT | D2: VALOR SIN IVA | E2: PORCENTAJE IVA % | F2: VALOR CON IVA
A3: GRANOS Y ABARROTES
A4: 1 | B4: Leche entera en polvo x 1000 gr | C4: 1 | D4: 51198 | E4: 0 | F4: =D4+(D4*E4)/100 -> 51198 | H4: 48300
A5: 2 | B5: Leche entera en polvo x 380 gr | C5: 1 | D5: 21703.5 | E5: 0 | F5: =D5+(D5*E5)/100 -> 21703.5 | H5: 20475
A6: 3 | B6: Queso blanco o campesino x 1000 gr | C6: 1 | D6: 38398.5 | E6: 0 | F6: =D6+(D6*E6)/100 -> 38398.5 | H6: 36225
A7: 4 | B7: Cuajada x 500gr | C7: 1 | D7: 21814.8 | E7: 0 | F7: =D7+(D7*E7)/100 -> 21814.8 | H7: 20580
A8: 5 | B8: Quesito x 400gr | C8: 1 | D8: 16027.2 | E8: 0 | F8: =D8+(D8*E8)/100 -> 16027.2 | H8: 15120
A9: 6 | B9: Galleta con sabor a mantequilla o queso x 450 gr | C9: 1 | D9: 14244.174 | E9: 19 | F9: =D9+(D9*E9)/100 -> 16950.567 | H9: 13437.9
A10: 7 | B10: Tostadas x 20unidades | C10: 1 | D10: 12243 | E10: 0 | F10: =D10+(D10*E10)/100 -> 12243 | H10: 11550
A11: 8 | B11: Avena en hojuelas x 200 gr | C11: 1 | D11: 4546.605 | E11: 5 | F11: =D11+(D11*E11)/100 -> 4773.9352 | H11: 4289.25
A12: 9 | B12: Avena en polvo x 200gr | C12: 1 | D12: 5075.28 | E12: 5 | F12: =D12+(D12*E12)/100 -> 5329.044 | H12: 4788
A13: 10 | B13: Pan tajado x 420 gr | C13: 1 | D13: 10239.6 | E13: 0 | F13: =D13+(D13*E13)/100 -> 10239.6 | H13: 9660
A14: 11 | B14: Pan redondo x 500 gr | C14: 1 | D14: 8792.7 | E14: 0 | F14: =D14+(D14*E14)/100 -> 8792.7 | H14: 8295
A15: 12 | B15: Chocolate en pasta x 250 gr | C15: 1 | D15: 15648.78 | E15: 5 | F15: =D15+(D15*E15)/100 -> 16431.219 | H15: 14763
... A78: 75 | B78: aromatica de panela caja x 25 sobres | C78: 1 | D78: 10187.289 | E78: 19 | F78: =D78+(D78*E78)/100 -> 12122.874 | H78: 9610.65
A79: 76 | B79: panceroti x unidad | C79: 1 | D79: 3550 | E79: 0 | F79: =D79+(D79*E79)/100 -> 3550
A80: 77 | B80: palito de queso por unidad | C80: 1 | D80: 2550 | E80: 0 | F80: =D80+(D80*E80)/100 -> 2550
A81: 78 | B81: croissant | C81: 1 | D81: 3600 | E81: 0 | F81: =D81+(D81*E81)/100 -> 3600
A82: 79 | B82: coco rayado x 500 gr | C82: 1 | D82: 22700 | E82: 19 | F82: =D82+(D82*E82)/100 -> 27013
A83: 80 | B83: leche condensada | C83: 1 | D83: 26610 | E83: 19 | F83: =D83+(D83*E83)/100 -> 31665.9
A84: 81 | B84: leche líquida x 200 ml | C84: 1 | D84: 2100 | E84: 0 | F84: =D84+(D84*E84)/100 -> 2100
A85: 82 | B85: jugo en caja pequeña x 200 ml | C85: 1 | D85: 2320 | E85: 19 | F85: =D85+(D85*E85)/100 -> 2760.8
A86: 83 | B86: escencia de vainilla x 90 ml | C86: 1 | D86: 4210 | E86: 19 | F86: =D86+(D86*E86)/100 -> 5009.9
A87: 84 | B87: queso mozzarella x 400 gr | C87: 1 | D87: 18250 | E87: 0 | F87: =D87+(D87*E87)/100 -> 18250
A88: 85 | B88: bocadillo caja x 24 unidades | C88: 1 | D88: 10350 | E88: 0 | F88: =D88+(D88*E88)/100 -> 10350
A89: CARNES | H89: 0
A90: 86 | B90: tocino de cerdo x libra | C90: 1 | D90: 19477.5 | E90: 0 | F90: =D90+(D90*E90)/100 -> 19477.5 | H90: 18375
A91: 87 | B91: hueso de cerdo x libra | C91: 1 | D91: 9460.5 | E91: 0 | F91: =D91+(D91*E91)/100 -> 9460.5 | H91: 8925
A92: 88 | B92: pierna de cerdo x libra | C92: 1 | D92: 19477.5 | E92: 0 | F92: =D92+(D92*E92)/100 -> 19477.5 | H92: 18375
A93: 89 | B93: carne de res molida x libra | C93: 1 | D93: 17808 | E93: 0 | F93: =D93+(D93*E93)/100 -> 17808 | H93: 16800
A94: 90 | B94: carne de res tres telas x libra | C94: 1 | D94: 19477.5 | E94: 0 | F94: =D94+(D94*E94)/100 -> 19477.5 | H94: 18375
A95: 91 | B95: carne de res morrillo x libra | C95: 1 | D95: 20034 | E95: 0 | F95: =D95+(D95*E95)/100 -> 20034 | H95: 18900
A96: 92 | B96: carne de res posta x libra | C96: 1 | D96: 21703.5 | E96: 0 | F96: =D96+(D96*E96)/100 -> 21703.5 | H96: 20475
A97: 93 | B97: carne huevo de aldana x libra | C97: 1 | D97: 21703.5 | E97: 0 | F97: =D97+(D97*E97)/100 -> 21703.5 | H97: 20475
A98: 94 | B98: hueso de res x libra | C98: 1 | D98: 9460.5 | E98: 0 | F98: =D98+(D98*E98)/100 -> 9460.5 | H98: 8925
A99: 95 | B99: lengua de res X libra | C99: 1 | D99: 18921 | E99: 0 | F99: =D99+(D99*E99)/100 -> 18921 | H99: 17850
A100: 96 | B100: asadura de res x libra | C100: 1 | D100: 11130 | E100: 0 | F100: =D100+(D100*E100)/100 -> 11130 | H100: 10500
A101: 97 | B101: Muslos de pollo x 1kg | C101: 1 | D101: 23929.5 | E101: 0 | F101: =D101+(D101*E101)/100 -> 23929.5 | H101: 22575
... A111: 107 | B111: bandeja de pescado en rodajas | C111: 1 | D111: 18364.5 | E111: 0 | F111: =D111+(D111*E111)/100 -> 18364.5 | H111: 17325
A112: FRUTAS VERDURAS Y LEGUMBRES | H112: 0
...

Sheet CONSOLIDADO.
A1: CONSOLIDADO.
A2: ÍTEM | B2: PRODUCTO | C2: CANT | D2: VALOR SIN IVA | E2: PORCENTAJE IVA % | F2: VALOR CON IVA
A3: GRANOS Y ABARROTES
A4: 1 | B4: Leche entera en polvo x 1000 gr | C4: 1 | D4: =(('PROVEEDOR 1 CONRADO'!D4+'PROVEEDOR 2'!D4))/2 -> 49749 | E4: =(('PROVEEDOR 1 CONRADO'!E4+'PROVEEDOR 2'!E4))/2 -> 0 | F4: =(('PROVEEDOR 1 CONRADO'!F4+'PROVEEDOR 2'!F4))/2 -> 49749 | H4: 48300
A5: 2 | B5: Leche entera en polvo x 380 gr | C5: 1 | D5: =(('PROVEEDOR 1 CONRADO'!D5+'PROVEEDOR 2'!D5))/2 -> 21089.25 | E5: =(('PROVEEDOR 1 CONRADO'!E5+'PROVEEDOR 2'!E5))/2 -> 0 | F5: =(('PROVEEDOR 1 CONRADO'!F5+'PROVEEDOR 2'!F5))/2 -> 21089.25 | H5: 20475
A6: 3 | B6: Queso blanco o campesino x 1000 gr | C6: 1 | D6: =(('PROVEEDOR 1 CONRADO'!D6+'PROVEEDOR 2'!D6))/2 -> 37311.75 | E6: =(('PROVEEDOR 1 CONRADO'!E6+'PROVEEDOR 2'!E6))/2 -> 0 | F6: =(('PROVEEDOR 1 CONRADO'!F6+'PROVEEDOR 2'!F6))/2 -> 37311.75 | H6: 36225
A7: 4 | B7: Cuajada x 500gr | C7: 1 | D7: =(('PROVEEDOR 1 CONRADO'!D7+'PROVEEDOR 2'!D7))/2 -> 21197.4 | E7: =(('PROVEEDOR 1 CONRADO'!E7+'PROVEEDOR 2'!E7))/2 -> 0 | F7: =(('PROVEEDOR 1 CONRADO'!F7+'PROVEEDOR 2'!F7))/2 -> 21197.4 | H7: 20580
A8: 5 | B8: Quesito x 400gr | C8: 1 | D8: =(('PROVEEDOR 1 CONRADO'!D8+'PROVEEDOR 2'!D8))/2 -> 15573.6 | E8: =(('PROVEEDOR 1 CONRADO'!E8+'PROVEEDOR 2'!E8))/2 -> 0 | F8: =(('PROVEEDOR 1 CONRADO'!F8+'PROVEEDOR 2'!F8))/2 -> 15573.6 | H8: 15120
A9: 6 | B9: Galleta con sabor a mantequilla o queso x 450 gr | C9: 1 | D9: =(('PROVEEDOR 1 CONRADO'!D9+'PROVEEDOR 2'!D9))/2 -> 13841.037 | E9: =(('PROVEEDOR 1 CONRADO'!E9+'PROVEEDOR 2'!E9))/2 -> 19 | F9: =(('PROVEEDOR 1 CONRADO'!F9+'PROVEEDOR 2'!F9))/2 -> 16470.834 | H9: 13437.9
A10: 7 | B10: Tostadas x 20unidades | C10: 1 | D10: =(('PROVEEDOR 1 CONRADO'!D10+'PROVEEDOR 2'!D10))/2 -> 11896.5 | E10: =(('PROVEEDOR 1 CONRADO'!E10+'PROVEEDOR 2'!E10))/2 -> 0 | F10: =(('PROVEEDOR 1 CONRADO'!F10+'PROVEEDOR 2'!F10))/2 -> 11896.5 | H10: 11550
A11: 8 | B11: Avena en hojuelas x 200 gr | C11: 1 | D11: =(('PROVEEDOR 1 CONRADO'!D11+'PROVEEDOR 2'!D11))/2 -> 4417.9275 | E11: =(('PROVEEDOR 1 CONRADO'!E11+'PROVEEDOR 2'!E11))/2 -> 5 | F11: =(('PROVEEDOR 1 CONRADO'!F11+'PROVEEDOR 2'!F11))/2 -> 4638.8239 | H11: 4289.25
A12: 9 | B12: Avena en polvo x 200gr | C12: 1 | D12: =(('PROVEEDOR 1 CONRADO'!D12+'PROVEEDOR 2'!D12))/2 -> 4931.64 | E12: =(('PROVEEDOR 1 CONRADO'!E12+'PROVEEDOR 2'!E12))/2 -> 5 | F12: =(('PROVEEDOR 1 CONRADO'!F12+'PROVEEDOR 2'!F12))/2 -> 5178.222 | H12: 4788
A13: 10 | B13: Pan tajado x 420 gr | C13: 1 | D13: =(('PROVEEDOR 1 CONRADO'!D13+'PROVEEDOR 2'!D13))/2 -> 9949.8 | E13: =(('PROVEEDOR 1 CONRADO'!E13+'PROVEEDOR 2'!E13))/2 -> 0 | F13: =(('PROVEEDOR 1 CONRADO'!F13+'PROVEEDOR 2'!F13))/2 -> 9949.8 | H13: 9660
A14: 11 | B14: Pan redondo x 500 gr | C14: 1 | D14: =(('PROVEEDOR 1 CONRADO'!D14+'PROVEEDOR 2'!D14))/2 -> 8543.85 | E14: =(('PROVEEDOR 1 CONRADO'!E14+'PROVEEDOR 2'!E14))/2 -> 0 | F14: =(('PROVEEDOR 1 CONRADO'!F14+'PROVEEDOR 2'!F14))/2 -> 8543.85 | H14: 8295
A15: 12 | B15: Chocolate en pasta x 250 gr | C15: 1 | D15: =(('PROVEEDOR 1 CONRADO'!D15+'PROVEEDOR 2'!D15))/2 -> 15205.89 | E15: =(('PROVEEDOR 1 CONRADO'!E15+'PROVEEDOR 2'!E15))/2 -> 5 | F15: =(('PROVEEDOR 1 CONRADO'!F15+'PROVEEDOR 2'!F15))/2 -> 15966.184 | H15: 14763
... A78: 75 | B78: aromatica de panela caja x 25 sobres | C78: 1 | D78: =(('PROVEEDOR 1 CONRADO'!D78+'PROVEEDOR 2'!D78))/2 -> 9898.9695 | E78: =(('PROVEEDOR 1 CONRADO'!E78+'PROVEEDOR 2'!E78))/2 -> 19 | F78: =(('PROVEEDOR 1 CONRADO'!F78+'PROVEEDOR 2'!F78))/2 -> 11779.774 | H78: 9610.65
A79: 76 | B79: panceroti x unidad | C79: 1 | D79: =(('PROVEEDOR 1 CONRADO'!D79+'PROVEEDOR 2'!D79))/2 -> 3525 | E79: 0 | F79: =(('PROVEEDOR 1 CONRADO'!F79+'PROVEEDOR 2'!F79))/2 -> 3525
A80: 77 | B80: palito de queso por unidad | C80: 1 | D80: =(('PROVEEDOR 1 CONRADO'!D80+'PROVEEDOR 2'!D80))/2 -> 2525 | E80: 0 | F80: =(('PROVEEDOR 1 CONRADO'!F80+'PROVEEDOR 2'!F80))/2 -> 2525
A81: 78 | B81: croissant | C81: 1 | D81: =(('PROVEEDOR 1 CONRADO'!D81+'PROVEEDOR 2'!D81))/2 -> 3550 | E81: 0 | F81: =(('PROVEEDOR 1 CONRADO'!F81+'PROVEEDOR 2'!F81))/2 -> 3550
A82: 79 | B82: coco rayado x 500 gr | C82: 1 | D82: =(('PROVEEDOR 1 CONRADO'!D82+'PROVEEDOR 2'!D82))/2 -> 22655 | E82: 19 | F82: =(('PROVEEDOR 1 CONRADO'!F82+'PROVEEDOR 2'!F82))/2 -> 26959.45
A83: 80 | B83: leche condensada | C83: 1 | D83: =(('PROVEEDOR 1 CONRADO'!D83+'PROVEEDOR 2'!D83))/2 -> 26605 | E83: 19 | F83: =(('PROVEEDOR 1 CONRADO'!F83+'PROVEEDOR 2'!F83))/2 -> 31659.95
A84: 81 | B84: leche líquida x 200 ml | C84: 1 | D84: =(('PROVEEDOR 1 CONRADO'!D84+'PROVEEDOR 2'!D84))/2 -> 2050 | E84: 0 | F84: =(('PROVEEDOR 1 CONRADO'!F84+'PROVEEDOR 2'!F84))/2 -> 2050
A85: 82 | B85: jugo en caja pequeña x 200 ml | C85: 1 | D85: =(('PROVEEDOR 1 CONRADO'!D85+'PROVEEDOR 2'!D85))/2 -> 2310 | E85: 19 | F85: =(('PROVEEDOR 1 CONRADO'!F85+'PROVEEDOR 2'!F85))/2 -> 2748.9
A86: 83 | B86: escencia de vainilla x 90 ml | C86: 1 | D86: =(('PROVEEDOR 1 CONRADO'!D86+'PROVEEDOR 2'!D86))/2 -> 4205 | E86: 19 | F86: =(('PROVEEDOR 1 CONRADO'!F86+'PROVEEDOR 2'!F86))/2 -> 5003.95
A87: 84 | B87: queso mozzarella x 400 gr | C87: 1 | D87: =(('PROVEEDOR 1 CONRADO'!D87+'PROVEEDOR 2'!D87))/2 -> 18225 | E87: 0 | F87: =(('PROVEEDOR 1 CONRADO'!F87+'PROVEEDOR 2'!F87))/2 -> 18225
A88: 85 | B88: bocadillo caja x 24 unidades | C88: 1 | D88: =(('PROVEEDOR 1 CONRADO'!D88+'PROVEEDOR 2'!D88))/2 -> 10325 | E88: 0 | F88: =(('PROVEEDOR 1 CONRADO'!F88+'PROVEEDOR 2'!F88))/2 -> 10325
A89: CARNES | H89: 0
A90: 86 | B90: tocino de cerdo x libra | C90: 1 | D90: =(('PROVEEDOR 1 CONRADO'!D90+'PROVEEDOR 2'!D90))/2 -> 18926.25 | E90: =(('PROVEEDOR 1 CONRADO'!E90+'PROVEEDOR 2'!E90))/2 -> 0 | F90: =(('PROVEEDOR 1 CONRADO'!F90+'PROVEEDOR 2'!F90))/2 -> 18926.25 | H90: 18375
A91: 87 | B91: hueso de cerdo x libra | C91: 1 | D91: =(('PROVEEDOR 1 CONRADO'!D91+'PROVEEDOR 2'!D91))/2 -> 9192.75 | E91: =(('PROVEEDOR 1 CONRADO'!E91+'PROVEEDOR 2'!E91))/2 -> 0 | F91: =(('PROVEEDOR 1 CONRADO'!F91+'PROVEEDOR 2'!F91))/2 -> 9192.75 | H91: 8925
A92: 88 | B92: pierna de cerdo x libra | C92: 1 | D92: =(('PROVEEDOR 1 CONRADO'!D92+'PROVEEDOR 2'!D92))/2 -> 18926.25 | E92: =(('PROVEEDOR 1 CONRADO'!E92+'PROVEEDOR 2'!E92))/2 -> 0 | F92: =(('PROVEEDOR 1 CONRADO'!F92+'PROVEEDOR 2'!F92))/2 -> 18926.25 | H92: 18375
A93: 89 | B93: carne de res molida x libra | C93: 1 | D93: =(('PROVEEDOR 1 CONRADO'!D93+'PROVEEDOR 2'!D93))/2 -> 17304 | E93: =(('PROVEEDOR 1 CONRADO'!E93+'PROVEEDOR 2'!E93))/2 -> 0 | F93: =(('PROVEEDOR 1 CONRADO'!F93+'PROVEEDOR 2'!F93))/2 -> 17304 | H93: 16800
A94: 90 | B94: carne de res tres telas x libra | C94: 1 | D94: =(('PROVEEDOR 1 CONRADO'!D94+'PROVEEDOR 2'!D94))/2 -> 18926.25 | E94: =(('PROVEEDOR 1 CONRADO'!E94+'PROVEEDOR 2'!E94))/2 -> 0 | F94: =(('PROVEEDOR 1 CONRADO'!F94+'PROVEEDOR 2'!F94))/2 -> 18926.25 | H94: 18375
A95: 91 | B95: carne de res morrillo x libra | C95: 1 | D95: =(('PROVEEDOR 1 CONRADO'!D95+'PROVEEDOR 2'!D95))/2 -> 19467 | E95: =(('PROVEEDOR 1 CONRADO'!E95+'PROVEEDOR 2'!E95))/2 -> 0 | F95: =(('PROVEEDOR 1 CONRADO'!F95+'PROVEEDOR 2'!F95))/2 -> 19467 | H95: 18900
A96: 92 | B96: carne de res posta x libra | C96: 1 | D96: =(('PROVEEDOR 1 CONRADO'!D96+'PROVEEDOR 2'!D96))/2 -> 21089.25 | E96: =(('PROVEEDOR 1 CONRADO'!E96+'PROVEEDOR 2'!E96))/2 -> 0 | F96: =(('PROVEEDOR 1 CONRADO'!F96+'PROVEEDOR 2'!F96))/2 -> 21089.25 | H96: 20475
A97: 93 | B97: carne huevo de aldana x libra | C97: 1 | D97: =(('PROVEEDOR 1 CONRADO'!D97+'PROVEEDOR 2'!D97))/2 -> 21089.25 | E97: =(('PROVEEDOR 1 CONRADO'!E97+'PROVEEDOR 2'!E97))/2 -> 0 | F97: =(('PROVEEDOR 1 CONRADO'!F97+'PROVEEDOR 2'!F97))/2 -> 21089.25 | H97: 20475
A98: 94 | B98: hueso de res x libra | C98: 1 | D98: =(('PROVEEDOR 1 CONRADO'!D98+'PROVEEDOR 2'!D98))/2 -> 9192.75 | E98: =(('PROVEEDOR 1 CONRADO'!E98+'PROVEEDOR 2'!E98))/2 -> 0 | F98: =(('PROVEEDOR 1 CONRADO'!F98+'PROVEEDOR 2'!F98))/2 -> 9192.75 | H98: 8925
A99: 95 | B99: lengua de res X libra | C99: 1 | D99: =(('PROVEEDOR 1 CONRADO'!D99+'PROVEEDOR 2'!D99))/2 -> 18385.5 | E99: =(('PROVEEDOR 1 CONRADO'!E99+'PROVEEDOR 2'!E99))/2 -> 0 | F99: =(('PROVEEDOR 1 CONRADO'!F99+'PROVEEDOR 2'!F99))/2 -> 18385.5 | H99: 17850
A100: 96 | B100: asadura de res x libra | C100: 1 | D100: =(('PROVEEDOR 1 CONRADO'!D100+'PROVEEDOR 2'!D100))/2 -> 10815 | E100: =(('PROVEEDOR 1 CONRADO'!E100+'PROVEEDOR 2'!E100))/2 -> 0 | F100: =(('PROVEEDOR 1 CONRADO'!F100+'PROVEEDOR 2'!F100))/2 -> 10815 | H100: 10500
A101: 97 | B101: Muslos de pollo x 1kg | C101: 1 | D101: =(('PROVEEDOR 1 CONRADO'!D101+'PROVEEDOR 2'!D101))/2 -> 23252.25 | E101: =(('PROVEEDOR 1 CONRADO'!E101+'PROVEEDOR 2'!E101))/2 -> 0 | F101: =(('PROVEEDOR 1 CONRADO'!F101+'PROVEEDOR 2'!F101))/2 -> 23252.25 | H101: 22575
... A111: 107 | B111: bandeja de pescado en rodajas | C111: 1 | D111: =(('PROVEEDOR 1 CONRADO'!D111+'PROVEEDOR 2'!D111))/2 -> 17844.75 | E111: =(('PROVEEDOR 1 CONRADO'!E111+'PROVEEDOR 2'!E111))/2 -> 0 | F111: =(('PROVEEDOR 1 CONRADO'!F111+'PROVEEDOR 2'!F111))/2 -> 17844.75 | H111: 17325
...
