Workbook
Name _Hlk123652945: 'FICHA TÉCNICA - CÓDIGOS UNSPSC'!$A$2

Sheet FICHA TÉCNICA - CÓDIGOS UNSPSC
A1: Clasificación UNSPSC | B1: DESCRIPCIÓN
A2: 50131600 | B2: Huevos y sustitutos
A3: 50111500 | B3: Carne y aves de corral
A4: 50121500 | B4: pescado
A5: 50151500 | B5: Grasas y aceites vegetales comestibles
A6: 50131700 | B6: Productos de leche y mantequilla
A7: 50161500 | B7: Chocolate azucares, edulcorates productos
A8: 50171500 | B8: Hierbas y especias y extractos
A9: 50112000 | B9: Carnes procesadas y preparadas
A10: 50171800 | B10: Salsas y condimentos y productos para untar
A11: 50192100 | B11: Pasabocas y snacks
A12: 50201700 | B12: Café y te
A13: 50202300 | B13: Bebidas no alcohólicas
... A38: 14111700 | B38: Productos de papel para uso personal

Sheet PROVEEDOR 1 CONRADO
A2: ÍTEM | B2: PRODUCTO | C2: CANT | D2: VALOR SIN IVA | E2: PORCENTAJE IVA % | F2: VALOR CON IVA
A3: GRANOS Y ABARROTES
A4: 1 | B4: Leche entera en polvo x 1000 gr | C4: 1 | D4: 48300 | E4: 0 | F4: =D4+(D4*E4)/100 -> 48300 | H4: 48300
A5: 2 | B5: Leche entera en polvo x 380 gr | C5: 1 | D5: 20475 | E5: 0 | F5: =D5+(D5*E5)/100 -> 20475 | H5: 20475
A6: 3 | B6: Queso blanco o campesino x 1000 gr | C6: 1 | D6: 36225 | E6: 0 | F6: =D6+(D6*E6)/100 -> 36225 | H6: 36225
A7: 4 | B7: Cuajada x 500gr | C7: 1 | D7: 20580 | E7: 0 | F7: =D7+(D7*E7)/100 -> 20580 | H7: 20580
A8: 5 | B8: Quesito x 400gr | C8: 1 | D8: 15120 | E8: 0 | F8: =D8+(D8*E8)/100 -> 15120 | H8: 15120
A9: 6 | B9: Galleta con sabor a mantequilla o queso x 450 gr | C9: 1 | D9: 13437.9 | E9: 19 | F9: =D9+(D9*E9)/100 -> 15991.101 | H9: 13437.9
A10: 7 | B10: Tostadas x 20unidades | C10: 1 | D10: 11550 | E10: 0 | F10: =D10+(D10*E10)/100 -> 11550 | H10: 11550
A11: 8 | B11: Avena en hojuelas x 200 gr | C11: 1 | D11: 4289.25 | E11: 5 | F11: =D11+(D11*E11)/100 -> 4503.7125 | H11: 4289.25
A12: 9 | B12: Avena en polvo x 200gr | C12: 1 | D12: 4788 | E12: 5 | F12: =D12+(D12*E12)/100 -> 5027.4 | H12: 4788
A13: 10 | B13: Pan tajado x 420 gr | C13: 1 | D13: 9660 | E13: 0 | F13: =D13+(D13*E13)/100 -> 9660 | H13: 9660
A14: 11 | B14: Pan redondo x 500 gr | C14: 1 | D14: 8295 | E14: 0 | F14: =D14+(D14*E14)/100 -> 8295 | H14: 8295
A15: 12 | B15: Chocolate en pasta x 250 gr | C15: 1 | D15: 14763 | E15: 5 | F15: =D15+(D15*E15)/100 -> 15501.15 | H15: 14763
... A77: 74 | B77: aromatica tisanas caja x 25 tisanas | C77: 1 | D77: 6804 | E77: 19 | F77: =D77+(D77*E77)/100 -> 8096.76 | H77: 6804
A78: 75 | B78: aromatica de panela caja x 25 sobres | C78: 1 | D78: 9610.65 | E78: 19 | F78: =D78+(D78*E78)/100 -> 11436.673
A79: 76 | B79: panceroti x unidad | C79: 1 | D79: 3500 | E79: 0 | F79: =D79+(D79*E79)/100 -> 3500
A80: 77 | B80: palito de queso por unidad | C80: 1 | D80: 2500 | E80: 0 | F80: =D80+(D80*E80)/100 -> 2500
A81: 78 | B81: croissant | C81: 1 | D81: 3500 | E81: 0 | F81: =D81+(D81*E81)/100 -> 3500
A82: 79 | B82: coco rayado x 500 gr | C82: 1 | D82: 22610 | E82: 19 | F82: =D82+(D82*E82)/100 -> 26905.9
A83: 80 | B83: leche condensada | C83: 1 | D83: 26600 | E83: 19 | F83: =D83+(D83*E83)/100 -> 31654
A84: 81 | B84: leche líquida x 200 ml | C84: 1 | D84: 2000 | E84: 0 | F84: =D84+(D84*E84)/100 -> 2000
A85: 82 | B85: jugo en caja pequeña x 200 ml | C85: 1 | D85: 2300 | E85: 19 | F85: =D85+(D85*E85)/100 -> 2737
A86: 83 | B86: escencia de vainilla x 90 ml | C86: 1 | D86: 4200 | E86: 19 | F86: =D86+(D86*E86)/100 -> 4998
A87: 84 | B87: queso mozzarella x 400 gr | C87: 1 | D87: 18200 | E87: 0 | F87: =D87+(D87*E87)/100 -> 18200
A88: 85 | B88: bocadillo caja x 24 unidades | C88: 1 | D88: 10300 | E88: 0 | F88: =D88+(D88*E88)/100 -> 10300 | H88: 9610.65
A89: CARNES | H89: 0
A90: 86 | B90: tocino de cerdo x libra | C90: 1 | D90: 18375 | E90: 0 | F90: =D90+(D90*E90)/100 -> 18375 | H90: 18375
A91: 87 | B91: hueso de cerdo x libra | C91: 1 | D91: 8925 | E91: 0 | F91: =D91+(D91*E91)/100 -> 8925 | H91: 8925
A92: 88 | B92: pierna de cerdo x libra | C92: 1 | D92: 18375 | E92: 0 | F92: =D92+(D92*E92)/100 -> 18375 | H92: 18375
A93: 89 | B93: carne de res molida x libra | C93: 1 | D93: 16800 | E93: 0 | F93: =D93+(D93*E93)/100 -> 16800 | H93: 16800
A94: 90 | B94: carne de res tres telas x libra | C94: 1 | D94: 18375 | E94: 0 | F94: =D94+(D94*E94)/100 -> 18375 | H94: 18375
A95: 91 | B95: carne de res morrillo x libra | C95: 1 | D95: 18900 | E95: 0 | F95: =D95+(D95*E95)/100 -> 18900 | H95: 18900
A96: 92 | B96: carne de res posta x libra | C96: 1 | D96: 20475 | E96: 0 | F96: =D96+(D96*E96)/100 -> 20475 | H96: 20475
A97: 93 | B97: carne huevo de aldana x libra | C97: 1 | D97: 20475 | E97: 0 | F97: =D97+(D97*E97)/100 -> 20475 | H97: 20475
A98: 94 | B98: hueso de res x libra | C98: 1 | D98: 8925 | E98: 0 | F98: =D98+(D98*E98)/100 -> 8925 | H98: 8925
A99: 95 | B99: lengua de res X libra | C99: 1 | D99: 17850 | E99: 0 | F99: =D99+(D99*E99)/100 -> 17850 | H99: 17850
A100: 96 | B100: asadura de res x libra | C100: 1 | D100: 10500 | E100: 0 | F100: =D100+(D100*E100)/100 -> 10500 | H100: 10500
A101: 97 | B101: Muslos de pollo x 1kg | C101: 1 | D101: 22575 | E101: 0 | F101: =D101+(D101*E101)/100 -> 22575 | H101: 22575
... A111: 107 | B111: bandeja de pescado en rodajas | C111: 1 | D111: 17325 | E111: 0 | F111: =D111+(D111*E111)/100 -> 17325 | H111: 17325
A112: FRUTAS VERDURAS Y LEGUMBRES | H112: 0
A113: 108 | B113: Tomate de aliño x 1000 gr | C113: 1 | D113: 9030 | E113: 0 | F113: =D113+(D113*E113)/100 -> 9030 | H113: 9030
A114: 109 | B114: Cebolla cabezona x 1000 gr | C114: 1 | D114: 9240 | E114: 0 | F114: =D114+(D114*E114)/100 -> 9240 | H114: 9240
A115: 110 | B115: Cebolla Junca x 1000 gr | C115: 1 | D115: 6825 | E115: 0 | F115: =D115+(D115*E115)/100 -> 6825 | H115: 6825
A116: 111 | B116: Ajo x cabeza | C116: 1 | D116: 18060 | E116: 0 | F116: =D116+(D116*E116)/100 -> 18060 | H116: 18060
A117: 112 | B117: Cilantro x 1000 gr | C117: 1 | D117: 15015 | E117: 0 | F117: =D117+(D117*E117)/100 -> 15015 | H117: 15015
A118: 113 | B118: Espinaca x 1000 gr | C118: 1 | D118: 7770 | E118: 0 | F118: =D118+(D118*E118)/100 -> 7770 | H118: 7770
A119: 114 | B119: Pimentón x 1000 gr | C119: 1 | D119: 11445 | E119: 0 | F119: =D119+(D119*E119)/100 -> 11445 | H119: 11445
A120: 115 | B120: Platano hartón verde x 1000 gr | C120: 1 | D120: 7140 | E120: 0 | F120: =D120+(D120*E120)/100 -> 7140 | H120: 7140
A121: 116 | B121: Platano hartón maduro x 1000 gr | C121: 1 | D121: 7140 | E121: 0 | F121: =D121+(D121*E121)/100 -> 7140 | H121: 7140
A122: 117 | B122: Papa criolla x 1000 gr | C122: 1 | D122: 9030 | E122: 0 | F122: =D122+(D122*E122)/100 -> 9030 | H122: 9030
A123: 118 | B123: Papa capira x 1000 gr | C123: 1 | D123: 7560 | E123: 0 | F123: =D123+(D123*E123)/100 -> 7560 | H123: 7560
A124: 119 | B124: Zanahoria x 1000 gr | C124: 1 | D124: 5565 | E124: 0 | F124: =D124+(D124*E124)/100 -> 5565 | H124: 5565
... A158: 153 | B158: pera x 1000gr | C158: 1 | D158: 11760 | E158: 0 | F158: =D158+(D158*E158)/100 -> 11760 | H158: 11760
A159: DESECHABLES | H159: 0
A160: 154 | B160: Plato de icopor Hondo 25 onzas pquete x 20unidades | C160: 1 | D160: 9355.5 | E160: 19 | F160: =D160+(D160*E160)/100 -> 11133.045 | H160: 9355.5
A161: 155 | B161: Plato de icopor pando23 cm paquete x 20unidades | C161: 1 | D161: 8845.2 | E161: 19 | F161: =D161+(D161*E161)/100 -> 10525.788 | H161: 8845.2
A162: 156 | B162: cucharas desechables 18 cm paquete x 100 unidades | C162: 1 | D162: 9355.5 | E162: 19 | F162: =D162+(D162*E162)/100 -> 11133.045 | H162: 9355.5
A163: 157 | B163: tenedores desechables 18 cm paquete x 100unidades | C163: 1 | D163: 8334.9 | E163: 19 | F163: =D163+(D163*E163)/100 -> 9918.531 | H163: 8334.9
A164: 158 | B164: vasos desechables 7 onzas paquete x 50unidades | C164: 1 | D164: 4932.9 | E164: 19 | F164: =D164+(D164*E164)/100 -> 5870.151 | H164: 4932.9
A165: 159 | B165: vasos desechables 10 onzas paquete x 50unidades | C165: 1 | D165: 5300 | E165: 19 | F165: =D165+(D165*E165)/100 -> 6307
A166: 160 | B166: bolsa transparente de kilo x 100 unidades | C166: 1 | D166: 2800 | E166: 19 | F166: =D166+(D166*E166)/100 -> 3332
A167: 161 | B167: servilletas desechables paquete x 200unidades | C167: 1 | D167: 5868.45 | E167: 19 | F167: =D167+(D167*E167)/100 -> 6983.4555 | H167: 5868.45
A168: 162 | B168: Bolsa de Cargaderas 15x25cm paquete x 100unidades | C168: 1 | D168: 26365.5 | E168: 19 | F168: =D168+(D168*E168)/100 -> 31374.945 | H168: 26365.5
A169: 163 | B169: Bolsa resellable 9x12 cm paquete x 50unidades | C169: 1 | D169: 14713.65 | E169: 19 | F169: =D169+(D169*E169)/100 -> 17509.244 | H169: 14713.65
A170: 164 | B170: Bolsa de basura paquete x 10 unidades | C170: 1 | D170: 10886.4 | E170: 19 | F170: =D170+(D170*E170)/100 -> 12954.816 | H170: 10886.4
A171: 165 | B171: bolsa de basura paquete x 100 unidades | C171: 1 | D171: 46947.6 | E171: 19 | F171: =D171+(D171*E171)/100 -> 55867.644 | H171: 46947.6
A172: 166 | B172: mezcladores de madera, paquete x 500 unidades | C172: 1 | D172: 10290 | E172: 0 | F172: =D172+(D172*E172)/100 -> 10290 | H172: 10290
A173: 167 | B173: vaso desechable 4 onzas paquete x 50 unidades | C173: 1 | D173: 3912.3 | E173: 19 | F173: =D173+(D173*E173)/100 -> 4655.637 | H173: 3912.3
A174: 168 | B174: vasos de cartón 4 onzas paquete x 20 unidades | C174: 1 | D174: 13335 | E174: 0 | F174: =D174+(D174*E174)/100 -> 13335 | H174: 13335
A175: 169 | B175: vaso de cartón 6 onzas paquete x 50 unidades | C175: 1 | D175: 17640 | E175: 0 | F175: =D175+(D175*E175)/100 -> 17640 | H175: 17640
A176: ELEMENTOS DE ASEO | H176: 0
A177: 170 | B177: Detergente en polvo 2800gr | C177: 1 | D177: 32914.35 | E177: 19 | F177: =D177+(D177*E177)/100 -> 39168.076 | H177: 32914.35
A178: 171 | B178: detergente en polvo x 500gr | C178: 1 | D178: 8845.2 | E178: 19 | F178: =D178+(D178*E178)/100 -> 10525.788 | H178: 8845.2
A179: 172 | B179: Blanqueador x 2000 ml | C179: 1 | D179: 7654.5 | E179: 19 | F179: =D179+(D179*E179)/100 -> 9108.855 | H179: 7654.5
A180: 173 | B180: blanqueador x 3800ml | C180: 1 | D180: 14968.8 | E180: 19 | F180: =D180+(D180*E180)/100 -> 17812.872 | H180: 14968.8
A181: 174 | B181: Jabon lavaplatos x 750 ml liquido | C181: 1 | D181: 19561.5 | E181: 19 | F181: =D181+(D181*E181)/100 -> 23278.185 | H181: 19561.5
A182: 175 | B182: jabón lavalosa en pasta x 1000 gr | C182: 1 | D182: 14118.3 | E182: 19 | F182: =D182+(D182*E182)/100 -> 16800.777 | H182: 14118.3
A183: 176 | B183: esponja china lavalosa x 2 unidades | C183: 1 | D183: 4932.9 | E183: 19 | F183: =D183+(D183*E183)/100 -> 5870.151 | H183: 4932.9
A184: 177 | B184: jabon en barra azul 300gr | C184: 1 | D184: 4932.9 | E184: 19 | F184: =D184+(D184*E184)/100 -> 5870.151 | H184: 4932.9
A185: 178 | B185: desinfectante para pisos 3800 ml con olor | C185: 1 | D185: 14968.8 | E185: 19 | F185: =D185+(D185*E185)/100 -> 17812.872 | H185: 14968.8
A186: 179 | B186: Resorte olla pitadora 6 lbs | C186: 1 | D186: 6090 | E186: 0 | F186: =D186+(D186*E186)/100 -> 6090 | H186: 6090
A187: 180 | B187: Toallas desechables de cocina absorventes x 90unidades | C187: 1 | D187: 14033.25 | E187: 19 | F187: =D187+(D187*E187)/100 -> 16699.568 | H187: 14033.25
A188: 181 | B188: Papel Higienico 3 hojas paca x 12unidades x 37mts cada uno | C188: 1 | D188: 29342.25 | E188: 19 | F188: =D188+(D188*E188)/100 -> 34917.277 | H188: 29342.25
... A207: 200 | B207: ambientador aerosol x 400ml | C207: 1 | D207: 16159.5 | E207: 19 | F207: =D207+(D207*E207)/100 -> 19229.805 | H207: 16159.5
A208: OTROS | H208: 0
A209: 201 | B209: Pipeta de gas propano x100 lbs | C209: 1 | D209: 349125 | E209: 0 | F209: =D209+(D209*E209)/100 -> 349125 | H209: 349125
A210: 202 | B210: Pipeta de gas propano x33 lbs | C210: 1 | D210: 144900 | E210: 0 | F210: =D210+(D210*E210)/100 -> 144900 | H210: 144900
F211: =SUM(F4:F210) -> 3412242.3

Sheet PROVEEDOR 2
A2: ÍTEM | B2: PRODUCTO | C2: CANT | D2: VALOR SIN IVA | E2: PORCENTAJE IVA % | F2: VALOR CON IVA
A3: GRANOS Y ABARROTES
A4: 1 | B4: Leche entera en polvo x 1000 gr | C4: 1 | D4: 51198 | E4: 0 | F4: =D4+(D4*E4)/100 -> 51198 | H4: 48300
A5: 2 | B5: Leche entera en polvo x 380 gr | C5: 1 | D5: 21703.5 | E5: 0 | F5: =D5+(D5*E5)/100 -> 21703.5 | H5: 20475
A6: 3 | B6: Queso blanco o campesino x 1000 gr | C6: 1 | D6: 38398.5 | E6: 0 | F6: =D6+(D6*E6)/100 -> 38398.5 | H6: 36225
A7: 4 | B7: Cuajada x 500gr | C7: 1 | D7: 21814.8 | E7: 0 | F7: =D7+(D7*E7)/100 -> 21814.8 | H7: 20580
A8: 5 | B8: Quesito x 400gr | C8: 1 | D8: 16027.2 | E8: 0 | F8: =D8+(D8*E8)/100 -> 16027.2 | H8: 15120
A9: 6 | B9: Galleta con sabor a mantequilla o queso x 450 gr | C9: 1 | D9: 14244.174 | E9: 19 | F9: =D9+(D9*E9)/100 -> 16950.567 | H9: 13437.9
A10: 7 | B10: Tostadas x 20unidades | C10: 1 | D10: 12243 | E10: 0 | F10: =D10+(D10*E10)/100 -> 12243 | H10: 11550
A11: 8 | B11: Avena en hojuelas x 200 gr | C11: 1 | D11: 4546.605 | E11: 5 | F11: =D11+(D11*E11)/100 -> 4773.9352 | H11: 4289.25
A12: 9 | B12: Avena en polvo x 200gr | C12: 1 | D12: 5075.28 | E12: 5 | F12: =D12+(D12*E12)/100 -> 5329.044 | H12: 4788
A13: 10 | B13: Pan tajado x 420 gr | C13: 1 | D13: 10239.6 | E13: 0 | F13: =D13+(D13*E13)/100 -> 10239.6 | H13: 9660
A14: 11 | B14: Pan redondo x 500 gr | C14: 1 | D14: 8792.7 | E14: 0 | F14: =D14+(D14*E14)/100 -> 8792.7 | H14: 8295
A15: 12 | B15: Chocolate en pasta x 250 gr | C15: 1 | D15: 15648.78 | E15: 5 | F15: =D15+(D15*E15)/100 -> 16431.219 | H15: 14763
... A78: 75 | B78: aromatica de panela caja x 25 sobres | C78: 1 | D78: 10187.289 | E78: 19 | F78: =D78+(D78*E78)/100 -> 12122.874 | H78: 9610.65
A79: 76 | B79: panceroti x unidad | C79: 1 | D79: 3550 | E79: 0 | F79: =D79+(D79*E79)/100 -> 3550
A80: 77 | B80: palito de queso por unidad | C80: 1 | D80: 2550 | E80: 0 | F80: =D80+(D80*E80)/100 -> 2550
A81: 78 | B81: croissant | C81: 1 | D81: 3600 | E81: 0 | F81: =D81+(D81*E81)/100 -> 3600
A82: 79 | B82: coco rayado x 500 gr | C82: 1 | D82: 22700 | E82: 19 | F82: =D82+(D82*E82)/100 -> 27013
A83: 80 | B83: leche condensada | C83: 1 | D83: 26610 | E83: 19 | F83: =D83+(D83*E83)/100 -> 31665.9
A84: 81 | B84: leche líquida x 200 ml | C84: 1 | D84: 2100 | E84: 0 | F84: =D84+(D84*E84)/100 -> 2100
A85: 82 | B85: jugo en caja pequeña x 200 ml | C85: 1 | D85: 2320 | E85: 19 | F85: =D85+(D85*E85)/100 -> 2760.8
A86: 83 | B86: escencia de vainilla x 90 ml | C86: 1 | D86: 4210 | E86: 19 | F86: =D86+(D86*E86)/100 -> 5009.9
A87: 84 | B87: queso mozzarella x 400 gr | C87: 1 | D87: 18250 | E87: 0 | F87: =D87+(D87*E87)/100 -> 18250
A88: 85 | B88: bocadillo caja x 24 unidades | C88: 1 | D88: 10350 | E88: 0 | F88: =D88+(D88*E88)/100 -> 10350
A89: CARNES | H89: 0
A90: 86 | B90: tocino de cerdo x libra | C90: 1 | D90: 19477.5 | E90: 0 | F90: =D90+(D90*E90)/100 -> 19477.5 | H90: 18375
A91: 87 | B91: hueso de cerdo x libra | C91: 1 | D91: 9460.5 | E91: 0 | F91: =D91+(D91*E91)/100 -> 9460.5 | H91: 8925
A92: 88 | B92: pierna de cerdo x libra | C92: 1 | D92: 19477.5 | E92: 0 | F92: =D92+(D92*E92)/100 -> 19477.5 | H92: 18375
A93: 89 | B93: carne de res molida x libra | C93: 1 | D93: 17808 | E93: 0 | F93: =D93+(D93*E93)/100 -> 17808 | H93: 16800
A94: 90 | B94: carne de res tres telas x libra | C94: 1 | D94: 19477.5 | E94: 0 | F94: =D94+(D94*E94)/100 -> 19477.5 | H94: 18375
A95: 91 | B95: carne de res morrillo x libra | C95: 1 | D95: 20034 | E95: 0 | F95: =D95+(D95*E95)/100 -> 20034 | H95: 18900
A96: 92 | B96: carne de res posta x libra | C96: 1 | D96: 21703.5 | E96: 0 | F96: =D96+(D96*E96)/100 -> 21703.5 | H96: 20475
A97: 93 | B97: carne huevo de aldana x libra | C97: 1 | D97: 21703.5 | E97: 0 | F97: =D97+(D97*E97)/100 -> 21703.5 | H97: 20475
A98: 94 | B98: hueso de res x libra | C98: 1 | D98: 9460.5 | E98: 0 | F98: =D98+(D98*E98)/100 -> 9460.5 | H98: 8925
A99: 95 | B99: lengua de res X libra | C99: 1 | D99: 18921 | E99: 0 | F99: =D99+(D99*E99)/100 -> 18921 | H99: 17850
A100: 96 | B100: asadura de res x libra | C100: 1 | D100: 11130 | E100: 0 | F100: =D100+(D100*E100)/100 -> 11130 | H100: 10500
A101: 97 | B101: Muslos de pollo x 1kg | C101: 1 | D101: 23929.5 | E101: 0 | F101: =D101+(D101*E101)/100 -> 23929.5 | H101: 22575
... A111: 107 | B111: bandeja de pescado en rodajas | C111: 1 | D111: 18364.5 | E111: 0 | F111: =D111+(D111*E111)/100 -> 18364.5 | H111: 17325
A112: FRUTAS VERDURAS Y LEGUMBRES | H112: 0
A113: 108 | B113: Tomate de aliño x 1000 gr | C113: 1 | D113: 9571.8 | E113: 0 | F113: =D113+(D113*E113)/100 -> 9571.8 | H113: 9030
A114: 109 | B114: Cebolla cabezona x 1000 gr | C114: 1 | D114: 9794.4 | E114: 0 | F114: =D114+(D114*E114)/100 -> 9794.4 | H114: 9240
A115: 110 | B115: Cebolla Junca x 1000 gr | C115: 1 | D115: 7234.5 | E115: 0 | F115: =D115+(D115*E115)/100 -> 7234.5 | H115: 6825
A116: 111 | B116: Ajo x cabeza | C116: 1 | D116: 19143.6 | E116: 0 | F116: =D116+(D116*E116)/100 -> 19143.6 | H116: 18060
A117: 112 | B117: Cilantro x 1000 gr | C117: 1 | D117: 15915.9 | E117: 0 | F117: =D117+(D117*E117)/100 -> 15915.9 | H117: 15015
A118: 113 | B118: Espinaca x 1000 gr | C118: 1 | D118: 8236.2 | E118: 0 | F118: =D118+(D118*E118)/100 -> 8236.2 | H118: 7770
A119: 114 | B119: Pimentón x 1000 gr | C119: 1 | D119: 12131.7 | E119: 0 | F119: =D119+(D119*E119)/100 -> 12131.7 | H119: 11445
A120: 115 | B120: Platano hartón verde x 1000 gr | C120: 1 | D120: 7568.4 | E120: 0 | F120: =D120+(D120*E120)/100 -> 7568.4 | H120: 7140
A121: 116 | B121: Platano hartón maduro x 1000 gr | C121: 1 | D121: 7568.4 | E121: 0 | F121: =D121+(D121*E121)/100 -> 7568.4 | H121: 7140
A122: 117 | B122: Papa criolla x 1000 gr | C122: 1 | D122: 9571.8 | E122: 0 | F122: =D122+(D122*E122)/100 -> 9571.8 | H122: 9030
A123: 118 | B123: Papa capira x 1000 gr | C123: 1 | D123: 8013.6 | E123: 0 | F123: =D123+(D123*E123)/100 -> 8013.6 | H123: 7560
A124: 119 | B124: Zanahoria x 1000 gr | C124: 1 | D124: 5898.9 | E124: 0 | F124: =D124+(D124*E124)/100 -> 5898.9 | H124: 5565
... A158: 153 | B158: pera x 1000gr | C158: 1 | D158: 12465.6 | E158: 0 | F158: =D158+(D158*E158)/100 -> 12465.6 | H158: 11760
A159: DESECHABLES | H159: 0
A160: 154 | B160: Plato de icopor Hondo 25 onzas pquete x 20unidades | C160: 1 | D160: 9916.83 | E160: 19 | F160: =D160+(D160*E160)/100 -> 11801.028 | H160: 9355.5
A161: 155 | B161: Plato de icopor pando23 cm paquete x 20unidades | C161: 1 | D161: 9375.912 | E161: 19 | F161: =D161+(D161*E161)/100 -> 11157.335 | H161: 8845.2
A162: 156 | B162: cucharas desechables 18 cm paquete x 100 unidades | C162: 1 | D162: 9916.83 | E162: 19 | F162: =D162+(D162*E162)/100 -> 11801.028 | H162: 9355.5
A163: 157 | B163: tenedores desechables 18 cm paquete x 100unidades | C163: 1 | D163: 8834.994 | E163: 19 | F163: =D163+(D163*E163)/100 -> 10513.643 | H163: 8334.9
A164: 158 | B164: vasos desechables 7 onzas paquete x 50unidades | C164: 1 | D164: 5228.874 | E164: 19 | F164: =D164+(D164*E164)/100 -> 6222.3601 | H164: 4932.9
A165: 159 | B165: vasos desechables 10 onzas paquete x 50unidades | C165: 1 | D165: 5350 | E165: 19 | F165: =D165+(D165*E165)/100 -> 6366.5
A166: 160 | B166: bolsa transparente de kilo x 100 unidades | C166: 1 | D166: 2892 | E166: 19 | F166: =D166+(D166*E166)/100 -> 3441.48
A167: 161 | B167: servilletas desechables paquete x 200unidades | C167: 1 | D167: 6220.557 | E167: 19 | F167: =D167+(D167*E167)/100 -> 7402.4628 | H167: 5868.45
A168: 162 | B168: Bolsa de Cargaderas 15x25cm paquete x 100unidades | C168: 1 | D168: 27947.43 | E168: 19 | F168: =D168+(D168*E168)/100 -> 33257.442 | H168: 26365.5
A169: 163 | B169: Bolsa resellable 9x12 cm paquete x 50unidades | C169: 1 | D169: 15596.469 | E169: 19 | F169: =D169+(D169*E169)/100 -> 18559.798 | H169: 14713.65
A170: 164 | B170: Bolsa de basura paquete x 10 unidades | C170: 1 | D170: 11539.584 | E170: 19 | F170: =D170+(D170*E170)/100 -> 13732.105 | H170: 10886.4
A171: 165 | B171: bolsa de basura paquete x 100 unidades | C171: 1 | D171: 49764.456 | E171: 19 | F171: =D171+(D171*E171)/100 -> 59219.703 | H171: 46947.6
A172: 166 | B172: mezcladores de madera, paquete x 500 unidades | C172: 1 | D172: 10907.4 | E172: 0 | F172: =D172+(D172*E172)/100 -> 10907.4 | H172: 10290
A173: 167 | B173: vaso desechable 4 onzas paquete x 50 unidades | C173: 1 | D173: 4147.038 | E173: 19 | F173: =D173+(D173*E173)/100 -> 4934.9752 | H173: 3912.3
A174: 168 | B174: vasos de cartón 4 onzas paquete x 20 unidades | C174: 1 | D174: 14135.1 | E174: 0 | F174: =D174+(D174*E174)/100 -> 14135.1 | H174: 13335
A175: 169 | B175: vaso de cartón 6 onzas paquete x 50 unidades | C175: 1 | D175: 18698.4 | E175: 0 | F175: =D175+(D175*E175)/100 -> 18698.4 | H175: 17640
A176: ELEMENTOS DE ASEO | H176: 0
A177: 170 | B177: Detergente en polvo 2800gr | C177: 1 | D177: 34889.211 | E177: 19 | F177: =D177+(D177*E177)/100 -> 41518.161 | H177: 32914.35
A178: 171 | B178: detergente en polvo x 500gr | C178: 1 | D178: 9375.912 | E178: 19 | F178: =D178+(D178*E178)/100 -> 11157.335 | H178: 8845.2
A179: 172 | B179: Blanqueador x 2000 ml | C179: 1 | D179: 8113.77 | E179: 19 | F179: =D179+(D179*E179)/100 -> 9655.3863 | H179: 7654.5
A180: 173 | B180: blanqueador x 3800ml | C180: 1 | D180: 15866.928 | E180: 19 | F180: =D180+(D180*E180)/100 -> 18881.644 | H180: 14968.8
A181: 174 | B181: Jabon lavaplatos x 750 ml liquido | C181: 1 | D181: 20735.19 | E181: 19 | F181: =D181+(D181*E181)/100 -> 24674.876 | H181: 19561.5
A182: 175 | B182: jabón lavalosa en pasta x 1000 gr | C182: 1 | D182: 14965.398 | E182: 19 | F182: =D182+(D182*E182)/100 -> 17808.824 | H182: 14118.3
A183: 176 | B183: esponja china lavalosa x 2 unidades | C183: 1 | D183: 5228.874 | E183: 19 | F183: =D183+(D183*E183)/100 -> 6222.3601 | H183: 4932.9
A184: 177 | B184: jabon en barra azul 300gr | C184: 1 | D184: 5228.874 | E184: 19 | F184: =D184+(D184*E184)/100 -> 6222.3601 | H184: 4932.9
A185: 178 | B185: desinfectante para pisos 3800 ml con olor | C185: 1 | D185: 15866.928 | E185: 19 | F185: =D185+(D185*E185)/100 -> 18881.644 | H185: 14968.8
A186: 179 | B186: Resorte olla pitadora 6 lbs | C186: 1 | D186: 6455.4 | E186: 0 | F186: =D186+(D186*E186)/100 -> 6455.4 | H186: 6090
A187: 180 | B187: Toallas desechables de cocina absorventes x 90unidades | C187: 1 | D187: 14875.245 | E187: 19 | F187: =D187+(D187*E187)/100 -> 17701.542 | H187: 14033.25
A188: 181 | B188: Papel Higienico 3 hojas paca x 12unidades x 37mts cada uno | C188: 1 | D188: 31102.785 | E188: 19 | F188: =D188+(D188*E188)/100 -> 37012.314 | H188: 29342.25
... A207: 200 | B207: ambientador aerosol x 400ml | C207: 1 | D207: 17129.07 | E207: 19 | F207: =D207+(D207*E207)/100 -> 20383.593 | H207: 16159.5
A208: OTROS | H208: 0
A209: 201 | B209: Pipeta de gas propano x100 lbs | C209: 1 | D209: 370072.5 | E209: 0 | F209: =D209+(D209*E209)/100 -> 370072.5 | H209: 349125
A210: 202 | B210: Pipeta de gas propano x33 lbs | C210: 1 | D210: 153594 | E210: 0 | F210: =D210+(D210*E210)/100 -> 153594 | H210: 144900
F211: =SUM(F4:F210) -> 3610499.6

Sheet CONSOLIDADO.
A1: CONSOLIDADO.
A2: ÍTEM | B2: PRODUCTO | C2: CANT | D2: VALOR SIN IVA | E2: PORCENTAJE IVA % | F2: VALOR CON IVA
A3: GRANOS Y ABARROTES
A4: 1 | B4: Leche entera en polvo x 1000 gr | C4: 1 | D4: =(('PROVEEDOR 1 CONRADO'!D4+'PROVEEDOR 2'!D4))/2 -> 49749 | E4: =(('PROVEEDOR 1 CONRADO'!E4+'PROVEEDOR 2'!E4))/2 -> 0 | F4: =(('PROVEEDOR 1 CONRADO'!F4+'PROVEEDOR 2'!F4))/2 -> 49749 | H4: 48300
A5: 2 | B5: Leche entera en polvo x 380 gr | C5: 1 | D5: =(('PROVEEDOR 1 CONRADO'!D5+'PROVEEDOR 2'!D5))/2 -> 21089.25 | E5: =(('PROVEEDOR 1 CONRADO'!E5+'PROVEEDOR 2'!E5))/2 -> 0 | F5: =(('PROVEEDOR 1 CONRADO'!F5+'PROVEEDOR 2'!F5))/2 -> 21089.25 | H5: 20475
A6: 3 | B6: Queso blanco o campesino x 1000 gr | C6: 1 | D6: =(('PROVEEDOR 1 CONRADO'!D6+'PROVEEDOR 2'!D6))/2 -> 37311.75 | E6: =(('PROVEEDOR 1 CONRADO'!E6+'PROVEEDOR 2'!E6))/2 -> 0 | F6: =(('PROVEEDOR 1 CONRADO'!F6+'PROVEEDOR 2'!F6))/2 -> 37311.75 | H6: 36225
A7: 4 | B7: Cuajada x 500gr | C7: 1 | D7: =(('PROVEEDOR 1 CONRADO'!D7+'PROVEEDOR 2'!D7))/2 -> 21197.4 | E7: =(('PROVEEDOR 1 CONRADO'!E7+'PROVEEDOR 2'!E7))/2 -> 0 | F7: =(('PROVEEDOR 1 CONRADO'!F7+'PROVEEDOR 2'!F7))/2 -> 21197.4 | H7: 20580
A8: 5 | B8: Quesito x 400gr | C8: 1 | D8: =(('PROVEEDOR 1 CONRADO'!D8+'PROVEEDOR 2'!D8))/2 -> 15573.6 | E8: =(('PROVEEDOR 1 CONRADO'!E8+'PROVEEDOR 2'!E8))/2 -> 0 | F8: =(('PROVEEDOR 1 CONRADO'!F8+'PROVEEDOR 2'!F8))/2 -> 15573.6 | H8: 15120
A9: 6 | B9: Galleta con sabor a mantequilla o queso x 450 gr | C9: 1 | D9: =(('PROVEEDOR 1 CONRADO'!D9+'PROVEEDOR 2'!D9))/2 -> 13841.037 | E9: =(('PROVEEDOR 1 CONRADO'!E9+'PROVEEDOR 2'!E9))/2 -> 19 | F9: =(('PROVEEDOR 1 CONRADO'!F9+'PROVEEDOR 2'!F9))/2 -> 16470.834 | H9: 13437.9
A10: 7 | B10: Tostadas x 20unidades | C10: 1 | D10: =(('PROVEEDOR 1 CONRADO'!D10+'PROVEEDOR 2'!D10))/2 -> 11896.5 | E10: =(('PROVEEDOR 1 CONRADO'!E10+'PROVEEDOR 2'!E10))/2 -> 0 | F10: =(('PROVEEDOR 1 CONRADO'!F10+'PROVEEDOR 2'!F10))/2 -> 11896.5 | H10: 11550
A11: 8 | B11: Avena en hojuelas x 200 gr | C11: 1 | D11: =(('PROVEEDOR 1 CONRADO'!D11+'PROVEEDOR 2'!D11))/2 -> 4417.9275 | E11: =(('PROVEEDOR 1 CONRADO'!E11+'PROVEEDOR 2'!E11))/2 -> 5 | F11: =(('PROVEEDOR 1 CONRADO'!F11+'PROVEEDOR 2'!F11))/2 -> 4638.8239 | H11: 4289.25
A12: 9 | B12: Avena en polvo x 200gr | C12: 1 | D12: =(('PROVEEDOR 1 CONRADO'!D12+'PROVEEDOR 2'!D12))/2 -> 4931.64 | E12: =(('PROVEEDOR 1 CONRADO'!E12+'PROVEEDOR 2'!E12))/2 -> 5 | F12: =(('PROVEEDOR 1 CONRADO'!F12+'PROVEEDOR 2'!F12))/2 -> 5178.222 | H12: 4788
A13: 10 | B13: Pan tajado x 420 gr | C13: 1 | D13: =(('PROVEEDOR 1 CONRADO'!D13+'PROVEEDOR 2'!D13))/2 -> 9949.8 | E13: =(('PROVEEDOR 1 CONRADO'!E13+'PROVEEDOR 2'!E13))/2 -> 0 | F13: =(('PROVEEDOR 1 CONRADO'!F13+'PROVEEDOR 2'!F13))/2 -> 9949.8 | H13: 9660
A14: 11 | B14: Pan redondo x 500 gr | C14: 1 | D14: =(('PROVEEDOR 1 CONRADO'!D14+'PROVEEDOR 2'!D14))/2 -> 8543.85 | E14: =(('PROVEEDOR 1 CONRADO'!E14+'PROVEEDOR 2'!E14))/2 -> 0 | F14: =(('PROVEEDOR 1 CONRADO'!F14+'PROVEEDOR 2'!F14))/2 -> 8543.85 | H14: 8295
A15: 12 | B15: Chocolate en pasta x 250 gr | C15: 1 | D15: =(('PROVEEDOR 1 CONRADO'!D15+'PROVEEDOR 2'!D15))/2 -> 15205.89 | E15: =(('PROVEEDOR 1 CONRADO'!E15+'PROVEEDOR 2'!E15))/2 -> 5 | F15: =(('PROVEEDOR 1 CONRADO'!F15+'PROVEEDOR 2'!F15))/2 -> 15966.184 | H15: 14763
... A78: 75 | B78: aromatica de panela caja x 25 sobres | C78: 1 | D78: =(('PROVEEDOR 1 CONRADO'!D78+'PROVEEDOR 2'!D78))/2 -> 9898.9695 | E78: =(('PROVEEDOR 1 CONRADO'!E78+'PROVEEDOR 2'!E78))/2 -> 19 | F78: =(('PROVEEDOR 1 CONRADO'!F78+'PROVEEDOR 2'!F78))/2 -> 11779.774 | H78: 9610.65
A79: 76 | B79: panceroti x unidad | C79: 1 | D79: =(('PROVEEDOR 1 CONRADO'!D79+'PROVEEDOR 2'!D79))/2 -> 3525 | E79: 0 | F79: =(('PROVEEDOR 1 CONRADO'!F79+'PROVEEDOR 2'!F79))/2 -> 3525
A80: 77 | B80: palito de queso por unidad | C80: 1 | D80: =(('PROVEEDOR 1 CONRADO'!D80+'PROVEEDOR 2'!D80))/2 -> 2525 | E80: 0 | F80: =(('PROVEEDOR 1 CONRADO'!F80+'PROVEEDOR 2'!F80))/2 -> 2525
A81: 78 | B81: croissant | C81: 1 | D81: =(('PROVEEDOR 1 CONRADO'!D81+'PROVEEDOR 2'!D81))/2 -> 3550 | E81: 0 | F81: =(('PROVEEDOR 1 CONRADO'!F81+'PROVEEDOR 2'!F81))/2 -> 3550
A82: 79 | B82: coco rayado x 500 gr | C82: 1 | D82: =(('PROVEEDOR 1 CONRADO'!D82+'PROVEEDOR 2'!D82))/2 -> 22655 | E82: 19 | F82: =(('PROVEEDOR 1 CONRADO'!F82+'PROVEEDOR 2'!F82))/2 -> 26959.45
A83: 80 | B83: leche condensada | C83: 1 | D83: =(('PROVEEDOR 1 CONRADO'!D83+'PROVEEDOR 2'!D83))/2 -> 26605 | E83: 19 | F83: =(('PROVEEDOR 1 CONRADO'!F83+'PROVEEDOR 2'!F83))/2 -> 31659.95
A84: 81 | B84: leche líquida x 200 ml | C84: 1 | D84: =(('PROVEEDOR 1 CONRADO'!D84+'PROVEEDOR 2'!D84))/2 -> 2050 | E84: 0 | F84: =(('PROVEEDOR 1 CONRADO'!F84+'PROVEEDOR 2'!F84))/2 -> 2050
A85: 82 | B85: jugo en caja pequeña x 200 ml | C85: 1 | D85: =(('PROVEEDOR 1 CONRADO'!D85+'PROVEEDOR 2'!D85))/2 -> 2310 | E85: 19 | F85: =(('PROVEEDOR 1 CONRADO'!F85+'PROVEEDOR 2'!F85))/2 -> 2748.9
A86: 83 | B86: escencia de vainilla x 90 ml | C86: 1 | D86: =(('PROVEEDOR 1 CONRADO'!D86+'PROVEEDOR 2'!D86))/2 -> 4205 | E86: 19 | F86: =(('PROVEEDOR 1 CONRADO'!F86+'PROVEEDOR 2'!F86))/2 -> 5003.95
A87: 84 | B87: queso mozzarella x 400 gr | C87: 1 | D87: =(('PROVEEDOR 1 CONRADO'!D87+'PROVEEDOR 2'!D87))/2 -> 18225 | E87: 0 | F87: =(('PROVEEDOR 1 CONRADO'!F87+'PROVEEDOR 2'!F87))/2 -> 18225
A88: 85 | B88: bocadillo caja x 24 unidades | C88: 1 | D88: =(('PROVEEDOR 1 CONRADO'!D88+'PROVEEDOR 2'!D88))/2 -> 10325 | E88: 0 | F88: =(('PROVEEDOR 1 CONRADO'!F88+'PROVEEDOR 2'!F88))/2 -> 10325
A89: CARNES | H89: 0
A90: 86 | B90: tocino de cerdo x libra | C90: 1 | D90: =(('PROVEEDOR 1 CONRADO'!D90+'PROVEEDOR 2'!D90))/2 -> 18926.25 | E90: =(('PROVEEDOR 1 CONRADO'!E90+'PROVEEDOR 2'!E90))/2 -> 0 | F90: =(('PROVEEDOR 1 CONRADO'!F90+'PROVEEDOR 2'!F90))/2 -> 18926.25 | H90: 18375
A91: 87 | B91: hueso de cerdo x libra | C91: 1 | D91: =(('PROVEEDOR 1 CONRADO'!D91+'PROVEEDOR 2'!D91))/2 -> 9192.75 | E91: =(('PROVEEDOR 1 CONRADO'!E91+'PROVEEDOR 2'!E91))/2 -> 0 | F91: =(('PROVEEDOR 1 CONRADO'!F91+'PROVEEDOR 2'!F91))/2 -> 9192.75 | H91: 8925
A92: 88 | B92: pierna de cerdo x libra | C92: 1 | D92: =(('PROVEEDOR 1 CONRADO'!D92+'PROVEEDOR 2'!D92))/2 -> 18926.25 | E92: =(('PROVEEDOR 1 CONRADO'!E92+'PROVEEDOR 2'!E92))/2 -> 0 | F92: =(('PROVEEDOR 1 CONRADO'!F92+'PROVEEDOR 2'!F92))/2 -> 18926.25 | H92: 18375
A93: 89 | B93: carne de res molida x libra | C93: 1 | D93: =(('PROVEEDOR 1 CONRADO'!D93+'PROVEEDOR 2'!D93))/2 -> 17304 | E93: =(('PROVEEDOR 1 CONRADO'!E93+'PROVEEDOR 2'!E93))/2 -> 0 | F93: =(('PROVEEDOR 1 CONRADO'!F93+'PROVEEDOR 2'!F93))/2 -> 17304 | H93: 16800
A94: 90 | B94: carne de res tres telas x libra | C94: 1 | D94: =(('PROVEEDOR 1 CONRADO'!D94+'PROVEEDOR 2'!D94))/2 -> 18926.25 | E94: =(('PROVEEDOR 1 CONRADO'!E94+'PROVEEDOR 2'!E94))/2 -> 0 | F94: =(('PROVEEDOR 1 CONRADO'!F94+'PROVEEDOR 2'!F94))/2 -> 18926.25 | H94: 18375
A95: 91 | B95: carne de res morrillo x libra | C95: 1 | D95: =(('PROVEEDOR 1 CONRADO'!D95+'PROVEEDOR 2'!D95))/2 -> 19467 | E95: =(('PROVEEDOR 1 CONRADO'!E95+'PROVEEDOR 2'!E95))/2 -> 0 | F95: =(('PROVEEDOR 1 CONRADO'!F95+'PROVEEDOR 2'!F95))/2 -> 19467 | H95: 18900
A96: 92 | B96: carne de res posta x libra | C96: 1 | D96: =(('PROVEEDOR 1 CONRADO'!D96+'PROVEEDOR 2'!D96))/2 -> 21089.25 | E96: =(('PROVEEDOR 1 CONRADO'!E96+'PROVEEDOR 2'!E96))/2 -> 0 | F96: =(('PROVEEDOR 1 CONRADO'!F96+'PROVEEDOR 2'!F96))/2 -> 21089.25 | H96: 20475
A97: 93 | B97: carne huevo de aldana x libra | C97: 1 | D97: =(('PROVEEDOR 1 CONRADO'!D97+'PROVEEDOR 2'!D97))/2 -> 21089.25 | E97: =(('PROVEEDOR 1 CONRADO'!E97+'PROVEEDOR 2'!E97))/2 -> 0 | F97: =(('PROVEEDOR 1 CONRADO'!F97+'PROVEEDOR 2'!F97))/2 -> 21089.25 | H97: 20475
A98: 94 | B98: hueso de res x libra | C98: 1 | D98: =(('PROVEEDOR 1 CONRADO'!D98+'PROVEEDOR 2'!D98))/2 -> 9192.75 | E98: =(('PROVEEDOR 1 CONRADO'!E98+'PROVEEDOR 2'!E98))/2 -> 0 | F98: =(('PROVEEDOR 1 CONRADO'!F98+'PROVEEDOR 2'!F98))/2 -> 9192.75 | H98: 8925
A99: 95 | B99: lengua de res X libra | C99: 1 | D99: =(('PROVEEDOR 1 CONRADO'!D99+'PROVEEDOR 2'!D99))/2 -> 18385.5 | E99: =(('PROVEEDOR 1 CONRADO'!E99+'PROVEEDOR 2'!E99))/2 -> 0 | F99: =(('PROVEEDOR 1 CONRADO'!F99+'PROVEEDOR 2'!F99))/2 -> 18385.5 | H99: 17850
A100: 96 | B100: asadura de res x libra | C100: 1 | D100: =(('PROVEEDOR 1 CONRADO'!D100+'PROVEEDOR 2'!D100))/2 -> 10815 | E100: =(('PROVEEDOR 1 CONRADO'!E100+'PROVEEDOR 2'!E100))/2 -> 0 | F100: =(('PROVEEDOR 1 CONRADO'!F100+'PROVEEDOR 2'!F100))/2 -> 10815 | H100: 10500
A101: 97 | B101: Muslos de pollo x 1kg | C101: 1 | D101: =(('PROVEEDOR 1 CONRADO'!D101+'PROVEEDOR 2'!D101))/2 -> 23252.25 | E101: =(('PROVEEDOR 1 CONRADO'!E101+'PROVEEDOR 2'!E101))/2 -> 0 | F101: =(('PROVEEDOR 1 CONRADO'!F101+'PROVEEDOR 2'!F101))/2 -> 23252.25 | H101: 22575
... A111: 107 | B111: bandeja de pescado en rodajas | C111: 1 | D111: =(('PROVEEDOR 1 CONRADO'!D111+'PROVEEDOR 2'!D111))/2 -> 17844.75 | E111: =(('PROVEEDOR 1 CONRADO'!E111+'PROVEEDOR 2'!E111))/2 -> 0 | F111: =(('PROVEEDOR 1 CONRADO'!F111+'PROVEEDOR 2'!F111))/2 -> 17844.75 | H111: 17325
A112: FRUTAS VERDURAS Y LEGUMBRES | H112: 0
A113: 108 | B113: Tomate de aliño x 1000 gr | C113: 1 | D113: =(('PROVEEDOR 1 CONRADO'!D113+'PROVEEDOR 2'!D113))/2 -> 9300.9 | E113: =(('PROVEEDOR 1 CONRADO'!E113+'PROVEEDOR 2'!E113))/2 -> 0 | F113: =(('PROVEEDOR 1 CONRADO'!F113+'PROVEEDOR 2'!F113))/2 -> 9300.9 | H113: 9030
A114: 109 | B114: Cebolla cabezona x 1000 gr | C114: 1 | D114: =(('PROVEEDOR 1 CONRADO'!D114+'PROVEEDOR 2'!D114))/2 -> 9517.2 | E114: =(('PROVEEDOR 1 CONRADO'!E114+'PROVEEDOR 2'!E114))/2 -> 0 | F114: =(('PROVEEDOR 1 CONRADO'!F114+'PROVEEDOR 2'!F114))/2 -> 9517.2 | H114: 9240
A115: 110 | B115: Cebolla Junca x 1000 gr | C115: 1 | D115: =(('PROVEEDOR 1 CONRADO'!D115+'PROVEEDOR 2'!D115))/2 -> 7029.75 | E115: =(('PROVEEDOR 1 CONRADO'!E115+'PROVEEDOR 2'!E115))/2 -> 0 | F115: =(('PROVEEDOR 1 CONRADO'!F115+'PROVEEDOR 2'!F115))/2 -> 7029.75 | H115: 6825
A116: 111 | B116: Ajo x cabeza | C116: 1 | D116: =(('PROVEEDOR 1 CONRADO'!D116+'PROVEEDOR 2'!D116))/2 -> 18601.8 | E116: =(('PROVEEDOR 1 CONRADO'!E116+'PROVEEDOR 2'!E116))/2 -> 0 | F116: =(('PROVEEDOR 1 CONRADO'!F116+'PROVEEDOR 2'!F116))/2 -> 18601.8 | H116: 18060
A117: 112 | B117: Cilantro x 1000 gr | C117: 1 | D117: =(('PROVEEDOR 1 CONRADO'!D117+'PROVEEDOR 2'!D117))/2 -> 15465.45 | E117: =(('PROVEEDOR 1 CONRADO'!E117+'PROVEEDOR 2'!E117))/2 -> 0 | F117: =(('PROVEEDOR 1 CONRADO'!F117+'PROVEEDOR 2'!F117))/2 -> 15465.45 | H117: 15015
A118: 113 | B118: Espinaca x 1000 gr | C118: 1 | D118: =(('PROVEEDOR 1 CONRADO'!D118+'PROVEEDOR 2'!D118))/2 -> 8003.1 | E118: =(('PROVEEDOR 1 CONRADO'!E118+'PROVEEDOR 2'!E118))/2 -> 0 | F118: =(('PROVEEDOR 1 CONRADO'!F118+'PROVEEDOR 2'!F118))/2 -> 8003.1 | H118: 7770
A119: 114 | B119: Pimentón x 1000 gr | C119: 1 | D119: =(('PROVEEDOR 1 CONRADO'!D119+'PROVEEDOR 2'!D119))/2 -> 11788.35 | E119: =(('PROVEEDOR 1 CONRADO'!E119+'PROVEEDOR 2'!E119))/2 -> 0 | F119: =(('PROVEEDOR 1 CONRADO'!F119+'PROVEEDOR 2'!F119))/2 -> 11788.35 | H119: 11445
A120: 115 | B120: Platano hartón verde x 1000 gr | C120: 1 | D120: =(('PROVEEDOR 1 CONRADO'!D120+'PROVEEDOR 2'!D120))/2 -> 7354.2 | E120: =(('PROVEEDOR 1 CONRADO'!E120+'PROVEEDOR 2'!E120))/2 -> 0 | F120: =(('PROVEEDOR 1 CONRADO'!F120+'PROVEEDOR 2'!F120))/2 -> 7354.2 | H120: 7140
A121: 116 | B121: Platano hartón maduro x 1000 gr | C121: 1 | D121: =(('PROVEEDOR 1 CONRADO'!D121+'PROVEEDOR 2'!D121))/2 -> 7354.2 | E121: =(('PROVEEDOR 1 CONRADO'!E121+'PROVEEDOR 2'!E121))/2 -> 0 | F121: =(('PROVEEDOR 1 CONRADO'!F121+'PROVEEDOR 2'!F121))/2 -> 7354.2 | H121: 7140
A122: 117 | B122: Papa criolla x 1000 gr | C122: 1 | D122: =(('PROVEEDOR 1 CONRADO'!D122+'PROVEEDOR 2'!D122))/2 -> 9300.9 | E122: =(('PROVEEDOR 1 CONRADO'!E122+'PROVEEDOR 2'!E122))/2 -> 0 | F122: =(('PROVEEDOR 1 CONRADO'!F122+'PROVEEDOR 2'!F122))/2 -> 9300.9 | H122: 9030
A123: 118 | B123: Papa capira x 1000 gr | C123: 1 | D123: =(('PROVEEDOR 1 CONRADO'!D123+'PROVEEDOR 2'!D123))/2 -> 7786.8 | E123: =(('PROVEEDOR 1 CONRADO'!E123+'PROVEEDOR 2'!E123))/2 -> 0 | F123: =(('PROVEEDOR 1 CONRADO'!F123+'PROVEEDOR 2'!F123))/2 -> 7786.8 | H123: 7560
A124: 119 | B124: Zanahoria x 1000 gr | C124: 1 | D124: =(('PROVEEDOR 1 CONRADO'!D124+'PROVEEDOR 2'!D124))/2 -> 5731.95 | E124: =(('PROVEEDOR 1 CONRADO'!E124+'PROVEEDOR 2'!E124))/2 -> 0 | F124: =(('PROVEEDOR 1 CONRADO'!F124+'PROVEEDOR 2'!F124))/2 -> 5731.95 | H124: 5565
... A158: 153 | B158: pera x 1000gr | C158: 1 | D158: =(('PROVEEDOR 1 CONRADO'!D158+'PROVEEDOR 2'!D158))/2 -> 12112.8 | E158: =(('PROVEEDOR 1 CONRADO'!E158+'PROVEEDOR 2'!E158))/2 -> 0 | F158: =(('PROVEEDOR 1 CONRADO'!F158+'PROVEEDOR 2'!F158))/2 -> 12112.8 | H158: 11760
A159: DESECHABLES | H159: 0
A160: 154 | B160: Plato de icopor Hondo 25 onzas pquete x 20unidades | C160: 1 | D160: =(('PROVEEDOR 1 CONRADO'!D160+'PROVEEDOR 2'!D160))/2 -> 9636.165 | E160: =(('PROVEEDOR 1 CONRADO'!E160+'PROVEEDOR 2'!E160))/2 -> 19 | F160: =(('PROVEEDOR 1 CONRADO'!F160+'PROVEEDOR 2'!F160))/2 -> 11467.036 | H160: 9355.5
A161: 155 | B161: Plato de icopor pando23 cm paquete x 20unidades | C161: 1 | D161: =(('PROVEEDOR 1 CONRADO'!D161+'PROVEEDOR 2'!D161))/2 -> 9110.556 | E161: =(('PROVEEDOR 1 CONRADO'!E161+'PROVEEDOR 2'!E161))/2 -> 19 | F161: =(('PROVEEDOR 1 CONRADO'!F161+'PROVEEDOR 2'!F161))/2 -> 10841.562 | H161: 8845.2
A162: 156 | B162: cucharas desechables 18 cm paquete x 100 unidades | C162: 1 | D162: =(('PROVEEDOR 1 CONRADO'!D162+'PROVEEDOR 2'!D162))/2 -> 9636.165 | E162: =(('PROVEEDOR 1 CONRADO'!E162+'PROVEEDOR 2'!E162))/2 -> 19 | F162: =(('PROVEEDOR 1 CONRADO'!F162+'PROVEEDOR 2'!F162))/2 -> 11467.036 | H162: 9355.5
A163: 157 | B163: tenedores desechables 18 cm paquete x 100unidades | C163: 1 | D163: =(('PROVEEDOR 1 CONRADO'!D163+'PROVEEDOR 2'!D163))/2 -> 8584.947 | E163: =(('PROVEEDOR 1 CONRADO'!E163+'PROVEEDOR 2'!E163))/2 -> 19 | F163: =(('PROVEEDOR 1 CONRADO'!F163+'PROVEEDOR 2'!F163))/2 -> 10216.087 | H163: 8334.9
A164: 158 | B164: vasos desechables 7onzas paquete x 50unidades | C164: 1 | D164: =(('PROVEEDOR 1 CONRADO'!D164+'PROVEEDOR 2'!D164))/2 -> 5080.887 | E164: =(('PROVEEDOR 1 CONRADO'!E164+'PROVEEDOR 2'!E164))/2 -> 19 | F164: =(('PROVEEDOR 1 CONRADO'!F164+'PROVEEDOR 2'!F164))/2 -> 6046.2555 | H164: 4932.9
A165: 159 | B165: vasos desechables 10 onzas paquete x 50unidades | C165: 1 | D165: =(('PROVEEDOR 1 CONRADO'!D165+'PROVEEDOR 2'!D165))/2 -> 5325 | E165: =(('PROVEEDOR 1 CONRADO'!E165+'PROVEEDOR 2'!E165))/2 -> 19 | F165: =(('PROVEEDOR 1 CONRADO'!F165+'PROVEEDOR 2'!F165))/2 -> 6336.75
A166: 160 | B166: bolsa transparente de kilo x 100 unidades | C166: 1 | D166: =(('PROVEEDOR 1 CONRADO'!D166+'PROVEEDOR 2'!D166))/2 -> 2846 | E166: =(('PROVEEDOR 1 CONRADO'!E166+'PROVEEDOR 2'!E166))/2 -> 19 | F166: =(('PROVEEDOR 1 CONRADO'!F166+'PROVEEDOR 2'!F166))/2 -> 3386.74
A167: 161 | B167: servilletas desechables paquete x 200unidades | C167: 1 | D167: =(('PROVEEDOR 1 CONRADO'!D167+'PROVEEDOR 2'!D167))/2 -> 6044.5035 | E167: =(('PROVEEDOR 1 CONRADO'!E167+'PROVEEDOR 2'!E167))/2 -> 19 | F167: =(('PROVEEDOR 1 CONRADO'!F167+'PROVEEDOR 2'!F167))/2 -> 7192.9592 | H167: 5868.45
A168: 162 | B168: Bolsa de Cargaderas 15x25cm paquete x 100unidades | C168: 1 | D168: =(('PROVEEDOR 1 CONRADO'!D168+'PROVEEDOR 2'!D168))/2 -> 27156.465 | E168: =(('PROVEEDOR 1 CONRADO'!E168+'PROVEEDOR 2'!E168))/2 -> 19 | F168: =(('PROVEEDOR 1 CONRADO'!F168+'PROVEEDOR 2'!F168))/2 -> 32316.193 | H168: 26365.5
A169: 163 | B169: Bolsa resellable 9x12 cm paquete x 50unidades | C169: 1 | D169: =(('PROVEEDOR 1 CONRADO'!D169+'PROVEEDOR 2'!D169))/2 -> 15155.059 | E169: =(('PROVEEDOR 1 CONRADO'!E169+'PROVEEDOR 2'!E169))/2 -> 19 | F169: =(('PROVEEDOR 1 CONRADO'!F169+'PROVEEDOR 2'!F169))/2 -> 18034.521 | H169: 14713.65
A170: 164 | B170: Bolsa de basura paquete x 10 unidades | C170: 1 | D170: =(('PROVEEDOR 1 CONRADO'!D170+'PROVEEDOR 2'!D170))/2 -> 11212.992 | E170: =(('PROVEEDOR 1 CONRADO'!E170+'PROVEEDOR 2'!E170))/2 -> 19 | F170: =(('PROVEEDOR 1 CONRADO'!F170+'PROVEEDOR 2'!F170))/2 -> 13343.46 | H170: 10886.4
A171: 165 | B171: bolsa de basura paquete x 100 unidades | C171: 1 | D171: =(('PROVEEDOR 1 CONRADO'!D171+'PROVEEDOR 2'!D171))/2 -> 48356.028 | E171: =(('PROVEEDOR 1 CONRADO'!E171+'PROVEEDOR 2'!E171))/2 -> 19 | F171: =(('PROVEEDOR 1 CONRADO'!F171+'PROVEEDOR 2'!F171))/2 -> 57543.673 | H171: 46947.6
A172: 166 | B172: mezcladores de madera, paquete x 500 unidades | C172: 1 | D172: =(('PROVEEDOR 1 CONRADO'!D172+'PROVEEDOR 2'!D172))/2 -> 10598.7 | E172: =(('PROVEEDOR 1 CONRADO'!E172+'PROVEEDOR 2'!E172))/2 -> 0 | F172: =(('PROVEEDOR 1 CONRADO'!F172+'PROVEEDOR 2'!F172))/2 -> 10598.7 | H172: 10290
A173: 167 | B173: vaso desechable 4 onzas paquete x 50 unidades | C173: 1 | D173: =(('PROVEEDOR 1 CONRADO'!D173+'PROVEEDOR 2'!D173))/2 -> 4029.669 | E173: =(('PROVEEDOR 1 CONRADO'!E173+'PROVEEDOR 2'!E173))/2 -> 19 | F173: =(('PROVEEDOR 1 CONRADO'!F173+'PROVEEDOR 2'!F173))/2 -> 4795.3061 | H173: 3912.3
A174: 168 | B174: vasos de cartón 4 onzas paquete x 20 unidades | C174: 1 | D174: =(('PROVEEDOR 1 CONRADO'!D174+'PROVEEDOR 2'!D174))/2 -> 13735.05 | E174: =(('PROVEEDOR 1 CONRADO'!E174+'PROVEEDOR 2'!E174))/2 -> 0 | F174: =(('PROVEEDOR 1 CONRADO'!F174+'PROVEEDOR 2'!F174))/2 -> 13735.05 | H174: 13335
A175: 169 | B175: vaso de cartón 6 onzas paquete x 50 unidades | C175: 1 | D175: =(('PROVEEDOR 1 CONRADO'!D175+'PROVEEDOR 2'!D175))/2 -> 18169.2 | E175: =(('PROVEEDOR 1 CONRADO'!E175+'PROVEEDOR 2'!E175))/2 -> 0 | F175: =(('PROVEEDOR 1 CONRADO'!F175+'PROVEEDOR 2'!F175))/2 -> 18169.2 | H175: 17640
A176: ELEMENTOS DE ASEO | H176: 0
A177: 170 | B177: Detergente en polvo 2800gr | C177: 1 | D177: =(('PROVEEDOR 1 CONRADO'!D177+'PROVEEDOR 2'!D177))/2 -> 33901.78 | E177: =(('PROVEEDOR 1 CONRADO'!E177+'PROVEEDOR 2'!E177))/2 -> 19 | F177: =(('PROVEEDOR 1 CONRADO'!F177+'PROVEEDOR 2'!F177))/2 -> 40343.119 | H177: 32914.35
A178: 171 | B178: detergente en polvo x 500gr | C178: 1 | D178: =(('PROVEEDOR 1 CONRADO'!D178+'PROVEEDOR 2'!D178))/2 -> 9110.556 | E178: =(('PROVEEDOR 1 CONRADO'!E178+'PROVEEDOR 2'!E178))/2 -> 19 | F178: =(('PROVEEDOR 1 CONRADO'!F178+'PROVEEDOR 2'!F178))/2 -> 10841.562 | H178: 8845.2
A179: 172 | B179: Blanqueador x 2000 ml | C179: 1 | D179: =(('PROVEEDOR 1 CONRADO'!D179+'PROVEEDOR 2'!D179))/2 -> 7884.135 | E179: =(('PROVEEDOR 1 CONRADO'!E179+'PROVEEDOR 2'!E179))/2 -> 19 | F179: =(('PROVEEDOR 1 CONRADO'!F179+'PROVEEDOR 2'!F179))/2 -> 9382.1207 | H179: 7654.5
A180: 173 | B180: blanqueador x 3800ml | C180: 1 | D180: =(('PROVEEDOR 1 CONRADO'!D180+'PROVEEDOR 2'!D180))/2 -> 15417.864 | E180: =(('PROVEEDOR 1 CONRADO'!E180+'PROVEEDOR 2'!E180))/2 -> 19 | F180: =(('PROVEEDOR 1 CONRADO'!F180+'PROVEEDOR 2'!F180))/2 -> 18347.258 | H180: 14968.8
A181: 174 | B181: Jabon lavaplatos x 750 ml liquido | C181: 1 | D181: =(('PROVEEDOR 1 CONRADO'!D181+'PROVEEDOR 2'!D181))/2 -> 20148.345 | E181: =(('PROVEEDOR 1 CONRADO'!E181+'PROVEEDOR 2'!E181))/2 -> 19 | F181: =(('PROVEEDOR 1 CONRADO'!F181+'PROVEEDOR 2'!F181))/2 -> 23976.531 | H181: 19561.5
A182: 175 | B182: jabón lavalosa en pasta x 1000 gr | C182: 1 | D182: =(('PROVEEDOR 1 CONRADO'!D182+'PROVEEDOR 2'!D182))/2 -> 14541.849 | E182: =(('PROVEEDOR 1 CONRADO'!E182+'PROVEEDOR 2'!E182))/2 -> 19 | F182: =(('PROVEEDOR 1 CONRADO'!F182+'PROVEEDOR 2'!F182))/2 -> 17304.8 | H182: 14118.3
A183: 176 | B183: esponja china lavalosa x 2 unidades | C183: 1 | D183: =(('PROVEEDOR 1 CONRADO'!D183+'PROVEEDOR 2'!D183))/2 -> 5080.887 | E183: =(('PROVEEDOR 1 CONRADO'!E183+'PROVEEDOR 2'!E183))/2 -> 19 | F183: =(('PROVEEDOR 1 CONRADO'!F183+'PROVEEDOR 2'!F183))/2 -> 6046.2555 | H183: 4932.9
A184: 177 | B184: jabon en barra azul 300gr | C184: 1 | D184: =(('PROVEEDOR 1 CONRADO'!D184+'PROVEEDOR 2'!D184))/2 -> 5080.887 | E184: =(('PROVEEDOR 1 CONRADO'!E184+'PROVEEDOR 2'!E184))/2 -> 19 | F184: =(('PROVEEDOR 1 CONRADO'!F184+'PROVEEDOR 2'!F184))/2 -> 6046.2555 | H184: 4932.9
A185: 178 | B185: desinfectante para pisos 3800 ml con olor | C185: 1 | D185: =(('PROVEEDOR 1 CONRADO'!D185+'PROVEEDOR 2'!D185))/2 -> 15417.864 | E185: =(('PROVEEDOR 1 CONRADO'!E185+'PROVEEDOR 2'!E185))/2 -> 19 | F185: =(('PROVEEDOR 1 CONRADO'!F185+'PROVEEDOR 2'!F185))/2 -> 18347.258 | H185: 14968.8
A186: 179 | B186: Resorte olla pitadora 6 lbs | C186: 1 | D186: =(('PROVEEDOR 1 CONRADO'!D186+'PROVEEDOR 2'!D186))/2 -> 6272.7 | E186: =(('PROVEEDOR 1 CONRADO'!E186+'PROVEEDOR 2'!E186))/2 -> 0 | F186: =(('PROVEEDOR 1 CONRADO'!F186+'PROVEEDOR 2'!F186))/2 -> 6272.7 | H186: 6090
A187: 180 | B187: Toallas desechables de cocina absorventes x 90unidades | C187: 1 | D187: =(('PROVEEDOR 1 CONRADO'!D187+'PROVEEDOR 2'!D187))/2 -> 14454.248 | E187: =(('PROVEEDOR 1 CONRADO'!E187+'PROVEEDOR 2'!E187))/2 -> 19 | F187: =(('PROVEEDOR 1 CONRADO'!F187+'PROVEEDOR 2'!F187))/2 -> 17200.555 | H187: 14033.25
A188: 181 | B188: Papel Higienico 3 hojas paca x 12unidades x 37mts cada uno | C188: 1 | D188: =(('PROVEEDOR 1 CONRADO'!D188+'PROVEEDOR 2'!D188))/2 -> 30222.518 | E188: =(('PROVEEDOR 1 CONRADO'!E188+'PROVEEDOR 2'!E188))/2 -> 19 | F188: =(('PROVEEDOR 1 CONRADO'!F188+'PROVEEDOR 2'!F188))/2 -> 35964.796 | H188: 29342.25
... A207: 200 | B207: ambientador aerosol x 400ml | C207: 1 | D207: =(('PROVEEDOR 1 CONRADO'!D207+'PROVEEDOR 2'!D207))/2 -> 16644.285 | E207: =(('PROVEEDOR 1 CONRADO'!E207+'PROVEEDOR 2'!E207))/2 -> 19 | F207: =(('PROVEEDOR 1 CONRADO'!F207+'PROVEEDOR 2'!F207))/2 -> 19806.699 | H207: 16159.5
A208: OTROS | H208: 0
A209: 201 | B209: Pipeta de gas propano x100 lbs | C209: 1 | D209: =(('PROVEEDOR 1 CONRADO'!D209+'PROVEEDOR 2'!D209))/2 -> 359598.75 | E209: =(('PROVEEDOR 1 CONRADO'!E209+'PROVEEDOR 2'!E209))/2 -> 0 | F209: =(('PROVEEDOR 1 CONRADO'!F209+'PROVEEDOR 2'!F209))/2 -> 359598.75 | H209: 349125
A210: 202 | B210: Pipeta de gas propano x33 lbs | C210: 1 | D210: =(('PROVEEDOR 1 CONRADO'!D210+'PROVEEDOR 2'!D210))/2 -> 149247 | E210: =(('PROVEEDOR 1 CONRADO'!E210+'PROVEEDOR 2'!E210))/2 -> 0 | F210: =(('PROVEEDOR 1 CONRADO'!F210+'PROVEEDOR 2'!F210))/2 -> 149247 | H210: 144900
F211: =SUM(F4:F210) -> 3511371
