Workbook
Name _Toc140149825_1: [1]JURIDICA!#REF!
Name _Toc140149825_59: #REF!
Name _Toc140149825_59: #REF!
Name _Toc142149825_60: #REF!
Name _Toc142149825_60: #REF!
Name AMOR: [1]JURIDICA!#REF!
Name bg: #REF!
Name BuiltIn_Print_Area: [2]sustraccion!#REF!
Name BuiltIn_Print_Titles: #REF!
Name BuiltIn_Print_Titles___0: '[2]cte debil'!#REF!
Name duplica: #REF!
Name FFFFFFF: #REF!
Name FFFFFFF: #REF!
Name g: [1]JURIDICA!#REF!
Name GENERAL: [1]JURIDICA!#REF!
Name GG: [1]JURIDICA!#REF!
Name GGGGGG: #REF!
Name GGGGGG: #REF!
Name GVQ: #REF!
Name opcion2: '[3]CUADRO RESUMEN'!$L$21
Name opcion3: '[3]CUADRO RESUMEN'!$L$22
Name opcion4: '[3]CUADRO RESUMEN'!$L$23
Name opcion5: '[3]CUADRO RESUMEN'!$L$24
Name opcion6: '[3]CUADRO RESUMEN'!$L$25

Sheet CONSOLIDADO
A1: MUNICIPIO DE FACATATIVÁ
A2: BIENES MUEBLES E INMUEBLES
A3: EDIFICIOS
A4: EDIFICACIONES (TOTAL) | C4: =+EDIFICACIONES!E212 -> 2.2811343e+11 | E4: =+C4+SUM(C10:C21) -> 2.4950659e+11
A5: COB. TERRENOS | C5: =+INT(C4*0.05) -> 11405671389
A6: AD. NORMAS SISMORRESISTENCIA | C6: =+INT(C4*0.1) -> 22811342779
A8: BIENES
A9: DETALLE | C9: COMODATO - OBSERVACIÓN
A10: EQ. ELÉCTRICO ELECTRÓNICO | C10: 6.9685285e+09 | E10: 5964554227
A11: EQUIPOS ELÉCTRICOS-ELECTRÓNICOS MOVIL Y PORTATIL | C11: 3.7812739e+09
A12: SOFTWARE | C12: 455000000
A13: TOTAL MAQUINARIA - HERRAMIENTAS | C13: 2500000000 | E13: 175372552
A14: MUEBLES Y ENSERES - CONTENIDOS | C14: 4500000000
A15: CONTENIDOS ESPECIALES | C15: 200000000
A16: VEHICULOS REPOSO | C16: =+'AUTOS REPOSO'!G22+'AUTOS REPOSO'!G32 -> 740000000
A17: EQUIPO MÉDICO | C17: 350000000
A18: VACUNAS | C18: 100000000
A19: DINERO | C19: 20000000
A20: MERCANCÍAS | C20: 750000000
A21: INSTRUMENTACIÓN MUSICAL - OTROS STR | C21: 1028363848
A23: VEHÍCULOS
A24: DESCRIPCIÓN | B24: SOAT - VENC | C24: VALOR
A25: =+'AUTOS '!C6&" "&'AUTOS '!A6&" "&'AUTOS '!B6&" "&'AUTOS '!E6&" "&'AUTOS '!F6 -> MOTOCARRO AKT AK 180 ZW 2014 789ABA | B25: =+'SOAT '!G6 -> 46496 | C25: =+'AUTOS '!G6 -> 6100000
A26: =+'AUTOS '!C7&" "&'AUTOS '!A7&" "&'AUTOS '!B7&" "&'AUTOS '!E7&" "&'AUTOS '!F7 -> MOTOCICLETA HONDA ECO DELUXE 100CC 2013 IQG09C | B26: =+'SOAT '!G7 -> 46351 | C26: =+'AUTOS '!G7 -> 2300000
A27: =+'AUTOS '!C8&" "&'AUTOS '!A8&" "&'AUTOS '!B8&" "&'AUTOS '!E8&" "&'AUTOS '!F8 -> MOTOCICLETA HONDA ECO DELUXE MEC 100 CC 2013 IQG10C | B27: =+'SOAT '!G8 -> 46229 | C27: =+'AUTOS '!G8 -> 2300000
A28: =+'AUTOS '!C9&" "&'AUTOS '!A9&" "&'AUTOS '!B9&" "&'AUTOS '!E9&" "&'AUTOS '!F9 -> MOTOCICLETA SUZUKI GS 150R 2015 CTN46C | B28: =+'SOAT '!G9 -> 45864 | C28: =+'AUTOS '!G9 -> 4300000
A29: =+'AUTOS '!C10&" "&'AUTOS '!A10&" "&'AUTOS '!B10&" "&'AUTOS '!E10&" "&'AUTOS '!F10 -> MOTOCICLETA SUZUKI BEST.125 BEST.125 2006 WML78A | B29: =+'SOAT '!G10 -> 46484 | C29: =+'AUTOS '!G10 -> 2400000
A30: =+'AUTOS '!C11&" "&'AUTOS '!A11&" "&'AUTOS '!B11&" "&'AUTOS '!E11&" "&'AUTOS '!F11 -> MOTOCICLETA SUZUKI GN.125.H 125CC GN 125 2006 WMH24A | B30: =+'SOAT '!G11 -> 46355 | C30: =+'AUTOS '!G11 -> 1700000
A31: =+'AUTOS '!C12&" "&'AUTOS '!A12&" "&'AUTOS '!B12&" "&'AUTOS '!E12&" "&'AUTOS '!F12 -> MOTOCICLETA SUZUKI AX4 2014 IQG94C | B31: =+'SOAT '!G12 -> 46496 | C31: =+'AUTOS '!G12 -> 2200000
A32: =+'AUTOS '!C13&" "&'AUTOS '!A13&" "&'AUTOS '!B13&" "&'AUTOS '!E13&" "&'AUTOS '!F13 -> MOTOCARRO AKT CARGUERO 200 ZW [BAJO] MT 200CC 2019 571ABP | B32: =+'SOAT '!G13 -> 46453 | C32: =+'AUTOS '!G13 -> 10300000
A33: =+'AUTOS '!C14&" "&'AUTOS '!A14&" "&'AUTOS '!B14&" "&'AUTOS '!E14&" "&'AUTOS '!F14 -> MOTOCICLETA YAMAHA XTZ125 2019 IQN24C | B33: =+'SOAT '!G14 -> 46480 | C33: =+'AUTOS '!G14 -> 6200000
A34: =+'AUTOS '!C15&" "&'AUTOS '!A15&" "&'AUTOS '!B15&" "&'AUTOS '!E15&" "&'AUTOS '!F15 -> MOTOCARRO AKT AK200ZW 2020 586ABP | B34: =+'SOAT '!G15 -> 46213 | C34: =+'AUTOS '!G15 -> 10900000
A35: =+'AUTOS '!C16&" "&'AUTOS '!A16&" "&'AUTOS '!B16&" "&'AUTOS '!E16&" "&'AUTOS '!F16 -> MOTOCICLETA YAMAHA XTZ(1) 250MT 250CC 2014 IQG20C | B35: =+'SOAT '!G16 -> 46333 | C35: =+'AUTOS '!G16 -> 11400000
A36: =+'AUTOS '!C17&" "&'AUTOS '!A17&" "&'AUTOS '!B17&" "&'AUTOS '!E17&" "&'AUTOS '!F17 -> MOTOCICLETA YAMAHA XTZ(1) 250MT 250CC 2015 IQG21C | B36: =+'SOAT '!G17 -> 46333 | C36: =+'AUTOS '!G17 -> 12300000
... A98: =+'AUTOS '!C79&" "&'AUTOS '!A79&" "&'AUTOS '!B79&" "&'AUTOS '!E79&" "&'AUTOS '!F79 -> CAMIÓN CHEVROLET NHR (3) 700P REWARD (10 MT3000CC TD 4X 2018 OJW061 | B98: =+'SOAT '!G79 -> 46496 | C98: =+'AUTOS '!G79 -> 108900000
A101: MAQUINARIA AMARILLA
A102: =+'MAQ AMARILLA'!C5&" "&'MAQ AMARILLA'!A5&" "&'MAQ AMARILLA'!B5&" "&'MAQ AMARILLA'!E5 -> CAMABAJA TALLERES JAGAP S.A.S 2 EJES S2O487 2015 | C102: =+'MAQ AMARILLA'!D5 -> 55000000
A103: =+'MAQ AMARILLA'!C6&" "&'MAQ AMARILLA'!A6&" "&'MAQ AMARILLA'!B6&" "&'MAQ AMARILLA'!E6 -> EXCAVADORA JOHN DEERE 690EL 1995 | C103: =+'MAQ AMARILLA'!D6 -> 70000000
A104: =+'MAQ AMARILLA'!C7&" "&'MAQ AMARILLA'!A7&" "&'MAQ AMARILLA'!B7&" "&'MAQ AMARILLA'!E7 -> FRESADORA DEUTZ WIRTGEN W-100 2014 | C104: =+'MAQ AMARILLA'!D7 -> 718000000
A105: =+'MAQ AMARILLA'!C8&" "&'MAQ AMARILLA'!A8&" "&'MAQ AMARILLA'!B8&" "&'MAQ AMARILLA'!E8 -> IRRIGADOR LEE BOY HONDA 5.5HP L250 2014 | C105: =+'MAQ AMARILLA'!D8 -> 39590000
...

Sheet EDIFICACIONES
A1: MUNICIPIO | B1: DEPARTAMENTO | C1: USO DE RIESGO | D1: DIRECCION | E1: VALOR ASEGURADO EN EDIFICACION | F1: RANGO DE CONSTRUCCIÓN | G1: TIPO ESTRUCTURAL | H1: No DE PISOS | Q1: r
A2: 1 | B2: CUNDINAMARCA | C2: SALON COMUNAL LAS PIEDRAS | D2: CALLE 3A No. 9-40 | E2: 172019352 | F2: Entre 1998 y 2010 | G2: CONCRETO | H2: 1 | Q2: 786626869
A3: 2 | B3: CUNDINAMARCA | C3: SALON COMUNAL VILLA DEL PRADO | D3: CARRERA 5C No. 1E-12 LOTE 4 MZ D | E3: 116106750 | F3: Entre 1998 y 2010 | G3: CONCRETO | H3: 1 | Q3: 9312304
A4: 3 | B4: CUNDINAMARCA | C4: SALON COMUNAL SAN RAFAEL 2 | D4: CARRERA 5 POR CALLE 2 ESTE | E4: 662221218 | F4: Entre 1998 y 2010 | G4: CONCRETO | H4: 1 | Q4: 34789724
A5: 4 | B5: CUNDINAMARCA | C5: SALON COMUNAL SANTA RITA | D5: CALLE 11 No. 5-48 | E5: 415481304 | F5: Entre 1998 y 2010 | G5: CONCRETO | H5: 1 | Q5: 100242141
A6: 5 | B6: CUNDINAMARCA | C6: SALON COMUNAL LA CAMPIÑA | D6: SALON COMUNAL LA CAMPIÑA | E6: 41831164 | F6: Entre 1998 y 2010 | G6: CONCRETO | H6: 1 | Q6: 30333751
A7: 6 | B7: CUNDINAMARCA | C7: SALON COMUNAL LA PEPITA | D7: TRANSVERSAL 2B SUR No. 4A-38 | E7: 240394830 | F7: Entre 1998 y 2010 | G7: CONCRETO | H7: 1 | Q7: 3292067
A8: 7 | B8: CUNDINAMARCA | C8: SALON COMUNAL VILLA NUEVA | D8: CALLE 7 1 39 | E8: 529286816 | F8: Entre 1998 y 2010 | G8: CONCRETO | H8: 1 | Q8: 20321616
A9: 8 | B9: CUNDINAMARCA | C9: SALON COMUNAL LOS LAURELES | D9: CARRERA 6 POR CALLE 13A | E9: 787568994 | F9: Entre 1998 y 2010 | G9: CONCRETO | H9: 1 | Q9: 51228825
A10: 9 | B10: CUNDINAMARCA | C10: SALON COMUNAL Y JARDIN INFANTIL EL PARAISO | D10: CARRERA 2 SUR No.2-50 ESTE | E10: 86688576 | F10: Entre 1998 y 2010 | G10: CONCRETO | H10: 1 | Q10: 42519924
A11: 10 | B11: CUNDINAMARCA | C11: SALON COMUNAL SAN AGUSTIN | D11: +C11 | E11: 498373758 | F11: Entre 1998 y 2011 | G11: CONCRETO | H11: 1 | Q11: 22581568
A12: 11 | B12: CUNDINAMARCA | C12: CENTRO DE ATENCION ADULTO MAYOR | D12: CENTRO DE ATENCION ADULTO MAYOR | E12: 875785074 | F12: Entre 1998 y 2019 | G12: CONCRETO | H12: 1 | Q12: 53133551
A13: 12 | B13: CUNDINAMARCA | C13: EDIFICACION VILLA OLIMPICA LA SELVA | D13: FINCA EL REGALO-LA DESPENSA / EDIFICACION VILLA OLIMPICA | E13: 2979682004 | F13: Entre 1998 y 2010 | G13: CONCRETO | H13: 1 | Q13: 47628789
... A27: 26 | B27: CUNDINAMARCA | C27: CONSTRUCCION LOTE MONUMENTO | D27: CARRERA 4 POR CALLES 5B 15 ESTE | E27: 276796488 | F27: Entre 1998 y 2010 | G27: CONCRETO | H27: 1 | Q27: 99164787
A28: 27 | B28: CUNDINAMARCA | C28: CONSTRUCCION LOTE CAPILLA | D28: CALLE 6A ESTE 5B 26 / CONSTRUCCION LA CAPILLA | E28: 151999392 | Q28: 121726867
A29: 28 | B29: CUNDINAMARCA | C29: CONSTRUCCION LOTE LA ÑAPA | D29: LA ÑAPA (CRA 3 SUR # 3-48) | E29: 451769736 | F29: Entre 1998 y 2010 | G29: CONCRETO | H29: 1 | Q29: 337162979
A30: 29 | B30: CUNDINAMARCA | C30: CONSTRUCCION PLAZA DE MERCADO | D30: PLAZA DE MERCADO | E30: 14689208778 | F30: Entre 1998 y 2010 | G30: CONCRETO | H30: 1 | Q30: 70965303
A31: 30 | B31: CUNDINAMARCA | C31: CONSTRUCCION SEDE COMUNAL | D31: CARRERA 4 CALLE 5B | E31: 4461054 | F31: Entre 1998 y 2010 | G31: CONCRETO | H31: 1 | Q31: 58384294
A32: 31 | B32: CUNDINAMARCA | C32: CONTRUCCION LOTE SALON COMUNAL PUENTE | D32: CONTRUCCION LOTE SALON COMUNAL PUENTE | E32: 53542872 | F32: Entre 1998 y 2010 | G32: CONCRETO | H32: 1 | Q32: 743829070
A33: 32 | B33: CUNDINAMARCA | C33: CONSTRUCCION TERRENO PLAZA DE FERIAS | D33: CONSTRUCCION TERRENO PLAZA DE FERIAS (DESARROLLO SOCIAL) | E33: 15929463286 | F33: Entre 1998 y 2010 | G33: CONCRETO | H33: 1 | Q33: 211448674
A34: 33 | B34: CUNDINAMARCA | C34: SALON COMUNAL Y CUARTO DE TRANSFERENCIA EL PORTAL DE MARIA | D34: SUPER MANZANA I/ POLIGONO 10 / SALON COMUNAL Y CUARTO DE TRANSFERENCIA EL PORTAL DE MARIA | E34: 128125740 | F34: Entre 1998 y 2010 | G34: CONCRETO | H34: 1 | Q34: 2448383146
A35: 34 | B35: CUNDINAMARCA | C35: SALON COMUNAL LOS MOLINOS | D35: LOTE No 11 MANZANA A - CARRERA 4 No 16-34 (BARRIO LOS MOLINOS) | E35: 259700364 | F35: Entre 1998 y 2010 | G35: CONCRETO | H35: 1 | Q35: 526607684
A36: 35 | B36: CUNDINAMARCA | C36: SALON EQUIPAMENTO COMUNAL | D36: SALON EQUIPAMENTO COMUNAL | E36: 596135892 | F36: Entre 1998 y 2010 | G36: CONCRETO | H36: 1 | Q36: 793161870
A37: 36 | B37: CUNDINAMARCA | C37: CONSTRUCCION LOTE DE TERRENO | D37: CARTAGENITA PESEBRE / CONSTRUCCION LOTE | E37: 29995872 | F37: Entre 1998 y 2019 | G37: CONCRETO | H37: 1 | Q37: 17238729
A38: 37 | B38: CUNDINAMARCA | C38: SALON COMUNAL BARRIO LA CONCEPCION | D38: CRA 14 # 11 A - 04 SALON COMUNAL LA CONCEPCION | E38: 158733834 | F38: Entre 1998 y 2010 | G38: CONCRETO | H38: 1 | Q38: 67881555
A39: 38 | B39: CUNDINAMARCA | C39: SALON COMUNAL LAS LAJAS | D39: CALLE 10 20-35 / SALON COMUNAL LAS LAJAS | E39: 232493058 | F39: Entre 1998 y 2010 | G39: CONCRETO | H39: 1 | Q39: 69532597
A40: 39 | B40: CUNDINAMARCA | C40: ANCIANATO HOGAR LA MILAGROSA | D40: CARRERA 6 6 50 / HOGAR LA MILAGROSA | E40: 4.7580553e+08 | F40: Entre 1998 y 2010 | G40: CONCRETO | H40: 1 | Q40: 1500818434
... A53: 52 | B53: CUNDINAMARCA | C53: SALON COMUNAL MANABLANCA | D53: MANABLANCA SALON COMUNAL | E53: 50631223 | F53: Entre 1998 y 2019 | G53: CONCRETO | H53: 1 | Q53: 16725829
A54: 53 | B54: CUNDINAMARCA | C54: EDIFICACION DE LA ESCUELA JUAN XXIII | D54: JUAN XXIII / EDIFICACION ESCUELA | E54: 191615353 | Q54: 151696000
A55: 54 | B55: CUNDINAMARCA | C55: SALON COMUNAL ZONA VERDE | D55: SALON COMUNAL ZONA VERDE | E55: 106589026 | F55: Entre 1998 y 2019 | G55: CONCRETO | H55: 1 | Q55: 29936000
A56: 55 | B56: CUNDINAMARCA | C56: SALON COMUNAL EL EDEN | D56: CARRERA 2 SUR NO. 5A-37 / SALON COMUNAL EL EDEN | E56: 60971859 | F56: Entre 1998 y 2010 | G56: CONCRETO | H56: 1 | Q56: 7649279
A57: 56 | B57: CUNDINAMARCA | C57: CENTRO COMUNITARIO EL PRADO SECTOR SANTA MARTHA | D57: EL PRADO SECTOR SANTA MARTHA / CENTRO COMUNITARIO | E57: 115439257 | F57: Entre 1998 y 2010 | G57: CONCRETO | H57: 1 | Q57: 1967741226
A58: 57 | B58: CUNDINAMARCA | C58: SALON COMUNAL SAN CRISTOBAL | D58: SAN CRISTOBAL/ SALON COMUNAL | E58: 113526835 | F58: Entre 1998 y 2010 | G58: CONCRETO | H58: 1 | Q58: 450868000
A59: 58 | B59: CUNDINAMARCA | C59: ESTACION COMANDO DE POLICIA | D59: ESTACION COMANDO DE POLICIA | E59: 27900908 | F59: Entre 1998 y 2010 | G59: CONCRETO | H59: 1 | Q59: 46241000
A60: 59 | B60: CUNDINAMARCA | C60: CENTRO INTEGRAL POBLACION DISCAPACITADA | D60: MANABLANCA / CENTRO INTEGRAL POBLACION DISCAPACITADA | E60: 68017318 | F60: Entre 1998 y 2019 | G60: CONCRETO | H60: 1 | Q60: 276244000
A61: 60 | B61: CUNDINAMARCA | C61: SALON COMUNAL BARRIO EL RINCON | D61: EL RINCON / SALON COMUNAL | E61: 27407453 | F61: Entre 1998 y 2010 | G61: CONCRETO | H61: 1 | Q61: 89015000
A62: 61 | B62: CUNDINAMARCA | C62: SALON COMUNAL BARRIO ARBOLEDA | D62: ARBOLEDA / SALON COMUNAL | E62: 10070866 | F62: Entre 1998 y 2019 | G62: CONCRETO | H62: 1 | Q62: 21877000
A63: 62 | B63: CUNDINAMARCA | C63: CENTRO DE ATENCION INMEDIATA | D63: BARRIO TISQUESUSA / CAI | E63: 99363117 | F63: Entre 1998 y 2010 | G63: CONCRETO | H63: 1 | Q63: 30774994
A64: 63 | B64: CUNDINAMARCA | C64: SALON COMUNAL BARRIO LLANO DEL TUNJO | D64: LLANO DEL TUNJO / SALON COMUNAL | E64: 6655446 | F64: Entre 1998 y 2019 | G64: CONCRETO | H64: 1 | Q64: 14659889000
A65: 64 | B65: CUNDINAMARCA | C65: CENTRO DIA ADULTO MAYOR MANABLANCA / CARTAGENITA | D65: SECTOR MANABLANCA CARTAGENITA / CENTRO DIA | E65: 745316728 | F65: Entre 1998 y 2019 | G65: CONCRETO | H65: 1 | Q65: 8739000
...

Sheet SEGUROS
A1: LISTADO PROGRAMA DE SEGUROS
A2: 1 | B2: Seguro todo riesgo | C2: Bienes muebles e inmuebles | D2: Incendio y/o Rayo, sustracción, equipo electrónico, rotura de maquinaria
A3: 2 | B3: Responsabilidad civil extracontractual | C3: Labores, predios y operaciones - terceras personas
A4: 3 | B4: Seguro de automóviles | C4: Daños y/o perdidas propios y a terceros
A5: 4 | B5: Todo riesgo maquinaria y equipo | C5: Daños propios y a terceros
A6: 5 | B6: Manejo Global entidades oficiales | C6: Menoscabo de fondos y bienes causado por empleados
A7: 6 | B7: Responsabilidad civil contractual | C7: Seguro accidente pasajeros
A8: 7 | B8: Seguro vida grupo | C8: Muerte

Sheet AUTOS 
A1: PROGRAMA DE SEGUROS
A2: MUNICIPIO DE FACATATIVÁ
A3: RELACION DE VEHICULOS
A5: MARCA | B5: TIPO | C5: CLASE | D5: CILINDRAJE | E5: MODELO | F5: PLACA | G5: VR. FASECOLDA | H5: PROPIETARIO | I5: CODIGO FASECOLDA | J5: MOTOR | K5: CHASIS | L5: OBSERVACIÓN
A6: AKT | B6: AK 180 ZW | C6: MOTOCARRO | D6: 180 | E6: 2014 | F6: 789ABA | G6: 6100000 | I6: 15919008 | J6: ZS159QMK8E100100 | K6: 9F2A21804E5104688 | M6: 140 | N6: 46496
A7: HONDA | B7: ECO DELUXE 100CC | C7: MOTOCICLETA | D7: 97 | E7: 2013 | F7: IQG09C | G7: 2300000 | I7: 3417121 | J7: HA11EDC9D08586 | K7: 9FMHA1129DF022677 | M7: 110 | N7: 46351
A8: HONDA | B8: ECO DELUXE MEC 100 CC | C8: MOTOCICLETA | D8: 97 | E8: 2013 | F8: IQG10C | G8: =+G7 -> 2300000 | I8: 3417121 | J8: HA11EDC9H20413 | K8: 9FMHA1129DF025269 | M8: 110 | N8: 46229
A9: SUZUKI | B9: GS 150R | C9: MOTOCICLETA | D9: 149 | E9: 2015 | F9: CTN46C | G9: 4300000 | I9: 8817133 | J9: G423-187192 | K9: 9FSNG49D2FC103607 | M9: 120 | N9: 45864
A10: SUZUKI | B10: BEST.125 BEST.125 | C10: MOTOCICLETA | D10: 125 | E10: 2006 | F10: WML78A | G10: 2400000 | I10: 8817091 | J10: F453TH615844 | K10: 9FSBF44P36C115515 | M10: 120 | N10: 46484
A11: SUZUKI | B11: GN.125.H 125CC GN 125 | C11: MOTOCICLETA | D11: 124 | E11: 2006 | F11: WMH24A | G11: 1700000 | I11: 8817100 | J11: 157FMI3D062913 | K11: 9FSNF41A46C108733 | M11: 120 | N11: 46355
A12: SUZUKI | B12: AX4 | C12: MOTOCICLETA | D12: 110 | E12: 2014 | F12: IQG94C | G12: 2200000 | I12: 8817132 | J12: E467178315 | K12: 9FSNE43BXEC125897 | M12: 120 | N12: 46496
A13: AKT | B13: CARGUERO 200 ZW [BAJO] MT 200CC | C13: MOTOCARRO | D13: 200 | E13: 2019 | F13: 571ABP | G13: 10300000 | I13: 15919010 | J13: ZS163QML8K100538 | K13: 9F2A42000K5000500 | M13: 140 | N13: 46453
A14: YAMAHA | B14: XTZ125 | C14: MOTOCICLETA | D14: 124 | E14: 2019 | F14: IQN24C | G14: 6200000 | I14: 9817188 | J14: E3Y2E032558 | K14: 9FKDE0929K2032558 | M14: 120 | N14: 46480
A15: AKT | B15: AK200ZW | C15: MOTOCARRO | D15: 197 | E15: 2020 | F15: 586ABP | G15: 10900000 | I15: 15919010 | J15: ZS163QML8K100841 | K15: 9F2A4200XL5000229 | M15: 140 | N15: 46213 | O15: REV REN PRO
A16: YAMAHA | B16: XTZ(1) 250MT 250CC | C16: MOTOCICLETA | D16: 249 | E16: 2014 | F16: IQG20C | G16: 11400000 | I16: 9817137 | J16: G391E006169 | K16: 9FKKG0415E2006169 | M16: 130 | N16: 46333 | P16: azul
A17: YAMAHA | B17: XTZ(1) 250MT 250CC | C17: MOTOCICLETA | D17: 249 | E17: 2015 | F17: IQG21C | G17: 12300000 | I17: 9817137 | J17: G391E006116 | K17: 9FKKG0416E2006116 | M17: 130 | N17: 46333 | P17: VDE LIMÓN
A18: YAMAHA | B18: XTZ(1) 250MT 250CC | C18: MOTOCICLETA | D18: 249 | E18: 2015 | F18: IQG91C | G18: =+G17 -> 12300000 | I18: 9817137 | J18: G391E010162 | K18: 9FKKG0419F2010162 | M18: 130 | N18: 46496 | O18: previsor | P18: azul
A19: YAMAHA | B19: XTZ(1) 250MT 250CC | C19: MOTOCICLETA | D19: 249 | E19: 2016 | F19: IQI47C | G19: 13300000 | I19: 9817137 | J19: G391E012516 | K19: 9FKKG0414G2012516 | M19: 130 | N19: 46333 | P19: azul
A20: YAMAHA | B20: XTZ(1) 250MT 250CC | C20: MOTOCICLETA | D20: 249 | E20: 2016 | F20: IQI48C | G20: =+G19 -> 13300000 | I20: 9817137 | J20: G391E009310 | K20: 9FKKG0412G2009310 | M20: 130 | N20: 46496 | O20: previsor | P20: azul
A21: YAMAHA | B21: XTZ(1) 250MT 250CC | C21: MOTOCICLETA | D21: 249 | E21: 2016 | F21: IQI49C | G21: =+G20 -> 13300000 | I21: 9817137 | J21: G391E013228 | K21: 9FKKG0414G2013228 | M21: 130 | N21: 46542
A22: AKT | B22: AK110S(1) MT 110 CC | C22: MOTOCICLETA | D22: 110 | E22: 2011 | F22: IQG92C | G22: 1500000 | I22: 15917005 | J22: 152FMHIA083121 | K22: 9F2A11101BBC08164 | M22: 120 | N22: 46542
A23: HONDA | B23: XRE 300 MT 300 CC ABS | C23: MOTOCICLETA | D23: 300 | E23: 2022 | F23: IQN43C | G23: 25400000 | I23: 3417198 | J23: ND12E2N200855 | K23: 9C2ND1220NR200859 | M23: 130 | N23: 46354 | O23: Polic | R23: 46066
A24: HONDA | B24: XRE 300 MT 300 CC ABS | C24: MOTOCICLETA | D24: 300 | E24: 2022 | F24: IQN48C | G24: =+G23 -> 25400000 | I24: 3417198 | J24: ND12E2N201036 | K24: 9C2ND1220NR201010 | M24: 130 | N24: 46431 | O24: Polic | R24: 46066
A25: HONDA | B25: XRE 300 MT 300 CC ABS | C25: MOTOCICLETA | D25: 300 | E25: 2022 | F25: IQN49C | G25: =+G24 -> 25400000 | I25: 3417198 | J25: ND12E2N201016 | K25: 9C2ND1220NR201016 | M25: 130 | N25: 46431 | O25: Polic | R25: 46066
A26: HONDA | B26: XRE 300 MT 300 CC ABS | C26: MOTOCICLETA | D26: 300 | E26: 2022 | F26: IQN50C | G26: =+G25 -> 25400000 | I26: 3417198 | J26: ND12E2N201071 | K26: 9C2ND1220NR201048 | M26: 130 | N26: 46431 | O26: Polic | R26: 46066
A27: HONDA | B27: XRE 300 MT 300 CC ABS | C27: MOTOCICLETA | D27: 300 | E27: 2022 | F27: IQN51C | G27: =+G26 -> 25400000 | I27: 3417198 | J27: ND12E2N202425 | K27: 9C2ND1220NR202422 | M27: 130 | N27: 46431 | O27: Polic | R27: 46039
A28: HONDA | B28: XRE 300 MT 300 CC ABS | C28: MOTOCICLETA | D28: 300 | E28: 2022 | F28: IQN52C | G28: =+G27 -> 25400000 | I28: 3417198 | J28: ND12E2N200935 | K28: 9C2ND1220NR200920 | M28: 130 | N28: 46431 | O28: Polic | R28: 46039
A29: HONDA | B29: XRE 300 MT 300 CC ABS | C29: MOTOCICLETA | D29: 300 | E29: 2022 | F29: IQN53C | G29: =+G28 -> 25400000 | I29: 3417198 | J29: ND12E2N200945 | K29: 9C2ND1220NR200930 | M29: 130 | N29: 46431 | O29: Polic | R29: 46066
A30: HONDA | B30: XRE 300 MT 300 CC ABS | C30: MOTOCICLETA | D30: 300 | E30: 2022 | F30: IQN54C | G30: =+G29 -> 25400000 | I30: 3417198 | J30: ND12E2N201000 | K30: 9C2ND1220NR200980 | M30: 130 | N30: 46431 | O30: Polic | R30: 46066
A31: HONDA | B31: XR 125L MT 125 CC | C31: MOTOCICLETA | D31: 124 | E31: 2015 | F31: PUJ44D | G31: 6400000 | I31: 3417136 | J31: JD21E-2267845 | K31: 9FMJD2120FF002724 | M31: 120 | N31: 46355
A32: YAMAHA | B32: XTZ125 | C32: MOTOCICLETA | D32: 124 | E32: 2020 | F32: IQN29C | G32: 6800000 | I32: 9854031 | J32: E3Y2E0405553 | K32: 9FKDE0924L2040553 | M32: 120 | N32: 46266 | O32: Polic
A33: AKT | B33: TTR0200 | C33: MOTOCICLETA | D33: 200 | E33: 2023 | F33: IQN89C | G33: 7700000 | I33: 15954013 | J33: 163FMLVQ115556 | K33: 9F2B22006PB007406 | M33: 120 | N33: 46432 | O33: Azul
A34: AKT | B34: TTR0200 | C34: MOTOCICLETA | D34: 200 | E34: 2023 | F34: IQN90C | G34: =+G33 -> 7700000 | I34: 15954013 | J34: 163FMLVQ11545 | K34: 9F2B22008PB007391 | M34: 120 | N34: 46432 | O34: Azul
A35: AKT | B35: TTR0200 | C35: MOTOCICLETA | D35: 200 | E35: 2023 | F35: IQN91C | G35: =+G34 -> 7700000 | I35: 15954013 | J35: 163FMLVQ139221 | K35: 9F2B22005PB007395 | M35: 120 | N35: 46432 | O35: Azul
A36: AKT | B36: TTR0200 | C36: MOTOCICLETA | D36: 200 | E36: 2023 | F36: IQN92C | G36: =+G35 -> 7700000 | I36: 15954013 | J36: 163FMLVQ139119 | K36: 9F2B22006PB007390 | M36: 120 | N36: 46432 | O36: Azul
A37: AKT | B37: TTR0200 EIII | C37: MOTOCICLETA | D37: 200 | E37: 2023 | F37: IQN93C | G37: =+G36 -> 7700000 | I37: 15954013 | J37: 163FMLVQ139202 | K37: 9F2B22007PB007396 | M37: 120 | N37: 46432 | O37: Azul
A38: HONDA | B38: XRE 300 MT 300 CC ABS | C38: MOTOCICLETA | D38: 300 | E38: 2022 | F38: IQN38C | G38: =+G30 -> 25400000 | I38: 3417198 | J38: ND12E2N200562 | K38: 9C2ND1220NR200590 | M38: 130 | N38: 46354 | O38: Polic
A39: HONDA | B39: XRE 300 MT 300 CC ABS | C39: MOTOCICLETA | D39: 300 | E39: 2022 | F39: IQN39C | G39: =+G38 -> 25400000 | I39: 3417198 | J39: ND12E2N200628 | K39: 9C2ND1220NR200599 | M39: 130 | N39: 46354
A40: HONDA | B40: XRE 300 MT 300 CC ABS | C40: MOTOCICLETA | D40: 300 | E40: 2022 | F40: IQN40C | G40: =+G39 -> 25400000 | I40: 3417198 | J40: ND12E2N200651 | K40: 9C2ND1220NR200631 | M40: 130 | N40: 46354
A41: HONDA | B41: XRE 300 MT 300 CC ABS | C41: MOTOCICLETA | D41: 300 | E41: 2022 | F41: IQN41C | G41: =+G40 -> 25400000 | I41: 3417198 | J41: ND12E2N200762 | K41: 9C2ND1220NR200747 | M41: 130 | N41: 46354
...

Sheet SOAT  (2)
A1: PROGRAMA DE SEGUROS
A2: TOMADOR/ ASEGURADO/ BENEFICIARIO: MUNICIPIO DE GUADUAS
A3: RELACION DE VEHICULOS
A5: MARCA | B5: TIPO | C5: CLASE | D5: CILINDRAJE | E5: MODELO | F5: PLACA | G5: PROPIETARIO | H5: CODIGO FASECOLDA | I5: FECHA VENCIMIENTO SOAT | J5: ASEGURADORA | K5: OBSERVACIÓN | L5: VALOR
A6: CHEVROLET | B6: B 70 | C6: BUS | D6: 7200 | E6: 2005 | F6: OIK042 | G6: GUADUAS | H6: 1603080 | I6: 43347 | J6: Previsora | K6: 35 Pasajeros | L6: 0 | N6: 1180460
A7: HINO | B7: FC9BUS | C7: BUS | D7: 5123 | E7: 2016 | F7: OJZ524 | G7: GUADUAS | H7: 3703020 | I7: 43414 | J7: Previsora | K7: 36 pasajeros | L7: 0 | N7: 1180460
A8: MITSUBISHI | B8: NATIVA V dsl | C8: CAMPERO | D8: 2800 | E8: 2008 | F8: OIK063 | G8: GUADUAS | H8: 6208125 | I8: 43226 | J8: Previsora | L8: 688760 | N8: 688760
A9: TOYOTA | B9: PRADO | C9: CAMPERO | D9: 2982 | E9: 2014 | F9: OHK957 | G9: GUADUAS | H9: 9008153 | I9: 43434 | J9: Previsora | K9: Diesel 7 psj | L9: 0 | N9: 688760
A10: =+'AUTOS '!#REF! -> #REF! | B10: =+'AUTOS '!#REF! -> #REF! | C10: =+'AUTOS '!#REF! -> #REF! | D10: =+'AUTOS '!#REF! -> #REF! | E10: =+'AUTOS '!#REF! -> #REF! | F10: =+'AUTOS '!#REF! -> #REF! | G10: =+'AUTOS '!#REF! -> #REF! | H10: =+'AUTOS '!#REF! -> #REF! | I10: 43195 | J10: Previsora | L10: 410660 | N10: 410660
A11: HONDA | B11: XR 125 | C11: MOTOCICLETA | D11: 125 | E11: 2015 | F11: PZZ72D | G11: GUADUAS | H11: 3417136 | I11: 43392 | J11: Previsora | L11: 0 | N11: 410660
A12: HONDA | B12: XR 125 | C12: MOTOCICLETA | D12: 125 | E12: 2015 | F12: PZZ26D | G12: GUADUAS | H12: 3417136 | I12: 43392 | J12: Previsora | L12: 0 | N12: 410660
A13: HONDA | B13: XR 125 | C13: MOTOCICLETA | D13: 125 | E13: 2015 | F13: PUJ34D | G13: GUADUAS | H13: 3417136 | I13: 43434 | J13: Previsora | L13: 0 | N13: 410660
A14: INTERNATIONAL | B14: 4300 SBA | C14: VOLQUETA | D14: 7636 | E14: 2008 | F14: OIK060 | G14: GUADUAS | H14: 3626007 | I14: 43413 | J14: Previsora | K14: 10 ton | L14: 0 | N14: 795710
A15: INTERNATIONAL | B15: 4300 DURASTAR SBA 4*2 | C15: VOLQUETA | D15: 7636 | E15: 2015 | F15: ODR726 | G15: GUADUAS | H15: 3626089 | I15: 43320 | J15: Previsora | K15: 9 ton | L15: 0 | N15: 795710
A16: INTERNATIONAL | B16: 4300 DURASTAR SBA 4*2 | C16: VOLQUETA | D16: 7636 | E16: 2014 | F16: ODR535 | G16: GUADUAS | H16: 3626089 | I16: 43347 | J16: Previsora | K16: 9 ton | L16: 0 | N16: 795710
A17: VOLKSWAGEN | B17: VW 17,220 | C17: VOLQUETA | D17: 8270 | E17: 2015 | F17: ODR737 | G17: GUADUAS | H17: 9226011 | I17: 43390 | J17: Previsora | K17: 10 ton | L17: 0 | N17: 795710
L18: =+SUM(L6:L17) -> 1099420 | N18: 10155340
A19: * EN AMARILLO A INCLUIR EN EL PROCESO ACTUAL | N19: =+N18-N8-N10 -> 9055920
N20: =+N19*1.05 -> 9508716
A21: VIV26D (infancia), VIV24D, VIV23D (la paz), VIV25D (cti guaduas) | B21: El comodante (mcipio) entrega al comodatario (Policia cmarca) moto con soat y TR a 2016, después el comodatario asume el costo de los 2 seguros
A22: Motocarro 858ABA no se renueva SOAT, vencido en 02-2016
A23: Soat de la camioneta bomberos OFK617 no se renueva

Sheet SOAT 
A1: PROGRAMA DE SEGUROS
A2: TOMADOR/ ASEGURADO/ BENEFICIARIO: MUNICIPIO DE FACATATIVÁ
A3: RELACION DE VEHICULOS
A5: MARCA | B5: TIPO | C5: CLASE | D5: CILINDRAJE | E5: MODELO | F5: PLACA | G5: FECHA VENCIMIENTO SOAT | H5: OBSERVACIÓN | I5: VALOR
A6: =+'AUTOS '!A6 -> AKT | B6: =+'AUTOS '!B6 -> AK 180 ZW | C6: =+'AUTOS '!C6 -> MOTOCARRO | D6: =+'AUTOS '!D6 -> 180 | E6: =+'AUTOS '!E6 -> 2014 | F6: =+'AUTOS '!F6 -> 789ABA | G6: =+'AUTOS '!N6 -> 46496 | I6: 386900 | K6: 140 | N6: =+C6&" "&A6&" "&F6 -> MOTOCARRO AKT 789ABA
A7: =+'AUTOS '!A7 -> HONDA | B7: =+'AUTOS '!B7 -> ECO DELUXE 100CC | C7: =+'AUTOS '!C7 -> MOTOCICLETA | D7: =+'AUTOS '!D7 -> 97 | E7: =+'AUTOS '!E7 -> 2013 | F7: =+'AUTOS '!F7 -> IQG09C | G7: =+'AUTOS '!N7 -> 46351 | I7: 256200 | K7: 110 | N7: =+C7&" "&A7&" "&F7 -> MOTOCICLETA HONDA IQG09C
A8: =+'AUTOS '!A8 -> HONDA | B8: =+'AUTOS '!B8 -> ECO DELUXE MEC 100 CC | C8: =+'AUTOS '!C8 -> MOTOCICLETA | D8: =+'AUTOS '!D8 -> 97 | E8: =+'AUTOS '!E8 -> 2013 | F8: =+'AUTOS '!F8 -> IQG10C | G8: =+'AUTOS '!N8 -> 46229 | I8: 256200 | K8: 110 | N8: =+C8&" "&A8&" "&F8 -> MOTOCICLETA HONDA IQG10C
A9: =+'AUTOS '!A9 -> SUZUKI | B9: =+'AUTOS '!B9 -> GS 150R | C9: =+'AUTOS '!C9 -> MOTOCICLETA | D9: =+'AUTOS '!D9 -> 149 | E9: =+'AUTOS '!E9 -> 2015 | F9: =+'AUTOS '!F9 -> CTN46C | G9: =+'AUTOS '!N9 -> 45864 | I9: 343300 | K9: 120 | N9: =+C9&" "&A9&" "&F9 -> MOTOCICLETA SUZUKI CTN46C
A10: =+'AUTOS '!A10 -> SUZUKI | B10: =+'AUTOS '!B10 -> BEST.125 BEST.125 | C10: =+'AUTOS '!C10 -> MOTOCICLETA | D10: =+'AUTOS '!D10 -> 125 | E10: =+'AUTOS '!E10 -> 2006 | F10: =+'AUTOS '!F10 -> WML78A | G10: =+'AUTOS '!N10 -> 46484 | I10: 343300 | K10: 120 | N10: =+C10&" "&A10&" "&F10 -> MOTOCICLETA SUZUKI WML78A
A11: =+'AUTOS '!A11 -> SUZUKI | B11: =+'AUTOS '!B11 -> GN.125.H 125CC GN 125 | C11: =+'AUTOS '!C11 -> MOTOCICLETA | D11: =+'AUTOS '!D11 -> 124 | E11: =+'AUTOS '!E11 -> 2006 | F11: =+'AUTOS '!F11 -> WMH24A | G11: =+'AUTOS '!N11 -> 46355 | I11: 343300 | K11: 120 | N11: =+C11&" "&A11&" "&F11 -> MOTOCICLETA SUZUKI WMH24A
A12: =+'AUTOS '!A12 -> SUZUKI | B12: =+'AUTOS '!B12 -> AX4 | C12: =+'AUTOS '!C12 -> MOTOCICLETA | D12: =+'AUTOS '!D12 -> 110 | E12: =+'AUTOS '!E12 -> 2014 | F12: =+'AUTOS '!F12 -> IQG94C | G12: =+'AUTOS '!N12 -> 46496 | I12: 343300 | K12: 120 | N12: =+C12&" "&A12&" "&F12 -> MOTOCICLETA SUZUKI IQG94C
A13: =+'AUTOS '!A13 -> AKT | B13: =+'AUTOS '!B13 -> CARGUERO 200 ZW [BAJO] MT 200CC | C13: =+'AUTOS '!C13 -> MOTOCARRO | D13: =+'AUTOS '!D13 -> 200 | E13: =+'AUTOS '!E13 -> 2019 | F13: =+'AUTOS '!F13 -> 571ABP | G13: =+'AUTOS '!N13 -> 46453 | I13: 386900 | K13: 140 | N13: =+C13&" "&A13&" "&F13 -> MOTOCARRO AKT 571ABP
A14: =+'AUTOS '!A14 -> YAMAHA | B14: =+'AUTOS '!B14 -> XTZ125 | C14: =+'AUTOS '!C14 -> MOTOCICLETA | D14: =+'AUTOS '!D14 -> 124 | E14: =+'AUTOS '!E14 -> 2019 | F14: =+'AUTOS '!F14 -> IQN24C | G14: =+'AUTOS '!N14 -> 46480 | I14: 343300 | K14: 120 | N14: =+C14&" "&A14&" "&F14 -> MOTOCICLETA YAMAHA IQN24C
A15: =+'AUTOS '!A15 -> AKT | B15: =+'AUTOS '!B15 -> AK200ZW | C15: =+'AUTOS '!C15 -> MOTOCARRO | D15: =+'AUTOS '!D15 -> 197 | E15: =+'AUTOS '!E15 -> 2020 | F15: =+'AUTOS '!F15 -> 586ABP | G15: =+'AUTOS '!N15 -> 46213 | I15: 386900 | K15: 140 | N15: =+C15&" "&A15&" "&F15 -> MOTOCARRO AKT 586ABP
A16: =+'AUTOS '!A16 -> YAMAHA | B16: =+'AUTOS '!B16 -> XTZ(1) 250MT 250CC | C16: =+'AUTOS '!C16 -> MOTOCICLETA | D16: =+'AUTOS '!D16 -> 249 | E16: =+'AUTOS '!E16 -> 2014 | F16: =+'AUTOS '!F16 -> IQG20C | G16: =+'AUTOS '!N16 -> 46333 | I16: 761400 | K16: 130 | N16: =+C16&" "&A16&" "&F16 -> MOTOCICLETA YAMAHA IQG20C
A17: =+'AUTOS '!A17 -> YAMAHA | B17: =+'AUTOS '!B17 -> XTZ(1) 250MT 250CC | C17: =+'AUTOS '!C17 -> MOTOCICLETA | D17: =+'AUTOS '!D17 -> 249 | E17: =+'AUTOS '!E17 -> 2015 | F17: =+'AUTOS '!F17 -> IQG21C | G17: =+'AUTOS '!N17 -> 46333 | I17: 761400 | K17: 130 | N17: =+C17&" "&A17&" "&F17 -> MOTOCICLETA YAMAHA IQG21C
... A79: =+'AUTOS '!A79 -> CHEVROLET | B79: =+'AUTOS '!B79 -> NHR (3) 700P REWARD (10 MT3000CC TD 4X | C79: =+'AUTOS '!C79 -> CAMIÓN | D79: =+'AUTOS '!D79 -> 2999 | E79: =+'AUTOS '!E79 -> 2018 | F79: =+'AUTOS '!F79 -> OJW061 | G79: =+'AUTOS '!N79 -> 46496 | I79: 1282800 | K79: 320 | N79: =+C79&" "&A79&" "&F79 -> CAMIÓN CHEVROLET OJW061
I80: =+SUM(I6:I79) -> 62001300
A83: VIV26D (infancia), VIV24D, VIV23D (la paz), VIV25D (cti FACATATIVÁ) | B83: El comodante (mcipio) entrega al comodatario (Policia cmarca) moto con soat y TR a 2016, después el comodatario asume el costo de los 2 seguros
A87: *Proyectado por Copiseguros Ltda

Sheet MAQ AMARILLA
A2: MAQUINARIA AMARILLA
A4: MARCA | B4: TIPO | C4: CLASE | D4: V. ASEGURADO | E4: MODELO | F4: MOTOR | G4: SERIE
A5: TALLERES JAGAP S.A.S | B5: 2 EJES S2O487 | C5: CAMABAJA | D5: 55000000 | E5: 2015
A6: JOHN DEERE | B6: 690EL | C6: EXCAVADORA | D6: 70000000 | E6: 1995 | F6: 120052D2 | G6: DW690EL547562
A7: WIRTGEN | B7: W-100 | C7: FRESADORA DEUTZ | D7: 718000000 | E7: 2014
A8: LEE BOY | B8: HONDA 5.5HP L250 | C8: IRRIGADOR | D8: 39590000 | E8: 2014
A9: NEW HOLLAND | B9: TL07598 | C9: MINICARGADOR | D9: 55000000 | E9: 2009 | F9: 87629760 | G9: N7M471627 | I9: CASE | J9: 1845C
A10: INTENSUS | B10: G180 | C10: MOTONIVELADORA | D10: 200000000 | E10: 2009
A11: JHON DEERE | B11: 570B | C11: MOTONIVELADORA | D11: 100000000 | E11: 1993 | F11: TO6059T-439329 | G11: DW570BX-544380
A12: VOGELE | B12: 1300-3AB 340-3TV | C12: PAVIMENTADORA | D12: 745706754 | E12: 2014 | G12: 10110094
A13: CATERPILAR | B13: 416E | C13: RETROEXCAVADORA | D13: 200000000 | E13: 2013
A14: MASSEY FERGUSON | B14: MF291 | C14: TRACTOR | D14: 38000000 | E14: 2009
A15: KUBOTA | B15: M9540DT | C15: TRACTOR | D15: 65000000 | E15: 2016
A16: HAMM | B16: ARTICULADO DEUTZ DIESEL 150 14396KW HD 075K | C16: VIBROCOMPACTADOR | D16: 289183000 | E16: 2014 | G16: H1871399
A17: INTENSUS | B17: CV 80 | C17: VIBROCOMPACTADOR | D17: 130000000 | E17: 2009
A18: DYNAPAC | B18: Ca 15 | C18: VIBROCOMPACTADOR | D18: 60000000 | E18: 1996 | F18: 641B532844A | G18: 678B345
A21: TOTAL | D21: =+SUM(D5:D19) -> 2765479754
A25: *Proyectado por Copiseguros Ltda

Sheet AUTOS REPOSO
A1: PROGRAMA DE SEGUROS
A2: TOMADOR/ ASEGURADO/ BENEFICIARIO: MUNICIPIO DE FACATATIVÁ
A3: VEHÍCULOS EN REPOSO
A5: MARCA | B5: TIPO | C5: CLASE | D5: CILINDRAJE | E5: MODELO | F5: PLACA | G5: VR. FASECOLDA | H5: CODIGO FASECOLDA | I5: MOTOR | J5: CHASIS
A6: YAMAHA | B6: XTZ [1] 250 MT 250CC | C6: MOTOCICLETA | D6: 249 | E6: 2018 | F6: IQK98C | G6: 70000000 | H6: 9854019 | I6: G3F2E004618 | J6: 9FKDG2818J2004618
A7: YAMAHA | B7: DT 125 ESPECIAL | C7: MOTOCICLETA | D7: 125 | E7: 1995 | F7: KHZ95 | H7: 9854019 | I7: 3TL050301 | J7: 3TL050301
A8: YAMAHA | B8: DT.175.CROSS | C8: MOTOCICLETA | D8: 175 | E8: 1995 | F8: KHZ96 | H8: 9854001 | I8: 3TK009879 | J8: 3TK009879
A9: YAMAHA | B9: XTZ250 | C9: MOTOCICLETA | D9: 249 | E9: 2014 | F9: IQG22C | H9: 9854019 | I9: G391E006175 | J9: 9FKKG0410E2006175
A10: SUZUKI | B10: DR 650 DR 650 | C10: MOTOCICLETA | D10: 644 | E10: 2008 | F10: WMT56A | H10: 8817058 | I10: P409138128 | J10: 9FSSP46A48C105178
A11: SUZUKI | B11: TS 185 | C11: MOTOCICLETA | D11: 183 | E11: 2009 | F11: WMT62A | H11: 8817043 | I11: TS1852183954 | J11: 9FSSG11A09C031409
A12: SUZUKI | B12: TS 185 CROSS TS 185 | C12: MOTOCICLETA | D12: 183 | E12: 2009 | F12: WMT63A | H12: 8817043 | I12: TS1852184269 | J12: 9FSSG11A19C031547
A13: JEEP WILLYS | B13: GRAN CHEROKEE LAREDO | C13: CAMIONETA | D13: 4000 | E13: 1995 | F13: OIB348 | G13: 270000000 | H13: 4208053 | I13: 87225 | J13: 8Y2FJ33VASV087225
A14: JAC | B14: PICK UP HFC 1037 T6 | C14: CAMIONETA | D14: 2000 | E14: 2022 | F14: OJW045 | H14: 11321004 | I14: M3009052 | J14: LJ11PAB3XNC091096
A15: RENAULT | B15: TRAFIC 2.0 L MT AA dsl | C15: CAMIONETA | D15: 2000 | E15: 2015 | F15: OJW055 | H15: 8037015 | I15: M9RM786C205661 | J15: VF1FLBUDCFY777066
A16: CHEVROLET | B16: SPARK | C16: AUTOMÓVIL | D16: 995 | E16: 2013 | F16: OJW051 | H16: 6421013 | I16: B10S1954044KC2 | J16: 9GAMM5100DB052630
A17: MAZDA | B17: B2200 | C17: CAMIONETA | D17: 2200 | E17: 2004 | F17: OIB481 | H17: 5621005 | I17: F2232514 | J17: 9F JUN 832040101342
A18: NISSAN | B18: D21 2.4L MT 2400CC 4X2 D | C18: CAMIONETA | D18: 2400 | E18: 2000 | F18: OIB463 | H18: 6421036 | I18: KA24910544M | J18: 3N6CD13SXZK016245
G22: =+SUM(G6:G20) -> 340000000
A24: MAQUINARIA/EQUIPO | B24: MARCA | C24: PLACA | D24: CLASE | E24: MODELO | G24: VR. ASEGURADO | I24: MOTOR | J24: SERIE
A25: GRUA | B25: AMCO | C25: OJF583 | D25: VERA RE 105/35 4.6 TM | E25: 1990 | G25: 400000000
A26: MINICARGADOR | B26: NEW HOLLAND | C26: TL07598 | D26: L170 | E26: 2009 | I26: 87629760 | J26: N7M471627
A27: MOTONIVELADORA | B27: JHON DEERE | D27: 570B | E27: 1995 | I27: TO6059T-439329 | J27: DW570BX-544380
A28: RETROEXCAVADORA | B28: JHON DEERE | D28: 510 D | E28: 1995 | I28: TO4045T-504740 | J28: TO510DG-811422
A29: RETROEXCAVADORA | B29: JHON DEERE | D29: 410G | E29: 1995 | I29: PE4045T543497 | J29: T0410GX954699
A30: RODILLO COMPACTADOR | B30: EQUIMACO | E30: 1990
A31: VIBROCOMPACTADOR | B31: INGERSOLL RAND | C31: TL7001 | D31: DD24 | E31: 2010
G32: =+G25 -> 400000000
A33: *Proyectado por Copiseguros Ltda
A40: NISSAN | B40: NP 300 FRONTIER 2.5 L MT D22/NP300 | C40: CAMIONETA | D40: 2488 | E40: 2013 | F40: OJW048 | H40: 6421055 | I40: YD25-359714T | J40: 3N6PD23Y4ZK904002
A41: SUZUKI | B41: DR 650 DR 650 | C41: MOTOCICLETA | D41: 644 | E41: 2008 | F41: WMT56A | H41: 8817058 | I41: P409138128 | J41: 9FSSP46A48C105178 | L41: 45986
A42: SUZUKI | B42: TS 185 | C42: MOTOCICLETA | D42: 183 | E42: 2009 | F42: WMT62A | H42: 8817043 | I42: TS1852183954 | J42: 9FSSG11A09C031409 | L42: 45986
A43: SUZUKI | B43: TS 185 CROSS TS 185 | C43: MOTOCICLETA | D43: 183 | E43: 2009 | F43: WMT63A | H43: 8817043 | I43: TS1852184269 | J43: 9FSSG11A19C031547 | L43: 45986
A44: YAMAHA | B44: XTZ(1) 250MT 250CC | C44: MOTOCICLETA | D44: 249 | E44: 2016 | F44: IQI47C | H44: 9817137 | I44: 9FKKG0414G2012516 | J44: 9FKKG0414G2012516 | L44: 45766
A45: YAMAHA | B45: XTZ250 | C45: MOTOCICLETA | D45: 249 | E45: 2014 | F45: IQG20C | H45: 9854019 | I45: G391E006169 | J45: 9FKKG0415E2006169 | L45: 45719
A46: YAMAHA | B46: XTZ250 | C46: MOTOCICLETA | D46: 249 | E46: 2015 | F46: IQG21C | H46: 9854019 | I46: G391E006116 | J46: 9FKKG0416E2006116 | L46: 45719

Sheet OTRAS
A1: MUNICIPIO DE FACATATIVÁ
A2: RAMO | B2: VALOR ASEGURADO | C2: CARGO
A3: MANEJO GLOBAL | B3: 400000000 | C3: Póliza 1 $200,000,000
C4: Alcalde
C5: Secretario privado
C6: Almacenista General
C7: Secretaría General
C8: Dirección de la Función Pública y Asuntos Administrativos
C9: Director de Turismo
C10: Auxiliar Administrativo 407 - Grado 5
C11: Auxiliar Administrativo 407 - Grado 5
C12: Secretaria de Hacienda
C13: Direccion Financiera y de Rentas
C14: > 950 funcionarios - contratistas
C16: Póliza 2 $200,000,000 Rector y Pagador
... C27: Institución Educativa Municipal Técnico Industrial
A29: Accidentes Personales - Bus pasajeros OJW008 -OJW020 - OJW015-OJW069 - OIB434-OJW047 -OJW003; OIB404 - OJW013 - OJW076 | B29: 100 SMMLV | C29: 10 Vehículos
A30: RC SERVIDORES PÚBLICOS | B30: 500000000 | C30: ALCALDE
C31: SECRETARIA PRIVADA
C32: ASESOR
C33: ASESOR
C34: ASESOR
C35: ASESOR
C36: ASESOR
C37: OFICINA DE CONTROL INTERNO
C38: OFICINA ASESORA DE PRENSA Y COMUNICACIONES
C39: OFICINA DE CONTROL DISCIPLINARIO INTERNO
C40: SECRETARIA DE DESARROLLO AGROPECUARIO Y AMBIENTE
C41: DIRECCION DE PROTECCION Y BIENESTAR ANIMAL
C42: SECRETARIA DE COORDINACION INSTITUCIONAL
... C75: SECRETARIA DE GESTION CONTRACTUAL
A77: RCE | B77: 1000000000
A78: IRF | B78: 800000000
A79: TM | B79: 1200000000
A80: RESERVA | B80: 120000000
A82: RCE | B82: 942130000 | C82: FERREA 2-5-27
A86: *Proyectado por Copiseguros Ltda

Sheet VIDA
A1: CARGO | B1: NOMBRE | C1: CEDULA | D1: FECHA NACIMIENTO
A2: ALCALDE | B2: CASAS ALVARADO LUIS CARLOS | C2: 11444281 | D2: 29190 | F2: =2021-YEAR(D2) -> 42
A3: PERSONERO | B3: JHON JAIRO MONROY VELANDIA | C3: 11442755 | D3: 28582 | F3: =2021-YEAR(D3) -> 43
A4: CONCEJAL | B4: AVILA SUAREZ JOHAN MANUEL | C4: 1070948774 | D4: 32115 | F4: =2021-YEAR(D4) -> 34
A5: CONCEJAL | B5: BARRERA MIGUEL ÁNGEL | C5: 1003553357 | D5: 37335 | F5: =2021-YEAR(D5) -> 19
A6: CONCEJAL | B6: COLMENARES DANNY JAVIER | C6: 11447876 | D6: 30455 | F6: =2021-YEAR(D6) -> 38
A7: CONCEJAL | B7: ESCOBAR CHAVES ANDRÉS FELIPE | C7: 1026287019 | D7: 34313 | F7: =2021-YEAR(D7) -> 28
A8: CONCEJAL | B8: FERNÁNDEZ ACERO OSCAR FERNANDO | C8: 11447137 | D8: 30152 | F8: =2021-YEAR(D8) -> 39
A9: CONCEJAL | B9: FRANCO MARTÍNEZ ANDERSON DE JESÚS | C9: 11447512 | D9: 30282 | F9: =2021-YEAR(D9) -> 39
A10: CONCEJAL | B10: GUEVARA MARTINEZ CAMILO ANDRES | C10: 11443911 | D10: 29026 | F10: =2021-YEAR(D10) -> 42
A11: CONCEJAL | B11: MEJIA URQUIJO JUAN PABLO | C11: 1070969211 | D11: 34377 | F11: =2021-YEAR(D11) -> 27
A12: CONCEJAL | B12: MORALES GUTIERREZ DIANA MARCELA | C12: 1070949830 | D12: 32231 | F12: =2021-YEAR(D12) -> 33
A13: CONCEJAL | B13: MURCIA REYES JORGE ORLANDO | C13: 3166743 | D13: 27165 | F13: =2021-YEAR(D13) -> 47
... A20: CONCEJAL | B20: VILLAMIL RIVERA PEDRO NEL | C20: 11449457 | D20: 29514 | F20: =2021-YEAR(D20) -> 41
A32: Sueldo del alcalde $16,713,894
B33: Valor por Asegurado: 20 Salarios | C33: =19*20*16713894 -> 6351279720
A35: *Proyectado por Copiseguros Ltda

Sheet COBERTURAS-CLAUSULAS
A1: COBERTURAS Y CLAUSULADOS - RAMOS
A2: TODO RIESGO DAÑOS MATERIALES
A3: INTERÉS ASEGURABLE
A4: Bienes Asegurados: Toda propiedad real o personal, bienes materiales de propiedad de La Entidad, o de terceros que se hallen bajo su responsabilidad, tenencia, cuidado, custodia, control o por las cuales sea legal o contractualmente responsable, y en general los recibidos a cualquier titulo o por los que tenga algún interés asegurable, ubicados en el territorio nacional, dentro o fuera de las instalaciones del asegurado y/o en predios de terceros y/o que se encuentren a la intemperie y/o instalados en vehículos automotores y los utilizados en desarrollo del objeto social de La Entidad, consistentes principalmente pero no limitados en los siguientes:
A5: Edificios, estructuras, cimientos, muros de contención, cercas, escaleras externas, patios y otras construcciones separadas de las edificaciones (vías de acceso, caminos y obras de arte en obras civiles todas dentro de predios), construcciones fijas con todas sus adiciones y en general toda clase de construcciones propias y no propias, de edificios e inherentes a ellos, incluidos anexos y mejoras locativas, instalaciones sanitarias, de agua, sistema de drenaje y aguas negras, tuberías, conductos, desagües, instalaciones eléctricas, electrónicas, de comunicación, para conducción de gas, y de aire acondicionado, ascensores, ductos, mallas, chimeneas, patios, aceras, instalaciones permanentes, de protección contra incendio, alarmas, cámaras y circuitos cerrados de televisión y demás instalaciones que se hallen o no por debajo del nivel del suelo y/o subterráneas, vidrios internos y externos que conforman y hacen parte de las construcciones, rampas de acceso, tanques de almacenamiento, de propiedad de la entidad. Se consideran cimientos aquellas partes del edificio que se encuentran completamente bajo el nivel de la parte más baja de la edificación a la que se tiene acceso. El valor asegurado incluye el costo de los honorarios por dirección de obra y/o interventoría, pero excluye el costo de estudio de suelos, cimientos, excavaciones, preparación del terreno y honorarios por diseño de planos. Se incluyen igualmente los costos de adaptación de las estructuras siniestradas, al último Código de Construcciones Sismo resistentes en Colombia.
A6: Mejoras locativas: Todas aquellas mejoras a los inmuebles realizadas por La Entidad, aún en el caso de que la misma no sea propietaria, para adecuarlos a sus necesidades, tales como alfombras, tapetes, cortinas, divisiones modulares, tapizados, enchapes, mejoras eléctricas, cielos rasos, incluyendo las divisiones internas de que estén dotadas las edificaciones, etc.
A7: Muebles y enseres: los muebles, escritorios, sillas, enseres, estantes y equipos de las diferentes dependencias del establecimiento asegurado, alarmas, sistemas de seguridad de toda clase (todos éstos no electrónicos); batería de cocina, útiles de escritorio y papelería, artículos decorativos y de ornamentación, planos, documentos de cartera, archivo en general, libros, bibliotecas, manuscritos, y en general los demás similares aunque no se hayan determinado específicamente, de propiedad del asegurado o por los cuales sea responsable.
A8: Equipo y Maquinaría en general: maquinaria, equipos, accesorios, herramientas, propios y complementarios de la actividad desarrollada por el Asegurado, instalaciones eléctricas, de agua, de aire, de combustibles y similares que correspondan a maquinaria; equipos para manejo y movilización de materiales, maquinaria y equipo de servicio tales como aires acondicionados, transformadores, estaciones y subestaciones eléctricas, plantas eléctricas, calderas, compresores de aire, motobombas, extractores de olores, motores de control de puertas, o sitios de acceso, compresores; equipos móviles para extinción de incendios; ascensores, grúas, malacates, maquinaria, calderas, y en general todo elemento correspondiente a maquinaria, herramienta y equipo, aunque no se haya determinado específicamente, de propiedad del asegurado o por los cuales sea responsable.
A9: Máquinas y equipos de oficina en general: las máquinas manuales de escribir, sumar, calcular y protección de cheques; electrodomésticos, relojes de control de personal y de celaduría, alarmas, sistemas de seguridad de toda clase (que no sean electrónicos); batería de cocina, útiles de escritorio y papelería, artículos decorativos y de ornamentación, y los demás similares aunque no se hayan determinado específicamente, de propiedad del asegurado o por los cuales sea responsable.
A10: Equipos eléctricos y electrónicos: Equipos y máquinas de oficina: eléctricas o electrónicas, tales como, como de sumar, calcular, de escribir, equipos de computo (computadoras considerados integralmente con todos sus accesorios de computación o procesamiento electrónico de datos, con todos sus accesorios y equipos periféricos, como son: CPU, pantallas, filtros, monitores, mouse, reguladores de voltaje, scanner, plotters, servidores, impresoras; protectores de cheques, fotocopiadoras, electrodomésticos eléctricos y electrónicos, equipos de comunicación e intercomunicación y de fax, relojes de control de personal y de celaduría, redes lógicas, equipos eléctricos y electrónicos de laboratorio (físicos, químicos, eléctricos y contención de líquidos), de ingeniería e investigación y equipos protectores para todos éstos y en general todos.
A11: Aquellos aparatos que el asegurado designe como eléctricos y electrónicos, incluyendo equipos electrónicos y/o procesadores de datos de la maquinaria y los equipos, que los comanden y/o controlen, equipo propio y complementario de la actividad desarrollada por el asegurado, aunque no se hayan mencionado específicamente, de su propiedad o por los cuales sea legalmente responsable; sean fijos o de tipo móviles y portátiles, estos últimos no requieren previo aviso en la movilización de los elementos.
A12: Dineros, monedas, cheques, bonos, obras de arte, artículos preciosos y títulos valores, documentos negociables dentro y fuera de caja fuerte en predios del asegurado. No obstante las exclusiones generales de la póliza, mediante la inclusión de esta cláusula, la compañía asume las indemnizaciones por pérdidas y/o daños de estos bienes dentro y fuera de cofres, cajas fuertes y bóvedas como consecuencia de un siniestro amparado por este seguro.
... A502: Fecha de Retroactividad: a partir de la fecha de expedición de la primera póliza contratada por la Entidad con vigencia inentirrumpida (01-01-2020). No existirá responsabilidad con respecto a cualquier reclamación: a.- que sea ocasionada o esta conectada a cualquier circunstancia o hecho que se haya notificado a la aseguradora en cualquier otra póliza de seguro realizada previamente al inicio de esta póliza y b.- que surja o esté en conexión con cualquier circunstancia o hecho conocido por el asegurado anteriormente al inicio de esta póliza.
A503: * Se cubren hechos ocurridos desde la fecha de los periodos de retroactividad otorgados y notificados durante la vigencia de la póliza, que no hayan sido conocidos por la entidad o por los funcionarios asegurados antes de la fecha de iniciación de la presente póliza. | E503: 39957
A504: Honorarios profesionales de auditores, contadores, revisores y/o peritos, sublímite 30% valor asegurado, y hace parte del sublímite de gastos de defensa. Se requiere aprobación previa y expresa de la aseguradora
A505: * Inclusiones o Exclusiones de cargos: Queda entendido y acordado que la Entidad puede realizar esta clase de modificaciones y la aseguradora deberá aceptarlo con cobro de prima, Previo aviso a la aseguradora. No se generará devolución de prima por exclusión. Para inclusiones, no opera retroactividad de la póliza, solo aplica desde el inicio de la inclusión
A506: * Inexactitud o reticencia Las partes acuerdan que en caso de inexactitud o reticencia proveniente de error inculpable, el asegurador estará obligado, en caso de siniestro, al pago total de la prestación asegurada. El tomador declarará sinceramente los hechos o circunstancias que determinen el estado del riesgo. La inexactitud sobre hechos o circunstancias que, conocidas por la compañía, la hubiere retraído de celebrar el contrato, o inducido a estipular condiciones más onerosas, produce la nulidad relativa del seguro. Sin embargo, si el tomador incurriere en errores o inexactitudes inculpables a él o al asegurado, el contrato de seguro al cual se adhiere a este documento no será nulo ni habrá lugar a la aplicación del inciso tercero del artículo 1058 del Código de Comercio sobre reducción porcentual de la prestación asegurada. En este caso, se deberá pagar la prima adecuada al verdadero estado del riesgo
A507: * Libre escogencia de abogado para la defensa. Mediante esta condición, la selección de los profesionales encargados de la defensa corresponderá a LA ENTIDAD, o los funcionarios que ésta designe, quienes para su aprobación presentarán a la compañía la propuesta correspondiente. La compañía podrá, previa solicitud y de común acuerdo con LA ENTIDAD asumir la defensa de cualquier litigio o procedimiento legal a nombre del asegurado, a través de abogados elegidos por éste. Los pagos de gastos de defensa serán pagados al abogado seleccionado, cumpliendo con los criterios aquí definidos en cuanto a coberturas y cláusulas.
A508: * Más de una reclamación surgida de un mismo acto incorrecto. Se entenderá que constituye una sola reclamación, hecha por primera vez en el momento en que la primera reclamación haya sido considerada inicialmente hecha. Lo anterior no implica que las reclamaciones subsiguientes a la inicialmente hecha tengan su conteo respecto del término de prescripción desde la primera reclamación hecha, sino que por el contrario tendrán términos de prescripción independientes por cada reclamación que surja como consecuencia de un mismo Acto Incorrecto. Independientemente del número total de reclamos.
A509: * Modificaciones a favor del asegurado. Los cambios o modificaciones a las condiciones de la póliza, serán acordados mutuamente entre la compañía y el asegurado. El certificado, documento o comunicación que se expida para formalizarlos debe ser firmado por un representante legal del asegurado o funcionario autorizado, en señal de aceptación, prevaleciendo sobre las condiciones de esta póliza. No obstante, si durante la vigencia de la póliza se presentan modificaciones en las condiciones del seguro, legalmente aprobadas que representan un beneficio a favor del asegurado, tales modificaciones se consideran automáticamente incorporadas, sin necesidad de la formalidad antes descrita.
A510: * Modificación a cargos. Queda entendido, convenido y aceptado que si durante la vigencia de la presente póliza se presentan cambio(s) de denominaciones a cargos, éstos se consideran automáticamente incorporados en la póliza. Siempre y cuando estos mantengan funciones similares
A511: Modificación en las leyes existentes o introducción de nueva legislación. La presente póliza otorgará cobertura a los Asegurados, frente a la modificación en las leyes existentes o la introducción de nueva legislación en materia penal, disciplinaria o fiscal, sujeto a que las investigaciones o procesos que sean iniciados en virtud de dichas modificaciones legislativas, tengan como finalidad imputar responsabilidad a los Asegurados, por acciones u omisiones no dolosas cometidas en calidad de servidores públicos, con ocasión de las funciones propias del cargo Asegurado.
A512: * No aplicación de deducibles
A513: No aplicación de tarifa de colegio de abogados: No aplicación de tarifa de colegios de abogados u otro criterio, para limitar y/o aceptar la propuesta de los honorarios de abogados, presentada por la Entidad tomadora, los funcionarios que ésta designe o los asegurados, sujeto a que el valor de los mismos (incluidos impuestos y gravámenes, ya sean fiscales, tributarios u otros legalmente establecidos, y que por tal motivo formen parte del costo de los servicios de gastos de defensa) no superen los límites asegurados otorgados
A514: No exigencia de pagares; En los procesos penales (salvo cuando se establezca en contrario) el pago de honorarios operará por reembolso cuando el proceso haya terminado y se tenga certeza de la no existencia de dolo. Para el reconocimiento de anticipo en procesos penales será necesario otorgar contragarantía.
A515: Subrogación: Al indemnizar un siniestro la compañía se subroga, por ministerio de la ley y hasta concurrencia de su importe, en los derechos del Asegurado contra las personas responsables del siniestro, no obstante la Compañía renuncia expresamente a ejercer sus derechos de subrogación contra: 1. Cualquier persona o Entidad que sea un Asegurado bajo la póliza. 2. Cualquier filial, subsidiaria u operadora del asegurado. 3. Cualquier miembro de la Junta Directiva o cualquier empleado o dependiente del Asegurado, salvo el caso en que los daños hayan sido causados intencionalmente por ellos.
... A676: * RENTA DIARIA POR HOSPITALIZACIÓN: De acuerdo a las políticas de la aseguradora, opera a partir del tercer día de hospitalización, máximo 30 días continuos o discontinuos por evento y hasta tres eventos por vigencia. Sublimite hasta $60.000 por día. Opera por reembolso
A677: En vista de la situación respecto a la epidemia por Covid-19, y no obstante lo dicho en las condiciones generales de la póliza, la compañía se obliga a gestionar las reclamaciones presentadas como consecuencia directa y exclusiva del amparo básico de Muerte. Esto concerniente a la garantía de Vida Grupo, para asegurados menores de 60 años; aplica únicamente para COVID-19 SARS COV-2. | C677: no aplica para pandemias, y aplica únicamente para COVID-19 SARS COV-2.
A679: CLAUSULAS OBLIGATORIAS. VG
A680: Actualización automática del valor asegurado
A681: Amparo automático para asegurados que por error u omisión no se hayan informado al inicio del seguro 90 días, con cobro de prima adicional
A682: Amparo automático para nuevos asegurados 90 días, con cobro de prima adicional
A683: Ampliación del plazo para aviso de siniestro 90 días
A684: Anticipo de indemnización 50%
A685: Aplicación de tasa única para todos los asegurados
A686: ¨ Arbitramento o Cláusula Compromisoria. las diferencias o controversias que ocurrieren entre las partes con motivo de la ejecución, terminación y liquidación del contrato, sean solucionadas por los mecanismos de solución de conflictos contemplados en la Ley, como lo son la transacción, conciliación o amigable composición; en caso de fracasar los mecanismos antes mencionados, El asegurado y la compañía convienen en someter a un tribunal de arbitramento las diferencia que surjan como motivo de la aplicación de las clausulas y condiciones de esta póliza y a no intentar demanda o acción alguna de otra naturaleza. El tribunal tendrá como sede la ciudad de suscripción del contrato y fallará en derecho. Los árbitros serán nombrados siguiendo el procedimiento que para tal fin se establece en el decreto 2279 de 1989 o en la norma que lo reemplace haya estipulado
A687: Continuidad de cobertura: continuidad a la póliza de vida grupo expedida por otra aseguradora siempre y cuando el traslado se haya efectuado sin interrupción alguna, respecto de la anterior aseguradora. Para el otorgamiento de esta condición, será necesario que el tomador suministre información correspondiente a la Declaración de Asegurabilidad, fecha de ingreso a la póliza y la totalidad de las condiciones de cobertura definidas para cada asegurado. Aplicará a los asegurados de la póliza de vida grupo de la anterior aseguradora al momento de finalización de tal contrato
A688: Cláusula de aplicación de condiciones particulares: La compañía acepta las condiciones básicas, técnicas establecidas en este anexo, en los términos señalados en el mismo, por lo tanto, en caso de existir discrepancias entre los ofrecimientos contenidos en la propuesta técnica básica, frente a los textos de los ejemplares de las pólizas, certificados, anexos o cualquier otro documento; prevalecerá la información y condiciones básicas técnicas establecidas.
A689: Designación de beneficiarios
A690: Eliminación de la declaración de buen estado de salud
...

Sheet SINIESTROS
A1: RAMO | B1: DOC TOMADOR | C1: TOMADOR | D1: NRO STRO | E1: CAUSA | F1: FECHA RECLAMO | G1: VLR PAGADO
A2: AUTOMOVILES | B2: 899999328 | C2: MUNICIPIO DE FACATATIVÁ | E2: CHOQUE CONTRA OTROS VEHICULOS | F2: 43300 | G2: 1840168
A3: AUTOMOVILES | B3: 899999328 | C3: MUNICIPIO DE FACATATIVÁ | E3: CHOQUE CONTRA OTROS VEHICULOS | F3: 43300 | G3: 258000
A4: TR DAÑOS MAT ESTATAL | B4: 899999328 | C4: MUNICIPIO DE FACATATIVÁ | E4: HURTO SIMPLE | F4: 43003 | G4: 0
A5: TR DAÑOS MAT ESTATAL | B5: 899999328 | C5: MUNICIPIO DE FACATATIVÁ | E5: HURTO SIMPLE | F5: 43033 | G5: 0
A6: TR DAÑOS MAT ESTATAL | B6: 899999328 | C6: MUNICIPIO DE FACATATIVÁ | E6: HURTO SIMPLE | F6: 43038 | G6: 3210946
A7: TR DAÑOS MAT ESTATAL | B7: 899999328 | C7: MUNICIPIO DE FACATATIVÁ | E7: HURTO SIMPLE | F7: 43152 | G7: 953758
A8: TR DAÑOS MAT ESTATAL | B8: 899999328 | C8: MUNICIPIO DE FACATATIVÁ | E8: AMIT | F8: 43185 | G8: 1183988
A9: TR DAÑOS MAT ESTATAL | B9: 899999328 | C9: MUNICIPIO DE FACATATIVÁ | E9: HURTO SIMPLE | F9: 43179 | G9: 1320000
A10: TR DAÑOS MAT ESTATAL | B10: 899999328 | C10: MUNICIPIO DE FACATATIVÁ | E10: HURTO CALIFICADO | F10: 43222 | G10: 1000000
A11: TR DAÑOS MAT ESTATAL | B11: 899999328 | C11: MUNICIPIO DE FACATATIVÁ | E11: HURTO SIMPLE | F11: 43276 | G11: 1000000
A12: RC SERVIDORES PUBLIC | B12: 899999328 | C12: MUNICIPIO DE FACATATIVÁ | E12: ACTOS INCORRECTOS DE LOS SERVIDORES PUBLICOS | F12: 43143 | G12: 0
A13: RC SERVIDORES PUBLIC | B13: 899999328 | C13: MUNICIPIO DE FACATATIVÁ | E13: ACTOS INCORRECTOS DE LOS SERVIDORES PUBLICOS | F13: 43207 | G13: 0
A14: TR DAÑOS MAT ESTATAL | B14: 899999328 | C14: MUNICIPIO DE FACATATIVÁ | E14: HURTO CALIFICADO | F14: 43784
A15: TR DAÑOS MAT ESTATAL | B15: 899999328 | C15: MUNICIPIO DE FACATATIVÁ | E15: HURTO CALIFICADO | F15: 43784
A16: TR DAÑOS MAT ESTATAL | B16: 899999328 | C16: MUNICIPIO DE FACATATIVÁ | E16: ASONADA, MOTIN C.C. HUELGA ACTOS MAL INTENCIONADOS DE TERCEROS Y TERRORISMO | F16: 43791 | G16: 50000000
A17: TR DAÑOS MAT ESTATAL | B17: 899999328 | C17: MUNICIPIO DE FACATATIVÁ | E17: ASONADA, MOTIN C.C. HUELGA ACTOS MAL INTENCIONADOS DE TERCEROS Y TERRORISMO | F17: 43791 | G17: 100000000
A18: TR DAÑOS MAT ESTATAL | B18: 899999328 | C18: MUNICIPIO DE FACATATIVÁ | E18: ASONADA, MOTIN C.C. HUELGA ACTOS MAL INTENCIONADOS DE TERCEROS Y TERRORISMO | F18: 43791 | G18: 30000000
A19: TR DAÑOS MAT ESTATAL | B19: 899999328 | C19: MUNICIPIO DE FACATATIVÁ | E19: ASONADA, MOTIN C.C. HUELGA ACTOS MAL INTENCIONADOS DE TERCEROS Y TERRORISMO | F19: 43791 | G19: 50000000
A20: TR DAÑOS MAT ESTATAL | B20: 899999328 | C20: MUNICIPIO DE FACATATIVÁ | E20: HURTO CALIFICADO | F20: 43795
A21: TR DAÑOS MAT ESTATAL | B21: 899999328 | C21: MUNICIPIO DE FACATATIVÁ | E21: TODO RIESGO DAÑOS MATERIALES | F21: 43798 | G21: 1250000
A22: TR DAÑOS MAT ESTATAL | B22: 899999328 | C22: MUNICIPIO DE FACATATIVÁ | D22: 17361 | E22: ACTOS MAL INTENCIONADOS DE TERCEROS | F22: 44315 | G22: 4939004
A23: TR DAÑOS MAT ESTATAL | B23: 899999328 | C23: MUNICIPIO DE FACATATIVÁ | D23: 17430 | E23: BASICO - INCENDIO TODO RIESGO | F23: 44347 | G23: 0
A24: TR DAÑOS MAT ESTATAL | B24: 899999328 | C24: MUNICIPIO DE FACATATIVÁ | D24: 17430 | E24: ACTOS MAL INTENCIONADOS DE TERCEROS | F24: 44347 | G24: 6175398
A25: TR DAÑOS MAT ESTATAL | B25: 899999328 | C25: MUNICIPIO DE FACATATIVÁ | D25: 17639 | E25: ACTOS MAL INTENCIONADOS DE TERCEROS | F25: 44470 | G25: 1758704
A26: TR DAÑOS MAT ESTATAL | B26: 899999328 | C26: MUNICIPIO DE FACATATIVÁ | D26: 17431 | E26: HUELGA, ASONADA, MOTIN, CONMOCION CIVIL | F26: 44347 | G26: 1377583650
A27: TR DAÑOS MAT ESTATAL | B27: 899999328 | C27: MUNICIPIO DE FACATATIVÁ | D27: 17615 | E27: HUELGA, ASONADA, MOTIN, CONMOCION CIVIL | F27: 44456 | G27: 99209132
A28: TR DAÑOS MAT ESTATAL | B28: 899999328 | C28: MUNICIPIO DE FACATATIVÁ | D28: 17639 | E28: HUELGA, ASONADA, MOTIN, CONMOCION CIVIL | F28: 44470 | G28: 9619112
A29: PYME | B29: 899999328 | C29: MUNICIPIO DE FACATATIVÁ | D29: 17361 | E29: ACTOS MAL INTENCIONADOS DE TERCEROS | F29: 28/04/2021 | G29: 47376085
A30: PYME | B30: 899999328 | C30: MUNICIPIO DE FACATATIVÁ | D30: 17430 | E30: ACTOS MAL INTENCIONADOS DE TERCEROS | F30: 28/05/2021 | G30: 10124085
A31: PYME | B31: 899999328 | C31: MUNICIPIO DE FACATATIVÁ | D31: 17431 | E31: HUELGA, ASONADA, MOTIN, CONMOCION CIVIL | F31: 29/05/2021 | G31: 1494903242
A32: PYME | B32: 899999328 | C32: MUNICIPIO DE FACATATIVÁ | D32: 17615 | E32: HUELGA, ASONADA, MOTIN, CONMOCION CIVIL | F32: 03/05/2021 | G32: 99209132
A33: PYME | B33: 899999328 | C33: MUNICIPIO DE FACATATIVÁ | D33: 17639 | E33: ACTOS MAL INTENCIONADOS DE TERCEROS | F33: 29/06/2021 | G33: 11377816
A34: R. CIVIL EXTRAC. | B34: 899999328 | C34: MUNICIPIO DE FACATATIVÁ | D34: 17795 | E34: PREDIOS, LABORES Y OPERACIONES RCE | F34: 09/07/2023 | G34: 1827501
A35: AUTOMÓVILES LIV. COL | B35: 899999328 | C35: MUNICIPIO DE FACATATIVÁ | D35: 54172 | E35: PERDIDA TOTAL Y/O DESTRUCCION TOTAL | F35: 28/04/2021 | G35: 13916059
A36: AUTOMÓVILES LIV. COL | B36: 899999328 | C36: MUNICIPIO DE FACATATIVÁ | D36: 54174 | E36: PERDIDA TOTAL Y/O DESTRUCCION TOTAL | F36: 28/04/2021 | G36: 13916059
A37: AUTOMÓVILES LIV. COL | B37: 899999328 | C37: MUNICIPIO DE FACATATIVÁ | D37: 55085 | E37: ASISTENCIA JURIDICA | F37: 11/04/2024 | G37: 188738
A38: MANEJO | B38: 899999328 | C38: MUNICIPIO DE FACATATIVÁ | D38: 13344 | E38: EMPLEADOS PUBLICOS | F38: 19/08/2022 | G38: 14216411
A39: R. CIVIL | B39: 899999328 | C39: MUNICIPIO DE FACATATIVÁ | D39: 12677 | E39: ERRORES U OMISIONES | F39: 17/08/2022 | G39: 19995000
A40: AUTOMÓVILES LIV. COL | B40: 899999328 | C40: MUNICIPIO DE FACATATIVÁ | D40: 55721 | E40: ,RESPONSABILIDAD CIVIL EXTRACONTRACTUAL | F40: 07/04/2024 | G40: 10154734
...
