Workbook
Name \0: #N/A
Name \0: #N/A
Name \0: #REF!
Name \00: #REF!
Name \1: #REF!
Name \a: #REF!
Name \a: #REF!
Name \a: #REF!
Name \a: #REF!
Name \a: #REF!
Name \a: #REF!
Name \a: #REF!
Name \a: #REF!
Name \a: #REF!
Name \a: #REF!
Name \a: #REF!
Name \a: #REF!
Name \a: #REF!
Name \AA: #REF!
Name \AA: #REF!
Name \AA: [1]LIQUIDACION!#REF!
Name \b: #REF!
Name \b: #REF!
Name \b: #REF!
Name \b: #REF!
Name \b: #REF!
Name \b: #REF!
Name \b: #REF!
Name \b: #REF!
Name \b: #REF!
Name \b: #REF!
Name \b: #REF!
Name \b: [2]STRSUMM0!#REF!
Name \bb: #REF!
Name \bb: #REF!
Name \bb: [2]STRSUMM0!#REF!
Name \c: #REF!
Name \D: #REF!
Name \E: #REF!
Name \EE: #REF!
Name \G: #REF!
Name \i: #REF!
Name \i: #REF!
Name \i: #REF!
Name \i: #REF!
Name \i: #REF!
Name \i: #REF!
Name \i: #REF!
Name \i: #REF!
Name \i: #REF!
Name \i: #REF!
Name \i: #REF!
Name \i: #REF!
Name \k: #REF!
Name \k: #REF!
Name \k: '[3]7422CW00'!#REF!
Name \L: #REF!
Name \L: #REF!
Name \L: #REF!
Name \L: #REF!

Sheet PRESUPUESTO OFICIAL (Entidad)
C3: Formulario 1 - Propuesta económica - Documento tipo de licitación de obra pública de infraestructura de transporte - versión 4
C4: Código | D4: CCE-EICP-FM-14 | E4: Versión | F4: 4
C5: FORMULARIO 1
C6: PRESUPUESTO OFICIAL
C7: [La entidad puede utilizar este formulario de detalle del presupuesto oficial para determinar las condiciones bajo las cuales los proponentes analizarán y presentarán su propuesta económica de forma detallada, sin perjuicio que la entidad pueda modificarlo o establecer la presentación de la oferta económica con un formulario distinto al indicado.]
C9: Adicionalmente, cuando el proceso de contratación es estructurado por precios unitarios, la Entidad debe aplicar las notas 1, 2 y 3 del presente formulario y las casillas de "Descripción", "Porcentaje" de la Administración, Imprevisto, Utilidad y total A.I.U. resaltadas en color amarillo. Tratándose de otras modalidades de precio, la Entidad puede o no configurar los mismos aspectos.
C10: PRESUPUESTO VIA LA CAÑADA (K0+000 - K7+380)
C11: Nº | D11: ÍTEM DE PAGO | E11: ESPECIFICACIONES | G11: DESCRIPCIÓN | H11: UND. | I11: CANTIDAD | J11: VALOR UNITARIO | K11: VALOR TOTAL
E12: GENERAL | F12: PARTICULAR
D13: 1 | G13: MOVIMIENTO DE TIERRA
D14: 1.1 | G14: EXCAVACIONES VARIAS SIN CLASIFICAR (INCLUYE TRANSPORTE HASTA SITIO DE DISPOSICION) | H14: m3 | I14: 14499 | J14: 54600 | K14: =+I14*J14 -> 791645400
D15: 1.2 | G15: TERRAPLENES CON MATERIAL DE SITIO | H15: m3 | I15: 3000 | J15: 41600 | K15: =+I15*J15 -> 124800000
C16: Subtotal | K16: =SUM(K14:K15) -> 916445400
D17: 2 | G17: MANTENIMIENTO DE ALCANTARILLAS
D18: 2.1 | G18: TIPO DE CONCRETO DE 14 MPa (Analizado para concreto liviano resistencia 14 Mpa, mezcla in situ) | H18: m3 | I18: 6.7 | J18: 1034800 | K18: =+I18*J18 -> 6933160
D19: 2.2 | G19: TIPO DE CONCRETO 28 MPa (Resistencia a la compresión a los 28 días f 'c = 210 kg /cm2. ) | H19: m3 | I19: 56.599771 | J19: 1625000 | K19: =+I19*J19 -> 91974628
D20: 2.3 | G20: ACERO DE REFUERZO ( 4200 Kg/cm2 - fy - 5200 Kg/cm2) | H20: kg | I20: 5659.89 | J20: 9100 | K20: =+I20*J20 -> 51504999
D21: 2.4 | G21: ESCARIFICACIÓN DE ESTRUCTURAS | H21: m3 | I21: =+[115]DEMOLICIÓN!$K$17 -> 114.759 | J21: 279500 | K21: =+I21*J21 -> 32075140
D22: 2.5 | G22: Suministro e Instalación de barrera metalica de proteccion | H22: ml | I22: 10 | J22: 1092000 | K22: =+I22*J22 -> 10920000
C23: Subtotal | K23: =SUM(K18:K22) -> 193407927
D24: 3 | G24: ESTRUCTURA DE PAVIMENTO
D25: 3.1 | G25: SUB-BASE GRANULAR CLASE B (Analizada para tipo de gradacion SGB-50, clase B) | H25: m3 | I25: 5625 | J25: 247000 | K25: =+I25*J25 -> 1389375000
D26: 3.2 | G26: ACERO DE REFUERZO ( 4200 Kg/cm2 - fy - 5200 Kg/cm2 (CCP-14)) | H26: kg | I26: 216479.02 | J26: 9100 | K26: =+I26*J26 -> 1969959082
D27: 3.3 | G27: SUMINISTRO E INSTALACIÓN DE CONCRETO NORMAL CLASE D - (F´C=210 KGF/CM2) O (3.000 PSI) PARA DENTELLONES- PLACAS - RIOSTRAS - CUNETAS - BORDILLO. | H27: m3 | I27: 4209 | J27: 1274000 | K27: =+I27*J27 -> 5362266000
D28: 3.4 | G28: SUMINISTRO E INSTALACIÓN DE CONCRETO CICLÓPEO DE 210 KG/CM² (3.000 PSI) ESPESOR 0,15 M.60% CONCRETO NORMAL DE 210 KG/CM² (3.000 PSI) , 40% PIEDRA ESP. 630-22 INV. | H28: m3 | I28: 1992.6 | J28: 1014000 | K28: =+I28*J28 -> 2020496400
C29: Subtotal | K29: =SUM(K25:K28) -> 10742096482
G31: VALOR TOTAL COSTO DIRECTO | K31: =+K29+K23+K16 -> 11851949809
G32: SUBTOTAL OBRAS (INCLUYE IVA) | J32: 0.19 | K32: 86610402
G33: VALOR TOTAL | K33: =+K31+K32 -> 11938560211
D35: 1 | G35: CONTROL DE MATERIAL PARTICULADO Y RUIDO AMBIENTALINFORMACIÓN Y DIVULGACIÓN
D36: 1.1 | G36: MATERIAL DE DIVULGACIÓN - FOLLETOS (POR 1000 FOLLETOS) | H36: und | I36: 4 | J36: 1000000 | K36: =+I36*J36 -> 4000000
D37: 1.2 | G37: MATERIAL DE DIVULGACIÓN - VOLANTES (POR 1000 VOLANTES) | H37: und | I37: 4 | J37: 1000000 | K37: =+I37*J37 -> 4000000
D38: 1.3 | G38: CUÑA RADIAL - ANUNCIOS DE INFORMACIÓN EN MEDIOS LOCALES | H38: und | I38: 4 | J38: 1000000 | K38: =+I38*J38 -> 4000000
D39: 1.4 | G39: REUNIONES INFORMATIVAS CON COMUNIDAD Y MUNICIPIOS | H39: und | I39: 4 | J39: 1300000 | K39: =+I39*J39 -> 5200000
C40: Subtotal | K40: =SUM(K36:K39) -> 17200000
D41: 2 | G41: CULTURA VIAL Y PARTICIPACIÓN COMUNITARIA
D42: 2.1 | G42: CAMPAÑAS - CUIDADO DE LA OBRA | H42: und | I42: 4 | J42: 1300000 | K42: =+I42*J42 -> 5200000
D43: 2.2 | G43: CAMPAÑAS - CULTURA VIAL | H43: und | I43: 4 | J43: 1300000 | K43: =+I43*J43 -> 5200000
D44: 2.3 | G44: TALLERES PEDAGÓGICOS DE SOSTENIBILIDAD | H44: und | I44: 4 | J44: 1300000 | K44: =+I44*J44 -> 5200000
C45: Subtotal | K45: =SUM(K42:K44) -> 15600000
...

Sheet PROPUESTA ECONOMICA(Proponente)
C3: Formulario 1 - Propuesta económica - Documento tipo de licitación de obra pública de infraestructura de transporte - versión 4
C4: Código | D4: CCE-EICP-FM-14 | E4: Versión | F4: 4
C5: FORMULARIO 1
C6: PROPUESTA ECONÓMICA
C7: [La entidad puede utilizar este formulario de presentación de propuesta económica de forma detallada, sin perjuicio que la entidad pueda modificarlo o establecer la presentación de la oferta económica con un formulario distinto al indicado.] [Los proponentes emplearán el formulario establecido por la entidad para determinar su propuesta económica conforme al Formulario 1 - Presupuesto Oficial publicado por la Entidad]
C9: Cuando el proceso de contratación es estructurado por precios unitarios, la Entidad debe aplicar las notas 1, 2 y 3 del presente formato y las casillas de "Descripción", "Porcentaje" de la Administración, Imprevisto, Utilidad y total A.I.U. resaltadas en color amarillo.
C11: Nº | D11: ÍTEM DE PAGO | E11: ESPECIFICACIONES | G11: DESCRIPCIÓN | H11: UND. | I11: CANTIDAD | J11: VALOR UNITARIO | K11: VALOR TOTAL
E12: GENERAL | F12: PARTICULAR
C15: Subtotal
C21: Subtotal
C31: Subtotal
C36: Subtotal
C39: Subtotal
C40: SUBTOTAL OBRAS
G45: SUBTOTAL OBRAS (INCLUYE IVA)
G49: VALOR TOTAL
C52: NOTA 1: Se debe tener en cuenta que el PRECIO UNITARIO incluye el valor de A.I.U. | H52: DESCRIPCIÓN | K52: PORCENTAJE
C53: NOTA 2: Cuando la fracción decimal del peso sea igual o superior a 5 se aproximara por exceso al número entero siguiente del peso y cuando la fracción decimal del peso sea inferior a 5 se aproximará por defecto al número entero del peso. | H53: ADMINISTRACIÓN | J53: A= | K53: [Ofrecimiento del Proponente]
C54: NOTA 3: El A.I.U y su discriminación deben estar en porcentaje (%). | H54: IMPREVISTO | J54: I= | K54: [Ofrecimiento del Proponente]
H55: UTILIDAD | J55: U= | K55: [Ofrecimiento del Proponente]
H56: TOTAL A.I.U | J56: A.I.U.= | K56: [Ofrecimiento del Proponente]
G59: Firma del Proponente o de su Representante Legal

Sheet INDICAR CÓDIGO DEL ITEM DE PAGO
C3: Formulario 1 - Propuesta económica - Documento tipo de licitación de obra pública de infraestructura de transporte - versión 4
C4: Código | D4: CCE-EICP-FM-14 | E4: Versión | F4: 4
C6: [La entidad podrá utilizar este formato para la presentación de los análisis de precios unitarios del contratista en la oportunidad prevista en el numeral 8.1. del Documento Base]
D9: MUNICIPIO DE EL AGRADO
L10: VERSIÓN
D11: [NÚMERO DEL PROCESO]
L12: PÁGINA | M12: 1 | N12: DE | O12: 1
D14: ANALISIS DE PRECIOS UNITARIOS
L16: FECHA | M16: DD | N16: MM | O16: AA
C18: ÍTEMS DE LA PROPUESTA ECONÓMICA | I18: ÍTEMS NO PREVISTOS
C22: =+'PRESUPUESTO OFICIAL (Entidad)'!G14 -> EXCAVACIONES VARIAS SIN CLASIFICAR (INCLUYE TRANSPORTE HASTA SITIO DE DISPOSICION)
C24: ÍTEM | D24: DESCRIPCIÓN | M24: UNIDAD | O24: CANTIDAD
C25: =+'PRESUPUESTO OFICIAL (Entidad)'!D14 -> 1.1 | M25: =+'PRESUPUESTO OFICIAL (Entidad)'!H14 -> m3 | O25: =+'PRESUPUESTO OFICIAL (Entidad)'!I14 -> 14499
C26: I. EQUIPO
C29: DESCRIPCIÓN | H29: MARCA | J29: TIPO | L29: TARIFA/HORA | M29: RENDIMIENTO | O29: Vr. UNITARIO
C33: SUBTOTAL $
C34: II. MATERIALES
C37: DESCRIPCIÓN | K37: UNIDAD | L37: CANTIDAD | M37: PRECIO UNIT. | O37: Vr. UNITARIO
C40: SUBTOTAL $ | O40: 0
C41: III. TRANSPORTES
C44: MATERIAL | J44: VOL. o PESO | K44: DISTANCIA | L44: M3 o Ton/Km | M44: TARIFA | O44: Vr. UNITARIO
C47: SUBTOTAL $
C48: IV. MANO DE OBRA
C51: TRABAJADOR | J51: JORNAL | K51: PRESTACIONES | L51: JORNAL TOTAL | M51: RENDIMIENTO | O51: Vr. UNITARIO
C56: SUBTOTAL $
C58: TOTAL COSTO DIRECTO $
C59: V. COSTOS INDIRECTOS
C62: Descripción | L62: Porcentaje | M62: Valor Total
C63: ADMINISTRACION
C64: IMPREVISTOS
C65: UTILIDAD
C66: SUBTOTAL $
C68: Precio Unitario Total Aproximado al peso $
H72: Firma
H73: Nombre:
H74: Representante Legal del Contratista o su Apoderado
H75: Matricula No. :
C77: OBSERVACIONES INTERVENTORÍA
C81: APROBACIÓN POR INTERVENTORÍA
C82: Nota 1: Cuando se trate de Análisis de precios unitarios correspondientes a ítems de la propuesta económica aprobada, el Interventor aprueba el desglose de los componentes manteniendo el mismo precio unitario de cada ítem, cumpliendo con las especificaciones de construcción vigentes para el proyecto.
...

Sheet 1.1
D1: MUNICIPIO DE EL AGRADO ANALISIS DE PRECIOS UNITARIOS
B7: ITEM | C7: DESCRIPCIÓN | J7: UNIDAD | K7: CANTIDAD
B8: 1.1 | C8: =+[115]PRESUPUESTO!G13 -> EXCAVACIONES VARIAS SIN CLASIFICAR (INCLUYE TRANSPORTE HASTA SITIO DE DISPOSICION) | J8: =+[115]PRESUPUESTO!I13 -> m3 | K8: =+[115]PRESUPUESTO!J13 -> 14499
B10: I. EQUIPO
B11: DESCRIPCIÓN | H11: UNIDAD | I11: TARIFA | J11: RENDIMIENTO | K11: Vr. UNITARIO
A12: 6 | B12: =VLOOKUP(A12,[115]EQUIPO!$A$3:$R$91,3,TRUE) -> VIBROCOMPACTADOR 1.7 TON BENITIN | H12: =VLOOKUP(A12,[115]EQUIPO!$A$3:$R$91,15,TRUE) -> hr | I12: =VLOOKUP(A12,[115]EQUIPO!$A$3:$V$91,17,TRUE) -> 60000 | J12: =+J39/8 -> 30.29838 | K12: =I12/J12 -> 1980.3039 | N12: 30.29838
A13: 1 | B13: =VLOOKUP(A13,[115]EQUIPO!$A$3:$R$91,3,TRUE) -> EXCAVADORA PC200 | H13: =VLOOKUP(A13,[115]EQUIPO!$A$3:$R$91,15,TRUE) -> hr | I13: =VLOOKUP(A13,[115]EQUIPO!$A$3:$V$91,17,TRUE) -> 215431.99 | J13: =+J12 -> 30.29838 | K13: =I13/J13 -> 7110.3468
M16: =5/8 -> 0.625
B17: HERRAMIENTA MENOR | H17: GL | J17: 0.050166667 | K17: =+K44*J17 -> 256.151
B19: Subtotal | K19: =+ROUND(SUM(K12:K18),0) -> 9347
B20: II. MATERIALES
H21: UNIDAD | I21: TARIFA | J21: CANTIDAD | K21: Vr. UNITARIO
B31: Subtotal | K31: =SUM(K22:K30) -> 0
B32: III. TRANSPORTES
B33: DESCRIPCIÓN | G33: CANTIDAD (1) | H33: DISTANCIA (2) | I33: (1) * (2) | J33: TARIFA | K33: Vr. UNITARIO
A34: 8800 | B34: =VLOOKUP(A34,'[115]MATERIALES '!B14:E154,2,TRUE) -> Transporte de material suelto desde Planta | G34: 1.3 | H34: =+'[115]MATERIALES '!E134 -> 16.3 | I34: =+H34*G34 -> 21.19 | J34: =VLOOKUP(A34,'[115]MATERIALES '!B14:E154,4,TRUE) -> 1300 | K34: =I34*J34 -> 27547
B36: Subtotal | K36: =ROUND(SUM(K34:K35),0) -> 27547
B37: IV. MANO DE OBRA
B38: DESCRIPCIÓN | G38: JORNAL | H38: PRESTACIONES (%) | I38: JORNAL TOTAL | J38: RENDIMIENTO | K38: Vr. UNITARIO
A39: 1002 | B39: =VLOOKUP(A39,[115]MO!$A$12:$F$66,2,TRUE) -> CUADRILLA OBRA CIVIL (1 Oficial + 3 Ayudantes) | G39: =VLOOKUP(A39,[115]MO!$A$12:$F$66,4,TRUE) -> 336456.96 | H39: =VLOOKUP(A39,[115]MO!$A$12:$F$62,5,TRUE) -> 0.95 | I39: =+G39*(1+H39) -> 656091.07 | J39: =+N12*8 -> 242.38704 | K39: =I39/J39 -> 2706.7911
A40: 105 | B40: =VLOOKUP(A40,[115]MO!$A$12:$F$66,2,TRUE) -> Operador de Maquinaria | G40: =VLOOKUP(A40,[115]MO!$A$12:$F$66,4,TRUE) -> 149130.19 | H40: =VLOOKUP(A40,[115]MO!$A$12:$F$62,5,TRUE) -> 0.95 | I40: =+G40*(1+H40) -> 290803.86 | J40: =+J13*8 -> 242.38704 | K40: =I40/J40 -> 1199.7501
A41: 105 | B41: =VLOOKUP(A41,[115]MO!$A$12:$F$66,2,TRUE) -> Operador de Maquinaria | G41: =VLOOKUP(A41,[115]MO!$A$12:$F$66,4,TRUE) -> 149130.19 | H41: =VLOOKUP(A41,[115]MO!$A$12:$F$62,5,TRUE) -> 0.95 | I41: =+G41*(1+H41) -> 290803.86 | J41: =+J40 -> 242.38704 | K41: =I41/J41 -> 1199.7501
B44: Subtotal | K44: =ROUND(SUM(K39:K43),0) -> 5106
B46: COSTO DIRECTO $ | K46: =+K44+K36+K31+K19 -> 42000
B47: COSTOS INDIRECTOS
B48: DESCRIPCION | I48: PORCENTAJE | J48: VALOR TOTAL
B49: ADMINISTRACION | I49: 0.23 | J49: =+$K$46*I49 -> 9660 | K49: =+J49 -> 9660
B50: IMPREVISTOS | I50: 0.02 | J50: =+$K$46*I50 -> 840 | K50: =+J50 -> 840
B51: UTILIDAD | I51: 0.05 | J51: =+$K$46*I51 -> 2100 | K51: =+J51 -> 2100
B52: SUBTOTAL | K52: =SUM(K49:K51) -> 12600
B54: Precio Unitario Total Aproximado al peso $ | K54: =+K46+K52 -> 54600
B58: Firma
B59: Nombre:OSCAR DANIEL ROJAS ORDOÑEZ
B60: Matricula No. :161037-0514988 TLM
B61: PROFESIONAL APOYO TECNICO SECRETARIA DE PLANEACION Y OBRAS PUBLICAS MUNICIPALES
B63: OBSERVACIONES INTERVENTORÍA
B67: APROBACIÓN POR INTERVENTORÍA
B68: Nota 1: Cuando se trate de Análisis de precios unitarios correspondientes a ítems de la propuesta económica aprobada, el Interventor aprueba el desglose de los componentes manteniendo el mismo precio unitario de cada ítem, cumpliendo con las especificaciones de construcción vigentes para el proyecto.
B70: Nota 2: Cuando se trate de Análisis de precios unitarios de ítems no previstos, el Interventor aprueba el desglose y precio unitario de cada ítem no previsto, exigiendo la aplicación de los costos correspondientes a insumos y tarifas de la propuesta económica inicial cuando estén contemplados, cumpliendo con las especificaciones de construcción vigente para el proyecto.
D74: Firma
...

Sheet 1.2
D1: MUNICIPIO DE EL AGRADO ANALISIS DE PRECIOS UNITARIOS
B7: ITEM | C7: DESCRIPCIÓN | J7: UNIDAD | K7: CANTIDAD
B8: 1.2 | C8: =+[115]PRESUPUESTO!G14 -> TERRAPLENES CON MATERIAL DE SITIO | J8: =+[115]PRESUPUESTO!I14 -> m3 | K8: =+[115]PRESUPUESTO!J14 -> 3000
B10: I. EQUIPO
B11: DESCRIPCIÓN | H11: UNIDAD | I11: TARIFA | J11: RENDIMIENTO | K11: Vr. UNITARIO
A12: 6 | B12: =VLOOKUP(A12,[115]EQUIPO!$A$3:$R$91,3,TRUE) -> VIBROCOMPACTADOR 1.7 TON BENITIN | H12: =VLOOKUP(A12,[115]EQUIPO!$A$3:$R$91,15,TRUE) -> hr | I12: =VLOOKUP(A12,[115]EQUIPO!$A$3:$V$91,17,TRUE) -> 60000 | J12: =+$J$39/8 -> 24.454558 | K12: =I12/J12 -> 2453.5303 | N12: 24.454558 | O12: 50 | P12: 20
A13: 1 | B13: =VLOOKUP(A13,[115]EQUIPO!$A$3:$R$91,3,TRUE) -> EXCAVADORA PC200 | H13: =VLOOKUP(A13,[115]EQUIPO!$A$3:$R$91,15,TRUE) -> hr | I13: =VLOOKUP(A13,[115]EQUIPO!$A$3:$V$91,17,TRUE) -> 215431.99 | J13: =+$J$39/8 -> 24.454558 | K13: =I13/J13 -> 8809.4819
A14: 4 | B14: =VLOOKUP(A14,[115]EQUIPO!$A$3:$R$91,3,TRUE) -> MOTONIVELADORA CAT120H | H14: =VLOOKUP(A14,[115]EQUIPO!$A$3:$R$91,15,TRUE) -> hr | I14: =VLOOKUP(A14,[115]EQUIPO!$A$3:$V$91,17,TRUE) -> 215431.99 | J14: =+$J$39/8 -> 24.454558 | K14: =I14/J14 -> 8809.4819
A15: 8 | B15: =VLOOKUP(A15,[115]EQUIPO!$A$3:$R$91,3,TRUE) -> CARROTANQUE DE AGUA 5000 gl | H15: =VLOOKUP(A15,[115]EQUIPO!$A$3:$R$91,15,TRUE) -> hr | I15: =VLOOKUP(A15,[115]EQUIPO!$A$3:$V$91,17,TRUE) -> 129259.19 | J15: =+$J$39/8 -> 24.454558 | K15: =I15/J15 -> 5285.6891
B17: HERRAMIENTA MENOR | H17: GL | J17: 0.05 | K17: =+K44*J17 -> 316.3
B19: Subtotal | K19: =+ROUNDDOWN(SUM(K12:K18),0) -> 25674
B20: II. MATERIALES
H21: UNIDAD | I21: TARIFA | J21: CANTIDAD | K21: Vr. UNITARIO
B31: | | K31: =SUM(K22:K30) -> 0
B32: III. TRANSPORTES
B33: DESCRIPCIÓN | G33: CANTIDAD (1) | H33: DISTANCIA (2) | I33: (1) * (2) | J33: TARIFA | K33: Vr. UNITARIO
G34: 0 | H34: 0 | I34: 0 | J34: 0 | K34: =I34*J34 -> 0
B36: Subtotal | K36: =SUM(K34:K35) -> 0
B37: IV. MANO DE OBRA
B38: DESCRIPCIÓN | G38: JORNAL | H38: PRESTACIONES (%) | I38: JORNAL TOTAL | J38: RENDIMIENTO | K38: Vr. UNITARIO
A39: 1002 | B39: =VLOOKUP(A39,[115]MO!$A$12:$F$66,2,TRUE) -> CUADRILLA OBRA CIVIL (1 Oficial + 3 Ayudantes) | G39: =VLOOKUP(A39,[115]MO!$A$12:$F$66,4,TRUE) -> 336456.96 | H39: =VLOOKUP(A39,[115]MO!$A$12:$F$62,5,TRUE) -> 0.95 | I39: =+G39*(1+H39) -> 656091.07 | J39: =+N12*8 -> 195.63647 | K39: =I39/J39 -> 3353.6236 | M39: =17*8 -> 136
A40: 105 | B40: =VLOOKUP(A40,[115]MO!$A$12:$F$66,2,TRUE) -> Operador de Maquinaria | G40: =VLOOKUP(A40,[115]MO!$A$12:$F$66,4,TRUE) -> 149130.19 | H40: =VLOOKUP(A40,[115]MO!$A$12:$F$62,5,TRUE) -> 0.95 | I40: =+G40*(1+H40) -> 290803.86 | J40: =+J13*8 -> 195.63647 | K40: =I40/J40 -> 1486.4502
A41: 105 | B41: =VLOOKUP(A41,[115]MO!$A$12:$F$66,2,TRUE) -> Operador de Maquinaria | G41: =VLOOKUP(A41,[115]MO!$A$12:$F$66,4,TRUE) -> 149130.19 | H41: =VLOOKUP(A41,[115]MO!$A$12:$F$62,5,TRUE) -> 0.95 | I41: =+G41*(1+H41) -> 290803.86 | J41: =+J14*8 -> 195.63647 | K41: =I41/J41 -> 1486.4502
B44: Subtotal | K44: =ROUNDDOWN(SUM(K39:K43),0) -> 6326
B46: COSTO DIRECTO $ | K46: =+K44+K36+K31+K19 -> 32000
B47: COSTOS INDIRECTOS
B48: DESCRIPCION | I48: PORCENTAJE | J48: VALOR TOTAL
B49: ADMINISTRACION | I49: 0.23 | J49: =+$K$46*I49 -> 7360 | K49: =+J49 -> 7360
B50: IMPREVISTOS | I50: 0.02 | J50: =+$K$46*I50 -> 640 | K50: =+J50 -> 640
B51: UTILIDAD | I51: 0.05 | J51: =+$K$46*I51 -> 1600 | K51: =+J51 -> 1600
B52: SUBTOTAL | K52: =SUM(K49:K51) -> 9600
B54: Precio Unitario Total Aproximado al peso $ | K54: =+K46+K52 -> 41600
B58: Firma
B59: Nombre:OSCAR DANIEL ROJAS ORDOÑEZ
B60: Matricula No. :161037-0514988 TLM
B61: PROFESIONAL APOYO TECNICO SECRETARIA DE PLANEACION Y OBRAS PUBLICAS MUNICIPALES
B63: OBSERVACIONES INTERVENTORÍA
B67: APROBACIÓN POR INTERVENTORÍA
B68: Nota 1: Cuando se trate de Análisis de precios unitarios correspondientes a ítems de la propuesta económica aprobada, el Interventor aprueba el desglose de los componentes manteniendo el mismo precio unitario de cada ítem, cumpliendo con las especificaciones de construcción vigentes para el proyecto.
B70: Nota 2: Cuando se trate de Análisis de precios unitarios de ítems no previstos, el Interventor aprueba el desglose y precio unitario de cada ítem no previsto, exigiendo la aplicación de los costos correspondientes a insumos y tarifas de la propuesta económica inicial cuando estén contemplados, cumpliendo con las especificaciones de construcción vigente para el proyecto.
...

Sheet 2.1
D1: MUNICIPIO DE EL AGRADO ANALISIS DE PRECIOS UNITARIOS
B7: ITEM | C7: DESCRIPCIÓN | J7: UNIDAD | K7: CANTIDAD
B8: 2.1 | C8: =+[115]PRESUPUESTO!G19 -> TIPO DE CONCRETO DE 14 MPa (Analizado para concreto liviano resistencia 14 Mpa, mezcla in situ) | J8: =+[115]PRESUPUESTO!I19 -> m3 | K8: =+[115]PRESUPUESTO!J19 -> 6.7014
B10: I. EQUIPO
B11: DESCRIPCIÓN | H11: UNIDAD | I11: TARIFA | J11: RENDIMIENTO | K11: Vr. UNITARIO
A12: 33 | B12: =VLOOKUP(A12,[115]EQUIPO!$A$3:$R$91,3,TRUE) -> VIBRADOR DE CONCRETO | H12: =VLOOKUP(A12,[115]EQUIPO!$A$3:$R$91,12,TRUE) -> 0 | I12: =VLOOKUP(A12,[115]EQUIPO!$A$3:$V$91,14,TRUE) -> 17234.559 | J12: =+J34/5 -> 0.95805246 | K12: =I12/J12 -> 17989.16 | N12: 4.7902623 | O12: 6.92
B16: HERRAMIENTA MENOR | H16: GL | J16: 0.05 | K16: =+K39*J16 -> 6848.15
B18: Subtotal | K18: =+ROUND(SUM(K12:K17),0) -> 24837
B19: II. MATERIALES
H20: UNIDAD | I20: TARIFA | J20: CANTIDAD | K20: Vr. UNITARIO
A21: 1006 | B21: =VLOOKUP(A21,'[115]MATERIALES '!B15:E155,2,FALSE) -> CONCRETO CLASE F 140 KG/CM2 2000 PSI | H21: =VLOOKUP(A21,'[115]MATERIALES '!B15:E155,3,FALSE) -> M3 | I21: =VLOOKUP(A21,'[115]MATERIALES '!B15:E155,4,FALSE) -> 580000 | J21: 1.05 | K21: =+ROUND(J21*I21,0) -> 609000
B27: | | K27: =SUM(K21:K26) -> 609000
B28: III. TRANSPORTES
B29: DESCRIPCIÓN | G29: CANTIDAD (1) | H29: DISTANCIA (2) | I29: (1) * (2) | J29: TARIFA | K29: Vr. UNITARIO
A30: 8806 | B30: =VLOOKUP(A30,'[115]MATERIALES '!B15:E155,2,TRUE) -> Transporte de material de asfalto | G30: =+J21 -> 1.05 | H30: 12 | I30: =+H30*G30 -> 12.6 | J30: =VLOOKUP(A30,'[115]MATERIALES '!B15:E155,4,TRUE) -> 2000 | K30: =I30*J30 -> 25200
B31: Subtotal | K31: =ROUNDDOWN(SUM(K30:K30),0) -> 25200
B32: IV. MANO DE OBRA
B33: DESCRIPCIÓN | G33: JORNAL | H33: PRESTACIONES (%) | I33: JORNAL TOTAL | J33: RENDIMIENTO | K33: Vr. UNITARIO
A34: 1002 | B34: =VLOOKUP(A34,[115]MO!$A$12:$F$66,2,TRUE) -> CUADRILLA OBRA CIVIL (1 Oficial + 3 Ayudantes) | G34: =VLOOKUP(A34,[115]MO!$A$12:$F$66,4,TRUE) -> 336456.96 | H34: =VLOOKUP(A34,[115]MO!$A$12:$F$62,5,TRUE) -> 0.95 | I34: =+G34*(1+H34) -> 656091.07 | J34: =+N12 -> 4.7902623 | K34: =I34/J34 -> 136963.5
B39: Subtotal | K39: =ROUNDDOWN(SUM(K34:K38),0) -> 136963
B41: COSTO DIRECTO $ | K41: =+K39+K31+K27+K18 -> 796000
B42: COSTOS INDIRECTOS
B43: DESCRIPCION | I43: PORCENTAJE | J43: VALOR TOTAL
B44: ADMINISTRACION | I44: 0.23 | J44: =+$K$41*I44 -> 183080 | K44: =+J44 -> 183080
B45: IMPREVISTOS | I45: 0.02 | J45: =+$K$41*I45 -> 15920 | K45: =+J45 -> 15920
B46: UTILIDAD | I46: 0.05 | J46: =+$K$41*I46 -> 39800 | K46: =+J46 -> 39800
B47: SUBTOTAL | K47: =SUM(K44:K46) -> 238800
B49: Precio Unitario Total Aproximado al peso $ | K49: =+K41+K47 -> 1034800
B53: Firma
B54: Nombre:OSCAR DANIEL ROJAS ORDOÑEZ
B55: Matricula No. :161037-0514988 TLM
B56: PROFESIONAL APOYO TECNICO SECRETARIA DE PLANEACION Y OBRAS PUBLICAS MUNICIPALES
B58: OBSERVACIONES INTERVENTORÍA
B62: APROBACIÓN POR INTERVENTORÍA
B63: Nota 1: Cuando se trate de Análisis de precios unitarios correspondientes a ítems de la propuesta económica aprobada, el Interventor aprueba el desglose de los componentes manteniendo el mismo precio unitario de cada ítem, cumpliendo con las especificaciones de construcción vigentes para el proyecto.
B65: Nota 2: Cuando se trate de Análisis de precios unitarios de ítems no previstos, el Interventor aprueba el desglose y precio unitario de cada ítem no previsto, exigiendo la aplicación de los costos correspondientes a insumos y tarifas de la propuesta económica inicial cuando estén contemplados, cumpliendo con las especificaciones de construcción vigente para el proyecto.
D69: Firma
D70: Nombre:
D71: Representante Legal del Interventor o su Apoderado
D72: Matricula No. :

Sheet 2.2
D1: MUNICIPIO DE EL AGRADO ANALISIS DE PRECIOS UNITARIOS
B7: ITEM | C7: DESCRIPCIÓN | J7: UNIDAD | K7: CANTIDAD
B8: 2.2 | C8: =+'PRESUPUESTO OFICIAL (Entidad)'!G19 -> TIPO DE CONCRETO 28 MPa (Resistencia a la compresión a los 28 días f 'c = 210 kg /cm2. ) | J8: =+[115]PRESUPUESTO!I21 -> m3 | K8: =+[115]PRESUPUESTO!J21 -> 56.598901
B10: I. EQUIPO
B11: DESCRIPCIÓN | H11: UNIDAD | I11: TARIFA | J11: RENDIMIENTO | K11: Vr. UNITARIO
A12: 33 | B12: =VLOOKUP(A12,[115]EQUIPO!$A$3:$R$91,3,TRUE) -> VIBRADOR DE CONCRETO | H12: hr | I12: =VLOOKUP(A12,[115]EQUIPO!$A$3:$V$91,14,TRUE) -> 17234.559 | J12: =+J35/5 -> 0.6089597 | K12: =I12/J12 -> 28301.641 | N12: 3.0447985 | O12: 7.33
B16: HERRAMIENTA MENOR | H16: GL | J16: 0.05 | K16: =+K40*J16 -> 21547.9
B18: Subtotal | K18: =+ROUND(SUM(K12:K17),0) -> 49850
B19: II. MATERIALES
H20: UNIDAD | I20: TARIFA | J20: CANTIDAD | K20: Vr. UNITARIO
A21: 1002 | B21: =VLOOKUP(A21,'[115]MATERIALES '!B15:E155,2,FALSE) -> CONCRETO CLASE C 280 KG/CM2 4000 PSI | H21: =VLOOKUP(A21,'[115]MATERIALES '!B15:E155,3,FALSE) -> M3 | I21: =VLOOKUP(A21,'[115]MATERIALES '!B15:E155,4,FALSE) -> 650000 | J21: 1.05 | K21: =+ROUND(J21*I21,0) -> 682500
A22: 4018 | B22: =VLOOKUP(A22,'[115]MATERIALES '!B16:E156,2,FALSE) -> FORMALETA METÁLICA | H22: =VLOOKUP(A22,'[115]MATERIALES '!B16:E156,3,FALSE) -> M2 | I22: =VLOOKUP(A22,'[115]MATERIALES '!B16:E156,4,FALSE) -> 16380.725 | J22: 3 | K22: =+ROUND(J22*I22,0) -> 49142
A23: 4037 | B23: =VLOOKUP(A23,'[115]MATERIALES '!B17:E157,2,FALSE) -> ANTISOL BLANCO | H23: =VLOOKUP(A23,'[115]MATERIALES '!B17:E157,3,FALSE) -> KG | I23: =VLOOKUP(A23,'[115]MATERIALES '!B17:E157,4,FALSE) -> 12350 | J23: 1 | K23: =+ROUND(J23*I23,0) -> 12350
B28: | | K28: =SUM(K21:K27) -> 743992
B29: III. TRANSPORTES
B30: DESCRIPCIÓN | G30: CANTIDAD (1) | H30: DISTANCIA (2) | I30: (1) * (2) | J30: TARIFA | K30: Vr. UNITARIO
A31: 8806 | B31: =VLOOKUP(A31,'[115]MATERIALES '!B15:E155,2,TRUE) -> Transporte de material de asfalto | G31: =+J21 -> 1.05 | H31: 12 | I31: =+H31*G31 -> 12.6 | J31: =VLOOKUP(A31,'[115]MATERIALES '!B15:E155,4,TRUE) -> 2000 | K31: =I31*J31 -> 25200
B32: Subtotal | K32: =ROUNDDOWN(SUM(K31:K31),0) -> 25200
B33: IV. MANO DE OBRA
B34: DESCRIPCIÓN | G34: JORNAL | H34: PRESTACIONES (%) | I34: JORNAL TOTAL | J34: RENDIMIENTO | K34: Vr. UNITARIO
A35: 1002 | B35: =VLOOKUP(A35,[115]MO!$A$12:$F$66,2,TRUE) -> CUADRILLA OBRA CIVIL (1 Oficial + 3 Ayudantes) | G35: =VLOOKUP(A35,[115]MO!$A$12:$F$66,4,TRUE) -> 336456.96 | H35: =VLOOKUP(A35,[115]MO!$A$12:$F$62,5,TRUE) -> 0.95 | I35: =+G35*(1+H35) -> 656091.07 | J35: =+N12 -> 3.0447985 | K35: =I35/J35 -> 215479.31
A36: 1002 | B36: =VLOOKUP(A36,[115]MO!$A$12:$F$66,2,TRUE) -> CUADRILLA OBRA CIVIL (1 Oficial + 3 Ayudantes) | G36: =VLOOKUP(A36,[115]MO!$A$12:$F$66,4,TRUE) -> 336456.96 | H36: =VLOOKUP(A36,[115]MO!$A$12:$F$62,5,TRUE) -> 0.95 | I36: =+G36*(1+H36) -> 656091.07 | J36: =+J35 -> 3.0447985 | K36: =I36/J36 -> 215479.31
B40: Subtotal | K40: =ROUNDDOWN(SUM(K35:K39),0) -> 430958
B42: COSTO DIRECTO $ | K42: =+K40+K32+K28+K18 -> 1250000
B43: COSTOS INDIRECTOS
B44: DESCRIPCION | I44: PORCENTAJE | J44: VALOR TOTAL
B45: ADMINISTRACION | I45: 0.23 | J45: =+$K$42*I45 -> 287500 | K45: =+J45 -> 287500
B46: IMPREVISTOS | I46: 0.02 | J46: =+$K$42*I46 -> 25000 | K46: =+J46 -> 25000
B47: UTILIDAD | I47: 0.05 | J47: =+$K$42*I47 -> 62500 | K47: =+J47 -> 62500
B48: SUBTOTAL | K48: =SUM(K45:K47) -> 375000
B50: Precio Unitario Total Aproximado al peso $ | K50: =+K42+K48 -> 1625000
B54: Firma
B55: Nombre:OSCAR DANIEL ROJAS ORDOÑEZ
B56: Matricula No. :161037-0514988 TLM
B57: PROFESIONAL APOYO TECNICO SECRETARIA DE PLANEACION Y OBRAS PUBLICAS MUNICIPALES
B59: OBSERVACIONES INTERVENTORÍA
B63: APROBACIÓN POR INTERVENTORÍA
B64: Nota 1: Cuando se trate de Análisis de precios unitarios correspondientes a ítems de la propuesta económica aprobada, el Interventor aprueba el desglose de los componentes manteniendo el mismo precio unitario de cada ítem, cumpliendo con las especificaciones de construcción vigentes para el proyecto.
B66: Nota 2: Cuando se trate de Análisis de precios unitarios de ítems no previstos, el Interventor aprueba el desglose y precio unitario de cada ítem no previsto, exigiendo la aplicación de los costos correspondientes a insumos y tarifas de la propuesta económica inicial cuando estén contemplados, cumpliendo con las especificaciones de construcción vigente para el proyecto.
D70: Firma
...

Sheet 2.3
D1: MUNICIPIO DE EL AGRADO ANALISIS DE PRECIOS UNITARIOS
B7: ITEM | C7: DESCRIPCIÓN | J7: UNIDAD | K7: CANTIDAD
B8: 2.3 | C8: =+'PRESUPUESTO OFICIAL (Entidad)'!G20 -> ACERO DE REFUERZO ( 4200 Kg/cm2 - fy - 5200 Kg/cm2) | J8: kg | K8: =+'PRESUPUESTO OFICIAL (Entidad)'!I20 -> 5659.89
B10: I. EQUIPO
B11: DESCRIPCIÓN | H11: UNIDAD | I11: TARIFA | J11: RENDIMIENTO | K11: Vr. UNITARIO
N12: 280 | O12: 280
B17: HERRAMIENTA MENOR | H17: GL | J17: 0.05 | K17: =+K44*J17 -> 104.3
B19: Subtotal | K19: =+ROUND(SUM(K12:K18),0) -> 104
B20: II. MATERIALES
H21: UNIDAD | I21: TARIFA | J21: CANTIDAD | K21: Vr. UNITARIO
A22: 3010 | B22: =VLOOKUP(A22,'[115]MATERIALES '!B14:E154,2,FALSE) -> ACERO DE REFUERZO FY 420 MPA | H22: =VLOOKUP(A22,'[115]MATERIALES '!B14:E154,3,FALSE) -> kg | I22: =VLOOKUP(A22,'[115]MATERIALES '!B14:E154,4,FALSE) -> 4385.15 | J22: 1.05 | K22: =+ROUND(J22*I22,0) -> 4604
A23: 3008 | B23: =VLOOKUP(A23,'[115]MATERIALES '!B15:E155,2,FALSE) -> ALAMBRE NEGRO CAL 18 | H23: =VLOOKUP(A23,'[115]MATERIALES '!B15:E155,3,FALSE) -> kg | I23: =VLOOKUP(A23,'[115]MATERIALES '!B15:E155,4,FALSE) -> 5890.5 | J23: 0.035 | K23: =+ROUND(J23*I23,0) -> 206
B31: | | K31: =SUM(K22:K30) -> 4810
B32: III. TRANSPORTES
B33: DESCRIPCIÓN | G33: CANTIDAD (1) | H33: DISTANCIA (2) | I33: (1) * (2) | J33: TARIFA | K33: Vr. UNITARIO
B36: Subtotal | K36: =SUM(K34:K35) -> 0
B37: IV. MANO DE OBRA
B38: DESCRIPCIÓN | G38: JORNAL | H38: PRESTACIONES (%) | I38: JORNAL TOTAL | J38: RENDIMIENTO | K38: Vr. UNITARIO
A39: 1002 | B39: =VLOOKUP(A39,[115]MO!$A$12:$F$66,2,TRUE) -> CUADRILLA OBRA CIVIL (1 Oficial + 3 Ayudantes) | G39: =VLOOKUP(A39,[115]MO!$A$12:$F$66,4,TRUE) -> 336456.96 | H39: =VLOOKUP(A39,[115]MO!$A$12:$F$62,5,TRUE) -> 0.95 | I39: =+G39*(1+H39) -> 656091.07 | J39: 314.49524 | K39: =I39/J39 -> 2086.1717
B44: Subtotal | K44: =ROUNDDOWN(SUM(K39:K43),0) -> 2086
B46: COSTO DIRECTO $ | K46: =+K44+K36+K31+K19 -> 7000
B47: COSTOS INDIRECTOS
B48: DESCRIPCION | I48: PORCENTAJE | J48: VALOR TOTAL
B49: ADMINISTRACION | I49: 0.23 | J49: =+$K$46*I49 -> 1610 | K49: =+J49 -> 1610
B50: IMPREVISTOS | I50: 0.02 | J50: =+$K$46*I50 -> 140 | K50: =+J50 -> 140
B51: UTILIDAD | I51: 0.05 | J51: =+$K$46*I51 -> 350 | K51: =+J51 -> 350
B52: SUBTOTAL | K52: =SUM(K49:K51) -> 2100
B54: Precio Unitario Total Aproximado al peso $ | K54: =+K46+K52 -> 9100
B58: Firma
B59: Nombre:OSCAR DANIEL ROJAS ORDOÑEZ
B60: Matricula No. :161037-0514988 TLM
B61: PROFESIONAL APOYO TECNICO SECRETARIA DE PLANEACION Y OBRAS PUBLICAS MUNICIPALES
B63: OBSERVACIONES INTERVENTORÍA
B67: APROBACIÓN POR INTERVENTORÍA
B68: Nota 1: Cuando se trate de Análisis de precios unitarios correspondientes a ítems de la propuesta económica aprobada, el Interventor aprueba el desglose de los componentes manteniendo el mismo precio unitario de cada ítem, cumpliendo con las especificaciones de construcción vigentes para el proyecto.
B70: Nota 2: Cuando se trate de Análisis de precios unitarios de ítems no previstos, el Interventor aprueba el desglose y precio unitario de cada ítem no previsto, exigiendo la aplicación de los costos correspondientes a insumos y tarifas de la propuesta económica inicial cuando estén contemplados, cumpliendo con las especificaciones de construcción vigente para el proyecto.
D74: Firma
D75: Nombre:
D76: Representante Legal del Interventor o su Apoderado
D77: Matricula No. :

Sheet 2.4
D1: MUNICIPIO DE EL AGRADO ANALISIS DE PRECIOS UNITARIOS
B7: ITEM | C7: DESCRIPCIÓN | J7: UNIDAD | K7: CANTIDAD
B8: 2.4 | C8: =+'PRESUPUESTO OFICIAL (Entidad)'!G21 -> ESCARIFICACIÓN DE ESTRUCTURAS | J8: =+[115]PRESUPUESTO!I21 -> m3 | K8: =+'PRESUPUESTO OFICIAL (Entidad)'!I21 -> 114.759
B10: I. EQUIPO
B11: DESCRIPCIÓN | H11: UNIDAD | I11: TARIFA | J11: RENDIMIENTO | K11: Vr. UNITARIO
A12: 33 | N12: 3.0447985 | O12: 7.33
B16: HERRAMIENTA MENOR | H16: GL | J16: 0.05 | K16: =+K40*J16 -> 10238.1
B18: Subtotal | K18: =+ROUND(SUM(K12:K17),0) -> 10238
B19: II. MATERIALES
H20: UNIDAD | I20: TARIFA | J20: CANTIDAD | K20: Vr. UNITARIO
A21: 1002
A22: 4018
A23: 4037
B28: Subtotal | K28: =SUM(K21:K27) -> 0
B29: III. TRANSPORTES
B30: DESCRIPCIÓN | G30: CANTIDAD (1) | H30: DISTANCIA (2) | I30: (1) * (2) | J30: TARIFA | K30: Vr. UNITARIO
A31: 8806
B32: Subtotal | K32: =ROUNDDOWN(SUM(K31:K31),0) -> 0
B33: IV. MANO DE OBRA
B34: DESCRIPCIÓN | G34: JORNAL | H34: PRESTACIONES (%) | I34: JORNAL TOTAL | J34: RENDIMIENTO | K34: Vr. UNITARIO
A35: 1002 | B35: =VLOOKUP(A35,[115]MO!$A$12:$F$66,2,TRUE) -> CUADRILLA OBRA CIVIL (1 Oficial + 3 Ayudantes) | G35: =VLOOKUP(A35,[115]MO!$A$12:$F$66,4,TRUE) -> 336456.96 | H35: =VLOOKUP(A35,[115]MO!$A$12:$F$62,5,TRUE) -> 0.95 | I35: =+G35*(1+H35) -> 656091.07 | J35: 3.2041622 | K35: =I35/J35 -> 204762.13
A36: 1002
B40: Subtotal | K40: =ROUNDDOWN(SUM(K35:K39),0) -> 204762
B42: COSTO DIRECTO $ | K42: =+K40+K32+K28+K18 -> 215000
B43: COSTOS INDIRECTOS
B44: DESCRIPCION | I44: PORCENTAJE | J44: VALOR TOTAL
B45: ADMINISTRACION | I45: 0.23 | J45: =+$K$42*I45 -> 49450 | K45: =+J45 -> 49450
B46: IMPREVISTOS | I46: 0.02 | J46: =+$K$42*I46 -> 4300 | K46: =+J46 -> 4300
B47: UTILIDAD | I47: 0.05 | J47: =+$K$42*I47 -> 10750 | K47: =+J47 -> 10750
B48: SUBTOTAL | K48: =SUM(K45:K47) -> 64500
B50: Precio Unitario Total Aproximado al peso $ | K50: =+K42+K48 -> 279500
B54: Firma
B55: Nombre:OSCAR DANIEL ROJAS ORDOÑEZ
B56: Matricula No. :161037-0514988 TLM
B57: PROFESIONAL APOYO TECNICO SECRETARIA DE PLANEACION Y OBRAS PUBLICAS MUNICIPALES
B59: OBSERVACIONES INTERVENTORÍA
B63: APROBACIÓN POR INTERVENTORÍA
B64: Nota 1: Cuando se trate de Análisis de precios unitarios correspondientes a ítems de la propuesta económica aprobada, el Interventor aprueba el desglose de los componentes manteniendo el mismo precio unitario de cada ítem, cumpliendo con las especificaciones de construcción vigentes para el proyecto.
B66: Nota 2: Cuando se trate de Análisis de precios unitarios de ítems no previstos, el Interventor aprueba el desglose y precio unitario de cada ítem no previsto, exigiendo la aplicación de los costos correspondientes a insumos y tarifas de la propuesta económica inicial cuando estén contemplados, cumpliendo con las especificaciones de construcción vigente para el proyecto.
D70: Firma
...

Sheet 2.5
D1: MUNICIPIO DE EL AGRADO ANALISIS DE PRECIOS UNITARIOS
B7: ITEM | C7: DESCRIPCIÓN | J7: UNIDAD | K7: CANTIDAD
B8: 2.5 | C8: =+'PRESUPUESTO OFICIAL (Entidad)'!G22 -> Suministro e Instalación de barrera metalica de proteccion | J8: =+'PRESUPUESTO OFICIAL (Entidad)'!H22 -> ml | K8: =+'PRESUPUESTO OFICIAL (Entidad)'!I22 -> 10
B10: I. EQUIPO
B11: DESCRIPCIÓN | H11: UNIDAD | I11: TARIFA | J11: RENDIMIENTO | K11: Vr. UNITARIO
N12: 280 | O12: 280
B17: HERRAMIENTA MENOR | H17: GL | J17: 0.05 | K17: =+K44*J17 -> 104.3
B19: Subtotal | K19: =+ROUND(SUM(K12:K18),0) -> 104
B20: II. MATERIALES
H21: UNIDAD | I21: TARIFA | J21: CANTIDAD | K21: Vr. UNITARIO
A22: 3010 | B22: BARRERA METALICA DE PROTECCION | H22: ML | I22: 839781 | J22: 10 | K22: =+ROUND(J22*I22,0) -> 8397810
A23: 3008
B31: | | K31: =SUM(K22:K30) -> 8397810
B32: III. TRANSPORTES
B33: DESCRIPCIÓN | G33: CANTIDAD (1) | H33: DISTANCIA (2) | I33: (1) * (2) | J33: TARIFA | K33: Vr. UNITARIO
B36: Subtotal | K36: =SUM(K34:K35) -> 0
B37: IV. MANO DE OBRA
B38: DESCRIPCIÓN | G38: JORNAL | H38: PRESTACIONES (%) | I38: JORNAL TOTAL | J38: RENDIMIENTO | K38: Vr. UNITARIO
A39: 1002 | B39: =VLOOKUP(A39,[115]MO!$A$12:$F$66,2,TRUE) -> CUADRILLA OBRA CIVIL (1 Oficial + 3 Ayudantes) | G39: =VLOOKUP(A39,[115]MO!$A$12:$F$66,4,TRUE) -> 336456.96 | H39: =VLOOKUP(A39,[115]MO!$A$12:$F$62,5,TRUE) -> 0.95 | I39: =+G39*(1+H39) -> 656091.07 | J39: 314.49524 | K39: =I39/J39 -> 2086.1717
B44: Subtotal | K44: =ROUNDDOWN(SUM(K39:K43),0) -> 2086
B46: COSTO DIRECTO $ | K46: =+K44+K36+K31+K19 -> 8400000
B47: COSTOS INDIRECTOS
B48: DESCRIPCION | I48: PORCENTAJE | J48: VALOR TOTAL
B49: ADMINISTRACION | I49: 0.23 | J49: =+$K$46*I49 -> 1932000 | K49: =+J49 -> 1932000
B50: IMPREVISTOS | I50: 0.02 | J50: =+$K$46*I50 -> 168000 | K50: =+J50 -> 168000
B51: UTILIDAD | I51: 0.05 | J51: =+$K$46*I51 -> 420000 | K51: =+J51 -> 420000
B52: SUBTOTAL | K52: =SUM(K49:K51) -> 2520000
B54: Precio Unitario Total Aproximado al peso $ | K54: =+K46+K52 -> 10920000
B58: Firma
B59: Nombre:OSCAR DANIEL ROJAS ORDOÑEZ
B60: Matricula No. :161037-0514988 TLM
B61: PROFESIONAL APOYO TECNICO SECRETARIA DE PLANEACION Y OBRAS PUBLICAS MUNICIPALES
B63: OBSERVACIONES INTERVENTORÍA
B67: APROBACIÓN POR INTERVENTORÍA
B68: Nota 1: Cuando se trate de Análisis de precios unitarios correspondientes a ítems de la propuesta económica aprobada, el Interventor aprueba el desglose de los componentes manteniendo el mismo precio unitario de cada ítem, cumpliendo con las especificaciones de construcción vigentes para el proyecto.
B70: Nota 2: Cuando se trate de Análisis de precios unitarios de ítems no previstos, el Interventor aprueba el desglose y precio unitario de cada ítem no previsto, exigiendo la aplicación de los costos correspondientes a insumos y tarifas de la propuesta económica inicial cuando estén contemplados, cumpliendo con las especificaciones de construcción vigente para el proyecto.
D74: Firma
D75: Nombre:
D76: Representante Legal del Interventor o su Apoderado
D77: Matricula No. :

Sheet 3.1
D1: MUNICIPIO DE EL AGRADO ANALISIS DE PRECIOS UNITARIOS
B7: ITEM | C7: DESCRIPCIÓN | J7: UNIDAD | K7: CANTIDAD
B8: =+'PRESUPUESTO OFICIAL (Entidad)'!D25 -> 3.1 | C8: =+[116]PRESUPUESTO!G22 -> SUB-BASE GRANULAR CLASE B (Analizada para tipo de gradacion SGB-50, clase B) | J8: =+[116]PRESUPUESTO!I22 -> m3 | K8: =+'PRESUPUESTO OFICIAL (Entidad)'!I25 -> 5625
B10: I. EQUIPO
B11: DESCRIPCIÓN | H11: UNIDAD | I11: TARIFA | J11: RENDIMIENTO | K11: Vr. UNITARIO
A12: 4 | B12: =VLOOKUP(A12,[116]EQUIPO!$A$3:$R$91,3,TRUE) -> MOTONIVELADORA CAT120H | H12: =VLOOKUP(A12,[116]EQUIPO!$A$3:$R$91,15,TRUE) -> hr | I12: 210000 | J12: 171.78 | K12: =I12/J12 -> 1222.4939 | N12: 1414.2549 | O12: 276
A13: 7 | B13: =VLOOKUP(A13,[116]EQUIPO!$A$3:$R$91,3,TRUE) -> VIBROCOMPACTADOR 7 TON | H13: =VLOOKUP(A13,[116]EQUIPO!$A$3:$R$91,15,TRUE) -> hr | I13: 180000 | J13: =+J12 -> 171.78 | K13: =I13/J13 -> 1047.8519
A14: 8 | B14: =VLOOKUP(A14,[116]EQUIPO!$A$3:$R$91,3,TRUE) -> CARROTANQUE DE AGUA 5000 gl | H14: =VLOOKUP(A14,[116]EQUIPO!$A$3:$R$91,15,TRUE) -> hr | I14: =VLOOKUP(A14,[116]EQUIPO!$A$3:$V$91,17,TRUE) -> 129259.19 | J14: =+J13 -> 171.78 | K14: =I14/J14 -> 752.4694
B16: HERRAMIENTA MENOR | H16: GL | J16: 0.05 | K16: =+K42*J16 -> 44.4
B18: Subtotal | K18: =+ROUNDUP(SUM(K12:K17),0) -> 3068
B19: II. MATERIALES
H20: UNIDAD | I20: TARIFA | J20: CANTIDAD | K20: Vr. UNITARIO
A21: 2014 | B21: =VLOOKUP(A21,'[116]MATERIALES '!B14:E154,2,TRUE) -> Sub_base Granular tipo Invias | H21: =VLOOKUP(A21,'[116]MATERIALES '!B14:E154,3,TRUE) -> M3 | I21: 60000 | J21: 1.3 | K21: =+ROUND(J21*I21,0) -> 78000
A22: 4036 | B22: =VLOOKUP(A22,'[116]MATERIALES '!B16:E156,2,FALSE) -> AGUA | H22: =VLOOKUP(A22,'[116]MATERIALES '!B16:E156,3,FALSE) -> LT | I22: =VLOOKUP(A22,'[116]MATERIALES '!B16:E156,4,FALSE) -> 150 | J22: 20 | K22: =+ROUND(J22*I22,0) -> 3000
B29: | | K29: =SUM(K21:K28) -> 81000
B30: III. TRANSPORTES
B31: DESCRIPCIÓN | G31: CANTIDAD (1) | H31: DISTANCIA (2) | I31: (1) * (2) | J31: TARIFA | K31: Vr. UNITARIO
A32: 8800 | B32: =VLOOKUP(A32,'[116]MATERIALES '!B14:E154,2,TRUE) -> Transporte de material suelto desde Planta | G32: =+J21 -> 1.3 | H32: 62.156132 | I32: =+H32*G32 -> 80.802971 | J32: =VLOOKUP(A32,'[116]MATERIALES '!B14:E154,4,TRUE) -> 1300 | K32: =I32*J32 -> 105043.86
B34: Subtotal | K34: =ROUND(SUM(K32:K33),0) -> 105044
B35: IV. MANO DE OBRA
B36: DESCRIPCIÓN | G36: JORNAL | H36: PRESTACIONES (%) | I36: JORNAL TOTAL | J36: RENDIMIENTO | K36: Vr. UNITARIO
A37: 1002 | B37: =VLOOKUP(A37,[116]MO!$A$12:$F$66,2,TRUE) -> CUADRILLA OBRA CIVIL (1 Oficial + 3 Ayudantes) | G37: =VLOOKUP(A37,[116]MO!$A$12:$F$66,4,TRUE) -> 336456.96 | H37: =VLOOKUP(A37,[116]MO!$A$12:$F$62,5,TRUE) -> 0.95 | I37: =+G37*(1+H37) -> 656091.07 | J37: =+N12 -> 1414.2549 | K37: =I37/J37 -> 463.91289
A38: 105 | B38: =VLOOKUP(A38,[116]MO!$A$12:$F$66,2,TRUE) -> Operador de Maquinaria | G38: =VLOOKUP(A38,[116]MO!$A$12:$F$66,4,TRUE) -> 149130.19 | H38: =VLOOKUP(A38,[116]MO!$A$12:$F$62,5,TRUE) -> 0.95 | I38: =+G38*(1+H38) -> 290803.86 | J38: =+J13*8 -> 1374.24 | K38: =I38/J38 -> 211.61068
A39: 105 | B39: =VLOOKUP(A39,[116]MO!$A$12:$F$66,2,TRUE) -> Operador de Maquinaria | G39: =VLOOKUP(A39,[116]MO!$A$12:$F$66,4,TRUE) -> 149130.19 | H39: =VLOOKUP(A39,[116]MO!$A$12:$F$62,5,TRUE) -> 0.95 | I39: =+G39*(1+H39) -> 290803.86 | J39: =+J38 -> 1374.24 | K39: =I39/J39 -> 211.61068
B42: Subtotal | K42: =ROUNDUP(SUM(K37:K41),0) -> 888
B44: COSTO DIRECTO $ | K44: =+K42+K34+K29+K18 -> 190000
B45: COSTOS INDIRECTOS
B46: DESCRIPCION | I46: PORCENTAJE | J46: VALOR TOTAL
B47: ADMINISTRACION | I47: 0.23 | J47: =+$K$44*I47 -> 43700 | K47: =+J47 -> 43700
B48: IMPREVISTOS | I48: 0.02 | J48: =+$K$44*I48 -> 3800 | K48: =+J48 -> 3800
B49: UTILIDAD | I49: 0.05 | J49: =+$K$44*I49 -> 9500 | K49: =+J49 -> 9500
B50: SUBTOTAL | K50: =SUM(K47:K49) -> 57000
B52: Precio Unitario Total Aproximado al peso $ | K52: =+K44+K50 -> 247000
B55: Firma
B56: Nombre:OSCAR DANIEL ROJAS ORDOÑEZ
B57: Matricula No. :161037-0514988 TLM
B58: PROFESIONAL APOYO TECNICO SECRETARIA DE PLANEACION Y OBRAS PUBLICAS MUNICIPALES
B60: OBSERVACIONES INTERVENTORÍA
B64: APROBACIÓN POR INTERVENTORÍA
B65: Nota 1: Cuando se trate de Análisis de precios unitarios correspondientes a ítems de la propuesta económica aprobada, el Interventor aprueba el desglose de los componentes manteniendo el mismo precio unitario de cada ítem, cumpliendo con las especificaciones de construcción vigentes para el proyecto.
...

Sheet 3.2
D1: MUNICIPIO DE EL AGRADO ANALISIS DE PRECIOS UNITARIOS
B7: ITEM | C7: DESCRIPCIÓN | J7: UNIDAD | K7: CANTIDAD
B8: 2.3 | C8: =+'PRESUPUESTO OFICIAL (Entidad)'!G26 -> ACERO DE REFUERZO ( 4200 Kg/cm2 - fy - 5200 Kg/cm2 (CCP-14)) | J8: kg | K8: =+'PRESUPUESTO OFICIAL (Entidad)'!I26 -> 216479.02
B10: I. EQUIPO
B11: DESCRIPCIÓN | H11: UNIDAD | I11: TARIFA | J11: RENDIMIENTO | K11: Vr. UNITARIO
N12: 280 | O12: 280
B17: HERRAMIENTA MENOR | H17: GL | J17: 0.05 | K17: =+K44*J17 -> 104.3
B19: Subtotal | K19: =+ROUND(SUM(K12:K18),0) -> 104
B20: II. MATERIALES
H21: UNIDAD | I21: TARIFA | J21: CANTIDAD | K21: Vr. UNITARIO
A22: 3010 | B22: =VLOOKUP(A22,'[115]MATERIALES '!B14:E154,2,FALSE) -> ACERO DE REFUERZO FY 420 MPA | H22: =VLOOKUP(A22,'[115]MATERIALES '!B14:E154,3,FALSE) -> kg | I22: =VLOOKUP(A22,'[115]MATERIALES '!B14:E154,4,FALSE) -> 4385.15 | J22: 1.05 | K22: =+ROUND(J22*I22,0) -> 4604
A23: 3008 | B23: =VLOOKUP(A23,'[115]MATERIALES '!B15:E155,2,FALSE) -> ALAMBRE NEGRO CAL 18 | H23: =VLOOKUP(A23,'[115]MATERIALES '!B15:E155,3,FALSE) -> kg | I23: =VLOOKUP(A23,'[115]MATERIALES '!B15:E155,4,FALSE) -> 5890.5 | J23: 0.035 | K23: =+ROUND(J23*I23,0) -> 206
B31: | | K31: =SUM(K22:K30) -> 4810
B32: III. TRANSPORTES
B33: DESCRIPCIÓN | G33: CANTIDAD (1) | H33: DISTANCIA (2) | I33: (1) * (2) | J33: TARIFA | K33: Vr. UNITARIO
B36: Subtotal | K36: =SUM(K34:K35) -> 0
B37: IV. MANO DE OBRA
B38: DESCRIPCIÓN | G38: JORNAL | H38: PRESTACIONES (%) | I38: JORNAL TOTAL | J38: RENDIMIENTO | K38: Vr. UNITARIO
A39: 1002 | B39: =VLOOKUP(A39,[115]MO!$A$12:$F$66,2,TRUE) -> CUADRILLA OBRA CIVIL (1 Oficial + 3 Ayudantes) | G39: =VLOOKUP(A39,[115]MO!$A$12:$F$66,4,TRUE) -> 336456.96 | H39: =VLOOKUP(A39,[115]MO!$A$12:$F$62,5,TRUE) -> 0.95 | I39: =+G39*(1+H39) -> 656091.07 | J39: 314.49524 | K39: =I39/J39 -> 2086.1717
B44: Subtotal | K44: =ROUNDDOWN(SUM(K39:K43),0) -> 2086
B46: COSTO DIRECTO $ | K46: =+K44+K36+K31+K19 -> 7000
B47: COSTOS INDIRECTOS
B48: DESCRIPCION | I48: PORCENTAJE | J48: VALOR TOTAL
B49: ADMINISTRACION | I49: 0.23 | J49: =+$K$46*I49 -> 1610 | K49: =+J49 -> 1610
B50: IMPREVISTOS | I50: 0.02 | J50: =+$K$46*I50 -> 140 | K50: =+J50 -> 140
B51: UTILIDAD | I51: 0.05 | J51: =+$K$46*I51 -> 350 | K51: =+J51 -> 350
B52: SUBTOTAL | K52: =SUM(K49:K51) -> 2100
B54: Precio Unitario Total Aproximado al peso $ | K54: =+K46+K52 -> 9100
B58: Firma
B59: Nombre:OSCAR DANIEL ROJAS ORDOÑEZ
B60: Matricula No. :161037-0514988 TLM
B61: PROFESIONAL APOYO TECNICO SECRETARIA DE PLANEACION Y OBRAS PUBLICAS MUNICIPALES
B63: OBSERVACIONES INTERVENTORÍA
B67: APROBACIÓN POR INTERVENTORÍA
B68: Nota 1: Cuando se trate de Análisis de precios unitarios correspondientes a ítems de la propuesta económica aprobada, el Interventor aprueba el desglose de los componentes manteniendo el mismo precio unitario de cada ítem, cumpliendo con las especificaciones de construcción vigentes para el proyecto.
B70: Nota 2: Cuando se trate de Análisis de precios unitarios de ítems no previstos, el Interventor aprueba el desglose y precio unitario de cada ítem no previsto, exigiendo la aplicación de los costos correspondientes a insumos y tarifas de la propuesta económica inicial cuando estén contemplados, cumpliendo con las especificaciones de construcción vigente para el proyecto.
D74: Firma
D75: Nombre:
D76: Representante Legal del Interventor o su Apoderado
D77: Matricula No. :

Sheet 3.3
D1: MUNICIPIO DE EL AGRADO ANALISIS DE PRECIOS UNITARIOS
B7: ITEM | C7: DESCRIPCIÓN | J7: UNIDAD | K7: CANTIDAD
B8: =+[115]PRESUPUESTO!B21 -> 3.5 | C8: SUMINISTRO E INSTALACIÓN DE CONCRETO NORMAL CLASE D - (F´C=210 KGF/CM2) O (3.000 PSI) PARA DENTELLONES- PLACAS - RIOSTRAS - CUNETAS - BORDILLO. | J8: =+[115]PRESUPUESTO!I21 -> m3 | K8: =+'PRESUPUESTO OFICIAL (Entidad)'!I27 -> 4209
B10: I. EQUIPO
B11: DESCRIPCIÓN | H11: UNIDAD | I11: TARIFA | J11: RENDIMIENTO | K11: Vr. UNITARIO | N11: Rendimiento Propuesto 2M | O11: Rendimiento INVIAS
A12: 33 | B12: =VLOOKUP(A12,[115]EQUIPO!$A$3:$R$91,3,TRUE) -> VIBRADOR DE CONCRETO | H12: =VLOOKUP(A12,[115]EQUIPO!$A$3:$R$91,12,TRUE) -> 0 | I12: =VLOOKUP(A12,[115]EQUIPO!$A$3:$V$91,14,TRUE) -> 17234.559 | J12: =+J35/5 -> 1.1797169 | K12: =I12/J12 -> 14609.063 | N12: 3.0447985 | O12: 7.33 | Q12: m3 por dia
B16: HERRAMIENTA MENOR | H16: GL | J16: 0.05 | K16: =+K40*J16 -> 11122.85
B18: Subtotal | K18: =+ROUND(SUM(K12:K17),0) -> 25732
B19: II. MATERIALES
H20: UNIDAD | I20: TARIFA | J20: CANTIDAD | K20: Vr. UNITARIO
A21: 1003 | B21: =VLOOKUP(A21,'[115]MATERIALES '!B15:E155,2,FALSE) -> CONCRETO CLASE D 210 KG/CM2 3000 PSI | H21: =VLOOKUP(A21,'[115]MATERIALES '!B15:E155,3,FALSE) -> M3 | I21: =VLOOKUP(A21,'[115]MATERIALES '!B15:E155,4,FALSE) -> 630000 | J21: 1.05 | K21: =+ROUND(J21*I21,0) -> 661500
A22: 4018 | B22: =VLOOKUP(A22,'[115]MATERIALES '!B16:E156,2,FALSE) -> FORMALETA METÁLICA | H22: =VLOOKUP(A22,'[115]MATERIALES '!B16:E156,3,FALSE) -> M2 | I22: =VLOOKUP(A22,'[115]MATERIALES '!B16:E156,4,FALSE) -> 16380.725 | J22: 2 | K22: =+ROUND(J22*I22,0) -> 32761
A23: 4037 | B23: =VLOOKUP(A23,'[115]MATERIALES '!B17:E157,2,FALSE) -> ANTISOL BLANCO | H23: =VLOOKUP(A23,'[115]MATERIALES '!B17:E157,3,FALSE) -> KG | I23: =VLOOKUP(A23,'[115]MATERIALES '!B17:E157,4,FALSE) -> 12350 | J23: 1 | K23: =+ROUND(J23*I23,0) -> 12350
B28: | | K28: =SUM(K21:K27) -> 706611
B29: III. TRANSPORTES
B30: DESCRIPCIÓN | G30: CANTIDAD (1) | H30: DISTANCIA (2) | I30: (1) * (2) | J30: TARIFA | K30: Vr. UNITARIO
A31: 8806 | B31: =VLOOKUP(A31,'[115]MATERIALES '!B15:E155,2,TRUE) -> Transporte de material de asfalto | G31: =+J21 -> 1.05 | H31: 12 | I31: =+H31*G31 -> 12.6 | J31: =VLOOKUP(A31,'[115]MATERIALES '!B15:E155,4,TRUE) -> 2000 | K31: =I31*J31 -> 25200
B32: Subtotal | K32: =ROUNDDOWN(SUM(K31:K31),0) -> 25200
B33: IV. MANO DE OBRA
B34: DESCRIPCIÓN | G34: JORNAL | H34: PRESTACIONES (%) | I34: JORNAL TOTAL | J34: RENDIMIENTO | K34: Vr. UNITARIO
A35: 1002 | B35: =VLOOKUP(A35,[115]MO!$A$12:$F$66,2,TRUE) -> CUADRILLA OBRA CIVIL (1 Oficial + 3 Ayudantes) | G35: =VLOOKUP(A35,[115]MO!$A$12:$F$66,4,TRUE) -> 336456.96 | H35: =VLOOKUP(A35,[115]MO!$A$12:$F$62,5,TRUE) -> 0.95 | I35: =+G35*(1+H35) -> 656091.07 | J35: 5.8985847 | K35: =I35/J35 -> 111228.56
A36: 1002 | B36: =VLOOKUP(A36,[115]MO!$A$12:$F$66,2,TRUE) -> CUADRILLA OBRA CIVIL (1 Oficial + 3 Ayudantes) | G36: =VLOOKUP(A36,[115]MO!$A$12:$F$66,4,TRUE) -> 336456.96 | H36: =VLOOKUP(A36,[115]MO!$A$12:$F$62,5,TRUE) -> 0.95 | I36: =+G36*(1+H36) -> 656091.07 | J36: =+J35 -> 5.8985847 | K36: =I36/J36 -> 111228.56
R38: =14*8 -> 112
B40: Subtotal | K40: =ROUNDDOWN(SUM(K35:K39),0) -> 222457
B42: COSTO DIRECTO $ | K42: =+K40+K32+K28+K18 -> 980000
B43: COSTOS INDIRECTOS
B44: DESCRIPCION | I44: PORCENTAJE | J44: VALOR TOTAL
B45: ADMINISTRACION | I45: 0.23 | J45: =+$K$42*I45 -> 225400 | K45: =+J45 -> 225400
B46: IMPREVISTOS | I46: 0.02 | J46: =+$K$42*I46 -> 19600 | K46: =+J46 -> 19600
B47: UTILIDAD | I47: 0.05 | J47: =+$K$42*I47 -> 49000 | K47: =+J47 -> 49000
B48: SUBTOTAL | K48: =SUM(K45:K47) -> 294000
B50: Precio Unitario Total Aproximado al peso $ | K50: =+K42+K48 -> 1274000
B54: Firma
B55: Nombre:OSCAR DANIEL ROJAS ORDOÑEZ
B56: Matricula No. :161037-0514988 TLM
B57: PROFESIONAL APOYO TECNICO SECRETARIA DE PLANEACION Y OBRAS PUBLICAS MUNICIPALES
B59: OBSERVACIONES INTERVENTORÍA
B63: APROBACIÓN POR INTERVENTORÍA
B64: Nota 1: Cuando se trate de Análisis de precios unitarios correspondientes a ítems de la propuesta económica aprobada, el Interventor aprueba el desglose de los componentes manteniendo el mismo precio unitario de cada ítem, cumpliendo con las especificaciones de construcción vigentes para el proyecto.
B66: Nota 2: Cuando se trate de Análisis de precios unitarios de ítems no previstos, el Interventor aprueba el desglose y precio unitario de cada ítem no previsto, exigiendo la aplicación de los costos correspondientes a insumos y tarifas de la propuesta económica inicial cuando estén contemplados, cumpliendo con las especificaciones de construcción vigente para el proyecto.
...

Sheet 3.4
D1: MUNICIPIO DE EL AGRADO ANALISIS DE PRECIOS UNITARIOS
B7: ITEM | C7: DESCRIPCIÓN | J7: UNIDAD | K7: CANTIDAD
B8: =+[115]PRESUPUESTO!B21 -> 3.5 | C8: SUMINISTRO E INSTALACIÓN DE CONCRETO CICLÓPEO DE 210 KG/CM² (3.000 PSI) ESPESOR 0,15 M.60% CONCRETO NORMAL DE 210 KG/CM² (3.000 PSI) , 40% PIEDRA ESP. 630-22 INV. | J8: =+[115]PRESUPUESTO!I21 -> m3 | K8: =+'PRESUPUESTO OFICIAL (Entidad)'!I28 -> 1992.6
B10: I. EQUIPO
B11: DESCRIPCIÓN | H11: UNIDAD | I11: TARIFA | J11: RENDIMIENTO | K11: Vr. UNITARIO | N11: Rendimiento Propuesto 2M | O11: Rendimiento INVIAS
A12: 33 | B12: =VLOOKUP(A12,[115]EQUIPO!$A$3:$R$91,3,TRUE) -> VIBRADOR DE CONCRETO | H12: =VLOOKUP(A12,[115]EQUIPO!$A$3:$R$91,12,TRUE) -> 0 | I12: =VLOOKUP(A12,[115]EQUIPO!$A$3:$V$91,14,TRUE) -> 17234.559 | J12: =+J36/5 -> 1.0979372 | K12: =I12/J12 -> 15697.218 | O12: 7.33 | Q12: m3 por dia
B16: HERRAMIENTA MENOR | H16: GL | J16: 0.05 | K16: =+K41*J16 -> 11951.3
B18: Subtotal | K18: =+ROUND(SUM(K12:K17),0) -> 27649
B19: II. MATERIALES
H20: UNIDAD | I20: TARIFA | J20: CANTIDAD | K20: Vr. UNITARIO
A21: 1003 | B21: =VLOOKUP(A21,'[115]MATERIALES '!B15:E155,2,FALSE) -> CONCRETO CLASE D 210 KG/CM2 3000 PSI | H21: =VLOOKUP(A21,'[115]MATERIALES '!B15:E155,3,FALSE) -> M3 | I21: =VLOOKUP(A21,'[115]MATERIALES '!B15:E155,4,FALSE) -> 630000 | J21: =0.6*1.05 -> 0.63 | K21: =+ROUND(J21*I21,0) -> 396900
A22: 4018 | B22: =VLOOKUP(A22,'[115]MATERIALES '!B16:E156,2,FALSE) -> FORMALETA METÁLICA | H22: =VLOOKUP(A22,'[115]MATERIALES '!B16:E156,3,FALSE) -> M2 | I22: =VLOOKUP(A22,'[115]MATERIALES '!B16:E156,4,FALSE) -> 16380.725 | J22: 2 | K22: =+ROUND(J22*I22,0) -> 32761
A23: 2019 | B23: =VLOOKUP(A23,'[115]MATERIALES '!B17:E157,2,FALSE) -> Piedra Seleccionada (Pasante 20" retenida en 2") | H23: =VLOOKUP(A23,'[115]MATERIALES '!B17:E157,3,FALSE) -> M3 | I23: =VLOOKUP(A23,'[115]MATERIALES '!B17:E157,4,FALSE) -> 142800 | J23: =0.4*1.2 -> 0.48 | K23: =+ROUND(J23*I23,0) -> 68544
B28: | | K28: =SUM(K21:K27) -> 498205
B29: III. TRANSPORTES
B30: DESCRIPCIÓN | G30: CANTIDAD (1) | H30: DISTANCIA (2) | I30: (1) * (2) | J30: TARIFA | K30: Vr. UNITARIO
A31: 8806 | B31: =VLOOKUP(A31,'[115]MATERIALES '!B15:E155,2,TRUE) -> Transporte de material de asfalto | G31: =+J21 -> 0.63 | H31: 12 | I31: =+H31*G31 -> 7.56 | J31: =VLOOKUP(A31,'[115]MATERIALES '!B15:E155,4,TRUE) -> 2000 | K31: =I31*J31 -> 15120
A32: 8804 | B32: =VLOOKUP(A32,'[115]MATERIALES '!B16:E156,2,TRUE) -> Transporte de material sobrante a Zodme | G32: =+J23 -> 0.48 | H32: 12 | I32: =+H32*G32 -> 5.76 | J32: =VLOOKUP(A32,'[115]MATERIALES '!B16:E156,4,TRUE) -> 1300 | K32: =I32*J32 -> 7488
B33: Subtotal | K33: =ROUNDDOWN(SUM(K31:K31),0) -> 15120
B34: IV. MANO DE OBRA
B35: DESCRIPCIÓN | G35: JORNAL | H35: PRESTACIONES (%) | I35: JORNAL TOTAL | J35: RENDIMIENTO | K35: Vr. UNITARIO
A36: 1002 | B36: =VLOOKUP(A36,[115]MO!$A$12:$F$66,2,TRUE) -> CUADRILLA OBRA CIVIL (1 Oficial + 3 Ayudantes) | G36: =VLOOKUP(A36,[115]MO!$A$12:$F$66,4,TRUE) -> 336456.96 | H36: =VLOOKUP(A36,[115]MO!$A$12:$F$62,5,TRUE) -> 0.95 | I36: =+G36*(1+H36) -> 656091.07 | J36: 5.4896858 | K36: =I36/J36 -> 119513.41
A37: 1002 | B37: =VLOOKUP(A37,[115]MO!$A$12:$F$66,2,TRUE) -> CUADRILLA OBRA CIVIL (1 Oficial + 3 Ayudantes) | G37: =VLOOKUP(A37,[115]MO!$A$12:$F$66,4,TRUE) -> 336456.96 | H37: =VLOOKUP(A37,[115]MO!$A$12:$F$62,5,TRUE) -> 0.95 | I37: =+G37*(1+H37) -> 656091.07 | J37: =+J36 -> 5.4896858 | K37: =I37/J37 -> 119513.41
R39: =14*8 -> 112
B41: Subtotal | K41: =ROUNDDOWN(SUM(K36:K40),0) -> 239026
B43: COSTO DIRECTO $ | K43: =+K41+K33+K28+K18 -> 780000
B44: COSTOS INDIRECTOS
B45: DESCRIPCION | I45: PORCENTAJE | J45: VALOR TOTAL
B46: ADMINISTRACION | I46: 0.23 | J46: =+$K$43*I46 -> 179400 | K46: =+J46 -> 179400
B47: IMPREVISTOS | I47: 0.02 | J47: =+$K$43*I47 -> 15600 | K47: =+J47 -> 15600
B48: UTILIDAD | I48: 0.05 | J48: =+$K$43*I48 -> 39000 | K48: =+J48 -> 39000
B49: SUBTOTAL | K49: =SUM(K46:K48) -> 234000
B51: Precio Unitario Total Aproximado al peso $ | K51: =+K43+K49 -> 1014000
B55: Firma
B56: Nombre:OSCAR DANIEL ROJAS ORDOÑEZ
B57: Matricula No. :161037-0514988 TLM
B58: PROFESIONAL APOYO TECNICO SECRETARIA DE PLANEACION Y OBRAS PUBLICAS MUNICIPALES
B60: OBSERVACIONES INTERVENTORÍA
B64: APROBACIÓN POR INTERVENTORÍA
B65: Nota 1: Cuando se trate de Análisis de precios unitarios correspondientes a ítems de la propuesta económica aprobada, el Interventor aprueba el desglose de los componentes manteniendo el mismo precio unitario de cada ítem, cumpliendo con las especificaciones de construcción vigentes para el proyecto.
...
