Workbook
Name Servicio: #REF!
Name TIPO_DE_VEHICULOS: [1]Listas!$A$18:$A$31

Sheet regionalizacion 
A3: Etiquetas de fila | B3: Suma de TARIFA VALIDADA
A4: BOGOTÁ | B4: 2242800
A5: NIVEL CENTRAL | B5: 16129400
A6: NOROCCIDENTE | B6: 16349000
A7: NORORIENTE | B7: 12971500
A8: NORTE | B8: 10372100
A9: OCCIDENTE | B9: 7944400
A10: ORIENTE | B10: 11062900
A11: SUR | B11: 7325400
A12: SUROCCIDENTE | B12: 8875000
A13: Total general | B13: 93272500

Sheet VEHICULOS ESTUDIO MDO 
C2: ANEXO - LISTADO DE VEHICULOS SOAT 2026
B3: REGIONAL | C3: ITEM | D3: PLACA | E3: LINEA | F3: MARCA | G3: MODELO | H3: total años | I3: Clasificación Años | J3: SERVICIO | K3: N°PASAJEROS | L3: FECHA DE VENCIMIENTO DEL SOAT ACTUAL A LAS 24:00 HORAS | M3: REQUERIMIENTO FECHA INICIO PÓLIZA A LAS 00:00 HRS | N3: FECHA FINAL | O3: TARIFA VALIDADA | P3: TARIFA | Q3: CONTRIBUCION 52% | R3: RUNT | S3: VALIDACION TARIFA | T3: VALIDA | U3: clase R UNT | V3: CAPACIDAD DE CARGA 1825 | W3: CLASE DE VEHICULO | X3: CILINDRAJE | Y3: capacidad kg | Z3: Clasificación Cilindraje | AA3: DETALLE CLASE DE VEHICULO / CARROCERIA | AB3: CODIGO TARIFA | AC3: REGIONAL | AD3: 1 | AE3: 2 | AF3: CÓDIGO DE TARIFA 2025 | AG3: 4
B4: ORIENTE | C4: 1 | D4: DAB491 | E4: HILUX | F4: TOYOTA | G4: 2008 | H4: =2026-G4 -> 18 | I4: =IF(H4>=10,"10 o mas años","menos de 10 años") -> 10 o mas años | J4: Oficial | K4: 5 | L4: 46386 | M4: =+L4+1 -> 46387 | N4: 46751 | O4: {=_xlfn.IFS(W4="CAMPEROS Y CAMIONETAS",_xlfn.IFS(AND(Z4="Menos de 1.500 c.c.",I4="menos de 10 años"),'TARIFAS MAS RUNT'!$E$14,AND(Z4="Menos de 1.500 c.c.",I4="10 o mas años"),'TARIFAS MAS RUNT'!$E$15,AND(Z4="Entre 1.500 y 2.500 c.c.",I4="menos de 10 años"),'TARIFAS MAS RUNT'!$E$16,AND(Z4="Entre 1.500 y 2.500 c.c.",I4="10 o mas años"),'TARIFAS MAS RUNT'!$E$17,AND(Z4="Más de 2.500 c.c.",I4="menos de 10 años"),'TARIFAS MAS RUNT'!$E$18,AND(Z4="Más de 2.500 c.c.",I4="10 o mas años"),'TARIFAS MAS RUNT'!$E$19,TRUE,"Sin Tarifa"),W4="CARGA O MIXTOS",_xlfn.IFS(Z4="Menos de 5 Toneladas",'TARIFAS MAS RUNT'!$E$20,Z4="Entre 5 y 15 Toneladas",'TARIFAS MAS RUNT'!$E$21,Z4="Más de 15 Toneladas",'TARIFAS MAS RUNT'!$E$22,TRUE,"Sin Tarifa"),W4="OFICIALES ESPECIALES",_xlfn.IFS(Z4="Menos de 1.500 c.c.",'TARIFAS MAS RUNT'!$E$23,Z4="Entre 1.500 y 2.500 c.c.",'TARIFAS MAS RUNT'!$E$24,Z4="Más de 2.500 c.c.",'TARIFAS MAS RUNT'!$E$25,TRUE,"Sin Tarifa"),W4="AUTOMOVILES FAMILIARES",_xlfn.IFS(AND(Z4="Menos de 1.500 c.c.",I4="menos de 10 años"),'TARIFAS MAS RUNT'!$E$26,AND(Z4="Menos de 1.500 c.c.",I4="10 o mas años"),'TARIFAS MAS RUNT'!$E$27,AND(Z4="Entre 1.500 y 2.500 c.c.",I4="menos de 10 años"),'TARIFAS MAS RUNT'!$E$28,AND(Z4="Entre 1.500 y 2.500 c.c.",I4="10 o mas años"),'TARIFAS MAS RUNT'!$E$29,AND(Z4="Más de 2.500 c.c.",I4="menos de 10 años"),'TARIFAS MAS RUNT'!$E$30,AND(Z4="Más de 2.500 c.c.",I4="10 o mas años"),'TARIFAS MAS RUNT'!$E$31,TRUE,"Sin Tarifa"),TRUE,"Clase no encontrada")} -> 1274000 | P4: =+_xlfn.XLOOKUP(O4,'[2]ReporteCotizaciones (2)'!$H$2:$H$90,'[2]ReporteCotizaciones (2)'!$F$2:$F$90) -> 836600 | Q4: =+_xlfn.XLOOKUP(O4,Hoja3!$L$3:$L$39,Hoja3!$I$3:$I$39) -> 435000 | R4: 2400 | S4: =+P4+Q4+R4 -> 1274000 | T4: =+O4=S4 -> TRUE | U4: CAMIONETA | W4: CAMPEROS Y CAMIONETAS | X4: 2700 | Y4: N/A | Z4: =IF(OR(W4="CAMPEROS Y CAMIONETAS",W4="VEHICULOS FAMILIARES",W4="AUTOS NEGOCIO"), IF(X4<1500,"Menos de 1.500 c.c.", IF(X4<=2500,"Entre 1.500 y 2.500 c.c.","Más de 2.500 c.c.")), IF(W4="CARGA O MIXTOS", IF(X4<5000,"Menos de 5 Toneladas", IF(X4<=15000,"Entre 5 y 15 Toneladas","Más de 15 Toneladas")), IF(W4="OFICIALES ESPECIALES", IF(X4<1500,"Menos de 1.500 c.c.", IF(X4<=2500,"Entre 1.500 y 2.500 c.c.","Más de 2.500 c.c.")), IF(OR(W4="VEHICULOS 6 o más pasajeros",W4="AUTOMOVILES FAMILIARES"), IF(X4<1500,"Menos de 1.500 c.c.", IF(X4<2500,"Entre 1.500 y 2.500 c.c.","2.500 o más c.c.")), "")))) -> Más de 2.500 c.c. | AA4: DOBLE CABINA | AB4: 232 | AC4: ORIENTE | AD4: 1 | AE4: =+C4=AD4 -> TRUE | AF4: =+_xlfn.XLOOKUP(D4,'[3]SOAT A ADQUIRIR 2025 _2026'!$B$2:$B$106,'[3]SOAT A ADQUIRIR 2025 _2026'!$M$2:$M$106) -> 232 | AG4: =+AB4=AF4 -> TRUE | AH4: =+AI4=O4 -> TRUE | AI4: =+_xlfn.XLOOKUP(AB4,Hoja3!$D$3:$D$39,Hoja3!$L$3:$L$39) -> 1274000
C5: 2 | D5: DAB495 | E5: HILUX | F5: TOYOTA | G5: 2008 | H5: =2026-G5 -> 18 | I5: =IF(H5>=10,"10 o mas años","menos de 10 años") -> 10 o mas años | J5: Oficial | K5: 5 | L5: 46386 | M5: =+L5+1 -> 46387 | N5: 46751 | O5: {=_xlfn.IFS(W5="CAMPEROS Y CAMIONETAS",_xlfn.IFS(AND(Z5="Menos de 1.500 c.c.",I5="menos de 10 años"),'TARIFAS MAS RUNT'!$E$14,AND(Z5="Menos de 1.500 c.c.",I5="10 o mas años"),'TARIFAS MAS RUNT'!$E$15,AND(Z5="Entre 1.500 y 2.500 c.c.",I5="menos de 10 años"),'TARIFAS MAS RUNT'!$E$16,AND(Z5="Entre 1.500 y 2.500 c.c.",I5="10 o mas años"),'TARIFAS MAS RUNT'!$E$17,AND(Z5="Más de 2.500 c.c.",I5="menos de 10 años"),'TARIFAS MAS RUNT'!$E$18,AND(Z5="Más de 2.500 c.c.",I5="10 o mas años"),'TARIFAS MAS RUNT'!$E$19,TRUE,"Sin Tarifa"),W5="CARGA O MIXTOS",_xlfn.IFS(Z5="Menos de 5 Toneladas",'TARIFAS MAS RUNT'!$E$20,Z5="Entre 5 y 15 Toneladas",'TARIFAS MAS RUNT'!$E$21,Z5="Más de 15 Toneladas",'TARIFAS MAS RUNT'!$E$22,TRUE,"Sin Tarifa"),W5="OFICIALES ESPECIALES",_xlfn.IFS(Z5="Menos de 1.500 c.c.",'TARIFAS MAS RUNT'!$E$23,Z5="Entre 1.500 y 2.500 c.c.",'TARIFAS MAS RUNT'!$E$24,Z5="Más de 2.500 c.c.",'TARIFAS MAS RUNT'!$E$25,TRUE,"Sin Tarifa"),W5="AUTOMOVILES FAMILIARES",_xlfn.IFS(AND(Z5="Menos de 1.500 c.c.",I5="menos de 10 años"),'TARIFAS MAS RUNT'!$E$26,AND(Z5="Menos de 1.500 c.c.",I5="10 o mas años"),'TARIFAS MAS RUNT'!$E$27,AND(Z5="Entre 1.500 y 2.500 c.c.",I5="menos de 10 años"),'TARIFAS MAS RUNT'!$E$28,AND(Z5="Entre 1.500 y 2.500 c.c.",I5="10 o mas años"),'TARIFAS MAS RUNT'!$E$29,AND(Z5="Más de 2.500 c.c.",I5="menos de 10 años"),'TARIFAS MAS RUNT'!$E$30,AND(Z5="Más de 2.500 c.c.",I5="10 o mas años"),'TARIFAS MAS RUNT'!$E$31,TRUE,"Sin Tarifa"),TRUE,"Clase no encontrada")} -> 1274000 | P5: =+_xlfn.XLOOKUP(O5,'[2]ReporteCotizaciones (2)'!$H$2:$H$90,'[2]ReporteCotizaciones (2)'!$F$2:$F$90) -> 836600 | Q5: =+_xlfn.XLOOKUP(O5,Hoja3!$L$3:$L$39,Hoja3!$I$3:$I$39) -> 435000 | R5: 2400 | S5: =+P5+Q5+R5 -> 1274000 | T5: =+O5=S5 -> TRUE | W5: CAMPEROS Y CAMIONETAS | X5: 2700 | Y5: N/A | Z5: =IF(OR(W5="CAMPEROS Y CAMIONETAS",W5="VEHICULOS FAMILIARES",W5="AUTOS NEGOCIO"), IF(X5<1500,"Menos de 1.500 c.c.", IF(X5<=2500,"Entre 1.500 y 2.500 c.c.","Más de 2.500 c.c.")), IF(W5="CARGA O MIXTOS", IF(X5<5000,"Menos de 5 Toneladas", IF(X5<=15000,"Entre 5 y 15 Toneladas","Más de 15 Toneladas")), IF(W5="OFICIALES ESPECIALES", IF(X5<1500,"Menos de 1.500 c.c.", IF(X5<=2500,"Entre 1.500 y 2.500 c.c.","Más de 2.500 c.c.")), IF(OR(W5="VEHICULOS 6 o más pasajeros",W5="AUTOMOVILES FAMILIARES"), IF(X5<1500,"Menos de 1.500 c.c.", IF(X5<2500,"Entre 1.500 y 2.500 c.c.","2.500 o más c.c.")), "")))) -> Más de 2.500 c.c. | AA5: DOBLE CABINA | AB5: 232 | AC5: SUR | AD5: 2 | AE5: =+C5=AD5 -> TRUE | AF5: =+_xlfn.XLOOKUP(D5,'[3]SOAT A ADQUIRIR 2025 _2026'!$B$2:$B$106,'[3]SOAT A ADQUIRIR 2025 _2026'!$M$2:$M$106) -> 232 | AG5: =+AB5=AF5 -> TRUE | AH5: =+AI5=O5 -> TRUE | AI5: =+_xlfn.XLOOKUP(AB5,Hoja3!$D$3:$D$39,Hoja3!$L$3:$L$39) -> 1274000
C6: 3 | D6: DAB639 | E6: HILUX | F6: TOYOTA | G6: 2008 | H6: =2026-G6 -> 18 | I6: =IF(H6>=10,"10 o mas años","menos de 10 años") -> 10 o mas años | J6: Oficial | K6: 5 | L6: 46386 | M6: =+L6+1 -> 46387 | N6: 46751 | O6: {=_xlfn.IFS(W6="CAMPEROS Y CAMIONETAS",_xlfn.IFS(AND(Z6="Menos de 1.500 c.c.",I6="menos de 10 años"),'TARIFAS MAS RUNT'!$E$14,AND(Z6="Menos de 1.500 c.c.",I6="10 o mas años"),'TARIFAS MAS RUNT'!$E$15,AND(Z6="Entre 1.500 y 2.500 c.c.",I6="menos de 10 años"),'TARIFAS MAS RUNT'!$E$16,AND(Z6="Entre 1.500 y 2.500 c.c.",I6="10 o mas años"),'TARIFAS MAS RUNT'!$E$17,AND(Z6="Más de 2.500 c.c.",I6="menos de 10 años"),'TARIFAS MAS RUNT'!$E$18,AND(Z6="Más de 2.500 c.c.",I6="10 o mas años"),'TARIFAS MAS RUNT'!$E$19,TRUE,"Sin Tarifa"),W6="CARGA O MIXTOS",_xlfn.IFS(Z6="Menos de 5 Toneladas",'TARIFAS MAS RUNT'!$E$20,Z6="Entre 5 y 15 Toneladas",'TARIFAS MAS RUNT'!$E$21,Z6="Más de 15 Toneladas",'TARIFAS MAS RUNT'!$E$22,TRUE,"Sin Tarifa"),W6="OFICIALES ESPECIALES",_xlfn.IFS(Z6="Menos de 1.500 c.c.",'TARIFAS MAS RUNT'!$E$23,Z6="Entre 1.500 y 2.500 c.c.",'TARIFAS MAS RUNT'!$E$24,Z6="Más de 2.500 c.c.",'TARIFAS MAS RUNT'!$E$25,TRUE,"Sin Tarifa"),W6="AUTOMOVILES FAMILIARES",_xlfn.IFS(AND(Z6="Menos de 1.500 c.c.",I6="menos de 10 años"),'TARIFAS MAS RUNT'!$E$26,AND(Z6="Menos de 1.500 c.c.",I6="10 o mas años"),'TARIFAS MAS RUNT'!$E$27,AND(Z6="Entre 1.500 y 2.500 c.c.",I6="menos de 10 años"),'TARIFAS MAS RUNT'!$E$28,AND(Z6="Entre 1.500 y 2.500 c.c.",I6="10 o mas años"),'TARIFAS MAS RUNT'!$E$29,AND(Z6="Más de 2.500 c.c.",I6="menos de 10 años"),'TARIFAS MAS RUNT'!$E$30,AND(Z6="Más de 2.500 c.c.",I6="10 o mas años"),'TARIFAS MAS RUNT'!$E$31,TRUE,"Sin Tarifa"),TRUE,"Clase no encontrada")} -> 1274000 | P6: =+_xlfn.XLOOKUP(O6,'[2]ReporteCotizaciones (2)'!$H$2:$H$90,'[2]ReporteCotizaciones (2)'!$F$2:$F$90) -> 836600 | Q6: =+_xlfn.XLOOKUP(O6,Hoja3!$L$3:$L$39,Hoja3!$I$3:$I$39) -> 435000 | R6: 2400 | S6: =+P6+Q6+R6 -> 1274000 | T6: =+O6=S6 -> TRUE | W6: CAMPEROS Y CAMIONETAS | X6: 2700 | Y6: N/A | Z6: =IF(OR(W6="CAMPEROS Y CAMIONETAS",W6="VEHICULOS FAMILIARES",W6="AUTOS NEGOCIO"), IF(X6<1500,"Menos de 1.500 c.c.", IF(X6<=2500,"Entre 1.500 y 2.500 c.c.","Más de 2.500 c.c.")), IF(W6="CARGA O MIXTOS", IF(X6<5000,"Menos de 5 Toneladas", IF(X6<=15000,"Entre 5 y 15 Toneladas","Más de 15 Toneladas")), IF(W6="OFICIALES ESPECIALES", IF(X6<1500,"Menos de 1.500 c.c.", IF(X6<=2500,"Entre 1.500 y 2.500 c.c.","Más de 2.500 c.c.")), IF(OR(W6="VEHICULOS 6 o más pasajeros",W6="AUTOMOVILES FAMILIARES"), IF(X6<1500,"Menos de 1.500 c.c.", IF(X6<2500,"Entre 1.500 y 2.500 c.c.","2.500 o más c.c.")), "")))) -> Más de 2.500 c.c. | AA6: DOBLE CABINA | AB6: 232 | AC6: NORORIENTE | AD6: 3 | AE6: =+C6=AD6 -> TRUE | AF6: =+_xlfn.XLOOKUP(D6,'[3]SOAT A ADQUIRIR 2025 _2026'!$B$2:$B$106,'[3]SOAT A ADQUIRIR 2025 _2026'!$M$2:$M$106) -> 232 | AG6: =+AB6=AF6 -> TRUE | AH6: =+AI6=O6 -> TRUE | AI6: =+_xlfn.XLOOKUP(AB6,Hoja3!$D$3:$D$39,Hoja3!$L$3:$L$39) -> 1274000
C7: 4 | D7: LZV472 | E7: F-150 FHEV AT XLT SUPER CREW | F7: FORD | G7: 2023 | H7: =2026-G7 -> 3 | I7: =IF(H7>=10,"10 o mas años","menos de 10 años") -> menos de 10 años | J7: Oficiales | K7: 5 | L7: 46386 | M7: =+L7+1 -> 46387 | N7: 46751 | O7: {=_xlfn.IFS(W7="CAMPEROS Y CAMIONETAS",_xlfn.IFS(AND(Z7="Menos de 1.500 c.c.",I7="menos de 10 años"),'TARIFAS MAS RUNT'!$E$14,AND(Z7="Menos de 1.500 c.c.",I7="10 o mas años"),'TARIFAS MAS RUNT'!$E$15,AND(Z7="Entre 1.500 y 2.500 c.c.",I7="menos de 10 años"),'TARIFAS MAS RUNT'!$E$16,AND(Z7="Entre 1.500 y 2.500 c.c.",I7="10 o mas años"),'TARIFAS MAS RUNT'!$E$17,AND(Z7="Más de 2.500 c.c.",I7="menos de 10 años"),'TARIFAS MAS RUNT'!$E$18,AND(Z7="Más de 2.500 c.c.",I7="10 o mas años"),'TARIFAS MAS RUNT'!$E$19,TRUE,"Sin Tarifa"),W7="CARGA O MIXTOS",_xlfn.IFS(Z7="Menos de 5 Toneladas",'TARIFAS MAS RUNT'!$E$20,Z7="Entre 5 y 15 Toneladas",'TARIFAS MAS RUNT'!$E$21,Z7="Más de 15 Toneladas",'TARIFAS MAS RUNT'!$E$22,TRUE,"Sin Tarifa"),W7="OFICIALES ESPECIALES",_xlfn.IFS(Z7="Menos de 1.500 c.c.",'TARIFAS MAS RUNT'!$E$23,Z7="Entre 1.500 y 2.500 c.c.",'TARIFAS MAS RUNT'!$E$24,Z7="Más de 2.500 c.c.",'TARIFAS MAS RUNT'!$E$25,TRUE,"Sin Tarifa"),W7="AUTOMOVILES FAMILIARES",_xlfn.IFS(AND(Z7="Menos de 1.500 c.c.",I7="menos de 10 años"),'TARIFAS MAS RUNT'!$E$26,AND(Z7="Menos de 1.500 c.c.",I7="10 o mas años"),'TARIFAS MAS RUNT'!$E$27,AND(Z7="Entre 1.500 y 2.500 c.c.",I7="menos de 10 años"),'TARIFAS MAS RUNT'!$E$28,AND(Z7="Entre 1.500 y 2.500 c.c.",I7="10 o mas años"),'TARIFAS MAS RUNT'!$E$29,AND(Z7="Más de 2.500 c.c.",I7="menos de 10 años"),'TARIFAS MAS RUNT'!$E$30,AND(Z7="Más de 2.500 c.c.",I7="10 o mas años"),'TARIFAS MAS RUNT'!$E$31,TRUE,"Sin Tarifa"),TRUE,"Clase no encontrada")} -> 1110300 | P7: =+_xlfn.XLOOKUP(O7,'[2]ReporteCotizaciones (2)'!$H$2:$H$90,'[2]ReporteCotizaciones (2)'!$F$2:$F$90) -> 728900 | Q7: =+_xlfn.XLOOKUP(O7,Hoja3!$L$3:$L$39,Hoja3!$I$3:$I$39) -> 379000 | R7: 2400 | S7: =+P7+Q7+R7 -> 1110300 | T7: =+O7=S7 -> TRUE | W7: CAMPEROS Y CAMIONETAS | X7: 3497 | Y7: N/A | Z7: =IF(OR(W7="CAMPEROS Y CAMIONETAS",W7="VEHICULOS FAMILIARES",W7="AUTOS NEGOCIO"), IF(X7<1500,"Menos de 1.500 c.c.", IF(X7<=2500,"Entre 1.500 y 2.500 c.c.","Más de 2.500 c.c.")), IF(W7="CARGA O MIXTOS", IF(X7<5000,"Menos de 5 Toneladas", IF(X7<=15000,"Entre 5 y 15 Toneladas","Más de 15 Toneladas")), IF(W7="OFICIALES ESPECIALES", IF(X7<1500,"Menos de 1.500 c.c.", IF(X7<=2500,"Entre 1.500 y 2.500 c.c.","Más de 2.500 c.c.")), IF(OR(W7="VEHICULOS 6 o más pasajeros",W7="AUTOMOVILES FAMILIARES"), IF(X7<1500,"Menos de 1.500 c.c.", IF(X7<2500,"Entre 1.500 y 2.500 c.c.","2.500 o más c.c.")), "")))) -> Más de 2.500 c.c. | AA7: DOBLE CABINA CON PLATON | AB7: 231 | AC7: NOROCCIDENTE | AD7: 4 | AE7: =+C7=AD7 -> TRUE | AF7: =+_xlfn.XLOOKUP(D7,'[3]SOAT A ADQUIRIR 2025 _2026'!$B$2:$B$106,'[3]SOAT A ADQUIRIR 2025 _2026'!$M$2:$M$106) -> 231 | AG7: =+AB7=AF7 -> TRUE | AH7: =+AI7=O7 -> TRUE | AI7: =+_xlfn.XLOOKUP(AB7,Hoja3!$D$3:$D$39,Hoja3!$L$3:$L$39) -> 1110300
C8: 5 | D8: OBF783 | E8: NHR | F8: CHEVROLET | G8: 2014 | H8: =2026-G8 -> 12 | I8: =IF(H8>=10,"10 o mas años","menos de 10 años") -> 10 o mas años | J8: Oficial | K8: 3 | L8: 46386 | M8: =+L8+1 -> 46387 | N8: 46751 | O8: {=_xlfn.IFS(W8="CAMPEROS Y CAMIONETAS",_xlfn.IFS(AND(Z8="Menos de 1.500 c.c.",I8="menos de 10 años"),'TARIFAS MAS RUNT'!$E$14,AND(Z8="Menos de 1.500 c.c.",I8="10 o mas años"),'TARIFAS MAS RUNT'!$E$15,AND(Z8="Entre 1.500 y 2.500 c.c.",I8="menos de 10 años"),'TARIFAS MAS RUNT'!$E$16,AND(Z8="Entre 1.500 y 2.500 c.c.",I8="10 o mas años"),'TARIFAS MAS RUNT'!$E$17,AND(Z8="Más de 2.500 c.c.",I8="menos de 10 años"),'TARIFAS MAS RUNT'!$E$18,AND(Z8="Más de 2.500 c.c.",I8="10 o mas años"),'TARIFAS MAS RUNT'!$E$19,TRUE,"Sin Tarifa"),W8="CARGA O MIXTOS",_xlfn.IFS(Z8="Menos de 5 Toneladas",'TARIFAS MAS RUNT'!$E$20,Z8="Entre 5 y 15 Toneladas",'TARIFAS MAS RUNT'!$E$21,Z8="Más de 15 Toneladas",'TARIFAS MAS RUNT'!$E$22,TRUE,"Sin Tarifa"),W8="OFICIALES ESPECIALES",_xlfn.IFS(Z8="Menos de 1.500 c.c.",'TARIFAS MAS RUNT'!$E$23,Z8="Entre 1.500 y 2.500 c.c.",'TARIFAS MAS RUNT'!$E$24,Z8="Más de 2.500 c.c.",'TARIFAS MAS RUNT'!$E$25,TRUE,"Sin Tarifa"),W8="AUTOMOVILES FAMILIARES",_xlfn.IFS(AND(Z8="Menos de 1.500 c.c.",I8="menos de 10 años"),'TARIFAS MAS RUNT'!$E$26,AND(Z8="Menos de 1.500 c.c.",I8="10 o mas años"),'TARIFAS MAS RUNT'!$E$27,AND(Z8="Entre 1.500 y 2.500 c.c.",I8="menos de 10 años"),'TARIFAS MAS RUNT'!$E$28,AND(Z8="Entre 1.500 y 2.500 c.c.",I8="10 o mas años"),'TARIFAS MAS RUNT'!$E$29,AND(Z8="Más de 2.500 c.c.",I8="menos de 10 años"),'TARIFAS MAS RUNT'!$E$30,AND(Z8="Más de 2.500 c.c.",I8="10 o mas años"),'TARIFAS MAS RUNT'!$E$31,TRUE,"Sin Tarifa"),TRUE,"Clase no encontrada")} -> 888400 | P8: =+_xlfn.XLOOKUP(O8,'[2]ReporteCotizaciones (2)'!$H$2:$H$90,'[2]ReporteCotizaciones (2)'!$F$2:$F$90) -> 582900 | Q8: =+_xlfn.XLOOKUP(O8,Hoja3!$L$3:$L$39,Hoja3!$I$3:$I$39) -> 303100 | R8: 2400 | S8: =+P8+Q8+R8 -> 888400 | T8: =+O8=S8 -> TRUE | W8: CARGA O MIXTOS | X8: 2771 | Y8: 1235 | Z8: =IF(OR(W8="CAMPEROS Y CAMIONETAS",W8="VEHICULOS FAMILIARES",W8="AUTOS NEGOCIO"), IF(Y8<1500,"Menos de 1.500 c.c.", IF(Y8<=2500,"Entre 1.500 y 2.500 c.c.","Más de 2.500 c.c.")), IF(W8="CARGA O MIXTOS", IF(Y8<5000,"Menos de 5 Toneladas", IF(Y8<=15000,"Entre 5 y 15 Toneladas","Más de 15 Toneladas")), IF(W8="OFICIALES ESPECIALES", IF(Y8<1500,"Menos de 1.500 c.c.", IF(Y8<=2500,"Entre 1.500 y 2.500 c.c.","Más de 2.500 c.c.")), IF(OR(W8="VEHICULOS 6 o más pasajeros",W8="AUTOMOVILES FAMILIARES"), IF(Y8<1500,"Menos de 1.500 c.c.", IF(Y8<2500,"Entre 1.500 y 2.500 c.c.","2.500 o más c.c.")), "")))) -> Menos de 5 Toneladas | AA8: Furgon | AB8: 310 | AC8: NORTE | AD8: 5 | AE8: =+C8=AD8 -> TRUE | AF8: =+_xlfn.XLOOKUP(D8,'[3]SOAT A ADQUIRIR 2025 _2026'!$B$2:$B$106,'[3]SOAT A ADQUIRIR 2025 _2026'!$M$2:$M$106) -> 232 | AG8: =+AB8=AF8 -> FALSE | AH8: =+AI8=O8 -> TRUE | AI8: =+_xlfn.XLOOKUP(AB8,Hoja3!$D$3:$D$39,Hoja3!$L$3:$L$39) -> 888400
C9: 6 | D9: OBF784 | E9: NKR | F9: CHEVROLET | G9: 2014 | H9: =2026-G9 -> 12 | I9: =IF(H9>=10,"10 o mas años","menos de 10 años") -> 10 o mas años | J9: Oficial | K9: 3 | L9: 46386 | M9: =+L9+1 -> 46387 | N9: 46751 | O9: {=_xlfn.IFS(W9="CAMPEROS Y CAMIONETAS",_xlfn.IFS(AND(Z9="Menos de 1.500 c.c.",I9="menos de 10 años"),'TARIFAS MAS RUNT'!$E$14,AND(Z9="Menos de 1.500 c.c.",I9="10 o mas años"),'TARIFAS MAS RUNT'!$E$15,AND(Z9="Entre 1.500 y 2.500 c.c.",I9="menos de 10 años"),'TARIFAS MAS RUNT'!$E$16,AND(Z9="Entre 1.500 y 2.500 c.c.",I9="10 o mas años"),'TARIFAS MAS RUNT'!$E$17,AND(Z9="Más de 2.500 c.c.",I9="menos de 10 años"),'TARIFAS MAS RUNT'!$E$18,AND(Z9="Más de 2.500 c.c.",I9="10 o mas años"),'TARIFAS MAS RUNT'!$E$19,TRUE,"Sin Tarifa"),W9="CARGA O MIXTOS",_xlfn.IFS(Z9="Menos de 5 Toneladas",'TARIFAS MAS RUNT'!$E$20,Z9="Entre 5 y 15 Toneladas",'TARIFAS MAS RUNT'!$E$21,Z9="Más de 15 Toneladas",'TARIFAS MAS RUNT'!$E$22,TRUE,"Sin Tarifa"),W9="OFICIALES ESPECIALES",_xlfn.IFS(Z9="Menos de 1.500 c.c.",'TARIFAS MAS RUNT'!$E$23,Z9="Entre 1.500 y 2.500 c.c.",'TARIFAS MAS RUNT'!$E$24,Z9="Más de 2.500 c.c.",'TARIFAS MAS RUNT'!$E$25,TRUE,"Sin Tarifa"),W9="AUTOMOVILES FAMILIARES",_xlfn.IFS(AND(Z9="Menos de 1.500 c.c.",I9="menos de 10 años"),'TARIFAS MAS RUNT'!$E$26,AND(Z9="Menos de 1.500 c.c.",I9="10 o mas años"),'TARIFAS MAS RUNT'!$E$27,AND(Z9="Entre 1.500 y 2.500 c.c.",I9="menos de 10 años"),'TARIFAS MAS RUNT'!$E$28,AND(Z9="Entre 1.500 y 2.500 c.c.",I9="10 o mas años"),'TARIFAS MAS RUNT'!$E$29,AND(Z9="Más de 2.500 c.c.",I9="menos de 10 años"),'TARIFAS MAS RUNT'!$E$30,AND(Z9="Más de 2.500 c.c.",I9="10 o mas años"),'TARIFAS MAS RUNT'!$E$31,TRUE,"Sin Tarifa"),TRUE,"Clase no encontrada")} -> 888400 | P9: =+_xlfn.XLOOKUP(O9,'[2]ReporteCotizaciones (2)'!$H$2:$H$90,'[2]ReporteCotizaciones (2)'!$F$2:$F$90) -> 582900 | Q9: =+_xlfn.XLOOKUP(O9,Hoja3!$L$3:$L$39,Hoja3!$I$3:$I$39) -> 303100 | R9: 2400 | S9: =+P9+Q9+R9 -> 888400 | T9: =+O9=S9 -> TRUE | W9: CARGA O MIXTOS | X9: 2999 | Y9: 2600 | Z9: =IF(OR(W9="CAMPEROS Y CAMIONETAS",W9="VEHICULOS FAMILIARES",W9="AUTOS NEGOCIO"), IF(Y9<1500,"Menos de 1.500 c.c.", IF(Y9<=2500,"Entre 1.500 y 2.500 c.c.","Más de 2.500 c.c.")), IF(W9="CARGA O MIXTOS", IF(Y9<5000,"Menos de 5 Toneladas", IF(Y9<=15000,"Entre 5 y 15 Toneladas","Más de 15 Toneladas")), IF(W9="OFICIALES ESPECIALES", IF(Y9<1500,"Menos de 1.500 c.c.", IF(Y9<=2500,"Entre 1.500 y 2.500 c.c.","Más de 2.500 c.c.")), IF(OR(W9="VEHICULOS 6 o más pasajeros",W9="AUTOMOVILES FAMILIARES"), IF(Y9<1500,"Menos de 1.500 c.c.", IF(Y9<2500,"Entre 1.500 y 2.500 c.c.","2.500 o más c.c.")), "")))) -> Menos de 5 Toneladas | AA9: Furgon | AB9: 310 | AC9: NIVEL CENTRAL | AD9: 6 | AE9: =+C9=AD9 -> TRUE | AF9: =+_xlfn.XLOOKUP(D9,'[3]SOAT A ADQUIRIR 2025 _2026'!$B$2:$B$106,'[3]SOAT A ADQUIRIR 2025 _2026'!$M$2:$M$106) -> 310 | AG9: =+AB9=AF9 -> TRUE | AH9: =+AI9=O9 -> TRUE | AI9: =+_xlfn.XLOOKUP(AB9,Hoja3!$D$3:$D$39,Hoja3!$L$3:$L$39) -> 888400
C10: 7 | D10: OBF785 | E10: NKR | F10: CHEVROLET | G10: 2014 | H10: =2026-G10 -> 12 | I10: =IF(H10>=10,"10 o mas años","menos de 10 años") -> 10 o mas años | J10: Oficial | K10: 3 | L10: 46386 | M10: =+L10+1 -> 46387 | N10: 46751 | O10: {=_xlfn.IFS(W10="CAMPEROS Y CAMIONETAS",_xlfn.IFS(AND(Z10="Menos de 1.500 c.c.",I10="menos de 10 años"),'TARIFAS MAS RUNT'!$E$14,AND(Z10="Menos de 1.500 c.c.",I10="10 o mas años"),'TARIFAS MAS RUNT'!$E$15,AND(Z10="Entre 1.500 y 2.500 c.c.",I10="menos de 10 años"),'TARIFAS MAS RUNT'!$E$16,AND(Z10="Entre 1.500 y 2.500 c.c.",I10="10 o mas años"),'TARIFAS MAS RUNT'!$E$17,AND(Z10="Más de 2.500 c.c.",I10="menos de 10 años"),'TARIFAS MAS RUNT'!$E$18,AND(Z10="Más de 2.500 c.c.",I10="10 o mas años"),'TARIFAS MAS RUNT'!$E$19,TRUE,"Sin Tarifa"),W10="CARGA O MIXTOS",_xlfn.IFS(Z10="Menos de 5 Toneladas",'TARIFAS MAS RUNT'!$E$20,Z10="Entre 5 y 15 Toneladas",'TARIFAS MAS RUNT'!$E$21,Z10="Más de 15 Toneladas",'TARIFAS MAS RUNT'!$E$22,TRUE,"Sin Tarifa"),W10="OFICIALES ESPECIALES",_xlfn.IFS(Z10="Menos de 1.500 c.c.",'TARIFAS MAS RUNT'!$E$23,Z10="Entre 1.500 y 2.500 c.c.",'TARIFAS MAS RUNT'!$E$24,Z10="Más de 2.500 c.c.",'TARIFAS MAS RUNT'!$E$25,TRUE,"Sin Tarifa"),W10="AUTOMOVILES FAMILIARES",_xlfn.IFS(AND(Z10="Menos de 1.500 c.c.",I10="menos de 10 años"),'TARIFAS MAS RUNT'!$E$26,AND(Z10="Menos de 1.500 c.c.",I10="10 o mas años"),'TARIFAS MAS RUNT'!$E$27,AND(Z10="Entre 1.500 y 2.500 c.c.",I10="menos de 10 años"),'TARIFAS MAS RUNT'!$E$28,AND(Z10="Entre 1.500 y 2.500 c.c.",I10="10 o mas años"),'TARIFAS MAS RUNT'!$E$29,AND(Z10="Más de 2.500 c.c.",I10="menos de 10 años"),'TARIFAS MAS RUNT'!$E$30,AND(Z10="Más de 2.500 c.c.",I10="10 o mas años"),'TARIFAS MAS RUNT'!$E$31,TRUE,"Sin Tarifa"),TRUE,"Clase no encontrada")} -> 888400 | P10: =+_xlfn.XLOOKUP(O10,'[2]ReporteCotizaciones (2)'!$H$2:$H$90,'[2]ReporteCotizaciones (2)'!$F$2:$F$90) -> 582900 | Q10: =+_xlfn.XLOOKUP(O10,Hoja3!$L$3:$L$39,Hoja3!$I$3:$I$39) -> 303100 | R10: 2400 | S10: =+P10+Q10+R10 -> 888400 | T10: =+O10=S10 -> TRUE | W10: CARGA O MIXTOS | X10: 2999 | Y10: 2600 | Z10: =IF(OR(W10="CAMPEROS Y CAMIONETAS",W10="VEHICULOS FAMILIARES",W10="AUTOS NEGOCIO"), IF(Y10<1500,"Menos de 1.500 c.c.", IF(Y10<=2500,"Entre 1.500 y 2.500 c.c.","Más de 2.500 c.c.")), IF(W10="CARGA O MIXTOS", IF(Y10<5000,"Menos de 5 Toneladas", IF(Y10<=15000,"Entre 5 y 15 Toneladas","Más de 15 Toneladas")), IF(W10="OFICIALES ESPECIALES", IF(Y10<1500,"Menos de 1.500 c.c.", IF(Y10<=2500,"Entre 1.500 y 2.500 c.c.","Más de 2.500 c.c.")), IF(OR(W10="VEHICULOS 6 o más pasajeros",W10="AUTOMOVILES FAMILIARES"), IF(Y10<1500,"Menos de 1.500 c.c.", IF(Y10<2500,"Entre 1.500 y 2.500 c.c.","2.500 o más c.c.")), "")))) -> Menos de 5 Toneladas | AA10: FURGON | AB10: 310 | AC10: SUROCCIDENTE | AD10: 7 | AE10: =+C10=AD10 -> TRUE | AF10: =+_xlfn.XLOOKUP(D10,'[3]SOAT A ADQUIRIR 2025 _2026'!$B$2:$B$106,'[3]SOAT A ADQUIRIR 2025 _2026'!$M$2:$M$106) -> 310 | AG10: =+AB10=AF10 -> TRUE | AH10: =+AI10=O10 -> TRUE | AI10: =+_xlfn.XLOOKUP(AB10,Hoja3!$D$3:$D$39,Hoja3!$L$3:$L$39) -> 888400
C11: 8 | D11: OBF787 | E11: L 200 2.5L | F11: MITSUBISHI | G11: 2014 | H11: =2026-G11 -> 12 | I11: =IF(H11>=10,"10 o mas años","menos de 10 años") -> 10 o mas años | J11: Oficial | K11: 5 | L11: 46386 | M11: =+L11+1 -> 46387 | N11: 46751 | O11: {=_xlfn.IFS(W11="CAMPEROS Y CAMIONETAS",_xlfn.IFS(AND(Z11="Menos de 1.500 c.c.",I11="menos de 10 años"),'TARIFAS MAS RUNT'!$E$14,AND(Z11="Menos de 1.500 c.c.",I11="10 o mas años"),'TARIFAS MAS RUNT'!$E$15,AND(Z11="Entre 1.500 y 2.500 c.c.",I11="menos de 10 años"),'TARIFAS MAS RUNT'!$E$16,AND(Z11="Entre 1.500 y 2.500 c.c.",I11="10 o mas años"),'TARIFAS MAS RUNT'!$E$17,AND(Z11="Más de 2.500 c.c.",I11="menos de 10 años"),'TARIFAS MAS RUNT'!$E$18,AND(Z11="Más de 2.500 c.c.",I11="10 o mas años"),'TARIFAS MAS RUNT'!$E$19,TRUE,"Sin Tarifa"),W11="CARGA O MIXTOS",_xlfn.IFS(Z11="Menos de 5 Toneladas",'TARIFAS MAS RUNT'!$E$20,Z11="Entre 5 y 15 Toneladas",'TARIFAS MAS RUNT'!$E$21,Z11="Más de 15 Toneladas",'TARIFAS MAS RUNT'!$E$22,TRUE,"Sin Tarifa"),W11="OFICIALES ESPECIALES",_xlfn.IFS(Z11="Menos de 1.500 c.c.",'TARIFAS MAS RUNT'!$E$23,Z11="Entre 1.500 y 2.500 c.c.",'TARIFAS MAS RUNT'!$E$24,Z11="Más de 2.500 c.c.",'TARIFAS MAS RUNT'!$E$25,TRUE,"Sin Tarifa"),W11="AUTOMOVILES FAMILIARES",_xlfn.IFS(AND(Z11="Menos de 1.500 c.c.",I11="menos de 10 años"),'TARIFAS MAS RUNT'!$E$26,AND(Z11="Menos de 1.500 c.c.",I11="10 o mas años"),'TARIFAS MAS RUNT'!$E$27,AND(Z11="Entre 1.500 y 2.500 c.c.",I11="menos de 10 años"),'TARIFAS MAS RUNT'!$E$28,AND(Z11="Entre 1.500 y 2.500 c.c.",I11="10 o mas años"),'TARIFAS MAS RUNT'!$E$29,AND(Z11="Más de 2.500 c.c.",I11="menos de 10 años"),'TARIFAS MAS RUNT'!$E$30,AND(Z11="Más de 2.500 c.c.",I11="10 o mas años"),'TARIFAS MAS RUNT'!$E$31,TRUE,"Sin Tarifa"),TRUE,"Clase no encontrada")} -> 1121400 | P11: =+_xlfn.XLOOKUP(O11,'[2]ReporteCotizaciones (2)'!$H$2:$H$90,'[2]ReporteCotizaciones (2)'!$F$2:$F$90) -> 736200 | Q11: =+_xlfn.XLOOKUP(O11,Hoja3!$L$3:$L$39,Hoja3!$I$3:$I$39) -> 382800 | R11: 2400 | S11: =+P11+Q11+R11 -> 1121400 | T11: =+O11=S11 -> TRUE | W11: CAMPEROS Y CAMIONETAS | X11: 2477 | Y11: N/A | Z11: =IF(OR(W11="CAMPEROS Y CAMIONETAS",W11="VEHICULOS FAMILIARES",W11="AUTOS NEGOCIO"), IF(X11<1500,"Menos de 1.500 c.c.", IF(X11<=2500,"Entre 1.500 y 2.500 c.c.","Más de 2.500 c.c.")), IF(W11="CARGA O MIXTOS", IF(X11<5000,"Menos de 5 Toneladas", IF(X11<=15000,"Entre 5 y 15 Toneladas","Más de 15 Toneladas")), IF(W11="OFICIALES ESPECIALES", IF(X11<1500,"Menos de 1.500 c.c.", IF(X11<=2500,"Entre 1.500 y 2.500 c.c.","Más de 2.500 c.c.")), IF(OR(W11="VEHICULOS 6 o más pasajeros",W11="AUTOMOVILES FAMILIARES"), IF(X11<1500,"Menos de 1.500 c.c.", IF(X11<2500,"Entre 1.500 y 2.500 c.c.","2.500 o más c.c.")), "")))) -> Entre 1.500 y 2.500 c.c. | AA11: DOBLE CABINA | AB11: 222 | AC11: NIVEL CENTRAL | AD11: 8 | AE11: =+C11=AD11 -> TRUE | AF11: =+_xlfn.XLOOKUP(D11,'[3]SOAT A ADQUIRIR 2025 _2026'!$B$2:$B$106,'[3]SOAT A ADQUIRIR 2025 _2026'!$M$2:$M$106) -> 222 | AG11: =+AB11=AF11 -> TRUE | AH11: =+AI11=O11 -> TRUE | AI11: =+_xlfn.XLOOKUP(AB11,Hoja3!$D$3:$D$39,Hoja3!$L$3:$L$39) -> 1121400
C12: 9 | D12: OBF788 | E12: L 200 2.5L | F12: MITSUBISHI | G12: 2014 | H12: =2026-G12 -> 12 | I12: =IF(H12>=10,"10 o mas años","menos de 10 años") -> 10 o mas años | J12: Oficial | K12: 5 | L12: 46386 | M12: =+L12+1 -> 46387 | N12: 46751 | O12: {=_xlfn.IFS(W12="CAMPEROS Y CAMIONETAS",_xlfn.IFS(AND(Z12="Menos de 1.500 c.c.",I12="menos de 10 años"),'TARIFAS MAS RUNT'!$E$14,AND(Z12="Menos de 1.500 c.c.",I12="10 o mas años"),'TARIFAS MAS RUNT'!$E$15,AND(Z12="Entre 1.500 y 2.500 c.c.",I12="menos de 10 años"),'TARIFAS MAS RUNT'!$E$16,AND(Z12="Entre 1.500 y 2.500 c.c.",I12="10 o mas años"),'TARIFAS MAS RUNT'!$E$17,AND(Z12="Más de 2.500 c.c.",I12="menos de 10 años"),'TARIFAS MAS RUNT'!$E$18,AND(Z12="Más de 2.500 c.c.",I12="10 o mas años"),'TARIFAS MAS RUNT'!$E$19,TRUE,"Sin Tarifa"),W12="CARGA O MIXTOS",_xlfn.IFS(Z12="Menos de 5 Toneladas",'TARIFAS MAS RUNT'!$E$20,Z12="Entre 5 y 15 Toneladas",'TARIFAS MAS RUNT'!$E$21,Z12="Más de 15 Toneladas",'TARIFAS MAS RUNT'!$E$22,TRUE,"Sin Tarifa"),W12="OFICIALES ESPECIALES",_xlfn.IFS(Z12="Menos de 1.500 c.c.",'TARIFAS MAS RUNT'!$E$23,Z12="Entre 1.500 y 2.500 c.c.",'TARIFAS MAS RUNT'!$E$24,Z12="Más de 2.500 c.c.",'TARIFAS MAS RUNT'!$E$25,TRUE,"Sin Tarifa"),W12="AUTOMOVILES FAMILIARES",_xlfn.IFS(AND(Z12="Menos de 1.500 c.c.",I12="menos de 10 años"),'TARIFAS MAS RUNT'!$E$26,AND(Z12="Menos de 1.500 c.c.",I12="10 o mas años"),'TARIFAS MAS RUNT'!$E$27,AND(Z12="Entre 1.500 y 2.500 c.c.",I12="menos de 10 años"),'TARIFAS MAS RUNT'!$E$28,AND(Z12="Entre 1.500 y 2.500 c.c.",I12="10 o mas años"),'TARIFAS MAS RUNT'!$E$29,AND(Z12="Más de 2.500 c.c.",I12="menos de 10 años"),'TARIFAS MAS RUNT'!$E$30,AND(Z12="Más de 2.500 c.c.",I12="10 o mas años"),'TARIFAS MAS RUNT'!$E$31,TRUE,"Sin Tarifa"),TRUE,"Clase no encontrada")} -> 1121400 | P12: =+_xlfn.XLOOKUP(O12,'[2]ReporteCotizaciones (2)'!$H$2:$H$90,'[2]ReporteCotizaciones (2)'!$F$2:$F$90) -> 736200 | Q12: =+_xlfn.XLOOKUP(O12,Hoja3!$L$3:$L$39,Hoja3!$I$3:$I$39) -> 382800 | R12: 2400 | S12: =+P12+Q12+R12 -> 1121400 | T12: =+O12=S12 -> TRUE | W12: CAMPEROS Y CAMIONETAS | X12: 2477 | Y12: N/A | Z12: =IF(OR(W12="CAMPEROS Y CAMIONETAS",W12="VEHICULOS FAMILIARES",W12="AUTOS NEGOCIO"), IF(X12<1500,"Menos de 1.500 c.c.", IF(X12<=2500,"Entre 1.500 y 2.500 c.c.","Más de 2.500 c.c.")), IF(W12="CARGA O MIXTOS", IF(X12<5000,"Menos de 5 Toneladas", IF(X12<=15000,"Entre 5 y 15 Toneladas","Más de 15 Toneladas")), IF(W12="OFICIALES ESPECIALES", IF(X12<1500,"Menos de 1.500 c.c.", IF(X12<=2500,"Entre 1.500 y 2.500 c.c.","Más de 2.500 c.c.")), IF(OR(W12="VEHICULOS 6 o más pasajeros",W12="AUTOMOVILES FAMILIARES"), IF(X12<1500,"Menos de 1.500 c.c.", IF(X12<2500,"Entre 1.500 y 2.500 c.c.","2.500 o más c.c.")), "")))) -> Entre 1.500 y 2.500 c.c. | AA12: DOBLE CABINA | AB12: 222 | AC12: NIVEL CENTRAL | AD12: 9 | AE12: =+C12=AD12 -> TRUE | AF12: =+_xlfn.XLOOKUP(D12,'[3]SOAT A ADQUIRIR 2025 _2026'!$B$2:$B$106,'[3]SOAT A ADQUIRIR 2025 _2026'!$M$2:$M$106) -> 222 | AG12: =+AB12=AF12 -> TRUE | AH12: =+AI12=O12 -> TRUE | AI12: =+_xlfn.XLOOKUP(AB12,Hoja3!$D$3:$D$39,Hoja3!$L$3:$L$39) -> 1121400
C13: 10 | D13: OBG323 | E13: TERRACAN GL | F13: HYUNDAI | G13: 2007 | H13: =2026-G13 -> 19 | I13: =IF(H13>=10,"10 o mas años","menos de 10 años") -> 10 o mas años | J13: Oficial | K13: 7 | L13: 46386 | M13: =+L13+1 -> 46387 | N13: 46751 | O13: {=_xlfn.IFS(W13="CAMPEROS Y CAMIONETAS",_xlfn.IFS(AND(Z13="Menos de 1.500 c.c.",I13="menos de 10 años"),'TARIFAS MAS RUNT'!$E$14,AND(Z13="Menos de 1.500 c.c.",I13="10 o mas años"),'TARIFAS MAS RUNT'!$E$15,AND(Z13="Entre 1.500 y 2.500 c.c.",I13="menos de 10 años"),'TARIFAS MAS RUNT'!$E$16,AND(Z13="Entre 1.500 y 2.500 c.c.",I13="10 o mas años"),'TARIFAS MAS RUNT'!$E$17,AND(Z13="Más de 2.500 c.c.",I13="menos de 10 años"),'TARIFAS MAS RUNT'!$E$18,AND(Z13="Más de 2.500 c.c.",I13="10 o mas años"),'TARIFAS MAS RUNT'!$E$19,TRUE,"Sin Tarifa"),W13="CARGA O MIXTOS",_xlfn.IFS(Z13="Menos de 5 Toneladas",'TARIFAS MAS RUNT'!$E$20,Z13="Entre 5 y 15 Toneladas",'TARIFAS MAS RUNT'!$E$21,Z13="Más de 15 Toneladas",'TARIFAS MAS RUNT'!$E$22,TRUE,"Sin Tarifa"),W13="OFICIALES ESPECIALES",_xlfn.IFS(Z13="Menos de 1.500 c.c.",'TARIFAS MAS RUNT'!$E$23,Z13="Entre 1.500 y 2.500 c.c.",'TARIFAS MAS RUNT'!$E$24,Z13="Más de 2.500 c.c.",'TARIFAS MAS RUNT'!$E$25,TRUE,"Sin Tarifa"),W13="AUTOMOVILES FAMILIARES",_xlfn.IFS(AND(Z13="Menos de 1.500 c.c.",I13="menos de 10 años"),'TARIFAS MAS RUNT'!$E$26,AND(Z13="Menos de 1.500 c.c.",I13="10 o mas años"),'TARIFAS MAS RUNT'!$E$27,AND(Z13="Entre 1.500 y 2.500 c.c.",I13="menos de 10 años"),'TARIFAS MAS RUNT'!$E$28,AND(Z13="Entre 1.500 y 2.500 c.c.",I13="10 o mas años"),'TARIFAS MAS RUNT'!$E$29,AND(Z13="Más de 2.500 c.c.",I13="menos de 10 años"),'TARIFAS MAS RUNT'!$E$30,AND(Z13="Más de 2.500 c.c.",I13="10 o mas años"),'TARIFAS MAS RUNT'!$E$31,TRUE,"Sin Tarifa"),TRUE,"Clase no encontrada")} -> 1121400 | P13: =+_xlfn.XLOOKUP(O13,'[2]ReporteCotizaciones (2)'!$H$2:$H$90,'[2]ReporteCotizaciones (2)'!$F$2:$F$90) -> 736200 | Q13: =+_xlfn.XLOOKUP(O13,Hoja3!$L$3:$L$39,Hoja3!$I$3:$I$39) -> 382800 | R13: 2400 | S13: =+P13+Q13+R13 -> 1121400 | T13: =+O13=S13 -> TRUE | W13: CAMPEROS Y CAMIONETAS | X13: 2476 | Y13: N/A | Z13: =IF(OR(W13="CAMPEROS Y CAMIONETAS",W13="VEHICULOS FAMILIARES",W13="AUTOS NEGOCIO"), IF(X13<1500,"Menos de 1.500 c.c.", IF(X13<=2500,"Entre 1.500 y 2.500 c.c.","Más de 2.500 c.c.")), IF(W13="CARGA O MIXTOS", IF(X13<5000,"Menos de 5 Toneladas", IF(X13<=15000,"Entre 5 y 15 Toneladas","Más de 15 Toneladas")), IF(W13="OFICIALES ESPECIALES", IF(X13<1500,"Menos de 1.500 c.c.", IF(X13<=2500,"Entre 1.500 y 2.500 c.c.","Más de 2.500 c.c.")), IF(OR(W13="VEHICULOS 6 o más pasajeros",W13="AUTOMOVILES FAMILIARES"), IF(X13<1500,"Menos de 1.500 c.c.", IF(X13<2500,"Entre 1.500 y 2.500 c.c.","2.500 o más c.c.")), "")))) -> Entre 1.500 y 2.500 c.c. | AA13: CABINADO | AB13: 222 | AC13: BOGOTÁ | AD13: 10 | AE13: =+C13=AD13 -> TRUE | AF13: =+_xlfn.XLOOKUP(D13,'[3]SOAT A ADQUIRIR 2025 _2026'!$B$2:$B$106,'[3]SOAT A ADQUIRIR 2025 _2026'!$M$2:$M$106) -> 222 | AG13: =+AB13=AF13 -> TRUE | AH13: =+AI13=O13 -> TRUE | AI13: =+_xlfn.XLOOKUP(AB13,Hoja3!$D$3:$D$39,Hoja3!$L$3:$L$39) -> 1121400
B14: SUR | C14: 11 | D14: OBG529 | E14: OPTRA | F14: CHEVROLET | G14: 2007 | H14: =2026-G14 -> 19 | I14: =IF(H14>=10,"10 o mas años","menos de 10 años") -> 10 o mas años | J14: Oficial | K14: 5 | L14: 46386 | M14: =+L14+1 -> 46387 | N14: 46751 | O14: {=_xlfn.IFS(W14="CAMPEROS Y CAMIONETAS",_xlfn.IFS(AND(Z14="Menos de 1.500 c.c.",I14="menos de 10 años"),'TARIFAS MAS RUNT'!$E$14,AND(Z14="Menos de 1.500 c.c.",I14="10 o mas años"),'TARIFAS MAS RUNT'!$E$15,AND(Z14="Entre 1.500 y 2.500 c.c.",I14="menos de 10 años"),'TARIFAS MAS RUNT'!$E$16,AND(Z14="Entre 1.500 y 2.500 c.c.",I14="10 o mas años"),'TARIFAS MAS RUNT'!$E$17,AND(Z14="Más de 2.500 c.c.",I14="menos de 10 años"),'TARIFAS MAS RUNT'!$E$18,AND(Z14="Más de 2.500 c.c.",I14="10 o mas años"),'TARIFAS MAS RUNT'!$E$19,TRUE,"Sin Tarifa"),W14="CARGA O MIXTOS",_xlfn.IFS(Z14="Menos de 5 Toneladas",'TARIFAS MAS RUNT'!$E$20,Z14="Entre 5 y 15 Toneladas",'TARIFAS MAS RUNT'!$E$21,Z14="Más de 15 Toneladas",'TARIFAS MAS RUNT'!$E$22,TRUE,"Sin Tarifa"),W14="OFICIALES ESPECIALES",_xlfn.IFS(Z14="Menos de 1.500 c.c.",'TARIFAS MAS RUNT'!$E$23,Z14="Entre 1.500 y 2.500 c.c.",'TARIFAS MAS RUNT'!$E$24,Z14="Más de 2.500 c.c.",'TARIFAS MAS RUNT'!$E$25,TRUE,"Sin Tarifa"),W14="AUTOMOVILES FAMILIARES",_xlfn.IFS(AND(Z14="Menos de 1.500 c.c.",I14="menos de 10 años"),'TARIFAS MAS RUNT'!$E$26,AND(Z14="Menos de 1.500 c.c.",I14="10 o mas años"),'TARIFAS MAS RUNT'!$E$27,AND(Z14="Entre 1.500 y 2.500 c.c.",I14="menos de 10 años"),'TARIFAS MAS RUNT'!$E$28,AND(Z14="Entre 1.500 y 2.500 c.c.",I14="10 o mas años"),'TARIFAS MAS RUNT'!$E$29,AND(Z14="Más de 2.500 c.c.",I14="menos de 10 años"),'TARIFAS MAS RUNT'!$E$30,AND(Z14="Más de 2.500 c.c.",I14="10 o mas años"),'TARIFAS MAS RUNT'!$E$31,TRUE,"Sin Tarifa"),TRUE,"Clase no encontrada")} -> 677400 | P14: =+_xlfn.XLOOKUP(O14,'[2]ReporteCotizaciones (2)'!$H$2:$H$90,'[2]ReporteCotizaciones (2)'!$F$2:$F$90) -> 444100 | Q14: =+_xlfn.XLOOKUP(O14,Hoja3!$L$3:$L$39,Hoja3!$I$3:$I$39) -> 230900 | R14: 2400 | S14: =+P14+Q14+R14 -> 677400 | T14: =+O14=S14 -> TRUE | W14: AUTOMOVILES FAMILIARES | X14: 1800 | Y14: N/A | Z14: =IF(OR(W14="CAMPEROS Y CAMIONETAS",W14="VEHICULOS FAMILIARES",W14="AUTOS NEGOCIO"), IF(X14<1500,"Menos de 1.500 c.c.", IF(X14<=2500,"Entre 1.500 y 2.500 c.c.","Más de 2.500 c.c.")), IF(W14="CARGA O MIXTOS", IF(X14<5000,"Menos de 5 Toneladas", IF(X14<=15000,"Entre 5 y 15 Toneladas","Más de 15 Toneladas")), IF(W14="OFICIALES ESPECIALES", IF(X14<1500,"Menos de 1.500 c.c.", IF(X14<=2500,"Entre 1.500 y 2.500 c.c.","Más de 2.500 c.c.")), IF(OR(W14="VEHICULOS 6 o más pasajeros",W14="AUTOMOVILES FAMILIARES"), IF(X14<1500,"Menos de 1.500 c.c.", IF(X14<2500,"Entre 1.500 y 2.500 c.c.","2.500 o más c.c.")), "")))) -> Entre 1.500 y 2.500 c.c. | AA14: SEDAN | AB14: 522 | AC14: NIVEL CENTRAL | AD14: 11 | AE14: =+C14=AD14 -> TRUE | AF14: =+_xlfn.XLOOKUP(D14,'[3]SOAT A ADQUIRIR 2025 _2026'!$B$2:$B$106,'[3]SOAT A ADQUIRIR 2025 _2026'!$M$2:$M$106) -> 522 | AG14: =+AB14=AF14 -> TRUE | AH14: =+AI14=O14 -> TRUE | AI14: =+_xlfn.XLOOKUP(AB14,Hoja3!$D$3:$D$39,Hoja3!$L$3:$L$39) -> 677400
C15: 12 | D15: OBG633 | E15: GRAND VITARA | F15: CHEVROLET | G15: 2007 | H15: =2026-G15 -> 19 | I15: =IF(H15>=10,"10 o mas años","menos de 10 años") -> 10 o mas años | J15: Oficial | K15: 5 | L15: 46386 | M15: =+L15+1 -> 46387 | N15: 46751 | O15: {=_xlfn.IFS(W15="CAMPEROS Y CAMIONETAS",_xlfn.IFS(AND(Z15="Menos de 1.500 c.c.",I15="menos de 10 años"),'TARIFAS MAS RUNT'!$E$14,AND(Z15="Menos de 1.500 c.c.",I15="10 o mas años"),'TARIFAS MAS RUNT'!$E$15,AND(Z15="Entre 1.500 y 2.500 c.c.",I15="menos de 10 años"),'TARIFAS MAS RUNT'!$E$16,AND(Z15="Entre 1.500 y 2.500 c.c.",I15="10 o mas años"),'TARIFAS MAS RUNT'!$E$17,AND(Z15="Más de 2.500 c.c.",I15="menos de 10 años"),'TARIFAS MAS RUNT'!$E$18,AND(Z15="Más de 2.500 c.c.",I15="10 o mas años"),'TARIFAS MAS RUNT'!$E$19,TRUE,"Sin Tarifa"),W15="CARGA O MIXTOS",_xlfn.IFS(Z15="Menos de 5 Toneladas",'TARIFAS MAS RUNT'!$E$20,Z15="Entre 5 y 15 Toneladas",'TARIFAS MAS RUNT'!$E$21,Z15="Más de 15 Toneladas",'TARIFAS MAS RUNT'!$E$22,TRUE,"Sin Tarifa"),W15="OFICIALES ESPECIALES",_xlfn.IFS(Z15="Menos de 1.500 c.c.",'TARIFAS MAS RUNT'!$E$23,Z15="Entre 1.500 y 2.500 c.c.",'TARIFAS MAS RUNT'!$E$24,Z15="Más de 2.500 c.c.",'TARIFAS MAS RUNT'!$E$25,TRUE,"Sin Tarifa"),W15="AUTOMOVILES FAMILIARES",_xlfn.IFS(AND(Z15="Menos de 1.500 c.c.",I15="menos de 10 años"),'TARIFAS MAS RUNT'!$E$26,AND(Z15="Menos de 1.500 c.c.",I15="10 o mas años"),'TARIFAS MAS RUNT'!$E$27,AND(Z15="Entre 1.500 y 2.500 c.c.",I15="menos de 10 años"),'TARIFAS MAS RUNT'!$E$28,AND(Z15="Entre 1.500 y 2.500 c.c.",I15="10 o mas años"),'TARIFAS MAS RUNT'!$E$29,AND(Z15="Más de 2.500 c.c.",I15="menos de 10 años"),'TARIFAS MAS RUNT'!$E$30,AND(Z15="Más de 2.500 c.c.",I15="10 o mas años"),'TARIFAS MAS RUNT'!$E$31,TRUE,"Sin Tarifa"),TRUE,"Clase no encontrada")} -> 1121400 | P15: =+_xlfn.XLOOKUP(O15,'[2]ReporteCotizaciones (2)'!$H$2:$H$90,'[2]ReporteCotizaciones (2)'!$F$2:$F$90) -> 736200 | Q15: =+_xlfn.XLOOKUP(O15,Hoja3!$L$3:$L$39,Hoja3!$I$3:$I$39) -> 382800 | R15: 2400 | S15: =+P15+Q15+R15 -> 1121400 | T15: =+O15=S15 -> TRUE | W15: CAMPEROS Y CAMIONETAS | X15: 2000 | Y15: N/A | Z15: =IF(OR(W15="CAMPEROS Y CAMIONETAS",W15="VEHICULOS FAMILIARES",W15="AUTOS NEGOCIO"), IF(X15<1500,"Menos de 1.500 c.c.", IF(X15<=2500,"Entre 1.500 y 2.500 c.c.","Más de 2.500 c.c.")), IF(W15="CARGA O MIXTOS", IF(X15<5000,"Menos de 5 Toneladas", IF(X15<=15000,"Entre 5 y 15 Toneladas","Más de 15 Toneladas")), IF(W15="OFICIALES ESPECIALES", IF(X15<1500,"Menos de 1.500 c.c.", IF(X15<=2500,"Entre 1.500 y 2.500 c.c.","Más de 2.500 c.c.")), IF(OR(W15="VEHICULOS 6 o más pasajeros",W15="AUTOMOVILES FAMILIARES"), IF(X15<1500,"Menos de 1.500 c.c.", IF(X15<2500,"Entre 1.500 y 2.500 c.c.","2.500 o más c.c.")), "")))) -> Entre 1.500 y 2.500 c.c. | AA15: CABINADO | AB15: 222 | AC15: BOGOTÁ | AD15: 12 | AE15: =+C15=AD15 -> TRUE | AF15: =+_xlfn.XLOOKUP(D15,'[3]SOAT A ADQUIRIR 2025 _2026'!$B$2:$B$106,'[3]SOAT A ADQUIRIR 2025 _2026'!$M$2:$M$106) -> 222 | AG15: =+AB15=AF15 -> TRUE | AH15: =+AI15=O15 -> TRUE | AI15: =+_xlfn.XLOOKUP(AB15,Hoja3!$D$3:$D$39,Hoja3!$L$3:$L$39) -> 1121400
C16: 13 | D16: OBH062 | E16: D21 | F16: NISSAN | G16: 2008 | H16: =2026-G16 -> 18 | I16: =IF(H16>=10,"10 o mas años","menos de 10 años") -> 10 o mas años | J16: Oficial | K16: 5 | L16: 46386 | M16: =+L16+1 -> 46387 | N16: 46751 | O16: {=_xlfn.IFS(W16="CAMPEROS Y CAMIONETAS",_xlfn.IFS(AND(Z16="Menos de 1.500 c.c.",I16="menos de 10 años"),'TARIFAS MAS RUNT'!$E$14,AND(Z16="Menos de 1.500 c.c.",I16="10 o mas años"),'TARIFAS MAS RUNT'!$E$15,AND(Z16="Entre 1.500 y 2.500 c.c.",I16="menos de 10 años"),'TARIFAS MAS RUNT'!$E$16,AND(Z16="Entre 1.500 y 2.500 c.c.",I16="10 o mas años"),'TARIFAS MAS RUNT'!$E$17,AND(Z16="Más de 2.500 c.c.",I16="menos de 10 años"),'TARIFAS MAS RUNT'!$E$18,AND(Z16="Más de 2.500 c.c.",I16="10 o mas años"),'TARIFAS MAS RUNT'!$E$19,TRUE,"Sin Tarifa"),W16="CARGA O MIXTOS",_xlfn.IFS(Z16="Menos de 5 Toneladas",'TARIFAS MAS RUNT'!$E$20,Z16="Entre 5 y 15 Toneladas",'TARIFAS MAS RUNT'!$E$21,Z16="Más de 15 Toneladas",'TARIFAS MAS RUNT'!$E$22,TRUE,"Sin Tarifa"),W16="OFICIALES ESPECIALES",_xlfn.IFS(Z16="Menos de 1.500 c.c.",'TARIFAS MAS RUNT'!$E$23,Z16="Entre 1.500 y 2.500 c.c.",'TARIFAS MAS RUNT'!$E$24,Z16="Más de 2.500 c.c.",'TARIFAS MAS RUNT'!$E$25,TRUE,"Sin Tarifa"),W16="AUTOMOVILES FAMILIARES",_xlfn.IFS(AND(Z16="Menos de 1.500 c.c.",I16="menos de 10 años"),'TARIFAS MAS RUNT'!$E$26,AND(Z16="Menos de 1.500 c.c.",I16="10 o mas años"),'TARIFAS MAS RUNT'!$E$27,AND(Z16="Entre 1.500 y 2.500 c.c.",I16="menos de 10 años"),'TARIFAS MAS RUNT'!$E$28,AND(Z16="Entre 1.500 y 2.500 c.c.",I16="10 o mas años"),'TARIFAS MAS RUNT'!$E$29,AND(Z16="Más de 2.500 c.c.",I16="menos de 10 años"),'TARIFAS MAS RUNT'!$E$30,AND(Z16="Más de 2.500 c.c.",I16="10 o mas años"),'TARIFAS MAS RUNT'!$E$31,TRUE,"Sin Tarifa"),TRUE,"Clase no encontrada")} -> 1121400 | P16: =+_xlfn.XLOOKUP(O16,'[2]ReporteCotizaciones (2)'!$H$2:$H$90,'[2]ReporteCotizaciones (2)'!$F$2:$F$90) -> 736200 | Q16: =+_xlfn.XLOOKUP(O16,Hoja3!$L$3:$L$39,Hoja3!$I$3:$I$39) -> 382800 | R16: 2400 | S16: =+P16+Q16+R16 -> 1121400 | T16: =+O16=S16 -> TRUE | W16: CAMPEROS Y CAMIONETAS | X16: 2400 | Y16: N/A | Z16: =IF(OR(W16="CAMPEROS Y CAMIONETAS",W16="VEHICULOS FAMILIARES",W16="AUTOS NEGOCIO"), IF(X16<1500,"Menos de 1.500 c.c.", IF(X16<=2500,"Entre 1.500 y 2.500 c.c.","Más de 2.500 c.c.")), IF(W16="CARGA O MIXTOS", IF(X16<5000,"Menos de 5 Toneladas", IF(X16<=15000,"Entre 5 y 15 Toneladas","Más de 15 Toneladas")), IF(W16="OFICIALES ESPECIALES", IF(X16<1500,"Menos de 1.500 c.c.", IF(X16<=2500,"Entre 1.500 y 2.500 c.c.","Más de 2.500 c.c.")), IF(OR(W16="VEHICULOS 6 o más pasajeros",W16="AUTOMOVILES FAMILIARES"), IF(X16<1500,"Menos de 1.500 c.c.", IF(X16<2500,"Entre 1.500 y 2.500 c.c.","2.500 o más c.c.")), "")))) -> Entre 1.500 y 2.500 c.c. | AA16: DOBLE CABINA | AB16: 222 | AC16: NORTE | AD16: 13 | AE16: =+C16=AD16 -> TRUE | AF16: =+_xlfn.XLOOKUP(D16,'[3]SOAT A ADQUIRIR 2025 _2026'!$B$2:$B$106,'[3]SOAT A ADQUIRIR 2025 _2026'!$M$2:$M$106) -> 222 | AG16: =+AB16=AF16 -> TRUE | AH16: =+AI16=O16 -> TRUE | AI16: =+_xlfn.XLOOKUP(AB16,Hoja3!$D$3:$D$39,Hoja3!$L$3:$L$39) -> 1121400
C17: 14 | D17: OBH063 | E17: D21 | F17: NISSAN | G17: 2008 | H17: =2026-G17 -> 18 | I17: =IF(H17>=10,"10 o mas años","menos de 10 años") -> 10 o mas años | J17: Oficial | K17: 5 | L17: 46386 | M17: =+L17+1 -> 46387 | N17: 46751 | O17: {=_xlfn.IFS(W17="CAMPEROS Y CAMIONETAS",_xlfn.IFS(AND(Z17="Menos de 1.500 c.c.",I17="menos de 10 años"),'TARIFAS MAS RUNT'!$E$14,AND(Z17="Menos de 1.500 c.c.",I17="10 o mas años"),'TARIFAS MAS RUNT'!$E$15,AND(Z17="Entre 1.500 y 2.500 c.c.",I17="menos de 10 años"),'TARIFAS MAS RUNT'!$E$16,AND(Z17="Entre 1.500 y 2.500 c.c.",I17="10 o mas años"),'TARIFAS MAS RUNT'!$E$17,AND(Z17="Más de 2.500 c.c.",I17="menos de 10 años"),'TARIFAS MAS RUNT'!$E$18,AND(Z17="Más de 2.500 c.c.",I17="10 o mas años"),'TARIFAS MAS RUNT'!$E$19,TRUE,"Sin Tarifa"),W17="CARGA O MIXTOS",_xlfn.IFS(Z17="Menos de 5 Toneladas",'TARIFAS MAS RUNT'!$E$20,Z17="Entre 5 y 15 Toneladas",'TARIFAS MAS RUNT'!$E$21,Z17="Más de 15 Toneladas",'TARIFAS MAS RUNT'!$E$22,TRUE,"Sin Tarifa"),W17="OFICIALES ESPECIALES",_xlfn.IFS(Z17="Menos de 1.500 c.c.",'TARIFAS MAS RUNT'!$E$23,Z17="Entre 1.500 y 2.500 c.c.",'TARIFAS MAS RUNT'!$E$24,Z17="Más de 2.500 c.c.",'TARIFAS MAS RUNT'!$E$25,TRUE,"Sin Tarifa"),W17="AUTOMOVILES FAMILIARES",_xlfn.IFS(AND(Z17="Menos de 1.500 c.c.",I17="menos de 10 años"),'TARIFAS MAS RUNT'!$E$26,AND(Z17="Menos de 1.500 c.c.",I17="10 o mas años"),'TARIFAS MAS RUNT'!$E$27,AND(Z17="Entre 1.500 y 2.500 c.c.",I17="menos de 10 años"),'TARIFAS MAS RUNT'!$E$28,AND(Z17="Entre 1.500 y 2.500 c.c.",I17="10 o mas años"),'TARIFAS MAS RUNT'!$E$29,AND(Z17="Más de 2.500 c.c.",I17="menos de 10 años"),'TARIFAS MAS RUNT'!$E$30,AND(Z17="Más de 2.500 c.c.",I17="10 o mas años"),'TARIFAS MAS RUNT'!$E$31,TRUE,"Sin Tarifa"),TRUE,"Clase no encontrada")} -> 1121400 | P17: =+_xlfn.XLOOKUP(O17,'[2]ReporteCotizaciones (2)'!$H$2:$H$90,'[2]ReporteCotizaciones (2)'!$F$2:$F$90) -> 736200 | Q17: =+_xlfn.XLOOKUP(O17,Hoja3!$L$3:$L$39,Hoja3!$I$3:$I$39) -> 382800 | R17: 2400 | S17: =+P17+Q17+R17 -> 1121400 | T17: =+O17=S17 -> TRUE | W17: CAMPEROS Y CAMIONETAS | X17: 2400 | Y17: N/A | Z17: =IF(OR(W17="CAMPEROS Y CAMIONETAS",W17="VEHICULOS FAMILIARES",W17="AUTOS NEGOCIO"), IF(X17<1500,"Menos de 1.500 c.c.", IF(X17<=2500,"Entre 1.500 y 2.500 c.c.","Más de 2.500 c.c.")), IF(W17="CARGA O MIXTOS", IF(X17<5000,"Menos de 5 Toneladas", IF(X17<=15000,"Entre 5 y 15 Toneladas","Más de 15 Toneladas")), IF(W17="OFICIALES ESPECIALES", IF(X17<1500,"Menos de 1.500 c.c.", IF(X17<=2500,"Entre 1.500 y 2.500 c.c.","Más de 2.500 c.c.")), IF(OR(W17="VEHICULOS 6 o más pasajeros",W17="AUTOMOVILES FAMILIARES"), IF(X17<1500,"Menos de 1.500 c.c.", IF(X17<2500,"Entre 1.500 y 2.500 c.c.","2.500 o más c.c.")), "")))) -> Entre 1.500 y 2.500 c.c. | AA17: DOBLE CABINA | AB17: 222 | AC17: ORIENTE | AD17: 14 | AE17: =+C17=AD17 -> TRUE | AF17: =+_xlfn.XLOOKUP(D17,'[3]SOAT A ADQUIRIR 2025 _2026'!$B$2:$B$106,'[3]SOAT A ADQUIRIR 2025 _2026'!$M$2:$M$106) -> 222 | AG17: =+AB17=AF17 -> TRUE | AH17: =+AI17=O17 -> TRUE | AI17: =+_xlfn.XLOOKUP(AB17,Hoja3!$D$3:$D$39,Hoja3!$L$3:$L$39) -> 1121400
C18: 15 | D18: OBH064 | E18: D21 | F18: NISSAN | G18: 2008 | H18: =2026-G18 -> 18 | I18: =IF(H18>=10,"10 o mas años","menos de 10 años") -> 10 o mas años | J18: Oficial | K18: 5 | L18: 46386 | M18: =+L18+1 -> 46387 | N18: 46751 | O18: {=_xlfn.IFS(W18="CAMPEROS Y CAMIONETAS",_xlfn.IFS(AND(Z18="Menos de 1.500 c.c.",I18="menos de 10 años"),'TARIFAS MAS RUNT'!$E$14,AND(Z18="Menos de 1.500 c.c.",I18="10 o mas años"),'TARIFAS MAS RUNT'!$E$15,AND(Z18="Entre 1.500 y 2.500 c.c.",I18="menos de 10 años"),'TARIFAS MAS RUNT'!$E$16,AND(Z18="Entre 1.500 y 2.500 c.c.",I18="10 o mas años"),'TARIFAS MAS RUNT'!$E$17,AND(Z18="Más de 2.500 c.c.",I18="menos de 10 años"),'TARIFAS MAS RUNT'!$E$18,AND(Z18="Más de 2.500 c.c.",I18="10 o mas años"),'TARIFAS MAS RUNT'!$E$19,TRUE,"Sin Tarifa"),W18="CARGA O MIXTOS",_xlfn.IFS(Z18="Menos de 5 Toneladas",'TARIFAS MAS RUNT'!$E$20,Z18="Entre 5 y 15 Toneladas",'TARIFAS MAS RUNT'!$E$21,Z18="Más de 15 Toneladas",'TARIFAS MAS RUNT'!$E$22,TRUE,"Sin Tarifa"),W18="OFICIALES ESPECIALES",_xlfn.IFS(Z18="Menos de 1.500 c.c.",'TARIFAS MAS RUNT'!$E$23,Z18="Entre 1.500 y 2.500 c.c.",'TARIFAS MAS RUNT'!$E$24,Z18="Más de 2.500 c.c.",'TARIFAS MAS RUNT'!$E$25,TRUE,"Sin Tarifa"),W18="AUTOMOVILES FAMILIARES",_xlfn.IFS(AND(Z18="Menos de 1.500 c.c.",I18="menos de 10 años"),'TARIFAS MAS RUNT'!$E$26,AND(Z18="Menos de 1.500 c.c.",I18="10 o mas años"),'TARIFAS MAS RUNT'!$E$27,AND(Z18="Entre 1.500 y 2.500 c.c.",I18="menos de 10 años"),'TARIFAS MAS RUNT'!$E$28,AND(Z18="Entre 1.500 y 2.500 c.c.",I18="10 o mas años"),'TARIFAS MAS RUNT'!$E$29,AND(Z18="Más de 2.500 c.c.",I18="menos de 10 años"),'TARIFAS MAS RUNT'!$E$30,AND(Z18="Más de 2.500 c.c.",I18="10 o mas años"),'TARIFAS MAS RUNT'!$E$31,TRUE,"Sin Tarifa"),TRUE,"Clase no encontrada")} -> 1121400 | P18: =+_xlfn.XLOOKUP(O18,'[2]ReporteCotizaciones (2)'!$H$2:$H$90,'[2]ReporteCotizaciones (2)'!$F$2:$F$90) -> 736200 | Q18: =+_xlfn.XLOOKUP(O18,Hoja3!$L$3:$L$39,Hoja3!$I$3:$I$39) -> 382800 | R18: 2400 | S18: =+P18+Q18+R18 -> 1121400 | T18: =+O18=S18 -> TRUE | W18: CAMPEROS Y CAMIONETAS | X18: 2400 | Y18: N/A | Z18: =IF(OR(W18="CAMPEROS Y CAMIONETAS",W18="VEHICULOS FAMILIARES",W18="AUTOS NEGOCIO"), IF(X18<1500,"Menos de 1.500 c.c.", IF(X18<=2500,"Entre 1.500 y 2.500 c.c.","Más de 2.500 c.c.")), IF(W18="CARGA O MIXTOS", IF(X18<5000,"Menos de 5 Toneladas", IF(X18<=15000,"Entre 5 y 15 Toneladas","Más de 15 Toneladas")), IF(W18="OFICIALES ESPECIALES", IF(X18<1500,"Menos de 1.500 c.c.", IF(X18<=2500,"Entre 1.500 y 2.500 c.c.","Más de 2.500 c.c.")), IF(OR(W18="VEHICULOS 6 o más pasajeros",W18="AUTOMOVILES FAMILIARES"), IF(X18<1500,"Menos de 1.500 c.c.", IF(X18<2500,"Entre 1.500 y 2.500 c.c.","2.500 o más c.c.")), "")))) -> Entre 1.500 y 2.500 c.c. | AA18: DOBLE CABINA | AB18: 222 | AC18: NORTE | AD18: 15 | AE18: =+C18=AD18 -> TRUE | AF18: =+_xlfn.XLOOKUP(D18,'[3]SOAT A ADQUIRIR 2025 _2026'!$B$2:$B$106,'[3]SOAT A ADQUIRIR 2025 _2026'!$M$2:$M$106) -> 222 | AG18: =+AB18=AF18 -> TRUE | AH18: =+AI18=O18 -> TRUE | AI18: =+_xlfn.XLOOKUP(AB18,Hoja3!$D$3:$D$39,Hoja3!$L$3:$L$39) -> 1121400
C19: 16 | D19: OBH065 | E19: FRONTIER D 22 | F19: NISSAN | G19: 2008 | H19: =2026-G19 -> 18 | I19: =IF(H19>=10,"10 o mas años","menos de 10 años") -> 10 o mas años | J19: Oficial | K19: 5 | L19: 46386 | M19: =+L19+1 -> 46387 | N19: 46751 | O19: {=_xlfn.IFS(W19="CAMPEROS Y CAMIONETAS",_xlfn.IFS(AND(Z19="Menos de 1.500 c.c.",I19="menos de 10 años"),'TARIFAS MAS RUNT'!$E$14,AND(Z19="Menos de 1.500 c.c.",I19="10 o mas años"),'TARIFAS MAS RUNT'!$E$15,AND(Z19="Entre 1.500 y 2.500 c.c.",I19="menos de 10 años"),'TARIFAS MAS RUNT'!$E$16,AND(Z19="Entre 1.500 y 2.500 c.c.",I19="10 o mas años"),'TARIFAS MAS RUNT'!$E$17,AND(Z19="Más de 2.500 c.c.",I19="menos de 10 años"),'TARIFAS MAS RUNT'!$E$18,AND(Z19="Más de 2.500 c.c.",I19="10 o mas años"),'TARIFAS MAS RUNT'!$E$19,TRUE,"Sin Tarifa"),W19="CARGA O MIXTOS",_xlfn.IFS(Z19="Menos de 5 Toneladas",'TARIFAS MAS RUNT'!$E$20,Z19="Entre 5 y 15 Toneladas",'TARIFAS MAS RUNT'!$E$21,Z19="Más de 15 Toneladas",'TARIFAS MAS RUNT'!$E$22,TRUE,"Sin Tarifa"),W19="OFICIALES ESPECIALES",_xlfn.IFS(Z19="Menos de 1.500 c.c.",'TARIFAS MAS RUNT'!$E$23,Z19="Entre 1.500 y 2.500 c.c.",'TARIFAS MAS RUNT'!$E$24,Z19="Más de 2.500 c.c.",'TARIFAS MAS RUNT'!$E$25,TRUE,"Sin Tarifa"),W19="AUTOMOVILES FAMILIARES",_xlfn.IFS(AND(Z19="Menos de 1.500 c.c.",I19="menos de 10 años"),'TARIFAS MAS RUNT'!$E$26,AND(Z19="Menos de 1.500 c.c.",I19="10 o mas años"),'TARIFAS MAS RUNT'!$E$27,AND(Z19="Entre 1.500 y 2.500 c.c.",I19="menos de 10 años"),'TARIFAS MAS RUNT'!$E$28,AND(Z19="Entre 1.500 y 2.500 c.c.",I19="10 o mas años"),'TARIFAS MAS RUNT'!$E$29,AND(Z19="Más de 2.500 c.c.",I19="menos de 10 años"),'TARIFAS MAS RUNT'!$E$30,AND(Z19="Más de 2.500 c.c.",I19="10 o mas años"),'TARIFAS MAS RUNT'!$E$31,TRUE,"Sin Tarifa"),TRUE,"Clase no encontrada")} -> 1121400 | P19: =+_xlfn.XLOOKUP(O19,'[2]ReporteCotizaciones (2)'!$H$2:$H$90,'[2]ReporteCotizaciones (2)'!$F$2:$F$90) -> 736200 | Q19: =+_xlfn.XLOOKUP(O19,Hoja3!$L$3:$L$39,Hoja3!$I$3:$I$39) -> 382800 | R19: 2400 | S19: =+P19+Q19+R19 -> 1121400 | T19: =+O19=S19 -> TRUE | W19: CAMPEROS Y CAMIONETAS | X19: 2400 | Y19: N/A | Z19: =IF(OR(W19="CAMPEROS Y CAMIONETAS",W19="VEHICULOS FAMILIARES",W19="AUTOS NEGOCIO"), IF(X19<1500,"Menos de 1.500 c.c.", IF(X19<=2500,"Entre 1.500 y 2.500 c.c.","Más de 2.500 c.c.")), IF(W19="CARGA O MIXTOS", IF(X19<5000,"Menos de 5 Toneladas", IF(X19<=15000,"Entre 5 y 15 Toneladas","Más de 15 Toneladas")), IF(W19="OFICIALES ESPECIALES", IF(X19<1500,"Menos de 1.500 c.c.", IF(X19<=2500,"Entre 1.500 y 2.500 c.c.","Más de 2.500 c.c.")), IF(OR(W19="VEHICULOS 6 o más pasajeros",W19="AUTOMOVILES FAMILIARES"), IF(X19<1500,"Menos de 1.500 c.c.", IF(X19<2500,"Entre 1.500 y 2.500 c.c.","2.500 o más c.c.")), "")))) -> Entre 1.500 y 2.500 c.c. | AA19: DOBLE CABINA | AB19: 222 | AC19: NIVEL CENTRAL | AD19: 16 | AE19: =+C19=AD19 -> TRUE | AF19: =+_xlfn.XLOOKUP(D19,'[3]SOAT A ADQUIRIR 2025 _2026'!$B$2:$B$106,'[3]SOAT A ADQUIRIR 2025 _2026'!$M$2:$M$106) -> 222 | AG19: =+AB19=AF19 -> TRUE | AH19: =+AI19=O19 -> TRUE | AI19: =+_xlfn.XLOOKUP(AB19,Hoja3!$D$3:$D$39,Hoja3!$L$3:$L$39) -> 1121400
C20: 17 | D20: OBH066 | E20: FRONTIER D 22 | F20: NISSAN | G20: 2008 | H20: =2026-G20 -> 18 | I20: =IF(H20>=10,"10 o mas años","menos de 10 años") -> 10 o mas años | J20: Oficial | K20: 5 | L20: 46386 | M20: =+L20+1 -> 46387 | N20: 46751 | O20: {=_xlfn.IFS(W20="CAMPEROS Y CAMIONETAS",_xlfn.IFS(AND(Z20="Menos de 1.500 c.c.",I20="menos de 10 años"),'TARIFAS MAS RUNT'!$E$14,AND(Z20="Menos de 1.500 c.c.",I20="10 o mas años"),'TARIFAS MAS RUNT'!$E$15,AND(Z20="Entre 1.500 y 2.500 c.c.",I20="menos de 10 años"),'TARIFAS MAS RUNT'!$E$16,AND(Z20="Entre 1.500 y 2.500 c.c.",I20="10 o mas años"),'TARIFAS MAS RUNT'!$E$17,AND(Z20="Más de 2.500 c.c.",I20="menos de 10 años"),'TARIFAS MAS RUNT'!$E$18,AND(Z20="Más de 2.500 c.c.",I20="10 o mas años"),'TARIFAS MAS RUNT'!$E$19,TRUE,"Sin Tarifa"),W20="CARGA O MIXTOS",_xlfn.IFS(Z20="Menos de 5 Toneladas",'TARIFAS MAS RUNT'!$E$20,Z20="Entre 5 y 15 Toneladas",'TARIFAS MAS RUNT'!$E$21,Z20="Más de 15 Toneladas",'TARIFAS MAS RUNT'!$E$22,TRUE,"Sin Tarifa"),W20="OFICIALES ESPECIALES",_xlfn.IFS(Z20="Menos de 1.500 c.c.",'TARIFAS MAS RUNT'!$E$23,Z20="Entre 1.500 y 2.500 c.c.",'TARIFAS MAS RUNT'!$E$24,Z20="Más de 2.500 c.c.",'TARIFAS MAS RUNT'!$E$25,TRUE,"Sin Tarifa"),W20="AUTOMOVILES FAMILIARES",_xlfn.IFS(AND(Z20="Menos de 1.500 c.c.",I20="menos de 10 años"),'TARIFAS MAS RUNT'!$E$26,AND(Z20="Menos de 1.500 c.c.",I20="10 o mas años"),'TARIFAS MAS RUNT'!$E$27,AND(Z20="Entre 1.500 y 2.500 c.c.",I20="menos de 10 años"),'TARIFAS MAS RUNT'!$E$28,AND(Z20="Entre 1.500 y 2.500 c.c.",I20="10 o mas años"),'TARIFAS MAS RUNT'!$E$29,AND(Z20="Más de 2.500 c.c.",I20="menos de 10 años"),'TARIFAS MAS RUNT'!$E$30,AND(Z20="Más de 2.500 c.c.",I20="10 o mas años"),'TARIFAS MAS RUNT'!$E$31,TRUE,"Sin Tarifa"),TRUE,"Clase no encontrada")} -> 1121400 | P20: =+_xlfn.XLOOKUP(O20,'[2]ReporteCotizaciones (2)'!$H$2:$H$90,'[2]ReporteCotizaciones (2)'!$F$2:$F$90) -> 736200 | Q20: =+_xlfn.XLOOKUP(O20,Hoja3!$L$3:$L$39,Hoja3!$I$3:$I$39) -> 382800 | R20: 2400 | S20: =+P20+Q20+R20 -> 1121400 | T20: =+O20=S20 -> TRUE | W20: CAMPEROS Y CAMIONETAS | X20: 2400 | Y20: N/A | Z20: =IF(OR(W20="CAMPEROS Y CAMIONETAS",W20="VEHICULOS FAMILIARES",W20="AUTOS NEGOCIO"), IF(X20<1500,"Menos de 1.500 c.c.", IF(X20<=2500,"Entre 1.500 y 2.500 c.c.","Más de 2.500 c.c.")), IF(W20="CARGA O MIXTOS", IF(X20<5000,"Menos de 5 Toneladas", IF(X20<=15000,"Entre 5 y 15 Toneladas","Más de 15 Toneladas")), IF(W20="OFICIALES ESPECIALES", IF(X20<1500,"Menos de 1.500 c.c.", IF(X20<=2500,"Entre 1.500 y 2.500 c.c.","Más de 2.500 c.c.")), IF(OR(W20="VEHICULOS 6 o más pasajeros",W20="AUTOMOVILES FAMILIARES"), IF(X20<1500,"Menos de 1.500 c.c.", IF(X20<2500,"Entre 1.500 y 2.500 c.c.","2.500 o más c.c.")), "")))) -> Entre 1.500 y 2.500 c.c. | AA20: DOBLE CABINA | AB20: 222 | AC20: NOROCCIDENTE | AD20: 17 | AE20: =+C20=AD20 -> TRUE | AF20: =+_xlfn.XLOOKUP(D20,'[3]SOAT A ADQUIRIR 2025 _2026'!$B$2:$B$106,'[3]SOAT A ADQUIRIR 2025 _2026'!$M$2:$M$106) -> 222 | AG20: =+AB20=AF20 -> TRUE | AH20: =+AI20=O20 -> TRUE | AI20: =+_xlfn.XLOOKUP(AB20,Hoja3!$D$3:$D$39,Hoja3!$L$3:$L$39) -> 1121400
B21: NORORIENTE | C21: 18 | D21: OBH069 | E21: FRONTIER D 22 | F21: NISSAN | G21: 2008 | H21: =2026-G21 -> 18 | I21: =IF(H21>=10,"10 o mas años","menos de 10 años") -> 10 o mas años | J21: Oficial | K21: 5 | L21: 46386 | M21: =+L21+1 -> 46387 | N21: 46751 | O21: {=_xlfn.IFS(W21="CAMPEROS Y CAMIONETAS",_xlfn.IFS(AND(Z21="Menos de 1.500 c.c.",I21="menos de 10 años"),'TARIFAS MAS RUNT'!$E$14,AND(Z21="Menos de 1.500 c.c.",I21="10 o mas años"),'TARIFAS MAS RUNT'!$E$15,AND(Z21="Entre 1.500 y 2.500 c.c.",I21="menos de 10 años"),'TARIFAS MAS RUNT'!$E$16,AND(Z21="Entre 1.500 y 2.500 c.c.",I21="10 o mas años"),'TARIFAS MAS RUNT'!$E$17,AND(Z21="Más de 2.500 c.c.",I21="menos de 10 años"),'TARIFAS MAS RUNT'!$E$18,AND(Z21="Más de 2.500 c.c.",I21="10 o mas años"),'TARIFAS MAS RUNT'!$E$19,TRUE,"Sin Tarifa"),W21="CARGA O MIXTOS",_xlfn.IFS(Z21="Menos de 5 Toneladas",'TARIFAS MAS RUNT'!$E$20,Z21="Entre 5 y 15 Toneladas",'TARIFAS MAS RUNT'!$E$21,Z21="Más de 15 Toneladas",'TARIFAS MAS RUNT'!$E$22,TRUE,"Sin Tarifa"),W21="OFICIALES ESPECIALES",_xlfn.IFS(Z21="Menos de 1.500 c.c.",'TARIFAS MAS RUNT'!$E$23,Z21="Entre 1.500 y 2.500 c.c.",'TARIFAS MAS RUNT'!$E$24,Z21="Más de 2.500 c.c.",'TARIFAS MAS RUNT'!$E$25,TRUE,"Sin Tarifa"),W21="AUTOMOVILES FAMILIARES",_xlfn.IFS(AND(Z21="Menos de 1.500 c.c.",I21="menos de 10 años"),'TARIFAS MAS RUNT'!$E$26,AND(Z21="Menos de 1.500 c.c.",I21="10 o mas años"),'TARIFAS MAS RUNT'!$E$27,AND(Z21="Entre 1.500 y 2.500 c.c.",I21="menos de 10 años"),'TARIFAS MAS RUNT'!$E$28,AND(Z21="Entre 1.500 y 2.500 c.c.",I21="10 o mas años"),'TARIFAS MAS RUNT'!$E$29,AND(Z21="Más de 2.500 c.c.",I21="menos de 10 años"),'TARIFAS MAS RUNT'!$E$30,AND(Z21="Más de 2.500 c.c.",I21="10 o mas años"),'TARIFAS MAS RUNT'!$E$31,TRUE,"Sin Tarifa"),TRUE,"Clase no encontrada")} -> 1121400 | P21: =+_xlfn.XLOOKUP(O21,'[2]ReporteCotizaciones (2)'!$H$2:$H$90,'[2]ReporteCotizaciones (2)'!$F$2:$F$90) -> 736200 | Q21: =+_xlfn.XLOOKUP(O21,Hoja3!$L$3:$L$39,Hoja3!$I$3:$I$39) -> 382800 | R21: 2400 | S21: =+P21+Q21+R21 -> 1121400 | T21: =+O21=S21 -> TRUE | W21: CAMPEROS Y CAMIONETAS | X21: 2400 | Y21: N/A | Z21: =IF(OR(W21="CAMPEROS Y CAMIONETAS",W21="VEHICULOS FAMILIARES",W21="AUTOS NEGOCIO"), IF(X21<1500,"Menos de 1.500 c.c.", IF(X21<=2500,"Entre 1.500 y 2.500 c.c.","Más de 2.500 c.c.")), IF(W21="CARGA O MIXTOS", IF(X21<5000,"Menos de 5 Toneladas", IF(X21<=15000,"Entre 5 y 15 Toneladas","Más de 15 Toneladas")), IF(W21="OFICIALES ESPECIALES", IF(X21<1500,"Menos de 1.500 c.c.", IF(X21<=2500,"Entre 1.500 y 2.500 c.c.","Más de 2.500 c.c.")), IF(OR(W21="VEHICULOS 6 o más pasajeros",W21="AUTOMOVILES FAMILIARES"), IF(X21<1500,"Menos de 1.500 c.c.", IF(X21<2500,"Entre 1.500 y 2.500 c.c.","2.500 o más c.c.")), "")))) -> Entre 1.500 y 2.500 c.c. | AA21: DOBLE CABINA | AB21: 222 | AC21: NOROCCIDENTE | AD21: 18 | AE21: =+C21=AD21 -> TRUE | AF21: =+_xlfn.XLOOKUP(D21,'[3]SOAT A ADQUIRIR 2025 _2026'!$B$2:$B$106,'[3]SOAT A ADQUIRIR 2025 _2026'!$M$2:$M$106) -> 222 | AG21: =+AB21=AF21 -> TRUE | AH21: =+AI21=O21 -> TRUE | AI21: =+_xlfn.XLOOKUP(AB21,Hoja3!$D$3:$D$39,Hoja3!$L$3:$L$39) -> 1121400
C22: 19 | D22: OBH082 | E22: FRONTIER D 22 | F22: NISSAN | G22: 2008 | H22: =2026-G22 -> 18 | I22: =IF(H22>=10,"10 o mas años","menos de 10 años") -> 10 o mas años | J22: Oficial | K22: 5 | L22: 46386 | M22: =+L22+1 -> 46387 | N22: 46751 | O22: {=_xlfn.IFS(W22="CAMPEROS Y CAMIONETAS",_xlfn.IFS(AND(Z22="Menos de 1.500 c.c.",I22="menos de 10 años"),'TARIFAS MAS RUNT'!$E$14,AND(Z22="Menos de 1.500 c.c.",I22="10 o mas años"),'TARIFAS MAS RUNT'!$E$15,AND(Z22="Entre 1.500 y 2.500 c.c.",I22="menos de 10 años"),'TARIFAS MAS RUNT'!$E$16,AND(Z22="Entre 1.500 y 2.500 c.c.",I22="10 o mas años"),'TARIFAS MAS RUNT'!$E$17,AND(Z22="Más de 2.500 c.c.",I22="menos de 10 años"),'TARIFAS MAS RUNT'!$E$18,AND(Z22="Más de 2.500 c.c.",I22="10 o mas años"),'TARIFAS MAS RUNT'!$E$19,TRUE,"Sin Tarifa"),W22="CARGA O MIXTOS",_xlfn.IFS(Z22="Menos de 5 Toneladas",'TARIFAS MAS RUNT'!$E$20,Z22="Entre 5 y 15 Toneladas",'TARIFAS MAS RUNT'!$E$21,Z22="Más de 15 Toneladas",'TARIFAS MAS RUNT'!$E$22,TRUE,"Sin Tarifa"),W22="OFICIALES ESPECIALES",_xlfn.IFS(Z22="Menos de 1.500 c.c.",'TARIFAS MAS RUNT'!$E$23,Z22="Entre 1.500 y 2.500 c.c.",'TARIFAS MAS RUNT'!$E$24,Z22="Más de 2.500 c.c.",'TARIFAS MAS RUNT'!$E$25,TRUE,"Sin Tarifa"),W22="AUTOMOVILES FAMILIARES",_xlfn.IFS(AND(Z22="Menos de 1.500 c.c.",I22="menos de 10 años"),'TARIFAS MAS RUNT'!$E$26,AND(Z22="Menos de 1.500 c.c.",I22="10 o mas años"),'TARIFAS MAS RUNT'!$E$27,AND(Z22="Entre 1.500 y 2.500 c.c.",I22="menos de 10 años"),'TARIFAS MAS RUNT'!$E$28,AND(Z22="Entre 1.500 y 2.500 c.c.",I22="10 o mas años"),'TARIFAS MAS RUNT'!$E$29,AND(Z22="Más de 2.500 c.c.",I22="menos de 10 años"),'TARIFAS MAS RUNT'!$E$30,AND(Z22="Más de 2.500 c.c.",I22="10 o mas años"),'TARIFAS MAS RUNT'!$E$31,TRUE,"Sin Tarifa"),TRUE,"Clase no encontrada")} -> 1121400 | P22: =+_xlfn.XLOOKUP(O22,'[2]ReporteCotizaciones (2)'!$H$2:$H$90,'[2]ReporteCotizaciones (2)'!$F$2:$F$90) -> 736200 | Q22: =+_xlfn.XLOOKUP(O22,Hoja3!$L$3:$L$39,Hoja3!$I$3:$I$39) -> 382800 | R22: 2400 | S22: =+P22+Q22+R22 -> 1121400 | T22: =+O22=S22 -> TRUE | W22: CAMPEROS Y CAMIONETAS | X22: 2400 | Y22: N/A | Z22: =IF(OR(W22="CAMPEROS Y CAMIONETAS",W22="VEHICULOS FAMILIARES",W22="AUTOS NEGOCIO"), IF(X22<1500,"Menos de 1.500 c.c.", IF(X22<=2500,"Entre 1.500 y 2.500 c.c.","Más de 2.500 c.c.")), IF(W22="CARGA O MIXTOS", IF(X22<5000,"Menos de 5 Toneladas", IF(X22<=15000,"Entre 5 y 15 Toneladas","Más de 15 Toneladas")), IF(W22="OFICIALES ESPECIALES", IF(X22<1500,"Menos de 1.500 c.c.", IF(X22<=2500,"Entre 1.500 y 2.500 c.c.","Más de 2.500 c.c.")), IF(OR(W22="VEHICULOS 6 o más pasajeros",W22="AUTOMOVILES FAMILIARES"), IF(X22<1500,"Menos de 1.500 c.c.", IF(X22<2500,"Entre 1.500 y 2.500 c.c.","2.500 o más c.c.")), "")))) -> Entre 1.500 y 2.500 c.c. | AA22: DOBLE CABINA | AB22: 222 | AC22: OCCIDENTE | AD22: 19 | AE22: =+C22=AD22 -> TRUE | AF22: =+_xlfn.XLOOKUP(D22,'[3]SOAT A ADQUIRIR 2025 _2026'!$B$2:$B$106,'[3]SOAT A ADQUIRIR 2025 _2026'!$M$2:$M$106) -> 222 | AG22: =+AB22=AF22 -> TRUE | AH22: =+AI22=O22 -> TRUE | AI22: =+_xlfn.XLOOKUP(AB22,Hoja3!$D$3:$D$39,Hoja3!$L$3:$L$39) -> 1121400
