Workbook
Name Servicio: #REF!
Name TIPO_DE_VEHICULOS: [1]Listas!$A$18:$A$31

Sheet regionalizacion 
A3: Etiquetas de fila | B3: Suma de TARIFA VALIDADA
A4: BOGOTÁ | B4: 2242800
A5: NIVEL CENTRAL | B5: 16129400
A6: NOROCCIDENTE | B6: 16349000
A7: NORORIENTE | B7: 12971500
A8: NORTE | B8: 10372100
A9: OCCIDENTE | B9: 7944400
A10: ORIENTE | B10: 11062900
A11: SUR | B11: 7325400
A12: SUROCCIDENTE | B12: 8875000
A13: Total general | B13: 93272500

Sheet VEHICULOS ESTUDIO MDO 
C2: ANEXO - LISTADO DE VEHICULOS SOAT 2026
B3: REGIONAL | C3: ITEM | D3: PLACA | E3: LINEA | F3: MARCA | G3: MODELO | H3: total años | I3: Clasificación Años | J3: SERVICIO | K3: N°PASAJEROS | L3: FECHA DE VENCIMIENTO DEL SOAT ACTUAL A LAS 24:00 HORAS | M3: REQUERIMIENTO FECHA INICIO PÓLIZA A LAS 00:00 HRS | N3: FECHA FINAL | O3: TARIFA VALIDADA | P3: TARIFA | Q3: CONTRIBUCION 52% | R3: RUNT | S3: VALIDACION TARIFA | T3: VALIDA | U3: clase R UNT | V3: CAPACIDAD DE CARGA 1825 | W3: CLASE DE VEHICULO | X3: CILINDRAJE | Y3: capacidad kg | Z3: Clasificación Cilindraje | AA3: DETALLE CLASE DE VEHICULO / CARROCERIA | AB3: CODIGO TARIFA | AC3: REGIONAL | AD3: 1 | AE3: 2 | AF3: CÓDIGO DE TARIFA 2025 | AG3: 4
B4: ORIENTE | C4: 1 | D4: DAB491 | E4: HILUX | F4: TOYOTA | G4: 2008 | H4: =2026-G4 -> 18 | I4: =IF(H4>=10,"10 o mas años","menos de 10 años") -> 10 o mas años | J4: Oficial | K4: 5 | L4: 46386 | M4: =+L4+1 -> 46387 | N4: 46751 | O4: {=_xlfn.IFS(W4="CAMPEROS Y CAMIONETAS",_xlfn.IFS(AND(Z4="Menos de 1.500 c.c.",I4="menos de 10 años"),'TARIFAS MAS RUNT'!$E$14,AND(Z4="Menos de 1.500 c.c.",I4="10 o mas años"),'TARIFAS MAS RUNT'!$E$15,AND(Z4="Entre 1.500 y 2.500 c.c.",I4="menos de 10 años"),'TARIFAS MAS RUNT'!$E$16,AND(Z4="Entre 1.500 y 2.500 c.c.",I4="10 o mas años"),'TARIFAS MAS RUNT'!$E$17,AND(Z4="Más de 2.500 c.c.",I4="menos de 10 años"),'TARIFAS MAS RUNT'!$E$18,AND(Z4="Más de 2.500 c.c.",I4="10 o mas años"),'TARIFAS MAS RUNT'!$E$19,TRUE,"Sin Tarifa"),W4="CARGA O MIXTOS",_xlfn.IFS(Z4="Menos de 5 Toneladas",'TARIFAS MAS RUNT'!$E$20,Z4="Entre 5 y 15 Toneladas",'TARIFAS MAS RUNT'!$E$21,Z4="Más de 15 Toneladas",'TARIFAS MAS RUNT'!$E$22,TRUE,"Sin Tarifa"),W4="OFICIALES ESPECIALES",_xlfn.IFS(Z4="Menos de 1.500 c.c.",'TARIFAS MAS RUNT'!$E$23,Z4="Entre 1.500 y 2.500 c.c.",'TARIFAS MAS RUNT'!$E$24,Z4="Más de 2.500 c.c.",'TARIFAS MAS RUNT'!$E$25,TRUE,"Sin Tarifa"),W4="AUTOMOVILES FAMILIARES",_xlfn.IFS(AND(Z4="Menos de 1.500 c.c.",I4="menos de 10 años"),'TARIFAS MAS RUNT'!$E$26,AND(Z4="Menos de 1.500 c.c.",I4="10 o mas años"),'TARIFAS MAS RUNT'!$E$27,AND(Z4="Entre 1.500 y 2.500 c.c.",I4="menos de 10 años"),'TARIFAS MAS RUNT'!$E$28,AND(Z4="Entre 1.500 y 2.500 c.c.",I4="10 o mas años"),'TARIFAS MAS RUNT'!$E$29,AND(Z4="Más de 2.500 c.c.",I4="menos de 10 años"),'TARIFAS MAS RUNT'!$E$30,AND(Z4="Más de 2.500 c.c.",I4="10 o mas años"),'TARIFAS MAS RUNT'!$E$31,TRUE,"Sin Tarifa"),TRUE,"Clase no encontrada")} -> 1274000 | P4: =+_xlfn.XLOOKUP(O4,'[2]ReporteCotizaciones (2)'!$H$2:$H$90,'[2]ReporteCotizaciones (2)'!$F$2:$F$90) -> 836600 | Q4: =+_xlfn.XLOOKUP(O4,Hoja3!$L$3:$L$39,Hoja3!$I$3:$I$39) -> 435000 | R4: 2400 | S4: =+P4+Q4+R4 -> 1274000 | T4: =+O4=S4 -> TRUE | U4: CAMIONETA | W4: CAMPEROS Y CAMIONETAS | X4: 2700 | Y4: N/A | Z4: =IF(OR(W4="CAMPEROS Y CAMIONETAS",W4="VEHICULOS FAMILIARES",W4="AUTOS NEGOCIO"), IF(X4<1500,"Menos de 1.500 c.c.", IF(X4<=2500,"Entre 1.500 y 2.500 c.c.","Más de 2.500 c.c.")), IF(W4="CARGA O MIXTOS", IF(X4<5000,"Menos de 5 Toneladas", IF(X4<=15000,"Entre 5 y 15 Toneladas","Más de 15 Toneladas")), IF(W4="OFICIALES ESPECIALES", IF(X4<1500,"Menos de 1.500 c.c.", IF(X4<=2500,"Entre 1.500 y 2.500 c.c.","Más de 2.500 c.c.")), IF(OR(W4="VEHICULOS 6 o más pasajeros",W4="AUTOMOVILES FAMILIARES"), IF(X4<1500,"Menos de 1.500 c.c.", IF(X4<2500,"Entre 1.500 y 2.500 c.c.","2.500 o más c.c.")), "")))) -> Más de 2.500 c.c. | AA4: DOBLE CABINA | AB4: 232 | AC4: ORIENTE | AD4: 1 | AE4: =+C4=AD4 -> TRUE | AF4: =+_xlfn.XLOOKUP(D4,'[3]SOAT A ADQUIRIR 2025 _2026'!$B$2:$B$106,'[3]SOAT A ADQUIRIR 2025 _2026'!$M$2:$M$106) -> 232 | AG4: =+AB4=AF4 -> TRUE | AH4: =+AI4=O4 -> TRUE | AI4: =+_xlfn.XLOOKUP(AB4,Hoja3!$D$3:$D$39,Hoja3!$L$3:$L$39) -> 1274000
C5: 2 | D5: DAB495 | E5: HILUX | F5: TOYOTA | G5: 2008 | H5: =2026-G5 -> 18 | I5: =IF(H5>=10,"10 o mas años","menos de 10 años") -> 10 o mas años | J5: Oficial | K5: 5 | L5: 46386 | M5: =+L5+1 -> 46387 | N5: 46751 | O5: {=_xlfn.IFS(W5="CAMPEROS Y CAMIONETAS",_xlfn.IFS(AND(Z5="Menos de 1.500 c.c.",I5="menos de 10 años"),'TARIFAS MAS RUNT'!$E$14,AND(Z5="Menos de 1.500 c.c.",I5="10 o mas años"),'TARIFAS MAS RUNT'!$E$15,AND(Z5="Entre 1.500 y 2.500 c.c.",I5="menos de 10 años"),'TARIFAS MAS RUNT'!$E$16,AND(Z5="Entre 1.500 y 2.500 c.c.",I5="10 o mas años"),'TARIFAS MAS RUNT'!$E$17,AND(Z5="Más de 2.500 c.c.",I5="menos de 10 años"),'TARIFAS MAS RUNT'!$E$18,AND(Z5="Más de 2.500 c.c.",I5="10 o mas años"),'TARIFAS MAS RUNT'!$E$19,TRUE,"Sin Tarifa"),W5="CARGA O MIXTOS",_xlfn.IFS(Z5="Menos de 5 Toneladas",'TARIFAS MAS RUNT'!$E$20,Z5="Entre 5 y 15 Toneladas",'TARIFAS MAS RUNT'!$E$21,Z5="Más de 15 Toneladas",'TARIFAS MAS RUNT'!$E$22,TRUE,"Sin Tarifa"),W5="OFICIALES ESPECIALES",_xlfn.IFS(Z5="Menos de 1.500 c.c.",'TARIFAS MAS RUNT'!$E$23,Z5="Entre 1.500 y 2.500 c.c.",'TARIFAS MAS RUNT'!$E$24,Z5="Más de 2.500 c.c.",'TARIFAS MAS RUNT'!$E$25,TRUE,"Sin Tarifa"),W5="AUTOMOVILES FAMILIARES",_xlfn.IFS(AND(Z5="Menos de 1.500 c.c.",I5="menos de 10 años"),'TARIFAS MAS RUNT'!$E$26,AND(Z5="Menos de 1.500 c.c.",I5="10 o mas años"),'TARIFAS MAS RUNT'!$E$27,AND(Z5="Entre 1.500 y 2.500 c.c.",I5="menos de 10 años"),'TARIFAS MAS RUNT'!$E$28,AND(Z5="Entre 1.500 y 2.500 c.c.",I5="10 o mas años"),'TARIFAS MAS RUNT'!$E$29,AND(Z5="Más de 2.500 c.c.",I5="menos de 10 años"),'TARIFAS MAS RUNT'!$E$30,AND(Z5="Más de 2.500 c.c.",I5="10 o mas años"),'TARIFAS MAS RUNT'!$E$31,TRUE,"Sin Tarifa"),TRUE,"Clase no encontrada")} -> 1274000 | P5: =+_xlfn.XLOOKUP(O5,'[2]ReporteCotizaciones (2)'!$H$2:$H$90,'[2]ReporteCotizaciones (2)'!$F$2:$F$90) -> 836600 | Q5: =+_xlfn.XLOOKUP(O5,Hoja3!$L$3:$L$39,Hoja3!$I$3:$I$39) -> 435000 | R5: 2400 | S5: =+P5+Q5+R5 -> 1274000 | T5: =+O5=S5 -> TRUE | W5: CAMPEROS Y CAMIONETAS | X5: 2700 | Y5: N/A | Z5: =IF(OR(W5="CAMPEROS Y CAMIONETAS",W5="VEHICULOS FAMILIARES",W5="AUTOS NEGOCIO"), IF(X5<1500,"Menos de 1.500 c.c.", IF(X5<=2500,"Entre 1.500 y 2.500 c.c.","Más de 2.500 c.c.")), IF(W5="CARGA O MIXTOS", IF(X5<5000,"Menos de 5 Toneladas", IF(X5<=15000,"Entre 5 y 15 Toneladas","Más de 15 Toneladas")), IF(W5="OFICIALES ESPECIALES", IF(X5<1500,"Menos de 1.500 c.c.", IF(X5<=2500,"Entre 1.500 y 2.500 c.c.","Más de 2.500 c.c.")), IF(OR(W5="VEHICULOS 6 o más pasajeros",W5="AUTOMOVILES FAMILIARES"), IF(X5<1500,"Menos de 1.500 c.c.", IF(X5<2500,"Entre 1.500 y 2.500 c.c.","2.500 o más c.c.")), "")))) -> Más de 2.500 c.c. | AA5: DOBLE CABINA | AB5: 232 | AC5: SUR | AD5: 2 | AE5: =+C5=AD5 -> TRUE | AF5: =+_xlfn.XLOOKUP(D5,'[3]SOAT A ADQUIRIR 2025 _2026'!$B$2:$B$106,'[3]SOAT A ADQUIRIR 2025 _2026'!$M$2:$M$106) -> 232 | AG5: =+AB5=AF5 -> TRUE | AH5: =+AI5=O5 -> TRUE | AI5: =+_xlfn.XLOOKUP(AB5,Hoja3!$D$3:$D$39,Hoja3!$L$3:$L$39) -> 1274000
C6: 3 | D6: DAB639 | E6: HILUX | F6: TOYOTA | G6: 2008 | H6: =2026-G6 -> 18 | I6: =IF(H6>=10,"10 o mas años","menos de 10 años") -> 10 o mas años | J6: Oficial | K6: 5 | L6: 46386 | M6: =+L6+1 -> 46387 | N6: 46751 | O6: {=_xlfn.IFS(W6="CAMPEROS Y CAMIONETAS",_xlfn.IFS(AND(Z6="Menos de 1.500 c.c.",I6="menos de 10 años"),'TARIFAS MAS RUNT'!$E$14,AND(Z6="Menos de 1.500 c.c.",I6="10 o mas años"),'TARIFAS MAS RUNT'!$E$15,AND(Z6="Entre 1.500 y 2.500 c.c.",I6="menos de 10 años"),'TARIFAS MAS RUNT'!$E$16,AND(Z6="Entre 1.500 y 2.500 c.c.",I6="10 o mas años"),'TARIFAS MAS RUNT'!$E$17,AND(Z6="Más de 2.500 c.c.",I6="menos de 10 años"),'TARIFAS MAS RUNT'!$E$18,AND(Z6="Más de 2.500 c.c.",I6="10 o mas años"),'TARIFAS MAS RUNT'!$E$19,TRUE,"Sin Tarifa"),W6="CARGA O MIXTOS",_xlfn.IFS(Z6="Menos de 5 Toneladas",'TARIFAS MAS RUNT'!$E$20,Z6="Entre 5 y 15 Toneladas",'TARIFAS MAS RUNT'!$E$21,Z6="Más de 15 Toneladas",'TARIFAS MAS RUNT'!$E$22,TRUE,"Sin Tarifa"),W6="OFICIALES ESPECIALES",_xlfn.IFS(Z6="Menos de 1.500 c.c.",'TARIFAS MAS RUNT'!$E$23,Z6="Entre 1.500 y 2.500 c.c.",'TARIFAS MAS RUNT'!$E$24,Z6="Más de 2.500 c.c.",'TARIFAS MAS RUNT'!$E$25,TRUE,"Sin Tarifa"),W6="AUTOMOVILES FAMILIARES",_xlfn.IFS(AND(Z6="Menos de 1.500 c.c.",I6="menos de 10 años"),'TARIFAS MAS RUNT'!$E$26,AND(Z6="Menos de 1.500 c.c.",I6="10 o mas años"),'TARIFAS MAS RUNT'!$E$27,AND(Z6="Entre 1.500 y 2.500 c.c.",I6="menos de 10 años"),'TARIFAS MAS RUNT'!$E$28,AND(Z6="Entre 1.500 y 2.500 c.c.",I6="10 o mas años"),'TARIFAS MAS RUNT'!$E$29,AND(Z6="Más de 2.500 c.c.",I6="menos de 10 años"),'TARIFAS MAS RUNT'!$E$30,AND(Z6="Más de 2.500 c.c.",I6="10 o mas años"),'TARIFAS MAS RUNT'!$E$31,TRUE,"Sin Tarifa"),TRUE,"Clase no encontrada")} -> 1274000 | P6: =+_xlfn.XLOOKUP(O6,'[2]ReporteCotizaciones (2)'!$H$2:$H$90,'[2]ReporteCotizaciones (2)'!$F$2:$F$90) -> 836600 | Q6: =+_xlfn.XLOOKUP(O6,Hoja3!$L$3:$L$39,Hoja3!$I$3:$I$39) -> 435000 | R6: 2400 | S6: =+P6+Q6+R6 -> 1274000 | T6: =+O6=S6 -> TRUE | W6: CAMPEROS Y CAMIONETAS | X6: 2700 | Y6: N/A | Z6: =IF(OR(W6="CAMPEROS Y CAMIONETAS",W6="VEHICULOS FAMILIARES",W6="AUTOS NEGOCIO"), IF(X6<1500,"Menos de 1.500 c.c.", IF(X6<=2500,"Entre 1.500 y 2.500 c.c.","Más de 2.500 c.c.")), IF(W6="CARGA O MIXTOS", IF(X6<5000,"Menos de 5 Toneladas", IF(X6<=15000,"Entre 5 y 15 Toneladas","Más de 15 Toneladas")), IF(W6="OFICIALES ESPECIALES", IF(X6<1500,"Menos de 1.500 c.c.", IF(X6<=2500,"Entre 1.500 y 2.500 c.c.","Más de 2.500 c.c.")), IF(OR(W6="VEHICULOS 6 o más pasajeros",W6="AUTOMOVILES FAMILIARES"), IF(X6<1500,"Menos de 1.500 c.c.", IF(X6<2500,"Entre 1.500 y 2.500 c.c.","2.500 o más c.c.")), "")))) -> Más de 2.500 c.c. | AA6: DOBLE CABINA | AB6: 232 | AC6: NORORIENTE | AD6: 3 | AE6: =+C6=AD6 -> TRUE | AF6: =+_xlfn.XLOOKUP(D6,'[3]SOAT A ADQUIRIR 2025 _2026'!$B$2:$B$106,'[3]SOAT A ADQUIRIR 2025 _2026'!$M$2:$M$106) -> 232 | AG6: =+AB6=AF6 -> TRUE | AH6: =+AI6=O6 -> TRUE | AI6: =+_xlfn.XLOOKUP(AB6,Hoja3!$D$3:$D$39,Hoja3!$L$3:$L$39) -> 1274000
C7: 4 | D7: LZV472 | E7: F-150 FHEV AT XLT SUPER CREW | F7: FORD | G7: 2023 | H7: =2026-G7 -> 3 | I7: =IF(H7>=10,"10 o mas años","menos de 10 años") -> menos de 10 años | J7: Oficiales | K7: 5 | L7: 46386 | M7: =+L7+1 -> 46387 | N7: 46751 | O7: {=_xlfn.IFS(W7="CAMPEROS Y CAMIONETAS",_xlfn.IFS(AND(Z7="Menos de 1.500 c.c.",I7="menos de 10 años"),'TARIFAS MAS RUNT'!$E$14,AND(Z7="Menos de 1.500 c.c.",I7="10 o mas años"),'TARIFAS MAS RUNT'!$E$15,AND(Z7="Entre 1.500 y 2.500 c.c.",I7="menos de 10 años"),'TARIFAS MAS RUNT'!$E$16,AND(Z7="Entre 1.500 y 2.500 c.c.",I7="10 o mas años"),'TARIFAS MAS RUNT'!$E$17,AND(Z7="Más de 2.500 c.c.",I7="menos de 10 años"),'TARIFAS MAS RUNT'!$E$18,AND(Z7="Más de 2.500 c.c.",I7="10 o mas años"),'TARIFAS MAS RUNT'!$E$19,TRUE,"Sin Tarifa"),W7="CARGA O MIXTOS",_xlfn.IFS(Z7="Menos de 5 Toneladas",'TARIFAS MAS RUNT'!$E$20,Z7="Entre 5 y 15 Toneladas",'TARIFAS MAS RUNT'!$E$21,Z7="Más de 15 Toneladas",'TARIFAS MAS RUNT'!$E$22,TRUE,"Sin Tarifa"),W7="OFICIALES ESPECIALES",_xlfn.IFS(Z7="Menos de 1.500 c.c.",'TARIFAS MAS RUNT'!$E$23,Z7="Entre 1.500 y 2.500 c.c.",'TARIFAS MAS RUNT'!$E$24,Z7="Más de 2.500 c.c.",'TARIFAS MAS RUNT'!$E$25,TRUE,"Sin Tarifa"),W7="AUTOMOVILES FAMILIARES",_xlfn.IFS(AND(Z7="Menos de 1.500 c.c.",I7="menos de 10 años"),'TARIFAS MAS RUNT'!$E$26,AND(Z7="Menos de 1.500 c.c.",I7="10 o mas años"),'TARIFAS MAS RUNT'!$E$27,AND(Z7="Entre 1.500 y 2.500 c.c.",I7="menos de 10 años"),'TARIFAS MAS RUNT'!$E$28,AND(Z7="Entre 1.500 y 2.500 c.c.",I7="10 o mas años"),'TARIFAS MAS RUNT'!$E$29,AND(Z7="Más de 2.500 c.c.",I7="menos de 10 años"),'TARIFAS MAS RUNT'!$E$30,AND(Z7="Más de 2.500 c.c.",I7="10 o mas años"),'TARIFAS MAS RUNT'!$E$31,TRUE,"Sin Tarifa"),TRUE,"Clase no encontrada")} -> 1110300 | P7: =+_xlfn.XLOOKUP(O7,'[2]ReporteCotizaciones (2)'!$H$2:$H$90,'[2]ReporteCotizaciones (2)'!$F$2:$F$90) -> 728900 | Q7: =+_xlfn.XLOOKUP(O7,Hoja3!$L$3:$L$39,Hoja3!$I$3:$I$39) -> 379000 | R7: 2400 | S7: =+P7+Q7+R7 -> 1110300 | T7: =+O7=S7 -> TRUE | W7: CAMPEROS Y CAMIONETAS | X7: 3497 | Y7: N/A | Z7: =IF(OR(W7="CAMPEROS Y CAMIONETAS",W7="VEHICULOS FAMILIARES",W7="AUTOS NEGOCIO"), IF(X7<1500,"Menos de 1.500 c.c.", IF(X7<=2500,"Entre 1.500 y 2.500 c.c.","Más de 2.500 c.c.")), IF(W7="CARGA O MIXTOS", IF(X7<5000,"Menos de 5 Toneladas", IF(X7<=15000,"Entre 5 y 15 Toneladas","Más de 15 Toneladas")), IF(W7="OFICIALES ESPECIALES", IF(X7<1500,"Menos de 1.500 c.c.", IF(X7<=2500,"Entre 1.500 y 2.500 c.c.","Más de 2.500 c.c.")), IF(OR(W7="VEHICULOS 6 o más pasajeros",W7="AUTOMOVILES FAMILIARES"), IF(X7<1500,"Menos de 1.500 c.c.", IF(X7<2500,"Entre 1.500 y 2.500 c.c.","2.500 o más c.c.")), "")))) -> Más de 2.500 c.c. | AA7: DOBLE CABINA CON PLATON | AB7: 231 | AC7: NOROCCIDENTE | AD7: 4 | AE7: =+C7=AD7 -> TRUE | AF7: =+_xlfn.XLOOKUP(D7,'[3]SOAT A ADQUIRIR 2025 _2026'!$B$2:$B$106,'[3]SOAT A ADQUIRIR 2025 _2026'!$M$2:$M$106) -> 231 | AG7: =+AB7=AF7 -> TRUE | AH7: =+AI7=O7 -> TRUE | AI7: =+_xlfn.XLOOKUP(AB7,Hoja3!$D$3:$D$39,Hoja3!$L$3:$L$39) -> 1110300
C8: 5 | D8: OBF783 | E8: NHR | F8: CHEVROLET | G8: 2014 | H8: =2026-G8 -> 12 | I8: =IF(H8>=10,"10 o mas años","menos de 10 años") -> 10 o mas años | J8: Oficial | K8: 3 | L8: 46386 | M8: =+L8+1 -> 46387 | N8: 46751 | O8: {=_xlfn.IFS(W8="CAMPEROS Y CAMIONETAS",_xlfn.IFS(AND(Z8="Menos de 1.500 c.c.",I8="menos de 10 años"),'TARIFAS MAS RUNT'!$E$14,AND(Z8="Menos de 1.500 c.c.",I8="10 o mas años"),'TARIFAS MAS RUNT'!$E$15,AND(Z8="Entre 1.500 y 2.500 c.c.",I8="menos de 10 años"),'TARIFAS MAS RUNT'!$E$16,AND(Z8="Entre 1.500 y 2.500 c.c.",I8="10 o mas años"),'TARIFAS MAS RUNT'!$E$17,AND(Z8="Más de 2.500 c.c.",I8="menos de 10 años"),'TARIFAS MAS RUNT'!$E$18,AND(Z8="Más de 2.500 c.c.",I8="10 o mas años"),'TARIFAS MAS RUNT'!$E$19,TRUE,"Sin Tarifa"),W8="CARGA O MIXTOS",_xlfn.IFS(Z8="Menos de 5 Toneladas",'TARIFAS MAS RUNT'!$E$20,Z8="Entre 5 y 15 Toneladas",'TARIFAS MAS RUNT'!$E$21,Z8="Más de 15 Toneladas",'TARIFAS MAS RUNT'!$E$22,TRUE,"Sin Tarifa"),W8="OFICIALES ESPECIALES",_xlfn.IFS(Z8="Menos de 1.500 c.c.",'TARIFAS MAS RUNT'!$E$23,Z8="Entre 1.500 y 2.500 c.c.",'TARIFAS MAS RUNT'!$E$24,Z8="Más de 2.500 c.c.",'TARIFAS MAS RUNT'!$E$25,TRUE,"Sin Tarifa"),W8="AUTOMOVILES FAMILIARES",_xlfn.IFS(AND(Z8="Menos de 1.500 c.c.",I8="menos de 10 años"),'TARIFAS MAS RUNT'!$E$26,AND(Z8="Menos de 1.500 c.c.",I8="10 o mas años"),'TARIFAS MAS RUNT'!$E$27,AND(Z8="Entre 1.500 y 2.500 c.c.",I8="menos de 10 años"),'TARIFAS MAS RUNT'!$E$28,AND(Z8="Entre 1.500 y 2.500 c.c.",I8="10 o mas años"),'TARIFAS MAS RUNT'!$E$29,AND(Z8="Más de 2.500 c.c.",I8="menos de 10 años"),'TARIFAS MAS RUNT'!$E$30,AND(Z8="Más de 2.500 c.c.",I8="10 o mas años"),'TARIFAS MAS RUNT'!$E$31,TRUE,"Sin Tarifa"),TRUE,"Clase no encontrada")} -> 888400 | P8: =+_xlfn.XLOOKUP(O8,'[2]ReporteCotizaciones (2)'!$H$2:$H$90,'[2]ReporteCotizaciones (2)'!$F$2:$F$90) -> 582900 | Q8: =+_xlfn.XLOOKUP(O8,Hoja3!$L$3:$L$39,Hoja3!$I$3:$I$39) -> 303100 | R8: 2400 | S8: =+P8+Q8+R8 -> 888400 | T8: =+O8=S8 -> TRUE | W8: CARGA O MIXTOS | X8: 2771 | Y8: 1235 | Z8: =IF(OR(W8="CAMPEROS Y CAMIONETAS",W8="VEHICULOS FAMILIARES",W8="AUTOS NEGOCIO"), IF(Y8<1500,"Menos de 1.500 c.c.", IF(Y8<=2500,"Entre 1.500 y 2.500 c.c.","Más de 2.500 c.c.")), IF(W8="CARGA O MIXTOS", IF(Y8<5000,"Menos de 5 Toneladas", IF(Y8<=15000,"Entre 5 y 15 Toneladas","Más de 15 Toneladas")), IF(W8="OFICIALES ESPECIALES", IF(Y8<1500,"Menos de 1.500 c.c.", IF(Y8<=2500,"Entre 1.500 y 2.500 c.c.","Más de 2.500 c.c.")), IF(OR(W8="VEHICULOS 6 o más pasajeros",W8="AUTOMOVILES FAMILIARES"), IF(Y8<1500,"Menos de 1.500 c.c.", IF(Y8<2500,"Entre 1.500 y 2.500 c.c.","2.500 o más c.c.")), "")))) -> Menos de 5 Toneladas | AA8: Furgon | AB8: 310 | AC8: NORTE | AD8: 5 | AE8: =+C8=AD8 -> TRUE | AF8: =+_xlfn.XLOOKUP(D8,'[3]SOAT A ADQUIRIR 2025 _2026'!$B$2:$B$106,'[3]SOAT A ADQUIRIR 2025 _2026'!$M$2:$M$106) -> 232 | AG8: =+AB8=AF8 -> FALSE | AH8: =+AI8=O8 -> TRUE | AI8: =+_xlfn.XLOOKUP(AB8,Hoja3!$D$3:$D$39,Hoja3!$L$3:$L$39) -> 888400
C9: 6 | D9: OBF784 | E9: NKR | F9: CHEVROLET | G9: 2014 | H9: =2026-G9 -> 12 | I9: =IF(H9>=10,"10 o mas años","menos de 10 años") -> 10 o mas años | J9: Oficial | K9: 3 | L9: 46386 | M9: =+L9+1 -> 46387 | N9: 46751 | O9: {=_xlfn.IFS(W9="CAMPEROS Y CAMIONETAS",_xlfn.IFS(AND(Z9="Menos de 1.500 c.c.",I9="menos de 10 años"),'TARIFAS MAS RUNT'!$E$14,AND(Z9="Menos de 1.500 c.c.",I9="10 o mas años"),'TARIFAS MAS RUNT'!$E$15,AND(Z9="Entre 1.500 y 2.500 c.c.",I9="menos de 10 años"),'TARIFAS MAS RUNT'!$E$16,AND(Z9="Entre 1.500 y 2.500 c.c.",I9="10 o mas años"),'TARIFAS MAS RUNT'!$E$17,AND(Z9="Más de 2.500 c.c.",I9="menos de 10 años"),'TARIFAS MAS RUNT'!$E$18,AND(Z9="Más de 2.500 c.c.",I9="10 o mas años"),'TARIFAS MAS RUNT'!$E$19,TRUE,"Sin Tarifa"),W9="CARGA O MIXTOS",_xlfn.IFS(Z9="Menos de 5 Toneladas",'TARIFAS MAS RUNT'!$E$20,Z9="Entre 5 y 15 Toneladas",'TARIFAS MAS RUNT'!$E$21,Z9="Más de 15 Toneladas",'TARIFAS MAS RUNT'!$E$22,TRUE,"Sin Tarifa"),W9="OFICIALES ESPECIALES",_xlfn.IFS(Z9="Menos de 1.500 c.c.",'TARIFAS MAS RUNT'!$E$23,Z9="Entre 1.500 y 2.500 c.c.",'TARIFAS MAS RUNT'!$E$24,Z9="Más de 2.500 c.c.",'TARIFAS MAS RUNT'!$E$25,TRUE,"Sin Tarifa"),W9="AUTOMOVILES FAMILIARES",_xlfn.IFS(AND(Z9="Menos de 1.500 c.c.",I9="menos de 10 años"),'TARIFAS MAS RUNT'!$E$26,AND(Z9="Menos de 1.500 c.c.",I9="10 o mas años"),'TARIFAS MAS RUNT'!$E$27,AND(Z9="Entre 1.500 y 2.500 c.c.",I9="menos de 10 años"),'TARIFAS MAS RUNT'!$E$28,AND(Z9="Entre 1.500 y 2.500 c.c.",I9="10 o mas años"),'TARIFAS MAS RUNT'!$E$29,AND(Z9="Más de 2.500 c.c.",I9="menos de 10 años"),'TARIFAS MAS RUNT'!$E$30,AND(Z9="Más de 2.500 c.c.",I9="10 o mas años"),'TARIFAS MAS RUNT'!$E$31,TRUE,"Sin Tarifa"),TRUE,"Clase no encontrada")} -> 888400 | P9: =+_xlfn.XLOOKUP(O9,'[2]ReporteCotizaciones (2)'!$H$2:$H$90,'[2]ReporteCotizaciones (2)'!$F$2:$F$90) -> 582900 | Q9: =+_xlfn.XLOOKUP(O9,Hoja3!$L$3:$L$39,Hoja3!$I$3:$I$39) -> 303100 | R9: 2400 | S9: =+P9+Q9+R9 -> 888400 | T9: =+O9=S9 -> TRUE | W9: CARGA O MIXTOS | X9: 2999 | Y9: 2600 | Z9: =IF(OR(W9="CAMPEROS Y CAMIONETAS",W9="VEHICULOS FAMILIARES",W9="AUTOS NEGOCIO"), IF(Y9<1500,"Menos de 1.500 c.c.", IF(Y9<=2500,"Entre 1.500 y 2.500 c.c.","Más de 2.500 c.c.")), IF(W9="CARGA O MIXTOS", IF(Y9<5000,"Menos de 5 Toneladas", IF(Y9<=15000,"Entre 5 y 15 Toneladas","Más de 15 Toneladas")), IF(W9="OFICIALES ESPECIALES", IF(Y9<1500,"Menos de 1.500 c.c.", IF(Y9<=2500,"Entre 1.500 y 2.500 c.c.","Más de 2.500 c.c.")), IF(OR(W9="VEHICULOS 6 o más pasajeros",W9="AUTOMOVILES FAMILIARES"), IF(Y9<1500,"Menos de 1.500 c.c.", IF(Y9<2500,"Entre 1.500 y 2.500 c.c.","2.500 o más c.c.")), "")))) -> Menos de 5 Toneladas | AA9: Furgon | AB9: 310 | AC9: NIVEL CENTRAL | AD9: 6 | AE9: =+C9=AD9 -> TRUE | AF9: =+_xlfn.XLOOKUP(D9,'[3]SOAT A ADQUIRIR 2025 _2026'!$B$2:$B$106,'[3]SOAT A ADQUIRIR 2025 _2026'!$M$2:$M$106) -> 310 | AG9: =+AB9=AF9 -> TRUE | AH9: =+AI9=O9 -> TRUE | AI9: =+_xlfn.XLOOKUP(AB9,Hoja3!$D$3:$D$39,Hoja3!$L$3:$L$39) -> 888400
C10: 7 | D10: OBF785 | E10: NKR | F10: CHEVROLET | G10: 2014 | H10: =2026-G10 -> 12 | I10: =IF(H10>=10,"10 o mas años","menos de 10 años") -> 10 o mas años | J10: Oficial | K10: 3 | L10: 46386 | M10: =+L10+1 -> 46387 | N10: 46751 | O10: {=_xlfn.IFS(W10="CAMPEROS Y CAMIONETAS",_xlfn.IFS(AND(Z10="Menos de 1.500 c.c.",I10="menos de 10 años"),'TARIFAS MAS RUNT'!$E$14,AND(Z10="Menos de 1.500 c.c.",I10="10 o mas años"),'TARIFAS MAS RUNT'!$E$15,AND(Z10="Entre 1.500 y 2.500 c.c.",I10="menos de 10 años"),'TARIFAS MAS RUNT'!$E$16,AND(Z10="Entre 1.500 y 2.500 c.c.",I10="10 o mas años"),'TARIFAS MAS RUNT'!$E$17,AND(Z10="Más de 2.500 c.c.",I10="menos de 10 años"),'TARIFAS MAS RUNT'!$E$18,AND(Z10="Más de 2.500 c.c.",I10="10 o mas años"),'TARIFAS MAS RUNT'!$E$19,TRUE,"Sin Tarifa"),W10="CARGA O MIXTOS",_xlfn.IFS(Z10="Menos de 5 Toneladas",'TARIFAS MAS RUNT'!$E$20,Z10="Entre 5 y 15 Toneladas",'TARIFAS MAS RUNT'!$E$21,Z10="Más de 15 Toneladas",'TARIFAS MAS RUNT'!$E$22,TRUE,"Sin Tarifa"),W10="OFICIALES ESPECIALES",_xlfn.IFS(Z10="Menos de 1.500 c.c.",'TARIFAS MAS RUNT'!$E$23,Z10="Entre 1.500 y 2.500 c.c.",'TARIFAS MAS RUNT'!$E$24,Z10="Más de 2.500 c.c.",'TARIFAS MAS RUNT'!$E$25,TRUE,"Sin Tarifa"),W10="AUTOMOVILES FAMILIARES",_xlfn.IFS(AND(Z10="Menos de 1.500 c.c.",I10="menos de 10 años"),'TARIFAS MAS RUNT'!$E$26,AND(Z10="Menos de 1.500 c.c.",I10="10 o mas años"),'TARIFAS MAS RUNT'!$E$27,AND(Z10="Entre 1.500 y 2.500 c.c.",I10="menos de 10 años"),'TARIFAS MAS RUNT'!$E$28,AND(Z10="Entre 1.500 y 2.500 c.c.",I10="10 o mas años"),'TARIFAS MAS RUNT'!$E$29,AND(Z10="Más de 2.500 c.c.",I10="menos de 10 años"),'TARIFAS MAS RUNT'!$E$30,AND(Z10="Más de 2.500 c.c.",I10="10 o mas años"),'TARIFAS MAS RUNT'!$E$31,TRUE,"Sin Tarifa"),TRUE,"Clase no encontrada")} -> 888400 | P10: =+_xlfn.XLOOKUP(O10,'[2]ReporteCotizaciones (2)'!$H$2:$H$90,'[2]ReporteCotizaciones (2)'!$F$2:$F$90) -> 582900 | Q10: =+_xlfn.XLOOKUP(O10,Hoja3!$L$3:$L$39,Hoja3!$I$3:$I$39) -> 303100 | R10: 2400 | S10: =+P10+Q10+R10 -> 888400 | T10: =+O10=S10 -> TRUE | W10: CARGA O MIXTOS | X10: 2999 | Y10: 2600 | Z10: =IF(OR(W10="CAMPEROS Y CAMIONETAS",W10="VEHICULOS FAMILIARES",W10="AUTOS NEGOCIO"), IF(Y10<1500,"Menos de 1.500 c.c.", IF(Y10<=2500,"Entre 1.500 y 2.500 c.c.","Más de 2.500 c.c.")), IF(W10="CARGA O MIXTOS", IF(Y10<5000,"Menos de 5 Toneladas", IF(Y10<=15000,"Entre 5 y 15 Toneladas","Más de 15 Toneladas")), IF(W10="OFICIALES ESPECIALES", IF(Y10<1500,"Menos de 1.500 c.c.", IF(Y10<=2500,"Entre 1.500 y 2.500 c.c.","Más de 2.500 c.c.")), IF(OR(W10="VEHICULOS 6 o más pasajeros",W10="AUTOMOVILES FAMILIARES"), IF(Y10<1500,"Menos de 1.500 c.c.", IF(Y10<2500,"Entre 1.500 y 2.500 c.c.","2.500 o más c.c.")), "")))) -> Menos de 5 Toneladas | AA10: FURGON | AB10: 310 | AC10: SUROCCIDENTE | AD10: 7 | AE10: =+C10=AD10 -> TRUE | AF10: =+_xlfn.XLOOKUP(D10,'[3]SOAT A ADQUIRIR 2025 _2026'!$B$2:$B$106,'[3]SOAT A ADQUIRIR 2025 _2026'!$M$2:$M$106) -> 310 | AG10: =+AB10=AF10 -> TRUE | AH10: =+AI10=O10 -> TRUE | AI10: =+_xlfn.XLOOKUP(AB10,Hoja3!$D$3:$D$39,Hoja3!$L$3:$L$39) -> 888400
C11: 8 | D11: OBF787 | E11: L 200 2.5L | F11: MITSUBISHI | G11: 2014 | H11: =2026-G11 -> 12 | I11: =IF(H11>=10,"10 o mas años","menos de 10 años") -> 10 o mas años | J11: Oficial | K11: 5 | L11: 46386 | M11: =+L11+1 -> 46387 | N11: 46751 | O11: {=_xlfn.IFS(W11="CAMPEROS Y CAMIONETAS",_xlfn.IFS(AND(Z11="Menos de 1.500 c.c.",I11="menos de 10 años"),'TARIFAS MAS RUNT'!$E$14,AND(Z11="Menos de 1.500 c.c.",I11="10 o mas años"),'TARIFAS MAS RUNT'!$E$15,AND(Z11="Entre 1.500 y 2.500 c.c.",I11="menos de 10 años"),'TARIFAS MAS RUNT'!$E$16,AND(Z11="Entre 1.500 y 2.500 c.c.",I11="10 o mas años"),'TARIFAS MAS RUNT'!$E$17,AND(Z11="Más de 2.500 c.c.",I11="menos de 10 años"),'TARIFAS MAS RUNT'!$E$18,AND(Z11="Más de 2.500 c.c.",I11="10 o mas años"),'TARIFAS MAS RUNT'!$E$19,TRUE,"Sin Tarifa"),W11="CARGA O MIXTOS",_xlfn.IFS(Z11="Menos de 5 Toneladas",'TARIFAS MAS RUNT'!$E$20,Z11="Entre 5 y 15 Toneladas",'TARIFAS MAS RUNT'!$E$21,Z11="Más de 15 Toneladas",'TARIFAS MAS RUNT'!$E$22,TRUE,"Sin Tarifa"),W11="OFICIALES ESPECIALES",_xlfn.IFS(Z11="Menos de 1.500 c.c.",'TARIFAS MAS RUNT'!$E$23,Z11="Entre 1.500 y 2.500 c.c.",'TARIFAS MAS RUNT'!$E$24,Z11="Más de 2.500 c.c.",'TARIFAS MAS RUNT'!$E$25,TRUE,"Sin Tarifa"),W11="AUTOMOVILES FAMILIARES",_xlfn.IFS(AND(Z11="Menos de 1.500 c.c.",I11="menos de 10 años"),'TARIFAS MAS RUNT'!$E$26,AND(Z11="Menos de 1.500 c.c.",I11="10 o mas años"),'TARIFAS MAS RUNT'!$E$27,AND(Z11="Entre 1.500 y 2.500 c.c.",I11="menos de 10 años"),'TARIFAS MAS RUNT'!$E$28,AND(Z11="Entre 1.500 y 2.500 c.c.",I11="10 o mas años"),'TARIFAS MAS RUNT'!$E$29,AND(Z11="Más de 2.500 c.c.",I11="menos de 10 años"),'TARIFAS MAS RUNT'!$E$30,AND(Z11="Más de 2.500 c.c.",I11="10 o mas años"),'TARIFAS MAS RUNT'!$E$31,TRUE,"Sin Tarifa"),TRUE,"Clase no encontrada")} -> 1121400 | P11: =+_xlfn.XLOOKUP(O11,'[2]ReporteCotizaciones (2)'!$H$2:$H$90,'[2]ReporteCotizaciones (2)'!$F$2:$F$90) -> 736200 | Q11: =+_xlfn.XLOOKUP(O11,Hoja3!$L$3:$L$39,Hoja3!$I$3:$I$39) -> 382800 | R11: 2400 | S11: =+P11+Q11+R11 -> 1121400 | T11: =+O11=S11 -> TRUE | W11: CAMPEROS Y CAMIONETAS | X11: 2477 | Y11: N/A | Z11: =IF(OR(W11="CAMPEROS Y CAMIONETAS",W11="VEHICULOS FAMILIARES",W11="AUTOS NEGOCIO"), IF(X11<1500,"Menos de 1.500 c.c.", IF(X11<=2500,"Entre 1.500 y 2.500 c.c.","Más de 2.500 c.c.")), IF(W11="CARGA O MIXTOS", IF(X11<5000,"Menos de 5 Toneladas", IF(X11<=15000,"Entre 5 y 15 Toneladas","Más de 15 Toneladas")), IF(W11="OFICIALES ESPECIALES", IF(X11<1500,"Menos de 1.500 c.c.", IF(X11<=2500,"Entre 1.500 y 2.500 c.c.","Más de 2.500 c.c.")), IF(OR(W11="VEHICULOS 6 o más pasajeros",W11="AUTOMOVILES FAMILIARES"), IF(X11<1500,"Menos de 1.500 c.c.", IF(X11<2500,"Entre 1.500 y 2.500 c.c.","2.500 o más c.c.")), "")))) -> Entre 1.500 y 2.500 c.c. | AA11: DOBLE CABINA | AB11: 222 | AC11: NIVEL CENTRAL | AD11: 8 | AE11: =+C11=AD11 -> TRUE | AF11: =+_xlfn.XLOOKUP(D11,'[3]SOAT A ADQUIRIR 2025 _2026'!$B$2:$B$106,'[3]SOAT A ADQUIRIR 2025 _2026'!$M$2:$M$106) -> 222 | AG11: =+AB11=AF11 -> TRUE | AH11: =+AI11=O11 -> TRUE | AI11: =+_xlfn.XLOOKUP(AB11,Hoja3!$D$3:$D$39,Hoja3!$L$3:$L$39) -> 1121400
C12: 9 | D12: OBF788 | E12: L 200 2.5L | F12: MITSUBISHI | G12: 2014 | H12: =2026-G12 -> 12 | I12: =IF(H12>=10,"10 o mas años","menos de 10 años") -> 10 o mas años | J12: Oficial | K12: 5 | L12: 46386 | M12: =+L12+1 -> 46387 | N12: 46751 | O12: {=_xlfn.IFS(W12="CAMPEROS Y CAMIONETAS",_xlfn.IFS(AND(Z12="Menos de 1.500 c.c.",I12="menos de 10 años"),'TARIFAS MAS RUNT'!$E$14,AND(Z12="Menos de 1.500 c.c.",I12="10 o mas años"),'TARIFAS MAS RUNT'!$E$15,AND(Z12="Entre 1.500 y 2.500 c.c.",I12="menos de 10 años"),'TARIFAS MAS RUNT'!$E$16,AND(Z12="Entre 1.500 y 2.500 c.c.",I12="10 o mas años"),'TARIFAS MAS RUNT'!$E$17,AND(Z12="Más de 2.500 c.c.",I12="menos de 10 años"),'TARIFAS MAS RUNT'!$E$18,AND(Z12="Más de 2.500 c.c.",I12="10 o mas años"),'TARIFAS MAS RUNT'!$E$19,TRUE,"Sin Tarifa"),W12="CARGA O MIXTOS",_xlfn.IFS(Z12="Menos de 5 Toneladas",'TARIFAS MAS RUNT'!$E$20,Z12="Entre 5 y 15 Toneladas",'TARIFAS MAS RUNT'!$E$21,Z12="Más de 15 Toneladas",'TARIFAS MAS RUNT'!$E$22,TRUE,"Sin Tarifa"),W12="OFICIALES ESPECIALES",_xlfn.IFS(Z12="Menos de 1.500 c.c.",'TARIFAS MAS RUNT'!$E$23,Z12="Entre 1.500 y 2.500 c.c.",'TARIFAS MAS RUNT'!$E$24,Z12="Más de 2.500 c.c.",'TARIFAS MAS RUNT'!$E$25,TRUE,"Sin Tarifa"),W12="AUTOMOVILES FAMILIARES",_xlfn.IFS(AND(Z12="Menos de 1.500 c.c.",I12="menos de 10 años"),'TARIFAS MAS RUNT'!$E$26,AND(Z12="Menos de 1.500 c.c.",I12="10 o mas años"),'TARIFAS MAS RUNT'!$E$27,AND(Z12="Entre 1.500 y 2.500 c.c.",I12="menos de 10 años"),'TARIFAS MAS RUNT'!$E$28,AND(Z12="Entre 1.500 y 2.500 c.c.",I12="10 o mas años"),'TARIFAS MAS RUNT'!$E$29,AND(Z12="Más de 2.500 c.c.",I12="menos de 10 años"),'TARIFAS MAS RUNT'!$E$30,AND(Z12="Más de 2.500 c.c.",I12="10 o mas años"),'TARIFAS MAS RUNT'!$E$31,TRUE,"Sin Tarifa"),TRUE,"Clase no encontrada")} -> 1121400 | P12: =+_xlfn.XLOOKUP(O12,'[2]ReporteCotizaciones (2)'!$H$2:$H$90,'[2]ReporteCotizaciones (2)'!$F$2:$F$90) -> 736200 | Q12: =+_xlfn.XLOOKUP(O12,Hoja3!$L$3:$L$39,Hoja3!$I$3:$I$39) -> 382800 | R12: 2400 | S12: =+P12+Q12+R12 -> 1121400 | T12: =+O12=S12 -> TRUE | W12: CAMPEROS Y CAMIONETAS | X12: 2477 | Y12: N/A | Z12: =IF(OR(W12="CAMPEROS Y CAMIONETAS",W12="VEHICULOS FAMILIARES",W12="AUTOS NEGOCIO"), IF(X12<1500,"Menos de 1.500 c.c.", IF(X12<=2500,"Entre 1.500 y 2.500 c.c.","Más de 2.500 c.c.")), IF(W12="CARGA O MIXTOS", IF(X12<5000,"Menos de 5 Toneladas", IF(X12<=15000,"Entre 5 y 15 Toneladas","Más de 15 Toneladas")), IF(W12="OFICIALES ESPECIALES", IF(X12<1500,"Menos de 1.500 c.c.", IF(X12<=2500,"Entre 1.500 y 2.500 c.c.","Más de 2.500 c.c.")), IF(OR(W12="VEHICULOS 6 o más pasajeros",W12="AUTOMOVILES FAMILIARES"), IF(X12<1500,"Menos de 1.500 c.c.", IF(X12<2500,"Entre 1.500 y 2.500 c.c.","2.500 o más c.c.")), "")))) -> Entre 1.500 y 2.500 c.c. | AA12: DOBLE CABINA | AB12: 222 | AC12: NIVEL CENTRAL | AD12: 9 | AE12: =+C12=AD12 -> TRUE | AF12: =+_xlfn.XLOOKUP(D12,'[3]SOAT A ADQUIRIR 2025 _2026'!$B$2:$B$106,'[3]SOAT A ADQUIRIR 2025 _2026'!$M$2:$M$106) -> 222 | AG12: =+AB12=AF12 -> TRUE | AH12: =+AI12=O12 -> TRUE | AI12: =+_xlfn.XLOOKUP(AB12,Hoja3!$D$3:$D$39,Hoja3!$L$3:$L$39) -> 1121400
C13: 10 | D13: OBG323 | E13: TERRACAN GL | F13: HYUNDAI | G13: 2007 | H13: =2026-G13 -> 19 | I13: =IF(H13>=10,"10 o mas años","menos de 10 años") -> 10 o mas años | J13: Oficial | K13: 7 | L13: 46386 | M13: =+L13+1 -> 46387 | N13: 46751 | O13: {=_xlfn.IFS(W13="CAMPEROS Y CAMIONETAS",_xlfn.IFS(AND(Z13="Menos de 1.500 c.c.",I13="menos de 10 años"),'TARIFAS MAS RUNT'!$E$14,AND(Z13="Menos de 1.500 c.c.",I13="10 o mas años"),'TARIFAS MAS RUNT'!$E$15,AND(Z13="Entre 1.500 y 2.500 c.c.",I13="menos de 10 años"),'TARIFAS MAS RUNT'!$E$16,AND(Z13="Entre 1.500 y 2.500 c.c.",I13="10 o mas años"),'TARIFAS MAS RUNT'!$E$17,AND(Z13="Más de 2.500 c.c.",I13="menos de 10 años"),'TARIFAS MAS RUNT'!$E$18,AND(Z13="Más de 2.500 c.c.",I13="10 o mas años"),'TARIFAS MAS RUNT'!$E$19,TRUE,"Sin Tarifa"),W13="CARGA O MIXTOS",_xlfn.IFS(Z13="Menos de 5 Toneladas",'TARIFAS MAS RUNT'!$E$20,Z13="Entre 5 y 15 Toneladas",'TARIFAS MAS RUNT'!$E$21,Z13="Más de 15 Toneladas",'TARIFAS MAS RUNT'!$E$22,TRUE,"Sin Tarifa"),W13="OFICIALES ESPECIALES",_xlfn.IFS(Z13="Menos de 1.500 c.c.",'TARIFAS MAS RUNT'!$E$23,Z13="Entre 1.500 y 2.500 c.c.",'TARIFAS MAS RUNT'!$E$24,Z13="Más de 2.500 c.c.",'TARIFAS MAS RUNT'!$E$25,TRUE,"Sin Tarifa"),W13="AUTOMOVILES FAMILIARES",_xlfn.IFS(AND(Z13="Menos de 1.500 c.c.",I13="menos de 10 años"),'TARIFAS MAS RUNT'!$E$26,AND(Z13="Menos de 1.500 c.c.",I13="10 o mas años"),'TARIFAS MAS RUNT'!$E$27,AND(Z13="Entre 1.500 y 2.500 c.c.",I13="menos de 10 años"),'TARIFAS MAS RUNT'!$E$28,AND(Z13="Entre 1.500 y 2.500 c.c.",I13="10 o mas años"),'TARIFAS MAS RUNT'!$E$29,AND(Z13="Más de 2.500 c.c.",I13="menos de 10 años"),'TARIFAS MAS RUNT'!$E$30,AND(Z13="Más de 2.500 c.c.",I13="10 o mas años"),'TARIFAS MAS RUNT'!$E$31,TRUE,"Sin Tarifa"),TRUE,"Clase no encontrada")} -> 1121400 | P13: =+_xlfn.XLOOKUP(O13,'[2]ReporteCotizaciones (2)'!$H$2:$H$90,'[2]ReporteCotizaciones (2)'!$F$2:$F$90) -> 736200 | Q13: =+_xlfn.XLOOKUP(O13,Hoja3!$L$3:$L$39,Hoja3!$I$3:$I$39) -> 382800 | R13: 2400 | S13: =+P13+Q13+R13 -> 1121400 | T13: =+O13=S13 -> TRUE | W13: CAMPEROS Y CAMIONETAS | X13: 2476 | Y13: N/A | Z13: =IF(OR(W13="CAMPEROS Y CAMIONETAS",W13="VEHICULOS FAMILIARES",W13="AUTOS NEGOCIO"), IF(X13<1500,"Menos de 1.500 c.c.", IF(X13<=2500,"Entre 1.500 y 2.500 c.c.","Más de 2.500 c.c.")), IF(W13="CARGA O MIXTOS", IF(X13<5000,"Menos de 5 Toneladas", IF(X13<=15000,"Entre 5 y 15 Toneladas","Más de 15 Toneladas")), IF(W13="OFICIALES ESPECIALES", IF(X13<1500,"Menos de 1.500 c.c.", IF(X13<=2500,"Entre 1.500 y 2.500 c.c.","Más de 2.500 c.c.")), IF(OR(W13="VEHICULOS 6 o más pasajeros",W13="AUTOMOVILES FAMILIARES"), IF(X13<1500,"Menos de 1.500 c.c.", IF(X13<2500,"Entre 1.500 y 2.500 c.c.","2.500 o más c.c.")), "")))) -> Entre 1.500 y 2.500 c.c. | AA13: CABINADO | AB13: 222 | AC13: BOGOTÁ | AD13: 10 | AE13: =+C13=AD13 -> TRUE | AF13: =+_xlfn.XLOOKUP(D13,'[3]SOAT A ADQUIRIR 2025 _2026'!$B$2:$B$106,'[3]SOAT A ADQUIRIR 2025 _2026'!$M$2:$M$106) -> 222 | AG13: =+AB13=AF13 -> TRUE | AH13: =+AI13=O13 -> TRUE | AI13: =+_xlfn.XLOOKUP(AB13,Hoja3!$D$3:$D$39,Hoja3!$L$3:$L$39) -> 1121400
B14: SUR | C14: 11 | D14: OBG529 | E14: OPTRA | F14: CHEVROLET | G14: 2007 | H14: =2026-G14 -> 19 | I14: =IF(H14>=10,"10 o mas años","menos de 10 años") -> 10 o mas años | J14: Oficial | K14: 5 | L14: 46386 | M14: =+L14+1 -> 46387 | N14: 46751 | O14: {=_xlfn.IFS(W14="CAMPEROS Y CAMIONETAS",_xlfn.IFS(AND(Z14="Menos de 1.500 c.c.",I14="menos de 10 años"),'TARIFAS MAS RUNT'!$E$14,AND(Z14="Menos de 1.500 c.c.",I14="10 o mas años"),'TARIFAS MAS RUNT'!$E$15,AND(Z14="Entre 1.500 y 2.500 c.c.",I14="menos de 10 años"),'TARIFAS MAS RUNT'!$E$16,AND(Z14="Entre 1.500 y 2.500 c.c.",I14="10 o mas años"),'TARIFAS MAS RUNT'!$E$17,AND(Z14="Más de 2.500 c.c.",I14="menos de 10 años"),'TARIFAS MAS RUNT'!$E$18,AND(Z14="Más de 2.500 c.c.",I14="10 o mas años"),'TARIFAS MAS RUNT'!$E$19,TRUE,"Sin Tarifa"),W14="CARGA O MIXTOS",_xlfn.IFS(Z14="Menos de 5 Toneladas",'TARIFAS MAS RUNT'!$E$20,Z14="Entre 5 y 15 Toneladas",'TARIFAS MAS RUNT'!$E$21,Z14="Más de 15 Toneladas",'TARIFAS MAS RUNT'!$E$22,TRUE,"Sin Tarifa"),W14="OFICIALES ESPECIALES",_xlfn.IFS(Z14="Menos de 1.500 c.c.",'TARIFAS MAS RUNT'!$E$23,Z14="Entre 1.500 y 2.500 c.c.",'TARIFAS MAS RUNT'!$E$24,Z14="Más de 2.500 c.c.",'TARIFAS MAS RUNT'!$E$25,TRUE,"Sin Tarifa"),W14="AUTOMOVILES FAMILIARES",_xlfn.IFS(AND(Z14="Menos de 1.500 c.c.",I14="menos de 10 años"),'TARIFAS MAS RUNT'!$E$26,AND(Z14="Menos de 1.500 c.c.",I14="10 o mas años"),'TARIFAS MAS RUNT'!$E$27,AND(Z14="Entre 1.500 y 2.500 c.c.",I14="menos de 10 años"),'TARIFAS MAS RUNT'!$E$28,AND(Z14="Entre 1.500 y 2.500 c.c.",I14="10 o mas años"),'TARIFAS MAS RUNT'!$E$29,AND(Z14="Más de 2.500 c.c.",I14="menos de 10 años"),'TARIFAS MAS RUNT'!$E$30,AND(Z14="Más de 2.500 c.c.",I14="10 o mas años"),'TARIFAS MAS RUNT'!$E$31,TRUE,"Sin Tarifa"),TRUE,"Clase no encontrada")} -> 677400 | P14: =+_xlfn.XLOOKUP(O14,'[2]ReporteCotizaciones (2)'!$H$2:$H$90,'[2]ReporteCotizaciones (2)'!$F$2:$F$90) -> 444100 | Q14: =+_xlfn.XLOOKUP(O14,Hoja3!$L$3:$L$39,Hoja3!$I$3:$I$39) -> 230900 | R14: 2400 | S14: =+P14+Q14+R14 -> 677400 | T14: =+O14=S14 -> TRUE | W14: AUTOMOVILES FAMILIARES | X14: 1800 | Y14: N/A | Z14: =IF(OR(W14="CAMPEROS Y CAMIONETAS",W14="VEHICULOS FAMILIARES",W14="AUTOS NEGOCIO"), IF(X14<1500,"Menos de 1.500 c.c.", IF(X14<=2500,"Entre 1.500 y 2.500 c.c.","Más de 2.500 c.c.")), IF(W14="CARGA O MIXTOS", IF(X14<5000,"Menos de 5 Toneladas", IF(X14<=15000,"Entre 5 y 15 Toneladas","Más de 15 Toneladas")), IF(W14="OFICIALES ESPECIALES", IF(X14<1500,"Menos de 1.500 c.c.", IF(X14<=2500,"Entre 1.500 y 2.500 c.c.","Más de 2.500 c.c.")), IF(OR(W14="VEHICULOS 6 o más pasajeros",W14="AUTOMOVILES FAMILIARES"), IF(X14<1500,"Menos de 1.500 c.c.", IF(X14<2500,"Entre 1.500 y 2.500 c.c.","2.500 o más c.c.")), "")))) -> Entre 1.500 y 2.500 c.c. | AA14: SEDAN | AB14: 522 | AC14: NIVEL CENTRAL | AD14: 11 | AE14: =+C14=AD14 -> TRUE | AF14: =+_xlfn.XLOOKUP(D14,'[3]SOAT A ADQUIRIR 2025 _2026'!$B$2:$B$106,'[3]SOAT A ADQUIRIR 2025 _2026'!$M$2:$M$106) -> 522 | AG14: =+AB14=AF14 -> TRUE | AH14: =+AI14=O14 -> TRUE | AI14: =+_xlfn.XLOOKUP(AB14,Hoja3!$D$3:$D$39,Hoja3!$L$3:$L$39) -> 677400
C15: 12 | D15: OBG633 | E15: GRAND VITARA | F15: CHEVROLET | G15: 2007 | H15: =2026-G15 -> 19 | I15: =IF(H15>=10,"10 o mas años","menos de 10 años") -> 10 o mas años | J15: Oficial | K15: 5 | L15: 46386 | M15: =+L15+1 -> 46387 | N15: 46751 | O15: {=_xlfn.IFS(W15="CAMPEROS Y CAMIONETAS",_xlfn.IFS(AND(Z15="Menos de 1.500 c.c.",I15="menos de 10 años"),'TARIFAS MAS RUNT'!$E$14,AND(Z15="Menos de 1.500 c.c.",I15="10 o mas años"),'TARIFAS MAS RUNT'!$E$15,AND(Z15="Entre 1.500 y 2.500 c.c.",I15="menos de 10 años"),'TARIFAS MAS RUNT'!$E$16,AND(Z15="Entre 1.500 y 2.500 c.c.",I15="10 o mas años"),'TARIFAS MAS RUNT'!$E$17,AND(Z15="Más de 2.500 c.c.",I15="menos de 10 años"),'TARIFAS MAS RUNT'!$E$18,AND(Z15="Más de 2.500 c.c.",I15="10 o mas años"),'TARIFAS MAS RUNT'!$E$19,TRUE,"Sin Tarifa"),W15="CARGA O MIXTOS",_xlfn.IFS(Z15="Menos de 5 Toneladas",'TARIFAS MAS RUNT'!$E$20,Z15="Entre 5 y 15 Toneladas",'TARIFAS MAS RUNT'!$E$21,Z15="Más de 15 Toneladas",'TARIFAS MAS RUNT'!$E$22,TRUE,"Sin Tarifa"),W15="OFICIALES ESPECIALES",_xlfn.IFS(Z15="Menos de 1.500 c.c.",'TARIFAS MAS RUNT'!$E$23,Z15="Entre 1.500 y 2.500 c.c.",'TARIFAS MAS RUNT'!$E$24,Z15="Más de 2.500 c.c.",'TARIFAS MAS RUNT'!$E$25,TRUE,"Sin Tarifa"),W15="AUTOMOVILES FAMILIARES",_xlfn.IFS(AND(Z15="Menos de 1.500 c.c.",I15="menos de 10 años"),'TARIFAS MAS RUNT'!$E$26,AND(Z15="Menos de 1.500 c.c.",I15="10 o mas años"),'TARIFAS MAS RUNT'!$E$27,AND(Z15="Entre 1.500 y 2.500 c.c.",I15="menos de 10 años"),'TARIFAS MAS RUNT'!$E$28,AND(Z15="Entre 1.500 y 2.500 c.c.",I15="10 o mas años"),'TARIFAS MAS RUNT'!$E$29,AND(Z15="Más de 2.500 c.c.",I15="menos de 10 años"),'TARIFAS MAS RUNT'!$E$30,AND(Z15="Más de 2.500 c.c.",I15="10 o mas años"),'TARIFAS MAS RUNT'!$E$31,TRUE,"Sin Tarifa"),TRUE,"Clase no encontrada")} -> 1121400 | P15: =+_xlfn.XLOOKUP(O15,'[2]ReporteCotizaciones (2)'!$H$2:$H$90,'[2]ReporteCotizaciones (2)'!$F$2:$F$90) -> 736200 | Q15: =+_xlfn.XLOOKUP(O15,Hoja3!$L$3:$L$39,Hoja3!$I$3:$I$39) -> 382800 | R15: 2400 | S15: =+P15+Q15+R15 -> 1121400 | T15: =+O15=S15 -> TRUE | W15: CAMPEROS Y CAMIONETAS | X15: 2000 | Y15: N/A | Z15: =IF(OR(W15="CAMPEROS Y CAMIONETAS",W15="VEHICULOS FAMILIARES",W15="AUTOS NEGOCIO"), IF(X15<1500,"Menos de 1.500 c.c.", IF(X15<=2500,"Entre 1.500 y 2.500 c.c.","Más de 2.500 c.c.")), IF(W15="CARGA O MIXTOS", IF(X15<5000,"Menos de 5 Toneladas", IF(X15<=15000,"Entre 5 y 15 Toneladas","Más de 15 Toneladas")), IF(W15="OFICIALES ESPECIALES", IF(X15<1500,"Menos de 1.500 c.c.", IF(X15<=2500,"Entre 1.500 y 2.500 c.c.","Más de 2.500 c.c.")), IF(OR(W15="VEHICULOS 6 o más pasajeros",W15="AUTOMOVILES FAMILIARES"), IF(X15<1500,"Menos de 1.500 c.c.", IF(X15<2500,"Entre 1.500 y 2.500 c.c.","2.500 o más c.c.")), "")))) -> Entre 1.500 y 2.500 c.c. | AA15: CABINADO | AB15: 222 | AC15: BOGOTÁ | AD15: 12 | AE15: =+C15=AD15 -> TRUE | AF15: =+_xlfn.XLOOKUP(D15,'[3]SOAT A ADQUIRIR 2025 _2026'!$B$2:$B$106,'[3]SOAT A ADQUIRIR 2025 _2026'!$M$2:$M$106) -> 222 | AG15: =+AB15=AF15 -> TRUE | AH15: =+AI15=O15 -> TRUE | AI15: =+_xlfn.XLOOKUP(AB15,Hoja3!$D$3:$D$39,Hoja3!$L$3:$L$39) -> 1121400
C16: 13 | D16: OBH062 | E16: D21 | F16: NISSAN | G16: 2008 | H16: =2026-G16 -> 18 | I16: =IF(H16>=10,"10 o mas años","menos de 10 años") -> 10 o mas años | J16: Oficial | K16: 5 | L16: 46386 | M16: =+L16+1 -> 46387 | N16: 46751 | O16: {=_xlfn.IFS(W16="CAMPEROS Y CAMIONETAS",_xlfn.IFS(AND(Z16="Menos de 1.500 c.c.",I16="menos de 10 años"),'TARIFAS MAS RUNT'!$E$14,AND(Z16="Menos de 1.500 c.c.",I16="10 o mas años"),'TARIFAS MAS RUNT'!$E$15,AND(Z16="Entre 1.500 y 2.500 c.c.",I16="menos de 10 años"),'TARIFAS MAS RUNT'!$E$16,AND(Z16="Entre 1.500 y 2.500 c.c.",I16="10 o mas años"),'TARIFAS MAS RUNT'!$E$17,AND(Z16="Más de 2.500 c.c.",I16="menos de 10 años"),'TARIFAS MAS RUNT'!$E$18,AND(Z16="Más de 2.500 c.c.",I16="10 o mas años"),'TARIFAS MAS RUNT'!$E$19,TRUE,"Sin Tarifa"),W16="CARGA O MIXTOS",_xlfn.IFS(Z16="Menos de 5 Toneladas",'TARIFAS MAS RUNT'!$E$20,Z16="Entre 5 y 15 Toneladas",'TARIFAS MAS RUNT'!$E$21,Z16="Más de 15 Toneladas",'TARIFAS MAS RUNT'!$E$22,TRUE,"Sin Tarifa"),W16="OFICIALES ESPECIALES",_xlfn.IFS(Z16="Menos de 1.500 c.c.",'TARIFAS MAS RUNT'!$E$23,Z16="Entre 1.500 y 2.500 c.c.",'TARIFAS MAS RUNT'!$E$24,Z16="Más de 2.500 c.c.",'TARIFAS MAS RUNT'!$E$25,TRUE,"Sin Tarifa"),W16="AUTOMOVILES FAMILIARES",_xlfn.IFS(AND(Z16="Menos de 1.500 c.c.",I16="menos de 10 años"),'TARIFAS MAS RUNT'!$E$26,AND(Z16="Menos de 1.500 c.c.",I16="10 o mas años"),'TARIFAS MAS RUNT'!$E$27,AND(Z16="Entre 1.500 y 2.500 c.c.",I16="menos de 10 años"),'TARIFAS MAS RUNT'!$E$28,AND(Z16="Entre 1.500 y 2.500 c.c.",I16="10 o mas años"),'TARIFAS MAS RUNT'!$E$29,AND(Z16="Más de 2.500 c.c.",I16="menos de 10 años"),'TARIFAS MAS RUNT'!$E$30,AND(Z16="Más de 2.500 c.c.",I16="10 o mas años"),'TARIFAS MAS RUNT'!$E$31,TRUE,"Sin Tarifa"),TRUE,"Clase no encontrada")} -> 1121400 | P16: =+_xlfn.XLOOKUP(O16,'[2]ReporteCotizaciones (2)'!$H$2:$H$90,'[2]ReporteCotizaciones (2)'!$F$2:$F$90) -> 736200 | Q16: =+_xlfn.XLOOKUP(O16,Hoja3!$L$3:$L$39,Hoja3!$I$3:$I$39) -> 382800 | R16: 2400 | S16: =+P16+Q16+R16 -> 1121400 | T16: =+O16=S16 -> TRUE | W16: CAMPEROS Y CAMIONETAS | X16: 2400 | Y16: N/A | Z16: =IF(OR(W16="CAMPEROS Y CAMIONETAS",W16="VEHICULOS FAMILIARES",W16="AUTOS NEGOCIO"), IF(X16<1500,"Menos de 1.500 c.c.", IF(X16<=2500,"Entre 1.500 y 2.500 c.c.","Más de 2.500 c.c.")), IF(W16="CARGA O MIXTOS", IF(X16<5000,"Menos de 5 Toneladas", IF(X16<=15000,"Entre 5 y 15 Toneladas","Más de 15 Toneladas")), IF(W16="OFICIALES ESPECIALES", IF(X16<1500,"Menos de 1.500 c.c.", IF(X16<=2500,"Entre 1.500 y 2.500 c.c.","Más de 2.500 c.c.")), IF(OR(W16="VEHICULOS 6 o más pasajeros",W16="AUTOMOVILES FAMILIARES"), IF(X16<1500,"Menos de 1.500 c.c.", IF(X16<2500,"Entre 1.500 y 2.500 c.c.","2.500 o más c.c.")), "")))) -> Entre 1.500 y 2.500 c.c. | AA16: DOBLE CABINA | AB16: 222 | AC16: NORTE | AD16: 13 | AE16: =+C16=AD16 -> TRUE | AF16: =+_xlfn.XLOOKUP(D16,'[3]SOAT A ADQUIRIR 2025 _2026'!$B$2:$B$106,'[3]SOAT A ADQUIRIR 2025 _2026'!$M$2:$M$106) -> 222 | AG16: =+AB16=AF16 -> TRUE | AH16: =+AI16=O16 -> TRUE | AI16: =+_xlfn.XLOOKUP(AB16,Hoja3!$D$3:$D$39,Hoja3!$L$3:$L$39) -> 1121400
C17: 14 | D17: OBH063 | E17: D21 | F17: NISSAN | G17: 2008 | H17: =2026-G17 -> 18 | I17: =IF(H17>=10,"10 o mas años","menos de 10 años") -> 10 o mas años | J17: Oficial | K17: 5 | L17: 46386 | M17: =+L17+1 -> 46387 | N17: 46751 | O17: {=_xlfn.IFS(W17="CAMPEROS Y CAMIONETAS",_xlfn.IFS(AND(Z17="Menos de 1.500 c.c.",I17="menos de 10 años"),'TARIFAS MAS RUNT'!$E$14,AND(Z17="Menos de 1.500 c.c.",I17="10 o mas años"),'TARIFAS MAS RUNT'!$E$15,AND(Z17="Entre 1.500 y 2.500 c.c.",I17="menos de 10 años"),'TARIFAS MAS RUNT'!$E$16,AND(Z17="Entre 1.500 y 2.500 c.c.",I17="10 o mas años"),'TARIFAS MAS RUNT'!$E$17,AND(Z17="Más de 2.500 c.c.",I17="menos de 10 años"),'TARIFAS MAS RUNT'!$E$18,AND(Z17="Más de 2.500 c.c.",I17="10 o mas años"),'TARIFAS MAS RUNT'!$E$19,TRUE,"Sin Tarifa"),W17="CARGA O MIXTOS",_xlfn.IFS(Z17="Menos de 5 Toneladas",'TARIFAS MAS RUNT'!$E$20,Z17="Entre 5 y 15 Toneladas",'TARIFAS MAS RUNT'!$E$21,Z17="Más de 15 Toneladas",'TARIFAS MAS RUNT'!$E$22,TRUE,"Sin Tarifa"),W17="OFICIALES ESPECIALES",_xlfn.IFS(Z17="Menos de 1.500 c.c.",'TARIFAS MAS RUNT'!$E$23,Z17="Entre 1.500 y 2.500 c.c.",'TARIFAS MAS RUNT'!$E$24,Z17="Más de 2.500 c.c.",'TARIFAS MAS RUNT'!$E$25,TRUE,"Sin Tarifa"),W17="AUTOMOVILES FAMILIARES",_xlfn.IFS(AND(Z17="Menos de 1.500 c.c.",I17="menos de 10 años"),'TARIFAS MAS RUNT'!$E$26,AND(Z17="Menos de 1.500 c.c.",I17="10 o mas años"),'TARIFAS MAS RUNT'!$E$27,AND(Z17="Entre 1.500 y 2.500 c.c.",I17="menos de 10 años"),'TARIFAS MAS RUNT'!$E$28,AND(Z17="Entre 1.500 y 2.500 c.c.",I17="10 o mas años"),'TARIFAS MAS RUNT'!$E$29,AND(Z17="Más de 2.500 c.c.",I17="menos de 10 años"),'TARIFAS MAS RUNT'!$E$30,AND(Z17="Más de 2.500 c.c.",I17="10 o mas años"),'TARIFAS MAS RUNT'!$E$31,TRUE,"Sin Tarifa"),TRUE,"Clase no encontrada")} -> 1121400 | P17: =+_xlfn.XLOOKUP(O17,'[2]ReporteCotizaciones (2)'!$H$2:$H$90,'[2]ReporteCotizaciones (2)'!$F$2:$F$90) -> 736200 | Q17: =+_xlfn.XLOOKUP(O17,Hoja3!$L$3:$L$39,Hoja3!$I$3:$I$39) -> 382800 | R17: 2400 | S17: =+P17+Q17+R17 -> 1121400 | T17: =+O17=S17 -> TRUE | W17: CAMPEROS Y CAMIONETAS | X17: 2400 | Y17: N/A | Z17: =IF(OR(W17="CAMPEROS Y CAMIONETAS",W17="VEHICULOS FAMILIARES",W17="AUTOS NEGOCIO"), IF(X17<1500,"Menos de 1.500 c.c.", IF(X17<=2500,"Entre 1.500 y 2.500 c.c.","Más de 2.500 c.c.")), IF(W17="CARGA O MIXTOS", IF(X17<5000,"Menos de 5 Toneladas", IF(X17<=15000,"Entre 5 y 15 Toneladas","Más de 15 Toneladas")), IF(W17="OFICIALES ESPECIALES", IF(X17<1500,"Menos de 1.500 c.c.", IF(X17<=2500,"Entre 1.500 y 2.500 c.c.","Más de 2.500 c.c.")), IF(OR(W17="VEHICULOS 6 o más pasajeros",W17="AUTOMOVILES FAMILIARES"), IF(X17<1500,"Menos de 1.500 c.c.", IF(X17<2500,"Entre 1.500 y 2.500 c.c.","2.500 o más c.c.")), "")))) -> Entre 1.500 y 2.500 c.c. | AA17: DOBLE CABINA | AB17: 222 | AC17: ORIENTE | AD17: 14 | AE17: =+C17=AD17 -> TRUE | AF17: =+_xlfn.XLOOKUP(D17,'[3]SOAT A ADQUIRIR 2025 _2026'!$B$2:$B$106,'[3]SOAT A ADQUIRIR 2025 _2026'!$M$2:$M$106) -> 222 | AG17: =+AB17=AF17 -> TRUE | AH17: =+AI17=O17 -> TRUE | AI17: =+_xlfn.XLOOKUP(AB17,Hoja3!$D$3:$D$39,Hoja3!$L$3:$L$39) -> 1121400
C18: 15 | D18: OBH064 | E18: D21 | F18: NISSAN | G18: 2008 | H18: =2026-G18 -> 18 | I18: =IF(H18>=10,"10 o mas años","menos de 10 años") -> 10 o mas años | J18: Oficial | K18: 5 | L18: 46386 | M18: =+L18+1 -> 46387 | N18: 46751 | O18: {=_xlfn.IFS(W18="CAMPEROS Y CAMIONETAS",_xlfn.IFS(AND(Z18="Menos de 1.500 c.c.",I18="menos de 10 años"),'TARIFAS MAS RUNT'!$E$14,AND(Z18="Menos de 1.500 c.c.",I18="10 o mas años"),'TARIFAS MAS RUNT'!$E$15,AND(Z18="Entre 1.500 y 2.500 c.c.",I18="menos de 10 años"),'TARIFAS MAS RUNT'!$E$16,AND(Z18="Entre 1.500 y 2.500 c.c.",I18="10 o mas años"),'TARIFAS MAS RUNT'!$E$17,AND(Z18="Más de 2.500 c.c.",I18="menos de 10 años"),'TARIFAS MAS RUNT'!$E$18,AND(Z18="Más de 2.500 c.c.",I18="10 o mas años"),'TARIFAS MAS RUNT'!$E$19,TRUE,"Sin Tarifa"),W18="CARGA O MIXTOS",_xlfn.IFS(Z18="Menos de 5 Toneladas",'TARIFAS MAS RUNT'!$E$20,Z18="Entre 5 y 15 Toneladas",'TARIFAS MAS RUNT'!$E$21,Z18="Más de 15 Toneladas",'TARIFAS MAS RUNT'!$E$22,TRUE,"Sin Tarifa"),W18="OFICIALES ESPECIALES",_xlfn.IFS(Z18="Menos de 1.500 c.c.",'TARIFAS MAS RUNT'!$E$23,Z18="Entre 1.500 y 2.500 c.c.",'TARIFAS MAS RUNT'!$E$24,Z18="Más de 2.500 c.c.",'TARIFAS MAS RUNT'!$E$25,TRUE,"Sin Tarifa"),W18="AUTOMOVILES FAMILIARES",_xlfn.IFS(AND(Z18="Menos de 1.500 c.c.",I18="menos de 10 años"),'TARIFAS MAS RUNT'!$E$26,AND(Z18="Menos de 1.500 c.c.",I18="10 o mas años"),'TARIFAS MAS RUNT'!$E$27,AND(Z18="Entre 1.500 y 2.500 c.c.",I18="menos de 10 años"),'TARIFAS MAS RUNT'!$E$28,AND(Z18="Entre 1.500 y 2.500 c.c.",I18="10 o mas años"),'TARIFAS MAS RUNT'!$E$29,AND(Z18="Más de 2.500 c.c.",I18="menos de 10 años"),'TARIFAS MAS RUNT'!$E$30,AND(Z18="Más de 2.500 c.c.",I18="10 o mas años"),'TARIFAS MAS RUNT'!$E$31,TRUE,"Sin Tarifa"),TRUE,"Clase no encontrada")} -> 1121400 | P18: =+_xlfn.XLOOKUP(O18,'[2]ReporteCotizaciones (2)'!$H$2:$H$90,'[2]ReporteCotizaciones (2)'!$F$2:$F$90) -> 736200 | Q18: =+_xlfn.XLOOKUP(O18,Hoja3!$L$3:$L$39,Hoja3!$I$3:$I$39) -> 382800 | R18: 2400 | S18: =+P18+Q18+R18 -> 1121400 | T18: =+O18=S18 -> TRUE | W18: CAMPEROS Y CAMIONETAS | X18: 2400 | Y18: N/A | Z18: =IF(OR(W18="CAMPEROS Y CAMIONETAS",W18="VEHICULOS FAMILIARES",W18="AUTOS NEGOCIO"), IF(X18<1500,"Menos de 1.500 c.c.", IF(X18<=2500,"Entre 1.500 y 2.500 c.c.","Más de 2.500 c.c.")), IF(W18="CARGA O MIXTOS", IF(X18<5000,"Menos de 5 Toneladas", IF(X18<=15000,"Entre 5 y 15 Toneladas","Más de 15 Toneladas")), IF(W18="OFICIALES ESPECIALES", IF(X18<1500,"Menos de 1.500 c.c.", IF(X18<=2500,"Entre 1.500 y 2.500 c.c.","Más de 2.500 c.c.")), IF(OR(W18="VEHICULOS 6 o más pasajeros",W18="AUTOMOVILES FAMILIARES"), IF(X18<1500,"Menos de 1.500 c.c.", IF(X18<2500,"Entre 1.500 y 2.500 c.c.","2.500 o más c.c.")), "")))) -> Entre 1.500 y 2.500 c.c. | AA18: DOBLE CABINA | AB18: 222 | AC18: NORTE | AD18: 15 | AE18: =+C18=AD18 -> TRUE | AF18: =+_xlfn.XLOOKUP(D18,'[3]SOAT A ADQUIRIR 2025 _2026'!$B$2:$B$106,'[3]SOAT A ADQUIRIR 2025 _2026'!$M$2:$M$106) -> 222 | AG18: =+AB18=AF18 -> TRUE | AH18: =+AI18=O18 -> TRUE | AI18: =+_xlfn.XLOOKUP(AB18,Hoja3!$D$3:$D$39,Hoja3!$L$3:$L$39) -> 1121400
C19: 16 | D19: OBH065 | E19: FRONTIER D 22 | F19: NISSAN | G19: 2008 | H19: =2026-G19 -> 18 | I19: =IF(H19>=10,"10 o mas años","menos de 10 años") -> 10 o mas años | J19: Oficial | K19: 5 | L19: 46386 | M19: =+L19+1 -> 46387 | N19: 46751 | O19: {=_xlfn.IFS(W19="CAMPEROS Y CAMIONETAS",_xlfn.IFS(AND(Z19="Menos de 1.500 c.c.",I19="menos de 10 años"),'TARIFAS MAS RUNT'!$E$14,AND(Z19="Menos de 1.500 c.c.",I19="10 o mas años"),'TARIFAS MAS RUNT'!$E$15,AND(Z19="Entre 1.500 y 2.500 c.c.",I19="menos de 10 años"),'TARIFAS MAS RUNT'!$E$16,AND(Z19="Entre 1.500 y 2.500 c.c.",I19="10 o mas años"),'TARIFAS MAS RUNT'!$E$17,AND(Z19="Más de 2.500 c.c.",I19="menos de 10 años"),'TARIFAS MAS RUNT'!$E$18,AND(Z19="Más de 2.500 c.c.",I19="10 o mas años"),'TARIFAS MAS RUNT'!$E$19,TRUE,"Sin Tarifa"),W19="CARGA O MIXTOS",_xlfn.IFS(Z19="Menos de 5 Toneladas",'TARIFAS MAS RUNT'!$E$20,Z19="Entre 5 y 15 Toneladas",'TARIFAS MAS RUNT'!$E$21,Z19="Más de 15 Toneladas",'TARIFAS MAS RUNT'!$E$22,TRUE,"Sin Tarifa"),W19="OFICIALES ESPECIALES",_xlfn.IFS(Z19="Menos de 1.500 c.c.",'TARIFAS MAS RUNT'!$E$23,Z19="Entre 1.500 y 2.500 c.c.",'TARIFAS MAS RUNT'!$E$24,Z19="Más de 2.500 c.c.",'TARIFAS MAS RUNT'!$E$25,TRUE,"Sin Tarifa"),W19="AUTOMOVILES FAMILIARES",_xlfn.IFS(AND(Z19="Menos de 1.500 c.c.",I19="menos de 10 años"),'TARIFAS MAS RUNT'!$E$26,AND(Z19="Menos de 1.500 c.c.",I19="10 o mas años"),'TARIFAS MAS RUNT'!$E$27,AND(Z19="Entre 1.500 y 2.500 c.c.",I19="menos de 10 años"),'TARIFAS MAS RUNT'!$E$28,AND(Z19="Entre 1.500 y 2.500 c.c.",I19="10 o mas años"),'TARIFAS MAS RUNT'!$E$29,AND(Z19="Más de 2.500 c.c.",I19="menos de 10 años"),'TARIFAS MAS RUNT'!$E$30,AND(Z19="Más de 2.500 c.c.",I19="10 o mas años"),'TARIFAS MAS RUNT'!$E$31,TRUE,"Sin Tarifa"),TRUE,"Clase no encontrada")} -> 1121400 | P19: =+_xlfn.XLOOKUP(O19,'[2]ReporteCotizaciones (2)'!$H$2:$H$90,'[2]ReporteCotizaciones (2)'!$F$2:$F$90) -> 736200 | Q19: =+_xlfn.XLOOKUP(O19,Hoja3!$L$3:$L$39,Hoja3!$I$3:$I$39) -> 382800 | R19: 2400 | S19: =+P19+Q19+R19 -> 1121400 | T19: =+O19=S19 -> TRUE | W19: CAMPEROS Y CAMIONETAS | X19: 2400 | Y19: N/A | Z19: =IF(OR(W19="CAMPEROS Y CAMIONETAS",W19="VEHICULOS FAMILIARES",W19="AUTOS NEGOCIO"), IF(X19<1500,"Menos de 1.500 c.c.", IF(X19<=2500,"Entre 1.500 y 2.500 c.c.","Más de 2.500 c.c.")), IF(W19="CARGA O MIXTOS", IF(X19<5000,"Menos de 5 Toneladas", IF(X19<=15000,"Entre 5 y 15 Toneladas","Más de 15 Toneladas")), IF(W19="OFICIALES ESPECIALES", IF(X19<1500,"Menos de 1.500 c.c.", IF(X19<=2500,"Entre 1.500 y 2.500 c.c.","Más de 2.500 c.c.")), IF(OR(W19="VEHICULOS 6 o más pasajeros",W19="AUTOMOVILES FAMILIARES"), IF(X19<1500,"Menos de 1.500 c.c.", IF(X19<2500,"Entre 1.500 y 2.500 c.c.","2.500 o más c.c.")), "")))) -> Entre 1.500 y 2.500 c.c. | AA19: DOBLE CABINA | AB19: 222 | AC19: NIVEL CENTRAL | AD19: 16 | AE19: =+C19=AD19 -> TRUE | AF19: =+_xlfn.XLOOKUP(D19,'[3]SOAT A ADQUIRIR 2025 _2026'!$B$2:$B$106,'[3]SOAT A ADQUIRIR 2025 _2026'!$M$2:$M$106) -> 222 | AG19: =+AB19=AF19 -> TRUE | AH19: =+AI19=O19 -> TRUE | AI19: =+_xlfn.XLOOKUP(AB19,Hoja3!$D$3:$D$39,Hoja3!$L$3:$L$39) -> 1121400
C20: 17 | D20: OBH066 | E20: FRONTIER D 22 | F20: NISSAN | G20: 2008 | H20: =2026-G20 -> 18 | I20: =IF(H20>=10,"10 o mas años","menos de 10 años") -> 10 o mas años | J20: Oficial | K20: 5 | L20: 46386 | M20: =+L20+1 -> 46387 | N20: 46751 | O20: {=_xlfn.IFS(W20="CAMPEROS Y CAMIONETAS",_xlfn.IFS(AND(Z20="Menos de 1.500 c.c.",I20="menos de 10 años"),'TARIFAS MAS RUNT'!$E$14,AND(Z20="Menos de 1.500 c.c.",I20="10 o mas años"),'TARIFAS MAS RUNT'!$E$15,AND(Z20="Entre 1.500 y 2.500 c.c.",I20="menos de 10 años"),'TARIFAS MAS RUNT'!$E$16,AND(Z20="Entre 1.500 y 2.500 c.c.",I20="10 o mas años"),'TARIFAS MAS RUNT'!$E$17,AND(Z20="Más de 2.500 c.c.",I20="menos de 10 años"),'TARIFAS MAS RUNT'!$E$18,AND(Z20="Más de 2.500 c.c.",I20="10 o mas años"),'TARIFAS MAS RUNT'!$E$19,TRUE,"Sin Tarifa"),W20="CARGA O MIXTOS",_xlfn.IFS(Z20="Menos de 5 Toneladas",'TARIFAS MAS RUNT'!$E$20,Z20="Entre 5 y 15 Toneladas",'TARIFAS MAS RUNT'!$E$21,Z20="Más de 15 Toneladas",'TARIFAS MAS RUNT'!$E$22,TRUE,"Sin Tarifa"),W20="OFICIALES ESPECIALES",_xlfn.IFS(Z20="Menos de 1.500 c.c.",'TARIFAS MAS RUNT'!$E$23,Z20="Entre 1.500 y 2.500 c.c.",'TARIFAS MAS RUNT'!$E$24,Z20="Más de 2.500 c.c.",'TARIFAS MAS RUNT'!$E$25,TRUE,"Sin Tarifa"),W20="AUTOMOVILES FAMILIARES",_xlfn.IFS(AND(Z20="Menos de 1.500 c.c.",I20="menos de 10 años"),'TARIFAS MAS RUNT'!$E$26,AND(Z20="Menos de 1.500 c.c.",I20="10 o mas años"),'TARIFAS MAS RUNT'!$E$27,AND(Z20="Entre 1.500 y 2.500 c.c.",I20="menos de 10 años"),'TARIFAS MAS RUNT'!$E$28,AND(Z20="Entre 1.500 y 2.500 c.c.",I20="10 o mas años"),'TARIFAS MAS RUNT'!$E$29,AND(Z20="Más de 2.500 c.c.",I20="menos de 10 años"),'TARIFAS MAS RUNT'!$E$30,AND(Z20="Más de 2.500 c.c.",I20="10 o mas años"),'TARIFAS MAS RUNT'!$E$31,TRUE,"Sin Tarifa"),TRUE,"Clase no encontrada")} -> 1121400 | P20: =+_xlfn.XLOOKUP(O20,'[2]ReporteCotizaciones (2)'!$H$2:$H$90,'[2]ReporteCotizaciones (2)'!$F$2:$F$90) -> 736200 | Q20: =+_xlfn.XLOOKUP(O20,Hoja3!$L$3:$L$39,Hoja3!$I$3:$I$39) -> 382800 | R20: 2400 | S20: =+P20+Q20+R20 -> 1121400 | T20: =+O20=S20 -> TRUE | W20: CAMPEROS Y CAMIONETAS | X20: 2400 | Y20: N/A | Z20: =IF(OR(W20="CAMPEROS Y CAMIONETAS",W20="VEHICULOS FAMILIARES",W20="AUTOS NEGOCIO"), IF(X20<1500,"Menos de 1.500 c.c.", IF(X20<=2500,"Entre 1.500 y 2.500 c.c.","Más de 2.500 c.c.")), IF(W20="CARGA O MIXTOS", IF(X20<5000,"Menos de 5 Toneladas", IF(X20<=15000,"Entre 5 y 15 Toneladas","Más de 15 Toneladas")), IF(W20="OFICIALES ESPECIALES", IF(X20<1500,"Menos de 1.500 c.c.", IF(X20<=2500,"Entre 1.500 y 2.500 c.c.","Más de 2.500 c.c.")), IF(OR(W20="VEHICULOS 6 o más pasajeros",W20="AUTOMOVILES FAMILIARES"), IF(X20<1500,"Menos de 1.500 c.c.", IF(X20<2500,"Entre 1.500 y 2.500 c.c.","2.500 o más c.c.")), "")))) -> Entre 1.500 y 2.500 c.c. | AA20: DOBLE CABINA | AB20: 222 | AC20: NOROCCIDENTE | AD20: 17 | AE20: =+C20=AD20 -> TRUE | AF20: =+_xlfn.XLOOKUP(D20,'[3]SOAT A ADQUIRIR 2025 _2026'!$B$2:$B$106,'[3]SOAT A ADQUIRIR 2025 _2026'!$M$2:$M$106) -> 222 | AG20: =+AB20=AF20 -> TRUE | AH20: =+AI20=O20 -> TRUE | AI20: =+_xlfn.XLOOKUP(AB20,Hoja3!$D$3:$D$39,Hoja3!$L$3:$L$39) -> 1121400
B21: NORORIENTE | C21: 18 | D21: OBH069 | E21: FRONTIER D 22 | F21: NISSAN | G21: 2008 | H21: =2026-G21 -> 18 | I21: =IF(H21>=10,"10 o mas años","menos de 10 años") -> 10 o mas años | J21: Oficial | K21: 5 | L21: 46386 | M21: =+L21+1 -> 46387 | N21: 46751 | O21: {=_xlfn.IFS(W21="CAMPEROS Y CAMIONETAS",_xlfn.IFS(AND(Z21="Menos de 1.500 c.c.",I21="menos de 10 años"),'TARIFAS MAS RUNT'!$E$14,AND(Z21="Menos de 1.500 c.c.",I21="10 o mas años"),'TARIFAS MAS RUNT'!$E$15,AND(Z21="Entre 1.500 y 2.500 c.c.",I21="menos de 10 años"),'TARIFAS MAS RUNT'!$E$16,AND(Z21="Entre 1.500 y 2.500 c.c.",I21="10 o mas años"),'TARIFAS MAS RUNT'!$E$17,AND(Z21="Más de 2.500 c.c.",I21="menos de 10 años"),'TARIFAS MAS RUNT'!$E$18,AND(Z21="Más de 2.500 c.c.",I21="10 o mas años"),'TARIFAS MAS RUNT'!$E$19,TRUE,"Sin Tarifa"),W21="CARGA O MIXTOS",_xlfn.IFS(Z21="Menos de 5 Toneladas",'TARIFAS MAS RUNT'!$E$20,Z21="Entre 5 y 15 Toneladas",'TARIFAS MAS RUNT'!$E$21,Z21="Más de 15 Toneladas",'TARIFAS MAS RUNT'!$E$22,TRUE,"Sin Tarifa"),W21="OFICIALES ESPECIALES",_xlfn.IFS(Z21="Menos de 1.500 c.c.",'TARIFAS MAS RUNT'!$E$23,Z21="Entre 1.500 y 2.500 c.c.",'TARIFAS MAS RUNT'!$E$24,Z21="Más de 2.500 c.c.",'TARIFAS MAS RUNT'!$E$25,TRUE,"Sin Tarifa"),W21="AUTOMOVILES FAMILIARES",_xlfn.IFS(AND(Z21="Menos de 1.500 c.c.",I21="menos de 10 años"),'TARIFAS MAS RUNT'!$E$26,AND(Z21="Menos de 1.500 c.c.",I21="10 o mas años"),'TARIFAS MAS RUNT'!$E$27,AND(Z21="Entre 1.500 y 2.500 c.c.",I21="menos de 10 años"),'TARIFAS MAS RUNT'!$E$28,AND(Z21="Entre 1.500 y 2.500 c.c.",I21="10 o mas años"),'TARIFAS MAS RUNT'!$E$29,AND(Z21="Más de 2.500 c.c.",I21="menos de 10 años"),'TARIFAS MAS RUNT'!$E$30,AND(Z21="Más de 2.500 c.c.",I21="10 o mas años"),'TARIFAS MAS RUNT'!$E$31,TRUE,"Sin Tarifa"),TRUE,"Clase no encontrada")} -> 1121400 | P21: =+_xlfn.XLOOKUP(O21,'[2]ReporteCotizaciones (2)'!$H$2:$H$90,'[2]ReporteCotizaciones (2)'!$F$2:$F$90) -> 736200 | Q21: =+_xlfn.XLOOKUP(O21,Hoja3!$L$3:$L$39,Hoja3!$I$3:$I$39) -> 382800 | R21: 2400 | S21: =+P21+Q21+R21 -> 1121400 | T21: =+O21=S21 -> TRUE | W21: CAMPEROS Y CAMIONETAS | X21: 2400 | Y21: N/A | Z21: =IF(OR(W21="CAMPEROS Y CAMIONETAS",W21="VEHICULOS FAMILIARES",W21="AUTOS NEGOCIO"), IF(X21<1500,"Menos de 1.500 c.c.", IF(X21<=2500,"Entre 1.500 y 2.500 c.c.","Más de 2.500 c.c.")), IF(W21="CARGA O MIXTOS", IF(X21<5000,"Menos de 5 Toneladas", IF(X21<=15000,"Entre 5 y 15 Toneladas","Más de 15 Toneladas")), IF(W21="OFICIALES ESPECIALES", IF(X21<1500,"Menos de 1.500 c.c.", IF(X21<=2500,"Entre 1.500 y 2.500 c.c.","Más de 2.500 c.c.")), IF(OR(W21="VEHICULOS 6 o más pasajeros",W21="AUTOMOVILES FAMILIARES"), IF(X21<1500,"Menos de 1.500 c.c.", IF(X21<2500,"Entre 1.500 y 2.500 c.c.","2.500 o más c.c.")), "")))) -> Entre 1.500 y 2.500 c.c. | AA21: DOBLE CABINA | AB21: 222 | AC21: NOROCCIDENTE | AD21: 18 | AE21: =+C21=AD21 -> TRUE | AF21: =+_xlfn.XLOOKUP(D21,'[3]SOAT A ADQUIRIR 2025 _2026'!$B$2:$B$106,'[3]SOAT A ADQUIRIR 2025 _2026'!$M$2:$M$106) -> 222 | AG21: =+AB21=AF21 -> TRUE | AH21: =+AI21=O21 -> TRUE | AI21: =+_xlfn.XLOOKUP(AB21,Hoja3!$D$3:$D$39,Hoja3!$L$3:$L$39) -> 1121400
C22: 19 | D22: OBH082 | E22: FRONTIER D 22 | F22: NISSAN | G22: 2008 | H22: =2026-G22 -> 18 | I22: =IF(H22>=10,"10 o mas años","menos de 10 años") -> 10 o mas años | J22: Oficial | K22: 5 | L22: 46386 | M22: =+L22+1 -> 46387 | N22: 46751 | O22: {=_xlfn.IFS(W22="CAMPEROS Y CAMIONETAS",_xlfn.IFS(AND(Z22="Menos de 1.500 c.c.",I22="menos de 10 años"),'TARIFAS MAS RUNT'!$E$14,AND(Z22="Menos de 1.500 c.c.",I22="10 o mas años"),'TARIFAS MAS RUNT'!$E$15,AND(Z22="Entre 1.500 y 2.500 c.c.",I22="menos de 10 años"),'TARIFAS MAS RUNT'!$E$16,AND(Z22="Entre 1.500 y 2.500 c.c.",I22="10 o mas años"),'TARIFAS MAS RUNT'!$E$17,AND(Z22="Más de 2.500 c.c.",I22="menos de 10 años"),'TARIFAS MAS RUNT'!$E$18,AND(Z22="Más de 2.500 c.c.",I22="10 o mas años"),'TARIFAS MAS RUNT'!$E$19,TRUE,"Sin Tarifa"),W22="CARGA O MIXTOS",_xlfn.IFS(Z22="Menos de 5 Toneladas",'TARIFAS MAS RUNT'!$E$20,Z22="Entre 5 y 15 Toneladas",'TARIFAS MAS RUNT'!$E$21,Z22="Más de 15 Toneladas",'TARIFAS MAS RUNT'!$E$22,TRUE,"Sin Tarifa"),W22="OFICIALES ESPECIALES",_xlfn.IFS(Z22="Menos de 1.500 c.c.",'TARIFAS MAS RUNT'!$E$23,Z22="Entre 1.500 y 2.500 c.c.",'TARIFAS MAS RUNT'!$E$24,Z22="Más de 2.500 c.c.",'TARIFAS MAS RUNT'!$E$25,TRUE,"Sin Tarifa"),W22="AUTOMOVILES FAMILIARES",_xlfn.IFS(AND(Z22="Menos de 1.500 c.c.",I22="menos de 10 años"),'TARIFAS MAS RUNT'!$E$26,AND(Z22="Menos de 1.500 c.c.",I22="10 o mas años"),'TARIFAS MAS RUNT'!$E$27,AND(Z22="Entre 1.500 y 2.500 c.c.",I22="menos de 10 años"),'TARIFAS MAS RUNT'!$E$28,AND(Z22="Entre 1.500 y 2.500 c.c.",I22="10 o mas años"),'TARIFAS MAS RUNT'!$E$29,AND(Z22="Más de 2.500 c.c.",I22="menos de 10 años"),'TARIFAS MAS RUNT'!$E$30,AND(Z22="Más de 2.500 c.c.",I22="10 o mas años"),'TARIFAS MAS RUNT'!$E$31,TRUE,"Sin Tarifa"),TRUE,"Clase no encontrada")} -> 1121400 | P22: =+_xlfn.XLOOKUP(O22,'[2]ReporteCotizaciones (2)'!$H$2:$H$90,'[2]ReporteCotizaciones (2)'!$F$2:$F$90) -> 736200 | Q22: =+_xlfn.XLOOKUP(O22,Hoja3!$L$3:$L$39,Hoja3!$I$3:$I$39) -> 382800 | R22: 2400 | S22: =+P22+Q22+R22 -> 1121400 | T22: =+O22=S22 -> TRUE | W22: CAMPEROS Y CAMIONETAS | X22: 2400 | Y22: N/A | Z22: =IF(OR(W22="CAMPEROS Y CAMIONETAS",W22="VEHICULOS FAMILIARES",W22="AUTOS NEGOCIO"), IF(X22<1500,"Menos de 1.500 c.c.", IF(X22<=2500,"Entre 1.500 y 2.500 c.c.","Más de 2.500 c.c.")), IF(W22="CARGA O MIXTOS", IF(X22<5000,"Menos de 5 Toneladas", IF(X22<=15000,"Entre 5 y 15 Toneladas","Más de 15 Toneladas")), IF(W22="OFICIALES ESPECIALES", IF(X22<1500,"Menos de 1.500 c.c.", IF(X22<=2500,"Entre 1.500 y 2.500 c.c.","Más de 2.500 c.c.")), IF(OR(W22="VEHICULOS 6 o más pasajeros",W22="AUTOMOVILES FAMILIARES"), IF(X22<1500,"Menos de 1.500 c.c.", IF(X22<2500,"Entre 1.500 y 2.500 c.c.","2.500 o más c.c.")), "")))) -> Entre 1.500 y 2.500 c.c. | AA22: DOBLE CABINA | AB22: 222 | AC22: OCCIDENTE | AD22: 19 | AE22: =+C22=AD22 -> TRUE | AF22: =+_xlfn.XLOOKUP(D22,'[3]SOAT A ADQUIRIR 2025 _2026'!$B$2:$B$106,'[3]SOAT A ADQUIRIR 2025 _2026'!$M$2:$M$106) -> 222 | AG22: =+AB22=AF22 -> TRUE | AH22: =+AI22=O22 -> TRUE | AI22: =+_xlfn.XLOOKUP(AB22,Hoja3!$D$3:$D$39,Hoja3!$L$3:$L$39) -> 1121400
C23: 20 | D23: OBH083 | E23: FRONTIER D22 | F23: NISSAN | G23: 2008 | H23: =2026-G23 -> 18 | I23: =IF(H23>=10,"10 o mas años","menos de 10 años") -> 10 o mas años | J23: Oficial | K23: 5 | L23: 46386 | M23: =+L23+1 -> 46387 | N23: 46751 | O23: {=_xlfn.IFS(W23="CAMPEROS Y CAMIONETAS",_xlfn.IFS(AND(Z23="Menos de 1.500 c.c.",I23="menos de 10 años"),'TARIFAS MAS RUNT'!$E$14,AND(Z23="Menos de 1.500 c.c.",I23="10 o mas años"),'TARIFAS MAS RUNT'!$E$15,AND(Z23="Entre 1.500 y 2.500 c.c.",I23="menos de 10 años"),'TARIFAS MAS RUNT'!$E$16,AND(Z23="Entre 1.500 y 2.500 c.c.",I23="10 o mas años"),'TARIFAS MAS RUNT'!$E$17,AND(Z23="Más de 2.500 c.c.",I23="menos de 10 años"),'TARIFAS MAS RUNT'!$E$18,AND(Z23="Más de 2.500 c.c.",I23="10 o mas años"),'TARIFAS MAS RUNT'!$E$19,TRUE,"Sin Tarifa"),W23="CARGA O MIXTOS",_xlfn.IFS(Z23="Menos de 5 Toneladas",'TARIFAS MAS RUNT'!$E$20,Z23="Entre 5 y 15 Toneladas",'TARIFAS MAS RUNT'!$E$21,Z23="Más de 15 Toneladas",'TARIFAS MAS RUNT'!$E$22,TRUE,"Sin Tarifa"),W23="OFICIALES ESPECIALES",_xlfn.IFS(Z23="Menos de 1.500 c.c.",'TARIFAS MAS RUNT'!$E$23,Z23="Entre 1.500 y 2.500 c.c.",'TARIFAS MAS RUNT'!$E$24,Z23="Más de 2.500 c.c.",'TARIFAS MAS RUNT'!$E$25,TRUE,"Sin Tarifa"),W23="AUTOMOVILES FAMILIARES",_xlfn.IFS(AND(Z23="Menos de 1.500 c.c.",I23="menos de 10 años"),'TARIFAS MAS RUNT'!$E$26,AND(Z23="Menos de 1.500 c.c.",I23="10 o mas años"),'TARIFAS MAS RUNT'!$E$27,AND(Z23="Entre 1.500 y 2.500 c.c.",I23="menos de 10 años"),'TARIFAS MAS RUNT'!$E$28,AND(Z23="Entre 1.500 y 2.500 c.c.",I23="10 o mas años"),'TARIFAS MAS RUNT'!$E$29,AND(Z23="Más de 2.500 c.c.",I23="menos de 10 años"),'TARIFAS MAS RUNT'!$E$30,AND(Z23="Más de 2.500 c.c.",I23="10 o mas años"),'TARIFAS MAS RUNT'!$E$31,TRUE,"Sin Tarifa"),TRUE,"Clase no encontrada")} -> 1121400 | P23: =+_xlfn.XLOOKUP(O23,'[2]ReporteCotizaciones (2)'!$H$2:$H$90,'[2]ReporteCotizaciones (2)'!$F$2:$F$90) -> 736200 | Q23: =+_xlfn.XLOOKUP(O23,Hoja3!$L$3:$L$39,Hoja3!$I$3:$I$39) -> 382800 | R23: 2400 | S23: =+P23+Q23+R23 -> 1121400 | T23: =+O23=S23 -> TRUE | W23: CAMPEROS Y CAMIONETAS | X23: 2400 | Y23: N/A | Z23: =IF(OR(W23="CAMPEROS Y CAMIONETAS",W23="VEHICULOS FAMILIARES",W23="AUTOS NEGOCIO"), IF(X23<1500,"Menos de 1.500 c.c.", IF(X23<=2500,"Entre 1.500 y 2.500 c.c.","Más de 2.500 c.c.")), IF(W23="CARGA O MIXTOS", IF(X23<5000,"Menos de 5 Toneladas", IF(X23<=15000,"Entre 5 y 15 Toneladas","Más de 15 Toneladas")), IF(W23="OFICIALES ESPECIALES", IF(X23<1500,"Menos de 1.500 c.c.", IF(X23<=2500,"Entre 1.500 y 2.500 c.c.","Más de 2.500 c.c.")), IF(OR(W23="VEHICULOS 6 o más pasajeros",W23="AUTOMOVILES FAMILIARES"), IF(X23<1500,"Menos de 1.500 c.c.", IF(X23<2500,"Entre 1.500 y 2.500 c.c.","2.500 o más c.c.")), "")))) -> Entre 1.500 y 2.500 c.c. | AA23: DOBLE CABINA | AB23: 222 | AC23: SUROCCIDENTE | AD23: 20 | AE23: =+C23=AD23 -> TRUE | AF23: =+_xlfn.XLOOKUP(D23,'[3]SOAT A ADQUIRIR 2025 _2026'!$B$2:$B$106,'[3]SOAT A ADQUIRIR 2025 _2026'!$M$2:$M$106) -> 222 | AG23: =+AB23=AF23 -> TRUE | AH23: =+AI23=O23 -> TRUE | AI23: =+_xlfn.XLOOKUP(AB23,Hoja3!$D$3:$D$39,Hoja3!$L$3:$L$39) -> 1121400
C24: 21 | D24: OBH084 | E24: FRONTIER D22 | F24: NISSAN | G24: 2008 | H24: =2026-G24 -> 18 | I24: =IF(H24>=10,"10 o mas años","menos de 10 años") -> 10 o mas años | J24: Oficial | K24: 5 | L24: 46386 | M24: =+L24+1 -> 46387 | N24: 46751 | O24: {=_xlfn.IFS(W24="CAMPEROS Y CAMIONETAS",_xlfn.IFS(AND(Z24="Menos de 1.500 c.c.",I24="menos de 10 años"),'TARIFAS MAS RUNT'!$E$14,AND(Z24="Menos de 1.500 c.c.",I24="10 o mas años"),'TARIFAS MAS RUNT'!$E$15,AND(Z24="Entre 1.500 y 2.500 c.c.",I24="menos de 10 años"),'TARIFAS MAS RUNT'!$E$16,AND(Z24="Entre 1.500 y 2.500 c.c.",I24="10 o mas años"),'TARIFAS MAS RUNT'!$E$17,AND(Z24="Más de 2.500 c.c.",I24="menos de 10 años"),'TARIFAS MAS RUNT'!$E$18,AND(Z24="Más de 2.500 c.c.",I24="10 o mas años"),'TARIFAS MAS RUNT'!$E$19,TRUE,"Sin Tarifa"),W24="CARGA O MIXTOS",_xlfn.IFS(Z24="Menos de 5 Toneladas",'TARIFAS MAS RUNT'!$E$20,Z24="Entre 5 y 15 Toneladas",'TARIFAS MAS RUNT'!$E$21,Z24="Más de 15 Toneladas",'TARIFAS MAS RUNT'!$E$22,TRUE,"Sin Tarifa"),W24="OFICIALES ESPECIALES",_xlfn.IFS(Z24="Menos de 1.500 c.c.",'TARIFAS MAS RUNT'!$E$23,Z24="Entre 1.500 y 2.500 c.c.",'TARIFAS MAS RUNT'!$E$24,Z24="Más de 2.500 c.c.",'TARIFAS MAS RUNT'!$E$25,TRUE,"Sin Tarifa"),W24="AUTOMOVILES FAMILIARES",_xlfn.IFS(AND(Z24="Menos de 1.500 c.c.",I24="menos de 10 años"),'TARIFAS MAS RUNT'!$E$26,AND(Z24="Menos de 1.500 c.c.",I24="10 o mas años"),'TARIFAS MAS RUNT'!$E$27,AND(Z24="Entre 1.500 y 2.500 c.c.",I24="menos de 10 años"),'TARIFAS MAS RUNT'!$E$28,AND(Z24="Entre 1.500 y 2.500 c.c.",I24="10 o mas años"),'TARIFAS MAS RUNT'!$E$29,AND(Z24="Más de 2.500 c.c.",I24="menos de 10 años"),'TARIFAS MAS RUNT'!$E$30,AND(Z24="Más de 2.500 c.c.",I24="10 o mas años"),'TARIFAS MAS RUNT'!$E$31,TRUE,"Sin Tarifa"),TRUE,"Clase no encontrada")} -> 1121400 | P24: =+_xlfn.XLOOKUP(O24,'[2]ReporteCotizaciones (2)'!$H$2:$H$90,'[2]ReporteCotizaciones (2)'!$F$2:$F$90) -> 736200 | Q24: =+_xlfn.XLOOKUP(O24,Hoja3!$L$3:$L$39,Hoja3!$I$3:$I$39) -> 382800 | R24: 2400 | S24: =+P24+Q24+R24 -> 1121400 | T24: =+O24=S24 -> TRUE | W24: CAMPEROS Y CAMIONETAS | X24: 2400 | Y24: N/A | Z24: =IF(OR(W24="CAMPEROS Y CAMIONETAS",W24="VEHICULOS FAMILIARES",W24="AUTOS NEGOCIO"), IF(X24<1500,"Menos de 1.500 c.c.", IF(X24<=2500,"Entre 1.500 y 2.500 c.c.","Más de 2.500 c.c.")), IF(W24="CARGA O MIXTOS", IF(X24<5000,"Menos de 5 Toneladas", IF(X24<=15000,"Entre 5 y 15 Toneladas","Más de 15 Toneladas")), IF(W24="OFICIALES ESPECIALES", IF(X24<1500,"Menos de 1.500 c.c.", IF(X24<=2500,"Entre 1.500 y 2.500 c.c.","Más de 2.500 c.c.")), IF(OR(W24="VEHICULOS 6 o más pasajeros",W24="AUTOMOVILES FAMILIARES"), IF(X24<1500,"Menos de 1.500 c.c.", IF(X24<2500,"Entre 1.500 y 2.500 c.c.","2.500 o más c.c.")), "")))) -> Entre 1.500 y 2.500 c.c. | AA24: DOBLE CABINA | AB24: 222 | AC24: SUR | AD24: 21 | AE24: =+C24=AD24 -> TRUE | AF24: =+_xlfn.XLOOKUP(D24,'[3]SOAT A ADQUIRIR 2025 _2026'!$B$2:$B$106,'[3]SOAT A ADQUIRIR 2025 _2026'!$M$2:$M$106) -> 222 | AG24: =+AB24=AF24 -> TRUE | AH24: =+AI24=O24 -> TRUE | AI24: =+_xlfn.XLOOKUP(AB24,Hoja3!$D$3:$D$39,Hoja3!$L$3:$L$39) -> 1121400
C25: 22 | D25: OBH289 | E25: FRONTIER D22 | F25: NISSAN | G25: 2009 | H25: =2026-G25 -> 17 | I25: =IF(H25>=10,"10 o mas años","menos de 10 años") -> 10 o mas años | J25: Oficial | K25: 5 | L25: 46386 | M25: =+L25+1 -> 46387 | N25: 46751 | O25: {=_xlfn.IFS(W25="CAMPEROS Y CAMIONETAS",_xlfn.IFS(AND(Z25="Menos de 1.500 c.c.",I25="menos de 10 años"),'TARIFAS MAS RUNT'!$E$14,AND(Z25="Menos de 1.500 c.c.",I25="10 o mas años"),'TARIFAS MAS RUNT'!$E$15,AND(Z25="Entre 1.500 y 2.500 c.c.",I25="menos de 10 años"),'TARIFAS MAS RUNT'!$E$16,AND(Z25="Entre 1.500 y 2.500 c.c.",I25="10 o mas años"),'TARIFAS MAS RUNT'!$E$17,AND(Z25="Más de 2.500 c.c.",I25="menos de 10 años"),'TARIFAS MAS RUNT'!$E$18,AND(Z25="Más de 2.500 c.c.",I25="10 o mas años"),'TARIFAS MAS RUNT'!$E$19,TRUE,"Sin Tarifa"),W25="CARGA O MIXTOS",_xlfn.IFS(Z25="Menos de 5 Toneladas",'TARIFAS MAS RUNT'!$E$20,Z25="Entre 5 y 15 Toneladas",'TARIFAS MAS RUNT'!$E$21,Z25="Más de 15 Toneladas",'TARIFAS MAS RUNT'!$E$22,TRUE,"Sin Tarifa"),W25="OFICIALES ESPECIALES",_xlfn.IFS(Z25="Menos de 1.500 c.c.",'TARIFAS MAS RUNT'!$E$23,Z25="Entre 1.500 y 2.500 c.c.",'TARIFAS MAS RUNT'!$E$24,Z25="Más de 2.500 c.c.",'TARIFAS MAS RUNT'!$E$25,TRUE,"Sin Tarifa"),W25="AUTOMOVILES FAMILIARES",_xlfn.IFS(AND(Z25="Menos de 1.500 c.c.",I25="menos de 10 años"),'TARIFAS MAS RUNT'!$E$26,AND(Z25="Menos de 1.500 c.c.",I25="10 o mas años"),'TARIFAS MAS RUNT'!$E$27,AND(Z25="Entre 1.500 y 2.500 c.c.",I25="menos de 10 años"),'TARIFAS MAS RUNT'!$E$28,AND(Z25="Entre 1.500 y 2.500 c.c.",I25="10 o mas años"),'TARIFAS MAS RUNT'!$E$29,AND(Z25="Más de 2.500 c.c.",I25="menos de 10 años"),'TARIFAS MAS RUNT'!$E$30,AND(Z25="Más de 2.500 c.c.",I25="10 o mas años"),'TARIFAS MAS RUNT'!$E$31,TRUE,"Sin Tarifa"),TRUE,"Clase no encontrada")} -> 1121400 | P25: =+_xlfn.XLOOKUP(O25,'[2]ReporteCotizaciones (2)'!$H$2:$H$90,'[2]ReporteCotizaciones (2)'!$F$2:$F$90) -> 736200 | Q25: =+_xlfn.XLOOKUP(O25,Hoja3!$L$3:$L$39,Hoja3!$I$3:$I$39) -> 382800 | R25: 2400 | S25: =+P25+Q25+R25 -> 1121400 | T25: =+O25=S25 -> TRUE | W25: CAMPEROS Y CAMIONETAS | X25: 2400 | Y25: N/A | Z25: =IF(OR(W25="CAMPEROS Y CAMIONETAS",W25="VEHICULOS FAMILIARES",W25="AUTOS NEGOCIO"), IF(X25<1500,"Menos de 1.500 c.c.", IF(X25<=2500,"Entre 1.500 y 2.500 c.c.","Más de 2.500 c.c.")), IF(W25="CARGA O MIXTOS", IF(X25<5000,"Menos de 5 Toneladas", IF(X25<=15000,"Entre 5 y 15 Toneladas","Más de 15 Toneladas")), IF(W25="OFICIALES ESPECIALES", IF(X25<1500,"Menos de 1.500 c.c.", IF(X25<=2500,"Entre 1.500 y 2.500 c.c.","Más de 2.500 c.c.")), IF(OR(W25="VEHICULOS 6 o más pasajeros",W25="AUTOMOVILES FAMILIARES"), IF(X25<1500,"Menos de 1.500 c.c.", IF(X25<2500,"Entre 1.500 y 2.500 c.c.","2.500 o más c.c.")), "")))) -> Entre 1.500 y 2.500 c.c. | AA25: DOBLE CABINA | AB25: 222 | AC25: NORORIENTE | AD25: 22 | AE25: =+C25=AD25 -> TRUE | AF25: =+_xlfn.XLOOKUP(D25,'[3]SOAT A ADQUIRIR 2025 _2026'!$B$2:$B$106,'[3]SOAT A ADQUIRIR 2025 _2026'!$M$2:$M$106) -> 222 | AG25: =+AB25=AF25 -> TRUE | AH25: =+AI25=O25 -> TRUE | AI25: =+_xlfn.XLOOKUP(AB25,Hoja3!$D$3:$D$39,Hoja3!$L$3:$L$39) -> 1121400
C26: 23 | D26: OBH290 | E26: FRONTIER D 22 | F26: NISSAN | G26: 2009 | H26: =2026-G26 -> 17 | I26: =IF(H26>=10,"10 o mas años","menos de 10 años") -> 10 o mas años | J26: Oficial | K26: 5 | L26: 46386 | M26: =+L26+1 -> 46387 | N26: 46751 | O26: {=_xlfn.IFS(W26="CAMPEROS Y CAMIONETAS",_xlfn.IFS(AND(Z26="Menos de 1.500 c.c.",I26="menos de 10 años"),'TARIFAS MAS RUNT'!$E$14,AND(Z26="Menos de 1.500 c.c.",I26="10 o mas años"),'TARIFAS MAS RUNT'!$E$15,AND(Z26="Entre 1.500 y 2.500 c.c.",I26="menos de 10 años"),'TARIFAS MAS RUNT'!$E$16,AND(Z26="Entre 1.500 y 2.500 c.c.",I26="10 o mas años"),'TARIFAS MAS RUNT'!$E$17,AND(Z26="Más de 2.500 c.c.",I26="menos de 10 años"),'TARIFAS MAS RUNT'!$E$18,AND(Z26="Más de 2.500 c.c.",I26="10 o mas años"),'TARIFAS MAS RUNT'!$E$19,TRUE,"Sin Tarifa"),W26="CARGA O MIXTOS",_xlfn.IFS(Z26="Menos de 5 Toneladas",'TARIFAS MAS RUNT'!$E$20,Z26="Entre 5 y 15 Toneladas",'TARIFAS MAS RUNT'!$E$21,Z26="Más de 15 Toneladas",'TARIFAS MAS RUNT'!$E$22,TRUE,"Sin Tarifa"),W26="OFICIALES ESPECIALES",_xlfn.IFS(Z26="Menos de 1.500 c.c.",'TARIFAS MAS RUNT'!$E$23,Z26="Entre 1.500 y 2.500 c.c.",'TARIFAS MAS RUNT'!$E$24,Z26="Más de 2.500 c.c.",'TARIFAS MAS RUNT'!$E$25,TRUE,"Sin Tarifa"),W26="AUTOMOVILES FAMILIARES",_xlfn.IFS(AND(Z26="Menos de 1.500 c.c.",I26="menos de 10 años"),'TARIFAS MAS RUNT'!$E$26,AND(Z26="Menos de 1.500 c.c.",I26="10 o mas años"),'TARIFAS MAS RUNT'!$E$27,AND(Z26="Entre 1.500 y 2.500 c.c.",I26="menos de 10 años"),'TARIFAS MAS RUNT'!$E$28,AND(Z26="Entre 1.500 y 2.500 c.c.",I26="10 o mas años"),'TARIFAS MAS RUNT'!$E$29,AND(Z26="Más de 2.500 c.c.",I26="menos de 10 años"),'TARIFAS MAS RUNT'!$E$30,AND(Z26="Más de 2.500 c.c.",I26="10 o mas años"),'TARIFAS MAS RUNT'!$E$31,TRUE,"Sin Tarifa"),TRUE,"Clase no encontrada")} -> 1121400 | P26: =+_xlfn.XLOOKUP(O26,'[2]ReporteCotizaciones (2)'!$H$2:$H$90,'[2]ReporteCotizaciones (2)'!$F$2:$F$90) -> 736200 | Q26: =+_xlfn.XLOOKUP(O26,Hoja3!$L$3:$L$39,Hoja3!$I$3:$I$39) -> 382800 | R26: 2400 | S26: =+P26+Q26+R26 -> 1121400 | T26: =+O26=S26 -> TRUE | W26: CAMPEROS Y CAMIONETAS | X26: 2400 | Y26: N/A | Z26: =IF(OR(W26="CAMPEROS Y CAMIONETAS",W26="VEHICULOS FAMILIARES",W26="AUTOS NEGOCIO"), IF(X26<1500,"Menos de 1.500 c.c.", IF(X26<=2500,"Entre 1.500 y 2.500 c.c.","Más de 2.500 c.c.")), IF(W26="CARGA O MIXTOS", IF(X26<5000,"Menos de 5 Toneladas", IF(X26<=15000,"Entre 5 y 15 Toneladas","Más de 15 Toneladas")), IF(W26="OFICIALES ESPECIALES", IF(X26<1500,"Menos de 1.500 c.c.", IF(X26<=2500,"Entre 1.500 y 2.500 c.c.","Más de 2.500 c.c.")), IF(OR(W26="VEHICULOS 6 o más pasajeros",W26="AUTOMOVILES FAMILIARES"), IF(X26<1500,"Menos de 1.500 c.c.", IF(X26<2500,"Entre 1.500 y 2.500 c.c.","2.500 o más c.c.")), "")))) -> Entre 1.500 y 2.500 c.c. | AA26: DOBLE CABINA | AB26: 222 | AC26: NORTE | AD26: 23 | AE26: =+C26=AD26 -> TRUE | AF26: =+_xlfn.XLOOKUP(D26,'[3]SOAT A ADQUIRIR 2025 _2026'!$B$2:$B$106,'[3]SOAT A ADQUIRIR 2025 _2026'!$M$2:$M$106) -> 222 | AG26: =+AB26=AF26 -> TRUE | AH26: =+AI26=O26 -> TRUE | AI26: =+_xlfn.XLOOKUP(AB26,Hoja3!$D$3:$D$39,Hoja3!$L$3:$L$39) -> 1121400
C27: 24 | D27: OBH291 | E27: FRONTIER D 22 | F27: NISSAN | G27: 2009 | H27: =2026-G27 -> 17 | I27: =IF(H27>=10,"10 o mas años","menos de 10 años") -> 10 o mas años | J27: Oficial | K27: 5 | L27: 46386 | M27: =+L27+1 -> 46387 | N27: 46751 | O27: {=_xlfn.IFS(W27="CAMPEROS Y CAMIONETAS",_xlfn.IFS(AND(Z27="Menos de 1.500 c.c.",I27="menos de 10 años"),'TARIFAS MAS RUNT'!$E$14,AND(Z27="Menos de 1.500 c.c.",I27="10 o mas años"),'TARIFAS MAS RUNT'!$E$15,AND(Z27="Entre 1.500 y 2.500 c.c.",I27="menos de 10 años"),'TARIFAS MAS RUNT'!$E$16,AND(Z27="Entre 1.500 y 2.500 c.c.",I27="10 o mas años"),'TARIFAS MAS RUNT'!$E$17,AND(Z27="Más de 2.500 c.c.",I27="menos de 10 años"),'TARIFAS MAS RUNT'!$E$18,AND(Z27="Más de 2.500 c.c.",I27="10 o mas años"),'TARIFAS MAS RUNT'!$E$19,TRUE,"Sin Tarifa"),W27="CARGA O MIXTOS",_xlfn.IFS(Z27="Menos de 5 Toneladas",'TARIFAS MAS RUNT'!$E$20,Z27="Entre 5 y 15 Toneladas",'TARIFAS MAS RUNT'!$E$21,Z27="Más de 15 Toneladas",'TARIFAS MAS RUNT'!$E$22,TRUE,"Sin Tarifa"),W27="OFICIALES ESPECIALES",_xlfn.IFS(Z27="Menos de 1.500 c.c.",'TARIFAS MAS RUNT'!$E$23,Z27="Entre 1.500 y 2.500 c.c.",'TARIFAS MAS RUNT'!$E$24,Z27="Más de 2.500 c.c.",'TARIFAS MAS RUNT'!$E$25,TRUE,"Sin Tarifa"),W27="AUTOMOVILES FAMILIARES",_xlfn.IFS(AND(Z27="Menos de 1.500 c.c.",I27="menos de 10 años"),'TARIFAS MAS RUNT'!$E$26,AND(Z27="Menos de 1.500 c.c.",I27="10 o mas años"),'TARIFAS MAS RUNT'!$E$27,AND(Z27="Entre 1.500 y 2.500 c.c.",I27="menos de 10 años"),'TARIFAS MAS RUNT'!$E$28,AND(Z27="Entre 1.500 y 2.500 c.c.",I27="10 o mas años"),'TARIFAS MAS RUNT'!$E$29,AND(Z27="Más de 2.500 c.c.",I27="menos de 10 años"),'TARIFAS MAS RUNT'!$E$30,AND(Z27="Más de 2.500 c.c.",I27="10 o mas años"),'TARIFAS MAS RUNT'!$E$31,TRUE,"Sin Tarifa"),TRUE,"Clase no encontrada")} -> 1121400 | P27: =+_xlfn.XLOOKUP(O27,'[2]ReporteCotizaciones (2)'!$H$2:$H$90,'[2]ReporteCotizaciones (2)'!$F$2:$F$90) -> 736200 | Q27: =+_xlfn.XLOOKUP(O27,Hoja3!$L$3:$L$39,Hoja3!$I$3:$I$39) -> 382800 | R27: 2400 | S27: =+P27+Q27+R27 -> 1121400 | T27: =+O27=S27 -> TRUE | W27: CAMPEROS Y CAMIONETAS | X27: 2400 | Y27: N/A | Z27: =IF(OR(W27="CAMPEROS Y CAMIONETAS",W27="VEHICULOS FAMILIARES",W27="AUTOS NEGOCIO"), IF(X27<1500,"Menos de 1.500 c.c.", IF(X27<=2500,"Entre 1.500 y 2.500 c.c.","Más de 2.500 c.c.")), IF(W27="CARGA O MIXTOS", IF(X27<5000,"Menos de 5 Toneladas", IF(X27<=15000,"Entre 5 y 15 Toneladas","Más de 15 Toneladas")), IF(W27="OFICIALES ESPECIALES", IF(X27<1500,"Menos de 1.500 c.c.", IF(X27<=2500,"Entre 1.500 y 2.500 c.c.","Más de 2.500 c.c.")), IF(OR(W27="VEHICULOS 6 o más pasajeros",W27="AUTOMOVILES FAMILIARES"), IF(X27<1500,"Menos de 1.500 c.c.", IF(X27<2500,"Entre 1.500 y 2.500 c.c.","2.500 o más c.c.")), "")))) -> Entre 1.500 y 2.500 c.c. | AA27: DOBLE CABINA | AB27: 222 | AC27: ORIENTE | AD27: 24 | AE27: =+C27=AD27 -> TRUE | AF27: =+_xlfn.XLOOKUP(D27,'[3]SOAT A ADQUIRIR 2025 _2026'!$B$2:$B$106,'[3]SOAT A ADQUIRIR 2025 _2026'!$M$2:$M$106) -> 222 | AG27: =+AB27=AF27 -> TRUE | AH27: =+AI27=O27 -> TRUE | AI27: =+_xlfn.XLOOKUP(AB27,Hoja3!$D$3:$D$39,Hoja3!$L$3:$L$39) -> 1121400
C28: 25 | D28: OBH292 | E28: FRONTIER D 22 | F28: NISSAN | G28: 2009 | H28: =2026-G28 -> 17 | I28: =IF(H28>=10,"10 o mas años","menos de 10 años") -> 10 o mas años | J28: Oficial | K28: 5 | L28: 46386 | M28: =+L28+1 -> 46387 | N28: 46751 | O28: {=_xlfn.IFS(W28="CAMPEROS Y CAMIONETAS",_xlfn.IFS(AND(Z28="Menos de 1.500 c.c.",I28="menos de 10 años"),'TARIFAS MAS RUNT'!$E$14,AND(Z28="Menos de 1.500 c.c.",I28="10 o mas años"),'TARIFAS MAS RUNT'!$E$15,AND(Z28="Entre 1.500 y 2.500 c.c.",I28="menos de 10 años"),'TARIFAS MAS RUNT'!$E$16,AND(Z28="Entre 1.500 y 2.500 c.c.",I28="10 o mas años"),'TARIFAS MAS RUNT'!$E$17,AND(Z28="Más de 2.500 c.c.",I28="menos de 10 años"),'TARIFAS MAS RUNT'!$E$18,AND(Z28="Más de 2.500 c.c.",I28="10 o mas años"),'TARIFAS MAS RUNT'!$E$19,TRUE,"Sin Tarifa"),W28="CARGA O MIXTOS",_xlfn.IFS(Z28="Menos de 5 Toneladas",'TARIFAS MAS RUNT'!$E$20,Z28="Entre 5 y 15 Toneladas",'TARIFAS MAS RUNT'!$E$21,Z28="Más de 15 Toneladas",'TARIFAS MAS RUNT'!$E$22,TRUE,"Sin Tarifa"),W28="OFICIALES ESPECIALES",_xlfn.IFS(Z28="Menos de 1.500 c.c.",'TARIFAS MAS RUNT'!$E$23,Z28="Entre 1.500 y 2.500 c.c.",'TARIFAS MAS RUNT'!$E$24,Z28="Más de 2.500 c.c.",'TARIFAS MAS RUNT'!$E$25,TRUE,"Sin Tarifa"),W28="AUTOMOVILES FAMILIARES",_xlfn.IFS(AND(Z28="Menos de 1.500 c.c.",I28="menos de 10 años"),'TARIFAS MAS RUNT'!$E$26,AND(Z28="Menos de 1.500 c.c.",I28="10 o mas años"),'TARIFAS MAS RUNT'!$E$27,AND(Z28="Entre 1.500 y 2.500 c.c.",I28="menos de 10 años"),'TARIFAS MAS RUNT'!$E$28,AND(Z28="Entre 1.500 y 2.500 c.c.",I28="10 o mas años"),'TARIFAS MAS RUNT'!$E$29,AND(Z28="Más de 2.500 c.c.",I28="menos de 10 años"),'TARIFAS MAS RUNT'!$E$30,AND(Z28="Más de 2.500 c.c.",I28="10 o mas años"),'TARIFAS MAS RUNT'!$E$31,TRUE,"Sin Tarifa"),TRUE,"Clase no encontrada")} -> 1274000 | P28: =+_xlfn.XLOOKUP(O28,'[2]ReporteCotizaciones (2)'!$H$2:$H$90,'[2]ReporteCotizaciones (2)'!$F$2:$F$90) -> 836600 | Q28: =+_xlfn.XLOOKUP(O28,Hoja3!$L$3:$L$39,Hoja3!$I$3:$I$39) -> 435000 | R28: 2400 | S28: =+P28+Q28+R28 -> 1274000 | T28: =+O28=S28 -> TRUE | W28: CAMPEROS Y CAMIONETAS | X28: 3000 | Y28: N/A | Z28: =IF(OR(W28="CAMPEROS Y CAMIONETAS",W28="VEHICULOS FAMILIARES",W28="AUTOS NEGOCIO"), IF(X28<1500,"Menos de 1.500 c.c.", IF(X28<=2500,"Entre 1.500 y 2.500 c.c.","Más de 2.500 c.c.")), IF(W28="CARGA O MIXTOS", IF(X28<5000,"Menos de 5 Toneladas", IF(X28<=15000,"Entre 5 y 15 Toneladas","Más de 15 Toneladas")), IF(W28="OFICIALES ESPECIALES", IF(X28<1500,"Menos de 1.500 c.c.", IF(X28<=2500,"Entre 1.500 y 2.500 c.c.","Más de 2.500 c.c.")), IF(OR(W28="VEHICULOS 6 o más pasajeros",W28="AUTOMOVILES FAMILIARES"), IF(X28<1500,"Menos de 1.500 c.c.", IF(X28<2500,"Entre 1.500 y 2.500 c.c.","2.500 o más c.c.")), "")))) -> Más de 2.500 c.c. | AA28: DOBLE CABINA | AB28: 232 | AC28: ORIENTE | AD28: 25 | AE28: =+C28=AD28 -> TRUE | AF28: =+_xlfn.XLOOKUP(D28,'[3]SOAT A ADQUIRIR 2025 _2026'!$B$2:$B$106,'[3]SOAT A ADQUIRIR 2025 _2026'!$M$2:$M$106) -> 232 | AG28: =+AB28=AF28 -> TRUE | AH28: =+AI28=O28 -> TRUE | AI28: =+_xlfn.XLOOKUP(AB28,Hoja3!$D$3:$D$39,Hoja3!$L$3:$L$39) -> 1274000
C29: 26 | D29: OBH294 | E29: FRONTIER D 22 | F29: NISSAN | G29: 2009 | H29: =2026-G29 -> 17 | I29: =IF(H29>=10,"10 o mas años","menos de 10 años") -> 10 o mas años | J29: Oficial | K29: 5 | L29: 46386 | M29: =+L29+1 -> 46387 | N29: 46751 | O29: {=_xlfn.IFS(W29="CAMPEROS Y CAMIONETAS",_xlfn.IFS(AND(Z29="Menos de 1.500 c.c.",I29="menos de 10 años"),'TARIFAS MAS RUNT'!$E$14,AND(Z29="Menos de 1.500 c.c.",I29="10 o mas años"),'TARIFAS MAS RUNT'!$E$15,AND(Z29="Entre 1.500 y 2.500 c.c.",I29="menos de 10 años"),'TARIFAS MAS RUNT'!$E$16,AND(Z29="Entre 1.500 y 2.500 c.c.",I29="10 o mas años"),'TARIFAS MAS RUNT'!$E$17,AND(Z29="Más de 2.500 c.c.",I29="menos de 10 años"),'TARIFAS MAS RUNT'!$E$18,AND(Z29="Más de 2.500 c.c.",I29="10 o mas años"),'TARIFAS MAS RUNT'!$E$19,TRUE,"Sin Tarifa"),W29="CARGA O MIXTOS",_xlfn.IFS(Z29="Menos de 5 Toneladas",'TARIFAS MAS RUNT'!$E$20,Z29="Entre 5 y 15 Toneladas",'TARIFAS MAS RUNT'!$E$21,Z29="Más de 15 Toneladas",'TARIFAS MAS RUNT'!$E$22,TRUE,"Sin Tarifa"),W29="OFICIALES ESPECIALES",_xlfn.IFS(Z29="Menos de 1.500 c.c.",'TARIFAS MAS RUNT'!$E$23,Z29="Entre 1.500 y 2.500 c.c.",'TARIFAS MAS RUNT'!$E$24,Z29="Más de 2.500 c.c.",'TARIFAS MAS RUNT'!$E$25,TRUE,"Sin Tarifa"),W29="AUTOMOVILES FAMILIARES",_xlfn.IFS(AND(Z29="Menos de 1.500 c.c.",I29="menos de 10 años"),'TARIFAS MAS RUNT'!$E$26,AND(Z29="Menos de 1.500 c.c.",I29="10 o mas años"),'TARIFAS MAS RUNT'!$E$27,AND(Z29="Entre 1.500 y 2.500 c.c.",I29="menos de 10 años"),'TARIFAS MAS RUNT'!$E$28,AND(Z29="Entre 1.500 y 2.500 c.c.",I29="10 o mas años"),'TARIFAS MAS RUNT'!$E$29,AND(Z29="Más de 2.500 c.c.",I29="menos de 10 años"),'TARIFAS MAS RUNT'!$E$30,AND(Z29="Más de 2.500 c.c.",I29="10 o mas años"),'TARIFAS MAS RUNT'!$E$31,TRUE,"Sin Tarifa"),TRUE,"Clase no encontrada")} -> 1274000 | P29: =+_xlfn.XLOOKUP(O29,'[2]ReporteCotizaciones (2)'!$H$2:$H$90,'[2]ReporteCotizaciones (2)'!$F$2:$F$90) -> 836600 | Q29: =+_xlfn.XLOOKUP(O29,Hoja3!$L$3:$L$39,Hoja3!$I$3:$I$39) -> 435000 | R29: 2400 | S29: =+P29+Q29+R29 -> 1274000 | T29: =+O29=S29 -> TRUE | W29: CAMPEROS Y CAMIONETAS | X29: 3000 | Y29: N/A | Z29: =IF(OR(W29="CAMPEROS Y CAMIONETAS",W29="VEHICULOS FAMILIARES",W29="AUTOS NEGOCIO"), IF(X29<1500,"Menos de 1.500 c.c.", IF(X29<=2500,"Entre 1.500 y 2.500 c.c.","Más de 2.500 c.c.")), IF(W29="CARGA O MIXTOS", IF(X29<5000,"Menos de 5 Toneladas", IF(X29<=15000,"Entre 5 y 15 Toneladas","Más de 15 Toneladas")), IF(W29="OFICIALES ESPECIALES", IF(X29<1500,"Menos de 1.500 c.c.", IF(X29<=2500,"Entre 1.500 y 2.500 c.c.","Más de 2.500 c.c.")), IF(OR(W29="VEHICULOS 6 o más pasajeros",W29="AUTOMOVILES FAMILIARES"), IF(X29<1500,"Menos de 1.500 c.c.", IF(X29<2500,"Entre 1.500 y 2.500 c.c.","2.500 o más c.c.")), "")))) -> Más de 2.500 c.c. | AA29: DOBLE CABINA | AB29: 232 | AC29: ORIENTE | AD29: 26 | AE29: =+C29=AD29 -> TRUE | AF29: =+_xlfn.XLOOKUP(D29,'[3]SOAT A ADQUIRIR 2025 _2026'!$B$2:$B$106,'[3]SOAT A ADQUIRIR 2025 _2026'!$M$2:$M$106) -> 232 | AG29: =+AB29=AF29 -> TRUE | AH29: =+AI29=O29 -> TRUE | AI29: =+_xlfn.XLOOKUP(AB29,Hoja3!$D$3:$D$39,Hoja3!$L$3:$L$39) -> 1274000
C30: 27 | D30: OBH434 | E30: URVAN | F30: NISSAN | G30: 2012 | H30: =2026-G30 -> 14 | I30: =IF(H30>=10,"10 o mas años","menos de 10 años") -> 10 o mas años | J30: Oficial | K30: 14 | L30: 46386 | M30: =+L30+1 -> 46387 | N30: 46751 | O30: {=_xlfn.IFS(W30="CAMPEROS Y CAMIONETAS",_xlfn.IFS(AND(Z30="Menos de 1.500 c.c.",I30="menos de 10 años"),'TARIFAS MAS RUNT'!$E$14,AND(Z30="Menos de 1.500 c.c.",I30="10 o mas años"),'TARIFAS MAS RUNT'!$E$15,AND(Z30="Entre 1.500 y 2.500 c.c.",I30="menos de 10 años"),'TARIFAS MAS RUNT'!$E$16,AND(Z30="Entre 1.500 y 2.500 c.c.",I30="10 o mas años"),'TARIFAS MAS RUNT'!$E$17,AND(Z30="Más de 2.500 c.c.",I30="menos de 10 años"),'TARIFAS MAS RUNT'!$E$18,AND(Z30="Más de 2.500 c.c.",I30="10 o mas años"),'TARIFAS MAS RUNT'!$E$19,TRUE,"Sin Tarifa"),W30="CARGA O MIXTOS",_xlfn.IFS(Z30="Menos de 5 Toneladas",'TARIFAS MAS RUNT'!$E$20,Z30="Entre 5 y 15 Toneladas",'TARIFAS MAS RUNT'!$E$21,Z30="Más de 15 Toneladas",'TARIFAS MAS RUNT'!$E$22,TRUE,"Sin Tarifa"),W30="OFICIALES ESPECIALES",_xlfn.IFS(Z30="Menos de 1.500 c.c.",'TARIFAS MAS RUNT'!$E$23,Z30="Entre 1.500 y 2.500 c.c.",'TARIFAS MAS RUNT'!$E$24,Z30="Más de 2.500 c.c.",'TARIFAS MAS RUNT'!$E$25,TRUE,"Sin Tarifa"),W30="AUTOMOVILES FAMILIARES",_xlfn.IFS(AND(Z30="Menos de 1.500 c.c.",I30="menos de 10 años"),'TARIFAS MAS RUNT'!$E$26,AND(Z30="Menos de 1.500 c.c.",I30="10 o mas años"),'TARIFAS MAS RUNT'!$E$27,AND(Z30="Entre 1.500 y 2.500 c.c.",I30="menos de 10 años"),'TARIFAS MAS RUNT'!$E$28,AND(Z30="Entre 1.500 y 2.500 c.c.",I30="10 o mas años"),'TARIFAS MAS RUNT'!$E$29,AND(Z30="Más de 2.500 c.c.",I30="menos de 10 años"),'TARIFAS MAS RUNT'!$E$30,AND(Z30="Más de 2.500 c.c.",I30="10 o mas años"),'TARIFAS MAS RUNT'!$E$31,TRUE,"Sin Tarifa"),TRUE,"Clase no encontrada")} -> 1510600 | P30: =+_xlfn.XLOOKUP(O30,'[2]ReporteCotizaciones (2)'!$H$2:$H$90,'[2]ReporteCotizaciones (2)'!$F$2:$F$90) -> 992300 | Q30: =+_xlfn.XLOOKUP(O30,Hoja3!$L$3:$L$39,Hoja3!$I$3:$I$39) -> 515900 | R30: 2400 | S30: =+P30+Q30+R30 -> 1510600 | T30: =+O30=S30 -> TRUE | W30: OFICIALES ESPECIALES | X30: 2953 | Y30: N/A | Z30: =IF(OR(W30="CAMPEROS Y CAMIONETAS",W30="VEHICULOS FAMILIARES",W30="AUTOS NEGOCIO"), IF(X30<1500,"Menos de 1.500 c.c.", IF(X30<=2500,"Entre 1.500 y 2.500 c.c.","Más de 2.500 c.c.")), IF(W30="CARGA O MIXTOS", IF(X30<5000,"Menos de 5 Toneladas", IF(X30<=15000,"Entre 5 y 15 Toneladas","Más de 15 Toneladas")), IF(W30="OFICIALES ESPECIALES", IF(X30<1500,"Menos de 1.500 c.c.", IF(X30<=2500,"Entre 1.500 y 2.500 c.c.","Más de 2.500 c.c.")), IF(OR(W30="VEHICULOS 6 o más pasajeros",W30="AUTOMOVILES FAMILIARES"), IF(X30<1500,"Menos de 1.500 c.c.", IF(X30<2500,"Entre 1.500 y 2.500 c.c.","2.500 o más c.c.")), "")))) -> Más de 2.500 c.c. | AA30: CERRADA | AB30: 430 | AC30: NIVEL CENTRAL | AD30: 27 | AE30: =+C30=AD30 -> TRUE | AF30: =+_xlfn.XLOOKUP(D30,'[3]SOAT A ADQUIRIR 2025 _2026'!$B$2:$B$106,'[3]SOAT A ADQUIRIR 2025 _2026'!$M$2:$M$106) -> 430 | AG30: =+AB30=AF30 -> TRUE | AH30: =+AI30=O30 -> TRUE | AI30: =+_xlfn.XLOOKUP(AB30,Hoja3!$D$3:$D$39,Hoja3!$L$3:$L$39) -> 1510600
C31: 28 | D31: OBH681 | E31: D22/NP300 | F31: NISSAN | G31: 2010 | H31: =2026-G31 -> 16 | I31: =IF(H31>=10,"10 o mas años","menos de 10 años") -> 10 o mas años | J31: Oficial | K31: 5 | L31: 46386 | M31: =+L31+1 -> 46387 | N31: 46751 | O31: {=_xlfn.IFS(W31="CAMPEROS Y CAMIONETAS",_xlfn.IFS(AND(Z31="Menos de 1.500 c.c.",I31="menos de 10 años"),'TARIFAS MAS RUNT'!$E$14,AND(Z31="Menos de 1.500 c.c.",I31="10 o mas años"),'TARIFAS MAS RUNT'!$E$15,AND(Z31="Entre 1.500 y 2.500 c.c.",I31="menos de 10 años"),'TARIFAS MAS RUNT'!$E$16,AND(Z31="Entre 1.500 y 2.500 c.c.",I31="10 o mas años"),'TARIFAS MAS RUNT'!$E$17,AND(Z31="Más de 2.500 c.c.",I31="menos de 10 años"),'TARIFAS MAS RUNT'!$E$18,AND(Z31="Más de 2.500 c.c.",I31="10 o mas años"),'TARIFAS MAS RUNT'!$E$19,TRUE,"Sin Tarifa"),W31="CARGA O MIXTOS",_xlfn.IFS(Z31="Menos de 5 Toneladas",'TARIFAS MAS RUNT'!$E$20,Z31="Entre 5 y 15 Toneladas",'TARIFAS MAS RUNT'!$E$21,Z31="Más de 15 Toneladas",'TARIFAS MAS RUNT'!$E$22,TRUE,"Sin Tarifa"),W31="OFICIALES ESPECIALES",_xlfn.IFS(Z31="Menos de 1.500 c.c.",'TARIFAS MAS RUNT'!$E$23,Z31="Entre 1.500 y 2.500 c.c.",'TARIFAS MAS RUNT'!$E$24,Z31="Más de 2.500 c.c.",'TARIFAS MAS RUNT'!$E$25,TRUE,"Sin Tarifa"),W31="AUTOMOVILES FAMILIARES",_xlfn.IFS(AND(Z31="Menos de 1.500 c.c.",I31="menos de 10 años"),'TARIFAS MAS RUNT'!$E$26,AND(Z31="Menos de 1.500 c.c.",I31="10 o mas años"),'TARIFAS MAS RUNT'!$E$27,AND(Z31="Entre 1.500 y 2.500 c.c.",I31="menos de 10 años"),'TARIFAS MAS RUNT'!$E$28,AND(Z31="Entre 1.500 y 2.500 c.c.",I31="10 o mas años"),'TARIFAS MAS RUNT'!$E$29,AND(Z31="Más de 2.500 c.c.",I31="menos de 10 años"),'TARIFAS MAS RUNT'!$E$30,AND(Z31="Más de 2.500 c.c.",I31="10 o mas años"),'TARIFAS MAS RUNT'!$E$31,TRUE,"Sin Tarifa"),TRUE,"Clase no encontrada")} -> 1121400 | P31: =+_xlfn.XLOOKUP(O31,'[2]ReporteCotizaciones (2)'!$H$2:$H$90,'[2]ReporteCotizaciones (2)'!$F$2:$F$90) -> 736200 | Q31: =+_xlfn.XLOOKUP(O31,Hoja3!$L$3:$L$39,Hoja3!$I$3:$I$39) -> 382800 | R31: 2400 | S31: =+P31+Q31+R31 -> 1121400 | T31: =+O31=S31 -> TRUE | W31: CAMPEROS Y CAMIONETAS | X31: 2400 | Y31: N/A | Z31: =IF(OR(W31="CAMPEROS Y CAMIONETAS",W31="VEHICULOS FAMILIARES",W31="AUTOS NEGOCIO"), IF(X31<1500,"Menos de 1.500 c.c.", IF(X31<=2500,"Entre 1.500 y 2.500 c.c.","Más de 2.500 c.c.")), IF(W31="CARGA O MIXTOS", IF(X31<5000,"Menos de 5 Toneladas", IF(X31<=15000,"Entre 5 y 15 Toneladas","Más de 15 Toneladas")), IF(W31="OFICIALES ESPECIALES", IF(X31<1500,"Menos de 1.500 c.c.", IF(X31<=2500,"Entre 1.500 y 2.500 c.c.","Más de 2.500 c.c.")), IF(OR(W31="VEHICULOS 6 o más pasajeros",W31="AUTOMOVILES FAMILIARES"), IF(X31<1500,"Menos de 1.500 c.c.", IF(X31<2500,"Entre 1.500 y 2.500 c.c.","2.500 o más c.c.")), "")))) -> Entre 1.500 y 2.500 c.c. | AA31: DOBLE CABINA | AB31: 222 | AC31: NORORIENTE | AD31: 28 | AE31: =+C31=AD31 -> TRUE | AF31: =+_xlfn.XLOOKUP(D31,'[3]SOAT A ADQUIRIR 2025 _2026'!$B$2:$B$106,'[3]SOAT A ADQUIRIR 2025 _2026'!$M$2:$M$106) -> 222 | AG31: =+AB31=AF31 -> TRUE | AH31: =+AI31=O31 -> TRUE | AI31: =+_xlfn.XLOOKUP(AB31,Hoja3!$D$3:$D$39,Hoja3!$L$3:$L$39) -> 1121400
C32: 29 | D32: OBH682 | E32: D22/NP300 | F32: NISSAN | G32: 2010 | H32: =2026-G32 -> 16 | I32: =IF(H32>=10,"10 o mas años","menos de 10 años") -> 10 o mas años | J32: Oficial | K32: 5 | L32: 46386 | M32: =+L32+1 -> 46387 | N32: 46751 | O32: {=_xlfn.IFS(W32="CAMPEROS Y CAMIONETAS",_xlfn.IFS(AND(Z32="Menos de 1.500 c.c.",I32="menos de 10 años"),'TARIFAS MAS RUNT'!$E$14,AND(Z32="Menos de 1.500 c.c.",I32="10 o mas años"),'TARIFAS MAS RUNT'!$E$15,AND(Z32="Entre 1.500 y 2.500 c.c.",I32="menos de 10 años"),'TARIFAS MAS RUNT'!$E$16,AND(Z32="Entre 1.500 y 2.500 c.c.",I32="10 o mas años"),'TARIFAS MAS RUNT'!$E$17,AND(Z32="Más de 2.500 c.c.",I32="menos de 10 años"),'TARIFAS MAS RUNT'!$E$18,AND(Z32="Más de 2.500 c.c.",I32="10 o mas años"),'TARIFAS MAS RUNT'!$E$19,TRUE,"Sin Tarifa"),W32="CARGA O MIXTOS",_xlfn.IFS(Z32="Menos de 5 Toneladas",'TARIFAS MAS RUNT'!$E$20,Z32="Entre 5 y 15 Toneladas",'TARIFAS MAS RUNT'!$E$21,Z32="Más de 15 Toneladas",'TARIFAS MAS RUNT'!$E$22,TRUE,"Sin Tarifa"),W32="OFICIALES ESPECIALES",_xlfn.IFS(Z32="Menos de 1.500 c.c.",'TARIFAS MAS RUNT'!$E$23,Z32="Entre 1.500 y 2.500 c.c.",'TARIFAS MAS RUNT'!$E$24,Z32="Más de 2.500 c.c.",'TARIFAS MAS RUNT'!$E$25,TRUE,"Sin Tarifa"),W32="AUTOMOVILES FAMILIARES",_xlfn.IFS(AND(Z32="Menos de 1.500 c.c.",I32="menos de 10 años"),'TARIFAS MAS RUNT'!$E$26,AND(Z32="Menos de 1.500 c.c.",I32="10 o mas años"),'TARIFAS MAS RUNT'!$E$27,AND(Z32="Entre 1.500 y 2.500 c.c.",I32="menos de 10 años"),'TARIFAS MAS RUNT'!$E$28,AND(Z32="Entre 1.500 y 2.500 c.c.",I32="10 o mas años"),'TARIFAS MAS RUNT'!$E$29,AND(Z32="Más de 2.500 c.c.",I32="menos de 10 años"),'TARIFAS MAS RUNT'!$E$30,AND(Z32="Más de 2.500 c.c.",I32="10 o mas años"),'TARIFAS MAS RUNT'!$E$31,TRUE,"Sin Tarifa"),TRUE,"Clase no encontrada")} -> 1121400 | P32: =+_xlfn.XLOOKUP(O32,'[2]ReporteCotizaciones (2)'!$H$2:$H$90,'[2]ReporteCotizaciones (2)'!$F$2:$F$90) -> 736200 | Q32: =+_xlfn.XLOOKUP(O32,Hoja3!$L$3:$L$39,Hoja3!$I$3:$I$39) -> 382800 | R32: 2400 | S32: =+P32+Q32+R32 -> 1121400 | T32: =+O32=S32 -> TRUE | W32: CAMPEROS Y CAMIONETAS | X32: 2400 | Y32: N/A | Z32: =IF(OR(W32="CAMPEROS Y CAMIONETAS",W32="VEHICULOS FAMILIARES",W32="AUTOS NEGOCIO"), IF(X32<1500,"Menos de 1.500 c.c.", IF(X32<=2500,"Entre 1.500 y 2.500 c.c.","Más de 2.500 c.c.")), IF(W32="CARGA O MIXTOS", IF(X32<5000,"Menos de 5 Toneladas", IF(X32<=15000,"Entre 5 y 15 Toneladas","Más de 15 Toneladas")), IF(W32="OFICIALES ESPECIALES", IF(X32<1500,"Menos de 1.500 c.c.", IF(X32<=2500,"Entre 1.500 y 2.500 c.c.","Más de 2.500 c.c.")), IF(OR(W32="VEHICULOS 6 o más pasajeros",W32="AUTOMOVILES FAMILIARES"), IF(X32<1500,"Menos de 1.500 c.c.", IF(X32<2500,"Entre 1.500 y 2.500 c.c.","2.500 o más c.c.")), "")))) -> Entre 1.500 y 2.500 c.c. | AA32: DOBLE CABINA | AB32: 222 | AC32: NOROCCIDENTE | AD32: 29 | AE32: =+C32=AD32 -> TRUE | AF32: =+_xlfn.XLOOKUP(D32,'[3]SOAT A ADQUIRIR 2025 _2026'!$B$2:$B$106,'[3]SOAT A ADQUIRIR 2025 _2026'!$M$2:$M$106) -> 222 | AG32: =+AB32=AF32 -> TRUE | AH32: =+AI32=O32 -> TRUE | AI32: =+_xlfn.XLOOKUP(AB32,Hoja3!$D$3:$D$39,Hoja3!$L$3:$L$39) -> 1121400
B33: NOROCCIDENTE | C33: 30 | D33: OBH683 | E33: D22/NP300 | F33: NISSAN | G33: 2010 | H33: =2026-G33 -> 16 | I33: =IF(H33>=10,"10 o mas años","menos de 10 años") -> 10 o mas años | J33: Oficial | K33: 5 | L33: 46386 | M33: =+L33+1 -> 46387 | N33: 46751 | O33: {=_xlfn.IFS(W33="CAMPEROS Y CAMIONETAS",_xlfn.IFS(AND(Z33="Menos de 1.500 c.c.",I33="menos de 10 años"),'TARIFAS MAS RUNT'!$E$14,AND(Z33="Menos de 1.500 c.c.",I33="10 o mas años"),'TARIFAS MAS RUNT'!$E$15,AND(Z33="Entre 1.500 y 2.500 c.c.",I33="menos de 10 años"),'TARIFAS MAS RUNT'!$E$16,AND(Z33="Entre 1.500 y 2.500 c.c.",I33="10 o mas años"),'TARIFAS MAS RUNT'!$E$17,AND(Z33="Más de 2.500 c.c.",I33="menos de 10 años"),'TARIFAS MAS RUNT'!$E$18,AND(Z33="Más de 2.500 c.c.",I33="10 o mas años"),'TARIFAS MAS RUNT'!$E$19,TRUE,"Sin Tarifa"),W33="CARGA O MIXTOS",_xlfn.IFS(Z33="Menos de 5 Toneladas",'TARIFAS MAS RUNT'!$E$20,Z33="Entre 5 y 15 Toneladas",'TARIFAS MAS RUNT'!$E$21,Z33="Más de 15 Toneladas",'TARIFAS MAS RUNT'!$E$22,TRUE,"Sin Tarifa"),W33="OFICIALES ESPECIALES",_xlfn.IFS(Z33="Menos de 1.500 c.c.",'TARIFAS MAS RUNT'!$E$23,Z33="Entre 1.500 y 2.500 c.c.",'TARIFAS MAS RUNT'!$E$24,Z33="Más de 2.500 c.c.",'TARIFAS MAS RUNT'!$E$25,TRUE,"Sin Tarifa"),W33="AUTOMOVILES FAMILIARES",_xlfn.IFS(AND(Z33="Menos de 1.500 c.c.",I33="menos de 10 años"),'TARIFAS MAS RUNT'!$E$26,AND(Z33="Menos de 1.500 c.c.",I33="10 o mas años"),'TARIFAS MAS RUNT'!$E$27,AND(Z33="Entre 1.500 y 2.500 c.c.",I33="menos de 10 años"),'TARIFAS MAS RUNT'!$E$28,AND(Z33="Entre 1.500 y 2.500 c.c.",I33="10 o mas años"),'TARIFAS MAS RUNT'!$E$29,AND(Z33="Más de 2.500 c.c.",I33="menos de 10 años"),'TARIFAS MAS RUNT'!$E$30,AND(Z33="Más de 2.500 c.c.",I33="10 o mas años"),'TARIFAS MAS RUNT'!$E$31,TRUE,"Sin Tarifa"),TRUE,"Clase no encontrada")} -> 1121400 | P33: =+_xlfn.XLOOKUP(O33,'[2]ReporteCotizaciones (2)'!$H$2:$H$90,'[2]ReporteCotizaciones (2)'!$F$2:$F$90) -> 736200 | Q33: =+_xlfn.XLOOKUP(O33,Hoja3!$L$3:$L$39,Hoja3!$I$3:$I$39) -> 382800 | R33: 2400 | S33: =+P33+Q33+R33 -> 1121400 | T33: =+O33=S33 -> TRUE | W33: CAMPEROS Y CAMIONETAS | X33: 2400 | Y33: N/A | Z33: =IF(OR(W33="CAMPEROS Y CAMIONETAS",W33="VEHICULOS FAMILIARES",W33="AUTOS NEGOCIO"), IF(X33<1500,"Menos de 1.500 c.c.", IF(X33<=2500,"Entre 1.500 y 2.500 c.c.","Más de 2.500 c.c.")), IF(W33="CARGA O MIXTOS", IF(X33<5000,"Menos de 5 Toneladas", IF(X33<=15000,"Entre 5 y 15 Toneladas","Más de 15 Toneladas")), IF(W33="OFICIALES ESPECIALES", IF(X33<1500,"Menos de 1.500 c.c.", IF(X33<=2500,"Entre 1.500 y 2.500 c.c.","Más de 2.500 c.c.")), IF(OR(W33="VEHICULOS 6 o más pasajeros",W33="AUTOMOVILES FAMILIARES"), IF(X33<1500,"Menos de 1.500 c.c.", IF(X33<2500,"Entre 1.500 y 2.500 c.c.","2.500 o más c.c.")), "")))) -> Entre 1.500 y 2.500 c.c. | AA33: DOBLE CABINA | AB33: 222 | AC33: SUROCCIDENTE | AD33: 30 | AE33: =+C33=AD33 -> TRUE | AF33: =+_xlfn.XLOOKUP(D33,'[3]SOAT A ADQUIRIR 2025 _2026'!$B$2:$B$106,'[3]SOAT A ADQUIRIR 2025 _2026'!$M$2:$M$106) -> 222 | AG33: =+AB33=AF33 -> TRUE | AH33: =+AI33=O33 -> TRUE | AI33: =+_xlfn.XLOOKUP(AB33,Hoja3!$D$3:$D$39,Hoja3!$L$3:$L$39) -> 1121400
C34: 31 | D34: OBH684 | E34: D22/NP300 | F34: NISSAN | G34: 2010 | H34: =2026-G34 -> 16 | I34: =IF(H34>=10,"10 o mas años","menos de 10 años") -> 10 o mas años | J34: Oficial | K34: 5 | L34: 46386 | M34: =+L34+1 -> 46387 | N34: 46751 | O34: {=_xlfn.IFS(W34="CAMPEROS Y CAMIONETAS",_xlfn.IFS(AND(Z34="Menos de 1.500 c.c.",I34="menos de 10 años"),'TARIFAS MAS RUNT'!$E$14,AND(Z34="Menos de 1.500 c.c.",I34="10 o mas años"),'TARIFAS MAS RUNT'!$E$15,AND(Z34="Entre 1.500 y 2.500 c.c.",I34="menos de 10 años"),'TARIFAS MAS RUNT'!$E$16,AND(Z34="Entre 1.500 y 2.500 c.c.",I34="10 o mas años"),'TARIFAS MAS RUNT'!$E$17,AND(Z34="Más de 2.500 c.c.",I34="menos de 10 años"),'TARIFAS MAS RUNT'!$E$18,AND(Z34="Más de 2.500 c.c.",I34="10 o mas años"),'TARIFAS MAS RUNT'!$E$19,TRUE,"Sin Tarifa"),W34="CARGA O MIXTOS",_xlfn.IFS(Z34="Menos de 5 Toneladas",'TARIFAS MAS RUNT'!$E$20,Z34="Entre 5 y 15 Toneladas",'TARIFAS MAS RUNT'!$E$21,Z34="Más de 15 Toneladas",'TARIFAS MAS RUNT'!$E$22,TRUE,"Sin Tarifa"),W34="OFICIALES ESPECIALES",_xlfn.IFS(Z34="Menos de 1.500 c.c.",'TARIFAS MAS RUNT'!$E$23,Z34="Entre 1.500 y 2.500 c.c.",'TARIFAS MAS RUNT'!$E$24,Z34="Más de 2.500 c.c.",'TARIFAS MAS RUNT'!$E$25,TRUE,"Sin Tarifa"),W34="AUTOMOVILES FAMILIARES",_xlfn.IFS(AND(Z34="Menos de 1.500 c.c.",I34="menos de 10 años"),'TARIFAS MAS RUNT'!$E$26,AND(Z34="Menos de 1.500 c.c.",I34="10 o mas años"),'TARIFAS MAS RUNT'!$E$27,AND(Z34="Entre 1.500 y 2.500 c.c.",I34="menos de 10 años"),'TARIFAS MAS RUNT'!$E$28,AND(Z34="Entre 1.500 y 2.500 c.c.",I34="10 o mas años"),'TARIFAS MAS RUNT'!$E$29,AND(Z34="Más de 2.500 c.c.",I34="menos de 10 años"),'TARIFAS MAS RUNT'!$E$30,AND(Z34="Más de 2.500 c.c.",I34="10 o mas años"),'TARIFAS MAS RUNT'!$E$31,TRUE,"Sin Tarifa"),TRUE,"Clase no encontrada")} -> 1121400 | P34: =+_xlfn.XLOOKUP(O34,'[2]ReporteCotizaciones (2)'!$H$2:$H$90,'[2]ReporteCotizaciones (2)'!$F$2:$F$90) -> 736200 | Q34: =+_xlfn.XLOOKUP(O34,Hoja3!$L$3:$L$39,Hoja3!$I$3:$I$39) -> 382800 | R34: 2400 | S34: =+P34+Q34+R34 -> 1121400 | T34: =+O34=S34 -> TRUE | W34: CAMPEROS Y CAMIONETAS | X34: 2400 | Y34: N/A | Z34: =IF(OR(W34="CAMPEROS Y CAMIONETAS",W34="VEHICULOS FAMILIARES",W34="AUTOS NEGOCIO"), IF(X34<1500,"Menos de 1.500 c.c.", IF(X34<=2500,"Entre 1.500 y 2.500 c.c.","Más de 2.500 c.c.")), IF(W34="CARGA O MIXTOS", IF(X34<5000,"Menos de 5 Toneladas", IF(X34<=15000,"Entre 5 y 15 Toneladas","Más de 15 Toneladas")), IF(W34="OFICIALES ESPECIALES", IF(X34<1500,"Menos de 1.500 c.c.", IF(X34<=2500,"Entre 1.500 y 2.500 c.c.","Más de 2.500 c.c.")), IF(OR(W34="VEHICULOS 6 o más pasajeros",W34="AUTOMOVILES FAMILIARES"), IF(X34<1500,"Menos de 1.500 c.c.", IF(X34<2500,"Entre 1.500 y 2.500 c.c.","2.500 o más c.c.")), "")))) -> Entre 1.500 y 2.500 c.c. | AA34: DOBLE CABINA | AB34: 222 | AC34: NORTE | AD34: 31 | AE34: =+C34=AD34 -> TRUE | AF34: =+_xlfn.XLOOKUP(D34,'[3]SOAT A ADQUIRIR 2025 _2026'!$B$2:$B$106,'[3]SOAT A ADQUIRIR 2025 _2026'!$M$2:$M$106) -> 222 | AG34: =+AB34=AF34 -> TRUE | AH34: =+AI34=O34 -> TRUE | AI34: =+_xlfn.XLOOKUP(AB34,Hoja3!$D$3:$D$39,Hoja3!$L$3:$L$39) -> 1121400
C35: 32 | D35: OBH685 | E35: D22/NP300 | F35: NISSAN | G35: 2010 | H35: =2026-G35 -> 16 | I35: =IF(H35>=10,"10 o mas años","menos de 10 años") -> 10 o mas años | J35: Oficial | K35: 5 | L35: 46386 | M35: =+L35+1 -> 46387 | N35: 46751 | O35: {=_xlfn.IFS(W35="CAMPEROS Y CAMIONETAS",_xlfn.IFS(AND(Z35="Menos de 1.500 c.c.",I35="menos de 10 años"),'TARIFAS MAS RUNT'!$E$14,AND(Z35="Menos de 1.500 c.c.",I35="10 o mas años"),'TARIFAS MAS RUNT'!$E$15,AND(Z35="Entre 1.500 y 2.500 c.c.",I35="menos de 10 años"),'TARIFAS MAS RUNT'!$E$16,AND(Z35="Entre 1.500 y 2.500 c.c.",I35="10 o mas años"),'TARIFAS MAS RUNT'!$E$17,AND(Z35="Más de 2.500 c.c.",I35="menos de 10 años"),'TARIFAS MAS RUNT'!$E$18,AND(Z35="Más de 2.500 c.c.",I35="10 o mas años"),'TARIFAS MAS RUNT'!$E$19,TRUE,"Sin Tarifa"),W35="CARGA O MIXTOS",_xlfn.IFS(Z35="Menos de 5 Toneladas",'TARIFAS MAS RUNT'!$E$20,Z35="Entre 5 y 15 Toneladas",'TARIFAS MAS RUNT'!$E$21,Z35="Más de 15 Toneladas",'TARIFAS MAS RUNT'!$E$22,TRUE,"Sin Tarifa"),W35="OFICIALES ESPECIALES",_xlfn.IFS(Z35="Menos de 1.500 c.c.",'TARIFAS MAS RUNT'!$E$23,Z35="Entre 1.500 y 2.500 c.c.",'TARIFAS MAS RUNT'!$E$24,Z35="Más de 2.500 c.c.",'TARIFAS MAS RUNT'!$E$25,TRUE,"Sin Tarifa"),W35="AUTOMOVILES FAMILIARES",_xlfn.IFS(AND(Z35="Menos de 1.500 c.c.",I35="menos de 10 años"),'TARIFAS MAS RUNT'!$E$26,AND(Z35="Menos de 1.500 c.c.",I35="10 o mas años"),'TARIFAS MAS RUNT'!$E$27,AND(Z35="Entre 1.500 y 2.500 c.c.",I35="menos de 10 años"),'TARIFAS MAS RUNT'!$E$28,AND(Z35="Entre 1.500 y 2.500 c.c.",I35="10 o mas años"),'TARIFAS MAS RUNT'!$E$29,AND(Z35="Más de 2.500 c.c.",I35="menos de 10 años"),'TARIFAS MAS RUNT'!$E$30,AND(Z35="Más de 2.500 c.c.",I35="10 o mas años"),'TARIFAS MAS RUNT'!$E$31,TRUE,"Sin Tarifa"),TRUE,"Clase no encontrada")} -> 1121400 | P35: =+_xlfn.XLOOKUP(O35,'[2]ReporteCotizaciones (2)'!$H$2:$H$90,'[2]ReporteCotizaciones (2)'!$F$2:$F$90) -> 736200 | Q35: =+_xlfn.XLOOKUP(O35,Hoja3!$L$3:$L$39,Hoja3!$I$3:$I$39) -> 382800 | R35: 2400 | S35: =+P35+Q35+R35 -> 1121400 | T35: =+O35=S35 -> TRUE | W35: CAMPEROS Y CAMIONETAS | X35: 2400 | Y35: N/A | Z35: =IF(OR(W35="CAMPEROS Y CAMIONETAS",W35="VEHICULOS FAMILIARES",W35="AUTOS NEGOCIO"), IF(X35<1500,"Menos de 1.500 c.c.", IF(X35<=2500,"Entre 1.500 y 2.500 c.c.","Más de 2.500 c.c.")), IF(W35="CARGA O MIXTOS", IF(X35<5000,"Menos de 5 Toneladas", IF(X35<=15000,"Entre 5 y 15 Toneladas","Más de 15 Toneladas")), IF(W35="OFICIALES ESPECIALES", IF(X35<1500,"Menos de 1.500 c.c.", IF(X35<=2500,"Entre 1.500 y 2.500 c.c.","Más de 2.500 c.c.")), IF(OR(W35="VEHICULOS 6 o más pasajeros",W35="AUTOMOVILES FAMILIARES"), IF(X35<1500,"Menos de 1.500 c.c.", IF(X35<2500,"Entre 1.500 y 2.500 c.c.","2.500 o más c.c.")), "")))) -> Entre 1.500 y 2.500 c.c. | AA35: DOBLE CABINA | AB35: 222 | AC35: NORTE | AD35: 32 | AE35: =+C35=AD35 -> TRUE | AF35: =+_xlfn.XLOOKUP(D35,'[3]SOAT A ADQUIRIR 2025 _2026'!$B$2:$B$106,'[3]SOAT A ADQUIRIR 2025 _2026'!$M$2:$M$106) -> 222 | AG35: =+AB35=AF35 -> TRUE | AH35: =+AI35=O35 -> TRUE | AI35: =+_xlfn.XLOOKUP(AB35,Hoja3!$D$3:$D$39,Hoja3!$L$3:$L$39) -> 1121400
C36: 33 | D36: OBH686 | E36: D22/NP300 | F36: NISSAN | G36: 2010 | H36: =2026-G36 -> 16 | I36: =IF(H36>=10,"10 o mas años","menos de 10 años") -> 10 o mas años | J36: Oficial | K36: 5 | L36: 46386 | M36: =+L36+1 -> 46387 | N36: 46751 | O36: {=_xlfn.IFS(W36="CAMPEROS Y CAMIONETAS",_xlfn.IFS(AND(Z36="Menos de 1.500 c.c.",I36="menos de 10 años"),'TARIFAS MAS RUNT'!$E$14,AND(Z36="Menos de 1.500 c.c.",I36="10 o mas años"),'TARIFAS MAS RUNT'!$E$15,AND(Z36="Entre 1.500 y 2.500 c.c.",I36="menos de 10 años"),'TARIFAS MAS RUNT'!$E$16,AND(Z36="Entre 1.500 y 2.500 c.c.",I36="10 o mas años"),'TARIFAS MAS RUNT'!$E$17,AND(Z36="Más de 2.500 c.c.",I36="menos de 10 años"),'TARIFAS MAS RUNT'!$E$18,AND(Z36="Más de 2.500 c.c.",I36="10 o mas años"),'TARIFAS MAS RUNT'!$E$19,TRUE,"Sin Tarifa"),W36="CARGA O MIXTOS",_xlfn.IFS(Z36="Menos de 5 Toneladas",'TARIFAS MAS RUNT'!$E$20,Z36="Entre 5 y 15 Toneladas",'TARIFAS MAS RUNT'!$E$21,Z36="Más de 15 Toneladas",'TARIFAS MAS RUNT'!$E$22,TRUE,"Sin Tarifa"),W36="OFICIALES ESPECIALES",_xlfn.IFS(Z36="Menos de 1.500 c.c.",'TARIFAS MAS RUNT'!$E$23,Z36="Entre 1.500 y 2.500 c.c.",'TARIFAS MAS RUNT'!$E$24,Z36="Más de 2.500 c.c.",'TARIFAS MAS RUNT'!$E$25,TRUE,"Sin Tarifa"),W36="AUTOMOVILES FAMILIARES",_xlfn.IFS(AND(Z36="Menos de 1.500 c.c.",I36="menos de 10 años"),'TARIFAS MAS RUNT'!$E$26,AND(Z36="Menos de 1.500 c.c.",I36="10 o mas años"),'TARIFAS MAS RUNT'!$E$27,AND(Z36="Entre 1.500 y 2.500 c.c.",I36="menos de 10 años"),'TARIFAS MAS RUNT'!$E$28,AND(Z36="Entre 1.500 y 2.500 c.c.",I36="10 o mas años"),'TARIFAS MAS RUNT'!$E$29,AND(Z36="Más de 2.500 c.c.",I36="menos de 10 años"),'TARIFAS MAS RUNT'!$E$30,AND(Z36="Más de 2.500 c.c.",I36="10 o mas años"),'TARIFAS MAS RUNT'!$E$31,TRUE,"Sin Tarifa"),TRUE,"Clase no encontrada")} -> 1121400 | P36: =+_xlfn.XLOOKUP(O36,'[2]ReporteCotizaciones (2)'!$H$2:$H$90,'[2]ReporteCotizaciones (2)'!$F$2:$F$90) -> 736200 | Q36: =+_xlfn.XLOOKUP(O36,Hoja3!$L$3:$L$39,Hoja3!$I$3:$I$39) -> 382800 | R36: 2400 | S36: =+P36+Q36+R36 -> 1121400 | T36: =+O36=S36 -> TRUE | W36: CAMPEROS Y CAMIONETAS | X36: 2400 | Y36: N/A | Z36: =IF(OR(W36="CAMPEROS Y CAMIONETAS",W36="VEHICULOS FAMILIARES",W36="AUTOS NEGOCIO"), IF(X36<1500,"Menos de 1.500 c.c.", IF(X36<=2500,"Entre 1.500 y 2.500 c.c.","Más de 2.500 c.c.")), IF(W36="CARGA O MIXTOS", IF(X36<5000,"Menos de 5 Toneladas", IF(X36<=15000,"Entre 5 y 15 Toneladas","Más de 15 Toneladas")), IF(W36="OFICIALES ESPECIALES", IF(X36<1500,"Menos de 1.500 c.c.", IF(X36<=2500,"Entre 1.500 y 2.500 c.c.","Más de 2.500 c.c.")), IF(OR(W36="VEHICULOS 6 o más pasajeros",W36="AUTOMOVILES FAMILIARES"), IF(X36<1500,"Menos de 1.500 c.c.", IF(X36<2500,"Entre 1.500 y 2.500 c.c.","2.500 o más c.c.")), "")))) -> Entre 1.500 y 2.500 c.c. | AA36: DOBLE CABINA | AB36: 222 | AC36: NORORIENTE | AD36: 33 | AE36: =+C36=AD36 -> TRUE | AF36: =+_xlfn.XLOOKUP(D36,'[3]SOAT A ADQUIRIR 2025 _2026'!$B$2:$B$106,'[3]SOAT A ADQUIRIR 2025 _2026'!$M$2:$M$106) -> 222 | AG36: =+AB36=AF36 -> TRUE | AH36: =+AI36=O36 -> TRUE | AI36: =+_xlfn.XLOOKUP(AB36,Hoja3!$D$3:$D$39,Hoja3!$L$3:$L$39) -> 1121400
C37: 34 | D37: OBH708 | E37: GRAND VITARA | F37: SUZUKI | G37: 2010 | H37: =2026-G37 -> 16 | I37: =IF(H37>=10,"10 o mas años","menos de 10 años") -> 10 o mas años | J37: Oficial | K37: 5 | L37: 46386 | M37: =+L37+1 -> 46387 | N37: 46751 | O37: {=_xlfn.IFS(W37="CAMPEROS Y CAMIONETAS",_xlfn.IFS(AND(Z37="Menos de 1.500 c.c.",I37="menos de 10 años"),'TARIFAS MAS RUNT'!$E$14,AND(Z37="Menos de 1.500 c.c.",I37="10 o mas años"),'TARIFAS MAS RUNT'!$E$15,AND(Z37="Entre 1.500 y 2.500 c.c.",I37="menos de 10 años"),'TARIFAS MAS RUNT'!$E$16,AND(Z37="Entre 1.500 y 2.500 c.c.",I37="10 o mas años"),'TARIFAS MAS RUNT'!$E$17,AND(Z37="Más de 2.500 c.c.",I37="menos de 10 años"),'TARIFAS MAS RUNT'!$E$18,AND(Z37="Más de 2.500 c.c.",I37="10 o mas años"),'TARIFAS MAS RUNT'!$E$19,TRUE,"Sin Tarifa"),W37="CARGA O MIXTOS",_xlfn.IFS(Z37="Menos de 5 Toneladas",'TARIFAS MAS RUNT'!$E$20,Z37="Entre 5 y 15 Toneladas",'TARIFAS MAS RUNT'!$E$21,Z37="Más de 15 Toneladas",'TARIFAS MAS RUNT'!$E$22,TRUE,"Sin Tarifa"),W37="OFICIALES ESPECIALES",_xlfn.IFS(Z37="Menos de 1.500 c.c.",'TARIFAS MAS RUNT'!$E$23,Z37="Entre 1.500 y 2.500 c.c.",'TARIFAS MAS RUNT'!$E$24,Z37="Más de 2.500 c.c.",'TARIFAS MAS RUNT'!$E$25,TRUE,"Sin Tarifa"),W37="AUTOMOVILES FAMILIARES",_xlfn.IFS(AND(Z37="Menos de 1.500 c.c.",I37="menos de 10 años"),'TARIFAS MAS RUNT'!$E$26,AND(Z37="Menos de 1.500 c.c.",I37="10 o mas años"),'TARIFAS MAS RUNT'!$E$27,AND(Z37="Entre 1.500 y 2.500 c.c.",I37="menos de 10 años"),'TARIFAS MAS RUNT'!$E$28,AND(Z37="Entre 1.500 y 2.500 c.c.",I37="10 o mas años"),'TARIFAS MAS RUNT'!$E$29,AND(Z37="Más de 2.500 c.c.",I37="menos de 10 años"),'TARIFAS MAS RUNT'!$E$30,AND(Z37="Más de 2.500 c.c.",I37="10 o mas años"),'TARIFAS MAS RUNT'!$E$31,TRUE,"Sin Tarifa"),TRUE,"Clase no encontrada")} -> 1274000 | P37: =+_xlfn.XLOOKUP(O37,'[2]ReporteCotizaciones (2)'!$H$2:$H$90,'[2]ReporteCotizaciones (2)'!$F$2:$F$90) -> 836600 | Q37: =+_xlfn.XLOOKUP(O37,Hoja3!$L$3:$L$39,Hoja3!$I$3:$I$39) -> 435000 | R37: 2400 | S37: =+P37+Q37+R37 -> 1274000 | T37: =+O37=S37 -> TRUE | W37: CAMPEROS Y CAMIONETAS | X37: 2700 | Y37: N/A | Z37: =IF(OR(W37="CAMPEROS Y CAMIONETAS",W37="VEHICULOS FAMILIARES",W37="AUTOS NEGOCIO"), IF(X37<1500,"Menos de 1.500 c.c.", IF(X37<=2500,"Entre 1.500 y 2.500 c.c.","Más de 2.500 c.c.")), IF(W37="CARGA O MIXTOS", IF(X37<5000,"Menos de 5 Toneladas", IF(X37<=15000,"Entre 5 y 15 Toneladas","Más de 15 Toneladas")), IF(W37="OFICIALES ESPECIALES", IF(X37<1500,"Menos de 1.500 c.c.", IF(X37<=2500,"Entre 1.500 y 2.500 c.c.","Más de 2.500 c.c.")), IF(OR(W37="VEHICULOS 6 o más pasajeros",W37="AUTOMOVILES FAMILIARES"), IF(X37<1500,"Menos de 1.500 c.c.", IF(X37<2500,"Entre 1.500 y 2.500 c.c.","2.500 o más c.c.")), "")))) -> Más de 2.500 c.c. | AA37: CABINADO | AB37: 232 | AC37: NOROCCIDENTE | AD37: 34 | AE37: =+C37=AD37 -> TRUE | AF37: =+_xlfn.XLOOKUP(D37,'[3]SOAT A ADQUIRIR 2025 _2026'!$B$2:$B$106,'[3]SOAT A ADQUIRIR 2025 _2026'!$M$2:$M$106) -> 232 | AG37: =+AB37=AF37 -> TRUE | AH37: =+AI37=O37 -> TRUE | AI37: =+_xlfn.XLOOKUP(AB37,Hoja3!$D$3:$D$39,Hoja3!$L$3:$L$39) -> 1274000
C38: 35 | D38: OBH738 | E38: SYMBOL II CONFORT | F38: RENAULT | G38: 2011 | H38: =2026-G38 -> 15 | I38: =IF(H38>=10,"10 o mas años","menos de 10 años") -> 10 o mas años | J38: Oficial | K38: 5 | L38: 46386 | M38: =+L38+1 -> 46387 | N38: 46751 | O38: {=_xlfn.IFS(W38="CAMPEROS Y CAMIONETAS",_xlfn.IFS(AND(Z38="Menos de 1.500 c.c.",I38="menos de 10 años"),'TARIFAS MAS RUNT'!$E$14,AND(Z38="Menos de 1.500 c.c.",I38="10 o mas años"),'TARIFAS MAS RUNT'!$E$15,AND(Z38="Entre 1.500 y 2.500 c.c.",I38="menos de 10 años"),'TARIFAS MAS RUNT'!$E$16,AND(Z38="Entre 1.500 y 2.500 c.c.",I38="10 o mas años"),'TARIFAS MAS RUNT'!$E$17,AND(Z38="Más de 2.500 c.c.",I38="menos de 10 años"),'TARIFAS MAS RUNT'!$E$18,AND(Z38="Más de 2.500 c.c.",I38="10 o mas años"),'TARIFAS MAS RUNT'!$E$19,TRUE,"Sin Tarifa"),W38="CARGA O MIXTOS",_xlfn.IFS(Z38="Menos de 5 Toneladas",'TARIFAS MAS RUNT'!$E$20,Z38="Entre 5 y 15 Toneladas",'TARIFAS MAS RUNT'!$E$21,Z38="Más de 15 Toneladas",'TARIFAS MAS RUNT'!$E$22,TRUE,"Sin Tarifa"),W38="OFICIALES ESPECIALES",_xlfn.IFS(Z38="Menos de 1.500 c.c.",'TARIFAS MAS RUNT'!$E$23,Z38="Entre 1.500 y 2.500 c.c.",'TARIFAS MAS RUNT'!$E$24,Z38="Más de 2.500 c.c.",'TARIFAS MAS RUNT'!$E$25,TRUE,"Sin Tarifa"),W38="AUTOMOVILES FAMILIARES",_xlfn.IFS(AND(Z38="Menos de 1.500 c.c.",I38="menos de 10 años"),'TARIFAS MAS RUNT'!$E$26,AND(Z38="Menos de 1.500 c.c.",I38="10 o mas años"),'TARIFAS MAS RUNT'!$E$27,AND(Z38="Entre 1.500 y 2.500 c.c.",I38="menos de 10 años"),'TARIFAS MAS RUNT'!$E$28,AND(Z38="Entre 1.500 y 2.500 c.c.",I38="10 o mas años"),'TARIFAS MAS RUNT'!$E$29,AND(Z38="Más de 2.500 c.c.",I38="menos de 10 años"),'TARIFAS MAS RUNT'!$E$30,AND(Z38="Más de 2.500 c.c.",I38="10 o mas años"),'TARIFAS MAS RUNT'!$E$31,TRUE,"Sin Tarifa"),TRUE,"Clase no encontrada")} -> 677400 | P38: =+_xlfn.XLOOKUP(O38,'[2]ReporteCotizaciones (2)'!$H$2:$H$90,'[2]ReporteCotizaciones (2)'!$F$2:$F$90) -> 444100 | Q38: =+_xlfn.XLOOKUP(O38,Hoja3!$L$3:$L$39,Hoja3!$I$3:$I$39) -> 230900 | R38: 2400 | S38: =+P38+Q38+R38 -> 677400 | T38: =+O38=S38 -> TRUE | W38: AUTOMOVILES FAMILIARES | X38: 1598 | Y38: N/A | Z38: =IF(OR(W38="CAMPEROS Y CAMIONETAS",W38="VEHICULOS FAMILIARES",W38="AUTOS NEGOCIO"), IF(X38<1500,"Menos de 1.500 c.c.", IF(X38<=2500,"Entre 1.500 y 2.500 c.c.","Más de 2.500 c.c.")), IF(W38="CARGA O MIXTOS", IF(X38<5000,"Menos de 5 Toneladas", IF(X38<=15000,"Entre 5 y 15 Toneladas","Más de 15 Toneladas")), IF(W38="OFICIALES ESPECIALES", IF(X38<1500,"Menos de 1.500 c.c.", IF(X38<=2500,"Entre 1.500 y 2.500 c.c.","Más de 2.500 c.c.")), IF(OR(W38="VEHICULOS 6 o más pasajeros",W38="AUTOMOVILES FAMILIARES"), IF(X38<1500,"Menos de 1.500 c.c.", IF(X38<2500,"Entre 1.500 y 2.500 c.c.","2.500 o más c.c.")), "")))) -> Entre 1.500 y 2.500 c.c. | AA38: SEDAN | AB38: 522 | AC38: OCCIDENTE | AD38: 35 | AE38: =+C38=AD38 -> TRUE | AF38: =+_xlfn.XLOOKUP(D38,'[3]SOAT A ADQUIRIR 2025 _2026'!$B$2:$B$106,'[3]SOAT A ADQUIRIR 2025 _2026'!$M$2:$M$106) -> 522 | AG38: =+AB38=AF38 -> TRUE | AH38: =+AI38=O38 -> TRUE | AI38: =+_xlfn.XLOOKUP(AB38,Hoja3!$D$3:$D$39,Hoja3!$L$3:$L$39) -> 677400
C39: 36 | D39: OBH739 | E39: SYMBOL II CONFORT | F39: RENAULT | G39: 2011 | H39: =2026-G39 -> 15 | I39: =IF(H39>=10,"10 o mas años","menos de 10 años") -> 10 o mas años | J39: Oficial | K39: 5 | L39: 46386 | M39: =+L39+1 -> 46387 | N39: 46751 | O39: {=_xlfn.IFS(W39="CAMPEROS Y CAMIONETAS",_xlfn.IFS(AND(Z39="Menos de 1.500 c.c.",I39="menos de 10 años"),'TARIFAS MAS RUNT'!$E$14,AND(Z39="Menos de 1.500 c.c.",I39="10 o mas años"),'TARIFAS MAS RUNT'!$E$15,AND(Z39="Entre 1.500 y 2.500 c.c.",I39="menos de 10 años"),'TARIFAS MAS RUNT'!$E$16,AND(Z39="Entre 1.500 y 2.500 c.c.",I39="10 o mas años"),'TARIFAS MAS RUNT'!$E$17,AND(Z39="Más de 2.500 c.c.",I39="menos de 10 años"),'TARIFAS MAS RUNT'!$E$18,AND(Z39="Más de 2.500 c.c.",I39="10 o mas años"),'TARIFAS MAS RUNT'!$E$19,TRUE,"Sin Tarifa"),W39="CARGA O MIXTOS",_xlfn.IFS(Z39="Menos de 5 Toneladas",'TARIFAS MAS RUNT'!$E$20,Z39="Entre 5 y 15 Toneladas",'TARIFAS MAS RUNT'!$E$21,Z39="Más de 15 Toneladas",'TARIFAS MAS RUNT'!$E$22,TRUE,"Sin Tarifa"),W39="OFICIALES ESPECIALES",_xlfn.IFS(Z39="Menos de 1.500 c.c.",'TARIFAS MAS RUNT'!$E$23,Z39="Entre 1.500 y 2.500 c.c.",'TARIFAS MAS RUNT'!$E$24,Z39="Más de 2.500 c.c.",'TARIFAS MAS RUNT'!$E$25,TRUE,"Sin Tarifa"),W39="AUTOMOVILES FAMILIARES",_xlfn.IFS(AND(Z39="Menos de 1.500 c.c.",I39="menos de 10 años"),'TARIFAS MAS RUNT'!$E$26,AND(Z39="Menos de 1.500 c.c.",I39="10 o mas años"),'TARIFAS MAS RUNT'!$E$27,AND(Z39="Entre 1.500 y 2.500 c.c.",I39="menos de 10 años"),'TARIFAS MAS RUNT'!$E$28,AND(Z39="Entre 1.500 y 2.500 c.c.",I39="10 o mas años"),'TARIFAS MAS RUNT'!$E$29,AND(Z39="Más de 2.500 c.c.",I39="menos de 10 años"),'TARIFAS MAS RUNT'!$E$30,AND(Z39="Más de 2.500 c.c.",I39="10 o mas años"),'TARIFAS MAS RUNT'!$E$31,TRUE,"Sin Tarifa"),TRUE,"Clase no encontrada")} -> 677400 | P39: =+_xlfn.XLOOKUP(O39,'[2]ReporteCotizaciones (2)'!$H$2:$H$90,'[2]ReporteCotizaciones (2)'!$F$2:$F$90) -> 444100 | Q39: =+_xlfn.XLOOKUP(O39,Hoja3!$L$3:$L$39,Hoja3!$I$3:$I$39) -> 230900 | R39: 2400 | S39: =+P39+Q39+R39 -> 677400 | T39: =+O39=S39 -> TRUE | W39: AUTOMOVILES FAMILIARES | X39: 1598 | Y39: N/A | Z39: =IF(OR(W39="CAMPEROS Y CAMIONETAS",W39="VEHICULOS FAMILIARES",W39="AUTOS NEGOCIO"), IF(X39<1500,"Menos de 1.500 c.c.", IF(X39<=2500,"Entre 1.500 y 2.500 c.c.","Más de 2.500 c.c.")), IF(W39="CARGA O MIXTOS", IF(X39<5000,"Menos de 5 Toneladas", IF(X39<=15000,"Entre 5 y 15 Toneladas","Más de 15 Toneladas")), IF(W39="OFICIALES ESPECIALES", IF(X39<1500,"Menos de 1.500 c.c.", IF(X39<=2500,"Entre 1.500 y 2.500 c.c.","Más de 2.500 c.c.")), IF(OR(W39="VEHICULOS 6 o más pasajeros",W39="AUTOMOVILES FAMILIARES"), IF(X39<1500,"Menos de 1.500 c.c.", IF(X39<2500,"Entre 1.500 y 2.500 c.c.","2.500 o más c.c.")), "")))) -> Entre 1.500 y 2.500 c.c. | AA39: SEDAN | AB39: 522 | AC39: OCCIDENTE | AD39: 36 | AE39: =+C39=AD39 -> TRUE | AF39: =+_xlfn.XLOOKUP(D39,'[3]SOAT A ADQUIRIR 2025 _2026'!$B$2:$B$106,'[3]SOAT A ADQUIRIR 2025 _2026'!$M$2:$M$106) -> 522 | AG39: =+AB39=AF39 -> TRUE | AH39: =+AI39=O39 -> TRUE | AI39: =+_xlfn.XLOOKUP(AB39,Hoja3!$D$3:$D$39,Hoja3!$L$3:$L$39) -> 677400
C40: 37 | D40: OBH740 | E40: SYMBOL II CONFORT | F40: RENAULT | G40: 2011 | H40: =2026-G40 -> 15 | I40: =IF(H40>=10,"10 o mas años","menos de 10 años") -> 10 o mas años | J40: Oficial | K40: 5 | L40: 46386 | M40: =+L40+1 -> 46387 | N40: 46751 | O40: {=_xlfn.IFS(W40="CAMPEROS Y CAMIONETAS",_xlfn.IFS(AND(Z40="Menos de 1.500 c.c.",I40="menos de 10 años"),'TARIFAS MAS RUNT'!$E$14,AND(Z40="Menos de 1.500 c.c.",I40="10 o mas años"),'TARIFAS MAS RUNT'!$E$15,AND(Z40="Entre 1.500 y 2.500 c.c.",I40="menos de 10 años"),'TARIFAS MAS RUNT'!$E$16,AND(Z40="Entre 1.500 y 2.500 c.c.",I40="10 o mas años"),'TARIFAS MAS RUNT'!$E$17,AND(Z40="Más de 2.500 c.c.",I40="menos de 10 años"),'TARIFAS MAS RUNT'!$E$18,AND(Z40="Más de 2.500 c.c.",I40="10 o mas años"),'TARIFAS MAS RUNT'!$E$19,TRUE,"Sin Tarifa"),W40="CARGA O MIXTOS",_xlfn.IFS(Z40="Menos de 5 Toneladas",'TARIFAS MAS RUNT'!$E$20,Z40="Entre 5 y 15 Toneladas",'TARIFAS MAS RUNT'!$E$21,Z40="Más de 15 Toneladas",'TARIFAS MAS RUNT'!$E$22,TRUE,"Sin Tarifa"),W40="OFICIALES ESPECIALES",_xlfn.IFS(Z40="Menos de 1.500 c.c.",'TARIFAS MAS RUNT'!$E$23,Z40="Entre 1.500 y 2.500 c.c.",'TARIFAS MAS RUNT'!$E$24,Z40="Más de 2.500 c.c.",'TARIFAS MAS RUNT'!$E$25,TRUE,"Sin Tarifa"),W40="AUTOMOVILES FAMILIARES",_xlfn.IFS(AND(Z40="Menos de 1.500 c.c.",I40="menos de 10 años"),'TARIFAS MAS RUNT'!$E$26,AND(Z40="Menos de 1.500 c.c.",I40="10 o mas años"),'TARIFAS MAS RUNT'!$E$27,AND(Z40="Entre 1.500 y 2.500 c.c.",I40="menos de 10 años"),'TARIFAS MAS RUNT'!$E$28,AND(Z40="Entre 1.500 y 2.500 c.c.",I40="10 o mas años"),'TARIFAS MAS RUNT'!$E$29,AND(Z40="Más de 2.500 c.c.",I40="menos de 10 años"),'TARIFAS MAS RUNT'!$E$30,AND(Z40="Más de 2.500 c.c.",I40="10 o mas años"),'TARIFAS MAS RUNT'!$E$31,TRUE,"Sin Tarifa"),TRUE,"Clase no encontrada")} -> 677400 | P40: =+_xlfn.XLOOKUP(O40,'[2]ReporteCotizaciones (2)'!$H$2:$H$90,'[2]ReporteCotizaciones (2)'!$F$2:$F$90) -> 444100 | Q40: =+_xlfn.XLOOKUP(O40,Hoja3!$L$3:$L$39,Hoja3!$I$3:$I$39) -> 230900 | R40: 2400 | S40: =+P40+Q40+R40 -> 677400 | T40: =+O40=S40 -> TRUE | W40: AUTOMOVILES FAMILIARES | X40: 1598 | Y40: N/A | Z40: =IF(OR(W40="CAMPEROS Y CAMIONETAS",W40="VEHICULOS FAMILIARES",W40="AUTOS NEGOCIO"), IF(X40<1500,"Menos de 1.500 c.c.", IF(X40<=2500,"Entre 1.500 y 2.500 c.c.","Más de 2.500 c.c.")), IF(W40="CARGA O MIXTOS", IF(X40<5000,"Menos de 5 Toneladas", IF(X40<=15000,"Entre 5 y 15 Toneladas","Más de 15 Toneladas")), IF(W40="OFICIALES ESPECIALES", IF(X40<1500,"Menos de 1.500 c.c.", IF(X40<=2500,"Entre 1.500 y 2.500 c.c.","Más de 2.500 c.c.")), IF(OR(W40="VEHICULOS 6 o más pasajeros",W40="AUTOMOVILES FAMILIARES"), IF(X40<1500,"Menos de 1.500 c.c.", IF(X40<2500,"Entre 1.500 y 2.500 c.c.","2.500 o más c.c.")), "")))) -> Entre 1.500 y 2.500 c.c. | AA40: SEDAN | AB40: 522 | AC40: NIVEL CENTRAL | AD40: 37 | AE40: =+C40=AD40 -> TRUE | AF40: =+_xlfn.XLOOKUP(D40,'[3]SOAT A ADQUIRIR 2025 _2026'!$B$2:$B$106,'[3]SOAT A ADQUIRIR 2025 _2026'!$M$2:$M$106) -> 522 | AG40: =+AB40=AF40 -> TRUE | AH40: =+AI40=O40 -> TRUE | AI40: =+_xlfn.XLOOKUP(AB40,Hoja3!$D$3:$D$39,Hoja3!$L$3:$L$39) -> 677400
C41: 38 | D41: OBH741 | E41: SYMBOL II CONFORT | F41: RENAULT | G41: 2011 | H41: =2026-G41 -> 15 | I41: =IF(H41>=10,"10 o mas años","menos de 10 años") -> 10 o mas años | J41: Oficial | K41: 5 | L41: 46386 | M41: =+L41+1 -> 46387 | N41: 46751 | O41: {=_xlfn.IFS(W41="CAMPEROS Y CAMIONETAS",_xlfn.IFS(AND(Z41="Menos de 1.500 c.c.",I41="menos de 10 años"),'TARIFAS MAS RUNT'!$E$14,AND(Z41="Menos de 1.500 c.c.",I41="10 o mas años"),'TARIFAS MAS RUNT'!$E$15,AND(Z41="Entre 1.500 y 2.500 c.c.",I41="menos de 10 años"),'TARIFAS MAS RUNT'!$E$16,AND(Z41="Entre 1.500 y 2.500 c.c.",I41="10 o mas años"),'TARIFAS MAS RUNT'!$E$17,AND(Z41="Más de 2.500 c.c.",I41="menos de 10 años"),'TARIFAS MAS RUNT'!$E$18,AND(Z41="Más de 2.500 c.c.",I41="10 o mas años"),'TARIFAS MAS RUNT'!$E$19,TRUE,"Sin Tarifa"),W41="CARGA O MIXTOS",_xlfn.IFS(Z41="Menos de 5 Toneladas",'TARIFAS MAS RUNT'!$E$20,Z41="Entre 5 y 15 Toneladas",'TARIFAS MAS RUNT'!$E$21,Z41="Más de 15 Toneladas",'TARIFAS MAS RUNT'!$E$22,TRUE,"Sin Tarifa"),W41="OFICIALES ESPECIALES",_xlfn.IFS(Z41="Menos de 1.500 c.c.",'TARIFAS MAS RUNT'!$E$23,Z41="Entre 1.500 y 2.500 c.c.",'TARIFAS MAS RUNT'!$E$24,Z41="Más de 2.500 c.c.",'TARIFAS MAS RUNT'!$E$25,TRUE,"Sin Tarifa"),W41="AUTOMOVILES FAMILIARES",_xlfn.IFS(AND(Z41="Menos de 1.500 c.c.",I41="menos de 10 años"),'TARIFAS MAS RUNT'!$E$26,AND(Z41="Menos de 1.500 c.c.",I41="10 o mas años"),'TARIFAS MAS RUNT'!$E$27,AND(Z41="Entre 1.500 y 2.500 c.c.",I41="menos de 10 años"),'TARIFAS MAS RUNT'!$E$28,AND(Z41="Entre 1.500 y 2.500 c.c.",I41="10 o mas años"),'TARIFAS MAS RUNT'!$E$29,AND(Z41="Más de 2.500 c.c.",I41="menos de 10 años"),'TARIFAS MAS RUNT'!$E$30,AND(Z41="Más de 2.500 c.c.",I41="10 o mas años"),'TARIFAS MAS RUNT'!$E$31,TRUE,"Sin Tarifa"),TRUE,"Clase no encontrada")} -> 677400 | P41: =+_xlfn.XLOOKUP(O41,'[2]ReporteCotizaciones (2)'!$H$2:$H$90,'[2]ReporteCotizaciones (2)'!$F$2:$F$90) -> 444100 | Q41: =+_xlfn.XLOOKUP(O41,Hoja3!$L$3:$L$39,Hoja3!$I$3:$I$39) -> 230900 | R41: 2400 | S41: =+P41+Q41+R41 -> 677400 | T41: =+O41=S41 -> TRUE | W41: AUTOMOVILES FAMILIARES | X41: 1598 | Y41: N/A | Z41: =IF(OR(W41="CAMPEROS Y CAMIONETAS",W41="VEHICULOS FAMILIARES",W41="AUTOS NEGOCIO"), IF(X41<1500,"Menos de 1.500 c.c.", IF(X41<=2500,"Entre 1.500 y 2.500 c.c.","Más de 2.500 c.c.")), IF(W41="CARGA O MIXTOS", IF(X41<5000,"Menos de 5 Toneladas", IF(X41<=15000,"Entre 5 y 15 Toneladas","Más de 15 Toneladas")), IF(W41="OFICIALES ESPECIALES", IF(X41<1500,"Menos de 1.500 c.c.", IF(X41<=2500,"Entre 1.500 y 2.500 c.c.","Más de 2.500 c.c.")), IF(OR(W41="VEHICULOS 6 o más pasajeros",W41="AUTOMOVILES FAMILIARES"), IF(X41<1500,"Menos de 1.500 c.c.", IF(X41<2500,"Entre 1.500 y 2.500 c.c.","2.500 o más c.c.")), "")))) -> Entre 1.500 y 2.500 c.c. | AA41: SEDAN | AB41: 522 | AC41: OCCIDENTE | AD41: 38 | AE41: =+C41=AD41 -> TRUE | AF41: =+_xlfn.XLOOKUP(D41,'[3]SOAT A ADQUIRIR 2025 _2026'!$B$2:$B$106,'[3]SOAT A ADQUIRIR 2025 _2026'!$M$2:$M$106) -> 522 | AG41: =+AB41=AF41 -> TRUE | AH41: =+AI41=O41 -> TRUE | AI41: =+_xlfn.XLOOKUP(AB41,Hoja3!$D$3:$D$39,Hoja3!$L$3:$L$39) -> 677400
C42: 39 | D42: OBI395 | E42: BT 50 | F42: MAZDA | G42: 2011 | H42: =2026-G42 -> 15 | I42: =IF(H42>=10,"10 o mas años","menos de 10 años") -> 10 o mas años | J42: Oficial | K42: 5 | L42: 46386 | M42: =+L42+1 -> 46387 | N42: 46751 | O42: {=_xlfn.IFS(W42="CAMPEROS Y CAMIONETAS",_xlfn.IFS(AND(Z42="Menos de 1.500 c.c.",I42="menos de 10 años"),'TARIFAS MAS RUNT'!$E$14,AND(Z42="Menos de 1.500 c.c.",I42="10 o mas años"),'TARIFAS MAS RUNT'!$E$15,AND(Z42="Entre 1.500 y 2.500 c.c.",I42="menos de 10 años"),'TARIFAS MAS RUNT'!$E$16,AND(Z42="Entre 1.500 y 2.500 c.c.",I42="10 o mas años"),'TARIFAS MAS RUNT'!$E$17,AND(Z42="Más de 2.500 c.c.",I42="menos de 10 años"),'TARIFAS MAS RUNT'!$E$18,AND(Z42="Más de 2.500 c.c.",I42="10 o mas años"),'TARIFAS MAS RUNT'!$E$19,TRUE,"Sin Tarifa"),W42="CARGA O MIXTOS",_xlfn.IFS(Z42="Menos de 5 Toneladas",'TARIFAS MAS RUNT'!$E$20,Z42="Entre 5 y 15 Toneladas",'TARIFAS MAS RUNT'!$E$21,Z42="Más de 15 Toneladas",'TARIFAS MAS RUNT'!$E$22,TRUE,"Sin Tarifa"),W42="OFICIALES ESPECIALES",_xlfn.IFS(Z42="Menos de 1.500 c.c.",'TARIFAS MAS RUNT'!$E$23,Z42="Entre 1.500 y 2.500 c.c.",'TARIFAS MAS RUNT'!$E$24,Z42="Más de 2.500 c.c.",'TARIFAS MAS RUNT'!$E$25,TRUE,"Sin Tarifa"),W42="AUTOMOVILES FAMILIARES",_xlfn.IFS(AND(Z42="Menos de 1.500 c.c.",I42="menos de 10 años"),'TARIFAS MAS RUNT'!$E$26,AND(Z42="Menos de 1.500 c.c.",I42="10 o mas años"),'TARIFAS MAS RUNT'!$E$27,AND(Z42="Entre 1.500 y 2.500 c.c.",I42="menos de 10 años"),'TARIFAS MAS RUNT'!$E$28,AND(Z42="Entre 1.500 y 2.500 c.c.",I42="10 o mas años"),'TARIFAS MAS RUNT'!$E$29,AND(Z42="Más de 2.500 c.c.",I42="menos de 10 años"),'TARIFAS MAS RUNT'!$E$30,AND(Z42="Más de 2.500 c.c.",I42="10 o mas años"),'TARIFAS MAS RUNT'!$E$31,TRUE,"Sin Tarifa"),TRUE,"Clase no encontrada")} -> 1121400 | P42: =+_xlfn.XLOOKUP(O42,'[2]ReporteCotizaciones (2)'!$H$2:$H$90,'[2]ReporteCotizaciones (2)'!$F$2:$F$90) -> 736200 | Q42: =+_xlfn.XLOOKUP(O42,Hoja3!$L$3:$L$39,Hoja3!$I$3:$I$39) -> 382800 | R42: 2400 | S42: =+P42+Q42+R42 -> 1121400 | T42: =+O42=S42 -> TRUE | W42: CAMPEROS Y CAMIONETAS | X42: 2184 | Y42: N/A | Z42: =IF(OR(W42="CAMPEROS Y CAMIONETAS",W42="VEHICULOS FAMILIARES",W42="AUTOS NEGOCIO"), IF(X42<1500,"Menos de 1.500 c.c.", IF(X42<=2500,"Entre 1.500 y 2.500 c.c.","Más de 2.500 c.c.")), IF(W42="CARGA O MIXTOS", IF(X42<5000,"Menos de 5 Toneladas", IF(X42<=15000,"Entre 5 y 15 Toneladas","Más de 15 Toneladas")), IF(W42="OFICIALES ESPECIALES", IF(X42<1500,"Menos de 1.500 c.c.", IF(X42<=2500,"Entre 1.500 y 2.500 c.c.","Más de 2.500 c.c.")), IF(OR(W42="VEHICULOS 6 o más pasajeros",W42="AUTOMOVILES FAMILIARES"), IF(X42<1500,"Menos de 1.500 c.c.", IF(X42<2500,"Entre 1.500 y 2.500 c.c.","2.500 o más c.c.")), "")))) -> Entre 1.500 y 2.500 c.c. | AA42: DOBLE CABINA | AB42: 222 | AC42: OCCIDENTE | AD42: 39 | AE42: =+C42=AD42 -> TRUE | AF42: =+_xlfn.XLOOKUP(D42,'[3]SOAT A ADQUIRIR 2025 _2026'!$B$2:$B$106,'[3]SOAT A ADQUIRIR 2025 _2026'!$M$2:$M$106) -> 222 | AG42: =+AB42=AF42 -> TRUE | AH42: =+AI42=O42 -> TRUE | AI42: =+_xlfn.XLOOKUP(AB42,Hoja3!$D$3:$D$39,Hoja3!$L$3:$L$39) -> 1121400
C43: 40 | D43: OBI396 | E43: BT 50 | F43: MAZDA | G43: 2011 | H43: =2026-G43 -> 15 | I43: =IF(H43>=10,"10 o mas años","menos de 10 años") -> 10 o mas años | J43: Oficial | K43: 5 | L43: 46386 | M43: =+L43+1 -> 46387 | N43: 46751 | O43: {=_xlfn.IFS(W43="CAMPEROS Y CAMIONETAS",_xlfn.IFS(AND(Z43="Menos de 1.500 c.c.",I43="menos de 10 años"),'TARIFAS MAS RUNT'!$E$14,AND(Z43="Menos de 1.500 c.c.",I43="10 o mas años"),'TARIFAS MAS RUNT'!$E$15,AND(Z43="Entre 1.500 y 2.500 c.c.",I43="menos de 10 años"),'TARIFAS MAS RUNT'!$E$16,AND(Z43="Entre 1.500 y 2.500 c.c.",I43="10 o mas años"),'TARIFAS MAS RUNT'!$E$17,AND(Z43="Más de 2.500 c.c.",I43="menos de 10 años"),'TARIFAS MAS RUNT'!$E$18,AND(Z43="Más de 2.500 c.c.",I43="10 o mas años"),'TARIFAS MAS RUNT'!$E$19,TRUE,"Sin Tarifa"),W43="CARGA O MIXTOS",_xlfn.IFS(Z43="Menos de 5 Toneladas",'TARIFAS MAS RUNT'!$E$20,Z43="Entre 5 y 15 Toneladas",'TARIFAS MAS RUNT'!$E$21,Z43="Más de 15 Toneladas",'TARIFAS MAS RUNT'!$E$22,TRUE,"Sin Tarifa"),W43="OFICIALES ESPECIALES",_xlfn.IFS(Z43="Menos de 1.500 c.c.",'TARIFAS MAS RUNT'!$E$23,Z43="Entre 1.500 y 2.500 c.c.",'TARIFAS MAS RUNT'!$E$24,Z43="Más de 2.500 c.c.",'TARIFAS MAS RUNT'!$E$25,TRUE,"Sin Tarifa"),W43="AUTOMOVILES FAMILIARES",_xlfn.IFS(AND(Z43="Menos de 1.500 c.c.",I43="menos de 10 años"),'TARIFAS MAS RUNT'!$E$26,AND(Z43="Menos de 1.500 c.c.",I43="10 o mas años"),'TARIFAS MAS RUNT'!$E$27,AND(Z43="Entre 1.500 y 2.500 c.c.",I43="menos de 10 años"),'TARIFAS MAS RUNT'!$E$28,AND(Z43="Entre 1.500 y 2.500 c.c.",I43="10 o mas años"),'TARIFAS MAS RUNT'!$E$29,AND(Z43="Más de 2.500 c.c.",I43="menos de 10 años"),'TARIFAS MAS RUNT'!$E$30,AND(Z43="Más de 2.500 c.c.",I43="10 o mas años"),'TARIFAS MAS RUNT'!$E$31,TRUE,"Sin Tarifa"),TRUE,"Clase no encontrada")} -> 1121400 | P43: =+_xlfn.XLOOKUP(O43,'[2]ReporteCotizaciones (2)'!$H$2:$H$90,'[2]ReporteCotizaciones (2)'!$F$2:$F$90) -> 736200 | Q43: =+_xlfn.XLOOKUP(O43,Hoja3!$L$3:$L$39,Hoja3!$I$3:$I$39) -> 382800 | R43: 2400 | S43: =+P43+Q43+R43 -> 1121400 | T43: =+O43=S43 -> TRUE | W43: CAMPEROS Y CAMIONETAS | X43: 2184 | Y43: N/A | Z43: =IF(OR(W43="CAMPEROS Y CAMIONETAS",W43="VEHICULOS FAMILIARES",W43="AUTOS NEGOCIO"), IF(X43<1500,"Menos de 1.500 c.c.", IF(X43<=2500,"Entre 1.500 y 2.500 c.c.","Más de 2.500 c.c.")), IF(W43="CARGA O MIXTOS", IF(X43<5000,"Menos de 5 Toneladas", IF(X43<=15000,"Entre 5 y 15 Toneladas","Más de 15 Toneladas")), IF(W43="OFICIALES ESPECIALES", IF(X43<1500,"Menos de 1.500 c.c.", IF(X43<=2500,"Entre 1.500 y 2.500 c.c.","Más de 2.500 c.c.")), IF(OR(W43="VEHICULOS 6 o más pasajeros",W43="AUTOMOVILES FAMILIARES"), IF(X43<1500,"Menos de 1.500 c.c.", IF(X43<2500,"Entre 1.500 y 2.500 c.c.","2.500 o más c.c.")), "")))) -> Entre 1.500 y 2.500 c.c. | AA43: DOBLE CABINA | AB43: 222 | AC43: NORTE | AD43: 40 | AE43: =+C43=AD43 -> TRUE | AF43: =+_xlfn.XLOOKUP(D43,'[3]SOAT A ADQUIRIR 2025 _2026'!$B$2:$B$106,'[3]SOAT A ADQUIRIR 2025 _2026'!$M$2:$M$106) -> 222 | AG43: =+AB43=AF43 -> TRUE | AH43: =+AI43=O43 -> TRUE | AI43: =+_xlfn.XLOOKUP(AB43,Hoja3!$D$3:$D$39,Hoja3!$L$3:$L$39) -> 1121400
C44: 41 | D44: OBI397 | E44: BT 50 | F44: MAZDA | G44: 2011 | H44: =2026-G44 -> 15 | I44: =IF(H44>=10,"10 o mas años","menos de 10 años") -> 10 o mas años | J44: Oficial | K44: 5 | L44: 46386 | M44: =+L44+1 -> 46387 | N44: 46751 | O44: {=_xlfn.IFS(W44="CAMPEROS Y CAMIONETAS",_xlfn.IFS(AND(Z44="Menos de 1.500 c.c.",I44="menos de 10 años"),'TARIFAS MAS RUNT'!$E$14,AND(Z44="Menos de 1.500 c.c.",I44="10 o mas años"),'TARIFAS MAS RUNT'!$E$15,AND(Z44="Entre 1.500 y 2.500 c.c.",I44="menos de 10 años"),'TARIFAS MAS RUNT'!$E$16,AND(Z44="Entre 1.500 y 2.500 c.c.",I44="10 o mas años"),'TARIFAS MAS RUNT'!$E$17,AND(Z44="Más de 2.500 c.c.",I44="menos de 10 años"),'TARIFAS MAS RUNT'!$E$18,AND(Z44="Más de 2.500 c.c.",I44="10 o mas años"),'TARIFAS MAS RUNT'!$E$19,TRUE,"Sin Tarifa"),W44="CARGA O MIXTOS",_xlfn.IFS(Z44="Menos de 5 Toneladas",'TARIFAS MAS RUNT'!$E$20,Z44="Entre 5 y 15 Toneladas",'TARIFAS MAS RUNT'!$E$21,Z44="Más de 15 Toneladas",'TARIFAS MAS RUNT'!$E$22,TRUE,"Sin Tarifa"),W44="OFICIALES ESPECIALES",_xlfn.IFS(Z44="Menos de 1.500 c.c.",'TARIFAS MAS RUNT'!$E$23,Z44="Entre 1.500 y 2.500 c.c.",'TARIFAS MAS RUNT'!$E$24,Z44="Más de 2.500 c.c.",'TARIFAS MAS RUNT'!$E$25,TRUE,"Sin Tarifa"),W44="AUTOMOVILES FAMILIARES",_xlfn.IFS(AND(Z44="Menos de 1.500 c.c.",I44="menos de 10 años"),'TARIFAS MAS RUNT'!$E$26,AND(Z44="Menos de 1.500 c.c.",I44="10 o mas años"),'TARIFAS MAS RUNT'!$E$27,AND(Z44="Entre 1.500 y 2.500 c.c.",I44="menos de 10 años"),'TARIFAS MAS RUNT'!$E$28,AND(Z44="Entre 1.500 y 2.500 c.c.",I44="10 o mas años"),'TARIFAS MAS RUNT'!$E$29,AND(Z44="Más de 2.500 c.c.",I44="menos de 10 años"),'TARIFAS MAS RUNT'!$E$30,AND(Z44="Más de 2.500 c.c.",I44="10 o mas años"),'TARIFAS MAS RUNT'!$E$31,TRUE,"Sin Tarifa"),TRUE,"Clase no encontrada")} -> 1121400 | P44: =+_xlfn.XLOOKUP(O44,'[2]ReporteCotizaciones (2)'!$H$2:$H$90,'[2]ReporteCotizaciones (2)'!$F$2:$F$90) -> 736200 | Q44: =+_xlfn.XLOOKUP(O44,Hoja3!$L$3:$L$39,Hoja3!$I$3:$I$39) -> 382800 | R44: 2400 | S44: =+P44+Q44+R44 -> 1121400 | T44: =+O44=S44 -> TRUE | W44: CAMPEROS Y CAMIONETAS | X44: 2499 | Y44: N/A | Z44: =IF(OR(W44="CAMPEROS Y CAMIONETAS",W44="VEHICULOS FAMILIARES",W44="AUTOS NEGOCIO"), IF(X44<1500,"Menos de 1.500 c.c.", IF(X44<=2500,"Entre 1.500 y 2.500 c.c.","Más de 2.500 c.c.")), IF(W44="CARGA O MIXTOS", IF(X44<5000,"Menos de 5 Toneladas", IF(X44<=15000,"Entre 5 y 15 Toneladas","Más de 15 Toneladas")), IF(W44="OFICIALES ESPECIALES", IF(X44<1500,"Menos de 1.500 c.c.", IF(X44<=2500,"Entre 1.500 y 2.500 c.c.","Más de 2.500 c.c.")), IF(OR(W44="VEHICULOS 6 o más pasajeros",W44="AUTOMOVILES FAMILIARES"), IF(X44<1500,"Menos de 1.500 c.c.", IF(X44<2500,"Entre 1.500 y 2.500 c.c.","2.500 o más c.c.")), "")))) -> Entre 1.500 y 2.500 c.c. | AA44: DOBLE CABINA | AB44: 222 | AC44: SUR | AD44: 41 | AE44: =+C44=AD44 -> TRUE | AF44: =+_xlfn.XLOOKUP(D44,'[3]SOAT A ADQUIRIR 2025 _2026'!$B$2:$B$106,'[3]SOAT A ADQUIRIR 2025 _2026'!$M$2:$M$106) -> 222 | AG44: =+AB44=AF44 -> TRUE | AH44: =+AI44=O44 -> TRUE | AI44: =+_xlfn.XLOOKUP(AB44,Hoja3!$D$3:$D$39,Hoja3!$L$3:$L$39) -> 1121400
C45: 42 | D45: OBI398 | E45: BT 50 | F45: MAZDA | G45: 2011 | H45: =2026-G45 -> 15 | I45: =IF(H45>=10,"10 o mas años","menos de 10 años") -> 10 o mas años | J45: Oficial | K45: 5 | L45: 46386 | M45: =+L45+1 -> 46387 | N45: 46751 | O45: {=_xlfn.IFS(W45="CAMPEROS Y CAMIONETAS",_xlfn.IFS(AND(Z45="Menos de 1.500 c.c.",I45="menos de 10 años"),'TARIFAS MAS RUNT'!$E$14,AND(Z45="Menos de 1.500 c.c.",I45="10 o mas años"),'TARIFAS MAS RUNT'!$E$15,AND(Z45="Entre 1.500 y 2.500 c.c.",I45="menos de 10 años"),'TARIFAS MAS RUNT'!$E$16,AND(Z45="Entre 1.500 y 2.500 c.c.",I45="10 o mas años"),'TARIFAS MAS RUNT'!$E$17,AND(Z45="Más de 2.500 c.c.",I45="menos de 10 años"),'TARIFAS MAS RUNT'!$E$18,AND(Z45="Más de 2.500 c.c.",I45="10 o mas años"),'TARIFAS MAS RUNT'!$E$19,TRUE,"Sin Tarifa"),W45="CARGA O MIXTOS",_xlfn.IFS(Z45="Menos de 5 Toneladas",'TARIFAS MAS RUNT'!$E$20,Z45="Entre 5 y 15 Toneladas",'TARIFAS MAS RUNT'!$E$21,Z45="Más de 15 Toneladas",'TARIFAS MAS RUNT'!$E$22,TRUE,"Sin Tarifa"),W45="OFICIALES ESPECIALES",_xlfn.IFS(Z45="Menos de 1.500 c.c.",'TARIFAS MAS RUNT'!$E$23,Z45="Entre 1.500 y 2.500 c.c.",'TARIFAS MAS RUNT'!$E$24,Z45="Más de 2.500 c.c.",'TARIFAS MAS RUNT'!$E$25,TRUE,"Sin Tarifa"),W45="AUTOMOVILES FAMILIARES",_xlfn.IFS(AND(Z45="Menos de 1.500 c.c.",I45="menos de 10 años"),'TARIFAS MAS RUNT'!$E$26,AND(Z45="Menos de 1.500 c.c.",I45="10 o mas años"),'TARIFAS MAS RUNT'!$E$27,AND(Z45="Entre 1.500 y 2.500 c.c.",I45="menos de 10 años"),'TARIFAS MAS RUNT'!$E$28,AND(Z45="Entre 1.500 y 2.500 c.c.",I45="10 o mas años"),'TARIFAS MAS RUNT'!$E$29,AND(Z45="Más de 2.500 c.c.",I45="menos de 10 años"),'TARIFAS MAS RUNT'!$E$30,AND(Z45="Más de 2.500 c.c.",I45="10 o mas años"),'TARIFAS MAS RUNT'!$E$31,TRUE,"Sin Tarifa"),TRUE,"Clase no encontrada")} -> 1121400 | P45: =+_xlfn.XLOOKUP(O45,'[2]ReporteCotizaciones (2)'!$H$2:$H$90,'[2]ReporteCotizaciones (2)'!$F$2:$F$90) -> 736200 | Q45: =+_xlfn.XLOOKUP(O45,Hoja3!$L$3:$L$39,Hoja3!$I$3:$I$39) -> 382800 | R45: 2400 | S45: =+P45+Q45+R45 -> 1121400 | T45: =+O45=S45 -> TRUE | W45: CAMPEROS Y CAMIONETAS | X45: 2499 | Y45: N/A | Z45: =IF(OR(W45="CAMPEROS Y CAMIONETAS",W45="VEHICULOS FAMILIARES",W45="AUTOS NEGOCIO"), IF(X45<1500,"Menos de 1.500 c.c.", IF(X45<=2500,"Entre 1.500 y 2.500 c.c.","Más de 2.500 c.c.")), IF(W45="CARGA O MIXTOS", IF(X45<5000,"Menos de 5 Toneladas", IF(X45<=15000,"Entre 5 y 15 Toneladas","Más de 15 Toneladas")), IF(W45="OFICIALES ESPECIALES", IF(X45<1500,"Menos de 1.500 c.c.", IF(X45<=2500,"Entre 1.500 y 2.500 c.c.","Más de 2.500 c.c.")), IF(OR(W45="VEHICULOS 6 o más pasajeros",W45="AUTOMOVILES FAMILIARES"), IF(X45<1500,"Menos de 1.500 c.c.", IF(X45<2500,"Entre 1.500 y 2.500 c.c.","2.500 o más c.c.")), "")))) -> Entre 1.500 y 2.500 c.c. | AA45: DOBLE CABINA | AB45: 222 | AC45: SUROCCIDENTE | AD45: 42 | AE45: =+C45=AD45 -> TRUE | AF45: =+_xlfn.XLOOKUP(D45,'[3]SOAT A ADQUIRIR 2025 _2026'!$B$2:$B$106,'[3]SOAT A ADQUIRIR 2025 _2026'!$M$2:$M$106) -> 222 | AG45: =+AB45=AF45 -> TRUE | AH45: =+AI45=O45 -> TRUE | AI45: =+_xlfn.XLOOKUP(AB45,Hoja3!$D$3:$D$39,Hoja3!$L$3:$L$39) -> 1121400
... C47: 44 | D47: OBI613 | E47: BT 50 | F47: MAZDA | G47: 2011 | H47: =2026-G47 -> 15 | I47: =IF(H47>=10,"10 o mas años","menos de 10 años") -> 10 o mas años | J47: Oficial | K47: 5 | L47: 46386 | M47: =+L47+1 -> 46387 | N47: 46751 | O47: {=_xlfn.IFS(W47="CAMPEROS Y CAMIONETAS",_xlfn.IFS(AND(Z47="Menos de 1.500 c.c.",I47="menos de 10 años"),'TARIFAS MAS RUNT'!$E$14,AND(Z47="Menos de 1.500 c.c.",I47="10 o mas años"),'TARIFAS MAS RUNT'!$E$15,AND(Z47="Entre 1.500 y 2.500 c.c.",I47="menos de 10 años"),'TARIFAS MAS RUNT'!$E$16,AND(Z47="Entre 1.500 y 2.500 c.c.",I47="10 o mas años"),'TARIFAS MAS RUNT'!$E$17,AND(Z47="Más de 2.500 c.c.",I47="menos de 10 años"),'TARIFAS MAS RUNT'!$E$18,AND(Z47="Más de 2.500 c.c.",I47="10 o mas años"),'TARIFAS MAS RUNT'!$E$19,TRUE,"Sin Tarifa"),W47="CARGA O MIXTOS",_xlfn.IFS(Z47="Menos de 5 Toneladas",'TARIFAS MAS RUNT'!$E$20,Z47="Entre 5 y 15 Toneladas",'TARIFAS MAS RUNT'!$E$21,Z47="Más de 15 Toneladas",'TARIFAS MAS RUNT'!$E$22,TRUE,"Sin Tarifa"),W47="OFICIALES ESPECIALES",_xlfn.IFS(Z47="Menos de 1.500 c.c.",'TARIFAS MAS RUNT'!$E$23,Z47="Entre 1.500 y 2.500 c.c.",'TARIFAS MAS RUNT'!$E$24,Z47="Más de 2.500 c.c.",'TARIFAS MAS RUNT'!$E$25,TRUE,"Sin Tarifa"),W47="AUTOMOVILES FAMILIARES",_xlfn.IFS(AND(Z47="Menos de 1.500 c.c.",I47="menos de 10 años"),'TARIFAS MAS RUNT'!$E$26,AND(Z47="Menos de 1.500 c.c.",I47="10 o mas años"),'TARIFAS MAS RUNT'!$E$27,AND(Z47="Entre 1.500 y 2.500 c.c.",I47="menos de 10 años"),'TARIFAS MAS RUNT'!$E$28,AND(Z47="Entre 1.500 y 2.500 c.c.",I47="10 o mas años"),'TARIFAS MAS RUNT'!$E$29,AND(Z47="Más de 2.500 c.c.",I47="menos de 10 años"),'TARIFAS MAS RUNT'!$E$30,AND(Z47="Más de 2.500 c.c.",I47="10 o mas años"),'TARIFAS MAS RUNT'!$E$31,TRUE,"Sin Tarifa"),TRUE,"Clase no encontrada")} -> 1121400 | P47: =+_xlfn.XLOOKUP(O47,'[2]ReporteCotizaciones (2)'!$H$2:$H$90,'[2]ReporteCotizaciones (2)'!$F$2:$F$90) -> 736200 | Q47: =+_xlfn.XLOOKUP(O47,Hoja3!$L$3:$L$39,Hoja3!$I$3:$I$39) -> 382800 | R47: 2400 | S47: =+P47+Q47+R47 -> 1121400 | T47: =+O47=S47 -> TRUE | W47: CAMPEROS Y CAMIONETAS | X47: 2499 | Y47: N/A | Z47: =IF(OR(W47="CAMPEROS Y CAMIONETAS",W47="VEHICULOS FAMILIARES",W47="AUTOS NEGOCIO"), IF(X47<1500,"Menos de 1.500 c.c.", IF(X47<=2500,"Entre 1.500 y 2.500 c.c.","Más de 2.500 c.c.")), IF(W47="CARGA O MIXTOS", IF(X47<5000,"Menos de 5 Toneladas", IF(X47<=15000,"Entre 5 y 15 Toneladas","Más de 15 Toneladas")), IF(W47="OFICIALES ESPECIALES", IF(X47<1500,"Menos de 1.500 c.c.", IF(X47<=2500,"Entre 1.500 y 2.500 c.c.","Más de 2.500 c.c.")), IF(OR(W47="VEHICULOS 6 o más pasajeros",W47="AUTOMOVILES FAMILIARES"), IF(X47<1500,"Menos de 1.500 c.c.", IF(X47<2500,"Entre 1.500 y 2.500 c.c.","2.500 o más c.c.")), "")))) -> Entre 1.500 y 2.500 c.c. | AA47: DOBLE CABINA | AB47: 222 | AC47: OCCIDENTE | AD47: 44 | AE47: =+C47=AD47 -> TRUE | AF47: =+_xlfn.XLOOKUP(D47,'[3]SOAT A ADQUIRIR 2025 _2026'!$B$2:$B$106,'[3]SOAT A ADQUIRIR 2025 _2026'!$M$2:$M$106) -> 222 | AG47: =+AB47=AF47 -> TRUE | AH47: =+AI47=O47 -> TRUE | AI47: =+_xlfn.XLOOKUP(AB47,Hoja3!$D$3:$D$39,Hoja3!$L$3:$L$39) -> 1121400
B48: NORTE | C48: 45 | D48: OBI790 | E48: BT 50 | F48: MAZDA | G48: 2011 | H48: =2026-G48 -> 15 | I48: =IF(H48>=10,"10 o mas años","menos de 10 años") -> 10 o mas años | J48: Oficial | K48: 5 | L48: 46386 | M48: =+L48+1 -> 46387 | N48: 46751 | O48: {=_xlfn.IFS(W48="CAMPEROS Y CAMIONETAS",_xlfn.IFS(AND(Z48="Menos de 1.500 c.c.",I48="menos de 10 años"),'TARIFAS MAS RUNT'!$E$14,AND(Z48="Menos de 1.500 c.c.",I48="10 o mas años"),'TARIFAS MAS RUNT'!$E$15,AND(Z48="Entre 1.500 y 2.500 c.c.",I48="menos de 10 años"),'TARIFAS MAS RUNT'!$E$16,AND(Z48="Entre 1.500 y 2.500 c.c.",I48="10 o mas años"),'TARIFAS MAS RUNT'!$E$17,AND(Z48="Más de 2.500 c.c.",I48="menos de 10 años"),'TARIFAS MAS RUNT'!$E$18,AND(Z48="Más de 2.500 c.c.",I48="10 o mas años"),'TARIFAS MAS RUNT'!$E$19,TRUE,"Sin Tarifa"),W48="CARGA O MIXTOS",_xlfn.IFS(Z48="Menos de 5 Toneladas",'TARIFAS MAS RUNT'!$E$20,Z48="Entre 5 y 15 Toneladas",'TARIFAS MAS RUNT'!$E$21,Z48="Más de 15 Toneladas",'TARIFAS MAS RUNT'!$E$22,TRUE,"Sin Tarifa"),W48="OFICIALES ESPECIALES",_xlfn.IFS(Z48="Menos de 1.500 c.c.",'TARIFAS MAS RUNT'!$E$23,Z48="Entre 1.500 y 2.500 c.c.",'TARIFAS MAS RUNT'!$E$24,Z48="Más de 2.500 c.c.",'TARIFAS MAS RUNT'!$E$25,TRUE,"Sin Tarifa"),W48="AUTOMOVILES FAMILIARES",_xlfn.IFS(AND(Z48="Menos de 1.500 c.c.",I48="menos de 10 años"),'TARIFAS MAS RUNT'!$E$26,AND(Z48="Menos de 1.500 c.c.",I48="10 o mas años"),'TARIFAS MAS RUNT'!$E$27,AND(Z48="Entre 1.500 y 2.500 c.c.",I48="menos de 10 años"),'TARIFAS MAS RUNT'!$E$28,AND(Z48="Entre 1.500 y 2.500 c.c.",I48="10 o mas años"),'TARIFAS MAS RUNT'!$E$29,AND(Z48="Más de 2.500 c.c.",I48="menos de 10 años"),'TARIFAS MAS RUNT'!$E$30,AND(Z48="Más de 2.500 c.c.",I48="10 o mas años"),'TARIFAS MAS RUNT'!$E$31,TRUE,"Sin Tarifa"),TRUE,"Clase no encontrada")} -> 1121400 | P48: =+_xlfn.XLOOKUP(O48,'[2]ReporteCotizaciones (2)'!$H$2:$H$90,'[2]ReporteCotizaciones (2)'!$F$2:$F$90) -> 736200 | Q48: =+_xlfn.XLOOKUP(O48,Hoja3!$L$3:$L$39,Hoja3!$I$3:$I$39) -> 382800 | R48: 2400 | S48: =+P48+Q48+R48 -> 1121400 | T48: =+O48=S48 -> TRUE | W48: CAMPEROS Y CAMIONETAS | X48: 2184 | Y48: N/A | Z48: =IF(OR(W48="CAMPEROS Y CAMIONETAS",W48="VEHICULOS FAMILIARES",W48="AUTOS NEGOCIO"), IF(X48<1500,"Menos de 1.500 c.c.", IF(X48<=2500,"Entre 1.500 y 2.500 c.c.","Más de 2.500 c.c.")), IF(W48="CARGA O MIXTOS", IF(X48<5000,"Menos de 5 Toneladas", IF(X48<=15000,"Entre 5 y 15 Toneladas","Más de 15 Toneladas")), IF(W48="OFICIALES ESPECIALES", IF(X48<1500,"Menos de 1.500 c.c.", IF(X48<=2500,"Entre 1.500 y 2.500 c.c.","Más de 2.500 c.c.")), IF(OR(W48="VEHICULOS 6 o más pasajeros",W48="AUTOMOVILES FAMILIARES"), IF(X48<1500,"Menos de 1.500 c.c.", IF(X48<2500,"Entre 1.500 y 2.500 c.c.","2.500 o más c.c.")), "")))) -> Entre 1.500 y 2.500 c.c. | AA48: DOBLE CABINA | AB48: 222 | AC48: NORORIENTE | AD48: 45 | AE48: =+C48=AD48 -> TRUE | AF48: =+_xlfn.XLOOKUP(D48,'[3]SOAT A ADQUIRIR 2025 _2026'!$B$2:$B$106,'[3]SOAT A ADQUIRIR 2025 _2026'!$M$2:$M$106) -> 222 | AG48: =+AB48=AF48 -> TRUE | AH48: =+AI48=O48 -> TRUE | AI48: =+_xlfn.XLOOKUP(AB48,Hoja3!$D$3:$D$39,Hoja3!$L$3:$L$39) -> 1121400
C49: 46 | D49: OCJ957 | E49: LUV D MAX | F49: CHEVROLET | G49: 2012 | H49: =2026-G49 -> 14 | I49: =IF(H49>=10,"10 o mas años","menos de 10 años") -> 10 o mas años | J49: Oficial | K49: 5 | L49: 46386 | M49: =+L49+1 -> 46387 | N49: 46751 | O49: {=_xlfn.IFS(W49="CAMPEROS Y CAMIONETAS",_xlfn.IFS(AND(Z49="Menos de 1.500 c.c.",I49="menos de 10 años"),'TARIFAS MAS RUNT'!$E$14,AND(Z49="Menos de 1.500 c.c.",I49="10 o mas años"),'TARIFAS MAS RUNT'!$E$15,AND(Z49="Entre 1.500 y 2.500 c.c.",I49="menos de 10 años"),'TARIFAS MAS RUNT'!$E$16,AND(Z49="Entre 1.500 y 2.500 c.c.",I49="10 o mas años"),'TARIFAS MAS RUNT'!$E$17,AND(Z49="Más de 2.500 c.c.",I49="menos de 10 años"),'TARIFAS MAS RUNT'!$E$18,AND(Z49="Más de 2.500 c.c.",I49="10 o mas años"),'TARIFAS MAS RUNT'!$E$19,TRUE,"Sin Tarifa"),W49="CARGA O MIXTOS",_xlfn.IFS(Z49="Menos de 5 Toneladas",'TARIFAS MAS RUNT'!$E$20,Z49="Entre 5 y 15 Toneladas",'TARIFAS MAS RUNT'!$E$21,Z49="Más de 15 Toneladas",'TARIFAS MAS RUNT'!$E$22,TRUE,"Sin Tarifa"),W49="OFICIALES ESPECIALES",_xlfn.IFS(Z49="Menos de 1.500 c.c.",'TARIFAS MAS RUNT'!$E$23,Z49="Entre 1.500 y 2.500 c.c.",'TARIFAS MAS RUNT'!$E$24,Z49="Más de 2.500 c.c.",'TARIFAS MAS RUNT'!$E$25,TRUE,"Sin Tarifa"),W49="AUTOMOVILES FAMILIARES",_xlfn.IFS(AND(Z49="Menos de 1.500 c.c.",I49="menos de 10 años"),'TARIFAS MAS RUNT'!$E$26,AND(Z49="Menos de 1.500 c.c.",I49="10 o mas años"),'TARIFAS MAS RUNT'!$E$27,AND(Z49="Entre 1.500 y 2.500 c.c.",I49="menos de 10 años"),'TARIFAS MAS RUNT'!$E$28,AND(Z49="Entre 1.500 y 2.500 c.c.",I49="10 o mas años"),'TARIFAS MAS RUNT'!$E$29,AND(Z49="Más de 2.500 c.c.",I49="menos de 10 años"),'TARIFAS MAS RUNT'!$E$30,AND(Z49="Más de 2.500 c.c.",I49="10 o mas años"),'TARIFAS MAS RUNT'!$E$31,TRUE,"Sin Tarifa"),TRUE,"Clase no encontrada")} -> 1274000 | P49: =+_xlfn.XLOOKUP(O49,'[2]ReporteCotizaciones (2)'!$H$2:$H$90,'[2]ReporteCotizaciones (2)'!$F$2:$F$90) -> 836600 | Q49: =+_xlfn.XLOOKUP(O49,Hoja3!$L$3:$L$39,Hoja3!$I$3:$I$39) -> 435000 | R49: 2400 | S49: =+P49+Q49+R49 -> 1274000 | T49: =+O49=S49 -> TRUE | W49: CAMPEROS Y CAMIONETAS | X49: 2999 | Y49: N/A | Z49: =IF(OR(W49="CAMPEROS Y CAMIONETAS",W49="VEHICULOS FAMILIARES",W49="AUTOS NEGOCIO"), IF(X49<1500,"Menos de 1.500 c.c.", IF(X49<=2500,"Entre 1.500 y 2.500 c.c.","Más de 2.500 c.c.")), IF(W49="CARGA O MIXTOS", IF(X49<5000,"Menos de 5 Toneladas", IF(X49<=15000,"Entre 5 y 15 Toneladas","Más de 15 Toneladas")), IF(W49="OFICIALES ESPECIALES", IF(X49<1500,"Menos de 1.500 c.c.", IF(X49<=2500,"Entre 1.500 y 2.500 c.c.","Más de 2.500 c.c.")), IF(OR(W49="VEHICULOS 6 o más pasajeros",W49="AUTOMOVILES FAMILIARES"), IF(X49<1500,"Menos de 1.500 c.c.", IF(X49<2500,"Entre 1.500 y 2.500 c.c.","2.500 o más c.c.")), "")))) -> Más de 2.500 c.c. | AA49: DOBLE CABINA | AB49: 232 | AC49: OCCIDENTE | AD49: 46 | AE49: =+C49=AD49 -> TRUE | AF49: =+_xlfn.XLOOKUP(D49,'[3]SOAT A ADQUIRIR 2025 _2026'!$B$2:$B$106,'[3]SOAT A ADQUIRIR 2025 _2026'!$M$2:$M$106) -> 232 | AG49: =+AB49=AF49 -> TRUE | AH49: =+AI49=O49 -> TRUE | AI49: =+_xlfn.XLOOKUP(AB49,Hoja3!$D$3:$D$39,Hoja3!$L$3:$L$39) -> 1274000
C50: 47 | D50: OCJ958 | E50: LUV D MAX | F50: CHEVROLET | G50: 2012 | H50: =2026-G50 -> 14 | I50: =IF(H50>=10,"10 o mas años","menos de 10 años") -> 10 o mas años | J50: Oficial | K50: 5 | L50: 46386 | M50: =+L50+1 -> 46387 | N50: 46751 | O50: {=_xlfn.IFS(W50="CAMPEROS Y CAMIONETAS",_xlfn.IFS(AND(Z50="Menos de 1.500 c.c.",I50="menos de 10 años"),'TARIFAS MAS RUNT'!$E$14,AND(Z50="Menos de 1.500 c.c.",I50="10 o mas años"),'TARIFAS MAS RUNT'!$E$15,AND(Z50="Entre 1.500 y 2.500 c.c.",I50="menos de 10 años"),'TARIFAS MAS RUNT'!$E$16,AND(Z50="Entre 1.500 y 2.500 c.c.",I50="10 o mas años"),'TARIFAS MAS RUNT'!$E$17,AND(Z50="Más de 2.500 c.c.",I50="menos de 10 años"),'TARIFAS MAS RUNT'!$E$18,AND(Z50="Más de 2.500 c.c.",I50="10 o mas años"),'TARIFAS MAS RUNT'!$E$19,TRUE,"Sin Tarifa"),W50="CARGA O MIXTOS",_xlfn.IFS(Z50="Menos de 5 Toneladas",'TARIFAS MAS RUNT'!$E$20,Z50="Entre 5 y 15 Toneladas",'TARIFAS MAS RUNT'!$E$21,Z50="Más de 15 Toneladas",'TARIFAS MAS RUNT'!$E$22,TRUE,"Sin Tarifa"),W50="OFICIALES ESPECIALES",_xlfn.IFS(Z50="Menos de 1.500 c.c.",'TARIFAS MAS RUNT'!$E$23,Z50="Entre 1.500 y 2.500 c.c.",'TARIFAS MAS RUNT'!$E$24,Z50="Más de 2.500 c.c.",'TARIFAS MAS RUNT'!$E$25,TRUE,"Sin Tarifa"),W50="AUTOMOVILES FAMILIARES",_xlfn.IFS(AND(Z50="Menos de 1.500 c.c.",I50="menos de 10 años"),'TARIFAS MAS RUNT'!$E$26,AND(Z50="Menos de 1.500 c.c.",I50="10 o mas años"),'TARIFAS MAS RUNT'!$E$27,AND(Z50="Entre 1.500 y 2.500 c.c.",I50="menos de 10 años"),'TARIFAS MAS RUNT'!$E$28,AND(Z50="Entre 1.500 y 2.500 c.c.",I50="10 o mas años"),'TARIFAS MAS RUNT'!$E$29,AND(Z50="Más de 2.500 c.c.",I50="menos de 10 años"),'TARIFAS MAS RUNT'!$E$30,AND(Z50="Más de 2.500 c.c.",I50="10 o mas años"),'TARIFAS MAS RUNT'!$E$31,TRUE,"Sin Tarifa"),TRUE,"Clase no encontrada")} -> 1274000 | P50: =+_xlfn.XLOOKUP(O50,'[2]ReporteCotizaciones (2)'!$H$2:$H$90,'[2]ReporteCotizaciones (2)'!$F$2:$F$90) -> 836600 | Q50: =+_xlfn.XLOOKUP(O50,Hoja3!$L$3:$L$39,Hoja3!$I$3:$I$39) -> 435000 | R50: 2400 | S50: =+P50+Q50+R50 -> 1274000 | T50: =+O50=S50 -> TRUE | W50: CAMPEROS Y CAMIONETAS | X50: 2999 | Y50: N/A | Z50: =IF(OR(W50="CAMPEROS Y CAMIONETAS",W50="VEHICULOS FAMILIARES",W50="AUTOS NEGOCIO"), IF(X50<1500,"Menos de 1.500 c.c.", IF(X50<=2500,"Entre 1.500 y 2.500 c.c.","Más de 2.500 c.c.")), IF(W50="CARGA O MIXTOS", IF(X50<5000,"Menos de 5 Toneladas", IF(X50<=15000,"Entre 5 y 15 Toneladas","Más de 15 Toneladas")), IF(W50="OFICIALES ESPECIALES", IF(X50<1500,"Menos de 1.500 c.c.", IF(X50<=2500,"Entre 1.500 y 2.500 c.c.","Más de 2.500 c.c.")), IF(OR(W50="VEHICULOS 6 o más pasajeros",W50="AUTOMOVILES FAMILIARES"), IF(X50<1500,"Menos de 1.500 c.c.", IF(X50<2500,"Entre 1.500 y 2.500 c.c.","2.500 o más c.c.")), "")))) -> Más de 2.500 c.c. | AA50: DOBLE CABINA | AB50: 232 | AC50: NOROCCIDENTE | AD50: 47 | AE50: =+C50=AD50 -> TRUE | AF50: =+_xlfn.XLOOKUP(D50,'[3]SOAT A ADQUIRIR 2025 _2026'!$B$2:$B$106,'[3]SOAT A ADQUIRIR 2025 _2026'!$M$2:$M$106) -> 232 | AG50: =+AB50=AF50 -> TRUE | AH50: =+AI50=O50 -> TRUE | AI50: =+_xlfn.XLOOKUP(AB50,Hoja3!$D$3:$D$39,Hoja3!$L$3:$L$39) -> 1274000
C51: 48 | D51: OCJ959 | E51: LUV D MAX | F51: CHEVROLET | G51: 2012 | H51: =2026-G51 -> 14 | I51: =IF(H51>=10,"10 o mas años","menos de 10 años") -> 10 o mas años | J51: Oficial | K51: 5 | L51: 46386 | M51: =+L51+1 -> 46387 | N51: 46751 | O51: {=_xlfn.IFS(W51="CAMPEROS Y CAMIONETAS",_xlfn.IFS(AND(Z51="Menos de 1.500 c.c.",I51="menos de 10 años"),'TARIFAS MAS RUNT'!$E$14,AND(Z51="Menos de 1.500 c.c.",I51="10 o mas años"),'TARIFAS MAS RUNT'!$E$15,AND(Z51="Entre 1.500 y 2.500 c.c.",I51="menos de 10 años"),'TARIFAS MAS RUNT'!$E$16,AND(Z51="Entre 1.500 y 2.500 c.c.",I51="10 o mas años"),'TARIFAS MAS RUNT'!$E$17,AND(Z51="Más de 2.500 c.c.",I51="menos de 10 años"),'TARIFAS MAS RUNT'!$E$18,AND(Z51="Más de 2.500 c.c.",I51="10 o mas años"),'TARIFAS MAS RUNT'!$E$19,TRUE,"Sin Tarifa"),W51="CARGA O MIXTOS",_xlfn.IFS(Z51="Menos de 5 Toneladas",'TARIFAS MAS RUNT'!$E$20,Z51="Entre 5 y 15 Toneladas",'TARIFAS MAS RUNT'!$E$21,Z51="Más de 15 Toneladas",'TARIFAS MAS RUNT'!$E$22,TRUE,"Sin Tarifa"),W51="OFICIALES ESPECIALES",_xlfn.IFS(Z51="Menos de 1.500 c.c.",'TARIFAS MAS RUNT'!$E$23,Z51="Entre 1.500 y 2.500 c.c.",'TARIFAS MAS RUNT'!$E$24,Z51="Más de 2.500 c.c.",'TARIFAS MAS RUNT'!$E$25,TRUE,"Sin Tarifa"),W51="AUTOMOVILES FAMILIARES",_xlfn.IFS(AND(Z51="Menos de 1.500 c.c.",I51="menos de 10 años"),'TARIFAS MAS RUNT'!$E$26,AND(Z51="Menos de 1.500 c.c.",I51="10 o mas años"),'TARIFAS MAS RUNT'!$E$27,AND(Z51="Entre 1.500 y 2.500 c.c.",I51="menos de 10 años"),'TARIFAS MAS RUNT'!$E$28,AND(Z51="Entre 1.500 y 2.500 c.c.",I51="10 o mas años"),'TARIFAS MAS RUNT'!$E$29,AND(Z51="Más de 2.500 c.c.",I51="menos de 10 años"),'TARIFAS MAS RUNT'!$E$30,AND(Z51="Más de 2.500 c.c.",I51="10 o mas años"),'TARIFAS MAS RUNT'!$E$31,TRUE,"Sin Tarifa"),TRUE,"Clase no encontrada")} -> 1274000 | P51: =+_xlfn.XLOOKUP(O51,'[2]ReporteCotizaciones (2)'!$H$2:$H$90,'[2]ReporteCotizaciones (2)'!$F$2:$F$90) -> 836600 | Q51: =+_xlfn.XLOOKUP(O51,Hoja3!$L$3:$L$39,Hoja3!$I$3:$I$39) -> 435000 | R51: 2400 | S51: =+P51+Q51+R51 -> 1274000 | T51: =+O51=S51 -> TRUE | W51: CAMPEROS Y CAMIONETAS | X51: 2999 | Y51: N/A | Z51: =IF(OR(W51="CAMPEROS Y CAMIONETAS",W51="VEHICULOS FAMILIARES",W51="AUTOS NEGOCIO"), IF(X51<1500,"Menos de 1.500 c.c.", IF(X51<=2500,"Entre 1.500 y 2.500 c.c.","Más de 2.500 c.c.")), IF(W51="CARGA O MIXTOS", IF(X51<5000,"Menos de 5 Toneladas", IF(X51<=15000,"Entre 5 y 15 Toneladas","Más de 15 Toneladas")), IF(W51="OFICIALES ESPECIALES", IF(X51<1500,"Menos de 1.500 c.c.", IF(X51<=2500,"Entre 1.500 y 2.500 c.c.","Más de 2.500 c.c.")), IF(OR(W51="VEHICULOS 6 o más pasajeros",W51="AUTOMOVILES FAMILIARES"), IF(X51<1500,"Menos de 1.500 c.c.", IF(X51<2500,"Entre 1.500 y 2.500 c.c.","2.500 o más c.c.")), "")))) -> Más de 2.500 c.c. | AA51: DOBLE CABINA | AB51: 232 | AC51: SUROCCIDENTE | AD51: 48 | AE51: =+C51=AD51 -> TRUE | AF51: =+_xlfn.XLOOKUP(D51,'[3]SOAT A ADQUIRIR 2025 _2026'!$B$2:$B$106,'[3]SOAT A ADQUIRIR 2025 _2026'!$M$2:$M$106) -> 232 | AG51: =+AB51=AF51 -> TRUE | AH51: =+AI51=O51 -> TRUE | AI51: =+_xlfn.XLOOKUP(AB51,Hoja3!$D$3:$D$39,Hoja3!$L$3:$L$39) -> 1274000
C52: 49 | D52: OCJ960 | E52: LUV D MAX | F52: CHEVROLET | G52: 2012 | H52: =2026-G52 -> 14 | I52: =IF(H52>=10,"10 o mas años","menos de 10 años") -> 10 o mas años | J52: Oficial | K52: 5 | L52: 46386 | M52: =+L52+1 -> 46387 | N52: 46751 | O52: {=_xlfn.IFS(W52="CAMPEROS Y CAMIONETAS",_xlfn.IFS(AND(Z52="Menos de 1.500 c.c.",I52="menos de 10 años"),'TARIFAS MAS RUNT'!$E$14,AND(Z52="Menos de 1.500 c.c.",I52="10 o mas años"),'TARIFAS MAS RUNT'!$E$15,AND(Z52="Entre 1.500 y 2.500 c.c.",I52="menos de 10 años"),'TARIFAS MAS RUNT'!$E$16,AND(Z52="Entre 1.500 y 2.500 c.c.",I52="10 o mas años"),'TARIFAS MAS RUNT'!$E$17,AND(Z52="Más de 2.500 c.c.",I52="menos de 10 años"),'TARIFAS MAS RUNT'!$E$18,AND(Z52="Más de 2.500 c.c.",I52="10 o mas años"),'TARIFAS MAS RUNT'!$E$19,TRUE,"Sin Tarifa"),W52="CARGA O MIXTOS",_xlfn.IFS(Z52="Menos de 5 Toneladas",'TARIFAS MAS RUNT'!$E$20,Z52="Entre 5 y 15 Toneladas",'TARIFAS MAS RUNT'!$E$21,Z52="Más de 15 Toneladas",'TARIFAS MAS RUNT'!$E$22,TRUE,"Sin Tarifa"),W52="OFICIALES ESPECIALES",_xlfn.IFS(Z52="Menos de 1.500 c.c.",'TARIFAS MAS RUNT'!$E$23,Z52="Entre 1.500 y 2.500 c.c.",'TARIFAS MAS RUNT'!$E$24,Z52="Más de 2.500 c.c.",'TARIFAS MAS RUNT'!$E$25,TRUE,"Sin Tarifa"),W52="AUTOMOVILES FAMILIARES",_xlfn.IFS(AND(Z52="Menos de 1.500 c.c.",I52="menos de 10 años"),'TARIFAS MAS RUNT'!$E$26,AND(Z52="Menos de 1.500 c.c.",I52="10 o mas años"),'TARIFAS MAS RUNT'!$E$27,AND(Z52="Entre 1.500 y 2.500 c.c.",I52="menos de 10 años"),'TARIFAS MAS RUNT'!$E$28,AND(Z52="Entre 1.500 y 2.500 c.c.",I52="10 o mas años"),'TARIFAS MAS RUNT'!$E$29,AND(Z52="Más de 2.500 c.c.",I52="menos de 10 años"),'TARIFAS MAS RUNT'!$E$30,AND(Z52="Más de 2.500 c.c.",I52="10 o mas años"),'TARIFAS MAS RUNT'!$E$31,TRUE,"Sin Tarifa"),TRUE,"Clase no encontrada")} -> 1274000 | P52: =+_xlfn.XLOOKUP(O52,'[2]ReporteCotizaciones (2)'!$H$2:$H$90,'[2]ReporteCotizaciones (2)'!$F$2:$F$90) -> 836600 | Q52: =+_xlfn.XLOOKUP(O52,Hoja3!$L$3:$L$39,Hoja3!$I$3:$I$39) -> 435000 | R52: 2400 | S52: =+P52+Q52+R52 -> 1274000 | T52: =+O52=S52 -> TRUE | W52: CAMPEROS Y CAMIONETAS | X52: 2999 | Y52: N/A | Z52: =IF(OR(W52="CAMPEROS Y CAMIONETAS",W52="VEHICULOS FAMILIARES",W52="AUTOS NEGOCIO"), IF(X52<1500,"Menos de 1.500 c.c.", IF(X52<=2500,"Entre 1.500 y 2.500 c.c.","Más de 2.500 c.c.")), IF(W52="CARGA O MIXTOS", IF(X52<5000,"Menos de 5 Toneladas", IF(X52<=15000,"Entre 5 y 15 Toneladas","Más de 15 Toneladas")), IF(W52="OFICIALES ESPECIALES", IF(X52<1500,"Menos de 1.500 c.c.", IF(X52<=2500,"Entre 1.500 y 2.500 c.c.","Más de 2.500 c.c.")), IF(OR(W52="VEHICULOS 6 o más pasajeros",W52="AUTOMOVILES FAMILIARES"), IF(X52<1500,"Menos de 1.500 c.c.", IF(X52<2500,"Entre 1.500 y 2.500 c.c.","2.500 o más c.c.")), "")))) -> Más de 2.500 c.c. | AA52: DOBLE CABINA | AB52: 232 | AC52: NORORIENTE | AD52: 49 | AE52: =+C52=AD52 -> TRUE | AF52: =+_xlfn.XLOOKUP(D52,'[3]SOAT A ADQUIRIR 2025 _2026'!$B$2:$B$106,'[3]SOAT A ADQUIRIR 2025 _2026'!$M$2:$M$106) -> 232 | AG52: =+AB52=AF52 -> TRUE | AH52: =+AI52=O52 -> TRUE | AI52: =+_xlfn.XLOOKUP(AB52,Hoja3!$D$3:$D$39,Hoja3!$L$3:$L$39) -> 1274000
C53: 50 | D53: OCJ961 | E53: LUV D MAX | F53: CHEVROLET | G53: 2012 | H53: =2026-G53 -> 14 | I53: =IF(H53>=10,"10 o mas años","menos de 10 años") -> 10 o mas años | J53: Oficial | K53: 5 | L53: 46386 | M53: =+L53+1 -> 46387 | N53: 46751 | O53: {=_xlfn.IFS(W53="CAMPEROS Y CAMIONETAS",_xlfn.IFS(AND(Z53="Menos de 1.500 c.c.",I53="menos de 10 años"),'TARIFAS MAS RUNT'!$E$14,AND(Z53="Menos de 1.500 c.c.",I53="10 o mas años"),'TARIFAS MAS RUNT'!$E$15,AND(Z53="Entre 1.500 y 2.500 c.c.",I53="menos de 10 años"),'TARIFAS MAS RUNT'!$E$16,AND(Z53="Entre 1.500 y 2.500 c.c.",I53="10 o mas años"),'TARIFAS MAS RUNT'!$E$17,AND(Z53="Más de 2.500 c.c.",I53="menos de 10 años"),'TARIFAS MAS RUNT'!$E$18,AND(Z53="Más de 2.500 c.c.",I53="10 o mas años"),'TARIFAS MAS RUNT'!$E$19,TRUE,"Sin Tarifa"),W53="CARGA O MIXTOS",_xlfn.IFS(Z53="Menos de 5 Toneladas",'TARIFAS MAS RUNT'!$E$20,Z53="Entre 5 y 15 Toneladas",'TARIFAS MAS RUNT'!$E$21,Z53="Más de 15 Toneladas",'TARIFAS MAS RUNT'!$E$22,TRUE,"Sin Tarifa"),W53="OFICIALES ESPECIALES",_xlfn.IFS(Z53="Menos de 1.500 c.c.",'TARIFAS MAS RUNT'!$E$23,Z53="Entre 1.500 y 2.500 c.c.",'TARIFAS MAS RUNT'!$E$24,Z53="Más de 2.500 c.c.",'TARIFAS MAS RUNT'!$E$25,TRUE,"Sin Tarifa"),W53="AUTOMOVILES FAMILIARES",_xlfn.IFS(AND(Z53="Menos de 1.500 c.c.",I53="menos de 10 años"),'TARIFAS MAS RUNT'!$E$26,AND(Z53="Menos de 1.500 c.c.",I53="10 o mas años"),'TARIFAS MAS RUNT'!$E$27,AND(Z53="Entre 1.500 y 2.500 c.c.",I53="menos de 10 años"),'TARIFAS MAS RUNT'!$E$28,AND(Z53="Entre 1.500 y 2.500 c.c.",I53="10 o mas años"),'TARIFAS MAS RUNT'!$E$29,AND(Z53="Más de 2.500 c.c.",I53="menos de 10 años"),'TARIFAS MAS RUNT'!$E$30,AND(Z53="Más de 2.500 c.c.",I53="10 o mas años"),'TARIFAS MAS RUNT'!$E$31,TRUE,"Sin Tarifa"),TRUE,"Clase no encontrada")} -> 1274000 | P53: =+_xlfn.XLOOKUP(O53,'[2]ReporteCotizaciones (2)'!$H$2:$H$90,'[2]ReporteCotizaciones (2)'!$F$2:$F$90) -> 836600 | Q53: =+_xlfn.XLOOKUP(O53,Hoja3!$L$3:$L$39,Hoja3!$I$3:$I$39) -> 435000 | R53: 2400 | S53: =+P53+Q53+R53 -> 1274000 | T53: =+O53=S53 -> TRUE | W53: CAMPEROS Y CAMIONETAS | X53: 2999 | Y53: N/A | Z53: =IF(OR(W53="CAMPEROS Y CAMIONETAS",W53="VEHICULOS FAMILIARES",W53="AUTOS NEGOCIO"), IF(X53<1500,"Menos de 1.500 c.c.", IF(X53<=2500,"Entre 1.500 y 2.500 c.c.","Más de 2.500 c.c.")), IF(W53="CARGA O MIXTOS", IF(X53<5000,"Menos de 5 Toneladas", IF(X53<=15000,"Entre 5 y 15 Toneladas","Más de 15 Toneladas")), IF(W53="OFICIALES ESPECIALES", IF(X53<1500,"Menos de 1.500 c.c.", IF(X53<=2500,"Entre 1.500 y 2.500 c.c.","Más de 2.500 c.c.")), IF(OR(W53="VEHICULOS 6 o más pasajeros",W53="AUTOMOVILES FAMILIARES"), IF(X53<1500,"Menos de 1.500 c.c.", IF(X53<2500,"Entre 1.500 y 2.500 c.c.","2.500 o más c.c.")), "")))) -> Más de 2.500 c.c. | AA53: DOBLE CABINA | AB53: 232 | AC53: NORTE | AD53: 50 | AE53: =+C53=AD53 -> TRUE | AF53: =+_xlfn.XLOOKUP(D53,'[3]SOAT A ADQUIRIR 2025 _2026'!$B$2:$B$106,'[3]SOAT A ADQUIRIR 2025 _2026'!$M$2:$M$106) -> 232 | AG53: =+AB53=AF53 -> TRUE | AH53: =+AI53=O53 -> TRUE | AI53: =+_xlfn.XLOOKUP(AB53,Hoja3!$D$3:$D$39,Hoja3!$L$3:$L$39) -> 1274000
C54: 51 | D54: OCJ962 | E54: CAPTIVA SPORT | F54: CHEVROLET | G54: 2012 | H54: =2026-G54 -> 14 | I54: =IF(H54>=10,"10 o mas años","menos de 10 años") -> 10 o mas años | J54: Oficial | K54: 5 | L54: 46386 | M54: =+L54+1 -> 46387 | N54: 46751 | O54: {=_xlfn.IFS(W54="CAMPEROS Y CAMIONETAS",_xlfn.IFS(AND(Z54="Menos de 1.500 c.c.",I54="menos de 10 años"),'TARIFAS MAS RUNT'!$E$14,AND(Z54="Menos de 1.500 c.c.",I54="10 o mas años"),'TARIFAS MAS RUNT'!$E$15,AND(Z54="Entre 1.500 y 2.500 c.c.",I54="menos de 10 años"),'TARIFAS MAS RUNT'!$E$16,AND(Z54="Entre 1.500 y 2.500 c.c.",I54="10 o mas años"),'TARIFAS MAS RUNT'!$E$17,AND(Z54="Más de 2.500 c.c.",I54="menos de 10 años"),'TARIFAS MAS RUNT'!$E$18,AND(Z54="Más de 2.500 c.c.",I54="10 o mas años"),'TARIFAS MAS RUNT'!$E$19,TRUE,"Sin Tarifa"),W54="CARGA O MIXTOS",_xlfn.IFS(Z54="Menos de 5 Toneladas",'TARIFAS MAS RUNT'!$E$20,Z54="Entre 5 y 15 Toneladas",'TARIFAS MAS RUNT'!$E$21,Z54="Más de 15 Toneladas",'TARIFAS MAS RUNT'!$E$22,TRUE,"Sin Tarifa"),W54="OFICIALES ESPECIALES",_xlfn.IFS(Z54="Menos de 1.500 c.c.",'TARIFAS MAS RUNT'!$E$23,Z54="Entre 1.500 y 2.500 c.c.",'TARIFAS MAS RUNT'!$E$24,Z54="Más de 2.500 c.c.",'TARIFAS MAS RUNT'!$E$25,TRUE,"Sin Tarifa"),W54="AUTOMOVILES FAMILIARES",_xlfn.IFS(AND(Z54="Menos de 1.500 c.c.",I54="menos de 10 años"),'TARIFAS MAS RUNT'!$E$26,AND(Z54="Menos de 1.500 c.c.",I54="10 o mas años"),'TARIFAS MAS RUNT'!$E$27,AND(Z54="Entre 1.500 y 2.500 c.c.",I54="menos de 10 años"),'TARIFAS MAS RUNT'!$E$28,AND(Z54="Entre 1.500 y 2.500 c.c.",I54="10 o mas años"),'TARIFAS MAS RUNT'!$E$29,AND(Z54="Más de 2.500 c.c.",I54="menos de 10 años"),'TARIFAS MAS RUNT'!$E$30,AND(Z54="Más de 2.500 c.c.",I54="10 o mas años"),'TARIFAS MAS RUNT'!$E$31,TRUE,"Sin Tarifa"),TRUE,"Clase no encontrada")} -> 1274000 | P54: =+_xlfn.XLOOKUP(O54,'[2]ReporteCotizaciones (2)'!$H$2:$H$90,'[2]ReporteCotizaciones (2)'!$F$2:$F$90) -> 836600 | Q54: =+_xlfn.XLOOKUP(O54,Hoja3!$L$3:$L$39,Hoja3!$I$3:$I$39) -> 435000 | R54: 2400 | S54: =+P54+Q54+R54 -> 1274000 | T54: =+O54=S54 -> TRUE | W54: CAMPEROS Y CAMIONETAS | X54: 2997 | Y54: N/A | Z54: =IF(OR(W54="CAMPEROS Y CAMIONETAS",W54="VEHICULOS FAMILIARES",W54="AUTOS NEGOCIO"), IF(X54<1500,"Menos de 1.500 c.c.", IF(X54<=2500,"Entre 1.500 y 2.500 c.c.","Más de 2.500 c.c.")), IF(W54="CARGA O MIXTOS", IF(X54<5000,"Menos de 5 Toneladas", IF(X54<=15000,"Entre 5 y 15 Toneladas","Más de 15 Toneladas")), IF(W54="OFICIALES ESPECIALES", IF(X54<1500,"Menos de 1.500 c.c.", IF(X54<=2500,"Entre 1.500 y 2.500 c.c.","Más de 2.500 c.c.")), IF(OR(W54="VEHICULOS 6 o más pasajeros",W54="AUTOMOVILES FAMILIARES"), IF(X54<1500,"Menos de 1.500 c.c.", IF(X54<2500,"Entre 1.500 y 2.500 c.c.","2.500 o más c.c.")), "")))) -> Más de 2.500 c.c. | AA54: WAGON | AB54: 232 | AC54: NIVEL CENTRAL | AD54: 51 | AE54: =+C54=AD54 -> TRUE | AF54: =+_xlfn.XLOOKUP(D54,'[3]SOAT A ADQUIRIR 2025 _2026'!$B$2:$B$106,'[3]SOAT A ADQUIRIR 2025 _2026'!$M$2:$M$106) -> 232 | AG54: =+AB54=AF54 -> TRUE | AH54: =+AI54=O54 -> TRUE | AI54: =+_xlfn.XLOOKUP(AB54,Hoja3!$D$3:$D$39,Hoja3!$L$3:$L$39) -> 1274000
C55: 52 | D55: OCJ963 | E55: CAPTIVA SPORT | F55: CHEVROLET | G55: 2012 | H55: =2026-G55 -> 14 | I55: =IF(H55>=10,"10 o mas años","menos de 10 años") -> 10 o mas años | J55: Oficial | K55: 5 | L55: 46386 | M55: =+L55+1 -> 46387 | N55: 46751 | O55: {=_xlfn.IFS(W55="CAMPEROS Y CAMIONETAS",_xlfn.IFS(AND(Z55="Menos de 1.500 c.c.",I55="menos de 10 años"),'TARIFAS MAS RUNT'!$E$14,AND(Z55="Menos de 1.500 c.c.",I55="10 o mas años"),'TARIFAS MAS RUNT'!$E$15,AND(Z55="Entre 1.500 y 2.500 c.c.",I55="menos de 10 años"),'TARIFAS MAS RUNT'!$E$16,AND(Z55="Entre 1.500 y 2.500 c.c.",I55="10 o mas años"),'TARIFAS MAS RUNT'!$E$17,AND(Z55="Más de 2.500 c.c.",I55="menos de 10 años"),'TARIFAS MAS RUNT'!$E$18,AND(Z55="Más de 2.500 c.c.",I55="10 o mas años"),'TARIFAS MAS RUNT'!$E$19,TRUE,"Sin Tarifa"),W55="CARGA O MIXTOS",_xlfn.IFS(Z55="Menos de 5 Toneladas",'TARIFAS MAS RUNT'!$E$20,Z55="Entre 5 y 15 Toneladas",'TARIFAS MAS RUNT'!$E$21,Z55="Más de 15 Toneladas",'TARIFAS MAS RUNT'!$E$22,TRUE,"Sin Tarifa"),W55="OFICIALES ESPECIALES",_xlfn.IFS(Z55="Menos de 1.500 c.c.",'TARIFAS MAS RUNT'!$E$23,Z55="Entre 1.500 y 2.500 c.c.",'TARIFAS MAS RUNT'!$E$24,Z55="Más de 2.500 c.c.",'TARIFAS MAS RUNT'!$E$25,TRUE,"Sin Tarifa"),W55="AUTOMOVILES FAMILIARES",_xlfn.IFS(AND(Z55="Menos de 1.500 c.c.",I55="menos de 10 años"),'TARIFAS MAS RUNT'!$E$26,AND(Z55="Menos de 1.500 c.c.",I55="10 o mas años"),'TARIFAS MAS RUNT'!$E$27,AND(Z55="Entre 1.500 y 2.500 c.c.",I55="menos de 10 años"),'TARIFAS MAS RUNT'!$E$28,AND(Z55="Entre 1.500 y 2.500 c.c.",I55="10 o mas años"),'TARIFAS MAS RUNT'!$E$29,AND(Z55="Más de 2.500 c.c.",I55="menos de 10 años"),'TARIFAS MAS RUNT'!$E$30,AND(Z55="Más de 2.500 c.c.",I55="10 o mas años"),'TARIFAS MAS RUNT'!$E$31,TRUE,"Sin Tarifa"),TRUE,"Clase no encontrada")} -> 1274000 | P55: =+_xlfn.XLOOKUP(O55,'[2]ReporteCotizaciones (2)'!$H$2:$H$90,'[2]ReporteCotizaciones (2)'!$F$2:$F$90) -> 836600 | Q55: =+_xlfn.XLOOKUP(O55,Hoja3!$L$3:$L$39,Hoja3!$I$3:$I$39) -> 435000 | R55: 2400 | S55: =+P55+Q55+R55 -> 1274000 | T55: =+O55=S55 -> TRUE | W55: CAMPEROS Y CAMIONETAS | X55: 2997 | Y55: N/A | Z55: =IF(OR(W55="CAMPEROS Y CAMIONETAS",W55="VEHICULOS FAMILIARES",W55="AUTOS NEGOCIO"), IF(X55<1500,"Menos de 1.500 c.c.", IF(X55<=2500,"Entre 1.500 y 2.500 c.c.","Más de 2.500 c.c.")), IF(W55="CARGA O MIXTOS", IF(X55<5000,"Menos de 5 Toneladas", IF(X55<=15000,"Entre 5 y 15 Toneladas","Más de 15 Toneladas")), IF(W55="OFICIALES ESPECIALES", IF(X55<1500,"Menos de 1.500 c.c.", IF(X55<=2500,"Entre 1.500 y 2.500 c.c.","Más de 2.500 c.c.")), IF(OR(W55="VEHICULOS 6 o más pasajeros",W55="AUTOMOVILES FAMILIARES"), IF(X55<1500,"Menos de 1.500 c.c.", IF(X55<2500,"Entre 1.500 y 2.500 c.c.","2.500 o más c.c.")), "")))) -> Más de 2.500 c.c. | AA55: WAGON | AB55: 232 | AC55: NIVEL CENTRAL | AD55: 52 | AE55: =+C55=AD55 -> TRUE | AF55: =+_xlfn.XLOOKUP(D55,'[3]SOAT A ADQUIRIR 2025 _2026'!$B$2:$B$106,'[3]SOAT A ADQUIRIR 2025 _2026'!$M$2:$M$106) -> 232 | AG55: =+AB55=AF55 -> TRUE | AH55: =+AI55=O55 -> TRUE | AI55: =+_xlfn.XLOOKUP(AB55,Hoja3!$D$3:$D$39,Hoja3!$L$3:$L$39) -> 1274000
C56: 53 | D56: OCJ966 | E56: CAPTIVA SPORT | F56: CHEVROLET | G56: 2012 | H56: =2026-G56 -> 14 | I56: =IF(H56>=10,"10 o mas años","menos de 10 años") -> 10 o mas años | J56: Oficial | K56: 5 | L56: 46386 | M56: =+L56+1 -> 46387 | N56: 46751 | O56: {=_xlfn.IFS(W56="CAMPEROS Y CAMIONETAS",_xlfn.IFS(AND(Z56="Menos de 1.500 c.c.",I56="menos de 10 años"),'TARIFAS MAS RUNT'!$E$14,AND(Z56="Menos de 1.500 c.c.",I56="10 o mas años"),'TARIFAS MAS RUNT'!$E$15,AND(Z56="Entre 1.500 y 2.500 c.c.",I56="menos de 10 años"),'TARIFAS MAS RUNT'!$E$16,AND(Z56="Entre 1.500 y 2.500 c.c.",I56="10 o mas años"),'TARIFAS MAS RUNT'!$E$17,AND(Z56="Más de 2.500 c.c.",I56="menos de 10 años"),'TARIFAS MAS RUNT'!$E$18,AND(Z56="Más de 2.500 c.c.",I56="10 o mas años"),'TARIFAS MAS RUNT'!$E$19,TRUE,"Sin Tarifa"),W56="CARGA O MIXTOS",_xlfn.IFS(Z56="Menos de 5 Toneladas",'TARIFAS MAS RUNT'!$E$20,Z56="Entre 5 y 15 Toneladas",'TARIFAS MAS RUNT'!$E$21,Z56="Más de 15 Toneladas",'TARIFAS MAS RUNT'!$E$22,TRUE,"Sin Tarifa"),W56="OFICIALES ESPECIALES",_xlfn.IFS(Z56="Menos de 1.500 c.c.",'TARIFAS MAS RUNT'!$E$23,Z56="Entre 1.500 y 2.500 c.c.",'TARIFAS MAS RUNT'!$E$24,Z56="Más de 2.500 c.c.",'TARIFAS MAS RUNT'!$E$25,TRUE,"Sin Tarifa"),W56="AUTOMOVILES FAMILIARES",_xlfn.IFS(AND(Z56="Menos de 1.500 c.c.",I56="menos de 10 años"),'TARIFAS MAS RUNT'!$E$26,AND(Z56="Menos de 1.500 c.c.",I56="10 o mas años"),'TARIFAS MAS RUNT'!$E$27,AND(Z56="Entre 1.500 y 2.500 c.c.",I56="menos de 10 años"),'TARIFAS MAS RUNT'!$E$28,AND(Z56="Entre 1.500 y 2.500 c.c.",I56="10 o mas años"),'TARIFAS MAS RUNT'!$E$29,AND(Z56="Más de 2.500 c.c.",I56="menos de 10 años"),'TARIFAS MAS RUNT'!$E$30,AND(Z56="Más de 2.500 c.c.",I56="10 o mas años"),'TARIFAS MAS RUNT'!$E$31,TRUE,"Sin Tarifa"),TRUE,"Clase no encontrada")} -> 1274000 | P56: =+_xlfn.XLOOKUP(O56,'[2]ReporteCotizaciones (2)'!$H$2:$H$90,'[2]ReporteCotizaciones (2)'!$F$2:$F$90) -> 836600 | Q56: =+_xlfn.XLOOKUP(O56,Hoja3!$L$3:$L$39,Hoja3!$I$3:$I$39) -> 435000 | R56: 2400 | S56: =+P56+Q56+R56 -> 1274000 | T56: =+O56=S56 -> TRUE | W56: CAMPEROS Y CAMIONETAS | X56: 2997 | Y56: N/A | Z56: =IF(OR(W56="CAMPEROS Y CAMIONETAS",W56="VEHICULOS FAMILIARES",W56="AUTOS NEGOCIO"), IF(X56<1500,"Menos de 1.500 c.c.", IF(X56<=2500,"Entre 1.500 y 2.500 c.c.","Más de 2.500 c.c.")), IF(W56="CARGA O MIXTOS", IF(X56<5000,"Menos de 5 Toneladas", IF(X56<=15000,"Entre 5 y 15 Toneladas","Más de 15 Toneladas")), IF(W56="OFICIALES ESPECIALES", IF(X56<1500,"Menos de 1.500 c.c.", IF(X56<=2500,"Entre 1.500 y 2.500 c.c.","Más de 2.500 c.c.")), IF(OR(W56="VEHICULOS 6 o más pasajeros",W56="AUTOMOVILES FAMILIARES"), IF(X56<1500,"Menos de 1.500 c.c.", IF(X56<2500,"Entre 1.500 y 2.500 c.c.","2.500 o más c.c.")), "")))) -> Más de 2.500 c.c. | AA56: WAGON | AB56: 232 | AC56: NIVEL CENTRAL | AD56: 53 | AE56: =+C56=AD56 -> TRUE | AF56: =+_xlfn.XLOOKUP(D56,'[3]SOAT A ADQUIRIR 2025 _2026'!$B$2:$B$106,'[3]SOAT A ADQUIRIR 2025 _2026'!$M$2:$M$106) -> 232 | AG56: =+AB56=AF56 -> TRUE | AH56: =+AI56=O56 -> TRUE | AI56: =+_xlfn.XLOOKUP(AB56,Hoja3!$D$3:$D$39,Hoja3!$L$3:$L$39) -> 1274000
C57: 54 | D57: OCJ978 | E57: AVEO | F57: CHEVROLET | G57: 2012 | H57: =2026-G57 -> 14 | I57: =IF(H57>=10,"10 o mas años","menos de 10 años") -> 10 o mas años | J57: Oficial | K57: 5 | L57: 46386 | M57: =+L57+1 -> 46387 | N57: 46751 | O57: {=_xlfn.IFS(W57="CAMPEROS Y CAMIONETAS",_xlfn.IFS(AND(Z57="Menos de 1.500 c.c.",I57="menos de 10 años"),'TARIFAS MAS RUNT'!$E$14,AND(Z57="Menos de 1.500 c.c.",I57="10 o mas años"),'TARIFAS MAS RUNT'!$E$15,AND(Z57="Entre 1.500 y 2.500 c.c.",I57="menos de 10 años"),'TARIFAS MAS RUNT'!$E$16,AND(Z57="Entre 1.500 y 2.500 c.c.",I57="10 o mas años"),'TARIFAS MAS RUNT'!$E$17,AND(Z57="Más de 2.500 c.c.",I57="menos de 10 años"),'TARIFAS MAS RUNT'!$E$18,AND(Z57="Más de 2.500 c.c.",I57="10 o mas años"),'TARIFAS MAS RUNT'!$E$19,TRUE,"Sin Tarifa"),W57="CARGA O MIXTOS",_xlfn.IFS(Z57="Menos de 5 Toneladas",'TARIFAS MAS RUNT'!$E$20,Z57="Entre 5 y 15 Toneladas",'TARIFAS MAS RUNT'!$E$21,Z57="Más de 15 Toneladas",'TARIFAS MAS RUNT'!$E$22,TRUE,"Sin Tarifa"),W57="OFICIALES ESPECIALES",_xlfn.IFS(Z57="Menos de 1.500 c.c.",'TARIFAS MAS RUNT'!$E$23,Z57="Entre 1.500 y 2.500 c.c.",'TARIFAS MAS RUNT'!$E$24,Z57="Más de 2.500 c.c.",'TARIFAS MAS RUNT'!$E$25,TRUE,"Sin Tarifa"),W57="AUTOMOVILES FAMILIARES",_xlfn.IFS(AND(Z57="Menos de 1.500 c.c.",I57="menos de 10 años"),'TARIFAS MAS RUNT'!$E$26,AND(Z57="Menos de 1.500 c.c.",I57="10 o mas años"),'TARIFAS MAS RUNT'!$E$27,AND(Z57="Entre 1.500 y 2.500 c.c.",I57="menos de 10 años"),'TARIFAS MAS RUNT'!$E$28,AND(Z57="Entre 1.500 y 2.500 c.c.",I57="10 o mas años"),'TARIFAS MAS RUNT'!$E$29,AND(Z57="Más de 2.500 c.c.",I57="menos de 10 años"),'TARIFAS MAS RUNT'!$E$30,AND(Z57="Más de 2.500 c.c.",I57="10 o mas años"),'TARIFAS MAS RUNT'!$E$31,TRUE,"Sin Tarifa"),TRUE,"Clase no encontrada")} -> 592900 | P57: =+_xlfn.XLOOKUP(O57,'[2]ReporteCotizaciones (2)'!$H$2:$H$90,'[2]ReporteCotizaciones (2)'!$F$2:$F$90) -> 388500 | Q57: =+_xlfn.XLOOKUP(O57,Hoja3!$L$3:$L$39,Hoja3!$I$3:$I$39) -> 202000 | R57: 2400 | S57: =+P57+Q57+R57 -> 592900 | T57: =+O57=S57 -> TRUE | W57: AUTOMOVILES FAMILIARES | X57: 1498 | Y57: N/A | Z57: =IF(OR(W57="CAMPEROS Y CAMIONETAS",W57="VEHICULOS FAMILIARES",W57="AUTOS NEGOCIO"), IF(X57<1500,"Menos de 1.500 c.c.", IF(X57<=2500,"Entre 1.500 y 2.500 c.c.","Más de 2.500 c.c.")), IF(W57="CARGA O MIXTOS", IF(X57<5000,"Menos de 5 Toneladas", IF(X57<=15000,"Entre 5 y 15 Toneladas","Más de 15 Toneladas")), IF(W57="OFICIALES ESPECIALES", IF(X57<1500,"Menos de 1.500 c.c.", IF(X57<=2500,"Entre 1.500 y 2.500 c.c.","Más de 2.500 c.c.")), IF(OR(W57="VEHICULOS 6 o más pasajeros",W57="AUTOMOVILES FAMILIARES"), IF(X57<1500,"Menos de 1.500 c.c.", IF(X57<2500,"Entre 1.500 y 2.500 c.c.","2.500 o más c.c.")), "")))) -> Menos de 1.500 c.c. | AA57: SEDAN | AB57: 512 | AC57: NOROCCIDENTE | AD57: 54 | AE57: =+C57=AD57 -> TRUE | AF57: =+_xlfn.XLOOKUP(D57,'[3]SOAT A ADQUIRIR 2025 _2026'!$B$2:$B$106,'[3]SOAT A ADQUIRIR 2025 _2026'!$M$2:$M$106) -> 512 | AG57: =+AB57=AF57 -> TRUE | AH57: =+AI57=O57 -> TRUE | AI57: =+_xlfn.XLOOKUP(AB57,Hoja3!$D$3:$D$39,Hoja3!$L$3:$L$39) -> 592900
B58: SUROCCIDENTE | C58: 55 | D58: OCJ979 | E58: AVEO | F58: CHEVROLET | G58: 2012 | H58: =2026-G58 -> 14 | I58: =IF(H58>=10,"10 o mas años","menos de 10 años") -> 10 o mas años | J58: Oficial | K58: 5 | L58: 46386 | M58: =+L58+1 -> 46387 | N58: 46751 | O58: {=_xlfn.IFS(W58="CAMPEROS Y CAMIONETAS",_xlfn.IFS(AND(Z58="Menos de 1.500 c.c.",I58="menos de 10 años"),'TARIFAS MAS RUNT'!$E$14,AND(Z58="Menos de 1.500 c.c.",I58="10 o mas años"),'TARIFAS MAS RUNT'!$E$15,AND(Z58="Entre 1.500 y 2.500 c.c.",I58="menos de 10 años"),'TARIFAS MAS RUNT'!$E$16,AND(Z58="Entre 1.500 y 2.500 c.c.",I58="10 o mas años"),'TARIFAS MAS RUNT'!$E$17,AND(Z58="Más de 2.500 c.c.",I58="menos de 10 años"),'TARIFAS MAS RUNT'!$E$18,AND(Z58="Más de 2.500 c.c.",I58="10 o mas años"),'TARIFAS MAS RUNT'!$E$19,TRUE,"Sin Tarifa"),W58="CARGA O MIXTOS",_xlfn.IFS(Z58="Menos de 5 Toneladas",'TARIFAS MAS RUNT'!$E$20,Z58="Entre 5 y 15 Toneladas",'TARIFAS MAS RUNT'!$E$21,Z58="Más de 15 Toneladas",'TARIFAS MAS RUNT'!$E$22,TRUE,"Sin Tarifa"),W58="OFICIALES ESPECIALES",_xlfn.IFS(Z58="Menos de 1.500 c.c.",'TARIFAS MAS RUNT'!$E$23,Z58="Entre 1.500 y 2.500 c.c.",'TARIFAS MAS RUNT'!$E$24,Z58="Más de 2.500 c.c.",'TARIFAS MAS RUNT'!$E$25,TRUE,"Sin Tarifa"),W58="AUTOMOVILES FAMILIARES",_xlfn.IFS(AND(Z58="Menos de 1.500 c.c.",I58="menos de 10 años"),'TARIFAS MAS RUNT'!$E$26,AND(Z58="Menos de 1.500 c.c.",I58="10 o mas años"),'TARIFAS MAS RUNT'!$E$27,AND(Z58="Entre 1.500 y 2.500 c.c.",I58="menos de 10 años"),'TARIFAS MAS RUNT'!$E$28,AND(Z58="Entre 1.500 y 2.500 c.c.",I58="10 o mas años"),'TARIFAS MAS RUNT'!$E$29,AND(Z58="Más de 2.500 c.c.",I58="menos de 10 años"),'TARIFAS MAS RUNT'!$E$30,AND(Z58="Más de 2.500 c.c.",I58="10 o mas años"),'TARIFAS MAS RUNT'!$E$31,TRUE,"Sin Tarifa"),TRUE,"Clase no encontrada")} -> 677400 | P58: =+_xlfn.XLOOKUP(O58,'[2]ReporteCotizaciones (2)'!$H$2:$H$90,'[2]ReporteCotizaciones (2)'!$F$2:$F$90) -> 444100 | Q58: =+_xlfn.XLOOKUP(O58,Hoja3!$L$3:$L$39,Hoja3!$I$3:$I$39) -> 230900 | R58: 2400 | S58: =+P58+Q58+R58 -> 677400 | T58: =+O58=S58 -> TRUE | W58: AUTOMOVILES FAMILIARES | X58: 1598 | Y58: N/A | Z58: =IF(OR(W58="CAMPEROS Y CAMIONETAS",W58="VEHICULOS FAMILIARES",W58="AUTOS NEGOCIO"), IF(X58<1500,"Menos de 1.500 c.c.", IF(X58<=2500,"Entre 1.500 y 2.500 c.c.","Más de 2.500 c.c.")), IF(W58="CARGA O MIXTOS", IF(X58<5000,"Menos de 5 Toneladas", IF(X58<=15000,"Entre 5 y 15 Toneladas","Más de 15 Toneladas")), IF(W58="OFICIALES ESPECIALES", IF(X58<1500,"Menos de 1.500 c.c.", IF(X58<=2500,"Entre 1.500 y 2.500 c.c.","Más de 2.500 c.c.")), IF(OR(W58="VEHICULOS 6 o más pasajeros",W58="AUTOMOVILES FAMILIARES"), IF(X58<1500,"Menos de 1.500 c.c.", IF(X58<2500,"Entre 1.500 y 2.500 c.c.","2.500 o más c.c.")), "")))) -> Entre 1.500 y 2.500 c.c. | AA58: SEDAN | AB58: 522 | AC58: SUR | AD58: 55 | AE58: =+C58=AD58 -> TRUE | AF58: =+_xlfn.XLOOKUP(D58,'[3]SOAT A ADQUIRIR 2025 _2026'!$B$2:$B$106,'[3]SOAT A ADQUIRIR 2025 _2026'!$M$2:$M$106) -> 522 | AG58: =+AB58=AF58 -> TRUE | AH58: =+AI58=O58 -> TRUE | AI58: =+_xlfn.XLOOKUP(AB58,Hoja3!$D$3:$D$39,Hoja3!$L$3:$L$39) -> 677400
C59: 56 | D59: OCJ983 | E59: LUV D MAX | F59: CHEVROLET | G59: 2013 | H59: =2026-G59 -> 13 | I59: =IF(H59>=10,"10 o mas años","menos de 10 años") -> 10 o mas años | J59: Oficial | K59: 5 | L59: 46386 | M59: =+L59+1 -> 46387 | N59: 46751 | O59: {=_xlfn.IFS(W59="CAMPEROS Y CAMIONETAS",_xlfn.IFS(AND(Z59="Menos de 1.500 c.c.",I59="menos de 10 años"),'TARIFAS MAS RUNT'!$E$14,AND(Z59="Menos de 1.500 c.c.",I59="10 o mas años"),'TARIFAS MAS RUNT'!$E$15,AND(Z59="Entre 1.500 y 2.500 c.c.",I59="menos de 10 años"),'TARIFAS MAS RUNT'!$E$16,AND(Z59="Entre 1.500 y 2.500 c.c.",I59="10 o mas años"),'TARIFAS MAS RUNT'!$E$17,AND(Z59="Más de 2.500 c.c.",I59="menos de 10 años"),'TARIFAS MAS RUNT'!$E$18,AND(Z59="Más de 2.500 c.c.",I59="10 o mas años"),'TARIFAS MAS RUNT'!$E$19,TRUE,"Sin Tarifa"),W59="CARGA O MIXTOS",_xlfn.IFS(Z59="Menos de 5 Toneladas",'TARIFAS MAS RUNT'!$E$20,Z59="Entre 5 y 15 Toneladas",'TARIFAS MAS RUNT'!$E$21,Z59="Más de 15 Toneladas",'TARIFAS MAS RUNT'!$E$22,TRUE,"Sin Tarifa"),W59="OFICIALES ESPECIALES",_xlfn.IFS(Z59="Menos de 1.500 c.c.",'TARIFAS MAS RUNT'!$E$23,Z59="Entre 1.500 y 2.500 c.c.",'TARIFAS MAS RUNT'!$E$24,Z59="Más de 2.500 c.c.",'TARIFAS MAS RUNT'!$E$25,TRUE,"Sin Tarifa"),W59="AUTOMOVILES FAMILIARES",_xlfn.IFS(AND(Z59="Menos de 1.500 c.c.",I59="menos de 10 años"),'TARIFAS MAS RUNT'!$E$26,AND(Z59="Menos de 1.500 c.c.",I59="10 o mas años"),'TARIFAS MAS RUNT'!$E$27,AND(Z59="Entre 1.500 y 2.500 c.c.",I59="menos de 10 años"),'TARIFAS MAS RUNT'!$E$28,AND(Z59="Entre 1.500 y 2.500 c.c.",I59="10 o mas años"),'TARIFAS MAS RUNT'!$E$29,AND(Z59="Más de 2.500 c.c.",I59="menos de 10 años"),'TARIFAS MAS RUNT'!$E$30,AND(Z59="Más de 2.500 c.c.",I59="10 o mas años"),'TARIFAS MAS RUNT'!$E$31,TRUE,"Sin Tarifa"),TRUE,"Clase no encontrada")} -> 1274000 | P59: =+_xlfn.XLOOKUP(O59,'[2]ReporteCotizaciones (2)'!$H$2:$H$90,'[2]ReporteCotizaciones (2)'!$F$2:$F$90) -> 836600 | Q59: =+_xlfn.XLOOKUP(O59,Hoja3!$L$3:$L$39,Hoja3!$I$3:$I$39) -> 435000 | R59: 2400 | S59: =+P59+Q59+R59 -> 1274000 | T59: =+O59=S59 -> TRUE | W59: CAMPEROS Y CAMIONETAS | X59: 2999 | Y59: N/A | Z59: =IF(OR(W59="CAMPEROS Y CAMIONETAS",W59="VEHICULOS FAMILIARES",W59="AUTOS NEGOCIO"), IF(X59<1500,"Menos de 1.500 c.c.", IF(X59<=2500,"Entre 1.500 y 2.500 c.c.","Más de 2.500 c.c.")), IF(W59="CARGA O MIXTOS", IF(X59<5000,"Menos de 5 Toneladas", IF(X59<=15000,"Entre 5 y 15 Toneladas","Más de 15 Toneladas")), IF(W59="OFICIALES ESPECIALES", IF(X59<1500,"Menos de 1.500 c.c.", IF(X59<=2500,"Entre 1.500 y 2.500 c.c.","Más de 2.500 c.c.")), IF(OR(W59="VEHICULOS 6 o más pasajeros",W59="AUTOMOVILES FAMILIARES"), IF(X59<1500,"Menos de 1.500 c.c.", IF(X59<2500,"Entre 1.500 y 2.500 c.c.","2.500 o más c.c.")), "")))) -> Más de 2.500 c.c. | AA59: DOBLE CABINA | AB59: 232 | AC59: NOROCCIDENTE | AD59: 56 | AE59: =+C59=AD59 -> TRUE | AF59: =+_xlfn.XLOOKUP(D59,'[3]SOAT A ADQUIRIR 2025 _2026'!$B$2:$B$106,'[3]SOAT A ADQUIRIR 2025 _2026'!$M$2:$M$106) -> 232 | AG59: =+AB59=AF59 -> TRUE | AH59: =+AI59=O59 -> TRUE | AI59: =+_xlfn.XLOOKUP(AB59,Hoja3!$D$3:$D$39,Hoja3!$L$3:$L$39) -> 1274000
C60: 57 | D60: OCK104 | E60: LUV D MAX | F60: CHEVROLET | G60: 2013 | H60: =2026-G60 -> 13 | I60: =IF(H60>=10,"10 o mas años","menos de 10 años") -> 10 o mas años | J60: Oficial | K60: 5 | L60: 46386 | M60: =+L60+1 -> 46387 | N60: 46751 | O60: {=_xlfn.IFS(W60="CAMPEROS Y CAMIONETAS",_xlfn.IFS(AND(Z60="Menos de 1.500 c.c.",I60="menos de 10 años"),'TARIFAS MAS RUNT'!$E$14,AND(Z60="Menos de 1.500 c.c.",I60="10 o mas años"),'TARIFAS MAS RUNT'!$E$15,AND(Z60="Entre 1.500 y 2.500 c.c.",I60="menos de 10 años"),'TARIFAS MAS RUNT'!$E$16,AND(Z60="Entre 1.500 y 2.500 c.c.",I60="10 o mas años"),'TARIFAS MAS RUNT'!$E$17,AND(Z60="Más de 2.500 c.c.",I60="menos de 10 años"),'TARIFAS MAS RUNT'!$E$18,AND(Z60="Más de 2.500 c.c.",I60="10 o mas años"),'TARIFAS MAS RUNT'!$E$19,TRUE,"Sin Tarifa"),W60="CARGA O MIXTOS",_xlfn.IFS(Z60="Menos de 5 Toneladas",'TARIFAS MAS RUNT'!$E$20,Z60="Entre 5 y 15 Toneladas",'TARIFAS MAS RUNT'!$E$21,Z60="Más de 15 Toneladas",'TARIFAS MAS RUNT'!$E$22,TRUE,"Sin Tarifa"),W60="OFICIALES ESPECIALES",_xlfn.IFS(Z60="Menos de 1.500 c.c.",'TARIFAS MAS RUNT'!$E$23,Z60="Entre 1.500 y 2.500 c.c.",'TARIFAS MAS RUNT'!$E$24,Z60="Más de 2.500 c.c.",'TARIFAS MAS RUNT'!$E$25,TRUE,"Sin Tarifa"),W60="AUTOMOVILES FAMILIARES",_xlfn.IFS(AND(Z60="Menos de 1.500 c.c.",I60="menos de 10 años"),'TARIFAS MAS RUNT'!$E$26,AND(Z60="Menos de 1.500 c.c.",I60="10 o mas años"),'TARIFAS MAS RUNT'!$E$27,AND(Z60="Entre 1.500 y 2.500 c.c.",I60="menos de 10 años"),'TARIFAS MAS RUNT'!$E$28,AND(Z60="Entre 1.500 y 2.500 c.c.",I60="10 o mas años"),'TARIFAS MAS RUNT'!$E$29,AND(Z60="Más de 2.500 c.c.",I60="menos de 10 años"),'TARIFAS MAS RUNT'!$E$30,AND(Z60="Más de 2.500 c.c.",I60="10 o mas años"),'TARIFAS MAS RUNT'!$E$31,TRUE,"Sin Tarifa"),TRUE,"Clase no encontrada")} -> 1274000 | P60: =+_xlfn.XLOOKUP(O60,'[2]ReporteCotizaciones (2)'!$H$2:$H$90,'[2]ReporteCotizaciones (2)'!$F$2:$F$90) -> 836600 | Q60: =+_xlfn.XLOOKUP(O60,Hoja3!$L$3:$L$39,Hoja3!$I$3:$I$39) -> 435000 | R60: 2400 | S60: =+P60+Q60+R60 -> 1274000 | T60: =+O60=S60 -> TRUE | W60: CAMPEROS Y CAMIONETAS | X60: 2999 | Y60: N/A | Z60: =IF(OR(W60="CAMPEROS Y CAMIONETAS",W60="VEHICULOS FAMILIARES",W60="AUTOS NEGOCIO"), IF(X60<1500,"Menos de 1.500 c.c.", IF(X60<=2500,"Entre 1.500 y 2.500 c.c.","Más de 2.500 c.c.")), IF(W60="CARGA O MIXTOS", IF(X60<5000,"Menos de 5 Toneladas", IF(X60<=15000,"Entre 5 y 15 Toneladas","Más de 15 Toneladas")), IF(W60="OFICIALES ESPECIALES", IF(X60<1500,"Menos de 1.500 c.c.", IF(X60<=2500,"Entre 1.500 y 2.500 c.c.","Más de 2.500 c.c.")), IF(OR(W60="VEHICULOS 6 o más pasajeros",W60="AUTOMOVILES FAMILIARES"), IF(X60<1500,"Menos de 1.500 c.c.", IF(X60<2500,"Entre 1.500 y 2.500 c.c.","2.500 o más c.c.")), "")))) -> Más de 2.500 c.c. | AA60: DOBLE CABINA | AB60: 232 | AC60: SUROCCIDENTE | AD60: 57 | AE60: =+C60=AD60 -> TRUE | AF60: =+_xlfn.XLOOKUP(D60,'[3]SOAT A ADQUIRIR 2025 _2026'!$B$2:$B$106,'[3]SOAT A ADQUIRIR 2025 _2026'!$M$2:$M$106) -> 232 | AG60: =+AB60=AF60 -> TRUE | AH60: =+AI60=O60 -> TRUE | AI60: =+_xlfn.XLOOKUP(AB60,Hoja3!$D$3:$D$39,Hoja3!$L$3:$L$39) -> 1274000
C61: 58 | D61: OCK119 | E61: LUV D MAX | F61: CHEVROLET | G61: 2013 | H61: =2026-G61 -> 13 | I61: =IF(H61>=10,"10 o mas años","menos de 10 años") -> 10 o mas años | J61: Oficial | K61: 5 | L61: 46386 | M61: =+L61+1 -> 46387 | N61: 46751 | O61: {=_xlfn.IFS(W61="CAMPEROS Y CAMIONETAS",_xlfn.IFS(AND(Z61="Menos de 1.500 c.c.",I61="menos de 10 años"),'TARIFAS MAS RUNT'!$E$14,AND(Z61="Menos de 1.500 c.c.",I61="10 o mas años"),'TARIFAS MAS RUNT'!$E$15,AND(Z61="Entre 1.500 y 2.500 c.c.",I61="menos de 10 años"),'TARIFAS MAS RUNT'!$E$16,AND(Z61="Entre 1.500 y 2.500 c.c.",I61="10 o mas años"),'TARIFAS MAS RUNT'!$E$17,AND(Z61="Más de 2.500 c.c.",I61="menos de 10 años"),'TARIFAS MAS RUNT'!$E$18,AND(Z61="Más de 2.500 c.c.",I61="10 o mas años"),'TARIFAS MAS RUNT'!$E$19,TRUE,"Sin Tarifa"),W61="CARGA O MIXTOS",_xlfn.IFS(Z61="Menos de 5 Toneladas",'TARIFAS MAS RUNT'!$E$20,Z61="Entre 5 y 15 Toneladas",'TARIFAS MAS RUNT'!$E$21,Z61="Más de 15 Toneladas",'TARIFAS MAS RUNT'!$E$22,TRUE,"Sin Tarifa"),W61="OFICIALES ESPECIALES",_xlfn.IFS(Z61="Menos de 1.500 c.c.",'TARIFAS MAS RUNT'!$E$23,Z61="Entre 1.500 y 2.500 c.c.",'TARIFAS MAS RUNT'!$E$24,Z61="Más de 2.500 c.c.",'TARIFAS MAS RUNT'!$E$25,TRUE,"Sin Tarifa"),W61="AUTOMOVILES FAMILIARES",_xlfn.IFS(AND(Z61="Menos de 1.500 c.c.",I61="menos de 10 años"),'TARIFAS MAS RUNT'!$E$26,AND(Z61="Menos de 1.500 c.c.",I61="10 o mas años"),'TARIFAS MAS RUNT'!$E$27,AND(Z61="Entre 1.500 y 2.500 c.c.",I61="menos de 10 años"),'TARIFAS MAS RUNT'!$E$28,AND(Z61="Entre 1.500 y 2.500 c.c.",I61="10 o mas años"),'TARIFAS MAS RUNT'!$E$29,AND(Z61="Más de 2.500 c.c.",I61="menos de 10 años"),'TARIFAS MAS RUNT'!$E$30,AND(Z61="Más de 2.500 c.c.",I61="10 o mas años"),'TARIFAS MAS RUNT'!$E$31,TRUE,"Sin Tarifa"),TRUE,"Clase no encontrada")} -> 1274000 | P61: =+_xlfn.XLOOKUP(O61,'[2]ReporteCotizaciones (2)'!$H$2:$H$90,'[2]ReporteCotizaciones (2)'!$F$2:$F$90) -> 836600 | Q61: =+_xlfn.XLOOKUP(O61,Hoja3!$L$3:$L$39,Hoja3!$I$3:$I$39) -> 435000 | R61: 2400 | S61: =+P61+Q61+R61 -> 1274000 | T61: =+O61=S61 -> TRUE | W61: CAMPEROS Y CAMIONETAS | X61: 2999 | Y61: N/A | Z61: =IF(OR(W61="CAMPEROS Y CAMIONETAS",W61="VEHICULOS FAMILIARES",W61="AUTOS NEGOCIO"), IF(X61<1500,"Menos de 1.500 c.c.", IF(X61<=2500,"Entre 1.500 y 2.500 c.c.","Más de 2.500 c.c.")), IF(W61="CARGA O MIXTOS", IF(X61<5000,"Menos de 5 Toneladas", IF(X61<=15000,"Entre 5 y 15 Toneladas","Más de 15 Toneladas")), IF(W61="OFICIALES ESPECIALES", IF(X61<1500,"Menos de 1.500 c.c.", IF(X61<=2500,"Entre 1.500 y 2.500 c.c.","Más de 2.500 c.c.")), IF(OR(W61="VEHICULOS 6 o más pasajeros",W61="AUTOMOVILES FAMILIARES"), IF(X61<1500,"Menos de 1.500 c.c.", IF(X61<2500,"Entre 1.500 y 2.500 c.c.","2.500 o más c.c.")), "")))) -> Más de 2.500 c.c. | AA61: DOBLE CABINA | AB61: 232 | AC61: NIVEL CENTRAL | AD61: 58 | AE61: =+C61=AD61 -> TRUE | AF61: =+_xlfn.XLOOKUP(D61,'[3]SOAT A ADQUIRIR 2025 _2026'!$B$2:$B$106,'[3]SOAT A ADQUIRIR 2025 _2026'!$M$2:$M$106) -> 232 | AG61: =+AB61=AF61 -> TRUE | AH61: =+AI61=O61 -> TRUE | AI61: =+_xlfn.XLOOKUP(AB61,Hoja3!$D$3:$D$39,Hoja3!$L$3:$L$39) -> 1274000
C62: 59 | D62: OCK120 | E62: LUV D MAX | F62: CHEVROLET | G62: 2013 | H62: =2026-G62 -> 13 | I62: =IF(H62>=10,"10 o mas años","menos de 10 años") -> 10 o mas años | J62: Oficial | K62: 5 | L62: 46386 | M62: =+L62+1 -> 46387 | N62: 46751 | O62: {=_xlfn.IFS(W62="CAMPEROS Y CAMIONETAS",_xlfn.IFS(AND(Z62="Menos de 1.500 c.c.",I62="menos de 10 años"),'TARIFAS MAS RUNT'!$E$14,AND(Z62="Menos de 1.500 c.c.",I62="10 o mas años"),'TARIFAS MAS RUNT'!$E$15,AND(Z62="Entre 1.500 y 2.500 c.c.",I62="menos de 10 años"),'TARIFAS MAS RUNT'!$E$16,AND(Z62="Entre 1.500 y 2.500 c.c.",I62="10 o mas años"),'TARIFAS MAS RUNT'!$E$17,AND(Z62="Más de 2.500 c.c.",I62="menos de 10 años"),'TARIFAS MAS RUNT'!$E$18,AND(Z62="Más de 2.500 c.c.",I62="10 o mas años"),'TARIFAS MAS RUNT'!$E$19,TRUE,"Sin Tarifa"),W62="CARGA O MIXTOS",_xlfn.IFS(Z62="Menos de 5 Toneladas",'TARIFAS MAS RUNT'!$E$20,Z62="Entre 5 y 15 Toneladas",'TARIFAS MAS RUNT'!$E$21,Z62="Más de 15 Toneladas",'TARIFAS MAS RUNT'!$E$22,TRUE,"Sin Tarifa"),W62="OFICIALES ESPECIALES",_xlfn.IFS(Z62="Menos de 1.500 c.c.",'TARIFAS MAS RUNT'!$E$23,Z62="Entre 1.500 y 2.500 c.c.",'TARIFAS MAS RUNT'!$E$24,Z62="Más de 2.500 c.c.",'TARIFAS MAS RUNT'!$E$25,TRUE,"Sin Tarifa"),W62="AUTOMOVILES FAMILIARES",_xlfn.IFS(AND(Z62="Menos de 1.500 c.c.",I62="menos de 10 años"),'TARIFAS MAS RUNT'!$E$26,AND(Z62="Menos de 1.500 c.c.",I62="10 o mas años"),'TARIFAS MAS RUNT'!$E$27,AND(Z62="Entre 1.500 y 2.500 c.c.",I62="menos de 10 años"),'TARIFAS MAS RUNT'!$E$28,AND(Z62="Entre 1.500 y 2.500 c.c.",I62="10 o mas años"),'TARIFAS MAS RUNT'!$E$29,AND(Z62="Más de 2.500 c.c.",I62="menos de 10 años"),'TARIFAS MAS RUNT'!$E$30,AND(Z62="Más de 2.500 c.c.",I62="10 o mas años"),'TARIFAS MAS RUNT'!$E$31,TRUE,"Sin Tarifa"),TRUE,"Clase no encontrada")} -> 1274000 | P62: =+_xlfn.XLOOKUP(O62,'[2]ReporteCotizaciones (2)'!$H$2:$H$90,'[2]ReporteCotizaciones (2)'!$F$2:$F$90) -> 836600 | Q62: =+_xlfn.XLOOKUP(O62,Hoja3!$L$3:$L$39,Hoja3!$I$3:$I$39) -> 435000 | R62: 2400 | S62: =+P62+Q62+R62 -> 1274000 | T62: =+O62=S62 -> TRUE | W62: CAMPEROS Y CAMIONETAS | X62: 2999 | Y62: N/A | Z62: =IF(OR(W62="CAMPEROS Y CAMIONETAS",W62="VEHICULOS FAMILIARES",W62="AUTOS NEGOCIO"), IF(X62<1500,"Menos de 1.500 c.c.", IF(X62<=2500,"Entre 1.500 y 2.500 c.c.","Más de 2.500 c.c.")), IF(W62="CARGA O MIXTOS", IF(X62<5000,"Menos de 5 Toneladas", IF(X62<=15000,"Entre 5 y 15 Toneladas","Más de 15 Toneladas")), IF(W62="OFICIALES ESPECIALES", IF(X62<1500,"Menos de 1.500 c.c.", IF(X62<=2500,"Entre 1.500 y 2.500 c.c.","Más de 2.500 c.c.")), IF(OR(W62="VEHICULOS 6 o más pasajeros",W62="AUTOMOVILES FAMILIARES"), IF(X62<1500,"Menos de 1.500 c.c.", IF(X62<2500,"Entre 1.500 y 2.500 c.c.","2.500 o más c.c.")), "")))) -> Más de 2.500 c.c. | AA62: DOBLE CABINA | AB62: 232 | AC62: OCCIDENTE | AD62: 59 | AE62: =+C62=AD62 -> TRUE | AF62: =+_xlfn.XLOOKUP(D62,'[3]SOAT A ADQUIRIR 2025 _2026'!$B$2:$B$106,'[3]SOAT A ADQUIRIR 2025 _2026'!$M$2:$M$106) -> 232 | AG62: =+AB62=AF62 -> TRUE | AH62: =+AI62=O62 -> TRUE | AI62: =+_xlfn.XLOOKUP(AB62,Hoja3!$D$3:$D$39,Hoja3!$L$3:$L$39) -> 1274000
C63: 60 | D63: OCK121 | E63: LUV D MAX | F63: CHEVROLET | G63: 2013 | H63: =2026-G63 -> 13 | I63: =IF(H63>=10,"10 o mas años","menos de 10 años") -> 10 o mas años | J63: Oficial | K63: 5 | L63: 46386 | M63: =+L63+1 -> 46387 | N63: 46751 | O63: {=_xlfn.IFS(W63="CAMPEROS Y CAMIONETAS",_xlfn.IFS(AND(Z63="Menos de 1.500 c.c.",I63="menos de 10 años"),'TARIFAS MAS RUNT'!$E$14,AND(Z63="Menos de 1.500 c.c.",I63="10 o mas años"),'TARIFAS MAS RUNT'!$E$15,AND(Z63="Entre 1.500 y 2.500 c.c.",I63="menos de 10 años"),'TARIFAS MAS RUNT'!$E$16,AND(Z63="Entre 1.500 y 2.500 c.c.",I63="10 o mas años"),'TARIFAS MAS RUNT'!$E$17,AND(Z63="Más de 2.500 c.c.",I63="menos de 10 años"),'TARIFAS MAS RUNT'!$E$18,AND(Z63="Más de 2.500 c.c.",I63="10 o mas años"),'TARIFAS MAS RUNT'!$E$19,TRUE,"Sin Tarifa"),W63="CARGA O MIXTOS",_xlfn.IFS(Z63="Menos de 5 Toneladas",'TARIFAS MAS RUNT'!$E$20,Z63="Entre 5 y 15 Toneladas",'TARIFAS MAS RUNT'!$E$21,Z63="Más de 15 Toneladas",'TARIFAS MAS RUNT'!$E$22,TRUE,"Sin Tarifa"),W63="OFICIALES ESPECIALES",_xlfn.IFS(Z63="Menos de 1.500 c.c.",'TARIFAS MAS RUNT'!$E$23,Z63="Entre 1.500 y 2.500 c.c.",'TARIFAS MAS RUNT'!$E$24,Z63="Más de 2.500 c.c.",'TARIFAS MAS RUNT'!$E$25,TRUE,"Sin Tarifa"),W63="AUTOMOVILES FAMILIARES",_xlfn.IFS(AND(Z63="Menos de 1.500 c.c.",I63="menos de 10 años"),'TARIFAS MAS RUNT'!$E$26,AND(Z63="Menos de 1.500 c.c.",I63="10 o mas años"),'TARIFAS MAS RUNT'!$E$27,AND(Z63="Entre 1.500 y 2.500 c.c.",I63="menos de 10 años"),'TARIFAS MAS RUNT'!$E$28,AND(Z63="Entre 1.500 y 2.500 c.c.",I63="10 o mas años"),'TARIFAS MAS RUNT'!$E$29,AND(Z63="Más de 2.500 c.c.",I63="menos de 10 años"),'TARIFAS MAS RUNT'!$E$30,AND(Z63="Más de 2.500 c.c.",I63="10 o mas años"),'TARIFAS MAS RUNT'!$E$31,TRUE,"Sin Tarifa"),TRUE,"Clase no encontrada")} -> 1274000 | P63: =+_xlfn.XLOOKUP(O63,'[2]ReporteCotizaciones (2)'!$H$2:$H$90,'[2]ReporteCotizaciones (2)'!$F$2:$F$90) -> 836600 | Q63: =+_xlfn.XLOOKUP(O63,Hoja3!$L$3:$L$39,Hoja3!$I$3:$I$39) -> 435000 | R63: 2400 | S63: =+P63+Q63+R63 -> 1274000 | T63: =+O63=S63 -> TRUE | W63: CAMPEROS Y CAMIONETAS | X63: 2999 | Y63: N/A | Z63: =IF(OR(W63="CAMPEROS Y CAMIONETAS",W63="VEHICULOS FAMILIARES",W63="AUTOS NEGOCIO"), IF(X63<1500,"Menos de 1.500 c.c.", IF(X63<=2500,"Entre 1.500 y 2.500 c.c.","Más de 2.500 c.c.")), IF(W63="CARGA O MIXTOS", IF(X63<5000,"Menos de 5 Toneladas", IF(X63<=15000,"Entre 5 y 15 Toneladas","Más de 15 Toneladas")), IF(W63="OFICIALES ESPECIALES", IF(X63<1500,"Menos de 1.500 c.c.", IF(X63<=2500,"Entre 1.500 y 2.500 c.c.","Más de 2.500 c.c.")), IF(OR(W63="VEHICULOS 6 o más pasajeros",W63="AUTOMOVILES FAMILIARES"), IF(X63<1500,"Menos de 1.500 c.c.", IF(X63<2500,"Entre 1.500 y 2.500 c.c.","2.500 o más c.c.")), "")))) -> Más de 2.500 c.c. | AA63: DOBLE CABINA | AB63: 232 | AC63: ORIENTE | AD63: 60 | AE63: =+C63=AD63 -> TRUE | AF63: =+_xlfn.XLOOKUP(D63,'[3]SOAT A ADQUIRIR 2025 _2026'!$B$2:$B$106,'[3]SOAT A ADQUIRIR 2025 _2026'!$M$2:$M$106) -> 232 | AG63: =+AB63=AF63 -> TRUE | AH63: =+AI63=O63 -> TRUE | AI63: =+_xlfn.XLOOKUP(AB63,Hoja3!$D$3:$D$39,Hoja3!$L$3:$L$39) -> 1274000
C64: 61 | D64: OCK122 | E64: NKR | F64: CHEVROLET | G64: 2013 | H64: =2026-G64 -> 13 | I64: =IF(H64>=10,"10 o mas años","menos de 10 años") -> 10 o mas años | J64: Oficial | K64: 3 | L64: 46386 | M64: =+L64+1 -> 46387 | N64: 46751 | O64: {=_xlfn.IFS(W64="CAMPEROS Y CAMIONETAS",_xlfn.IFS(AND(Z64="Menos de 1.500 c.c.",I64="menos de 10 años"),'TARIFAS MAS RUNT'!$E$14,AND(Z64="Menos de 1.500 c.c.",I64="10 o mas años"),'TARIFAS MAS RUNT'!$E$15,AND(Z64="Entre 1.500 y 2.500 c.c.",I64="menos de 10 años"),'TARIFAS MAS RUNT'!$E$16,AND(Z64="Entre 1.500 y 2.500 c.c.",I64="10 o mas años"),'TARIFAS MAS RUNT'!$E$17,AND(Z64="Más de 2.500 c.c.",I64="menos de 10 años"),'TARIFAS MAS RUNT'!$E$18,AND(Z64="Más de 2.500 c.c.",I64="10 o mas años"),'TARIFAS MAS RUNT'!$E$19,TRUE,"Sin Tarifa"),W64="CARGA O MIXTOS",_xlfn.IFS(Z64="Menos de 5 Toneladas",'TARIFAS MAS RUNT'!$E$20,Z64="Entre 5 y 15 Toneladas",'TARIFAS MAS RUNT'!$E$21,Z64="Más de 15 Toneladas",'TARIFAS MAS RUNT'!$E$22,TRUE,"Sin Tarifa"),W64="OFICIALES ESPECIALES",_xlfn.IFS(Z64="Menos de 1.500 c.c.",'TARIFAS MAS RUNT'!$E$23,Z64="Entre 1.500 y 2.500 c.c.",'TARIFAS MAS RUNT'!$E$24,Z64="Más de 2.500 c.c.",'TARIFAS MAS RUNT'!$E$25,TRUE,"Sin Tarifa"),W64="AUTOMOVILES FAMILIARES",_xlfn.IFS(AND(Z64="Menos de 1.500 c.c.",I64="menos de 10 años"),'TARIFAS MAS RUNT'!$E$26,AND(Z64="Menos de 1.500 c.c.",I64="10 o mas años"),'TARIFAS MAS RUNT'!$E$27,AND(Z64="Entre 1.500 y 2.500 c.c.",I64="menos de 10 años"),'TARIFAS MAS RUNT'!$E$28,AND(Z64="Entre 1.500 y 2.500 c.c.",I64="10 o mas años"),'TARIFAS MAS RUNT'!$E$29,AND(Z64="Más de 2.500 c.c.",I64="menos de 10 años"),'TARIFAS MAS RUNT'!$E$30,AND(Z64="Más de 2.500 c.c.",I64="10 o mas años"),'TARIFAS MAS RUNT'!$E$31,TRUE,"Sin Tarifa"),TRUE,"Clase no encontrada")} -> 888400 | P64: =+_xlfn.XLOOKUP(O64,'[2]ReporteCotizaciones (2)'!$H$2:$H$90,'[2]ReporteCotizaciones (2)'!$F$2:$F$90) -> 582900 | Q64: =+_xlfn.XLOOKUP(O64,Hoja3!$L$3:$L$39,Hoja3!$I$3:$I$39) -> 303100 | R64: 2400 | S64: =+P64+Q64+R64 -> 888400 | T64: =+O64=S64 -> TRUE | W64: CARGA O MIXTOS | X64: 2999 | Y64: 2600 | Z64: =IF(OR(W64="CAMPEROS Y CAMIONETAS",W64="VEHICULOS FAMILIARES",W64="AUTOS NEGOCIO"), IF(Y64<1500,"Menos de 1.500 c.c.", IF(Y64<=2500,"Entre 1.500 y 2.500 c.c.","Más de 2.500 c.c.")), IF(W64="CARGA O MIXTOS", IF(Y64<5000,"Menos de 5 Toneladas", IF(Y64<=15000,"Entre 5 y 15 Toneladas","Más de 15 Toneladas")), IF(W64="OFICIALES ESPECIALES", IF(Y64<1500,"Menos de 1.500 c.c.", IF(Y64<=2500,"Entre 1.500 y 2.500 c.c.","Más de 2.500 c.c.")), IF(OR(W64="VEHICULOS 6 o más pasajeros",W64="AUTOMOVILES FAMILIARES"), IF(Y64<1500,"Menos de 1.500 c.c.", IF(Y64<2500,"Entre 1.500 y 2.500 c.c.","2.500 o más c.c.")), "")))) -> Menos de 5 Toneladas | AA64: FURGON | AB64: 310 | AC64: NOROCCIDENTE | AD64: 61 | AE64: =+C64=AD64 -> TRUE | AF64: =+_xlfn.XLOOKUP(D64,'[3]SOAT A ADQUIRIR 2025 _2026'!$B$2:$B$106,'[3]SOAT A ADQUIRIR 2025 _2026'!$M$2:$M$106) -> 310 | AG64: =+AB64=AF64 -> TRUE | AH64: =+AI64=O64 -> TRUE | AI64: =+_xlfn.XLOOKUP(AB64,Hoja3!$D$3:$D$39,Hoja3!$L$3:$L$39) -> 888400
C65: 62 | D65: OCK123 | E65: NKR | F65: CHEVROLET | G65: 2013 | H65: =2026-G65 -> 13 | I65: =IF(H65>=10,"10 o mas años","menos de 10 años") -> 10 o mas años | J65: Oficial | K65: 3 | L65: 46386 | M65: =+L65+1 -> 46387 | N65: 46751 | O65: {=_xlfn.IFS(W65="CAMPEROS Y CAMIONETAS",_xlfn.IFS(AND(Z65="Menos de 1.500 c.c.",I65="menos de 10 años"),'TARIFAS MAS RUNT'!$E$14,AND(Z65="Menos de 1.500 c.c.",I65="10 o mas años"),'TARIFAS MAS RUNT'!$E$15,AND(Z65="Entre 1.500 y 2.500 c.c.",I65="menos de 10 años"),'TARIFAS MAS RUNT'!$E$16,AND(Z65="Entre 1.500 y 2.500 c.c.",I65="10 o mas años"),'TARIFAS MAS RUNT'!$E$17,AND(Z65="Más de 2.500 c.c.",I65="menos de 10 años"),'TARIFAS MAS RUNT'!$E$18,AND(Z65="Más de 2.500 c.c.",I65="10 o mas años"),'TARIFAS MAS RUNT'!$E$19,TRUE,"Sin Tarifa"),W65="CARGA O MIXTOS",_xlfn.IFS(Z65="Menos de 5 Toneladas",'TARIFAS MAS RUNT'!$E$20,Z65="Entre 5 y 15 Toneladas",'TARIFAS MAS RUNT'!$E$21,Z65="Más de 15 Toneladas",'TARIFAS MAS RUNT'!$E$22,TRUE,"Sin Tarifa"),W65="OFICIALES ESPECIALES",_xlfn.IFS(Z65="Menos de 1.500 c.c.",'TARIFAS MAS RUNT'!$E$23,Z65="Entre 1.500 y 2.500 c.c.",'TARIFAS MAS RUNT'!$E$24,Z65="Más de 2.500 c.c.",'TARIFAS MAS RUNT'!$E$25,TRUE,"Sin Tarifa"),W65="AUTOMOVILES FAMILIARES",_xlfn.IFS(AND(Z65="Menos de 1.500 c.c.",I65="menos de 10 años"),'TARIFAS MAS RUNT'!$E$26,AND(Z65="Menos de 1.500 c.c.",I65="10 o mas años"),'TARIFAS MAS RUNT'!$E$27,AND(Z65="Entre 1.500 y 2.500 c.c.",I65="menos de 10 años"),'TARIFAS MAS RUNT'!$E$28,AND(Z65="Entre 1.500 y 2.500 c.c.",I65="10 o mas años"),'TARIFAS MAS RUNT'!$E$29,AND(Z65="Más de 2.500 c.c.",I65="menos de 10 años"),'TARIFAS MAS RUNT'!$E$30,AND(Z65="Más de 2.500 c.c.",I65="10 o mas años"),'TARIFAS MAS RUNT'!$E$31,TRUE,"Sin Tarifa"),TRUE,"Clase no encontrada")} -> 888400 | P65: =+_xlfn.XLOOKUP(O65,'[2]ReporteCotizaciones (2)'!$H$2:$H$90,'[2]ReporteCotizaciones (2)'!$F$2:$F$90) -> 582900 | Q65: =+_xlfn.XLOOKUP(O65,Hoja3!$L$3:$L$39,Hoja3!$I$3:$I$39) -> 303100 | R65: 2400 | S65: =+P65+Q65+R65 -> 888400 | T65: =+O65=S65 -> TRUE | W65: CARGA O MIXTOS | X65: 2999 | Y65: 3100 | Z65: =IF(OR(W65="CAMPEROS Y CAMIONETAS",W65="VEHICULOS FAMILIARES",W65="AUTOS NEGOCIO"), IF(Y65<1500,"Menos de 1.500 c.c.", IF(Y65<=2500,"Entre 1.500 y 2.500 c.c.","Más de 2.500 c.c.")), IF(W65="CARGA O MIXTOS", IF(Y65<5000,"Menos de 5 Toneladas", IF(Y65<=15000,"Entre 5 y 15 Toneladas","Más de 15 Toneladas")), IF(W65="OFICIALES ESPECIALES", IF(Y65<1500,"Menos de 1.500 c.c.", IF(Y65<=2500,"Entre 1.500 y 2.500 c.c.","Más de 2.500 c.c.")), IF(OR(W65="VEHICULOS 6 o más pasajeros",W65="AUTOMOVILES FAMILIARES"), IF(Y65<1500,"Menos de 1.500 c.c.", IF(Y65<2500,"Entre 1.500 y 2.500 c.c.","2.500 o más c.c.")), "")))) -> Menos de 5 Toneladas | AA65: FURGON | AB65: 310 | AC65: NIVEL CENTRAL | AD65: 62 | AE65: =+C65=AD65 -> TRUE | AF65: =+_xlfn.XLOOKUP(D65,'[3]SOAT A ADQUIRIR 2025 _2026'!$B$2:$B$106,'[3]SOAT A ADQUIRIR 2025 _2026'!$M$2:$M$106) -> 310 | AG65: =+AB65=AF65 -> TRUE | AH65: =+AI65=O65 -> TRUE | AI65: =+_xlfn.XLOOKUP(AB65,Hoja3!$D$3:$D$39,Hoja3!$L$3:$L$39) -> 888400
B66: NIVEL CENTRAL | C66: 63 | D66: OCK203 | E66: LUV D MAX | F66: CHEVROLET | G66: 2013 | H66: =2026-G66 -> 13 | I66: =IF(H66>=10,"10 o mas años","menos de 10 años") -> 10 o mas años | J66: Oficial | K66: 5 | L66: 46386 | M66: =+L66+1 -> 46387 | N66: 46751 | O66: {=_xlfn.IFS(W66="CAMPEROS Y CAMIONETAS",_xlfn.IFS(AND(Z66="Menos de 1.500 c.c.",I66="menos de 10 años"),'TARIFAS MAS RUNT'!$E$14,AND(Z66="Menos de 1.500 c.c.",I66="10 o mas años"),'TARIFAS MAS RUNT'!$E$15,AND(Z66="Entre 1.500 y 2.500 c.c.",I66="menos de 10 años"),'TARIFAS MAS RUNT'!$E$16,AND(Z66="Entre 1.500 y 2.500 c.c.",I66="10 o mas años"),'TARIFAS MAS RUNT'!$E$17,AND(Z66="Más de 2.500 c.c.",I66="menos de 10 años"),'TARIFAS MAS RUNT'!$E$18,AND(Z66="Más de 2.500 c.c.",I66="10 o mas años"),'TARIFAS MAS RUNT'!$E$19,TRUE,"Sin Tarifa"),W66="CARGA O MIXTOS",_xlfn.IFS(Z66="Menos de 5 Toneladas",'TARIFAS MAS RUNT'!$E$20,Z66="Entre 5 y 15 Toneladas",'TARIFAS MAS RUNT'!$E$21,Z66="Más de 15 Toneladas",'TARIFAS MAS RUNT'!$E$22,TRUE,"Sin Tarifa"),W66="OFICIALES ESPECIALES",_xlfn.IFS(Z66="Menos de 1.500 c.c.",'TARIFAS MAS RUNT'!$E$23,Z66="Entre 1.500 y 2.500 c.c.",'TARIFAS MAS RUNT'!$E$24,Z66="Más de 2.500 c.c.",'TARIFAS MAS RUNT'!$E$25,TRUE,"Sin Tarifa"),W66="AUTOMOVILES FAMILIARES",_xlfn.IFS(AND(Z66="Menos de 1.500 c.c.",I66="menos de 10 años"),'TARIFAS MAS RUNT'!$E$26,AND(Z66="Menos de 1.500 c.c.",I66="10 o mas años"),'TARIFAS MAS RUNT'!$E$27,AND(Z66="Entre 1.500 y 2.500 c.c.",I66="menos de 10 años"),'TARIFAS MAS RUNT'!$E$28,AND(Z66="Entre 1.500 y 2.500 c.c.",I66="10 o mas años"),'TARIFAS MAS RUNT'!$E$29,AND(Z66="Más de 2.500 c.c.",I66="menos de 10 años"),'TARIFAS MAS RUNT'!$E$30,AND(Z66="Más de 2.500 c.c.",I66="10 o mas años"),'TARIFAS MAS RUNT'!$E$31,TRUE,"Sin Tarifa"),TRUE,"Clase no encontrada")} -> 1274000 | P66: =+_xlfn.XLOOKUP(O66,'[2]ReporteCotizaciones (2)'!$H$2:$H$90,'[2]ReporteCotizaciones (2)'!$F$2:$F$90) -> 836600 | Q66: =+_xlfn.XLOOKUP(O66,Hoja3!$L$3:$L$39,Hoja3!$I$3:$I$39) -> 435000 | R66: 2400 | S66: =+P66+Q66+R66 -> 1274000 | T66: =+O66=S66 -> TRUE | W66: CAMPEROS Y CAMIONETAS | X66: 2999 | Y66: N/A | Z66: =IF(OR(W66="CAMPEROS Y CAMIONETAS",W66="VEHICULOS FAMILIARES",W66="AUTOS NEGOCIO"), IF(X66<1500,"Menos de 1.500 c.c.", IF(X66<=2500,"Entre 1.500 y 2.500 c.c.","Más de 2.500 c.c.")), IF(W66="CARGA O MIXTOS", IF(X66<5000,"Menos de 5 Toneladas", IF(X66<=15000,"Entre 5 y 15 Toneladas","Más de 15 Toneladas")), IF(W66="OFICIALES ESPECIALES", IF(X66<1500,"Menos de 1.500 c.c.", IF(X66<=2500,"Entre 1.500 y 2.500 c.c.","Más de 2.500 c.c.")), IF(OR(W66="VEHICULOS 6 o más pasajeros",W66="AUTOMOVILES FAMILIARES"), IF(X66<1500,"Menos de 1.500 c.c.", IF(X66<2500,"Entre 1.500 y 2.500 c.c.","2.500 o más c.c.")), "")))) -> Más de 2.500 c.c. | AA66: DOBLE CABINA | AB66: 232 | AC66: NORORIENTE | AD66: 63 | AE66: =+C66=AD66 -> TRUE | AF66: =+_xlfn.XLOOKUP(D66,'[3]SOAT A ADQUIRIR 2025 _2026'!$B$2:$B$106,'[3]SOAT A ADQUIRIR 2025 _2026'!$M$2:$M$106) -> 232 | AG66: =+AB66=AF66 -> TRUE | AH66: =+AI66=O66 -> TRUE | AI66: =+_xlfn.XLOOKUP(AB66,Hoja3!$D$3:$D$39,Hoja3!$L$3:$L$39) -> 1274000
C67: 64 | D67: OCK204 | E67: LUV D MAX | F67: CHEVROLET | G67: 2013 | H67: =2026-G67 -> 13 | I67: =IF(H67>=10,"10 o mas años","menos de 10 años") -> 10 o mas años | J67: Oficial | K67: 5 | L67: 46386 | M67: =+L67+1 -> 46387 | N67: 46751 | O67: {=_xlfn.IFS(W67="CAMPEROS Y CAMIONETAS",_xlfn.IFS(AND(Z67="Menos de 1.500 c.c.",I67="menos de 10 años"),'TARIFAS MAS RUNT'!$E$14,AND(Z67="Menos de 1.500 c.c.",I67="10 o mas años"),'TARIFAS MAS RUNT'!$E$15,AND(Z67="Entre 1.500 y 2.500 c.c.",I67="menos de 10 años"),'TARIFAS MAS RUNT'!$E$16,AND(Z67="Entre 1.500 y 2.500 c.c.",I67="10 o mas años"),'TARIFAS MAS RUNT'!$E$17,AND(Z67="Más de 2.500 c.c.",I67="menos de 10 años"),'TARIFAS MAS RUNT'!$E$18,AND(Z67="Más de 2.500 c.c.",I67="10 o mas años"),'TARIFAS MAS RUNT'!$E$19,TRUE,"Sin Tarifa"),W67="CARGA O MIXTOS",_xlfn.IFS(Z67="Menos de 5 Toneladas",'TARIFAS MAS RUNT'!$E$20,Z67="Entre 5 y 15 Toneladas",'TARIFAS MAS RUNT'!$E$21,Z67="Más de 15 Toneladas",'TARIFAS MAS RUNT'!$E$22,TRUE,"Sin Tarifa"),W67="OFICIALES ESPECIALES",_xlfn.IFS(Z67="Menos de 1.500 c.c.",'TARIFAS MAS RUNT'!$E$23,Z67="Entre 1.500 y 2.500 c.c.",'TARIFAS MAS RUNT'!$E$24,Z67="Más de 2.500 c.c.",'TARIFAS MAS RUNT'!$E$25,TRUE,"Sin Tarifa"),W67="AUTOMOVILES FAMILIARES",_xlfn.IFS(AND(Z67="Menos de 1.500 c.c.",I67="menos de 10 años"),'TARIFAS MAS RUNT'!$E$26,AND(Z67="Menos de 1.500 c.c.",I67="10 o mas años"),'TARIFAS MAS RUNT'!$E$27,AND(Z67="Entre 1.500 y 2.500 c.c.",I67="menos de 10 años"),'TARIFAS MAS RUNT'!$E$28,AND(Z67="Entre 1.500 y 2.500 c.c.",I67="10 o mas años"),'TARIFAS MAS RUNT'!$E$29,AND(Z67="Más de 2.500 c.c.",I67="menos de 10 años"),'TARIFAS MAS RUNT'!$E$30,AND(Z67="Más de 2.500 c.c.",I67="10 o mas años"),'TARIFAS MAS RUNT'!$E$31,TRUE,"Sin Tarifa"),TRUE,"Clase no encontrada")} -> 1274000 | P67: =+_xlfn.XLOOKUP(O67,'[2]ReporteCotizaciones (2)'!$H$2:$H$90,'[2]ReporteCotizaciones (2)'!$F$2:$F$90) -> 836600 | Q67: =+_xlfn.XLOOKUP(O67,Hoja3!$L$3:$L$39,Hoja3!$I$3:$I$39) -> 435000 | R67: 2400 | S67: =+P67+Q67+R67 -> 1274000 | T67: =+O67=S67 -> TRUE | W67: CAMPEROS Y CAMIONETAS | X67: 2999 | Y67: N/A | Z67: =IF(OR(W67="CAMPEROS Y CAMIONETAS",W67="VEHICULOS FAMILIARES",W67="AUTOS NEGOCIO"), IF(X67<1500,"Menos de 1.500 c.c.", IF(X67<=2500,"Entre 1.500 y 2.500 c.c.","Más de 2.500 c.c.")), IF(W67="CARGA O MIXTOS", IF(X67<5000,"Menos de 5 Toneladas", IF(X67<=15000,"Entre 5 y 15 Toneladas","Más de 15 Toneladas")), IF(W67="OFICIALES ESPECIALES", IF(X67<1500,"Menos de 1.500 c.c.", IF(X67<=2500,"Entre 1.500 y 2.500 c.c.","Más de 2.500 c.c.")), IF(OR(W67="VEHICULOS 6 o más pasajeros",W67="AUTOMOVILES FAMILIARES"), IF(X67<1500,"Menos de 1.500 c.c.", IF(X67<2500,"Entre 1.500 y 2.500 c.c.","2.500 o más c.c.")), "")))) -> Más de 2.500 c.c. | AA67: DOBLE CABINA | AB67: 232 | AC67: NOROCCIDENTE | AD67: 64 | AE67: =+C67=AD67 -> TRUE | AF67: =+_xlfn.XLOOKUP(D67,'[3]SOAT A ADQUIRIR 2025 _2026'!$B$2:$B$106,'[3]SOAT A ADQUIRIR 2025 _2026'!$M$2:$M$106) -> 232 | AG67: =+AB67=AF67 -> TRUE | AH67: =+AI67=O67 -> TRUE | AI67: =+_xlfn.XLOOKUP(AB67,Hoja3!$D$3:$D$39,Hoja3!$L$3:$L$39) -> 1274000
C68: 65 | D68: OCK598 | E68: HD 78 | F68: HYUNDAI | G68: 2013 | H68: =2026-G68 -> 13 | I68: =IF(H68>=10,"10 o mas años","menos de 10 años") -> 10 o mas años | J68: Oficial | K68: 3 | L68: 46386 | M68: =+L68+1 -> 46387 | N68: 46751 | O68: {=_xlfn.IFS(W68="CAMPEROS Y CAMIONETAS",_xlfn.IFS(AND(Z68="Menos de 1.500 c.c.",I68="menos de 10 años"),'TARIFAS MAS RUNT'!$E$14,AND(Z68="Menos de 1.500 c.c.",I68="10 o mas años"),'TARIFAS MAS RUNT'!$E$15,AND(Z68="Entre 1.500 y 2.500 c.c.",I68="menos de 10 años"),'TARIFAS MAS RUNT'!$E$16,AND(Z68="Entre 1.500 y 2.500 c.c.",I68="10 o mas años"),'TARIFAS MAS RUNT'!$E$17,AND(Z68="Más de 2.500 c.c.",I68="menos de 10 años"),'TARIFAS MAS RUNT'!$E$18,AND(Z68="Más de 2.500 c.c.",I68="10 o mas años"),'TARIFAS MAS RUNT'!$E$19,TRUE,"Sin Tarifa"),W68="CARGA O MIXTOS",_xlfn.IFS(Z68="Menos de 5 Toneladas",'TARIFAS MAS RUNT'!$E$20,Z68="Entre 5 y 15 Toneladas",'TARIFAS MAS RUNT'!$E$21,Z68="Más de 15 Toneladas",'TARIFAS MAS RUNT'!$E$22,TRUE,"Sin Tarifa"),W68="OFICIALES ESPECIALES",_xlfn.IFS(Z68="Menos de 1.500 c.c.",'TARIFAS MAS RUNT'!$E$23,Z68="Entre 1.500 y 2.500 c.c.",'TARIFAS MAS RUNT'!$E$24,Z68="Más de 2.500 c.c.",'TARIFAS MAS RUNT'!$E$25,TRUE,"Sin Tarifa"),W68="AUTOMOVILES FAMILIARES",_xlfn.IFS(AND(Z68="Menos de 1.500 c.c.",I68="menos de 10 años"),'TARIFAS MAS RUNT'!$E$26,AND(Z68="Menos de 1.500 c.c.",I68="10 o mas años"),'TARIFAS MAS RUNT'!$E$27,AND(Z68="Entre 1.500 y 2.500 c.c.",I68="menos de 10 años"),'TARIFAS MAS RUNT'!$E$28,AND(Z68="Entre 1.500 y 2.500 c.c.",I68="10 o mas años"),'TARIFAS MAS RUNT'!$E$29,AND(Z68="Más de 2.500 c.c.",I68="menos de 10 años"),'TARIFAS MAS RUNT'!$E$30,AND(Z68="Más de 2.500 c.c.",I68="10 o mas años"),'TARIFAS MAS RUNT'!$E$31,TRUE,"Sin Tarifa"),TRUE,"Clase no encontrada")} -> 888400 | P68: =+_xlfn.XLOOKUP(O68,'[2]ReporteCotizaciones (2)'!$H$2:$H$90,'[2]ReporteCotizaciones (2)'!$F$2:$F$90) -> 582900 | Q68: =+_xlfn.XLOOKUP(O68,Hoja3!$L$3:$L$39,Hoja3!$I$3:$I$39) -> 303100 | R68: 2400 | S68: =+P68+Q68+R68 -> 888400 | T68: =+O68=S68 -> TRUE | W68: CARGA O MIXTOS | X68: 3907 | Y68: 4234 | Z68: =IF(OR(W68="CAMPEROS Y CAMIONETAS",W68="VEHICULOS FAMILIARES",W68="AUTOS NEGOCIO"), IF(Y68<1500,"Menos de 1.500 c.c.", IF(Y68<=2500,"Entre 1.500 y 2.500 c.c.","Más de 2.500 c.c.")), IF(W68="CARGA O MIXTOS", IF(Y68<5000,"Menos de 5 Toneladas", IF(Y68<=15000,"Entre 5 y 15 Toneladas","Más de 15 Toneladas")), IF(W68="OFICIALES ESPECIALES", IF(Y68<1500,"Menos de 1.500 c.c.", IF(Y68<=2500,"Entre 1.500 y 2.500 c.c.","Más de 2.500 c.c.")), IF(OR(W68="VEHICULOS 6 o más pasajeros",W68="AUTOMOVILES FAMILIARES"), IF(Y68<1500,"Menos de 1.500 c.c.", IF(Y68<2500,"Entre 1.500 y 2.500 c.c.","2.500 o más c.c.")), "")))) -> Menos de 5 Toneladas | AA68: FURGON | AB68: 310 | AC68: NORTE | AD68: 65 | AE68: =+C68=AD68 -> TRUE | AF68: =+_xlfn.XLOOKUP(D68,'[3]SOAT A ADQUIRIR 2025 _2026'!$B$2:$B$106,'[3]SOAT A ADQUIRIR 2025 _2026'!$M$2:$M$106) -> 310 | AG68: =+AB68=AF68 -> TRUE | AH68: =+AI68=O68 -> TRUE | AI68: =+_xlfn.XLOOKUP(AB68,Hoja3!$D$3:$D$39,Hoja3!$L$3:$L$39) -> 888400
C69: 66 | D69: OCK599 | E69: HD 78 | F69: HYUNDAI | G69: 2013 | H69: =2026-G69 -> 13 | I69: =IF(H69>=10,"10 o mas años","menos de 10 años") -> 10 o mas años | J69: Oficial | K69: 3 | L69: 46386 | M69: =+L69+1 -> 46387 | N69: 46751 | O69: {=_xlfn.IFS(W69="CAMPEROS Y CAMIONETAS",_xlfn.IFS(AND(Z69="Menos de 1.500 c.c.",I69="menos de 10 años"),'TARIFAS MAS RUNT'!$E$14,AND(Z69="Menos de 1.500 c.c.",I69="10 o mas años"),'TARIFAS MAS RUNT'!$E$15,AND(Z69="Entre 1.500 y 2.500 c.c.",I69="menos de 10 años"),'TARIFAS MAS RUNT'!$E$16,AND(Z69="Entre 1.500 y 2.500 c.c.",I69="10 o mas años"),'TARIFAS MAS RUNT'!$E$17,AND(Z69="Más de 2.500 c.c.",I69="menos de 10 años"),'TARIFAS MAS RUNT'!$E$18,AND(Z69="Más de 2.500 c.c.",I69="10 o mas años"),'TARIFAS MAS RUNT'!$E$19,TRUE,"Sin Tarifa"),W69="CARGA O MIXTOS",_xlfn.IFS(Z69="Menos de 5 Toneladas",'TARIFAS MAS RUNT'!$E$20,Z69="Entre 5 y 15 Toneladas",'TARIFAS MAS RUNT'!$E$21,Z69="Más de 15 Toneladas",'TARIFAS MAS RUNT'!$E$22,TRUE,"Sin Tarifa"),W69="OFICIALES ESPECIALES",_xlfn.IFS(Z69="Menos de 1.500 c.c.",'TARIFAS MAS RUNT'!$E$23,Z69="Entre 1.500 y 2.500 c.c.",'TARIFAS MAS RUNT'!$E$24,Z69="Más de 2.500 c.c.",'TARIFAS MAS RUNT'!$E$25,TRUE,"Sin Tarifa"),W69="AUTOMOVILES FAMILIARES",_xlfn.IFS(AND(Z69="Menos de 1.500 c.c.",I69="menos de 10 años"),'TARIFAS MAS RUNT'!$E$26,AND(Z69="Menos de 1.500 c.c.",I69="10 o mas años"),'TARIFAS MAS RUNT'!$E$27,AND(Z69="Entre 1.500 y 2.500 c.c.",I69="menos de 10 años"),'TARIFAS MAS RUNT'!$E$28,AND(Z69="Entre 1.500 y 2.500 c.c.",I69="10 o mas años"),'TARIFAS MAS RUNT'!$E$29,AND(Z69="Más de 2.500 c.c.",I69="menos de 10 años"),'TARIFAS MAS RUNT'!$E$30,AND(Z69="Más de 2.500 c.c.",I69="10 o mas años"),'TARIFAS MAS RUNT'!$E$31,TRUE,"Sin Tarifa"),TRUE,"Clase no encontrada")} -> 888400 | P69: =+_xlfn.XLOOKUP(O69,'[2]ReporteCotizaciones (2)'!$H$2:$H$90,'[2]ReporteCotizaciones (2)'!$F$2:$F$90) -> 582900 | Q69: =+_xlfn.XLOOKUP(O69,Hoja3!$L$3:$L$39,Hoja3!$I$3:$I$39) -> 303100 | R69: 2400 | S69: =+P69+Q69+R69 -> 888400 | T69: =+O69=S69 -> TRUE | W69: CARGA O MIXTOS | X69: 3907 | Y69: 4234 | Z69: =IF(OR(W69="CAMPEROS Y CAMIONETAS",W69="VEHICULOS FAMILIARES",W69="AUTOS NEGOCIO"), IF(Y69<1500,"Menos de 1.500 c.c.", IF(Y69<=2500,"Entre 1.500 y 2.500 c.c.","Más de 2.500 c.c.")), IF(W69="CARGA O MIXTOS", IF(Y69<5000,"Menos de 5 Toneladas", IF(Y69<=15000,"Entre 5 y 15 Toneladas","Más de 15 Toneladas")), IF(W69="OFICIALES ESPECIALES", IF(Y69<1500,"Menos de 1.500 c.c.", IF(Y69<=2500,"Entre 1.500 y 2.500 c.c.","Más de 2.500 c.c.")), IF(OR(W69="VEHICULOS 6 o más pasajeros",W69="AUTOMOVILES FAMILIARES"), IF(Y69<1500,"Menos de 1.500 c.c.", IF(Y69<2500,"Entre 1.500 y 2.500 c.c.","2.500 o más c.c.")), "")))) -> Menos de 5 Toneladas | AA69: FURGON | AB69: 310 | AC69: NORORIENTE | AD69: 66 | AE69: =+C69=AD69 -> TRUE | AF69: =+_xlfn.XLOOKUP(D69,'[3]SOAT A ADQUIRIR 2025 _2026'!$B$2:$B$106,'[3]SOAT A ADQUIRIR 2025 _2026'!$M$2:$M$106) -> 310 | AG69: =+AB69=AF69 -> TRUE | AH69: =+AI69=O69 -> TRUE | AI69: =+_xlfn.XLOOKUP(AB69,Hoja3!$D$3:$D$39,Hoja3!$L$3:$L$39) -> 888400
