Workbook

Sheet ANEXO 1 - COTIZACION
B2: ANEXO 1 - ANALISIS DE COTIZACIONES
D3: ADQUISICIÓN DE EQUIPOS ESPECIALES DE AUDIO, VIDEO Y UBICACIÓN (GPS), PARA FORTALECER LAS ACTUACIONES DE POLICIA JUDICIAL DEL CTI – FGN. DISTRIBUIDO POR GRUPOS, ASÍ: GRUPO1: MÓDULOS DE GRABACIÓN DE VIDEO, GRUPO2: EQUIPOS DE LOCALIZACION, GRUPO3: MODULO DE GRABACION DE AUDIO
B4: NECESIDAD | G4: COTIZACION 1 | I4: COTIZACIÓN 2 | K4: ANALISIS VALORES SIN IVA
I5: COTIZACIÓN 3 | K5: VALOR COTIZACIÓN HÁBIL MÁS BAJA | L5: PROMEDIO | M5: VALOR COTIZACIÓN HÁBIL MÁS ALTA | N5: MEDIA ARITMETICA BAJA | P5: ANALISIS DE COTIZACIONES 2026
G6: VLLGROUP SAS | I6: DYNAMIC DEFENSE SOLUTIONS SAS
G7: VALOR UNITARIO SIN IVA | I7: VALOR UNITARIO SIN IVA | K7: VALOR UNITARIO SIN IVA | L7: VALOR UNITARIO SIN IVA | M7: VALOR UNITARIO SIN IVA | N7: VALOR UNITARIO SIN IVA | P7: VALOR UNITARIO SIN IVA | Q7: IVA UNITARIO | R7: VALOR UNITARIO INCLUIDO IVA | S7: VALOR TOTAL INCLUIDO IVA
B8: ÍTEM | C8: DESCRIPCIÓN DEL BIEN ( Según especificaciones técnicas) | D8: CANTIDAD | E8: UNIDAD DE MEDIDA
B9: 1. GRUPO MÓDULOS DE GRABACIÓN DE VIDEO | C9: MODULO DE GRABACION DE AUDIO Y VIDEO CON LENTE AJUSTABLE REMOBIBLE | D9: 19 | E9: UNIDAD | G9: 2616900 | I9: 3965042 | K9: =ROUND(MIN(G9,I9),2) -> 2616900 | L9: =ROUND(AVERAGE(G9,I9),2) -> 3290971 | M9: =ROUND(MAX(G9,I9),2) -> 3965042 | N9: =+ROUND(AVERAGE(K9,L9),2) -> 2953935.5 | P9: =N9 -> 2953935.5 | Q9: =ROUND(P9*19%,2) -> 561247.75 | R9: =ROUND(Q9+P9,2) -> 3515183.2 | S9: =ROUND(R9*D9,2) -> 66788482
C10: MODULO DE GRABACION DE AUDIO Y VIDEO CON VISION NOCTURNA | D10: 19 | E10: UNIDAD | G10: 2464091 | I10: 3734796 | K10: =ROUND(MIN(G10,I10),2) -> 2464091 | L10: =ROUND(AVERAGE(G10,I10),2) -> 3099443.5 | M10: =ROUND(MAX(G10,I10),2) -> 3734796 | N10: =+ROUND(AVERAGE(K10,L10),2) -> 2781767.2 | P10: =N10 -> 2781767.2 | Q10: =ROUND(P10*19%,2) -> 528535.78 | R10: =ROUND(Q10+P10,2) -> 3310303 | S10: =ROUND(R10*D10,2) -> 62895758
C11: MODULO DE GRABACION DE AUDIO Y VIDEO CON ALTA RESOLUCIÓN | D11: 19 | E11: UNIDAD | G11: 2003864 | I11: 3037235 | K11: =ROUND(MIN(G11,I11),2) -> 2003864 | L11: =ROUND(AVERAGE(G11,I11),2) -> 2520549.5 | M11: =ROUND(MAX(G11,I11),2) -> 3037235 | N11: =+ROUND(AVERAGE(K11,L11),2) -> 2262206.8 | P11: =N11 -> 2262206.8 | Q11: =ROUND(P11*19%,2) -> 429819.28 | R11: =ROUND(Q11+P11,2) -> 2692026 | S11: =ROUND(R11*D11,2) -> 51148495
B12: Total GRUPO 1 MÓDULOS DE GRABACIÓN DE VIDEO | G12: =SUM(G9:G11) -> 7084855 | I12: =SUM(I9:I11) -> 10737073 | P12: TOTAL GRUPO 1 | S12: =SUM(S9:S11) -> 1.8083273e+08
B13: 2. GRUPO EQUIPOS DE LOCALIZACION | C13: EQUIPOS DE LOCALIZACION GPS 4G | D13: 37 | E13: UNIDAD | G13: 1227273 | I13: 1860164 | K13: =ROUND(MIN(G13,I13),2) -> 1227273 | L13: =ROUND(AVERAGE(G13,I13),2) -> 1543718.5 | M13: =ROUND(MAX(G13,I13),2) -> 1860164 | N13: =+ROUND(AVERAGE(K13,L13),2) -> 1385495.8 | P13: =N13 -> 1385495.8 | Q13: =ROUND(P13*19%,2) -> 263244.19 | R13: =ROUND(Q13+P13,2) -> 1648739.9 | S13: =ROUND(R13*D13,2) -> 61003378
C14: EQUIPOS DE LOCALIZACION TIPO SMART TAG | D14: 99 | E14: UNIDAD | G14: 371250 | I14: 562700 | K14: =ROUND(MIN(G14,I14),2) -> 371250 | L14: =ROUND(AVERAGE(G14,I14),2) -> 466975 | M14: =ROUND(MAX(G14,I14),2) -> 562700 | N14: =+ROUND(AVERAGE(K14,L14),2) -> 419112.5 | P14: =L14 -> 466975 | Q14: =ROUND(P14*19%,2) -> 88725.25 | R14: =ROUND(Q14+P14,2) -> 555700.25 | S14: =ROUND(R14*D14,2) -> 55014325
C15: EQUIPOS DE LOCALIZACION GPS 4G + AUDIO | D15: 38 | E15: UNIDAD | G15: 1534091 | I15: 2325205 | K15: =ROUND(MIN(G15,I15),2) -> 1534091 | L15: =ROUND(AVERAGE(G15,I15),2) -> 1929648 | M15: =ROUND(MAX(G15,I15),2) -> 2325205 | N15: =+ROUND(AVERAGE(K15,L15),2) -> 1731869.5 | P15: =N15 -> 1731869.5 | Q15: =ROUND(P15*19%,2) -> 329055.21 | R15: =ROUND(Q15+P15,2) -> 2060924.7 | S15: =ROUND(R15*D15,2) -> 78315139
B16: Total. GRUPO No. 2 EQUIPOS DE LOCALIZACION | G16: =SUM(G13:G15) -> 3132614 | I16: =SUM(I13:I15) -> 4748069 | P16: TOTAL GRUPO 2 | S16: =SUM(S13:S15) -> 1.9433284e+08
B17: 3. GRUPO MODULO DE GRABACION DE AUDIO | C17: MODULO DE GRABACION DE AUDIO MIMETIZADO EN POWER BANK | D17: 20 | E17: UNIDAD | G17: 2157273 | I17: 3269755 | K17: =ROUND(MIN(G17,I17),2) -> 2157273 | L17: =ROUND(AVERAGE(G17,I17),2) -> 2713514 | M17: =ROUND(MAX(G17,I17),2) -> 3269755 | N17: =+ROUND(AVERAGE(K17,L17),2) -> 2435393.5 | P17: =N17 -> 2435393.5 | Q17: =ROUND(P17*19%,2) -> 462724.77 | R17: =ROUND(Q17+P17,2) -> 2898118.3 | S17: =ROUND(R17*D17,2) -> 57962365
B18: TOTAL 3. GRUPO MODULO DE GRABACION DE AUDIO | G18: =SUM(G17) -> 2157273 | I18: =SUM(I17) -> 3269755 | P18: TOTAL GRUPO 3 | S18: =SUM(S17) -> 57962365
B19: Total GRUPO 1,GRUPO 2 Y 3 | G19: =SUM(G12+G16+G18) -> 12374742 | I19: =SUM(I12+I16+I18) -> 18754897 | P19: TOTAL GRUPO 1 , 2 Y 3 | S19: =SUM(S12+S16+S18) -> 4.3312794e+08
B21: NOTAS:
B22: 1) Se realizó el estudio con dos (2) cotizaciones las cuales cumplen con lo solicitado por la Entidad
B23: 2) Para establecer el valor del mercado ítem x ítem del . Se aplica formula media aritmetica baja y promedio
B24: 3) En el presente análisis se aplicó el procedimiento de aproximación generalmente aceptado por las reglas matemáticas denominado redondeo a dos decimales, esto es, si el tercer decimal es menor que 5, el segundo decimal se mantiene; si el tercer decimal es igual o mayor que 5, el segundo decimal se incrementa en uno.
B25: Fecha de elaboración: 02/07/2026
B26: Estudio del sector : 343

Sheet ANEXO2
B2: ANEXO 2 - ANALISIS DE COTIZACIONES
D3: ADQUISICIÓN DE EQUIPOS ESPECIALES DE AUDIO, VIDEO Y UBICACIÓN (GPS), PARA FORTALECER LAS ACTUACIONES DE POLICIA JUDICIAL DEL CTI – FGN. DISTRIBUIDO POR GRUPOS, ASÍ: GRUPO1: MÓDULOS DE GRABACIÓN DE VIDEO, GRUPO2: EQUIPOS DE LOCALIZACION, GRUPO3: MODULO DE GRABACION DE AUDIO
B4: NECESIDAD | G4: ANALISIS DE COTIZACIONES 2026 | L4: PRESUPUESTO TOTAL ASIGNADO 2026
G6: VALOR UNITARIO SIN IVA | H6: IVA UNITARIO | I6: VALOR UNITARIO INCLUIDO IVA | J6: VALOR TOTAL INCLUIDO IVA | L6: VALOR UNITARIO SIN IVA | M6: IVA UNITARIO | N6: VALOR UNITARIO INCLUIDO IVA | O6: VALOR TOTAL INCLUIDO IVA
B7: ÍTEM | C7: DESCRIPCIÓN DEL BIEN ( Según especificaciones técnicas) | D7: CANTIDAD | E7: UNIDAD DE MEDIDA
B8: 1. GRUPO MÓDULOS DE GRABACIÓN DE VIDEO | C8: MODULO DE GRABACION DE AUDIO Y VIDEO CON LENTE AJUSTABLE REMOBIBLE | D8: 19 | E8: UNIDAD | G8: ='ANEXO 1 - COTIZACION'!P9 -> 2953935.5 | H8: =ROUND(G8*19%,2) -> 561247.75 | I8: =ROUND(H8+G8,2) -> 3515183.2 | J8: =ROUND(I8*D8,2) -> 66788482 | L8: 2953935.5 | M8: =ROUND(L8*19%,2) -> 561247.75 | N8: =ROUND(M8+L8,2) -> 3515183.2 | O8: =ROUND(N8*D8,2) -> 66788482
C9: MODULO DE GRABACION DE AUDIO Y VIDEO CON VISION NOCTURNA | D9: 19 | E9: UNIDAD | G9: ='ANEXO 1 - COTIZACION'!P10 -> 2781767.2 | H9: =ROUND(G9*19%,2) -> 528535.78 | I9: =ROUND(H9+G9,2) -> 3310303 | J9: =ROUND(I9*D9,2) -> 62895758 | L9: 2781767.2 | M9: =ROUND(L9*19%,2) -> 528535.78 | N9: =ROUND(M9+L9,2) -> 3310303 | O9: =ROUND(N9*D9,2) -> 62895758
C10: MODULO DE GRABACION DE AUDIO Y VIDEO CON ALTA RESOLUCIÓN | D10: 19 | E10: UNIDAD | G10: ='ANEXO 1 - COTIZACION'!P11 -> 2262206.8 | H10: =ROUND(G10*19%,2) -> 429819.28 | I10: =ROUND(H10+G10,2) -> 2692026 | J10: =ROUND(I10*D10,2) -> 51148495 | L10: 2262206.8 | M10: =ROUND(L10*19%,2) -> 429819.28 | N10: =ROUND(M10+L10,2) -> 2692026 | O10: =ROUND(N10*D10,2) -> 51148495
B11: Total GRUPO 1 MÓDULOS DE GRABACIÓN DE VIDEO | G11: TOTAL GRUPO 1 | J11: =SUM(J8:J10) -> 1.8083273e+08 | L11: TOTAL GRUPO 1 | O11: =SUM(O8:O10) -> 1.8083273e+08
B12: 2. GRUPO EQUIPOS DE LOCALIZACION | C12: EQUIPOS DE LOCALIZACION GPS 4G | D12: 37 | E12: UNIDAD | G12: ='ANEXO 1 - COTIZACION'!P13 -> 1385495.8 | H12: =ROUND(G12*19%,2) -> 263244.19 | I12: =ROUND(H12+G12,2) -> 1648739.9 | J12: =ROUND(I12*D12,2) -> 61003378 | L12: 1385495.8 | M12: =ROUND(L12*19%,2) -> 263244.19 | N12: =ROUND(M12+L12,2) -> 1648739.9 | O12: =ROUND(N12*D12,2) -> 61003378
C13: EQUIPOS DE LOCALIZACION TIPO SMART TAG | D13: 99 | E13: UNIDAD | G13: ='ANEXO 1 - COTIZACION'!P14 -> 466975 | H13: =ROUND(G13*19%,2) -> 88725.25 | I13: =ROUND(H13+G13,2) -> 555700.25 | J13: =ROUND(I13*D13,2) -> 55014325 | L13: 466975 | M13: =ROUND(L13*19%,2) -> 88725.25 | N13: =ROUND(M13+L13,2) -> 555700.25 | O13: =ROUND(N13*D13,2) -> 55014325
C14: EQUIPOS DE LOCALIZACION GPS 4G + AUDIO | D14: 38 | E14: UNIDAD | G14: ='ANEXO 1 - COTIZACION'!P15 -> 1731869.5 | H14: =ROUND(G14*19%,2) -> 329055.21 | I14: =ROUND(H14+G14,2) -> 2060924.7 | J14: =ROUND(I14*D14,2) -> 78315139 | L14: 1731869.5 | M14: =ROUND(L14*19%,2) -> 329055.21 | N14: =ROUND(M14+L14,2) -> 2060924.7 | O14: =ROUND(N14*D14,2) -> 78315139
B15: Total. GRUPO No. 2 EQUIPOS DE LOCALIZACION | G15: TOTAL GRUPO 2 | J15: =SUM(J12:J14) -> 1.9433284e+08 | L15: TOTAL GRUPO 2 | O15: =SUM(O12:O14) -> 1.9433284e+08
B16: 3. GRUPO MODULO DE GRABACION DE AUDIO | C16: MODULO DE GRABACION DE AUDIO MIMETIZADO EN POWER BANK | D16: 20 | E16: UNIDAD | G16: ='ANEXO 1 - COTIZACION'!P17 -> 2435393.5 | H16: =ROUND(G16*19%,2) -> 462724.77 | I16: =ROUND(H16+G16,2) -> 2898118.3 | J16: =ROUND(I16*D16,2) -> 57962365 | L16: 2435393.5 | M16: =ROUND(L16*19%,2) -> 462724.77 | N16: =ROUND(M16+L16,2) -> 2898118.3 | O16: =ROUND(N16*D16,2) -> 57962365
B17: TOTAL 3. GRUPO MODULO DE GRABACION DE AUDIO | G17: TOTAL GRUPO 3 | J17: =SUM(J16) -> 57962365 | L17: TOTAL GRUPO 3 | O17: =SUM(O16) -> 57962365
B18: Total GRUPO 1,GRUPO 2 Y 3 | G18: TOTAL GRUPO 1 , 2 Y 3 | J18: =SUM(J11+J15+J17) -> 4.3312794e+08 | L18: TOTAL GRUPO 1 , 2 Y 3 | O18: =SUM(O11+O15+O17) -> 4.3312794e+08
B20: NOTAS:
B21: 3) En el presente análisis se aplicó el procedimiento de aproximación generalmente aceptado por las reglas matemáticas denominado redondeo a dos decimales, esto es, si el tercer decimal es menor que 5, el segundo decimal se mantiene; si el tercer decimal es igual o mayor que 5, el segundo decimal se incrementa en uno.
B23: Fecha de elaboración: 02/07/2026
B24: Estudio del sector : 343

Sheet anexo3
B2: ANEXO 3 PRESUPUESTO TOTAL ASIGNADO
D3: ADQUISICIÓN DE EQUIPOS ESPECIALES DE AUDIO, VIDEO Y UBICACIÓN (GPS), PARA FORTALECER LAS ACTUACIONES DE POLICIA JUDICIAL DEL CTI – FGN. DISTRIBUIDO POR GRUPOS, ASÍ: GRUPO1: MÓDULOS DE GRABACIÓN DE VIDEO, GRUPO2: EQUIPOS DE LOCALIZACION, GRUPO3: MODULO DE GRABACION DE AUDIO
B4: NECESIDAD | G4: ANALISIS DE COTIZACIONES 2026 | L4: PRESUPUESTO TOTAL ASIGNADO 2026
G6: VALOR UNITARIO SIN IVA | H6: IVA UNITARIO | I6: VALOR UNITARIO INCLUIDO IVA | J6: VALOR TOTAL INCLUIDO IVA | L6: VALOR UNITARIO SIN IVA | M6: IVA UNITARIO | N6: VALOR UNITARIO INCLUIDO IVA | O6: VALOR TOTAL INCLUIDO IVA
B7: ÍTEM | C7: DESCRIPCIÓN DEL BIEN ( Según especificaciones técnicas) | D7: CANTIDAD | E7: UNIDAD DE MEDIDA
B8: 1. GRUPO MÓDULOS DE GRABACIÓN DE VIDEO | C8: MODULO DE GRABACION DE AUDIO Y VIDEO CON LENTE AJUSTABLE REMOBIBLE | D8: 19 | E8: UNIDAD | G8: ='ANEXO 1 - COTIZACION'!P9 -> 2953935.5 | H8: =ROUND(G8*19%,2) -> 561247.75 | I8: =ROUND(H8+G8,2) -> 3515183.2 | J8: =ROUND(I8*D8,2) -> 66788482 | L8: 2953935.5 | M8: =ROUND(L8*19%,2) -> 561247.75 | N8: =ROUND(M8+L8,2) -> 3515183.2 | O8: =ROUND(N8*D8,2) -> 66788482
C9: MODULO DE GRABACION DE AUDIO Y VIDEO CON VISION NOCTURNA | D9: 19 | E9: UNIDAD | G9: ='ANEXO 1 - COTIZACION'!P10 -> 2781767.2 | H9: =ROUND(G9*19%,2) -> 528535.78 | I9: =ROUND(H9+G9,2) -> 3310303 | J9: =ROUND(I9*D9,2) -> 62895758 | L9: 2781767.2 | M9: =ROUND(L9*19%,2) -> 528535.78 | N9: =ROUND(M9+L9,2) -> 3310303 | O9: =ROUND(N9*D9,2) -> 62895758
C10: MODULO DE GRABACION DE AUDIO Y VIDEO CON ALTA RESOLUCIÓN | D10: 19 | E10: UNIDAD | G10: ='ANEXO 1 - COTIZACION'!P11 -> 2262206.8 | H10: =ROUND(G10*19%,2) -> 429819.28 | I10: =ROUND(H10+G10,2) -> 2692026 | J10: =ROUND(I10*D10,2) -> 51148495 | L10: 2262206.8 | M10: =ROUND(L10*19%,2) -> 429819.28 | N10: =ROUND(M10+L10,2) -> 2692026 | O10: =ROUND(N10*D10,2) -> 51148495
B11: Total GRUPO 1 MÓDULOS DE GRABACIÓN DE VIDEO | G11: TOTAL GRUPO 1 | J11: =SUM(J8:J10) -> 1.8083273e+08 | L11: TOTAL GRUPO 1 | O11: =SUM(O8:O10) -> 1.8083273e+08
B12: 2. GRUPO EQUIPOS DE LOCALIZACION | C12: EQUIPOS DE LOCALIZACION GPS 4G | D12: 37 | E12: UNIDAD | G12: ='ANEXO 1 - COTIZACION'!P13 -> 1385495.8 | H12: =ROUND(G12*19%,2) -> 263244.19 | I12: =ROUND(H12+G12,2) -> 1648739.9 | J12: =ROUND(I12*D12,2) -> 61003378 | L12: 1385495.8 | M12: =ROUND(L12*19%,2) -> 263244.19 | N12: =ROUND(M12+L12,2) -> 1648739.9 | O12: =ROUND(N12*D12,2) -> 61003378
C13: EQUIPOS DE LOCALIZACION TIPO SMART TAG | D13: 99 | E13: UNIDAD | G13: ='ANEXO 1 - COTIZACION'!P14 -> 466975 | H13: =ROUND(G13*19%,2) -> 88725.25 | I13: =ROUND(H13+G13,2) -> 555700.25 | J13: =ROUND(I13*D13,2) -> 55014325 | L13: 466975 | M13: =ROUND(L13*19%,2) -> 88725.25 | N13: =ROUND(M13+L13,2) -> 555700.25 | O13: =ROUND(N13*D13,2) -> 55014325
C14: EQUIPOS DE LOCALIZACION GPS 4G + AUDIO | D14: 38 | E14: UNIDAD | G14: ='ANEXO 1 - COTIZACION'!P15 -> 1731869.5 | H14: =ROUND(G14*19%,2) -> 329055.21 | I14: =ROUND(H14+G14,2) -> 2060924.7 | J14: =ROUND(I14*D14,2) -> 78315139 | L14: 1731869.5 | M14: =ROUND(L14*19%,2) -> 329055.21 | N14: =ROUND(M14+L14,2) -> 2060924.7 | O14: =ROUND(N14*D14,2) -> 78315139
B15: Total. GRUPO No. 2 EQUIPOS DE LOCALIZACION | G15: TOTAL GRUPO 2 | J15: =SUM(J12:J14) -> 1.9433284e+08 | L15: TOTAL GRUPO 2 | O15: =SUM(O12:O14) -> 1.9433284e+08
B16: 3. GRUPO MODULO DE GRABACION DE AUDIO | C16: MODULO DE GRABACION DE AUDIO MIMETIZADO EN POWER BANK | D16: 20 | E16: UNIDAD | G16: ='ANEXO 1 - COTIZACION'!P17 -> 2435393.5 | H16: =ROUND(G16*19%,2) -> 462724.77 | I16: =ROUND(H16+G16,2) -> 2898118.3 | J16: =ROUND(I16*D16,2) -> 57962365 | L16: 2435393.5 | M16: =ROUND(L16*19%,2) -> 462724.77 | N16: =ROUND(M16+L16,2) -> 2898118.3 | O16: =ROUND(N16*D16,2) -> 57962365
B17: TOTAL 3. GRUPO MODULO DE GRABACION DE AUDIO | G17: TOTAL GRUPO 3 | J17: =SUM(J16) -> 57962365 | L17: TOTAL GRUPO 3 | O17: =SUM(O16) -> 57962365
B18: Total GRUPO 1,GRUPO 2 Y 3 | G18: TOTAL GRUPO 1 , 2 Y 3 | J18: =SUM(J11+J15+J17) -> 4.3312794e+08 | L18: TOTAL GRUPO 1 , 2 Y 3 | O18: =SUM(O11+O15+O17) -> 4.3312794e+08
B20: NOTAS:
B21: En el presente análisis se aplicó el procedimiento de aproximación generalmente aceptado por las reglas matemáticas denominado redondeo a dos decimales, esto es, si el tercer decimal es menor que 5, el segundo decimal se mantiene; si el tercer decimal es igual o mayor que 5, el segundo decimal se incrementa en uno.
B23: Fecha de elaboración: 02/07/2026
B24: Estudio del sector : 343
