Workbook
Name ADMINISTRACION: [6]PRESUPUESTO!$D$2037
Name APROBO: [6]PRESUPUESTO!$D$2036
Name FID: [6]PRESUPUESTO!$D$2040
Name IMPREVISTOS: [6]PRESUPUESTO!$D$2038
Name REALIZO: [6]PRESUPUESTO!$D$2035
Name UTILIDAD: [6]PRESUPUESTO!$D$2039

Sheet PROPUESTA ECONOMICA(Proponente)
C3: Formulario 1 - Propuesta económica - Documento tipo de selección abreviada de menor cuantía - versión 2
C4: Código | D4: CCE-EICP-FM-25 | E4: Versión | F4: 2
C6: FORMULARIO 1
C7: PROPUESTA ECONOMICA
C8: [La entidad puede utilizar este formulario de presentación de propuesta económica de forma detallada, sin perjuicio que la entidad pueda modificarlo o establecer la presentación de la oferta económica con un formulario distinto al indicado.] [Los proponentes emplearán el formulario establecido por la entidad para determinar su propuesta económica conforme al Formulario 1 - Presupuesto Oficial publicado por la Entidad]
C10: Cuando el proceso de contratación es estructurado por precios unitarios, la Entidad debe aplicar las notas 1, 2 y 3 del presente formato y las casillas de "Descripción", "Porcentaje" de la Administración, Imprevisto, Utilidad y total A.I.U. resaltadas en color amarillo.
C12: Nº | D12: ITEM DE PAGO | E12: ESPECIFICACIONES | G12: DESCRIPCION | H12: UND. | I12: CANTIDAD | J12: VALOR UNITARIO | K12: VALOR TOTAL
E13: GENERAL | F13: PARTICULAR
C16: Subtotal
C22: Subtotal
C32: Subtotal
C37: Subtotal
C40: Subtotal
C41: SUBTOTAL OBRAS
G46: SUBTOTAL OBRAS (INCLUYE IVA)
G50: VALOR TOTAL
C53: NOTA 1: Se debe tener en cuenta que el PRECIO UNITARIO incluye el valor de A.I.U. | H53: DESCRIPCION | K53: PORCENTAJE
C54: NOTA 2: Cuando la fracción decimal del peso sea igual o superior a 5 se aproximara por exceso al número entero siguiente del peso y cuando la fracción decimal del peso sea inferior a 5 se aproximará por defecto al número entero del peso. | H54: ADMINISTRACION | J54: A= | K54: [Ofrecimiento del Proponente]
C55: NOTA 3: El A.I.U y su discriminación deben estar en porcentaje (%). | H55: IMPREVISTO | J55: I= | K55: [Ofrecimiento del Proponente]
H56: UTILIDAD | J56: U= | K56: [Ofrecimiento del Proponente]
H57: TOTAL A.I.U | J57: A.I.U.= | K57: [Ofrecimiento del Proponente]
G60: Firma del Proponente o de su Representante Legal

Sheet INFORMACION
B3: INFORMACIÓN GENERAL
B4: OBJETO : | C4: MANTENIMIENTO DE CENTROS DEPORTIVOS RURALES DEL MUNICIPIO DE OTANCHE BOYACA 2026
B5: CACULO:
B6: Vo.Bo. Secretaria de Planeación | C6: Vo.Bo. Secretario de Planeación e Infraestructura
B7: Vo.Bo. Supervisión | C7: Vo.Bo. Supervisión
B8: Contratista: | C8: N/A
B9: Interventor: | C9: N/A
B10: Fecha: | C10: 45818
B11: Ubiucacion: | C11: NAZARET, PIZARRA, OASIS, SEVILLA, BUSAL, BETANIA

Sheet PRESUPUESTO OFICIAL 
B1: Formulario 1 - Propuesta económica - Documento tipo de mínima cuantía de obra pública de infraestructura social
B2: Versión: 1 de 21 de agosto de 2025
C5: FORMULARIO 1
C6: PRESUPUESTO OFICIAL
C7: [La Entidad puede utilizar este formulario de detalle del presupuesto oficial para determinar las condiciones bajo las cuales los Proponentes analizarán y presentarán su propuesta económica de forma detallada, sin perjuicio que la Entidad pueda modificarlo o establecer la presentación de la oferta económica con un formulario distinto al indicado.] [El presente Formulario aplica para los Procesos de Contratación que tengan como forma de pago precios unitarios. Tratándose de otras modalidades de pago, la Entidad debe ajustarlo cuando corresponde a: precio global, llave en mano, administración delegada, reembolso de gastos o cualquier otra forma de pago.]
C9: Adicionalmente, cuando el proceso de contratación es estructurado por precios unitarios, la Entidad debe aplicar las notas 1, 2 y 3 del presente formulario y las casillas de "Descripción", "Porcentaje" de la Administración, Imprevisto, Utilidad y total A.I.U. resaltadas en color amarillo. Tratándose de otras modalidades de precio, la Entidad puede o no configurar los mismos aspectos.
C11: Nº | D11: ÍTEM DE PAGO | E11: ESPECIFICACIONES | G11: DESCRIPCIÓN | H11: UND. | I11: CANTIDAD | J11: INCREMENTO X TRANSPORTE | K11: VALOR UNITARIO | L11: VALOR TOTAL
E12: GENERAL | F12: PARTICULAR
C13: 1.MANTENIMIENTO
C14: 1.1 | D14: 2.18.08 | E14: GOBERNACIÓN | G14: DEMARCACION DE ESPACIOS DEPORTIVOS CON PINTURA PARA CANCHAS BASE AGUA. (INCLUYE LAVADO DE SUPERFICIE CON ÁCIDO). | H14: ML | I14: 720 | J14: 0.12 | K14: =9162.5+1.3 -> 9163.8 | L14: =+ROUND(K14*I14*(1+J14),2) -> 7389688.3
C15: 1.2 | E15: APU | G15: SUMINISTRO E INSTALACIÓN ROLLO DE MALLA GALLINERO 1. 1/4 | H15: UND | I15: 6 | J15: 0.12 | K15: =127911.19*1.3 -> 166284.55 | L15: =+ROUND(K15*I15*(1+J15),2) -> 1117432.2
C16: 1.3 | E16: APU | G16: SUMINISTRO E INSTALACIÓN DE LUMINARIA LED FL TABLETA 200 W LUZ BLANCA | H16: UND | I16: 13 | J16: 0.12 | K16: =231308.69*1.3 -> 300701.3 | L16: =+ROUND(K16*I16*(1+J16),2) -> 4378210.9
C17: 1.4 | D17: 7.07.03 | E17: GOBERNACIÓN | G17: SUMINISTRO E INSTALACIÓN RED DE ALIMENTACION PARA SALIDAS DE ILUMINACION EXTERIOR DE CAJA DE CONEXIÓN A LUMINARIA EN POSTES EN 3x12AWG. Cu., | H17: ML | I17: 400 | J17: 0.12 | K17: =15679.4*1.3 -> 20383.22 | L17: =+ROUND(K17*I17*(1+J17),2) -> 9131682.6
C18: 1.5 | D18: 2.10.213 | E18: GOBERNACIÓN | G18: SUMINISTRO E INSTALACIÓN DE BREAKER TERMOMAGNÉTICO BIPOLAR ENCHUFABLE DE 2 X 20 AMP. | H18: UND | I18: 6 | J18: 0.12 | K18: =68334.55*1.3 -> 88834.915 | L18: =+ROUND(K18*I18*(1+J18),2) -> 596970.63
C19: 1.6 | D19: 2.10.77 | E19: GOBERNACIÓN | G19: SUMINISTRO E INSTALACIÓN DE TABLERO DE DISTRIBUCIÓN MONOFÁSICO DE 4 CIRCUITOS | H19: UND | I19: 3 | J19: 0.12 | K19: =124852.36*1.3 -> 162308.07 | L19: =+ROUND(K19*I19*(1+J19),2) -> 545355.11
C20: Subtotal | L20: =+ROUND(SUM(L14:L19),0) -> 23159340
C21: SUBTOTAL OBRAS | L21: =+L20 -> 23159340
E24: 5000000
E25: =+E24*3% -> 150000 | G25: SUBTOTAL OBRAS (INCLUYE IVA)
G29: VALOR TOTAL | L29: =+ROUND(SUM(L21),0) -> 23159340 | O29: VEINTI TRES MILLONES CIENTO CINCUENTA Y NUEVE MIL TRECIENTOS CUARENTA PESOS (23.159.340.00) M/CTE.
C32: NOTA 1: Se debe tener en cuenta que el PRECIO UNITARIO incluye el valor de AIU E INCREMENTO DE TRANSPORTE | H32: DESCRIPCION | L32: PORCENTAJE
C33: NOTA 2: Cuando la fracción decimal del peso sea igual o superior a 5 se aproximará por exceso al número entero siguiente del peso y cuando la fracción decimal del peso sea inferior a 5 se aproximará por defecto al número entero del peso. | H33: ADMINISTRACIÓN | K33: A= | L33: 0.24
C34: NOTA 3: El AIU y su discriminación deben estar en porcentaje (%). | H34: IMPREVISTO | K34: I= | L34: 0.02
H35: UTILIDAD | K35: U= | L35: 0.04
H36: TOTAL A.I.U | K36: A.I.U.= | L36: 0.3

Sheet 1.1
B2: MEMORIAS DE CALCULO DE CANTIDADES
D4: MEMORIAS DE CALCULO CANTIDADES | H4: PROYECTO:
H6: OBJETO: | I6: =+INFORMACION!C4 -> MANTENIMIENTO DE CENTROS DEPORTIVOS RURALES DEL MUNICIPIO DE OTANCHE BOYACA 2026
B8: ENTIDAD: | D8: ALCALDÍA MUNICIPAL DE OTANCHE - BOYACÁ | H8: CONTRATISTA: | M8: INTERVENTOR: | N8: FECHA:
H9: =+INFORMACION!C8 -> N/A | M9: =+INFORMACION!C9 -> N/A | N9: =+INFORMACION!C10 -> 45818
B10: CAPITULO: | D10: =+'PRESUPUESTO OFICIAL '!C13 -> 1.MANTENIMIENTO | N10: Hoja Nov. de 1
B11: ITEM DE PAGO: | D11: =+'PRESUPUESTO OFICIAL '!D14 -> 2.18.08
B13: ITEM | C13: UND | D13: DESCRIPCION | I13: UBICACIÓN | L13: =+INFORMACION!C11 -> NAZARET, PIZARRA, OASIS, SEVILLA, BUSAL, BETANIA
B14: =+'PRESUPUESTO OFICIAL '!C14 -> 1.1 | C14: =+'PRESUPUESTO OFICIAL '!H14 -> ML | D14: =+'PRESUPUESTO OFICIAL '!G14 -> DEMARCACION DE ESPACIOS DEPORTIVOS CON PINTURA PARA CANCHAS BASE AGUA. (INCLUYE LAVADO DE SUPERFICIE CON ÁCIDO).
H15: Localización | I15: Dimensiones | M15: factor de exponjamiento | N15: Total
I16: No. Elem. | J16: Largo | K16: Ancho | L16: Alto
H18: perfilada terreno sectro 2 | I18: 1 | J18: 8 | K18: 2 | L18: 0.05 | N18: =+I18*J18*K18*L18 -> 0.8
H19: perfilada terreno sectro 3 | I19: 1 | J19: 9 | K19: 2 | L19: 0.05 | N19: =+I19*J19*K19*L19 -> 0.9
H20: perfilada terreno sectro 4 | I20: 1 | J20: 5 | K20: 2 | L20: 0.05 | N20: =+I20*J20*K20*L20 -> 0.5
H35: TOTAL PRESENTE ACTA | N35: =+N17+N18+N19+N20+N21+N22 -> 2.2
I36: EJECUTADO ACTA 1 | N36: 0
I37: EJECUTADO ACTA 2 | N37: 0
I38: EJECUTADO PRESENTE ACTA | N38: =+ROUND(N35-N36-N37,2) -> 2.2
B39: Calculó: | F39: =+INFORMACION!C6 -> Vo.Bo. Secretario de Planeación e Infraestructura | K39: =+INFORMACION!C7 -> Vo.Bo. Supervisión
B40: =+INFORMACION!C5 -> 0
B41: Otanche - Boyacá

Sheet APU 1.2
E3: FORMATO | H3: VERSIÓN: 1
H4: CÓDIGO: M-PD-ID-F-001
C5: GOBERNACIÓN DE BOYACÁ - SECRETARÍA DE INFRAESTRUCTURA PÚBLICA | H5: FECHA: 30/abril/2025
C6: ANÁLISIS DE PRECIOS UNITARIOS
C8: No. CAPÍTULO | D8: C A P Í T U L O
C9: 2 | D9: =IF(C9="","",+VLOOKUP(C9,[6]!Tabla5[#Data],2,0)) -> #REF!
C10: No. SUB-CAPÍTULO | D10: S U B - C A P Í T U L O
D11: =IF(C11="","",+VLOOKUP(C11,[6]!Tabla5[#Data],2,0))
C12: REF. PRECIO GOB. BOYACÁ | D12: DESCRIPCIÓN DE LA ACTIVIDAD | I12: Unidad
C14: No. ÍTEM PRESUPUESTO | D14: SUMINISTRO E INSTALACIÓN ROLLO DE MALLA GALLINERO 1. 1/4 | I14: =IF(C15="","",+VLOOKUP(C15,[6]!Tabla5[#Data],4,0))
C17: 1. MATERIAL
C18: Descripción | F18: Unidad | G18: Valor Unitario | H18: Cantidad | I18: Valor parcial
C19: ALAMBRE GALVANIZADO C 12 | F19: KG | G19: 10301 | H19: 2.5 | I19: =ROUND((+IF(C19="","",G19*H19)),2) -> 25752.5
C20: MALLA GALLINERO 1.1/4 | F20: RLL | G20: 94057.6 | H20: 1 | I20: =+IF(C20="","",G20*H20) -> 94057.6
F21: SUBTOTAL MATERIALES | I21: =+ROUND(SUM(I19:I20),2) -> 119810.1
C23: 2. EQUIPO
C24: Descripción | F24: Unidad | G24: Vr. Unitario | H24: Cantidad | I24: Valor parcial
C25: HERRAMIENTA Y EQUIPO MENOR (%M.O.) | F25: % | G25: 7715.32 | H25: 0.05 | I25: =+IF(C25="","",G25*H25) -> 385.766
I26: =+IF(C26="","",G26*H26)
F27: SUBTOTAL EQUIPO | I27: =ROUND(+SUM(I25:I26),2) -> 385.77
C29: 3. MANO DE OBRA
C30: Descripción | F30: Unidad | G30: Vr. Unitario | H30: Cantidad | I30: Valor parcial
C31: CUADRILLA DE INSTALACIÓNES (BB) | F31: HC | G31: 35069.63 | H31: 0.22 | I31: =(+IF(C31="","",(G31*H31))) -> 7715.3186
I33: =(+IF(C33="","",(G33*H33)))
F35: SUBTOTAL MANO DE OBRA | I35: =+ROUND(SUM(I31:I34),2) -> 7715.32
C37: COSTO DIRECTO | I37: =ROUND((SUM(+I21+I27+I35)),2) -> 127911.19
C39: INCREMENTO POR DISTANCIA (F.I.D.) | H39: =FID -> 0 | I39: =+I37*H39 -> 0
C40: TOTAL COSTO DIRECTO + INCREMENTO POR DISTANCIA | I40: =ROUND(I39+I37,2) -> 127911.19
C42: ADMINISTRACIÓN | H42: =ADMINISTRACION -> 0 | I42: =+I40*H42 -> 0
C43: IMPREVISTOS | H43: =IMPREVISTOS -> 0 | I43: =+I40*H43 -> 0
C44: UTILIDAD | H44: {=UTILIDAD} -> 0 | I44: =+I40*H44 -> 0
C45: TOTAL COSTOS INDIRECTOS | I45: =ROUND(SUM(I42:I44),2) -> 0
C47: TOTAL COSTOS ACTIVIDAD (INCLUYE AIU E INCREMENTO POR DISTANCIA) | I47: =SUM(I40+I45) -> 127911.19
C49: OBSERVACIONES:
F51: =REALIZO
F52: Realizó
F54: =APROBO
F55: Aprobó

Sheet APU 1.3
A1: {=A1:K66} -> 0
E3: FORMATO | H3: VERSIÓN: 1
H4: CÓDIGO: M-PD-ID-F-001
C5: GOBERNACIÓN DE BOYACÁ - SECRETARÍA DE INFRAESTRUCTURA PÚBLICA | H5: FECHA: 30/abril/2025
C6: ANÁLISIS DE PRECIOS UNITARIOS
C8: No. CAPÍTULO | D8: C A P Í T U L O
C9: 2 | D9: =IF(C9="","",+VLOOKUP(C9,[6]!Tabla5[#Data],2,0)) -> #REF!
C10: No. SUB-CAPÍTULO | D10: S U B - C A P Í T U L O
D11: =IF(C11="","",+VLOOKUP(C11,[6]!Tabla5[#Data],2,0))
C12: REF. PRECIO GOB. BOYACÁ | D12: DESCRIPCIÓN DE LA ACTIVIDAD | I12: Unidad
C14: No. ÍTEM PRESUPUESTO | D14: } | I14: UND
C17: 1. MATERIAL
C18: Descripción | F18: Unidad | G18: Valor Unitario | H18: Cantidad | I18: Valor parcial
C19: LUMINARIA LED FL TABLETA 200 W LUZ BLANCA | F19: UND | G19: 110000 | H19: 1 | I19: =ROUND((+IF(C19="","",G19*H19)),2) -> 110000
I25: =+IF(C25="","",G25*H25)
I26: =+IF(C26="","",G26*H26)
I27: =+IF(C27="","",G27*H27)
I28: =+IF(C28="","",G28*H28)
F29: SUBTOTAL MATERIALES | I29: =+ROUND(SUM(I19:I28),2) -> 110000
C31: 2. EQUIPO
C32: Descripción | F32: Unidad | G32: Vr. Unitario | H32: Cantidad | I32: Valor parcial
C33: HERRAMIENTA Y EQUIPO MENOR (%M.O.) | F33: % | G33: 88843.07 | H33: 0.05 | I33: =+IF(C33="","",G33*H33) -> 4442.1535
C34: TALADRO | F34: HORA | G34: 4621 | H34: 0.07 | I34: =+IF(C34="","",G34*H34) -> 323.47
C35: ANDAMIO TUBULAR NORMALIZADO, TIPO MULTIDIRECCIONAL, DE ACERO GALVANIZADO EN CALIENTE, SEGÚN ISO 9001 | F35: DIA | G35: 27700 | H35: 1 | I35: =+IF(C35="","",G35*H35) -> 27700
F36: SUBTOTAL EQUIPO | I36: =ROUND(+SUM(I33:I35),2) -> 32465.62
C38: 3. MANO DE OBRA
C39: Descripción | F39: Unidad | G39: Vr. Unitario | H39: Cantidad | I39: Valor parcial
C40: CUADRILLA DE INSTALACIÓNES ELÉCTRICAS (FF) | F40: HC | G40: 46759.51 | H40: 1.9 | I40: =(+IF(C40="","",(G40*H40))) -> 88843.069
I41: =(+IF(C41="","",(G41*H41)))
I42: =(+IF(C42="","",(G42*H42)))
I43: =(+IF(C43="","",(G43*H43)))
F44: SUBTOTAL MANO DE OBRA | I44: =+ROUND(SUM(I40:I43),2) -> 88843.07
C46: COSTO DIRECTO | I46: =ROUND((SUM(+I29+I36+I44)),2) -> 231308.69
C48: INCREMENTO POR DISTANCIA (F.I.D.) | H48: =FID -> 0 | I48: =+I46*H48 -> 0
C49: TOTAL COSTO DIRECTO + INCREMENTO POR DISTANCIA | I49: =ROUND(I48+I46,2) -> 231308.69
C51: ADMINISTRACIÓN | H51: =ADMINISTRACION -> 0 | I51: =+I49*H51 -> 0
C52: IMPREVISTOS | H52: =IMPREVISTOS -> 0 | I52: =+I49*H52 -> 0
C53: UTILIDAD | H53: {=UTILIDAD} -> 0 | I53: =+I49*H53 -> 0
C54: TOTAL COSTOS INDIRECTOS | I54: =ROUND(SUM(I51:I53),2) -> 0
C56: TOTAL COSTOS ACTIVIDAD (INCLUYE AIU E INCREMENTO POR DISTANCIA) | I56: =SUM(I49+I54) -> 231308.69
...
