Workbook
Name _____________INF1: #REF!
Name _____________INF1: #REF!
Name ____________INF1: #REF!
Name ____________INF1: #REF!
Name ___________INF1: #REF!
Name ___________INF1: #REF!
Name __________AIU1: #REF!
Name __________AIU1: #REF!
Name __________AIU2: #REF!
Name __________Cod1: #REF!
Name __________Cod1: #REF!
Name __________INF1: #REF!
Name __________INF1: #REF!
Name __________Pa2: #REF!
Name __________Pa3: #REF!
Name __________Pa4: #REF!
Name __________Po2: #REF!
Name __________Po2: #REF!
Name __________ST166: #REF!
Name __________TPE8016: #REF!
Name __________TPE8020: #REF!
Name __________TPE8025: #REF!
Name __________TPN1002: #REF!
Name __________TPN1003: #REF!
Name __________TPN1004: #REF!
Name __________TPN1006: #REF!
Name __________TPN1008: #REF!
Name __________TPN1202: #REF!
Name __________TPN1203: #REF!
Name __________TPN1204: #REF!
Name __________TPN1206: #REF!
Name __________TPN1208: #REF!
Name __________TPN16012: #REF!
Name __________TPN1602: #REF!
Name __________TPN1603: #REF!
Name __________TPN1604: #REF!
Name __________TPN1606: #REF!
Name __________TPN1608: #REF!
Name __________TUZ22: #REF!
Name __________TUZ36: #REF!
Name __________TZ323: #REF!
Name __________TZ324: #REF!
Name _________AFC1: #REF!
Name _________AFC3: #REF!
Name _________AFC5: #REF!
Name _________AIU1: #REF!
Name _________AIU1: #REF!
Name _________AIU2: #REF!
Name _________BGC1: #REF!
Name _________BGC3: #REF!
Name _________BGC5: #REF!
Name _________CAC1: #REF!
Name _________CAC3: #REF!
Name _________CAC5: #REF!
Name _________Cod1: #REF!
Name _________Cod1: #REF!
Name _________INF1: #REF!
Name _________INF1: #REF!
Name _________key2: #REF!
Name _________key2: #REF!

Sheet PMA
A3: ÍTEM | B3: DESCRIPCIÓN | C3: UNIDAD | D3: CANTIDAD | E3: VALOR UNITARIO | F3: VALOR TOTAL
A4: 1 | B4: GESTIÓN SOCIAL Y COMUNICACIONES | F4: =+F5+F7+F11 -> 1990000
A5: 1.1 | B5: Participación | F5: =+SUM(F6) -> 500000
A6: 1.1.1 | B6: Reuniones con la comunidad de inicio y fin de obra. Incluye logística y refrigerio. | C6: un | D6: 2 | E6: 250000 | F6: =+D6*E6 -> 500000
A7: 1.2 | B7: Comunicación y divulgación | F7: =+SUM(F8:F10) -> 950000
A8: 1.2.1 | B8: Afiches | C8: un | D8: 4 | E8: 50000 | F8: =+D8*E8 -> 200000
A9: 1.2.2 | B9: Volantes según manual de imagen | C9: un | D9: 500 | E9: 500 | F9: =+D9*E9 -> 250000
A10: 1.2.5 | B10: Cartelera informativa de 1,2 m x 0,80 m en corcho | C10: un | D10: 2 | E10: 250000 | F10: =+D10*E10 -> 500000
A11: 1.3 | B11: Sostenibilidad | F11: =+SUM(F12) -> 540000
A12: 1.3.1 | B12: Capacitaciones comité de obra (incluye logística y refrigerio) | C12: un | D12: 3 | E12: 180000 | F12: =+D12*E12 -> 540000
A13: 2 | B13: GESTIÓN AMBIENTAL | F13: =+F14+F18+F21+F24+F26+F28+F30 -> 1502900
A14: 2.1 | B14: Manejo de Residuos Sólidos (Comunes y especiales) | F14: =+SUM(F15:F17) -> 1065000
A15: 2.1 | B15: Caneca de 55 galones con tapa y debidamente rotulada (recipientes para residuos ordinarios, reciclables y especiales) | C15: un | D15: 4 | E15: 105000 | F15: =+D15*E15 -> 420000
A16: 2.2 | B16: Construcción de caseta para el acopio de residuos sólidos comunes. | C16: un | D16: 2 | E16: 300000 | F16: =+D16*E16 -> 600000
A17: 2.3 | B17: Recolección de residuos especiales por parte de una empresa autorizada | C17: un | D17: 1 | E17: 45000 | F17: =+D17*E17 -> 45000
A18: 2.2 | B18: Emisiones Atmosféricas | F18: =+SUM(F19:F20) -> 85000
A19: 2.2.1 | B19: Manguera para agua | C19: m | D19: 10 | E19: 3500 | F19: =+D19*E19 -> 35000
A20: 2.2.2 | B20: Plástico negro, calibre 4 y ancho de 3m | C20: kg | D20: 10 | E20: 5000 | F20: =+D20*E20 -> 50000
A21: 2.3 | B21: Almacenamiento adecuado de materiales de construcción | F21: =+SUM(F22:F23) -> 154000
A22: 2.3.1 | B22: Teleras de 1.35 m x 0.90 m para campamentos | C22: un | D22: 4 | E22: 26000 | F22: =+D22*E22 -> 104000
A23: 2.3.2 | B23: Plástico negro, calibre 4 y ancho de 3m | C23: kg | D23: 10 | E23: 5000 | F23: =+D23*E23 -> 50000
A24: 2.4 | B24: Protección para el suelo | F24: =+SUM(F25) -> 85000
A25: 2.4.1 | B25: Kit de emergencia para derrames químicos. Incluye bolsa de arena, caneca de 5 galones, bolsas plásticas, pala pequeña, guantes y mascarilla para concentración de partículas. | C25: un | D25: 1 | E25: 85000 | F25: =+D25*E25 -> 85000
A26: 2.5 | B26: Prevención de la contaminación de cuerpos de Agua y redes de servicios públicos | F26: =+F27 -> 0
A27: 2.5.1 | B27: Malla tipo polisombra color naranja para proteger sumideros (rollo 10 m x 1,50 m) | C27: un | D27: 0 | E27: 88900 | F27: =+D27*E27 -> 0
A28: 2.6 | B28: Manejo de la vegetación y el paisaje | F28: =+SUM(F29) -> 88900
A29: 2.6.1 | B29: Malla tipo polisombra color naranja para proteger sumideros (rollo 50 m x 1,50 m) | C29: un | D29: 1 | E29: 88900 | F29: =+D29*E29 -> 88900
A30: 2.7 | B30: Señalización y Desvíos | F30: =+SUM(F31:F33) -> 25000
A31: 2.7.1 | B31: Señales reglamentarias (vía cerrada, desvío, etc) Dimensiones y características según lo establecido por el Manual de Señalización vial adoptado mediante Resolución 1050 de 2004 del Ministerio de Transporte (Alquiler)). | F31: =+D31*E31 -> 0
A32: 2.7.2 | B32: Cinta de señalización naranja (calibre 4, rollo 0.8 m x 80 m) | C32: un | D32: 1 | E32: 25000 | F32: =+D32*E32 -> 25000
A33: 2.7.3 | B33: Malla tipo polisombra color naranja para proteger sumideros (rollo 100 m x 1,50 m) | F33: =+D33*E33 -> 0
A34: 3 | B34: GESTIÓN DE SEGURIDAD Y SALUD EN EL TRABAJO | F34: =+F35+F47 -> 1328820
A35: 3.1 | B35: Medicina preventiva y del trabajo | F35: =+SUM(F36:F46) -> 978820
A36: 3.1.1 | B36: Casco con barbuquejo | C36: un | D36: 8 | E36: 21490 | F36: =+D36*E36 -> 171920
A37: 3.1.2 | B37: Guantes de vaqueta | C37: un | D37: 8 | E37: 8600 | F37: =+D37*E37 -> 68800
A38: 3.1.3 | B38: Guantes de Nitrilo | C38: un | D38: 4 | E38: 1500 | F38: =+D38*E38 -> 6000
A39: 3.1.4 | B39: Guantes de Hilaza | C39: un | D39: 8 | E39: 3600 | F39: =+D39*E39 -> 28800
A40: 3.1.5 | B40: Botas de seguridad con puntera | C40: un | D40: 8 | E40: 39900 | F40: =+D40*E40 -> 319200
A41: 3.1.6 | B41: Protector auditivo | C41: un | D41: 20 | E41: 2600 | F41: =+D41*E41 -> 52000
A42: 3.1.7 | B42: Gafa de seguridad | C42: un | D42: 8 | E42: 5000 | F42: =+D42*E42 -> 40000
...

Sheet PRESUPUESTO
A1: #VALUE! | B1: PRESUPUESTO OFICIAL
B2: ADECUACION PUESTO DE SALUD SAN VICENTE DEL CONGO
B3: ESE FRANCISCO VALDERRAMA TURBO
B4: SECRETARÍA DE PLANEACIÓN Y DESARROLLO TERRITORIAL
B5: Gobierno de Andres Julian Rendon Departamento Antioquia
B6: MINISTERIO DE SALUD Y PROTECCIÓN SOCIAL - MSPS
B7: Subdirección de Infraestructura en Salud
A8: 45824
A9: Sede: | B9: ESE FRANCISCO VALDERRAMA TURBO SEDE SAN VICENTE DEL CONGO | D9: Área: | E9: 621.42 | F9: Valor mt2: | G9: =+G74/E9 -> 1671804.3
A11: CÓDIGO | B11: ACTIVIDAD | C11: UNIDAD | D11: CANTIDAD | E11: VR. UNITARIO | F11: VR./ACTIVIDAD | G11: VR. CAPITULO
A12: 1 | B12: PRELIMINARES Y DEMOLICIONES | G12: =+SUM(F13:F19) -> 1.1553047e+08
A13: 1,1 | B13: DEMOLICIÓN BALDOSA DE PISO H=0.02 M INCLUYE DISPOSICION FINAL AL BOTADERO | C13: M2 | D13: 41.2079 | E13: 30194 | F13: =IFERROR(PRESUPUESTO!$D13*PRESUPUESTO!$E13,0) -> 1244231.3
A14: 1,2 | B14: DEMOLICIÓN ENCHAPE MURO INCLUYE DISPOSICION FINAL AL BOTADERO | C14: M2 | D14: 285.1704 | E14: 33752 | F14: =IFERROR(PRESUPUESTO!$D14*PRESUPUESTO!$E14,0) -> 9625071.3
A15: 1,3 | B15: DEMOLICIÓN PAÑETE MURO INCLUYE DISPOSICION FINAL AL BOTADERO | C15: M2 | D15: 2441.022 | E15: 23233 | F15: =IFERROR(PRESUPUESTO!$D15*PRESUPUESTO!$E15,0) -> 56712264
A16: 1,4 | B16: DEMOLICIÓN CIELO RASO FALSO INCLUYE DISPOSICIÓN FINAL AL BOTADERO | C16: M2 | D16: 621.4168 | E16: 32350 | F16: =IFERROR(PRESUPUESTO!$D16*PRESUPUESTO!$E16,0) -> 20102833
A17: 1,5 | B17: DESMONTE APARATOS SANITARIOS INCLUYE DISPOSICION FINAL AL BOTADERO | C17: UN | D17: 29 | E17: 52804 | F17: =IFERROR(PRESUPUESTO!$D17*PRESUPUESTO!$E17,0) -> 1531316
A18: 1,6 | B18: DESMONTE DE CUBIERTAS (TEJA DE BARRO) INCLUYE DISPOSICION FINAL AL BOTADERO | C18: M2 | D18: 386 | E18: 62904 | F18: =IFERROR(PRESUPUESTO!$D18*PRESUPUESTO!$E18,0) -> 24280944
A19: 1,7 | B19: DESMONTE MARCOS Y PUERTAS INCLUYE DISPOSICION FINAL AL BOTADERO | C19: UN | D19: 56 | E19: 36318 | F19: =IFERROR(PRESUPUESTO!$D19*PRESUPUESTO!$E19,0) -> 2033808
A21: 2 | B21: PAÑETE, REVOQUE Y/O REPELLO | G21: =+SUM(F22) -> 1.3566712e+08
A22: 2,1 | B22: PAÑETE IMPERMEABILIZADO MUROS 1:3, E=1.5 CM | C22: M2 | D22: 2441.022 | E22: 55578 | F22: =IFERROR(PRESUPUESTO!$D22*PRESUPUESTO!$E22,0) -> 1.3566712e+08
A24: 3 | B24: CUBIERTAS | G24: =+SUM(F25:F26) -> 237249496
A25: 3,1 | B25: TEJA TIPO SANDWICH, POLIURETANO INYECTADO | C25: M2 | D25: 386 | E25: 388704 | F25: =IFERROR(PRESUPUESTO!$D25*PRESUPUESTO!$E25,0) -> 150039744
A26: 3,2 | B26: ESTRUCTURA METÁLICA PARA TEJA | C26: M2 | D26: 386 | E26: 225932 | F26: =IFERROR(PRESUPUESTO!$D26*PRESUPUESTO!$E26,0) -> 87209752
A28: 4 | B28: CARPINTERIA METÁLICA | G28: =+SUM(F29) -> 92715944
A29: 4,1 | B29: PUERTA EN LAMINA ALUMINIO (Incluye marco) | C29: M2 | D29: 124.0865 | E29: 747188 | F29: =IFERROR(PRESUPUESTO!$D29*PRESUPUESTO!$E29,0) -> 92715944
A31: 5 | B31: INSTALACIÓN HIDROSANITARIAS | G31: =+SUM(F32:F34) -> 10611984
A32: 5,1 | B32: PUNTO HIDRÁULICO PVC-P/PARAL 1/2" | C32: UN | D32: 34 | E32: 106586 | F32: =IFERROR(PRESUPUESTO!$D32*PRESUPUESTO!$E32,0) -> 3623924
A33: 5,2 | B33: SALIDA SANITARIA PVC-S/PARAL 2" | C33: UN | D33: 20 | E33: 187157 | F33: =IFERROR(PRESUPUESTO!$D33*PRESUPUESTO!$E33,0) -> 3743140
A34: 5,3 | B34: SALIDA SANITARIA PVC-S/PARAL 4" | C34: UN | D34: 14 | E34: 231780 | F34: =IFERROR(PRESUPUESTO!$D34*PRESUPUESTO!$E34,0) -> 3244920
A36: 6 | B36: INSTALACIONES ELÉCTRICAS | G36: =+SUM(F37:F39) -> 28095448
A37: 6,1 | B37: LUMINARIA LED 50W 120V | C37: UN | D37: 72 | E37: 272159 | F37: =IFERROR(PRESUPUESTO!$D37*PRESUPUESTO!$E37,0) -> 19595448
A38: 6,2 | B38: CERTIFICADO RETIE | C38: UN | D38: 1 | E38: 8500000 | F38: =PRESUPUESTO!$D38*PRESUPUESTO!$E38 -> 8500000
A40: 7 | B40: PISOS BASES | G40: =+SUM(F41) -> 15013192
A41: 7,1 | B41: ALISTADO PISOS 1:3, E=0.04 | C41: M2 | D41: 41.2079 | E41: 364328 | F41: =IFERROR(PRESUPUESTO!$D41*PRESUPUESTO!$E41,0) -> 15013192
A43: 8 | B43: PISOS,ACABADOS,ENCHAPES Y ACCESORIOS | G43: =+SUM(F44:F45) -> 42132957
A44: 8,1 | B44: BALDOSA CERÁMICA PISO-PARED 20X20 CALIDAD PRIMERA | C44: M2 | D44: 285.1704 | E44: 125126 | F44: =IFERROR(PRESUPUESTO!$D44*PRESUPUESTO!$E44,0) -> 35682231
A45: 8,2 | B45: BALDOSA CERÁMICA PISO - PARED PARA BAÑO ANTIDESLIZANTE | C45: M2 | D45: 41.2079 | E45: 156541 | F45: =PRESUPUESTO!$D45*PRESUPUESTO!$E45 -> 6450725.9
A47: 9 | B47: CIELO RASO | G47: =+SUM(F48) -> 99635484
A48: 9,1 | B48: CIELO RASO PLANO DRYWALL (INCLUYE PINTURA) | C48: M2 | D48: 621.4168 | E48: 160336 | F48: =IFERROR(PRESUPUESTO!$D48*PRESUPUESTO!$E48,0) -> 99635484
A50: 10 | B50: APARATOS SANITARIOS | G50: =+SUM(F51:F52) -> 15345201
...

Sheet MOBILIARIO
B1: Mobiliario
A2: CÓDIGO | B2: DESCRIPCIÓN | D2: UNIDAD | E2: PRECIO-UNITARIO | F2: CANTIDAD | G2: VALOR UNITARIO
A3: I-MO-10 | B3: Silla ergonómica giratoria | D3: Und | E3: 751260.5 | F3: 3 | G3: =IFERROR(+E3*F3,"") -> 2253781.5
A4: I-MO-8 | B4: Silla de ruedas estándar | D4: Und | E4: 706084.63 | F4: 2 | G4: =IFERROR(+E4*F4,"") -> 1412169.3
A5: I-MO-9 | B5: Escritorio Clínico anticorrosivo | D5: Und | E5: 756302.52 | F5: 3 | G5: =IFERROR(+E5*F5,"") -> 2268907.6
A6: I-MO-11 | B6: Silla fija visitante | D6: Und | E6: 277310.92 | F6: 3 | G6: =IFERROR(+E6*F6,"") -> 831932.77
A7: I-MO-12 | B7: Banca tándem 3 puestos cromada para sala de espera | D7: Und | E7: 915966.39 | F7: 3 | G7: =IFERROR(+E7*F7,"") -> 2747899.2
A8: =IFERROR(+VLOOKUP(B8,#REF!,8,FALSE),"") | D8: =+IFERROR(VLOOKUP(B8,#REF!,2,FALSE),"") | E8: =IFERROR(+VLOOKUP(B8,#REF!,4,FALSE),"") | G8: =IFERROR(+E8*F8,"")
A9: =IFERROR(+VLOOKUP(B9,#REF!,8,FALSE),"") | D9: =+IFERROR(VLOOKUP(B9,#REF!,2,FALSE),"") | E9: =IFERROR(+VLOOKUP(B9,#REF!,4,FALSE),"") | G9: =IFERROR(+E9*F9,"")
A10: =IFERROR(+VLOOKUP(B10,#REF!,8,FALSE),"") | D10: =+IFERROR(VLOOKUP(B10,#REF!,2,FALSE),"") | E10: =IFERROR(+VLOOKUP(B10,#REF!,4,FALSE),"") | G10: =IFERROR(+E10*F10,"")
A11: =IFERROR(+VLOOKUP(B11,#REF!,8,FALSE),"") | D11: =+IFERROR(VLOOKUP(B11,#REF!,2,FALSE),"") | E11: =IFERROR(+VLOOKUP(B11,#REF!,4,FALSE),"") | G11: =IFERROR(+E11*F11,"")
A12: =IFERROR(+VLOOKUP(B12,#REF!,8,FALSE),"") | D12: =+IFERROR(VLOOKUP(B12,#REF!,2,FALSE),"") | E12: =IFERROR(+VLOOKUP(B12,#REF!,4,FALSE),"") | G12: =IFERROR(+E12*F12,"")
A13: =IFERROR(+VLOOKUP(B13,#REF!,8,FALSE),"") | D13: =+IFERROR(VLOOKUP(B13,#REF!,2,FALSE),"") | E13: =IFERROR(+VLOOKUP(B13,#REF!,4,FALSE),"") | G13: =IFERROR(+E13*F13,"")
A14: =IFERROR(+VLOOKUP(B14,#REF!,8,FALSE),"") | D14: =+IFERROR(VLOOKUP(B14,#REF!,2,FALSE),"") | E14: =IFERROR(+VLOOKUP(B14,#REF!,4,FALSE),"") | G14: =IFERROR(+E14*F14,"")
A15: =IFERROR(+VLOOKUP(B15,#REF!,8,FALSE),"") | D15: =+IFERROR(VLOOKUP(B15,#REF!,2,FALSE),"") | E15: =IFERROR(+VLOOKUP(B15,#REF!,4,FALSE),"") | G15: =IFERROR(+E15*F15,"")
G16: SUBTOTAL | H16: =SUM(G3:G15) -> 9514690.3
B17: TRANSPORTES
A18: CÓDIGO | B18: MATERIAL | C18: PESO | D18: DISTANCIA | E18: Ton-Km | F18: TARIFA | G18: VALOR UNITARIO
A19: I-T-01 | B19: Transporte de Insumos Generale a sitio de la obra (Medios de Transporte Integrados) | C19: 1 | D19: 1 | E19: 60 | F19: 10800 | G19: =IFERROR(E19*F19,"") -> 648000
G21: =IFERROR(E21*F21,"")
G22: =IFERROR(E22*F22,"")
G23: =IFERROR(E23*F23,"")
G24: SUBTOTAL | H24: =SUM(G19:G23) -> 648000
F25: Costo directo | H25: =+H24+H16 -> 10162690
F26: IVA (19%) | G26: 0.19 | H26: =+(H25)*G26 -> 1930911.2
F27: Total | H27: =+H26+H25 -> 12093601
