Workbook
Name \a: [1]Insumos!#REF!
Name \a: [1]Insumos!#REF!
Name \b: [2]INSUMOS!#REF!
Name \i: [2]INSUMOS!#REF!
Name \m: [2]INSUMOS!#REF!
Name \r: [2]INSUMOS!#REF!
Name \t: [2]INSUMOS!#REF!
Name \x: [2]INSUMOS!#REF!
Name _________________________________apu1: [2]INSUMOS!#REF!
Name ________________________________apu1: [2]INSUMOS!#REF!
Name _______________________________apu1: [2]INSUMOS!#REF!
Name ______________________________apu1: [2]INSUMOS!#REF!
Name ____________________________apu1: [2]INSUMOS!#REF!
Name ___________________________apu1: [2]INSUMOS!#REF!
Name __________________________apu1: [2]INSUMOS!#REF!
Name _________________________apu1: [2]INSUMOS!#REF!
Name ________________________apu1: [2]INSUMOS!#REF!
Name _______________________apu1: [2]INSUMOS!#REF!
Name _____________________apu1: [2]INSUMOS!#REF!
Name ____________________apu1: [2]INSUMOS!#REF!
Name ___________________apu1: [2]INSUMOS!#REF!
Name __________________apu1: [2]INSUMOS!#REF!
Name _________________apu1: [2]INSUMOS!#REF!
Name ________________apu1: [2]INSUMOS!#REF!
Name _______________apu1: [2]INSUMOS!#REF!
Name ______________apu1: [2]INSUMOS!#REF!
Name _____________apu1: [2]INSUMOS!#REF!
Name ____________apu1: [2]INSUMOS!#REF!
Name ___________apu1: [2]INSUMOS!#REF!
Name __________apu1: [2]INSUMOS!#REF!
Name _________apu1: [2]INSUMOS!#REF!
Name ________apu1: [2]INSUMOS!#REF!
Name _______apu1: [2]INSUMOS!#REF!
Name ______apu1: [2]INSUMOS!#REF!
Name _____apu1: [2]INSUMOS!#REF!
Name ____apu1: [2]INSUMOS!#REF!
Name ___apu1: [2]INSUMOS!#REF!
Name __apu1: [2]INSUMOS!#REF!
Name _A16400: #REF!
Name _A16400: #REF!
Name _apu1: [2]INSUMOS!#REF!
Name a: [1]Insumos!#REF!
Name ACERO: #REF!
Name ACERO: #REF!
Name ACTIVOS: #REF!
Name ACTIVOS: #REF!
Name adfasdfsa: [1]Insumos!#REF!
Name adfasfadfa: [1]Insumos!#REF!
Name ADMON: #REF!
Name ADMON: #REF!
Name adsfadsfasdfafdasfdasfd: [2]INSUMOS!#REF!
Name adsfadsfasfasdfasfdasdfadsfdsafdsa: [1]Insumos!#REF!
Name afdaffaf: [1]Insumos!#REF!
Name AGUA: [3]INSUMOS!$D$4
Name ALAMB: [3]INSUMOS!$D$169
Name ALAMBRE: #REF!
Name ALAMBRE: #REF!
Name ANDENESV: #REF!
Name ANDENESV: #REF!
Name ANTISB: [3]INSUMOS!$D$181

Sheet M. CANTIDADES
C1: SECRETARIA DE PLANEACIÓN Y OBRA PÚBLICAS | E1: CÓDIGO | G1: 103
E2: SERIE Y SUBSERIE | G2: 51
C3: NIT. 800252922-2
C4: Modelo Integrado de Planeación y Gestión | E4: VERSIÓN | G4: 1
C5: PRESUPUESTO | E5: FECHA DEL FORMATO | G5: D/M/A
G6: 44216
A8: =PRESUPUESTO!A8 -> MANTENIMIENTO PREVENTIVO Y RUTINARIO DEL TRAMOS CRITICOS ENTRE LA VIA TERCIARIA DE LA VEREDA SAN CARLOS Y LA VEREDA AFILADOR DEL MUNICIPIO DE SAN MIGUEL PUTUMAYO
A11: MEMORIA DE CANTIDADES
A13: ITEM | C13: =PRESUPUESTO!B12 -> Conformación de la calzada existente | H13: UNIDAD
A14: 1.1 | H14: M2
A15: DESCRIPCION | D15: ANCHO | E15: ALTO | F15: LONGITUD | G15: No. ELEM. | H15: TOTAL
A16: Sector VIA SAN CARLOS PUNTO INICIAL Lat 0°17'37.76"N - Long 76°51'31.09"O - PUNTO FINAL Lat 0°17'45.22"N - Long 76°51'1.96"O | D16: 5 | F16: 945 | G16: 1 | H16: =ROUND(D16*F16*G16,2) -> 4725
A17: Vereda El Aguila - Sector LOS POMOS PUNTO INICIAL Lat 0°17'8.64"N - Long 76°49'10.91"O - PUNTO FINAL Lat 0°16'57.98"N - Long 76°49'15.78"O | D17: 5 | F17: 1020 | G17: 1 | H17: =ROUND(D17*F17*G17,2) -> 5100 | J17: 730.85
A18: Vereda LA CANDELARIA PUNTO INICIAL Lat 0°19'6.66"N - Long 76°59'10.08"O - PUNTO FINAL Lat 0°18'47.79"N - Long 76°59'16.96"O | D18: 4 | F18: 680 | G18: 1 | H18: =ROUND(D18*F18*G18,2) -> 2720 | J18: 1135.68
A21: TOTAL | H21: =ROUND(SUM(H16:H20),2) -> 12545 | I21: =SUM(F16:F18) -> 2645
A23: ITEM | C23: =PRESUPUESTO!B13 -> Suministro, instalación y compactación con relleno E=0,15m | H23: UNIDAD
A24: =PRESUPUESTO!A13 -> 1.2 | H24: =PRESUPUESTO!E13 -> M3
A25: DESCRIPCION | D25: ANCHO | E25: ALTO | F25: LONGITUD | G25: No. ELEM. | H25: TOTAL
A26: Sector VIA SAN CARLOS PUNTO INICIAL Lat 0°17'37.76"N - Long 76°51'31.09"O - PUNTO FINAL Lat 0°17'45.22"N - Long 76°51'1.96"O | D26: 5 | E26: 0.15 | F26: 465 | G26: 1 | H26: =ROUND(D26*E26*F26*G26,2) -> 348.75
A27: Vereda El Aguila - Sector LOS POMOS PUNTO INICIAL Lat 0°17'8.64"N - Long 76°49'10.91"O - PUNTO FINAL Lat 0°16'57.98"N - Long 76°49'15.78"O | D27: 5 | E27: 0.15 | F27: 615 | G27: 1 | H27: =ROUND(D27*E27*F27*G27,2) -> 461.25
A28: Vereda LA CANDELARIA PUNTO INICIAL Lat 0°19'6.66"N - Long 76°59'10.08"O - PUNTO FINAL Lat 0°18'47.79"N - Long 76°59'16.96"O | D28: 4 | E28: 0.15 | F28: 420 | G28: 1 | H28: =ROUND(D28*E28*F28*G28,2) -> 252
A29: TOTAL | H29: =ROUND(SUM(H26:H28),2) -> 1062 | I29: =SUM(F26:F27) -> 1080
I31: =I21+I29 -> 3725
I32: =I31/1000 -> 3.725

Sheet APU
C1: SECRETARIA DE PLANEACIÓN Y OBRA PÚBLICAS | E1: CÓDIGO | F1: 103
E2: SERIE Y SUBSERIE | F2: 20.02
C3: NIT. 800252922-2
C4: Modelo Integrado de Planeación y Gestión | E4: VERSIÓN | F4: 1
C5: PRESUPUESTO | E5: FECHA DEL FORMATO | F5: D/M/A
F6: 44216
A8: =PRESUPUESTO!A8 -> MANTENIMIENTO PREVENTIVO Y RUTINARIO DEL TRAMOS CRITICOS ENTRE LA VIA TERCIARIA DE LA VEREDA SAN CARLOS Y LA VEREDA AFILADOR DEL MUNICIPIO DE SAN MIGUEL PUTUMAYO
A12: ANALISIS DE PRECIOS UNITARIOS
A14: =PRESUPUESTO!A12 -> 1.1 | B14: =PRESUPUESTO!B12 -> Conformación de la calzada existente | G14: Unidad: | H14: =PRESUPUESTO!E12 -> M2
A16: I | B16: EQUIPO | I16: ALQUILER EQUIPOS
B17: DESCRIPCIÓN | D17: Tipo | E17: Tarifa/Hora | F17: Rend | G17: V. Unitario. | I17: TROMPO | J17: capa 2 bultos dia | L17: 120000 | M17: =L17/8 -> 15000
B18: Herramienta menor | F18: 0.1 | G18: =F18*H36 -> 12.827 | I18: VIBRO | J18: alquiler dia | L18: 100000 | M18: =L18/8 -> 12500
B19: vibrocompatador | E19: 100000 | F19: 0.0015 | G19: =E19*F19 -> 150
B20: Motoniveladora | E20: 180000 | F20: 0.0015 | G20: =E20*F20 -> 270
I21: COSTOS PUESTO EN ZONA RURAL DISPERSA
I22: CEMENTO | J22: bulto 50Kg, con transpr | L22: 40000 | M22: =L22/50 -> 800
E23: SUBTOTAL. | H23: =ROUND(SUM(G18:G22),2) -> 432.83 | I23: ARENA | J23: viaje de volqueta 5 M3 | L23: 800000 | M23: =L23/5 -> 160000
A24: II | B24: MATERIALES EN OBRA. | I24: TRITURADO | J24: viaje de volqueta 5 M3 | L24: 1625000 | M24: =L24/5 -> 325000
B25: DESCRIPCIÓN | D25: Unidad | E25: Cant. | F25: Precio Unit. | G25: V. Unitario. | I25: MATERIAL DE RIO CRUDO | J25: viaje de volqueta 7 M3 | L25: 420000 | M25: =L25/7 -> 60000
I27: ALQUILER MAQUINARIA
I28: MOTONIVELADORA | J28: 1 Hr | L28: 180000
I29: RETROEXCAVADORA | J29: 1 Hr | L29: 160000
E30: SUBTOTAL | H30: =ROUND((SUM(G26:G27)),2) -> 0 | I30: VIBROCOMPACTADOR | J30: 1 Hr | L30: 110000
A31: III | B31: MANO DE OBRA. | I31: PAJARITA | J31: 1 Hr | L31: 120000
A32: CANT | B32: DESCRIPCIÓN | C32: DIA | D32: Prestac | E32: TOTAL JORNAL | F32: Rend. | G32: V. Unitario. | I32: CARRO TANQUE | J32: 1 Hr | L32: 70000
A33: 1 | B33: Ayudante | C33: 70000 | D33: 0.75 | E33: =+(A33*C33)+(A33*C33*D33) -> 122500 | F33: 955 | G33: =(E33)/(F33) -> 128.27225
E36: SUBTOTAL | H36: =ROUND(SUM(G33)+(G34),2) -> 128.27
A37: IV | B37: TRANSPORTE
B38: DESCRIPCIÓN | C38: Unidad | D38: Cantidad | E38: Prec.Unitario | G38: Vr. Unitario
E41: SUBTOTAL | H41: =ROUND(SUM(G39)+(G40),2) -> 0
D43: TOTAL COSTOS DIRECTOS. | G43: =ROUND(SUM(H23:H42),2) -> 561.1 | I43: 720.94989
A45: V | B45: COSTOS INDIRECTOS.
B46: DESCRIPCIÓN | C46: % | D46: COSTO DIRECTO | F46: V. UNITARIO
B47: ADMINISTRACIÓN | C47: 0.27 | D47: =+G43 -> 561.1 | F47: =ROUND(+C47*D47,2) -> 151.5
B48: IMPREVISTOS | C48: 0.02 | D48: =+G43 -> 561.1 | F48: =ROUND(+C48*D48,2) -> 11.22
B49: UTILIDAD | C49: 0.03 | D49: =+G43 -> 561.1 | F49: =ROUND(+C49*D49,2) -> 16.83
D50: TOTAL COSTOS INDIRECTOS | H50: =ROUND(SUM(F47:G49),2) -> 179.55
D52: TOTAL PRECIO UNITARIO. | H52: =ROUND(G43+H50,2) -> 740.65
A56: ING. EDISON FIGUEROA ORTIZ | E56: ARQ. GUILLERMO YAMID VALLEJOS BENAVIDES
A57: PROFESIONAL DE APOYO SECRETARÍA DE PLANEACIÓN | E57: SECRETARIO DE PLANEACION Y OBRAS PUBLICAS
...

Sheet PRESUPUESTO
C1: SECRETARIA DE PLANEACIÓN Y OBRA PÚBLICAS | E1: CÓDIGO | G1: 103
E2: SERIE Y SUBSERIE | G2: 51
C3: NIT. 800252922-2
C4: Modelo Integrado de Planeación y Gestión | E4: VERSIÓN | G4: 1
C5: PRESUPUESTO | E5: FECHA DEL FORMATO | G5: D/M/A
G6: 44216
A8: MANTENIMIENTO PREVENTIVO Y RUTINARIO DEL TRAMOS CRITICOS ENTRE LA VIA TERCIARIA DE LA VEREDA SAN CARLOS Y LA VEREDA AFILADOR DEL MUNICIPIO DE SAN MIGUEL PUTUMAYO
A10: PRESUPUESTO
A11: 1 | B11: MANTENIMIENTO Y MEJORAMIENTO | E11: UND | F11: CANT | G11: V. UNITARIO | H11: V. TOTAL
A12: 1.1 | B12: Conformación de la calzada existente | E12: M2 | F12: ='M. CANTIDADES'!H21 -> 12545 | G12: =APU!G43 -> 561.1 | H12: =ROUND(F12*G12,2) -> 7038999.5
A13: 1.2 | B13: Suministro, instalación y compactación con relleno E=0,15m | E13: M3 | F13: ='M. CANTIDADES'!H29 -> 1062 | G13: =APU!G101 -> 191375 | H13: =ROUND(F13*G13,2) -> 203240250
A15: SUBTOTAL | H15: =SUM(H12:H13) -> 2.1027925e+08
A18: VALOR COSTO DIRECTO | H18: =H15 -> 2.1027925e+08
A19: ADMINISTRACION | G19: 0.27000041 | H19: =ROUND(G19*H18,2) -> 56775483
A20: IMPREVISTOS | G20: 0.02 | H20: =ROUND(G20*H18,2) -> 4205585
A21: UTILIDAD | G21: 0.03 | H21: =ROUND(G21*H18,2) -> 6308377.5
A23: VALOR COSTO INDIRECTO | H23: =+H19+H20+H21 -> 67289445
A25: TOTAL PROYECTO | H25: =+H18+H23 -> 2.7756869e+08 | I25: valor max | J25: 277600000
I26: DIFR | J26: =J25-H25 -> 31305.43
A30: ING. EDISON FIGUEROA ORTIZ | E30: ARQ. GUILLERMO YAMID VALLEJOS BENAVIDES
A31: PROFESIONAL DE APOYO SECRETARÍA DE PLANEACIÓN | E31: SECRETARIO DE PLANEACION Y OBRAS PUBLICAS
A32: SAN MIGUEL - PUTUMAYO | E32: SAN MIGUEL - PUTUMAYO

Sheet DESGLOSE AIU 
B1: SECRETARIA DE PLANEACIÓN Y OBRAS PÚBLICAS | C1: CÓDIGO | D1: 103
C2: SERIE Y SUBSERIE | D2: 51
B3: NIT. 800252922-2
B4: Modelo Integrado de Planeación y Gestión | C4: VERSIÓN | D4: 1
B5: PRESUPUESTO | C5: FECHA DEL FORMATO | D5: D/M/A
D6: 44216
A8: =PRESUPUESTO!A8 -> MANTENIMIENTO PREVENTIVO Y RUTINARIO DEL TRAMOS CRITICOS ENTRE LA VIA TERCIARIA DE LA VEREDA SAN CARLOS Y LA VEREDA AFILADOR DEL MUNICIPIO DE SAN MIGUEL PUTUMAYO
A11: DESGLOSE A.I.U
A13: SALARIO PERSONAL ADMINISTRATIVO DE OBRA
A14: PERSONAL | B14: SUELDO BASICO | C14: FACTOR PRESTACIONAL | E14: SUELDO + PRESTACIONES
A15: Tecnico, tegnolo ingeniero arquitecto o afines Residente de Obra | B15: 2000000 | C15: 1.75 | E15: =B15*C15 -> 3500000
G16: COSTO TOTAL | H16: COSTO DIRECTO
A17: 1. ADMINISTRACION | G17: =PRESUPUESTO!H25 -> 2.7756869e+08 | H17: =PRESUPUESTO!H18 -> 2.1027925e+08
A18: 1.1. PERSONAL ADMINISTRATIVO DE OBRA | B18: SUELDO + PRESTACIONES | C18: DEDICACION | D18: MESES | E18: VALOR PARCIAL | F18: % SOBRE COSTO DIRECTO
A19: Residente de Obra | B19: =E15 -> 3500000 | C19: 1 | D19: 1.5 | E19: =ROUND((B19*C19*D19),2) -> 5250000 | F19: =E19/$E$57 -> 0.0249668
A21: 1.2. COSTOS DEL PROCESO
A22: Polizas y legalizacion del contrato | E22: 400000 | F22: =E22/$E$57 -> 0.0019022324
A23: 1.3. GASTOS DE OBRA
A24: Comunicaciones | E24: 200000 | F24: =E24/$E$57 -> 0.0009511162
A25: Edicion de informes papeleria Fotografias Fotocopias y reproducciones | E25: 300000 | F25: =E25/$E$57 -> 0.0014266743
A26: Seguridad Industrial | E26: 838804.51 | F26: =E26/$E$57 -> 0.0039890028
A27: alquiler parqueadero o patio para maquinas con vigilancia | E27: 2600000 | F27: =E27/$E$57 -> 0.012364511
A28: 1.4 IMPUESTOS DE OBRA
A29: Retefuente | E29: =ROUND(G29*$G$17,2) -> 5551373.9 | F29: =E29/$E$57 -> 0.026400008 | G29: 0.02
A30: Servicios (reteica) contratos de obra, y consultorias | E30: =ROUND(G30*$G$17,2) -> 2775687 | F30: =E30/$E$57 -> 0.013200004 | G30: 0.01
A31: Contribucion ciudadana | E31: =ROUND(G31*$G$17,2) -> 13878435 | F31: =E31/$E$57 -> 0.06600002 | G31: 0.05
A32: ESTAMPILLAS
A33: Estampilla para el bienestar del adulto mayor | E33: =ROUND(G33*$G$17,2) -> 11102748 | F33: =E33/$E$57 -> 0.052800016 | G33: 0.04
A34: estampilla procultura | E34: =ROUND(G34*$G$17,2) -> 5551373.9 | F34: =E34/$E$57 -> 0.026400008 | G34: 0.02
A35: estampilla para justicia | E35: =ROUND(G35*$G$17,2) -> 5551373.9 | F35: =E35/$E$57 -> 0.026400008 | G35: 0.02
A36: tasa prodeporte contrato de menor cuantia desde 28 a 280 SLMV | E36: =ROUND(G36*$G$17,2) -> 2775687 | F36: =E36/$E$57 -> 0.013200004 | G36: 0.01
A38: TOTAL ADMINISTRACION | E38: =SUM(E19:E37) -> 56775483 | F38: =SUM(F19:F37) -> 0.27000041 | G38: =G53 -> 56775483 | H38: =G38-E38 -> 0
A40: 2. IMPREVISTOS
A41: DESCRIPCION | D41: VALOR PARCIAL | F41: PORCENTAJE
A42: IMPREVISTOS | D42: =ROUND(H17*F42,2) -> 4205585 | F42: 0.02
A43: TOTAL IMPREVISTOS | D43: =D42 -> 4205585 | F43: =SUM(F42) -> 0.02
A45: 3. UTILIDAD
A46: DESCRIPCION | D46: VALOR PARCIAL | F46: PORCENTAJE
A47: UTILIDAD | D47: =ROUND(H17*F47,2) -> 6308377.5 | F47: 0.03
A48: TOTAL UTILIDAD | D48: =D47 -> 6308377.5 | F48: =SUM(F47) -> 0.03
...

Sheet DIAGRAMA DE GANTT
C1: SECRETARIA DE PLANEACIÓN Y OBRAS PÚBLICAS | E1: CODIGO
E2: SERIE Y SUBSERIE
C3: NIT. 800252922-2
C4: Modelo Integrado de Planeación y Gestión | E4: VERSIÓN
C5: PRESUPUESTO | E5: FECHA DEL FORMATO
A8: =PRESUPUESTO!A8 -> MANTENIMIENTO PREVENTIVO Y RUTINARIO DEL TRAMOS CRITICOS ENTRE LA VIA TERCIARIA DE LA VEREDA SAN CARLOS Y LA VEREDA AFILADOR DEL MUNICIPIO DE SAN MIGUEL PUTUMAYO
A11: DIAGRAMA DE GANTT
H12: SEM 1 | I12: SEM 2 | J12: SEM 3 | K12: SEM 4 | L12: SEM 5 | M12: SEM 6
A13: ITEM | B13: DESCRIPCION | D13: UNIDAD | E13: CANTIDAD | F13: V/UNITARIO | G13: V/TOTAL
B14: =PRESUPUESTO!B11 -> MANTENIMIENTO Y MEJORAMIENTO
A15: =[8]Presupuesto!A15 -> 1.1 | B15: =PRESUPUESTO!B12 -> Conformación de la calzada existente | D15: =PRESUPUESTO!E12 -> M2 | E15: =PRESUPUESTO!F12 -> 12545 | F15: =PRESUPUESTO!G12 -> 561.1 | G15: =ROUND(E15*F15,2) -> 7038999.5
A16: =[8]Presupuesto!A16 -> 1.2 | B16: =PRESUPUESTO!B13 -> Suministro, instalación y compactación con relleno E=0,15m | D16: =PRESUPUESTO!E13 -> M3 | E16: =PRESUPUESTO!F13 -> 1062 | F16: =PRESUPUESTO!G13 -> 191375 | G16: =ROUND(E16*F16,2) -> 203240250
A18: TOTAL COSTO DIRECTO OBRA | G18: =SUM(G15:G16) -> 2.1027925e+08
A19: ADMINISTRACION | F19: 0.27000041 | G19: =+'DESGLOSE AIU '!E38 -> 56775483
A20: IMPREVISTOS | F20: 0.02 | G20: =ROUND(F20*G$18,2) -> 4205585
A21: UTILIDAD | F21: 0.03 | G21: =ROUND(F21*G$18,2) -> 6308377.5
A22: TOTAL COSTO INDIRECTO OBRA | G22: =+PRESUPUESTO!H23 -> 67289445
A23: TOTAL OBRA | G23: =G22+G18 -> 2.7756869e+08
B28: =PRESUPUESTO!A30 -> ING. EDISON FIGUEROA ORTIZ | F28: ARQ. GUILLERMO YAMID VALLEJOS BENAVIDES
B29: =PRESUPUESTO!A31 -> PROFESIONAL DE APOYO SECRETARÍA DE PLANEACIÓN | F29: SECRETARIO DE PLANEACION Y OBRAS PUBLICAS
B30: =PRESUPUESTO!A32 -> SAN MIGUEL - PUTUMAYO | F30: SAN MIGUEL - PUTUMAYO

Sheet PROGRAMA DE INVERSION
C1: SECRETARIA DE PLANEACIÓN Y OBRAS PÚBLICAS | E1: CODIGO | H1: 103
E2: SERIE Y SUBSERIE | H2: 51
C3: NIT. 800252922-2
C4: Modelo Integrado de Planeación y Gestión | E4: VERSIÓN | H4: 1
C5: PRESUPUESTO | E5: FECHA DEL FORMATO | H5: D/M/A
H6: 44216
A8: =PRESUPUESTO!A8 -> MANTENIMIENTO PREVENTIVO Y RUTINARIO DEL TRAMOS CRITICOS ENTRE LA VIA TERCIARIA DE LA VEREDA SAN CARLOS Y LA VEREDA AFILADOR DEL MUNICIPIO DE SAN MIGUEL PUTUMAYO
A11: FLUJO DE INVERSION
I12: SEMANA 1 | J12: SEMANA 2 | K12: SEMANA 3 | L12: SEMANA 4 | M12: SEMANA 5 | N12: SEMANA 6
A13: ITEM | B13: DESCRIPCION | D13: UNIDAD | E13: CANTIDAD | F13: V/UNITARIO | G13: V/TOTAL | H13: %
B14: =PRESUPUESTO!B11 -> MANTENIMIENTO Y MEJORAMIENTO
A15: =[8]Presupuesto!A15 -> 1.1 | B15: =PRESUPUESTO!B12 -> Conformación de la calzada existente | D15: =PRESUPUESTO!E12 -> M2 | E15: =PRESUPUESTO!F12 -> 12545 | F15: =PRESUPUESTO!G12 -> 561.1 | G15: =ROUND(E15*F15,2) -> 7038999.5 | H15: =G15/G24 -> 0.025359486 | I15: =$G$15/6 -> 1173166.6 | J15: =$G$15/6 -> 1173166.6 | K15: =$G$15/6 -> 1173166.6 | L15: =$G$15/6 -> 1173166.6 | M15: =$G$15/6 -> 1173166.6 | N15: =$G$15/6 -> 1173166.6
A16: =[8]Presupuesto!A16 -> 1.2 | B16: =PRESUPUESTO!B13 -> Suministro, instalación y compactación con relleno E=0,15m | D16: =PRESUPUESTO!E13 -> M3 | E16: =PRESUPUESTO!F13 -> 1062 | F16: =PRESUPUESTO!G13 -> 191375 | G16: =ROUND(E16*F16,2) -> 203240250 | H16: =G16/G24 -> 0.73221604 | I16: =$G$16/6 -> 33873375 | J16: =$G$16/6 -> 33873375 | K16: =$G$16/6 -> 33873375 | L16: =$G$16/6 -> 33873375 | M16: =$G$16/6 -> 33873375 | N16: =$G$16/6 -> 33873375
A19: TOTAL COSTO DIRECTO OBRA | G19: =SUM(G15:G17) -> 2.1027925e+08 | H19: =SUM(H15:H18) -> 0.75757552 | I19: =SUM(I15:I17) -> 35046542 | J19: =SUM(J15:J17) -> 35046542 | K19: =SUM(K15:K17) -> 35046542 | L19: =SUM(L15:L17) -> 35046542 | M19: =SUM(M15:M17) -> 35046542 | N19: =SUM(N15:N17) -> 35046542
A20: ADMINISTRACION | F20: 0.27000041 | G20: =+'DESGLOSE AIU '!E38 -> 56775483 | H20: =G20/G$24 -> 0.2045457 | I20: =+G20/6 -> 9462580.4 | J20: =+G20/6 -> 9462580.4 | K20: =+G20/6 -> 9462580.4 | L20: =+G20/6 -> 9462580.4 | M20: =+G20/6 -> 9462580.4 | N20: =+G20/6 -> 9462580.4
A21: IMPREVISTOS | F21: 0.02 | G21: =ROUND(F21*G$19,2) -> 4205585 | H21: =G21/G$24 -> 0.01515151 | I21: =$F$21*I$19 -> 700930.83 | J21: =$F$21*J$19 -> 700930.83 | K21: =$F$21*K$19 -> 700930.83 | L21: =$F$21*L$19 -> 700930.83 | M21: =$F$21*M$19 -> 700930.83 | N21: =$F$21*N$19 -> 700930.83
A22: UTILIDAD | F22: 0.03 | G22: =ROUND(F22*G$19,2) -> 6308377.5 | H22: =G22/G$24 -> 0.022727266 | I22: =$F$22*I$19 -> 1051396.2 | J22: =$F$22*J$19 -> 1051396.2 | K22: =$F$22*K$19 -> 1051396.2 | L22: =$F$22*L$19 -> 1051396.2 | M22: =$F$22*M$19 -> 1051396.2 | N22: =$F$22*N$19 -> 1051396.2
A23: TOTAL COSTO INDIRECTO OBRA | G23: =+PRESUPUESTO!H23 -> 67289445 | H23: =SUM(H20:H22) -> 0.24242448 | I23: =SUM(I20:I22) -> 11214908 | J23: =SUM(J20:J22) -> 11214908 | K23: =SUM(K20:K22) -> 11214908 | L23: =SUM(L20:L22) -> 11214908 | M23: =SUM(M20:M22) -> 11214908 | N23: =SUM(N20:N22) -> 11214908
A24: TOTAL OBRA | G24: =G23+G19 -> 2.7756869e+08 | H24: =H19+H23 -> 1 | I24: =I19+I23 -> 46261449 | J24: =J19+J23 -> 46261449 | K24: =K19+K23 -> 46261449 | L24: =L19+L23 -> 46261449 | M24: =M19+M23 -> 46261449 | N24: =N19+N23 -> 46261449
B29: =PRESUPUESTO!A30 -> ING. EDISON FIGUEROA ORTIZ | L29: ARQ. GUILLERMO YAMID VALLEJOS BENAVIDES
B30: =PRESUPUESTO!A31 -> PROFESIONAL DE APOYO SECRETARÍA DE PLANEACIÓN | L30: SECRETARIO DE PLANEACION Y OBRAS PUBLICAS
B31: =PRESUPUESTO!A32 -> SAN MIGUEL - PUTUMAYO | L31: SAN MIGUEL - PUTUMAYO

Sheet F.M 
D1: SECRETARIA DE PLANEACIÓN Y OBRAS PÚBLICAS | E1: CODIGO | F1: 103
E2: SERIE Y SUBSERIE | F2: 51
D3: NIT. 800252922-2
D4: Modelo Integrado de Planeación y Gestión | E4: VERSIÓN | F4: 1
D5: PRESUPUESTO | E5: FECHA DEL FORMATO | F5: D/M/A
F6: 44216
B8: =PRESUPUESTO!A8 -> MANTENIMIENTO PREVENTIVO Y RUTINARIO DEL TRAMOS CRITICOS ENTRE LA VIA TERCIARIA DE LA VEREDA SAN CARLOS Y LA VEREDA AFILADOR DEL MUNICIPIO DE SAN MIGUEL PUTUMAYO
B11: FACTOR PRESTACIONAL PARA PERSONAL PROFESIONAL, ADMINISTRATIVO Y TECNICO | G11: %
B12: A. | D12: VALOR BASE (Sueldo) | G12: 100
B13: B. | D13: PRESTACIONES SOCIALES | G13: =SUM(G14:G29) -> 75.432
C14: a. | D14: Cesantías | F14: (A/12) | G14: 8.33
C15: b. | D15: Intereses sobre cesantía | F15: (a*12%) | G15: 1
C16: c. | D16: Prima anual | F16: (A/12) | G16: 8.33
C17: d. | D17: Caja de Compensación | F17: % A | G17: 4
C18: e. | D18: SENA | F18: % A | G18: 2
C19: f. | D19: ICBF | F19: % A | G19: 3
C20: g. | D20: Sistema de seguridad social : Salud | F20: % A | G20: 8.5
C21: h. | D21: Sistema de seguridad social : Pensiòn | F21: % A | G21: 12
C22: i. | D22: ARP personal en obra | F22: % A | G22: 6.96
C23: j. | D23: ARP personal en oficina | F23: % A | G23: 0.522
C24: k. | D24: Vacaciones | F24: (15/360*100) | G24: 4.17
C25: l. | D25: Ausencias justificadas | F25: (3/360*100) | G25: 0.83
... C29: p | D29: Bonoficación rereación | F29: % A | G29: 2
B30: C. | D30: SUMA (A + B) | G30: =G12+G13 -> 175.432
B32: E. | D32: FACTOR PRESTACIONAL | G32: =G30 -> 175.432
D33: FACTOR PRESTACIONAL FINAL | G33: =ROUND(G32/100,2) -> 1.75
B37: ARQ. GUILLERMO YAMID VALLEJOS BENAVIDES
B38: SECRETARIO DE PLANEACION Y OBRAS PUBLICAS
B39: SAN MIGUEL - PUTUMAYO
