Workbook

Sheet RESUMEN  MV
A2: MUNICIPIO DE TAUSA
A3: SELECCIÓN ABREVIADA DE MENOR CUANTIA No. SAMC 001-2021
A4: ANEXO 4 - Oferta Económica
A6: RAMOS | B6: VALOR ASEGURADO | C6: TASA | E6: PRIMA | F6: IVA | G6: TOTAL
A7: DAÑOS MATERIALES COMBINADOS- TODO RIESGO
A8: INCENDIO
A9: EDIFICACIONES MUNICIPIO | B9: 11748932411 | C9: 1.78 | D9: %o | E9: =ROUND((B9*C9/1000)/365*$B$102,0) -> 15985630 | F9: =+ROUND(E9*19%,0) -> 3037270 | G9: =ROUND(E9+F9,0) -> 19022900
A10: BODEGA - ALMACEN | B10: 20000000 | C10: =+$C9 -> 1.78 | D10: %o | E10: =ROUND((B10*C10/1000)/365*$B$102,0) -> 27212 | F10: =+ROUND(E10*19%,0) -> 5170 | G10: =ROUND(E10+F10,0) -> 32382
A11: CONTENIDOS | B11: 87296029 | C11: =+$C10 -> 1.78 | D11: %o | E11: =ROUND((B11*C11/1000)/365*$B$102,0) -> 118775 | F11: =+ROUND(E11*19%,0) -> 22567 | G11: =ROUND(E11+F11,0) -> 141342
A12: EQUIPO MEDICO Y LABORATORIO | B12: 99527101 | C12: =+$C11 -> 1.78 | D12: %o | E12: =ROUND((B12*C12/1000)/365*$B$102,0) -> 135417 | F12: =+ROUND(E12*19%,0) -> 25729 | G12: =ROUND(E12+F12,0) -> 161146
A13: HERRAMIENTAS | B13: 17065927 | C13: =+$C12 -> 1.78 | D13: %o | E13: =ROUND((B13*C13/1000)/365*$B$102,0) -> 23220 | F13: =+ROUND(E13*19%,0) -> 4412 | G13: =ROUND(E13+F13,0) -> 27632
A14: EQUIPO DE OFICINA | B14: 7999598 | C14: =+$C13 -> 1.78 | D14: %o | E14: =ROUND((B14*C14/1000)/365*$B$102,0) -> 10884 | F14: =+ROUND(E14*19%,0) -> 2068 | G14: =ROUND(E14+F14,0) -> 12952
A15: LICENCIAS Y SOFTWARE | B15: 19449649 | C15: =+$C14 -> 1.78 | D15: %o | E15: =ROUND((B15*C15/1000)/365*$B$102,0) -> 26463 | F15: =+ROUND(E15*19%,0) -> 5028 | G15: =ROUND(E15+F15,0) -> 31491
A16: MAQUINARIA Y EQUIPO | B16: 164028299 | C16: =+$C15 -> 1.78 | D16: %o | E16: =ROUND((B16*C16/1000)/365*$B$102,0) -> 223177 | F16: =+ROUND(E16*19%,0) -> 42404 | G16: =ROUND(E16+F16,0) -> 265581
A17: MUEBLES Y ENSERES | B17: 82816945 | C17: =+$C16 -> 1.78 | D17: %o | E17: =ROUND((B17*C17/1000)/365*$B$102,0) -> 112681 | F17: =+ROUND(E17*19%,0) -> 21409 | G17: =ROUND(E17+F17,0) -> 134090
A18: INSTALACIONES ELECTRICAS Y REDES | B18: 20000000 | C18: =+$C17 -> 1.78 | D18: %o | E18: =ROUND((B18*C18/1000)/365*$B$102,0) -> 27212 | F18: =+ROUND(E18*19%,0) -> 5170 | G18: =ROUND(E18+F18,0) -> 32382
A19: DINEROS DENTRO Y FUERA DE CAJA FUERTE | B19: 2000000 | C19: =+$C18 -> 1.78 | D19: %o | E19: =ROUND((B19*C19/1000)/365*$B$102,0) -> 2721 | F19: =+ROUND(E19*19%,0) -> 517 | G19: =ROUND(E19+F19,0) -> 3238
A20: VEHICULOS EN REPOSO | B20: 36300000 | C20: =+$C19 -> 1.78 | D20: %o | E20: =ROUND((B20*C20/1000)/365*$B$102,0) -> 49390 | F20: =+ROUND(E20*19%,0) -> 9384 | G20: =ROUND(E20+F20,0) -> 58774
A21: NORMA DE SISMORESISTENTA | B21: 500000000 | C21: =+$C20 -> 1.78 | D21: %o | E21: =ROUND((B21*C21/1000)/365*$B$102,0) -> 680301 | F21: =+ROUND(E21*19%,0) -> 129257 | G21: =ROUND(E21+F21,0) -> 809558
A22: TERRENOS | B22: 500000000 | C22: =+$C21 -> 1.78 | D22: %o | E22: =ROUND((B22*C22/1000)/365*$B$102,0) -> 680301 | F22: =+ROUND(E22*19%,0) -> 129257 | G22: =ROUND(E22+F22,0) -> 809558
A23: SUB TOTAL INCENDIO | B23: =SUM(B9:B22) -> 13305415959 | E23: =SUM(E9:E22) -> 18103384 | F23: =SUM(F9:F22) -> 3439642 | G23: =SUM(G9:G22) -> 21543026
A25: EQUIPO ELECTRICO Y ELECTRONICO- CORRIENTE DEBIL
A26: EQUIPO DE PROCESAMIENTO DE DATOS | B26: 140542175 | C26: 4 | D26: %o | E26: =ROUND((B26*C26/1000)/365*$B$102,0) -> 429713 | F26: =+ROUND(E26*19%,0) -> 81645 | G26: =ROUND(E26+F26,0) -> 511358
A27: EQUIPOS ELETRICO Y ELECTRONICO | B27: 155354954 | C27: =+$C$26 -> 4 | D27: %o | E27: =ROUND((B27*C27/1000)/365*$B$102,0) -> 475003 | F27: =+ROUND(E27*19%,0) -> 90251 | G27: =ROUND(E27+F27,0) -> 565254
A28: EQUIPO MEDICO Y LABORATORIO | B28: 70344580 | C28: =+$C$26 -> 4 | D28: %o | E28: =ROUND((B28*C28/1000)/365*$B$102,0) -> 215081 | F28: =+ROUND(E28*19%,0) -> 40865 | G28: =ROUND(E28+F28,0) -> 255946
A29: EQUIPOS DE COMUNICACIÓN | B29: 281439098 | C29: =+$C$26 -> 4 | D29: %o | E29: =ROUND((B29*C29/1000)/365*$B$102,0) -> 860510 | F29: =+ROUND(E29*19%,0) -> 163497 | G29: =ROUND(E29+F29,0) -> 1024007
A30: CIRCUITO CERRADO DE TV | B30: 250856651 | C30: =+$C$26 -> 4 | D30: %o | E30: =ROUND((B30*C30/1000)/365*$B$102,0) -> 767003 | F30: =+ROUND(E30*19%,0) -> 145731 | G30: =ROUND(E30+F30,0) -> 912734
A31: EQUIPO MOVILES Y PORTATILES | B31: 139239992 | C31: 6 | D31: %o | E31: =ROUND((B31*C31/1000)/365*$B$102,0) -> 638597 | F31: =+ROUND(E31*19%,0) -> 121333 | G31: =ROUND(E31+F31,0) -> 759930
A32: SUB TOTAL EQUIPO ELÉCTRICO Y ELECTRÓNICO | B32: =SUM(B26:B31) -> 1037777450 | E32: =SUM(E26:E31) -> 3385907 | F32: =SUM(F26:F31) -> 643322 | G32: =SUM(G26:G31) -> 4029229
A34: SUSTRACCION
A35: =A10 -> BODEGA - ALMACEN | B35: =B10 -> 20000000 | C35: 0.4 | D35: % | E35: =ROUND((B35*C35/100)/365*$B$102,0) -> 61151 | F35: =+ROUND(E35*19%,0) -> 11619 | G35: =ROUND(E35+F35,0) -> 72770
A36: =A11 -> CONTENIDOS | B36: =B11 -> 87296029 | C36: =+$C$35 -> 0.4 | D36: % | E36: =ROUND((B36*C36/100)/365*$B$102,0) -> 266911 | F36: =+ROUND(E36*19%,0) -> 50713 | G36: =ROUND(E36+F36,0) -> 317624
A37: =A12 -> EQUIPO MEDICO Y LABORATORIO | B37: =B12 -> 99527101 | C37: =+$C$35 -> 0.4 | D37: % | E37: =ROUND((B37*C37/100)/365*$B$102,0) -> 304308 | F37: =+ROUND(E37*19%,0) -> 57819 | G37: =ROUND(E37+F37,0) -> 362127
A38: =A13 -> HERRAMIENTAS | B38: =B13 -> 17065927 | C38: =+$C$35 -> 0.4 | D38: % | E38: =ROUND((B38*C38/100)/365*$B$102,0) -> 52180 | F38: =+ROUND(E38*19%,0) -> 9914 | G38: =ROUND(E38+F38,0) -> 62094
A39: =A14 -> EQUIPO DE OFICINA | B39: =B14 -> 7999598 | C39: =+$C$35 -> 0.4 | D39: % | E39: =ROUND((B39*C39/100)/365*$B$102,0) -> 24459 | F39: =+ROUND(E39*19%,0) -> 4647 | G39: =ROUND(E39+F39,0) -> 29106
A40: =A15 -> LICENCIAS Y SOFTWARE | B40: =B15 -> 19449649 | C40: =+$C$35 -> 0.4 | D40: % | E40: =ROUND((B40*C40/100)/365*$B$102,0) -> 59468 | F40: =+ROUND(E40*19%,0) -> 11299 | G40: =ROUND(E40+F40,0) -> 70767
A41: =A16 -> MAQUINARIA Y EQUIPO | B41: =B16 -> 164028299 | C41: =+$C$35 -> 0.4 | D41: % | E41: =ROUND((B41*C41/100)/365*$B$102,0) -> 501522 | F41: =+ROUND(E41*19%,0) -> 95289 | G41: =ROUND(E41+F41,0) -> 596811
A42: =A17 -> MUEBLES Y ENSERES | B42: =B17 -> 82816945 | C42: =+$C$35 -> 0.4 | D42: % | E42: =ROUND((B42*C42/100)/365*$B$102,0) -> 253216 | F42: =+ROUND(E42*19%,0) -> 48111 | G42: =ROUND(E42+F42,0) -> 301327
A43: =A18 -> INSTALACIONES ELECTRICAS Y REDES | B43: =B18 -> 20000000 | C43: =+$C$35 -> 0.4 | D43: % | E43: =ROUND((B43*C43/100)/365*$B$102,0) -> 61151 | F43: =+ROUND(E43*19%,0) -> 11619 | G43: =ROUND(E43+F43,0) -> 72770
A44: =A19 -> DINEROS DENTRO Y FUERA DE CAJA FUERTE | B44: =B19 -> 2000000 | C44: 1.0433613 | D44: % | E44: =ROUND((B44*C44/100)/365*$B$102,0) -> 15951 | F44: =+ROUND(E44*19%,0) -> 3031 | G44: =ROUND(E44+F44,0) -> 18982
...

Sheet RESUMEN 
A2: MUNICIPIO DE TAUSA
A3: SELECCIÓN ABREVIADA DE MENOR CUANTIA No. SAMC 001-2021
A4: ANEXO 4 - Oferta Económica
A6: RAMOS | B6: VALOR ASEGURADO | C6: TASA | E6: PRIMA | F6: IVA | G6: TOTAL
A7: DAÑOS MATERIALES COMBINADOS- TODO RIESGO
A8: INCENDIO
A9: EDIFICACIONES MUNICIPIO | B9: 11748932411 | C9: 1.78 | D9: %o | E9: =ROUND((B9*C9/1000)/365*$B$102,0) -> 15355372 | F9: =+ROUND(E9*19%,0) -> 2917521 | G9: =ROUND(E9+F9,0) -> 18272893
A10: BODEGA - ALMACEN | B10: 20000000 | C10: =+$C9 -> 1.78 | D10: %o | E10: =ROUND((B10*C10/1000)/365*$B$102,0) -> 26139 | F10: =+ROUND(E10*19%,0) -> 4966 | G10: =ROUND(E10+F10,0) -> 31105
A11: CONTENIDOS | B11: 87296029 | C11: =+$C10 -> 1.78 | D11: %o | E11: =ROUND((B11*C11/1000)/365*$B$102,0) -> 114092 | F11: =+ROUND(E11*19%,0) -> 21677 | G11: =ROUND(E11+F11,0) -> 135769
A12: EQUIPO MEDICO Y LABORATORIO | B12: 99527101 | C12: =+$C11 -> 1.78 | D12: %o | E12: =ROUND((B12*C12/1000)/365*$B$102,0) -> 130078 | F12: =+ROUND(E12*19%,0) -> 24715 | G12: =ROUND(E12+F12,0) -> 154793
A13: HERRAMIENTAS | B13: 17065927 | C13: =+$C12 -> 1.78 | D13: %o | E13: =ROUND((B13*C13/1000)/365*$B$102,0) -> 22304 | F13: =+ROUND(E13*19%,0) -> 4238 | G13: =ROUND(E13+F13,0) -> 26542
A14: EQUIPO DE OFICINA | B14: 7999598 | C14: =+$C13 -> 1.78 | D14: %o | E14: =ROUND((B14*C14/1000)/365*$B$102,0) -> 10455 | F14: =+ROUND(E14*19%,0) -> 1986 | G14: =ROUND(E14+F14,0) -> 12441
A15: LICENCIAS Y SOFTWARE | B15: 19449649 | C15: =+$C14 -> 1.78 | D15: %o | E15: =ROUND((B15*C15/1000)/365*$B$102,0) -> 25420 | F15: =+ROUND(E15*19%,0) -> 4830 | G15: =ROUND(E15+F15,0) -> 30250
A16: MAQUINARIA Y EQUIPO | B16: 164028299 | C16: =+$C15 -> 1.78 | D16: %o | E16: =ROUND((B16*C16/1000)/365*$B$102,0) -> 214378 | F16: =+ROUND(E16*19%,0) -> 40732 | G16: =ROUND(E16+F16,0) -> 255110
A17: MUEBLES Y ENSERES | B17: 82816945 | C17: =+$C16 -> 1.78 | D17: %o | E17: =ROUND((B17*C17/1000)/365*$B$102,0) -> 108238 | F17: =+ROUND(E17*19%,0) -> 20565 | G17: =ROUND(E17+F17,0) -> 128803
A18: INSTALACIONES ELECTRICAS Y REDES | B18: 20000000 | C18: =+$C17 -> 1.78 | D18: %o | E18: =ROUND((B18*C18/1000)/365*$B$102,0) -> 26139 | F18: =+ROUND(E18*19%,0) -> 4966 | G18: =ROUND(E18+F18,0) -> 31105
A19: DINEROS DENTRO Y FUERA DE CAJA FUERTE | B19: 2000000 | C19: =+$C18 -> 1.78 | D19: %o | E19: =ROUND((B19*C19/1000)/365*$B$102,0) -> 2614 | F19: =+ROUND(E19*19%,0) -> 497 | G19: =ROUND(E19+F19,0) -> 3111
A20: VEHICULOS EN REPOSO | B20: 36300000 | C20: =+$C19 -> 1.78 | D20: %o | E20: =ROUND((B20*C20/1000)/365*$B$102,0) -> 47443 | F20: =+ROUND(E20*19%,0) -> 9014 | G20: =ROUND(E20+F20,0) -> 56457
A21: NORMA DE SISMORESISTENTA | B21: 500000000 | C21: =+$C20 -> 1.78 | D21: %o | E21: =ROUND((B21*C21/1000)/365*$B$102,0) -> 653479 | F21: =+ROUND(E21*19%,0) -> 124161 | G21: =ROUND(E21+F21,0) -> 777640
A22: TERRENOS | B22: 500000000 | C22: =+$C21 -> 1.78 | D22: %o | E22: =ROUND((B22*C22/1000)/365*$B$102,0) -> 653479 | F22: =+ROUND(E22*19%,0) -> 124161 | G22: =ROUND(E22+F22,0) -> 777640
A23: SUB TOTAL INCENDIO | B23: =SUM(B9:B22) -> 13305415959 | E23: =SUM(E9:E22) -> 17389630 | F23: =SUM(F9:F22) -> 3304029 | G23: =SUM(G9:G22) -> 20693659
A25: EQUIPO ELECTRICO Y ELECTRONICO- CORRIENTE DEBIL
A26: EQUIPO DE PROCESAMIENTO DE DATOS | B26: 140542175 | C26: 4 | D26: %o | E26: =ROUND((B26*C26/1000)/365*$B$102,0) -> 412770 | F26: =+ROUND(E26*19%,0) -> 78426 | G26: =ROUND(E26+F26,0) -> 491196
A27: EQUIPOS ELETRICO Y ELECTRONICO | B27: 155354954 | C27: =+$C$26 -> 4 | D27: %o | E27: =ROUND((B27*C27/1000)/365*$B$102,0) -> 456275 | F27: =+ROUND(E27*19%,0) -> 86692 | G27: =ROUND(E27+F27,0) -> 542967
A28: EQUIPO MEDICO Y LABORATORIO | B28: 70344580 | C28: =+$C$26 -> 4 | D28: %o | E28: =ROUND((B28*C28/1000)/365*$B$102,0) -> 206601 | F28: =+ROUND(E28*19%,0) -> 39254 | G28: =ROUND(E28+F28,0) -> 245855
A29: EQUIPOS DE COMUNICACIÓN | B29: 281439098 | C29: =+$C$26 -> 4 | D29: %o | E29: =ROUND((B29*C29/1000)/365*$B$102,0) -> 826583 | F29: =+ROUND(E29*19%,0) -> 157051 | G29: =ROUND(E29+F29,0) -> 983634
A30: CIRCUITO CERRADO DE TV | B30: 250856651 | C30: =+$C$26 -> 4 | D30: %o | E30: =ROUND((B30*C30/1000)/365*$B$102,0) -> 736763 | F30: =+ROUND(E30*19%,0) -> 139985 | G30: =ROUND(E30+F30,0) -> 876748
A31: EQUIPO MOVILES Y PORTATILES | B31: 139239992 | C31: 6 | D31: %o | E31: =ROUND((B31*C31/1000)/365*$B$102,0) -> 613419 | F31: =+ROUND(E31*19%,0) -> 116550 | G31: =ROUND(E31+F31,0) -> 729969
A32: SUB TOTAL EQUIPO ELÉCTRICO Y ELECTRÓNICO | B32: =SUM(B26:B31) -> 1037777450 | E32: =SUM(E26:E31) -> 3252411 | F32: =SUM(F26:F31) -> 617958 | G32: =SUM(G26:G31) -> 3870369
A34: SUSTRACCION
A35: =A10 -> BODEGA - ALMACEN | B35: =B10 -> 20000000 | C35: 0.4 | D35: % | E35: =ROUND((B35*C35/100)/365*$B$102,0) -> 58740 | F35: =+ROUND(E35*19%,0) -> 11161 | G35: =ROUND(E35+F35,0) -> 69901
A36: =A11 -> CONTENIDOS | B36: =B11 -> 87296029 | C36: =+$C$35 -> 0.4 | D36: % | E36: =ROUND((B36*C36/100)/365*$B$102,0) -> 256387 | F36: =+ROUND(E36*19%,0) -> 48714 | G36: =ROUND(E36+F36,0) -> 305101
A37: =A12 -> EQUIPO MEDICO Y LABORATORIO | B37: =B12 -> 99527101 | C37: =+$C$35 -> 0.4 | D37: % | E37: =ROUND((B37*C37/100)/365*$B$102,0) -> 292310 | F37: =+ROUND(E37*19%,0) -> 55539 | G37: =ROUND(E37+F37,0) -> 347849
A38: =A13 -> HERRAMIENTAS | B38: =B13 -> 17065927 | C38: =+$C$35 -> 0.4 | D38: % | E38: =ROUND((B38*C38/100)/365*$B$102,0) -> 50122 | F38: =+ROUND(E38*19%,0) -> 9523 | G38: =ROUND(E38+F38,0) -> 59645
A39: =A14 -> EQUIPO DE OFICINA | B39: =B14 -> 7999598 | C39: =+$C$35 -> 0.4 | D39: % | E39: =ROUND((B39*C39/100)/365*$B$102,0) -> 23495 | F39: =+ROUND(E39*19%,0) -> 4464 | G39: =ROUND(E39+F39,0) -> 27959
A40: =A15 -> LICENCIAS Y SOFTWARE | B40: =B15 -> 19449649 | C40: =+$C$35 -> 0.4 | D40: % | E40: =ROUND((B40*C40/100)/365*$B$102,0) -> 57123 | F40: =+ROUND(E40*19%,0) -> 10853 | G40: =ROUND(E40+F40,0) -> 67976
A41: =A16 -> MAQUINARIA Y EQUIPO | B41: =B16 -> 164028299 | C41: =+$C$35 -> 0.4 | D41: % | E41: =ROUND((B41*C41/100)/365*$B$102,0) -> 481749 | F41: =+ROUND(E41*19%,0) -> 91532 | G41: =ROUND(E41+F41,0) -> 573281
A42: =A17 -> MUEBLES Y ENSERES | B42: =B17 -> 82816945 | C42: =+$C$35 -> 0.4 | D42: % | E42: =ROUND((B42*C42/100)/365*$B$102,0) -> 243232 | F42: =+ROUND(E42*19%,0) -> 46214 | G42: =ROUND(E42+F42,0) -> 289446
A43: =A18 -> INSTALACIONES ELECTRICAS Y REDES | B43: =B18 -> 20000000 | C43: =+$C$35 -> 0.4 | D43: % | E43: =ROUND((B43*C43/100)/365*$B$102,0) -> 58740 | F43: =+ROUND(E43*19%,0) -> 11161 | G43: =ROUND(E43+F43,0) -> 69901
A44: =A19 -> DINEROS DENTRO Y FUERA DE CAJA FUERTE | B44: =B19 -> 2000000 | C44: 1.0433613 | D44: % | E44: =ROUND((B44*C44/100)/365*$B$102,0) -> 15322 | F44: =+ROUND(E44*19%,0) -> 2911 | G44: =ROUND(E44+F44,0) -> 18233
...

Sheet DEDUCIBLES
A1: MUNICIPIO DE TAUSA
A3: OFERTA ECONOMICA - DEDUCIBLES
A5: SELECCIÓN ABREVIADA DE MENOR CUANTIA No. SAMC 001-2021
A7: INCENDIO
A8: Terremoto | B8: 2% del valor de la pérdida, mínimo 0 SMMLV
A9: HMACCP Y AMIT | B9: Sin deducible
A10: Demás eventos amparados: | B10: Sin deducible
A11: CORRIENTE DÉBIL
A12: Terremoto | B12: Sin deducible
A13: HMACCP Y AMIT | B13: Sin deducible
A14: Hurto y Hurto Calificado | B14: Sin deducible
A15: Demás amparos | B15: Sin deducible
A16: SUSTRACCIÓN
A17: Toda y cada perdida | B17: Sin deducible
A18: ROTURA DE MAQUINARIA
A19: Toda y cada perdida | B19: Sin deducible
A20: TODO RIESGO EQUIPO Y MAQUINARIA
A21: HMACCP Y AMIT | B21: Sin deducible
A22: Terremoto | B22: Sin deducible
A23: Responsabilidad Civil Extra. | B23: Sin deducible
A24: Hurto y Hurto Calificado | B24: Sin deducible
A25: Demás amparos | B25: Sin deducible
A26: SEGURO DE MANEJO
A27: Cajas Menores | B27: Sin deducible
A28: Demás perdidas | B28: Sin deducible
A29: Empleados no identificados | B29: Sin deducible
A30: RESPONSABILIDAD CIVIL EXTRACONTRACTUAL
A31: Gastos Médicos | B31: Sin deducible
A32: Gastos de Defensa | B32: Sin deducible
A33: RC Hurto de vehículos - parqueaderos | B33: Sin deducible
A34: Demás perdidas | B34: Sin deducible
A35: SEGURO DE AUTOMÓVILES
A36: Toda y Cada Pérdida | B36: Sin Deducible
A37: RESPONSABILIDAD CIVIL SERVIDORES PÚBLICOS
A38: Todos los amparos | B38: Sin Deducible
A39: ACCIDENTES PERSONALES PASAJEROS
A40: Todos los amparos | B40: Sin Deducible
A41: SEGURO OBLIGATORIO (SOAT)
A42: Todos los amparos | B42: Sin Deducible
A43: NOTA: Para pérdidas inferiores a $3.000.000 no hay aplicación de deducibles

Sheet RESUMEN
B2: MUNICIPIO DE TAUSA | F2: ,
B3: NIT. 89999481-9
B4: AMPAROS | C4: VR. ASEGURADO
B6: TODO RIESGO DAÑOS MATERIALES
B7: Edificaciones, sedes de gobierno, sedes Educativas y Otras Edificaciones | C7: =+'EDIFICIOS Y TERRENOS'!F67 -> 11768932411 | D7: =+C8+C15+C21+C29+C31 -> 6.5809438e+08
B8: Indice Variable | C8: =+C7*5% -> 5.8844662e+08
B9: Terrenos | C9: =+'EDIFICIOS Y TERRENOS'!F74 -> 1060000000
B10: Contenidos | C10: =+'CONTENIDOS - ENSERES - OTROS'!B7 -> 87296029 | D10: =+C10+C11 -> 170112974
B11: Muebles y enseres | C11: =+'CONTENIDOS - ENSERES - OTROS'!B13 -> 82816945
B12: Equipo medico y laboratorio | C12: =+'CONTENIDOS - ENSERES - OTROS'!B8 -> 99527101 | D12: =+C12+C26 -> 169871681
B13: Herramientas | C13: =+'CONTENIDOS - ENSERES - OTROS'!B9 -> 17065927
B14: Equipo de oficina | C14: =+'CONTENIDOS - ENSERES - OTROS'!B10 -> 7999598
B15: Indice Variable | C15: =+(C10+C12+C13+C14+C11)*5% -> 14735280
B16: Licencias y software | C16: =+'CONTENIDOS - ENSERES - OTROS'!B11 -> 19449649
B17: Maquinaria y Equipo (Rotura) | C17: =+'CONTENIDOS - ENSERES - OTROS'!B12 -> 164028299
B18: Instalaciones electricas y redes | C18: =+'CONTENIDOS - ENSERES - OTROS'!B14 -> 20000000 | D18: =+C18+C28 -> 270856651
B19: Dineros dentro y fuera de caja fuerte | C19: =+'CONTENIDOS - ENSERES - OTROS'!B15 -> 2000000
B20: Instrumentos musicales | C20: =+'CONTENIDOS - ENSERES - OTROS'!B16 -> 60073750
B21: Indice Variable | C21: =+C20*5% -> 3003687.5
B22: Vehículos en Reposo | C22: =+'VEHIC Y MAQUI. REPOSO'!D9 -> 97800000 | D22: =+C22+C23 -> 127900000
B23: Maquinaria en reposo | C23: =+'VEHIC Y MAQUI. REPOSO'!D17 -> 30100000
B24: Equipo de procesamiento de datos | C24: =+'EQ ELEC - DATOS -COM - PORTAT.'!B7 -> 140542175 | D24: =+C24+C25 -> 295897129
B25: Equipos eletrico y electronico | C25: =+'EQ ELEC - DATOS -COM - PORTAT.'!B8 -> 155354954
B26: Equipo medico y laboratorio | C26: =+'EQ ELEC - DATOS -COM - PORTAT.'!B9 -> 70344580
B27: Equipos de comunicación | C27: =+'EQ ELEC - DATOS -COM - PORTAT.'!B10 -> 281439098
B28: Circuito cerrado de tv | C28: =+'EQ ELEC - DATOS -COM - PORTAT.'!B11 -> 250856651
B29: Indice Variable | C29: =SUM(C24:C28)*5% -> 44926873
B30: Equipo moviles y portatiles | C30: =+'EQ ELEC - DATOS -COM - PORTAT.'!B12 -> 139638465
B31: Indice Variable | C31: =+C30*5% -> 6981923.2
B32: Adecuación a normas sismo Resistentes | C32: 500000000
B33: TOTAL ASEGURADO | C33: =SUM(C7:C32) -> 1.571336e+10
B34: TODO RIESGO CONTRATISTA - MAQUINARIA Y EQUIPO
B35: Equipo y Maquinaria- Agricola y amarilla | C35: =+'TR. MAQUINARIA Y EQUIPO'!C20 -> 2.958862e+09
B36: Indice Variable | C36: =+C35*5% -> 1.479431e+08
B37: TOTAL ASEGURADO | C37: =+C35+C36 -> 3.1068051e+09
B38: AUTOMOVILES
B39: Motocicletas | C39: =+AUTOMOVILES!E16 -> 67000000
B40: Otros Vehículos | C40: =+AUTOMOVILES!E26 -> 1451300000
B41: TOTAL ASEGURADO | C41: =SUM(C39:C40) -> 1518300000
B42: RESPONSABILIDAD CIVIL EXRANCONTRACTUAL
...

Sheet EDIFICIOS Y TERRENOS
A1: MUNICIPIO DE TAUSA
A2: NIT. 899999481-9
A4: EDIFICACIONES
A6: Codigo Catastral | B6: Matricula Inmobiliaria | C6: Nombre de Inmueble | D6: Direccion | E6: Area Construida M2 | F6: VALOR
A7: 010000070004000 | B7: 172-84632 | C7: Casa Municipal | D7: Calle 2 No. 2-55 - Tausa | E7: 729 | F7: 379080000
A8: 010000080001000 | B8: ND | C8: Centro de Atención Integral a la Familia (CAIF) | D8: Calle 2 No. 3-05/13 - Tausa | E8: 328 | F8: 910000000
A9: 010000140001000 | B9: 10303040067264 | C9: Casa de la cultura | D9: Lote - Tausa | E9: 480 | F9: 240000000
A10: 010000140001000 | B10: 10303040067264 | C10: Polideportivo | D10: Casco Urbano -Tausa | E10: 1815 | F10: 961950000
A11: 000000010119000 | B11: 10401220105369 | C11: Matadero | D11: Casco urbano - Tausa | E11: 226 | F11: 106220000
A12: 000000010057000 | B12: 172-26136 | C12: Plaza de Ferias | D12: Casco Urbano - Predio Las juntas - Tausa | E12: 90 | F12: 285000000
A13: 000000010057000 | B13: 172-26136 | C13: Coso Municipal | D13: Casco Urbano - Predio Las juntas - Tausa | E13: 120 | F13: 56400000
A14: 000000010057000 | B14: 172-26136 | C14: Ludoteca Tecnológica | D14: Casco Urbano - Predio Las juntas - Tausa | E14: 164 | F14: 77080000
A15: 020000070005000 | B15: 172-7341 | C15: Casa Alta - Futura Casa de Cultura | D15: Tausa Vieja - Carrera 3 No. 2-13 - Tausa | E15: 317 | F15: 168010000
A16: 020000050008000 | B16: 10402980104274 | C16: Salon Comunal Tausa Vieja | D16: Calle 2 No. 4-80 - Tausa | E16: 340 | F16: 159800000
A17: 010000140005000 | B17: 172-33337 | C17: Biblioteca Pública Municipal de Tausa | D17: Urbanización San Alfonso - Tausa | E17: 460 | F17: 234600000
A18: 010000040001000 | B18: ND | C18: Colegio General Santander | D18: Calle 1A No. 6-29 - Tausa | E18: 911 | F18: 482830000
A19: 010000150001000 | B19: 10303040067264 | C19: Colegio Pío XII | D19: Calle 3 No. 2-20 - Tausa | E19: 697 | F19: 369410000
A20: 000000030250000 | B20: 172-53125 | C20: Escuela Rasgata Bajo | D20: Vereda Rasgata - Tausa | E20: 239 | F20: 103965000
A21: 000000030184000 | B21: 172-69993 | C21: Escuela Rasgata Alto | D21: Vereda Rasgata - Lote 2 - Tausa | E21: 525 | F21: 228375000
A22: 000000040080000 | B22: 10722080344961 | C22: Escuela Ladera Grande | D22: Vereda Ladera Grande - Tausa | E22: 404 | F22: 175740000
A23: 000000050139000 | B23: 172-38628 | C23: Escuela La Martina | D23: Vereda Pajarito - Tausa | E23: 678 | F23: 294930000
A24: 000000050139000 | B24: 172-38628 | C24: Hogar Primera Infancia | D24: Vereda Pajarito - Tausa | E24: 71 | F24: 30885000
A25: 000000050197000 | B25: ND | C25: Escuela El Chorrillo | D25: Vereda Chorrillo -Tausa | E25: 217 | F25: 94395000
A26: 000000060077000 | B26: ND | C26: Escuela Lagunitas | D26: Vereda Lagunitas -Tausa | E26: 659 | F26: 286665000
A27: 000000060243000 | B27: ND | C27: Escuela Páramo Bajo | D27: Vereda Páramo Bajo - Tausa | E27: 929 | F27: 404115000
A28: 000000060704000 | B28: ND | C28: Escuela Llano Grande | D28: Vereda Llano Grande -Tausa | E28: 336 | F28: 146160000
A29: 000000070061000 | B29: ND | C29: Escuela El Salitre | D29: Vereda Salitre -Tausa | E29: 356 | F29: 154860000
A30: 000000070092000 | B30: ND | C30: Escuela San Antonio | D30: Vereda San Antonio - Tausa | E30: 554 | F30: 240990000
A31: 000000080018000 | B31: ND | C31: Escuela Sabaneque | D31: Vereda Sabaneque -Tausa | E31: 256 | F31: 111360000
A32: 000000090091000 | B32: ND | C32: Escuela Páramo Alto | D32: Vereda Páramo Alto -Tausa | E32: 610 | F32: 265350000
A33: 000000090182000 | B33: ND | C33: Escuela los Pinos | D33: Vereda los Pinos - Tausa | E33: 154 | F33: 66990000
A34: 000000060325000 | B34: ND | C34: Escuela la Florida | D34: Vereda la Florida - Tausa | E34: 285 | F34: 123975000
... A51: Predio privado | B51: Predio privado | C51: Tanque almacenamiento de agua - Poveda | D51: Alto de Tausa - Tausa | E51: 65 | F51: 98650000
C52: Centro Integral de servicio de Salud | D52: Tausa | F52: 135538109
C53: Colegio Básico Päramo Bajo | D53: Vereda páramo Bajo- Tausa | F53: 195116200
C54: Escuela La Granja | D54: Vda La Granja- Tausa | F54: 8204400
C55: Colegio Básico San Antonio | D55: Vda San Antonio - Tausa | F55: 73682374
C56: IED San Antonio | D56: Vda San Antonio - Tausa | F56: 300000000
A57: 010000010003000 | B57: 172-1831 | C57: Estación de Bombeo Caseta Aguasal | D57: Calle 1A No. 3-95 - Tausa | E57: 85 | F57: 36820000
A58: SUBTOTAL | F58: =SUM(F7:F57) -> 11658707411
...

Sheet CONTENIDOS - ENSERES - OTROS
A1: MUNICIPIO DE TAUSA
A2: NIT. 899999481-9
A4: OTROS BIENES
A6: DESCRIPCION | B6: VALOR
A7: CONTENIDOS | B7: 87296029
A8: EQUIPO MEDICO Y LABORATORIO | B8: 99527101
A9: HERRAMIENTAS | B9: 17065927
A10: EQUIPO DE OFICINA | B10: 7999598
A11: LICENCIAS Y SOFTWARE | B11: 19449649
A12: MAQUINARIA Y EQUIPO | B12: 164028299
A13: MUEBLES Y ENSERES | B13: 82816945 | C13: =+B13+B7 -> 170112974
A14: INSTALACIONES ELECTRICAS Y REDES | B14: 20000000
A15: DINEROS DENTRO Y FUERA DE CAJA FUERTE | B15: 2000000
A16: INSTRUMENTOS MUSICALES | B16: 60073750

Sheet VEHIC Y MAQUI. REPOSO
A1: MUNICIPIO DE TAUSA
A2: NIT. 899999481-9
A4: VEHICULOS EN REPOSO
A6: PLACA | B6: VEHICULOS EN REPOSO | C6: COD. FASECOLDA | D6: VALOR ASEGURADO
A7: OJF581 | B7: VOLQUETA CHEVROLET C70 149 CC. 8200 PLATON CARRO TANQUE MOD. 1993 CAPAC. 7000 PLACA OJF581 BENEFICIARIO GOBERNACION DE CUNDINAMARCA - MOTOR: MCO8123L86 - CHASIS: CMCO8123 | C7: 01626002 | D7: 28600000
A8: OFT011 | B8: BUS CHEVROLET B70 34 PASAJ. CC. 7200DIESEL MOD. 1998 | C8: 01603023 | D8: 69200000
A9: TOTAL VEHICULOS EN REPOSO | D9: =SUM(D7:D8) -> 97800000
A12: MAQUINARIA EN REPOSO
A14: MAQUINARIA | B14: DESCRIPCION | D14: VALOR
A15: ARADO | B15: ARADO CINCEL Marca Inamec S/N 10318 color rojo | D15: 26100000
A16: REMOLQUE | B16: REMOLQUE Estructura en hierro de 4 llantas | D16: 4000000
A17: TOTAL MAQUINARIA EN REPOSO | D17: =SUM(D15:D16) -> 30100000
A20: TOTAL VEHICULOS Y MAQUINARIA EN REPOSO | D20: =+D9+D17 -> 127900000

Sheet EQ ELEC - DATOS -COM - PORTAT.
A1: MUNICIPIO DE TAUSA
A2: NIT. 899999481-9
A4: EQUIPOS
A6: DESCRIPCION | B6: VALOR
A7: EQUIPO DE PROCESAMIENTO DE DATOS | B7: 140542175 | C7: =+B7+B8+B10+B11 -> 828192878
A8: EQUIPOS ELETRICO Y ELECTRONICO | B8: 155354954
A9: EQUIPO MEDICO Y LABORATORIO | B9: 70344580 | C9: =+B9+'CONTENIDOS - ENSERES - OTROS'!B8 -> 169871681
A10: EQUIPOS DE COMUNICACIÓN | B10: 281439098
A11: CIRCUITO CERRADO DE TV | B11: 250856651
A12: EQUIPO MOVILES Y PORTATILES | B12: =139239992+398473 -> 139638465
A13: TOTAL | B13: =SUM(B7:B12) -> 1038175923
A15: INDICE VARIABLE 5% | B15: =+B13*5% -> 51908796 | C15: CON COBRO DE PRIMA ADICIONAL

Sheet TR. MAQUINARIA Y EQUIPO
A1: MUNICIPIO DE TAUSA
A2: NIT. 899999481-9
A4: TODO RIESGO MAQUINARIA Y EQUIPO
A6: MAQUINARIA | B6: DESCRIPCION | C6: relacion pdf
A7: MOTONIVELADORA | B7: MOTONIVELADORA Marca FIAT ALLIS 10Y00136FJ140 Motor 8023409 | C7: 520000000
A8: MOTONIVELADORA | B8: MOTONIVELADORA CATERPILLAR modelo 120articular con motor cat c7.1 rango de potencia neta de 125-56hp, cerrada, aire acondicionado marca caterpilllar modelo 120 | C8: 653266699
A9: RETROEXCAVADORA | B9: RETROEXCAVADORA Marca CASE 580 Super E Modelo 2006 Diésel, SERIE N6C400497 TIPO DE MOTOR CUMMINS CASE 4T-390 | C9: 400000000
A10: RETROEXCAVADORA | B10: RETROEXCAVADORA Marca CATERPILLAR color amarillo MODELO 416E2015 motor G4D54934 chasis CAT0416epmfg14161 | C10: 400000000
A11: VIBROCOMPACTADOR | B11: VIBROCOMPACTADOR Marca CASE modelo SV2008 9 toneladas DDD0002059 | C11: 350000000
A12: RENOVADOR | B12: RENOVADOR DE PRADERAS Estructura metálica color naranja | C12: 2488748.9
A13: TRACTOR | B13: TRACTOR CORTA CESPED - Motor 17,5 HP 4 Tiempos | C13: 12000000
A14: TRACTOR | B14: TRACTOR Agrícola Marca NEW HOLLAND modelo 6610S M74301 4WDdiesel F4CE BENEFICIARIO DEPARTAMENTO DE CUNDINAMARCA NIT 899.999.114-0. | C14: 213875000
A15: COMPACTADOR DE BASURAS | B15: COMPACTADOR DE BASURAS MARCA RAMONERRE LINEA R2 2000 MODELO 2020 PLACA ODT434 | C15: 160000000
A16: DESBROZADORA | B16: AGRIMEC | C16: 15000000
A17: ROLLOCUCHILLO | B17: Rolocuchillo ROLOCUCHILLO Estructura en hierro color naranja con 4 llantas Referencia Placa Sistema: 1358 Placa Anterior: 0 | C17: 2060572.5
A18: TRACTOR | B18: TRACTOR AGRICOLA MARCA KUBOTA M9540 SERIE KBUMAEDRVM8D20457 MOTOR V3800 -T-2ME6146 DT | C18: 213875000 | D18: =+C18+C19 -> 230171000
B19: ACCESORIOS ARADO DE CINCEL VIBRATORIO | C19: 16296000
A20: TOTAL MAQUINARIA Y EQUIPO | C20: =SUM(C7:C19) -> 2.958862e+09

Sheet AUTOMOVILES
B1: MUNICIPIO DE TAUSA
B2: NIT. 899999481-9
B4: VEHÍCULOS
B6: PLACA | C6: DESCRIPCION VEHICULO | D6: COD FASECOLDA | E6: TARIFA FASECOLDA 2026 (mayo) | F6: MOTOR | G6: CHASIS
A7: 1 | B7: CTQ97C | C7: MOTOCICLETA KAWASAKI KLX150J CC. 144 MOD. 2017 PLACA CTQ79C BENEFICIARIO DEPARTAMENTO DE CUNDINAMARCA | D7: 04517112 | E7: 8100000 | F7: LX150CEPX8869 | G7: 9FLLXRJ18HPJ04693 | H7: 8100000
A8: =+A7+1 -> 2 | B8: EZJ29D | C8: MOTOCICLETA YAMAHA XTZ 125 MOD.2013 PLACA EZJ29D | D8: 09817110 | E8: 5800000 | F8: J05ETY11149 | G8: 9F3FC9JLTGXX10587 | H8: 5800000
A9: =+A8+1 -> 3 | B9: KGY53 | C9: MOTOCICLETA YAMAHA DT125 MOD. 1998 PLACA KGY53 | D9: 09817015 | E9: 7200000 | F9: 3TL093899 | G9: 3TL093899 | H9: 7200000
A10: =+A9+1 -> 4 | B10: EZJ30D | C10: MOTOCICLETA YAMAHA XTZ 125 MOD. 2014 PLACA EZJ30D | D10: 09817110 | E10: 6300000 | F10: E3L5E003203 | G10: LBPKE1967E0006719 | H10: 6300000
A11: =+A10+1 -> 5 | B11: CIX16F | C11: MOTOCICLETA YAMAHA XTZ125 C.C. 124 MOD. 2020 PLACA CIX16F BENEFICIARIO DEPARTAMENTO DE CUNDINAMARCA | D11: 09817188 | E11: 7600000 | F11: E3Y2E037386 | G11: 9FKDE0927L2037386 | H11: 7700000
A12: =+A11+1 -> 6 | B12: ZDN07C | C12: MOTOCICLETA YAMAHA XTZ125 CC. 125 MOD. 2013 PLACA ZDN07C BENEFICIARIO DEPARTAMENTO DE CUNDINAMARCA | D12: 09817110 | E12: 5800000 | F12: E3B4E010233 | G12: 9FK3B2116D2010233 | H12: 5800000
A13: =+A12+1 -> 7 | B13: JSZ14 | C13: MOTOCICLETA YAMAHA XTZ125 CC. 124 MOD. 2014 PLACA JSZ14 | D13: 09817110 | E13: 6300000 | F13: E3L5E007303 | G13: LBPKE1964E0011473 | H13: 6300000
A14: =+A13+1 -> 8 | B14: LBE68G | C14: MOTOCICLETA YAMAHA XTZ125 CC. 124 MOD. 2023 | D14: 09817188 | E14: 10200000 | F14: E3Y2E101278 | G14: 9FKDE092XP2101278 | H14: 8900000
A15: =+A14+1 -> 9 | B15: IVP08H | C15: MOTOCICLETA HONDA XR 150 CC. 149 MOD. 2025 SERVI OFICIAL | D15: 03454021 | E15: 9700000 | F15: KD07E3150533 | G15: 9FMKD0790SE015440
B16: TOTAL MOTOCICLETAS | E16: =SUM(E7:E15) -> 67000000
A17: 10 | B17: OHK499 | C17: CAMIONETA AMBULANCIA TOYOTA LAND CRUISER CC. 4500 MOD. 2001 PLACA OHK499 | D17: 09008057 | E17: 117600000 | F17: 1FZ0456366 | G17: 9FH31UJ7514002167 | H17: 121900000
A18: =+A17+1 -> 11 | B18: OSM904 | C18: CAMIONETA CHEVROLET COLORADO DOBLE CABINA 2776CC MODELO 2023 PLACA OSM904 | D18: 01621103 | E18: 149000000 | F18: LWNF222761082 | G18: 9BG148FK0PC427722
A19: =+A18+1 -> 12 | B19: ODT362 | C19: CAMIONETA MITSUBISHI SPORTERO 2,5 HIGH POWER DOBLE CABINA CC. 2477 MOD. 2018 PLACA ODT362 | D19: 06221026 | E19: 112800000 | F19: 4D56UAL4172 | G19: MMBJNKL30JH001548
A20: =+A19+1 -> 13 | B20: OSD464 | C20: CAMPERO TOYOTA PRADO CABINADO WAGON PASAJ. 7 C.C. 2982 MOD. 2013 PLACA OSD464 | D20: 09008153 | E20: 146100000 | F20: 1KD2260167 | G20: JTEBH9FJ8DK093376
A21: =+A20+1 -> 14 | B21: OCM151 | C21: BUS CHEVROLET NQR C.C. 5193 PASAJ. 32 MOD. 2013 PLACA OCM151 | D21: 01603118 | E21: 138400000 | F21: 4HK1-954499 | G21: 9GCN1R753DB000675
A22: =+A21+1 -> 15 | B22: OJZ529 | C22: BUS HINO FC9JBUS CC. 5123 PASAJ. 36 MOD. 2016 PLACA OJZ529 | D22: 03703017 | E22: 156900000 | F22: J05ETY11149 | G22: 9F3FC9JLTGXX10587
A23: =+A22+1 -> 16 | B23: ODT434 | C23: CAMION COMPACTADOR CHEVROLET FTR CC. 7790 CPAC. 6370 MOD. 2020 PLACA ODT434 | D23: 01611146 | E23: 282300000 | F23: 6HK1-224518 | G23: 9GDFTR344LB008404
A24: =+A23+1 -> 17 | B24: SPT587 | C24: VOLQUETA FREITHLINER M2 106 C.C. 6370 CAPAC. 18320 MOD. 2009 PLACA SPT587 | D24: 02926004 | E24: 135300000 | F24: 90698000716696 | G24: 3ALHCYCS19DAB0999 | H24: 103100000
A25: =+A24+1 -> 18 | B25: OJG703 | C25: VOLQUETA INTERNATIONAL 4300 CC. 7636 MOD. 2013 PLACA OJG703 | D25: 03626093 | E25: 212900000 | F25: 470HM2U1600472 | G25: 3HAMMAAR9DL350661 | H25: 171700000
B26: TOTAL OTROS VEHÍCULOS | E26: =SUM(E17:E25) -> 1451300000 | H26: =SUM(H7:H25) -> 452800000
B27: TOTAL VEHICULOS | E27: =+E16+E26 -> 1518300000

Sheet SOAT1
B1: MUNICIPIO DE TAUSA
B2: NIT. 899999481-9
B4: Seguro Obligatorio de Accidentes de Tránsito - S.OA.T.
B6: PLACA | C6: DESCRIPCION VEHICULO | D6: Vencimiento | E6: Vr. SOAT 2026
A7: 1 | B7: EZJ29D | C7: MOTOCICLETA YAMAHA XTZ 125 MOD.2013 PLACA EZJ29D | D7: 46334 | E7: 343300
A8: =+A7+1 -> 2 | B8: EZJ30D | C8: MOTOCICLETA YAMAHA XTZ 125 MOD. 2014 PLACA EZJ30D | D8: 46334 | E8: 343300
A9: 3 | B9: IVP08H | C9: MOTOCICLETA HONDA XR 150 CC. 149 MOD. 2025 SERVI OFICIAL | D9: 46369 | E9: 343300
A10: 4 | B10: OSM904 | C10: CAMIONETA CHEVROLET COLORADO DOBLE CABINA 2776CC MODELO 2023 PLACA OSM904 | D10: 46341 | E10: 1110300
A11: =+A10+1 -> 5 | B11: ODT362 | C11: CAMIONETA MITSUBISHI SPORTERO 2,5 HIGH POWER DOBLE CABINA CC. 2477 MOD. 2018 PLACA ODT362 | D11: 46369 | E11: 946600
A12: 6 | B12: OJZ529 | C12: BUS HINO FC9JBUS CC. 5123 PASAJ. 36 MOD. 2016 PLACA OJZ529 | D12: 46333 | E12: 1510600
E13: =SUM(E7:E12) -> 4597400

Sheet Hoja1
A1: PLACA | B1: DESCRIPCION VEHICULO | C1: FECHA DE VENCIMIENTO | D1: TARIFA | E1: VALOR
A2: OJF581 | B2: VOLQUETA CHEVROLET C70 149 CC. 8200 PLATON CARRO TANQUE MOD. 1993 CAPAC. 7000 PLACA OJF581 BENEFICIARIO GOBERNACION DE CUNDINAMARCA | C2: VENCIDO | D2: 321 | E2: 942000
A3: OSD464 | B3: CAMPERO TOYOTA PRADO CABINADO WAGON PASAJ. 7 C.C. 2982 MOD. 2013 PLACA OSD464 | C3: 44277 | D3: 231 | E3: 815250
A4: LQG21A | B4: MOTOCICLETA SUZUKI TS185 CC. 185 MOD. 2003 PLACA LKG21A | C4: 44306 | D4: 121 | E4: 495900
A5: ZDN07C | B5: MOTOCICLETA YAMAHA XTZ125 CC. 125 MOD. 2013 PLACA ZDN07C BENEFICIARIO DEPARTAMENTO DE CUNDINAMARCA | C5: 44306 | D5: 121 | E5: 495900
A6: QNE93B | B6: MOTOCICLETA SUZUKI DR 200 MT 200CC MOD. 2009 PLACA QNE93B | C6: 44306 | D6: 121 | E6: 495900
A7: OHK499 | B7: CAMIONETA AMBULANCIA TOYOTA LAND CRUISER CC. 4500 MOD. 2001 PLACA OHK499 | C7: 44306 | D7: 431 | E7: 1109250
A8: SPT587 | B8: VOLQUETA FREITHLINER M2 106 C.C. 6370 CAPAC. 18320 MOD. 2009 PLACA SPT587 | C8: 44315 | D8: 331 | E8: 1191000
A9: OCM151 | B9: BUS CHEVROLET NQR C.C. 5193 PASAJ. 32 MOD. 2013 PLACA OCM151 | C9: 44318 | D9: 431 | E9: 1109250
A10: CTQ97C | B10: MOTOCICLETA KAWASAKI KLX150J CC. 144 MOD. 2017 PLACA CTQ79C BENEFICIARIO DEPARTAMENTO DE CUNDINAMARCA | C10: 44335 | D10: 121 | E10: 495900
A11: KGN10 | B11: MOTOCICLETA SUZUKI TS125 CC. 125 MOD. 1996 PLACA KGN10 | C11: 44358 | D11: 121 | E11: 495900
A12: KGZ86 | B12: MOTOCICLETA SUZUKI TS125 CC. 125 MOD. 1998 PLACA KGZ86 GOBERNACION DE CUNDINAMARCA | C12: 44358 | D12: 121 | E12: 495900
A13: LQG13A | B13: MOTOCICLETA SUZUKI TS185 CC. 185 MOD. 2003 PLACA LQG13A | C13: 44358 | D13: 121 | E13: 495900
A14: KGS51 | B14: MOTOCICLETA SUZUKI TS125 CC. 125 MOD. 1997 PLACA KGS51 | C14: 44358 | D14: 121 | E14: 495900
... A24: OJG703 | B24: VOLQUETA INTERNATIONAL 4300 CC. 7636 CAP. 9 MOD. 2013 PLACA OJG703 | C24: 44583 | D24: 321 | E24: 942000
D25: TOTAL | E25: =SUM(E2:E24) -> 15798000

Sheet RC SERV. PUBLICOS
A1: MUNICIPIO DE TAUSA
A2: NIT. 899999481-9
A4: POLIZA RESPONSABILIDAD CIVIL SERVIDORES PUBLICOS
A6: Valor Asegurado | D6: 202000000
A7: ALCALDE | B7: ORTIZ GARCIA DAVID ALEJANDRO | C7: 1077295015
A8: SECRETARIA GENERAL Y DE GOBIERNO | B8: SARMIENTO RODRIGUEZ JUAN PABLO | C8: 1075671540
A9: SECRETARIO PLANEACION E INFRAESTRUCTURA | B9: PEREZ LUNA SAUL | C9: 79632936
A10: SECRETARIO DE SERVICIOS PUBLICOS | B10: ELSA POVEDA BELLO | C10: 20985486
A11: SECRETARIA DE DESARROLLO ECONOMICO Y AMBIENTE | B11: PACHON PALACIO YURY LUCIA | C11: 1077294510
A12: JEFE DE PRESUPUESTO | B12: AHUMADA SANCHEZ MARIA INES | C12: 32531559
A13: SECRETARIA DE SALUD Y DESARROLLO SOCIAL | B13: PACHON RODRIGUEZ HELIA LISED | C13: 1077295037
A14: SECRETARIA DE HACIENDA | B14: PACHON AREVALO CLARA INES | C14: 20985723

Sheet MANEJO
A1: MUNICIPIO DE TAUSA
A2: NIT. 899999481-9
A4: POLIZA GLOBAL DE MANEJO GLOBAL
A6: Valor asegurado | D6: 100000000
A7: 1 a 25 cargos
A8: ALCALDE MUNICIPAL | B8: ORTIZ GARCIA DAVID ALEJANDRO | C8: 1077295015
A9: SECRETARIA GENERAL Y DE GOBIERNO | B9: SARMIENTO RODRIGUEZ JUAN PABLO | C9: 1075671540
A10: SECRETARIO PLANEACION E INFRAESTRUCTURA | B10: PEREZ LUNA SAUL | C10: 79632936
A11: SECRETARIO DE SERVICIOS PUBLICOS | B11: ELSA POVEDA BELLO | C11: 20985486
A12: SECRETARIA DE DESARROLLO ECONOMICO Y AMBIENTE | B12: PACHON PALACIO YURY LUCIA | C12: 1077294510
A13: JEFE DE PRESUPUESTO | B13: AHUMADA SANCHEZ MARIA INES | C13: 32531559
A14: SECRETARIA DE SALUD Y DESARROLLO SOCIAL | B14: PACHON RODRIGUEZ HELIA LISED | C14: 1077295037
A15: PERSONERO | B15: LOZANO AMOROCHO LUIS FABIAN | C15: 1077295251
A16: PRESIDENTE DEL CONCEJO MUNICIPAL | B16: CHAPARRO CAMARGO JULIO CESAR | C16: 1075681334
A17: SECRETARIA DE HACIENDA | B17: PACHON AREVALO CLARA INES | C17: 20985723
A18: SECRETARIA DE PERSONERIA | B18: FANDIÑO RINCON ERCY ESMERALDA | C18: 1.0766.572.74
A19: SECRETARIO EJECUTIVO | B19: QUIROGA CASTIBLANCO YEIMI PAOLA | C19: 1076658243

Sheet RCE
A1: MUNICIPIO DE TAUSA
A2: NIT. 899999481-9
A4: PÓLIZA DE RESPONSABILIDAD CIVIL EXTRACONTRACTUAL
A6: AMPARO | B6: VALOR ASEGURADO
A7: PLO | B7: 150000000

Sheet RC CONTRACTUAL OCUP
A1: MUNICIPIO DE TAUSA
A2: NIT. 899999481-9
A4: PÓLIZA DE SEGURO DE ACCIDENTES PERSONALES PARA PASAJEROS Y/O RESPONSABILIDAD CIVIL CONTRACTUAL PARA OCUPANTES DE VEHICULOS
A6: PLACA | B6: DESCRIPCION VEHICULO | C6: VALOR ASEGURADO
A7: OCM151 | B7: BUSETA CHEVROLET NKR MOD. 2012 PASAJ. 32 PLACA OCM151 | C7: 100 smmlv
A8: OJZ529 | B8: BUS HINO FC9J CC. 5123 MOD. 2016 PASAJ 36 PLACA OJZ529 | C8: 100 smmlv

Sheet VIDA GRUPO
A1: MUNICIPIO DE TAUSA
A2: NIT. 899999481-9
A4: VIDA GRUPO
A6: VIDA GRUPO | B6: SALARIO ALCALDE | D6: 5960985
A7: VALORES ASEGURADOS | B7: Amparo vida Fallecimiento por cualquier causa | D7: =+D6*20 -> 119219700 | E7: =+D7*11 -> 1311416700
B8: Incapacidad Total y Permanente | D8: =+D6*20 -> 119219700
B9: Indemnización adicional por muerte Accidental | D9: =+D6*20 -> 119219700
B10: Enfermedades Graves | D10: =SUM(D6*20)/2 -> 59609850
B11: Auxilio Funerario | D11: 10000000
B12: Gastos Médicos | D12: 15000000
A13: CARGO | B13: NOMBRES COMPLETOS | C13: FECHA DE NACIMIENTO | D13: CEDULA
A14: ALCALDE | B14: ORTIZ GARCIA DAVID ALEJANDRO | C14: 33487 | D14: 1077295015
A15: PERSONERO | B15: LOZANO AMOROCHO LUIS FABIAN | C15: 34291 | D15: 1077295251
A16: CONCEJAL | B16: CASTILLO QUIROGA RUBIELA | C16: 30151 | D16: 20985939
A17: CONCEJAL | B17: CHAPARRO CAMARGO JULIO CESAR | C17: 35378 | D17: 1075682334
A18: CONCEJAL | B18: GARCIA ORTIZ DUBAN JOHAN | C18: 35899 | D18: 1077295767
A19: CONCEJAL | B19: MONTAÑO MONTAÑO JUAN IGNACIO | C19: 31265 | D19: 1077294259
A20: CONCEJAL | B20: PACHON ASCENCIO DIEGO ALEJANDRO | C20: 31635 | D20: 1076647569
A21: CONCEJAL | B21: PINZON BELLO BERNABE | C21: 25477 | D21: 3145889
A22: CONCEJAL | B22: SILVA GOMEZ EDGAR ASMET | C22: 34142 | D22: 1077295194
A23: CONCEJAL | B23: RODRIGUEZ GONZALEZ HECTOR EMILIO | C23: 29397 | D23: 80877911
A24: CONCEJAL | B24: GOMEZ RINCON ELIAS | C24: 23472 | D24: 79296551

Sheet SEGUROS SOAT
A1: PLACA | B1: DESCRIPCION VEHICULO | C1: FECHA DE VENCIMIENTO | D1: VALOR SOAT 2021-2022
A2: OJF581 | B2: VOLQUETA CHEVROLET C70 149 CC. 8200 PLATON CARRO TANQUE MOD. 1993 CAPAC. 7000 PLACA OJF581 BENEFICIARIO GOBERNACION DE CUNDINAMARCA | C2: VENCIDO
A3: OSD464 | B3: CAMPERO TOYOTA PRADO CABINADO WAGON PASAJ. 7 C.C. 2982 MOD. 2013 PLACA OSD464 | C3: 44277
A4: LQG21A | B4: MOTOCICLETA SUZUKI TS185 CC. 185 MOD. 2003 PLACA LKG21A | C4: 44306
A5: ZDN07C | B5: MOTOCICLETA YAMAHA XTZ125 CC. 125 MOD. 2013 PLACA ZDN07C BENEFICIARIO DEPARTAMENTO DE CUNDINAMARCA | C5: 44306
A6: QNE93B | B6: MOTOCICLETA SUZUKI DR 200 MT 200CC MOD. 2009 PLACA QNE93B | C6: 44306
A7: OHK499 | B7: CAMIONETA AMBULANCIA TOYOTA LAND CRUISER CC. 4500 MOD. 2001 PLACA OHK499 | C7: 44306
A8: SPT587 | B8: VOLQUETA FREITHLINER M2 106 C.C. 6370 CAPAC. 18320 MOD. 2009 PLACA SPT587 | C8: 44315
A9: OCM151 | B9: BUS CHEVROLET NQR C.C. 5193 PASAJ. 32 MOD. 2013 PLACA OCM151 | C9: 44318
A10: CTQ97C | B10: MOTOCICLETA KAWASAKI KLX150J CC. 144 MOD. 2017 PLACA CTQ79C BENEFICIARIO DEPARTAMENTO DE CUNDINAMARCA | C10: 44335
A11: KGN10 | B11: MOTOCICLETA SUZUKI TS125 CC. 125 MOD. 1996 PLACA KGN10 | C11: 44358
A12: KGZ86 | B12: MOTOCICLETA SUZUKI TS125 CC. 125 MOD. 1998 PLACA KGZ86 GOBERNACION DE CUNDINAMARCA | C12: 44358
A13: LQG13A | B13: MOTOCICLETA SUZUKI TS185 CC. 185 MOD. 2003 PLACA LQG13A | C13: 44358
A14: KGS51 | B14: MOTOCICLETA SUZUKI TS125 CC. 125 MOD. 1997 PLACA KGS51 | C14: 44358
... A24: OJG703 | B24: VOLQUETA INTERNATIONAL 4300 CC. 7636 CAP. 9 MOD. 2013 PLACA OJG703 | C24: 44583
D25: =SUM(D2:D24) -> 0

Sheet Hoja4
A1: PLACA | B1: DESCRIPCION VEHICULO | C1: FECHA DE VENCIMIENTO | D1: TARIFA | E1: VALOR
A2: OJF581 | B2: VOLQUETA CHEVROLET C70 149 CC. 8200 PLATON CARRO TANQUE MOD. 1993 CAPAC. 7000 PLACA OJF581 BENEFICIARIO GOBERNACION DE CUNDINAMARCA | C2: VENCIDO | D2: 321 | E2: 942000
A3: OSD464 | B3: CAMPERO TOYOTA PRADO CABINADO WAGON PASAJ. 7 C.C. 2982 MOD. 2013 PLACA OSD464 | C3: 44277 | D3: 231 | E3: 815250
A4: LQG21A | B4: MOTOCICLETA SUZUKI TS185 CC. 185 MOD. 2003 PLACA LKG21A | C4: 44306 | D4: 121 | E4: 495900
A5: ZDN07C | B5: MOTOCICLETA YAMAHA XTZ125 CC. 125 MOD. 2013 PLACA ZDN07C BENEFICIARIO DEPARTAMENTO DE CUNDINAMARCA | C5: 44306 | D5: 121 | E5: 495900
A6: QNE93B | B6: MOTOCICLETA SUZUKI DR 200 MT 200CC MOD. 2009 PLACA QNE93B | C6: 44306 | D6: 121 | E6: 495900
A7: OHK499 | B7: CAMIONETA AMBULANCIA TOYOTA LAND CRUISER CC. 4500 MOD. 2001 PLACA OHK499 | C7: 44306 | D7: 431 | E7: 1109250
A8: SPT587 | B8: VOLQUETA FREITHLINER M2 106 C.C. 6370 CAPAC. 18320 MOD. 2009 PLACA SPT587 | C8: 44315 | D8: 331 | E8: 1191000
A9: OCM151 | B9: BUS CHEVROLET NQR C.C. 5193 PASAJ. 32 MOD. 2013 PLACA OCM151 | C9: 44318 | D9: 431 | E9: 1109250
A10: CTQ97C | B10: MOTOCICLETA KAWASAKI KLX150J CC. 144 MOD. 2017 PLACA CTQ79C BENEFICIARIO DEPARTAMENTO DE CUNDINAMARCA | C10: 44335 | D10: 121 | E10: 495900
A11: KGN10 | B11: MOTOCICLETA SUZUKI TS125 CC. 125 MOD. 1996 PLACA KGN10 | C11: 44358 | D11: 121 | E11: 495900
A12: KGZ86 | B12: MOTOCICLETA SUZUKI TS125 CC. 125 MOD. 1998 PLACA KGZ86 GOBERNACION DE CUNDINAMARCA | C12: 44358 | D12: 121 | E12: 495900
A13: LQG13A | B13: MOTOCICLETA SUZUKI TS185 CC. 185 MOD. 2003 PLACA LQG13A | C13: 44358 | D13: 121 | E13: 495900
A14: KGS51 | B14: MOTOCICLETA SUZUKI TS125 CC. 125 MOD. 1997 PLACA KGS51 | C14: 44358 | D14: 121 | E14: 495900
... A21: QNE67B | B21: MOTOCICLETA SUZUKI DR 200 MT 200CC MOD. 2009 PLACA QNE67B | C21: 44485 | D21: 121 | E21: 495900
A22: OJZ529 | B22: BUS HINO FC9JBUS CC. 5123 PASAJ. 36 MOD. 2016 PLACA OJZ529 | C22: 44501 | D22: 431 | E22: 1109250 | F22: =SUM(E2:E22) -> 14160600
A23: ODT362 | B23: CAMIONETA MITSUBISHI SPORTERO 2,5 HIGH POWER DOBLE CABINA CC. 2477 MOD. 2018 | C23: 44543 | D23: 221 | E23: 695400
A24: OJG703 | B24: VOLQUETA INTERNATIONAL 4300 CC. 7636 CAP. 9 MOD. 2013 PLACA OJG703 | C24: 44583 | D24: 321 | E24: 942000
D25: TOTAL | E25: =SUM(E2:E24) -> 15798000

Sheet VIDA CONCEJALES
A1: CARGO | B1: NOMBRES COMPLETOS | C1: FECHA DE NACIMIENTO | D1: CEDULA | E1: VR. ASAEGURADO INDIVIDUAL | F1: =+TODAY() -> 46224
A2: ALCALDE | B2: OSCAR HERNANDO OLAYA RINCON | C2: 22112 | D2: 3195560 | E2: =20*4261640 -> 85232800 | F2: 61
A3: PERSONERA | B3: MAIRA YASMIN CRISTANCHO CASAS | C3: 32621 | D3: 1072365188 | E3: =20*4261640 -> 85232800 | F3: 32
A4: CONCEJAL | B4: RUBIELA CASTILLO QUIROGA | C4: 30151 | D4: 20985939 | E4: =20*4261640 -> 85232800 | F4: 39
A5: CONCEJAL | B5: VICTOR JULIO CHAPARRO MOLINA | C5: 27038 | D5: 7167715 | E5: =20*4261640 -> 85232800 | F5: 47
A6: CONCEJAL | B6: PEDRO ALIRIO GUERRERO VELASQUEZ | C6: 22461 | D6: 3195553 | E6: =20*4261640 -> 85232800 | F6: 60
A7: CONCEJAL | B7: LUIS FABIAN LOZANO | C7: 30638 | D7: 1077295251 | E7: =20*4261640 -> 85232800 | F7: 37
A8: CONCEJAL | B8: CLARA PAULINA MAYORGA | C8: 19860 | D8: 41756481 | E8: =20*4261640 -> 85232800 | F8: 67
A9: CONCEJAL | B9: DIEGO ALEJANDRO PAHON ASCENCIO | C9: 31635 | D9: 1076647569 | E9: =20*4261640 -> 85232800 | F9: 35
A10: CONCEJAL | B10: MARLO PINZON | C10: 33230 | D10: 1018440128 | E10: =20*4261640 -> 85232800 | F10: 30
A11: CONCEJAL | B11: CAMILO POVEDA RAMIREZ | C11: 35868 | D11: 1077295748 | E11: =20*4261640 -> 85232800 | F11: 23
A12: CONCEJAL | B12: LUIS ALBERTO SANCHEZ ROJAS | C12: 22678 | D12: 3195629 | E12: =20*4261640 -> 85232800 | F12: 59
A14: SUELDO SR ALCALDE AÑO 2020 | B14: 4261640 | E14: =+E12*60% -> 51139680

Sheet distr. tasa 
B3: TASAS | C3: INCENDIO | D3: TERREMOTO | E3: AMIT | F3: SUSTRACCIÓN | G3: SUS. TODO. R | H3: SUS DINEROS | I3: ROTURA | J3: CORRIENTE | K3: EQUIP. MOV Y PORT.
A4: DIAS DE VIGENCIA | B4: 184 | C4: 0.55 | D4: 1 | E4: 0.1 | F4: 0.001 | G4: 0.005 | H4: 0.011 | I4: 2.5 | J4: 3 | K4: 3
A5: INCENDIO
A6: EDIFICACIONES MUNICIPIO | B6: 45033538684 | C6: =(B6*$C$4/1000)/365*184 -> 12486011 | D6: =(B6*$D$4/1000)/365*184 -> 22701839 | E6: =(B6*$E$4/1000)/365*184 -> 2270183.9
A7: EDIFICACIONES PTAR | B7: 5147868250 | C7: =(B7*$C$4/1000)/365*184 -> 1427299.4 | D7: =(B7*$D$4/1000)/365*184 -> 2595089.7 | E7: =(B7*$E$4/1000)/365*184 -> 259508.97
A8: MEJORAS LOCATIVAS | B8: 10070308 | C8: =(B8*$C$4/1000)/365*184 -> 2792.0964 | D8: =(B8*$D$4/1000)/365*184 -> 5076.5388 | E8: =(B8*$E$4/1000)/365*184 -> 507.65388
A9: MUEBLES Y ENSERES | B9: 331809990 | C9: =(B9*$C$4/1000)/365*184 -> 91997.729 | D9: =(B9*$D$4/1000)/365*184 -> 167268.6 | E9: =(B9*$E$4/1000)/365*184 -> 16726.86 | F9: =(B9*$F$4)/365*184 -> 167268.6
A10: LICENCIAS Y SOFTWARE | B10: 61632296 | C10: =(B10*$C$4/1000)/365*184 -> 17088.187 | D10: =(B10*$D$4/1000)/365*184 -> 31069.431 | E10: =(B10*$E$4/1000)/365*184 -> 3106.9431 | F10: =(B10*$F$4)/365*184 -> 31069.431
A11: LIBROS Y TEXTOS | B11: 228434157 | C11: =(B11*$C$4/1000)/365*184 -> 63335.717 | D11: =(B11*$D$4/1000)/365*184 -> 115155.85 | E11: =(B11*$E$4/1000)/365*184 -> 11515.585 | F11: =(B11*$F$4)/365*184 -> 115155.85
A12: HERRAMIENTAS | B12: 4471133 | C12: =(B12*$C$4/1000)/365*184 -> 1239.6676 | D12: =(B12*$D$4/1000)/365*184 -> 2253.941 | E12: =(B12*$E$4/1000)/365*184 -> 225.3941 | F12: =(B12*$F$4)/365*184 -> 2253.941
A13: CONTENIDOS | B13: 228649886 | C13: =(B13*$C$4/1000)/365*184 -> 63395.53 | D13: =(B13*$D$4/1000)/365*184 -> 115264.6 | E13: =(B13*$E$4/1000)/365*184 -> 11526.46 | F13: =(B13*$F$4)/365*184 -> 115264.6
A14: EQUIPO MEDICO | B14: 450000 | C14: =(B14*$C$4/1000)/365*184 -> 124.76712 | D14: =(B14*$D$4/1000)/365*184 -> 226.84932 | E14: =(B14*$E$4/1000)/365*184 -> 22.684932 | F14: =(B14*$F$4)/365*184 -> 226.84932
A15: BODEGA ALMACEN | B15: 11000000 | C15: =(B15*$C$4/1000)/365*184 -> 3049.863 | D15: =(B15*$D$4/1000)/365*184 -> 5545.2055 | E15: =(B15*$E$4/1000)/365*184 -> 554.52055 | F15: =(B15*$F$4)/365*184 -> 5545.2055
A16: EQUIPO DE LABORATORIO PTAR | B16: 29187108 | C16: =(B16*$C$4/1000)/365*184 -> 8092.4256 | D16: =(B16*$D$4/1000)/365*184 -> 14713.501 | E16: =(B16*$E$4/1000)/365*184 -> 1471.3501 | F16: =(B16*$F$4)/365*184 -> 14713.501
A17: MAQUINARIA Y EQUIPO | B17: 134140068 | C17: =(B17*$C$4/1000)/365*184 -> 37191.712 | D17: =(B17*$D$4/1000)/365*184 -> 67621.295 | E17: =(B17*$E$4/1000)/365*184 -> 6762.1295 | F17: =(B17*$F$4)/365*184 -> 67621.295 | I17: =B17*$I$4/1000/365*$B$4 -> 169053.24
A18: MAQUINARIA Y EQUIPO PTAR | B18: 2027068435 | C18: =(B18*$C$4/1000)/365*184 -> 562025.55 | D18: =(B18*$D$4/1000)/365*184 -> 1021864.6 | E18: =(B18*$E$4/1000)/365*184 -> 102186.46 | F18: =(B18*$F$4)/365*184 -> 1021864.6 | I18: =B18*$I$4/1000/365*$B$4 -> 2554661.6
A19: DINEROS DENTRO Y FUERA DE CAJA FUERTE | B19: 1500000 | C19: =(B19*$C$4/1000)/365*184 -> 415.89041 | D19: =(B19*$D$4/1000)/365*184 -> 756.16438 | E19: =(B19*$E$4/1000)/365*184 -> 75.616438 | H19: =(B19*$H$4)/365*184 -> 8317.8082
A20: VEHICULOS EN REPOSO | B20: 870000 | C20: =(B20*$C$4/1000)/365*184 -> 241.21644 | D20: =(B20*$D$4/1000)/365*184 -> 438.57534 | E20: =(B20*$E$4/1000)/365*184 -> 43.857534 | F20: =(B20*$F$4)/365*184 -> 438.57534
A21: INSTALACIONES ELECTRICAS Y REDES | B21: 50000000 | C21: =(B21*$C$4/1000)/365*184 -> 13863.014 | D21: =(B21*$D$4/1000)/365*184 -> 25205.479 | E21: =(B21*$E$4/1000)/365*184 -> 2520.5479
A22: NORMA DE SISMORESISTENTA | B22: 1000000000 | C22: =(B22*$C$4/1000)/365*184 -> 277260.27 | D22: =(B22*$D$4/1000)/365*184 -> 504109.59 | E22: =(B22*$E$4/1000)/365*184 -> 50410.959
A23: TERRENOS | B23: 800000000 | C23: =(B23*$C$4/1000)/365*184 -> 221808.22 | D23: =(B23*$D$4/1000)/365*184 -> 403287.67 | E23: =(B23*$E$4/1000)/365*184 -> 40328.767
A24: EQUIPO COMPUTO- PROCESAMIENTO ELECTRONICO DE DATOS | B24: 347196196 | J24: =(B24*$J$4)/1000/365*$B$4 -> 525074.8
A25: EQUIPO ELECTRICO Y ELECTRONICO- CORRIENTE DEBIL | B25: 286720946 | J25: =(B25*$J$4)/1000/365*$B$4 -> 433616.33
A26: EQUIPO CIRCUITO CERRADO TV | B26: 24464200 | J26: =(B26*$J$4)/1000/365*$B$4 -> 36997.913
A27: EQUIPO MOVILES Y PORTATILES | B27: 261873134 | K27: =(B27*K4/1000)/365*B4 -> 396038.27
A28: INSTRUMENTOS MUSICALES | B28: 301293364 | G28: =(B28*G4)/365*184 -> 759424.37
A29: TOTAL | B29: =SUM(B6:B28) -> 56322238155 | C29: =SUM(C6:C28) -> 15277232 | D29: =SUM(D6:D28) -> 27776786 | E29: =SUM(E6:E28) -> 2777678.6 | F29: =SUM(F6:F28) -> 1541422.5 | G29: =SUM(G6:G28) -> 759424.37 | H29: =SUM(H6:H28) -> 8317.8082 | I29: =SUM(I6:I28) -> 2723714.8 | ... K29: =SUM(K6:K28) -> 396038.27
A32: TOTAL | B32: =+B29 -> 56322238155 | C32: =SUM(C29:K29) -> 52256304

Sheet ESTUDIO MERCADOS
A2: MUNICIPIO DE COGUA
A3: COTIZACION ESTUDIO DE MERCADOS 184 DIAS - MAYO DE 2018
A4: VIGENCIA DE LA OFERTA:
A6: RAMOS | B6: VALOR ASEGURADO | C6: TASA | D6: COSTO TOTAL DE LA OFERTA
D7: 184 DIAS
D8: PRIMA | E8: IVA | F8: TOTAL
A9: RUBRO No. 1 SEGUROS GENERALES
A10: DAÑOS MATERIALES COMBINADOS- TODO RIESGO
A11: INCENDIO
A12: EDIFICACIONES MUNICIPIO | B12: 45033538684 | C12: 1.7 | D12: =(B12*C12/1000)/365*$B$96 -> 38593126 | E12: =+D12*0.19 -> 7332693.9 | F12: =+D12+E12 -> 45925820 | H12: 10274273391
A13: EDIFICACIONES PTAR | B13: 5147868250 | C13: 1.7 | D13: =(B13*C13/1000)/365*$B$96 -> 4411652.6 | E13: =+D13*0.19 -> 838213.99 | F13: =+D13+E13 -> 5249866.6
A14: MEJORAS LOCATIVAS | B14: 10070308 | C14: 1.7 | D14: =(B14*C14/1000)/365*$B$96 -> 8630.116 | E14: =+D14*0.19 -> 1639.722 | F14: =+D14+E14 -> 10269.838
A15: MUEBLES Y ENSERES | B15: 331809990 | C15: 1.7 | D15: =(B15*C15/1000)/365*$B$96 -> 284356.62 | E15: =+D15*0.19 -> 54027.757 | F15: =+D15+E15 -> 338384.37 | H15: 5000000
A16: LICENCIAS Y SOFTWARE | B16: 61632296 | C16: 1.7 | D16: =(B16*C16/1000)/365*$B$96 -> 52818.033 | E16: =+D16*0.19 -> 10035.426 | F16: =+D16+E16 -> 62853.46 | H16: 220000000
A17: LIBROS Y TEXTOS | B17: 228434157 | C17: 1.7 | D17: =(B17*C17/1000)/365*$B$96 -> 195764.94 | E17: =+D17*0.19 -> 37195.339 | F17: =+D17+E17 -> 232960.28
A18: HERRAMIENTAS | B18: 4471133 | C18: 1.7 | D18: =(B18*C18/1000)/365*$B$96 -> 3831.6997 | E18: =+D18*0.19 -> 728.02295 | F18: =+D18+E18 -> 4559.7227
A19: CONTENIDOS | B19: 228649886 | C19: 1.7 | D19: =(B19*C19/1000)/365*$B$96 -> 195949.82 | E19: =+D19*0.19 -> 37230.466 | F19: =+D19+E19 -> 233180.29
A20: EQUIPO MEDICO | B20: 450000 | C20: 1.7 | D20: =(B20*C20/1000)/365*$B$96 -> 385.64384 | E20: =+D20*0.19 -> 73.272329 | F20: =+D20+E20 -> 458.91616
A21: BODEGA ALMACEN | B21: 11000000 | C21: 1.7 | D21: =(B21*C21/1000)/365*$B$96 -> 9426.8493 | E21: =+D21*0.19 -> 1791.1014 | F21: =+D21+E21 -> 11217.951
A22: EQUIPO DE LABORATORIO PTAR | B22: 29187108 | C22: 1.7 | D22: =(B22*C22/1000)/365*$B$96 -> 25012.952 | E22: =+D22*0.19 -> 4752.4608 | F22: =+D22+E22 -> 29765.413 | H22: 223000
A23: MAQUINARIA Y EQUIPO | B23: 134140068 | C23: 1.7 | D23: =(B23*C23/1000)/365*$B$96 -> 114956.2 | E23: =+D23*0.19 -> 21841.678 | F23: =+D23+E23 -> 136797.88
A24: MAQUINARIA Y EQUIPO PTAR | B24: 2027068435 | C24: 1.7 | D24: =(B24*C24/1000)/365*$B$96 -> 1737169.9 | E24: =+D24*0.19 -> 330062.28 | F24: =+D24+E24 -> 2067232.2
A25: DINEROS DENTRO Y FUERA DE CAJA FUERTE | B25: 1500000 | C25: =+C22 -> 1.7 | D25: =(B25*C25/1000)/365*$B$96 -> 1285.4795 | E25: =+D25*0.19 -> 244.2411 | F25: =+D25+E25 -> 1529.7205 | H25: =SUM(H12:H22) -> 10499496391
A26: VEHICULOS EN REPOSO | B26: =REPOSO!D6 -> 870000 | C26: 1.7 | D26: =(B26*C26/1000)/365*$B$96 -> 745.57808 | E26: =+D26*0.19 -> 141.65984 | F26: =+D26+E26 -> 887.23792
A27: INSTALACIONES ELECTRICAS Y REDES | B27: 50000000 | C27: 1.7 | D27: =(B27*C27/1000)/365*$B$96 -> 42849.315 | E27: =+D27*0.19 -> 8141.3699 | F27: =+D27+E27 -> 50990.685
A28: NORMA DE SISMORESISTENTA | B28: 1000000000 | C28: 1 | D28: =(B28*C28/1000)/365*$B$96 -> 504109.59 | E28: =+D28*0.19 -> 95780.822 | F28: =+D28+E28 -> 599890.41
A29: TERRENOS | B29: 800000000 | C29: 1 | D29: =(B29*C29/1000)/365*$B$96 -> 403287.67 | E29: =+D29*0.19 -> 76624.658 | F29: =+D29+E29 -> 479912.33
A30: SUB TOTAL | B30: =SUM(B12:B29) -> 55100690315 | D30: =SUM(D11:D29) -> 46585359 | E30: =SUM(E11:E29) -> 8851218.2 | F30: =SUM(F11:F29) -> 55436577
A31: EQUIPO ELECTRICO Y ELECTRONICO- CORRIENTE DEBIL
A32: EQUIPO COMPUTO- PROCESAMIENTO ELECTRONICO DE DATOS | B32: 347196196 | C32: 2.5 | D32: =(B32*C32/1000)/365*$B$96 -> 437562.33 | E32: =+D32*0.19 -> 83136.843 | F32: =+D32+E32 -> 520699.17
A33: EQUIPO ELECTRICO Y ELECTRONICO- CORRIENTE DEBIL | B33: 286720946 | C33: 2.5 | D33: =(B33*C33/1000)/365*$B$96 -> 361346.95 | E33: =+D33*0.19 -> 68655.92 | F33: =+D33+E33 -> 430002.87
A34: EQUIPO CIRCUITO CERRADO TV | B34: 24464200 | C34: 2.5 | D34: =(B34*C34/1000)/365*$B$96 -> 30831.595 | E34: =+D34*0.19 -> 5858.003 | F34: =+D34+E34 -> 36689.597
A35: EQUIPO MOVILES Y PORTATILES | B35: 261873134 | C35: 2.5 | D35: =(B35*C35/1000)/365*$B$96 -> 330031.89 | E35: =+D35*0.19 -> 62706.06 | F35: =+D35+E35 -> 392737.95
A36: SUB TOTAL | B36: =SUM(B31:B35) -> 920254476 | D36: =SUM(D31:D35) -> 1159772.8 | E36: =SUM(E31:E35) -> 220356.83 | F36: =SUM(F31:F35) -> 1380129.6
A37: SUSTRACCION
A38: =A15 -> MUEBLES Y ENSERES | B38: =B15 -> 331809990 | C38: 0.12 | D38: =+((B38*C38)/100)/365*$B$96 -> 200722.32 | E38: =+D38*0.19 -> 38137.24 | F38: =+D38+E38 -> 238859.56
A39: =A16 -> LICENCIAS Y SOFTWARE | B39: =B16 -> 61632296 | C39: 0.12 | D39: =+((B39*C39)/100)/365*$B$96 -> 37283.318 | E39: =+D39*0.19 -> 7083.8304 | F39: =+D39+E39 -> 44367.148
A40: =A17 -> LIBROS Y TEXTOS | B40: =B17 -> 228434157 | C40: 0.12 | D40: =+((B40*C40)/100)/365*$B$96 -> 138187.02 | E40: =+D40*0.19 -> 26255.534 | F40: =+D40+E40 -> 164442.55
A41: =A18 -> HERRAMIENTAS | B41: =B18 -> 4471133 | C41: 0.12 | D41: =+((B41*C41)/100)/365*$B$96 -> 2704.7292 | E41: =+D41*0.19 -> 513.89855 | F41: =+D41+E41 -> 3218.6278
A42: =A19 -> CONTENIDOS | B42: =B19 -> 228649886 | C42: 0.12 | D42: =+((B42*C42)/100)/365*$B$96 -> 138317.52 | E42: =+D42*0.19 -> 26280.329 | F42: =+D42+E42 -> 164597.85
...

Sheet EDIFICACIONES
A1: Uso | B1: ValorCatastral | C1: ValorComercial | D1: NombrePredio | E1: Direccion
A2: INSTITUCIONAL | B2: 74955000 | C2: 74955000 | D2: Jardín Rafael Pombo 1052 mt2 MI 176-02953 No.01-017-005 | E2: K 5 4 13 C 4
A3: INSTITUCIONAL | B3: 260062500 | C3: 260062500 | D3: Casa Cultura-Concha Acústica 3650 mt2 MI 176-11739 No.01-003-025 | E3: K 3 2 120
A4: INSTITUCIONAL | B4: 38332500 | C4: 38332500 | D4: Parque Infantíl Urb.Carpintero 538 mt2 MI 176-20348 No.01-011-020 | E4: C 6 4 21
A5: INSTITUCIONAL | B5: 43391250 | C5: 43391250 | D5: Jardín San José 609 mt2 MI 176-24271 No.02-07-001 | E5: K 3 10 35
A6: INSTITUCIONAL | B6: 30993750 | C6: 30993750 | D6: Parque Infantíl San Antonio 435 mt2 MI 176-40335 No.01-01-01 | E6: K 3 1 4 4
A7: RECREATIVO | B7: 949976250 | C7: 949976250 | D7: Villa Olímpica 13333 mt2 MI 176-58854 No.01-15-04 | E7: K 4 VILLA OLIMPICA
A8: INSTITUCIONAL | B8: 76736250 | C8: 76736250 | D8: Concejo Municipal 1077 mt2 MI 176-96019 No.01-013-009 | E8: C 4 3 29
A9: INSTITUCIONAL | B9: 76950000 | C9: 76950000 | D9: Casa Cogua 1080 mt2 MI 176-101590 No.01-07-001 | E9: C 4 3 08
A10: RECREATIVO | B10: 95008000 | C10: 95008000 | D10: Campo Deportivo Mortiño 16000 mt2 MI 176-20216 No.04-0327 | E10: VILLA CLAUDIA
A11: RECREATIVO | B11: 19595400 | C11: 19595400 | D11: Campo Deportivo La Chapa 3300 mt2 MI 176-23705 No.05-0675 | E11: CAMPO DE DEPORTE
A12: INSTITUCIONAL | B12: 120351384 | C12: 120351384 | D12: Colegio Margaritas 20268 mt2 MI 176-30279 No.09-0060 | E12: EL TAGUE
A13: INSTITUCIONAL | B13: 3348750000 | C13: 3348750000 | D13: Granja Agropecuaria 47000 mt2 MI 176-38826 No.02-0007 | E13: SAN PABLO
... A80: INSTITUCIONAL | B80: 16704835 | C80: 16704835 | D80: Adecuacion mtto Rafael Pombo Cogia cto 034/2015 | E80: Sector Ojo de Agua
A81: INSTITUCIONAL | B81: 233889416 | C81: 233889416 | D81: Construcción Salón Cultural Sector Ojo de Agua
A82: INSTITUCIONAL | B82: 19372600 | C82: 19372600 | D82: Clinica y hospitales | E82: Centro Cogua
A83: FORESTAL O AMBIENTAL | B83: 5633400 | C83: 5633400 | D83: Invernadero | E83: Reserva forestal
A84: RECREATIVO | B84: 345327902 | C84: 345327902 | D84: Unidad deportiva Rodamontal | E84: Vereda Rodamontal
A85: RECREATIVO | B85: 1425097700 | C85: 1425097700 | D85: Villa olímpica MI 176-58854 No.01-015-004 | E85: K 4 VILLA OLIMPICA
A86: RECREATIVO | B86: 174186905 | C86: 174186905 | D86: Campo deportivo Mortiño MI 176-20216 No.004-0327 | E86: VILLA CLAUDIA
A87: RECREATIVO | B87: 32450000 | C87: 32450000 | D87: Campo deportivo Chapa MI 176-23705 No.005-0675 | E87: CAMPO DE DEPORTE
A88: RECREATIVO | B88: 37642371 | C88: 37642371 | D88: Campo deportivo Granja MI 176-84383 No.002-0066 | E88: Centro Cogua
A89: RECREATIVO | B89: 3967387045 | C89: 3967387045 | D89: Complejo deportivo MI 176-91420 | E89: LOTE EL COMPLEJO DEPORTIVO
A90: RECREATIVO | B90: 50000000 | C90: 50000000 | D90: unidad deportiva el Altico | E90: Vereda el altico
A91: RECREATIVO | B91: 182267871 | C91: 182267871 | D91: Unidad deportiva Olivo | E91: Vereda el Olivo
A92: RECREATIVO | B92: 94838540 | C92: 94838540 | D92: Unidad deportiva Casablanca | E92: Vereda casa blanca
A93: RECREATIVO | B93: 252478995 | C93: 252478995 | D93: Unidad deportiva San Jose | E93: Barrio San jose
... A158: INSTITUCIONAL | B158: 49645000 | C158: 49645000 | D158: Donacion- Secretaria de Salud- Dpto Cundinamarca 2016 | E158: Centro Cogua
C159: =SUM(C2:C158)-C133 -> 45033538684
A162: Texto154 | C162: txtValor | D162: CATEGORIA | E162: Placa
A163: División en Vidrio templado con Soportes Vidrio Templado | C163: 311808 | D163: MEJORAS LOCATIVAS | E163: 14492
A164: División en Vidrio templado con Soportes Vidrio Templado | C164: 311808 | D164: MEJORAS LOCATIVAS | E164: 14838
A165: División en Vidrio templado con Soportes Vidrio Templado | C165: 311808 | D165: MEJORAS LOCATIVAS | E165: 14839
A166: División en Vidrio templado con Soportes Vidrio Templado | C166: 311808 | D166: MEJORAS LOCATIVAS | E166: 14840
A167: División en Vidrio Templado, con soportes | C167: 311808 | D167: MEJORAS LOCATIVAS | E167: 14862
A168: División en Vidrio Templado, con soportes | C168: 311808 | D168: MEJORAS LOCATIVAS | E168: 14856
A169: División en Vidrio Templado, con soportes | C169: 311808 | D169: MEJORAS LOCATIVAS | E169: 14857
A170: División en Vidrio Templado, con soportes | C170: 311808 | D170: MEJORAS LOCATIVAS | E170: 14858
A171: División en Vidrio Templado, con soportes | C171: 311808 | D171: MEJORAS LOCATIVAS | E171: 14859
A172: División en Vidrio Templado, con soportes | C172: 311808 | D172: MEJORAS LOCATIVAS | E172: 14860
...

Sheet AUTOS
A1: CLIENTE | B1: PLACA | C1: DESCRIPCION VEHICULO | D1: COD FASECOLDA | E1: TARIFA FASECOLDA AL 31 DE MAYO DE 2018
A2: COGUA ALCALDIA | B2: JMG41 | C2: MOTOCICLETA HONDA XR250 CC. 249 MOD. 2012 PLACA JMG41 | D2: 03417093 | E2: 8800000
A3: COGUA ALCALDIA | B3: ODR613 | C3: VOLQUETA PLATON CHEVROLET FVR CC. 7790 CAPAC. 9000 MOD. 2015 PLACA ODR613 | D3: 01626093 | E3: 149500000
A4: COGUA ALCALDIA | B4: OJG696 | C4: CHASIS CAMIONETA KIA K2700 CC. 2665 MOD. 2012 PLACA OJG696 | D4: 04612012 | E4: 35500000
A5: COGUA ALCALDIA | B5: ODR694 | C5: CAMION RECOLECTOR CHEVROLET FVZ CC. 7790 CAPAC. 10397 MOD. 2015 PLACA ODR694 | D5: 01604078 | E5: 185600000
A6: COGUA ALCALDIA | B6: GOV27 | C6: MOTOCICLETA HONDA XL185 MOD. 1990 PLACA GOV27 | D6: 03417069 | E6: 1500000
A7: COGUA ALCALDIA | B7: GOV26 | C7: MOTOCICLETA HONDA XL185 MOD. 1990 PLACA GOV26 | D7: 03417069 | E7: 1500000
A8: COGUA ALCALDIA | B8: GOM47 | C8: MOTOCICLETA HONDA XL185 MOD. 1990 PLACA GOM47 | D8: 03417069 | E8: 1500000
A9: COGUA ALCALDIA | B9: OJG685 | C9: CAMPERO TOYOTA PRADO LC150 TX AT 4000CC 5P MOD. 2011 PLACA OJG685 | D9: 09008151 | E9: 92200000
A10: COGUA ALCALDIA | B10: OJG531 | C10: CAMPERO MITSUBISHI MONTERO V43WA MT 3000CC 5P AA MOD. 2002 PLACA OJG531 | D10: 06208046 | E10: 27200000
A11: COGUA ALCALDIA | B11: OIL283 | C11: VOLQUETA INTERNACIONAL 2674 MT 8700CC TD 6-MOD. 1995 PLACA OIL283 | D11: 03626004 | E11: 49800000
A12: COGUA ALCALDIA | B12: OJG448 | C12: BUS CHEVROLET B70 229 MT 7200CC TD 4X - PASAJ. 37 MOD.2000 PLACA OJG448 | D12: 01603080 | E12: 43100000
A13: COGUA ALCALDIA | B13: JGF34 | C13: MOTOCICLETA YAMAHA DT 175 (CALIBMATIC MT 175CC 2T)-PLACA JGF34- MOD,97 | D13: 09817017 | E13: 1700000
... A27: COGUA ALCALDIA | B27: OKZ328 | C27: CAMION FURGON CHEVROLET NPR CC. 5193 CAPAC. 3950 MOD. 2016 PLACA OKZ328 | D27: 01612155 | E27: 111300000
E28: =SUM(E2:E27) -> 1450000000

Sheet REPOSO
A3: PLACA | B3: DESCRIPCION VEHICULO | C3: COD FASECOLDA | D3: TARIFA FASECOLDA Al 04 DE ABRIL DE 2018
A4: JEV54 | B4: MOTOCICLETA SUSUKI TS 125 MT 125CC 2T -PLACA JEV54 -MOD.95 | C4: 8817040 | D4: 470000
A5: JDN58 | B5: MOTOCICLETA SUSUKI TS 125MT 125CC 2T -PLACA JDN58 - MOD.94 | C5: 8817040 | D5: 400000
A6: TOTAL | D6: =SUM(D4:D5) -> 870000

Sheet SOAT
D2: SOAT VIGENCIA 2018-2019
A3: No | B3: PLACA | C3: MARCA | D3: CLIENTE | E3: PLACA | F3: DESCRIPCION VEHICULO | G3: FECHA DE VENCIMIENTO SOAT A LAS 24 | H3: VALOR SOAT 2018-2019
